{"text_format":"1","workbook":"xlsx","n_sheets":21,"sheets":["Capa","CTRL","Base TKU","RTK Base","Base TU","UT Base","Rumo BD","Rumo DB","Check","Volume TKU Consolidado","Volume TKU Norte","Volume TKU Sul","Volume TU Consolidado","Volume TU Norte","Volume TU Sul","Volume RTK Consolidated","Volume RTK North","Volume RTK South","Volume TU Consolidated","Volume TU North","Volume TU South"],"not_rendered":{"charts":0,"images":1,"macros":1,"external_links":23,"defined_names":10395,"comments":0,"pivot_tables":0},"unopened":[],"bounds":{"document_bytes":16777216,"sheet_cells":100000,"rows_first":2000,"rows_last":500,"rows_between":2000,"halvings":0,"cell_chars":16384,"cell_head_chars":4096},"cells_cut":0,"cells_raw":0,"read":"whole","date_system":"1900"}

{"sheet":"Capa","index":0,"n_rows":26,"n_cols":10,"rows_kept":26,"cut":false,"hidden":true,"merged":[]}
[]
[]
[]
[]
[]
[]
[]
[]
[]
[]
[]
[]
[]
[]
[]
[]
[]
[]
[]
[]
[]
[]
[]
[]
[]
["Check",null,"TKU",{"$f":"IFERROR(IF(OR((SUM(Check!G15,Check!L15)/2)/10^6>1,(SUM(Check!G15,Check!L15)/2)/10^6<-1),(SUM(Check!G15,Check!L15)/2)/10^6,\"OK\"),\"Erro - TM1\")","v":"OK"},"TU",{"$f":"IFERROR(IF(OR((SUM(Check!G18,Check!L18)/2)/10^3>1,(SUM(Check!G18,Check!L18)/2)/10^3<-1),(SUM(Check!G18,Check!L18)/2)/10^3,\"OK\"),\"Erro - TM1\")","v":"OK"},"Norte-Sul",{"$f":"IFERROR(IF(OR((SUM(Check!G22:G23,Check!L22:L23)/2)/10^3>1,(SUM(Check!G22:G23,Check!L22:L23)/2)/10^3<-1),(SUM(Check!G22:G23,Check!L22:L23)/2)/10^3,\"OK\"),\"Erro - TM1\")","v":"OK"},"Rumo",{"$f":"IFERROR(IF(OR((SUM(Check!G25:G26,Check!L25:L26)/2)/10^3>1,(SUM(Check!G25:G26,Check!L25:L26)/2)/10^3<-1),(SUM(Check!G25:G26,Check!L25:L26)/2)/10^3,\"OK\"),\"Erro - TM1\")","v":"OK"}]

{"sheet":"CTRL","index":1,"n_rows":16,"n_cols":10,"rows_kept":16,"cut":false,"hidden":true,"merged":[]}
["Janeiro",2016,"Mês","Nome do arquivo","TKU",null,"TU",null,"RUMO"]
["Fevereiro",2017,5,{"$f":"\"Volumetria RI - \"&PROPER(TEXT(DATE(INDEX(B:B,$C$4),$C$2,10),\"mmm.aa\"))","v":"Volumetria RI - Mai.22"},"CUBE:",{"$f":"_xll.VIEW(\"Cosan_Logistica:CLOG.ACO.116.VOLUMETRIA.FLUXO\",$F$3,\"!\",\"!\",$F$4,$F$5,$F$6,$F$7,$F$8,$F$9,\"!\",$F$10,\"!\",$F$11)","v":{"$error":"#NAME?"}},"CUBE:",{"$f":"_xll.VIEW(\"Cosan_Logistica:CLOG.ACO.116.VOLUMETRIA.FLUXO\",$F$3,\"!\",\"!\",$F$4,$F$5,$F$6,$F$7,$F$8,$F$9,\"!\",$F$10,\"!\",$F$11)","v":{"$error":"#NAME?"}},"CUBE:",{"$f":"_xll.VIEW(\"Cosan_Logistica:CLOG.ACO.130.MARGEM.RUMO\",$J$3,\"!\",\"!\",$J$5,\"!\",$J$6,$J$4)","v":{"$error":"#NAME?"}}]
["Março",2018,"Ano",null,"CLOG.D.ACO.VERSAO",{"$f":"_xll.SUBNM(\"Cosan_Logistica:CLOG.D.ACO.VERSAO\",\"Padrão\",\"R\",\"Descrição\")","v":{"$error":"#NAME?"}},"CLOG.D.ACO.VERSAO",{"$f":"_xll.SUBNM(\"Cosan_Logistica:CLOG.D.ACO.VERSAO\",\"Padrão\",\"R\",\"Descrição\")","v":{"$error":"#NAME?"}},"ALL.D.VERSAO",{"$f":"_xll.SUBNM(\"Cosan_Logistica:ALL.D.VERSAO\",\"\",\"Realizado\")","v":{"$error":"#NAME?"}}]
["Abril",2019,7,null,"CLOG.D.ACO.MODAL",{"$f":"_xll.SUBNM(\"Cosan_Logistica:CLOG.D.ACO.MODAL\",\"\",\"Total Modal\")","v":{"$error":"#NAME?"}},"CLOG.D.ACO.MODAL",{"$f":"_xll.SUBNM(\"Cosan_Logistica:CLOG.D.ACO.MODAL\",\"\",\"Total Modal\")","v":{"$error":"#NAME?"}},"CLOG.M.ACO.MARGEM.RUMO",{"$f":"_xll.SUBNM(\"Cosan_Logistica:CLOG.M.ACO.MARGEM.RUMO\",\"\",\"Valor Total\")","v":{"$error":"#NAME?"}}]
["Maio",2020,"COLUNA (Ferro)",null,"CLOG.D.ALL.CORREDOR",{"$f":"_xll.SUBNM(\"Cosan_Logistica:CLOG.D.ALL.CORREDOR\",\"Padrão\",\"Total Corredor\")","v":{"$error":"#NAME?"}},"CLOG.D.ALL.CORREDOR",{"$f":"_xll.SUBNM(\"Cosan_Logistica:CLOG.D.ALL.CORREDOR\",\"Padrão\",\"Total Corredor\")","v":{"$error":"#NAME?"}},"ALL.D.MENSAL.YTD",{"$f":"_xll.SUBNM(\"Cosan_Logistica:ALL.D.MENSAL.YTD\",\"\",\"Mensal\")","v":{"$error":"#NAME?"}}]
["Junho",2021,{"$f":"((C4-1)*13)+4+C2","v":87},null,"CLOG.D.ACO.GERENCIA",{"$f":"_xll.SUBNM(\"Cosan_Logistica:CLOG.D.ACO.GERENCIA\",\"Padrão\",\"Total Gerencia\")","v":{"$error":"#NAME?"}},"CLOG.D.ACO.GERENCIA",{"$f":"_xll.SUBNM(\"Cosan_Logistica:CLOG.D.ACO.GERENCIA\",\"Padrão\",\"Total Gerencia\")","v":{"$error":"#NAME?"}},"CLOG.D.ACO.GRUPO.MARGEM.RUMO",{"$f":"_xll.SUBNM(\"Cosan_Logistica:CLOG.D.ACO.GRUPO.MARGEM.RUMO\",\"\",\"Volume (Ton)\")","v":{"$error":"#NAME?"}}]
["Julho",2022,"COLUNA (Rumo)",null,"CLOG.D.ALL.EMPRESA",{"$f":"_xll.SUBNM(\"Cosan_Logistica:CLOG.D.ALL.EMPRESA\",\"Padrão\",\"Total Empresa\",\"Cod. + Desc.\")","v":{"$error":"#NAME?"}},"CLOG.D.ALL.EMPRESA",{"$f":"_xll.SUBNM(\"Cosan_Logistica:CLOG.D.ALL.EMPRESA\",\"Padrão\",\"Total Empresa\",\"Cod. + Desc.\")","v":{"$error":"#NAME?"}}]
["Agosto",2023,{"$f":"((C4-1)*13)+2+C2","v":85},null,"CLOG.D.ACO.ORIGEM",{"$f":"_xll.SUBNM(\"Cosan_Logistica:CLOG.D.ACO.ORIGEM\",\"Padrão\",\"Total Origem\",\"Descrição\")","v":{"$error":"#NAME?"}},"CLOG.D.ACO.ORIGEM",{"$f":"_xll.SUBNM(\"Cosan_Logistica:CLOG.D.ACO.ORIGEM\",\"Padrão\",\"Total Origem\",\"Descrição\")","v":{"$error":"#NAME?"}}]
["Setembro",2024,"Linha inicial (Ferro)",null,"CLOG.D.ACO.DESTINO",{"$f":"_xll.SUBNM(\"Cosan_Logistica:CLOG.D.ACO.DESTINO\",\"Padrão\",\"Total Destino\",\"Descrição\")","v":{"$error":"#NAME?"}},"CLOG.D.ACO.DESTINO",{"$f":"_xll.SUBNM(\"Cosan_Logistica:CLOG.D.ACO.DESTINO\",\"Padrão\",\"Total Destino\",\"Descrição\")","v":{"$error":"#NAME?"}}]
["Outubro",2025,15,null,"CLOG.D.ALL.CLIENTE.HIERARQUIA",{"$f":"_xll.SUBNM(\"Cosan_Logistica:CLOG.D.ALL.CLIENTE.HIERARQUIA\",\"Padrão\",\"Total Clientes\")","v":{"$error":"#NAME?"}},"CLOG.D.ALL.CLIENTE.HIERARQUIA",{"$f":"_xll.SUBNM(\"Cosan_Logistica:CLOG.D.ALL.CLIENTE.HIERARQUIA\",\"Padrão\",\"Total Clientes\")","v":{"$error":"#NAME?"}}]
["Novembro",2026,"Linha Final (Ferro)",null,"CLOG.M.ACO.VOLUMETRIA.FLUXO",{"$f":"_xll.SUBNM(\"Cosan_Logistica:CLOG.M.ACO.VOLUMETRIA.FLUXO\",\"\",\"ITKU\",\"Cod.Descrição\")","v":{"$error":"#NAME?"}},"CLOG.M.ACO.VOLUMETRIA.FLUXO",{"$f":"_xll.SUBNM(\"Cosan_Logistica:CLOG.M.ACO.VOLUMETRIA.FLUXO\",\"\",\"ITONUT\",\"Cod.Descrição\")","v":{"$error":"#NAME?"}}]
["Dezembro",2027,100]
[null,2028,"Linha inicial (Rumo)"]
[null,2029,10]
[null,2030,"Linha inicial (Rumo)"]
[null,null,11]

{"sheet":"Base TKU","index":2,"n_rows":100,"n_cols":94,"rows_kept":100,"cut":false,"hidden":true,"merged":[]}
[null,"CUBE:","Cosan_Logistica:CLOG.ACO.116.VOLUMETRIA.FLUXO"]
[null,"CLOG.D.ACO.VERSAO","R"]
[null,"ALL.D.TEMPO.ANO","2019"]
[null,"CLOG.M.ACO.VOLUMETRIA.FLUXO","Toneladas Km Útil"]
[null,"CLOG.D.ACO.MODAL","Total Modal"]
[null,"CLOG.D.ALL.CORREDOR","Total Corredor"]
[null,"CLOG.D.ACO.GERENCIA","Total Gerencia"]
[null,"CLOG.D.ALL.EMPRESA","Total Empresa"]
[null,"CLOG.D.ACO.ORIGEM","Total Origem"]
[null,"CLOG.D.ACO.DESTINO","Total Destino"]
[null,"CLOG.D.ALL.CLIENTE.HIERARQUIA","Total Clientes"]
[]
[null,null,null,"2016","2016","2016","2016","2016","2016","2016","2016","2016","2016","2016","2016","2016","2017","2017","2017","2017","2017","2017","2017","2017","2017","2017","2017","2017","2017","2018","2018","2018","2018","2018","2018","2018","2018","2018","2018","2018","2018","2018","2019","2019","2019","2019","2019","2019","2019","2019","2019","2019","2019","2019","2019",null,2020,2020,2020,2020,2020,2020,2020,2020,2020,2020,2020,2020,null,2021,2021,2021,2021,2021,2021,2021,2021,2021,2021,2021,2021,null,2022,2022,2022,2022,2022,2022,2022,2022,2022,2022,2022,2022]
["Classificação RI","Operação","Produto","Total Ano","Janeiro","Fevereiro","Março","Abril","Maio","Junho","Julho","Agosto","Setembro","Outubro","Novembro","Dezembro","Total Ano","Janeiro","Fevereiro","Março","Abril","Maio","Junho","Julho","Agosto","Setembro","Outubro","Novembro","Dezembro","Total Ano","Janeiro","Fevereiro","Março","Abril","Maio","Junho","Julho","Agosto","Setembro","Outubro","Novembro","Dezembro","Total Ano","Janeiro","Fevereiro","Março","Abril","Maio","Junho","Julho","Agosto","Setembro","Outubro","Novembro","Dezembro","Total 2020","Janeiro","Fevereiro","Março","Abril","Maio","Junho","Julho","Agosto","Setembro","Outubro","Novembro","Dezembro","Total 2021","Janeiro","Fevereiro","Março","Abril","Maio","Junho","Julho","Agosto","Setembro","Outubro","Novembro","Dezembro","Total 2022","Janeiro","Fevereiro","Março","Abril","Maio","Junho","Julho","Agosto","Setembro","Outubro","Novembro","Dezembro"]
[null,"Total Operação","Total Produto",{"$f":"SUM(D16:D19,D28,D39)","v":40269274785},2935859903,3206215552,3934263149,4019427284,3717579416,3098303462,3991928450,4101131995,3805228688,2657968599,2333336596,2468031691,49687534138,2400694247,3457325086,4163179347,3979012076,4230460382,4104771401,4584238928,4833114222,4584363564,4796737135,4404518043,4149119707,56365855566.989998,3024619551,4076401446,4726180173,4577654180,4138350614,{"$f":"SUM(AJ16:AJ19,AJ28,AJ39)","v":4748781097},5299339127,5546486360,5284907798,4891203035,5224852231,4827079954.9899998,60096159678,4113877853,4077830912,5114060523,4578383160,4283034713,5554706542,6176665240,5846945066,5353300654,5592950155,5573179594,3831225266,62458411884,3567796821,4909247069,3820431784,5230196623,5744285903,5442092770,6156971912,5782032590,5607934850,5735395980,5388710038,5073315548,{"$f":"SUM(BR15:CC15)","v":64027605861},2703592947,5048896966,6120824128,5970771174,6233856237,5700197168,6337071154,5355656782,4673938132,5046461204,5392385150,5443954819,{"$f":"SUM(CE15:CP15)","v":30355201456},5210909753,6170890794,6725736123,6012630351,6235034435]
["Açúcar","Total Operação","GRUPO - AÇÚCAR",5272723853,234456127,157457807,178380923,207666213,435861989,586082991,506293778,574426665,585802120,682569854,588722783,535002603,3953951221,282027679,118958041,104334820,214854646,531045332,422409931,385769440,407300956,420547076,385730898,379151472,301820930,3529189508,294655220,193819178,140573881,165996269,412855333,435275749,322824073,326510975,356321626,400664258,229239340,250453606,{"$f":"SUM(AR16:BC16)","v":2847097185},154011202,86190192,142319921,225747978,317024881,262381096,295557980,238205073,262978241,239161723,267346364,356172534,{"$f":"SUM(BE16:BP16)","v":5010561601},237738464,175342797,147830554,249287130,436874687,365364448,337393157,494165516,664780826,735318079,660154195,506311748,4667644429,369388573,87318869,143548775,233179737,544244105,621577452,340389104,416021704,643319239,538254724,468241965,262160182,887134452,201508290,65138876,114729904,112160448,393596934]
["Contêiner","Total Operação","GRUPO - BRADO",1638372032,130967792,148674379,165831386,156251329,155735935,145132120,137973975,123861135,117616418,122481666,123082850,110763047,1764622143,130928520,102663992,114834939,127973428,157626899,166338509,168299872,190253514,165768720,169785212,139966732,130181806,2305426125,73832041,203242721,201001869,211056270,167602482,179181716,228942881,234107430,214036905,203000901,191951165,197469744,{"$f":"SUM(AR17:BC17)","v":2766297634},184379005,170016947,236750341,231422933,228749626,208663527,240803420,259778024,257763296,243628384,261913998,242428133,{"$f":"SUM(BE17:BP17)","v":2956498561},228107072,226052541,232818475,199005432,189002920,252885049,265497537,257950276,272916521,272503055,291262425,268497258,3309454011,244131778,241929942,241431957,284646377,276343617,289859025,296143242,320650825,282428528,271114870,269726344,291047506,1501004556,266845995,295396426,317146865,305382677,316232593]
["Fertilizantes","Total Operação","GRUPO - FERTILIZANTES",814939100,28277886,17986273,20430346,22496891,61922969,79419138,91515181,95034592,123820635,98535259,98943488,76556442,683653693,67081150,37347427,30187374,69954742,69651088,49094098,51279952,55388520,60182641,70693725,63823446,58969530,1861603051,67919034,48889296,34909110,48651351,111770289,137895092,249050670,250780489,151730932,172935569,249323062,337748157,3537113771,264335857,166741201,194926232,248118763,368948113,352127685,400542858,327778933,181152004,281218724,331257013,419966388,4464529843,367050116,296982213,135626534,339998024,442256234,408841668,441870999,308394735,335131549,472406176,464465745,451505850,5008296854,485666343,411296596,248293627,272282472,295951034,313744948,600443859,609640683,461649368,493868744,411021704,404437476,1840354755,344794062,436281847,389611369,185731561,483935916]
[null,"Total Operação","GRUPO - GRÃOS",{"$f":"SUM(D20:D27)","v":26522594640},{"$f":"SUM(E20:E27)","v":2136398149},2454697287,3107888033,3185144987,2582137849,1763734218,2693741792,2729740010,2397744718,1180188781,1021505151,1269673665,36801524106,1416734136,2753269754,3409909657,3103438712,2941591951,2945152403,3396920876,3593436283,3384126955,3525864709,3255078757,3075999913,41059266403.989998,2008684993,3053637437,3755394426,3633108996,2904375685,3310282915,3817003917,4024439668,3868614116,3415565891,3888256423,3379901936.9899998,42948445350,2849315590,3057062505,3905476332,3265170777,2712228217,4058312360,4527509422,4290426631,3939351262,4090685906,4058735503,2194170845,42354801120,2089616257,3611014226,2807206531,4000523005,4057838302,3815358783,4429094221,4028421230,3590367246,3482112106,3229488056,3213761157,42124444378,908295914,3616791575,4747560898,4456254910,4345303613,3728509759,4329002802,3196696132,2522380026,2958765555,3534620693,3780262501,22339801239,3676942251,4665042766,5106279286,4668583976,4222952960]
[null,"Total Operação","ARROZ (GRANEL)",null,null,null,null,null,null,null,null,null,null,null,null,null,null,null,null,null,null,null,null,null,null,null,null,null,null,null,null,null,null,null,null,null,null,null,null,null,null,null,0,0,0,0,0,0,0,0,0,0,0,0,0,0,0,0,0,0,0,0,0,0,0,0,0,0,0," -   "," -   ",0,0,0,0,0,0,0,0,0,0,0,0,0,0,0,0]
["Farelo de Soja","Total Operação","FARELO",4848739945,216263516,395037005,487856197,535266493,526415615,472965977,354226749,316308402,322786465,377761324,438987529,404864673,5823144957,402662255,407247514,517989061,588470390,519955254,437873199,520803951,428816672,434419046,529768690,506082882,529056043,6371569460.9899998,446265116,515199178,578462202,632174250,499679316,584672441,509672392,486213891,524420464,475608570,515806161,603395479.99000001,6861034753,461211560,446229709,622222881,631900652,579339018,629968674,597870303,494529032,542620092,593321554,664736418,597084860,7529970646,402380851,540976483,561960584,663534438,631765018,649359743,707366512,710348971,661590839,712141676,614376469,674169062,8511802822,444990608,602947558,704474780,786668571,755986114,826858764,840958480,744792682,687938843,587364704,766371924,762449794,4163272614,660249575,723767017,921808474,968329402,889118146]
["Farelo de Milho","Total Operação","FARELO DE MILHO",null,null,null,null,null,null,null,null,null,null,null,null,null,null,null,null,null,null,null,null,null,null,null,null,null,null,null,null,null,null,null,null,null,null,null,null,null,null,null,20738520,0,0,0,0,0,0,0,0,0,0,0,20738520,18105539,18105539,0,0,0,0,0,0,0,0,0,0,0,0," -   "," -   ",0,0,0,0,0,0,0,0,0,0,0,0,0,0,0,0]
["Malte","Total Operação","MALTE",1118223,0,0,0,0,0,0,0,0,0,1118223,0,0,0,0,0,0,0,0,0,0,0,0,0,0,0,0,0,0,0,0,0,0,0,0,0,0,0,0,0,0,0,0,0,0,0,0,0,0,0,0,0,0,0,0,0,0,0,0,0,0,0,0,0,0,0," -   "," -   ",0,0,0,0,0,0,0,0,0,0,0,0,0,0,0,0]
["Milho","Total Operação","MILHO",10215397331,1708525340,147133150,1444443,0,0,343225995,1978457048,2230650957,1944839001,705937169,482401835,672782393,16414826967,113381199,6805808,0,0,8610801,1234812654,2256657775,2716620059,2771581220,2787873497,2379400827,2139083127,16433036304,609522875,73753831,0,0,33737178,327834185,2341412361,2803528227,2731437557,2248798138,2798098022,2464913930,19545827914,415344145,74140707,15008298,34903503,111762523,2575904658,3444661429,3342463779,2963385093,2757652164,2568912783,1241688832,17173456822,60468750,73095562,14966994,0,30471,1431483015,2707269495,2787612289,2601258773,2608081080,2469402636,2419787757,12538628055,124970308,73279588,6976461,0,0,507616840,2759041096,1944864604,1287869615,1691445213,1802043570,2340520760,1506369998,963649780,68267675,46083473,320263102,108105968]
["Soja","Total Operação","SOJA",11364153908,169291606,1910194661,2614075535,2648204562,2054071595,945775688,359209924,180625179,129292939,94551349,84632489,174228381,14400891554,850038717,2270692543,2876176624,2512529925,2410849338,1270572663,616729111,446697778,177885711,207324380,364243137,397151627,18123088513,933152470,2458559789,3176387751,3000272386,2369348905,2396205432,964269442,733456745,610131958,688905131,537752205,254646299,16440317363,1940144274,2532959259,3267423347,2597566063,2021126676,852439028,484977690,453433820,432861137,739333550,819156360,298896159,17453074969,1585000395,2995142025,2230278953,3336988567,3426042813,1734516025,1014458214,530459970,327517634,149427977,69608678,53633718,20892392104,334677827,2940564429,4036109657,3669586339,3589317499,2394034155,729003226,507038846,546571568,678860034,892350744,574277780,16396885796,1955022219,3750232320,4092793376,3374035729,3224802152]
["Trigo","Total Operação","TRIGO",76524334,41988754,1379574,2484418,0,0,0,0,0,0,0,14076225,16595363,144137874,49240961,66897076,13417951,0,0,0,0,0,0,0,4788405,9793481,116573659,18765000,5009209,0,0,0,0,0,0,0,0,36464420,56335030,75718645,30577094,3732830,0,0,0,0,0,0,0,0,5788090,35620631,180193144,23660722,1800156,0,0,0,0,0,0,0,12461373,76100273,66170620,181621397,3657171," -   ",0,0,0,0,0,0,0,1095604,73854455,103014167,273272831,98020677,122775754,45593963,5955743,926694]
["Soja","Total Operação","ÓLEO VEGETAL",16660899,328933,952897,2027440,1673932,1650639,1766558,1848071,2155472,826313,820716,1407073,1202855,18522754,1411004,1626813,2326021,2438397,2176558,1893887,2730039,1301774,240978,898142,563506,915635,14998467,979532,1115430,544473,662360,1610286,1570857,1649722,1240805,2624137,2254052,135615,611198,4808155,2038517,0,821806,800559,0,0,0,0,484940,378638,141852,141843,0,0,0,0,0,0,0,0,0,0,0,0,0,0," -   "," -   ",0,0,0,0,0,0,0,0,0,0,0,0,0,0,0,0]
[null,"Total Operação","GRUPO - INDUSTRIAL",1690647492,101231757,113726166,116824008,121254898,129418789,140842872,172400540,175132225,161253546,163644056,154733873,140184762,2119488606,143950006,111904479,149819310,152267058,179305408,162524672,176861648,181297448,180508581,208742141,223193208,249114647,3070579325,236260744,218505087,228159889,201821058,218718236,266527866,256645481,296450973,273725845,303173209,290202901,280388036,3308856023,276690453,229714860,270376133,260237665,272755128,276657976,273545578,287685130,289890716,310638776,283700041,276963567,3304746783,287850932,241363440,220726487,238851139,275399437,264071820,296966479,308409531,316691294,316627039,314457929,223331256,3619376464,282662711,276440928,320931373,313908178,325065146,297863622,305899693,334423813,293218575,305753057,290495995,272713373,1435257136,265858431,250885791,326070488,287086142,305356284]
["Madeira, Papel e Celulose","Total Operação","ARROZ (ENSACADO)",2949823,2867029,82794,0,0,0,0,0,0,0,0,0,0,0,0,0,0,0,0,0,0,0,0,0,0,0,0,0,0,0,0,0,0,0,0,0,0,0,0,0,0,0,0,0,0,0,0,0,0,0,0,0,0,0,0,0,0,0,0,0,0,0,0,0,0,0," -   "," -   ",0,0,0,0,0,0,0,0,0,0,0,0,0,0,0,0]
["Madeira, Papel e Celulose","Total Operação","CALCÁREO (IND)",6322851,518815,415052,793481,389493,377690,188845,678662,389493,1003240,1078263,489817,0,3316593,495719,483916,631451,507521,489817,177042,177042,354085,0,0,0,0,0,0,0,0,0,0,0,0,0,0,0,0,0,0,0,0,0,0,0,0,0,0,0,0,0,0,0,0,0,0,0,0,0,0,0,0,0,0,0,0," -   "," -   ",0,0,0,0,0,0,0,0,0,0,0,0,0,0,0,0]
["Madeira, Papel e Celulose","Total Operação","CELULOSE",844231566,49640262,53374024,52726968,53897960,67886981,68516859,90106159,88751216,81277483,85430901,81173089,71449664,1167203736,66184266,42196771,73607079,77942519,91665532,88958897,90708861,94651136,96334750,121526374,150155622,173271929,2178928383,162081105,153469856,151655644,130458531,140731363,190287606,179959534,223767418,199135618,221557066,209922064,215902578,2440985098,205204474,162200545,204809718,198715056,199981946,194433325,192615176,200060725,211585503,227075549,218874407,225428674,2488397639,221465242,175575279,162755064,165610028,201265267,198208550,229472146,236640351,246489080,244847483,247883782,158185367,2674158494,215921055,212101781,236648794,230591333,237406111,216306697,219195010,255046608,216508740,225371813,209930160,199130392,1067425572,193009855,183304432,245907736,218184243,227019306]
["Construção Civil","Total Operação","CIMENTO",406012747,25021266,31096223,29058565,30832058,29756097,34507802,41185458,38898023,38650417,37674924,36084035,33247879,400515925,37076222,31980842,34680656,32850063,33627611,31870072,37261484,37759830,34472653,36542385,22153808,30240299,369321166,23693006,27252428,34011328,27853962,29987612,30005187,33774298,35088519,33992573,31709538,34384484,27568231,399159313,30108220,30993666,29339409,32321400,33222594,35394924,34137492,37939603,36582649,37524016,34164652,27430688,409068317,32280331,32413036,22015789,34776696,38813822,35975094,33772093,36324975,34265900,42201389,36708183,29521009,452123929,35882849,30382099,39176060,39256930,39572747,35937522,41340096,40205117,40070608,36464096,37824009,36011796,186892920,35300087,32847683,39095869,36074466,43574815]
["Construção Civil","Total Operação","CLINQUER",268353756,11125714,14730836,22055745,21417587,19434678,25563960,23592094,30229781,27228373,23891311,24944558,24139119,310508595,28589788,23594240,24919905,23344695,31976498,18795045,26501542,24642464,26107876,27610298,29377714,25048530,255138924,29037669,20837751,22022316,22468443,21611727,22031745,15691852,11400157,20164956,30130241,25284496,14457571,245003344,24320952,20734556,24555766,10913353,19713320,21634621,22731986,24647846,19582849,21916588,14562899,19688608,264669342,20505114,23210996,18758407,17424984,24623111,18618729,18058073,22284230,22391212,28358231,25170330,25265925,313803126,22026355,24392857,27157676,26964901,25512579,26523240,25091759,28576293,29217855,28707008,27156655,22475948,119705457,23195136,28341185,23612286,21756721,22800129]
["Madeira, Papel e Celulose","Total Operação","MADEIRA",null,null,null,null,null,null,null,null,null,null,null,null,null,null,null,null,null,null,null,null,null,null,null,null,null,null,null,null,null,null,null,null,null,null,null,null,null,null,null,0,0,0,0,0,0,0,0,0,0,0,0,0,0,0,0,0,0,0,0,0,0,0,0,0,0,0," -   "," -   ",0,0,0,0,0,0,0,0,0,0,0,0,0,0,0,0]
["Siderúrgicos e Mineração","Total Operação","MINÉRIO",112605614,8654285,5996943,7605219,8033596,10460080,10554157,11605112,12365736,10089216,9332464,9337280,8571526,138588620,10252237,10657173,10507877,10259738,12089552,13082477,12270250,12224950,12088373,11726467,11907335,11522191,151769895,11811008,11045769,11749875,12837948,14275751,12224975,12901107,13060754,13039535,13480931,12660792,12681450,117820494,8041064,5543822,7739533,10358154,10314870,12220594,14084214,13465750,12336298,11216516,9628252,2871427,87288883,4717469,8886288,6956271,12504445,8637286,7780446,10197150,11211115,11035614,1219936,0,4142863,102196893,4186979,8048101,9409452,10241687,10999764,9911305,10984066,10283557,7421372,8326710,6191281,6192619,42035846,6707243,6392491,8366090,8607988,11962034]
["Madeira, Papel e Celulose","Total Operação","OUTROS (IND)",2840497,76988,1044257,0,1719252,0,0,0,0,0,0,0,0,0,0,0,0,0,0,0,0,0,0,0,0,0,24807,0,0,0,0,0,0,0,24807,0,0,0,0,0,0,0,0,0,0,0,0,0,0,0,0,0,7586,0,0,0,0,0,0,0,0,0,0,7586,0,0," -   "," -   ",0,0,0,0,0,0,0,0,0,0,0,0,0,0,0,0]
["Madeira, Papel e Celulose","Total Operação","PAPEL",null,null,null,null,null,null,null,null,null,null,null,null,null,null,null,null,null,null,null,null,null,null,null,null,null,null,null,null,null,null,null,null,null,null,null,null,null,null,null,0,0,0,0,0,0,0,0,0,0,0,0,0,0,0,0,0,0,0,0,0,0,0,0,0,0,0," -   "," -   ",0,0,0,0,0,0,0,0,0,0,0,0,0,0,0,0]
["Siderúrgicos e Mineração","Total Operação","SIDERÚRGICOS (IND)",47330638,3327398,6986037,4584030,4964952,1503263,1511249,5233055,4497976,3004817,6236193,2705094,2776574,99355137,1351774,2991537,5472342,7362522,9456398,9641139,9942469,11664983,11504929,11336617,9598729,9031698,115396150,9637956,5899283,8720726,8202174,12111783,11978353,14318690,13109318,7393163,6295433,7951065,9778206,105887774,9015743,10242271,3931707,7929702,9522398,12974512,9976710,11571206,9803417,12906107,6469831,1544170,55315016,8882776,1277841,10240956,8534986,2059951,3489001,5467017,1948860,2509488,0,4688048,6216092,77094022,4645473,1516090,8539391,6853327,11573945,9184858,9288762,312238,0,6883430,9393890,8902618,19197341,7646110,0,9088507,2462724,0]
["Combustível","Total Operação","GRUPO - LÍQUIDOS",4329997668,304528192,313673640,344908453,326612966,352501885,383092123,390003184,402937368,418991251,410548983,346348451,335851172,4364294369,359972756,333181393,354093247,310523490,351239704,359251788,405107140,405437501,373229591,435920450,343304428,333032881,4539791154,343267519,358307727,366140998,317020236,323028589,419617759,424872105,414196825,420478374,395863207,375879340,381118475,4688349715,385145746,368105207,364211564,347685044,383328748,396563898,438705982,443071275,422165135,427616642,370226675,341523799,4367273976,357433980,358491852,276223203,202531893,342914323,335571002,386149519,384691302,428047414,456429525,428881688,409908275,5298389698,413447622,415119052,419057494,410499497,446948719,448642361,465192453,478223624,470942395,478704253,418278448,433333780,2351649312,454960723,458145087,471898210,453685545,512959747]
[null,"Total Operação","GRUPO - OUTROS",null,null,null,null,null,null,null,null,null,null,null,null,null,null,null,null,null,null,null,null,null,null,null,null,null,null,null,null,null,null,null,null,null,null,null,null,null,null,null,3,0,0,0,0,0,0,0,0,0,1,0,2,46,2,4,4,4,4,4,4,4,4,4,4,4,27,6,4,4,3,3,1,1,1,1,1,1,1,6,1,1,1,2,1]
[null,"NORTE","Total Produto",null,null,null,null,null,null,null,null,null,null,null,null,null,null,null,null,null,null,null,null,null,null,null,null,null,null,null,null,null,null,null,null,null,null,null,null,null,null,null,44893337961,3120274334,2913643210,3840499256,3471864485,3130542893,4266686217,4665451529,4317726806,3948703438,4132442121,4209967626,2875536046,47927957824,2814419794,4001241182,2764831008,4040170514,4331176837,4152160403,4750059681,4337350771,4220248052,4380910322,4057765514,4077623746,49813167620,2026076156,4303617503,4736982117,4581694293,4745631843,4341121536,4937063606,4139059291,3430124250,3886143715,4319061063,4366592247,25478527767,4334722407,5209228522,5518761320,5113597409,5302218109]
["Açúcar","NORTE","GRUPO - AÇÚCAR",2653566833,114162274,130724200,102560156,86993835,242652566,356961659,206041495,231280154,240734575,387554702,330176061,223725156,1519198944,177465428,69871586,41425065,88620569,279497777,170192640,84577684,107523976,116958449,112038514,117008639,154018617,1740864052,233978546,128996850,101513181,75403311,223435970,224783423,115660204,104162027,149057058,188454785,107391594,88027103,1432196538,122351917,54639006,114065594,140667081,178610283,106232936,85466035,75016852,116453372,96988008,70955101,270750353,2678654427,151529409,130163203,87833974,130076388,200064834,157707584,130564837,261944022,352608901,427832381,369855550,278473344,2266968359,245050447,21477309,44867139,118036126,284832162,271310376,112453960,209378479,318887843,260253693,252157826,128262999,408535938,111891079,21725376,74732007,42339318,157848158]
["Contêiner","NORTE","GRUPO - BRADO",1006648102,80313919,89996016,100311275,91571785,97752010,83559245,89412357,75172216,69164680,75906739,80897017,72590843,1290582508,87411944,63344561,65941494,89891550,115268207,123953000,128026371,145190832,130634109,135364131,110149416,95406893,1732141452,44228946,163769291,157476452,163118955,127688865,128941685,176466618,179560031,159889303,147097506,139534655,144369145,2048215868,133647746,120810840,180563662,174528241,169211507,150206234,176776755,192412243,186461968,179937373,199214851,184444448,2065754980,164529498,163333020,172201045,124373599,112287685,171109559,181073235,178257746,193708592,192476160,213076598,199328243,2477736401,172370169,161965007,166565706,204521034,199751544,219821299,224518297,254207065,225184436,212111058,208277214,228443572,1082919988,190346306,215853583,233815236,217931137,224973726]
["Fertilizantes","NORTE","GRUPO - FERTILIZANTES",0,0,0,0,0,0,0,0,0,0,0,0,0,0,0,0,0,0,0,0,0,0,0,0,0,0,1157650235,0,0,0,2467047,64802734,75318218,184063981,180525442,87010831,116635802,172102502,274723678,2865820287,177628474,123625083,164557460,216852398,305831356,290615819,335418279,267339750,106771666,225662752,274704641,376812609,3908618941,302451687,248778634,117898807,295673549,393429090,366367788,392956371,264292646,290314702,419985494,407362878,409107295,4410087933,427860782,368102753,242237557,248889003,256377438,257537432,538968071,522331728,391926022,431448535,359762485,364646127,1618532907,296687640,377221012,353822115,155815182,434986958]
[null,"NORTE","GRUPO - GRÃOS",21586398881,1781450591,1900009710,2446255311,2559372323,2039619266,1287380510,2257959496,2282688163,2103298624,962341151,849151231,1116872505,29848922585,1209152106,2250796735,2692836335,2489566054,2360645036,2356999059,2720626342,2883548890,2677511429,2936783973,2738469771,2531986855,32758871534.989998,1556161428,2512380228,2916980948,2827789692,2175933693,2591315036,3051850628,3239508225,3137575889,2695969821,3202736467,2850669479.9899998,34695118621,2354081506,2335949626,3074830006,2650409847,2164329898,3400693380,3726297485,3453881204,3199562045,3274771614,3337496660,1722815350,34848956116,1856357955,3117630520,2078722617,3253709401,3247219551,3098512540,3652379870,3243539684,2955121558,2887485522,2632611316,2825665582,35382904681,790107284,3356057981,3873438642,3597073870,3571904877,3157180764,3599556631,2661731699,2025376871,2489299420,3067051123,3194125519,19847412956,3265549197,4099270624,4328103996,4203907537,3950581602]
[null,"NORTE","ARROZ (GRANEL)",null,null,null,null,null,null,null,null,null,null,null,null,null,null,null,null,null,null,null,null,null,null,null,null,null,null,null,null,null,null,null,null,null,null,null,null,null,null,null,0,0,0,0,0,0,0,0,0,0,0,0,0,0,0,0,0,0,0,0,0,0,0,0,0,0,0," -   "," -   ",0,0,0,0,0,0,0,0,0,0,0,0,0,0,0,0]
["Farelo de Soja","NORTE","FARELO",4423007148,193678377,367783020,448916552,492667155,489188134,430945423,318436351,287095716,288844467,336430772,393091784,375929397,5478568850,376936122,383876280,484933614,552178829,485317783,407730849,487181295,403707540,408604791,506955395,479734531,501411821,5842847376.9899998,411597834,487858802,541378769,587368580,448932085,535740238,454516415,440809483,483767091,441058649,462549006,547270424.99000001,6145134981,423338642,410199022,570301515,578448165,529770737,548136369,520453233,445081033,474598482,510827643,590555140,543425000,6886159379,363276025,509029791,486277298,631979578,560637374,593687312,634418399,648878840,589678251,650993694,569981060,647321757,{"$f":"SUM(BR47:CC47)","v":7777279887},420956546,585143809,646234334,714946179,681841556,749918903,776801909,668292667,606388208,504978270,709671133,712106373,3847688679,616911704,681605462,842747164,888108494,818315855]
["Farelo de Milho","NORTE","FARELO DE MILHO",null,null,null,null,null,null,null,null,null,null,null,null,null,null,null,null,null,null,null,null,null,null,null,null,null,null,null,null,null,null,null,null,null,null,null,null,null,null,null,20738520,0,0,0,0,0,0,0,0,0,0,0,20738520,18105539,18105539,0,0,0,0,0,0,0,0,0,0,0,0," -   "," -   ",0,0,0,0,0,0,0,0,0,0,0,0,0,0,0,0]
["Malte","NORTE","MALTE",null,null,null,null,null,null,null,null,null,null,null,null,null,null,null,null,null,null,null,null,null,null,null,null,null,null,null,null,null,null,null,null,null,null,null,null,null,null,null,0,0,0,0,0,0,0,0,0,0,0,0,0,0,0,0,0,0,0,0,0,0,0,0,0,0,0," -   "," -   ",0,0,0,0,0,0,0,0,0,0,0,0,0,0,0,0]
["Milho","NORTE","MILHO",9279823129,1467549536,83340510,215911,0,0,342919621,1895258647,1995592447,1814454157,625910379,433792284,620789637,14750410951,95217816,236173,0,0,8570985,1222626774,2076879188,2358834525,2268906638,2429828578,2258735240,2030575034,15827199318,449726126,60345404,0,0,33263967,327834185,2338284778,2729308960,2633316732,2236974232,2714745879,2303399055,17200169987,311415483,0,0,0,73686267,2404180160,3047943378,2859489239,2603795059,2501574468,2312322219,1085763714,15377221316,2202418,0,0,0,0,1431483015,2655903322,2522561961,2287604691,2236491828,2062630256,2178343825,12148339277,46987066,-4101496,0,0,0,507410742,2759041096,1917279679,1271083418,1665927635,1765215891,2219495246,1257159831,902488451,68266851,0,212223158,74181371]
["Soja","NORTE","SOJA",7883568604,120222678,1448886180,1997122848,2066705168,1550431132,513515466,44264498,0,0,0,22267163,120153471,9619942784,736998168,1866684282,2207902721,1937387225,1866756268,726641436,156565859,121006825,0,0,0,0,11088824840,694837468,1964176022,2375602179,2240421112,1693737641,1727740613,259049435,69389782,20492066,17936940,25441582,0,11329075133,1619327381,1925750604,2504528491,2071961682,1560872894,448376851,157900874,149310932,121168504,262369503,434619301,72888116,12567469882,1472773973,2608600729,1592445319,2621729823,2686582177,1073342213,362058149,72098883,77838616,0,0,0,15457285517,322163672,2775015668,3227204308,2882127691,2890063321,1899851119,63713626,76159353,147905245,318393515,592164099,262523900,14742564446,1746149042,3349398311,3485356832,3103575885,3058084376]
["Trigo","NORTE","TRIGO",null,null,null,null,null,null,null,null,null,null,null,null,null,null,null,null,null,null,null,null,null,null,null,null,null,null,null,null,null,null,null,null,null,null,null,null,null,null,null,0,0,0,0,0,0,0,0,0,0,0,0,0,0,0,0,0,0,0,0,0,0,0,0,0,0,0," -   "," -   ",0,0,0,0,0,0,0,0,0,0,0,0,0,0,0,0]
["Soja","NORTE","ÓLEO VEGETAL",null,null,null,null,null,null,null,null,null,null,null,null,null,null,null,null,null,null,null,null,null,null,null,null,null,null,null,null,null,null,null,null,null,null,null,null,null,null,null,0,0,0,0,0,0,0,0,0,0,0,0,0,0,0,0,0,0,0,0,0,0,0,0,0,0,0," -   "," -   ",0,0,0,0,0,0,0,0,0,0,0,0,0,0,0,0]
[null,"NORTE","GRUPO - INDUSTRIAL",29531823,13831614,14401249,860898,438062,0,0,0,0,0,0,0,0,168192431,0,0,0,0,0,0,0,0,0,28426654,62728277,77037500,1163357124,68292558,67976253,95264947,64045188,84316610,95016535,95178266,118682862,108359282,121621164,121621165,122982294,1457132603,117837067,87871504,120364590,127828508,123642793,111674753,117577907,111458707,127326846,140121410,130965777,140462741,1802789349,139977246,136904676,128017390,149560624,166061583,164224915,156265718,153533605,159924908,165670250,170801515,111846919,1894613342,136881319,137533041,162453901,148107456,155138456,143425612,159019983,179663840,166330686,178730335,166642053,160686660,925846752,160615888,175461051,210273075,184502103,194994635]
["Madeira, Papel e Celulose","NORTE","ARROZ (ENSACADO)",null,null,null,null,null,null,null,null,null,null,null,null,null,null,null,null,null,null,null,null,null,null,null,null,null,null,null,null,null,null,null,null,null,null,null,null,null,null,null,0,0,0,0,0,0,0,0,0,0,0,0,0,0,0,0,0,0,0,0,0,0,0,0,0,0,0," -   "," -   ",0,0,0,0,0,0,0,0,0,0,0,0,0,0,0,0]
["Madeira, Papel e Celulose","NORTE","CALCÁREO (IND)",null,null,null,null,null,null,null,null,null,null,null,null,null,null,null,null,null,null,null,null,null,null,null,null,null,null,null,null,null,null,null,null,null,null,null,null,null,null,null,0,0,0,0,0,0,0,0,0,0,0,0,0,0,0,0,0,0,0,0,0,0,0,0,0,0,0," -   "," -   ",0,0,0,0,0,0,0,0,0,0,0,0,0,0,0,0]
["Madeira, Papel e Celulose","NORTE","CELULOSE",27736742,13831614,13905128,0,0,0,0,0,0,0,0,0,0,168192431,0,0,0,0,0,0,0,0,0,28426654,62728277,77037500,1163357124,68292558,67976253,95264947,64045188,84316610,95016535,95178266,118682862,108359282,121621164,121621165,122982294,1457132603,117837067,87871504,120364590,127828508,123642793,111674753,117577907,111458707,127326846,140121410,130965777,140462741,1802789349,139977246,136904676,128017390,149560624,166061583,164224915,156265718,153533605,159924908,165670250,170801515,111846919,1894613342,136881319,137533041,162453901,148107456,155138456,143425612,159019983,179663840,166330686,178730335,166642053,160686660,925846752,160615888,175461051,210273075,184502103,194994635]
["Construção Civil","NORTE","CIMENTO",null,null,null,null,null,null,null,null,null,null,null,null,null,null,null,null,null,null,null,null,null,null,null,null,null,null,null,null,null,null,null,null,null,null,null,null,null,null,null,0,0,0,0,0,0,0,0,0,0,0,0,0,0,0,0,0,0,0,0,0,0,0,0,0,0,0," -   "," -   ",0,0,0,0,0,0,0,0,0,0,0,0,0,0,0,0]
["Construção Civil","NORTE","CLINQUER",null,null,null,null,null,null,null,null,null,null,null,null,null,null,null,null,null,null,null,null,null,null,null,null,null,null,null,null,null,null,null,null,null,null,null,null,null,null,null,0,0,0,0,0,0,0,0,0,0,0,0,0,0,0,0,0,0,0,0,0,0,0,0,0,0,0," -   "," -   ",0,0,0,0,0,0,0,0,0,0,0,0,0,0,0,0]
["Madeira, Papel e Celulose","NORTE","MADEIRA",null,null,null,null,null,null,null,null,null,null,null,null,null,null,null,null,null,null,null,null,null,null,null,null,null,null,null,null,null,null,null,null,null,null,null,null,null,null,null,0,0,0,0,0,0,0,0,0,0,0,0,0,0,0,0,0,0,0,0,0,0,0,0,0,0,0," -   "," -   ",0,0,0,0,0,0,0,0,0,0,0,0,0,0,0,0]
["Siderúrgicos e Mineração","NORTE","MINÉRIO",null,null,null,null,null,null,null,null,null,null,null,null,null,null,null,null,null,null,null,null,null,null,null,null,null,null,null,null,null,null,null,null,null,null,null,null,null,null,null,0,0,0,0,0,0,0,0,0,0,0,0,0,0,0,0,0,0,0,0,0,0,0,0,0,0,0," -   "," -   ",0,0,0,0,0,0,0,0,0,0,0,0,0,0,0,0]
["Madeira, Papel e Celulose","NORTE","OUTROS (IND)",null,null,null,null,null,null,null,null,null,null,null,null,null,null,null,null,null,null,null,null,null,null,null,null,null,null,null,null,null,null,null,null,null,null,null,null,null,null,null,0,0,0,0,0,0,0,0,0,0,0,0,0,0,0,0,0,0,0,0,0,0,0,0,0,0,0," -   "," -   ",0,0,0,0,0,0,0,0,0,0,0,0,0,0,0,0]
["Madeira, Papel e Celulose","NORTE","PAPEL",null,null,null,null,null,null,null,null,null,null,null,null,null,null,null,null,null,null,null,null,null,null,null,null,null,null,null,null,null,null,null,null,null,null,null,null,null,null,null,0,0,0,0,0,0,0,0,0,0,0,0,0,0,0,0,0,0,0,0,0,0,0,0,0,0,0," -   "," -   ",0,0,0,0,0,0,0,0,0,0,0,0,0,0,0,0]
["Siderúrgicos e Mineração","NORTE","SIDERÚRGICOS (IND)",1795081,0,496121,860898,438062,0,0,0,0,0,0,0,0,0,0,0,0,0,0,0,0,0,0,0,0,0,0,0,0,0,0,0,0,0,0,0,0,0,0,0,0,0,0,0,0,0,0,0,0,0,0,0,0,0,0,0,0,0,0,0,0,0,0,0,0,0," -   "," -   ",0,0,0,0,0,0,0,0,0,0,0,0,0,0,0,0]
["Combustível","NORTE","GRUPO - LÍQUIDOS",2322753793,163501343,155485991,180905049,174405860,186595532,205499932,200243816,217126683,235692946,228402137,184006100,190888404,2392575792,216343811,200280660,209532830,172577407,187913776,213543205,213885738,213732363,186957479,231945735,171772472,174090316,2487241596,184661204,196613620,199541382,163413611,178578853,250731968,247233567,220870920,224573791,210833372,206240374,203948934,2394854043,214727624,190747151,186117944,161578410,188917056,207263095,223915068,217618050,212127541,214960964,196630596,180250544,2623183988,199573998,204431127,180157173,86776951,212114092,194238015,236819648,235783066,268569389,287460513,264057655,253202361,3380856882,253806150,258481409,247419169,265066802,277627364,291846052,302546663,311746479,302418391,314300673,265170361,290427369,1595279220,309632296,319696875,318014890,309102130,338833029]
[null,"NORTE","GRUPO - OUTROS",null,null,null,null,null,null,null,null,null,null,null,null,null,null,null,null,null,null,null,null,null,null,null,null,null,null,null,null,null,null,null,null,null,null,null,null,null,null,null,1,0,0,0,0,0,0,0,0,0,0,0,1,23,1,2,2,2,2,2,2,2,2,2,2,2,22,5,3,3,2,2,1,1,1,1,1,1,1,6,1,1,1,2,1]
[null,"SUL","Total Produto",{"$f":"SUM(D68:D71,D80,D91)","v":12670375353},null,null,null,null,null,null,null,null,null,null,null,null,null,null,null,null,null,null,null,null,null,null,null,null,null,null,null,null,null,null,null,null,null,null,null,null,null,null,15202821718,993603519,1164187702,1273561267,1106518675,1152491820,1288020325,1511213711,1529218260,1404597216,1460508034,1363211968,955689221,14530454094,753377028,908005890,1055600779,1190026112,1413109069,1289932370,1406912234,1444681822,1387686801,1354485661,1330944527,995691801,14214438241,677516791,745279463,1383842011,1389076881,1488224394,1359075632,1400007548,1216597491,1243813882,1160317489,1073324087,1077362572,4876673689,876187346,961662272,1206974803,899032942,932816326]
["Açúcar","SUL","GRUPO - AÇÚCAR",2619157020,120293853,26733607,75820767,120672378,193209423,229121332,300252283,343146511,345067545,295015152,258546722,311277447,2434752277,104562251,49086455,62909755,126234077,251547555,252217291,301191756,299776980,303588627,273692384,262142833,147802313,1788325456,60676674,64822328,39060700,90592958,189419363,210492326,207163869,222348948,207264568,212209473,121847746,162426503,1414900647,31659285,31551186,28254327,85080897,138414598,156148160,210091945,163188221,146524869,142173715,196391263,85422181,2331907174,86209055,45179594,59996580,119210742,236809853,207656864,206828320,232221494,312171925,307485698,290298645,227838404,2400676070,124338126,65841560,98681636,115143611,259411943,350267076,227935144,206643225,324431396,278001031,216084139,133897183,478598514,89617211,43413500,39997897,69821130,235748776]
["Contêiner","SUL","GRUPO - BRADO",631723930,50653873,58678363,65520111,64679544,57983925,61572875,48561618,48688919,48451738,46574927,42185833,38172204,474039635,43516576,39319431,48893445,38081878,42358692,42385509,40273501,45062682,35134611,34421081,29817316,34774913,573284673,29603095,39473430,43525417,47937315,39913617,50240031,52476263,54547399,54147602,55903395,52416510,53100599,718081766,50731259,49206107,56186679,56894692,59538119,58457293,64026665,67365781,71301328,63691011,62699147,57983685,890743581,63577574,62719521,60617430,74631833,76715235,81775490,84424302,79692530,79207929,80026895,78185827,69169015,831717610,71761609,79964935,74866251,80125343,76592073,70037726,71624945,66443760,57244092,59003812,61449130,62603934,418084568,76499689,79542843,83331629,87451540,91258867]
["Fertilizantes","SUL","GRUPO - FERTILIZANTES",814939100,28277886,17986273,20430346,22496891,61922969,79419138,91515181,95034592,123820635,98535259,98943488,76556442,683653693,67081150,37347427,30187374,69954742,69651088,49094098,51279952,55388520,60182641,70693725,63823446,58969530,703952816,67919034,48889296,34909110,46184304,46967555,62576874,64986689,70255047,64720101,56299767,77220560,63024479,671293484,86707383,43116118,30368772,31266365,63116757,61511866,65124579,60439183,74380338,55555972,56552372,43153779,555910902,64598429,48203579,17727727,44324475,48827144,42473880,48914628,44102089,44816847,52420682,57102867,42398555,598208921,57805561,43193843,6056070,23393469,39573596,56207516,61475788,87308955,69723346,62420209,51259219,39791349,221821848,48106422,59060835,35789254,29916379,48948958]
[null,"SUL","GRUPO - GRÃOS",4936195759,354947558,554687577,661632722,625772664,542518583,476353708,435782296,447051847,294446094,217847630,172353920,152801160,6952601521,207582030,502473019,717073322,613872658,580946915,588153344,676294534,709887393,706615526,589080736,516608986,544013058,8300394869,452523565,541257209,838413478,805319304,728441992,718967879,765153289,784931443,731038227,719596070,685519956,529232457,8253326729,495234084,721112879,830646326,614760930,547898319,657618980,801211937,836545427,739789217,815914292,721238843,471355495,7505845004,233258302,493383706,728483914,746813604,810618751,716846243,776714351,784881546,635245688,594626584,596876740,388095575,6741539697,118188630,260733594,874122256,859181040,773398736,571328995,729446171,534964433,497003155,469466135,467569570,586136982,2492388283,411393054,565772142,778175290,464676439,272371358]
[null,"SUL","ARROZ (GRANEL)",null,null,null,null,null,null,null,null,null,null,null,null,null,null,null,null,null,null,null,null,null,null,null,null,null,null,null,null,null,null,null,null,null,null,null,null,null,null,null,0,0,0,0,0,0,0,0,0,0,0,0,0,0,0,0,0,0,0,0,0,0,0,0,0,0,0," -   "," -   ",0,0,0,0,0,0,0,0,0,0,0,0,0,0,0,0]
["Farelo de Soja","SUL","FARELO",425732797,22585139,27253985,38939645,42599338,37227481,42020554,35790398,29212686,33941998,41330552,45895745,28935276,344576107,25726133,23371234,33055447,36291561,34637471,30142350,33622656,25109132,25814255,22813295,26348351,27644222,528722084,34667282,27340376,37083433,44805670,50747231,48932203,55155977,45404408,40653373,34549921,53257155,56125055,715899772,37872918,36030687,51921366,53452487,49568281,81832305,77417070,49447999,68021610,82493911,74181278,53659860,643811267,39104826,31946692,75683286,31554860,71127644,55672431,72948113,61470131,71912588,61147982,44395409,26847305,734522935,24034062,17803749,58240446,71722392,74144558,76939861,64156571,76500015,81550635,82386434,56700791,50343421,315583935,43337871,42161555,79061310,80220908,70802291]
["Farelo de Milho","SUL","FARELO DE MILHO",null,null,null,null,null,null,null,null,null,null,null,null,null,null,null,null,null,null,null,null,null,null,null,null,null,null,null,null,null,null,null,null,null,null,null,null,null,null,null,null,null,null,null,null,null,null,null,null,null,null,null,null,null,0,0,0,0,0,0,0,0,0,0,0,0,null," -   "," -   ",0,0,0,0,0,0,0,0,0,0,null,0,0,0,0,0]
["Malte","SUL","MALTE",1118223,0,0,0,0,0,0,0,0,0,1118223,0,0,0,0,0,0,0,0,0,0,0,0,0,0,0,0,0,0,0,0,0,0,0,0,0,0,0,0,0,0,0,0,0,0,0,0,0,0,0,0,0,0,0,0,0,0,0,0,0,0,0,0,0,0,{"$f":"SUM(BR75:CC75)","v":0}," -   "," -   ",0,0,0,0,0,0,0,0,0,0,{"$f":"SUM(CE75:CP75)","v":0},0,0,0,0,0]
["Milho","SUL","MILHO",935574202,240975804,63792640,1228532,0,0,306374,83198401,235058510,130384844,80026790,48609551,51992756,1664416016,18163383,6569635,0,0,39816,12185880,179778587,357785534,502674582,358044919,120665587,108508093,605836986,159796749,13408427,0,0,473211,0,3127583,74219267,98120825,11823906,83352143,161514875,2345657927,103928662,74140707,15008298,34903503,38076256,171724498,396718051,482974540,359590034,256077696,256590564,155925118,1796235506,58266332,73095562,14966994,0,30471,0,51366173,265050328,313654082,371589252,406772380,241443932,390288778,77983242,77381084,6976461,0,0,206098,0,27584925,16786197,25517578,36827679,121025514,249210167,61161329,824,46083473,108039944,33924597]
["Soja","SUL","SOJA",3480585304,49068928,461308481,616952687,581499394,503640463,432260222,314945426,180625179,129292939,94551349,62365326,54074910,4780948770,113040549,404008261,668273903,575142700,544093070,543931227,460163252,325690953,177885711,207324380,364243137,397151627,7034263673,238315002,494383767,800785572,759851274,675611264,668464819,705220007,664066963,589639892,670968191,512310623,254646299,5111242230,320816893,607208655,762894856,525604381,460253782,404062177,327076816,304122888,311692633,476964047,384537059,226008043,4885605087,112226422,386541296,637833634,715258744,739460636,661173812,652400065,458361087,249679018,149427977,69608678,53633718,5435106587,12514155,165548761,808905349,787458648,699254178,494183036,665289600,430879493,398666323,360466519,300186645,311753880,1654321350,208873177,400834009,607436544,270459844,166717776]
["Trigo","SUL","TRIGO",76524334,41988754,1379574,2484418,0,0,0,0,0,0,0,14076225,16595363,144137874,49240961,66897076,13417951,0,0,0,0,0,0,0,4788405,9793481,116573659,18765000,5009209,0,0,0,0,0,0,0,0,36464420,56335030,75718645,30577094,3732830,0,0,0,0,0,0,0,0,5788090,35620631,180193144,23660722,1800156,0,0,0,0,0,0,0,12461373,76100273,66170620,181621397,3657171," -   ",0,0,0,0,0,0,0,1095604,73854455,103014167,273272831,98020677,122775754,45593963,5955743,926694]
["Soja","SUL","ÓLEO VEGETAL",16660899,328933,952897,2027440,1673932,1650639,1766558,1848071,2155472,826313,820716,1407073,1202855,18522754,1411004,1626813,2326021,2438397,2176558,1893887,2730039,1301774,240978,898142,563506,915635,14998467,979532,1115430,544473,662360,1610286,1570857,1649722,1240805,2624137,2254052,135615,611198,4808155,2038517,0,821806,800559,0,0,0,0,484940,378638,141852,141843,0,0,0,0,0,0,0,0,0,0,0,0,0,0," -   "," -   ",0,0,0,0,0,0,0,0,0,0,0,0,0,0,0,0]
[null,"SUL","GRUPO - INDUSTRIAL",1661115669,87400143,99324917,115963110,120816836,129418789,140842872,172400540,175132225,161253546,163644056,154733873,140184762,1951296175,143950006,111904479,149819310,152267058,179305408,162524672,176861648,181297448,180508581,180315487,160464931,172077147,1907222201,167968186,150528834,132894942,137775870,134401626,171511331,161467215,177768111,165366563,181552045,168581736,157405742,1851723420,158853386,141843356,150011543,132409157,149112335,164983223,155967671,176226423,162563870,170517366,152734264,136500826,1501957434,147873686,104458764,92709097,89290515,109337854,99846905,140700761,154875926,156766386,150956789,143656414,111484337,1724763122,145781392,138907887,158477472,165800722,169926690,154438010,146879710,154759973,126887889,127022722,123853942,112026713,509410384,105242543,75424740,115797413,102584039,110361649]
["Madeira, Papel e Celulose","SUL","ARROZ (ENSACADO)",2949823,2867029,82794,0,0,0,0,0,0,0,0,0,0,0,0,0,0,0,0,0,0,0,0,0,0,0,0,0,0,0,0,0,0,0,0,0,0,0,0,0,0,0,0,0,0,0,0,0,0,0,0,0,0,0,0,0,0,0,0,0,0,0,0,0,0,0," -   "," -   ",0,0,0,0,0,0,0,0,0,0,0,0,0,0,0,0]
["Madeira, Papel e Celulose","SUL","CALCÁREO (IND)",6322851,518815,415052,793481,389493,377690,188845,678662,389493,1003240,1078263,489817,0,3316593,495719,483916,631451,507521,489817,177042,177042,354085,0,0,0,0,0,0,0,0,0,0,0,0,0,0,0,0,0,{"$f":"SUM(AR82:BC82)","v":0},0,0,0,0,0,0,0,0,0,0,0,0,{"$f":"SUM(BE82:BP82)","v":0},0,0,0,0,0,0,0,0,0,0,0,0,0," -   "," -   ",0,0,0,0,0,0,0,0,0,0,0,0,0,0,0,0]
["Madeira, Papel e Celulose","SUL","CELULOSE",816494824,35808648,39468896,52726968,53897960,67886981,68516859,90106159,88751216,81277483,85430901,81173089,71449664,999011305,66184266,42196771,73607079,77942519,91665532,88958897,90708861,94651136,96334750,93099720,87427345,96234429,1015571259,93788547,85493603,56390697,66413343,56414753,95271071,84781268,105084556,90776336,99935902,88300899,92920284,983852495,87367407,74329041,84445128,70886548,76339153,82758572,75037269,88602018,84258657,86954139,87908630,84965933,685608290,81487996,38670603,34737674,16049404,35203684,33983635,73206428,83106746,86564172,79177233,77082267,46338448,779545152,79039736,74568740,74194893,82483877,82267655,72881085,60175027,75382768,50178054,46641478,43288107,38443732,141578820,32393967,7843381,35634661,33682140,32024671]
["Construção Civil","SUL","CIMENTO",406012747,25021266,31096223,29058565,30832058,29756097,34507802,41185458,38898023,38650417,37674924,36084035,33247879,400515925,37076222,31980842,34680656,32850063,33627611,31870072,37261484,37759830,34472653,36542385,22153808,30240299,369321166,23693006,27252428,34011328,27853962,29987612,30005187,33774298,35088519,33992573,31709538,34384484,27568231,399159313,30108220,30993666,29339409,32321400,33222594,35394924,34137492,37939603,36582649,37524016,34164652,27430688,409068317,32280331,32413036,22015789,34776696,38813822,35975094,33772093,36324975,34265900,42201389,36708183,29521009,452123929,35882849,30382099,39176060,39256930,39572747,35937522,41340096,40205117,40070608,36464096,37824009,36011796,186892920,35300087,32847683,39095869,36074466,43574815]
["Construção Civil","SUL","CLINQUER",268353756,11125714,14730836,22055745,21417587,19434678,25563960,23592094,30229781,27228373,23891311,24944558,24139119,310508595,28589788,23594240,24919905,23344695,31976498,18795045,26501542,24642464,26107876,27610298,29377714,25048530,255138924,29037669,20837751,22022316,22468443,21611727,22031745,15691852,11400157,20164956,30130241,25284496,14457571,245003344,24320952,20734556,24555766,10913353,19713320,21634621,22731986,24647846,19582849,21916588,14562899,19688608,264669342,20505114,23210996,18758407,17424984,24623111,18618729,18058073,22284230,22391212,28358231,25170330,25265925,313803126,22026355,24392857,27157676,26964901,25512579,26523240,25091759,28576293,29217855,28707008,27156655,22475948,119705457,23195136,28341185,23612286,21756721,22800129]
["Madeira, Papel e Celulose","SUL","MADEIRA",null,null,null,null,null,null,null,null,null,null,null,null,null,null,null,null,null,null,null,null,null,null,null,null,null,null,null,null,null,null,null,null,null,null,null,null,null,null,null,0,0,0,0,0,0,0,0,0,0,0,0,0,0,0,0,0,0,0,0,0,0,0,0,0,0,0," -   "," -   ",0,0,0,0,0,0,0,0,0,0,0,0,0,0,0,0]
["Siderúrgicos e Mineração","SUL","MINÉRIO",112605614,8654285,5996943,7605219,8033596,10460080,10554157,11605112,12365736,10089216,9332464,9337280,8571526,138588620,10252237,10657173,10507877,10259738,12089552,13082477,12270250,12224950,12088373,11726467,11907335,11522191,151769895,11811008,11045769,11749875,12837948,14275751,12224975,12901107,13060754,13039535,13480931,12660792,12681450,117820494,8041064,5543822,7739533,10358154,10314870,12220594,14084214,13465750,12336298,11216516,9628252,2871427,87288883,4717469,8886288,6956271,12504445,8637286,7780446,10197150,11211115,11035614,1219936,0,4142863,102196893,4186979,8048101,9409452,10241687,10999764,9911305,10984066,10283557,7421372,8326710,6191281,6192619,42035846,6707243,6392491,8366090,8607988,11962034]
["Madeira, Papel e Celulose","SUL","OUTROS (IND)",2840497,76988,1044257,0,1719252,0,0,0,0,0,0,0,0,0,0,0,0,0,0,0,0,0,0,0,0,0,24807,0,0,0,0,0,0,0,24807,0,0,0,0,0,0,0,0,0,0,0,0,0,0,0,0,0,7586,0,0,0,0,0,0,0,0,0,0,7586,0,0," -   "," -   ",0,0,0,0,0,0,0,0,0,0,0,0,0,0,0,0]
["Madeira, Papel e Celulose","SUL","PAPEL",null,null,null,null,null,null,null,null,null,null,null,null,null,null,null,null,null,null,null,null,null,null,null,null,null,null,null,null,null,null,null,null,null,null,null,null,null,null,null,0,0,0,0,0,0,0,0,0,0,0,0,0,0,0,0,0,0,0,0,0,0,0,0,0,0,0," -   "," -   ",0,0,0,0,0,0,0,0,0,0,0,0,0,0,0,0]
["Siderúrgicos e Mineração","SUL","SIDERÚRGICOS (IND)",45535557,3327398,6489916,3723132,4526890,1503263,1511249,5233055,4497976,3004817,6236193,2705094,2776574,99355137,1351774,2991537,5472342,7362522,9456398,9641139,9942469,11664983,11504929,11336617,9598729,9031698,115396150,9637956,5899283,8720726,8202174,12111783,11978353,14318690,13109318,7393163,6295433,7951065,9778206,105887774,9015743,10242271,3931707,7929702,9522398,12974512,9976710,11571206,9803417,12906107,6469831,1544170,55315016,8882776,1277841,10240956,8534986,2059951,3489001,5467017,1948860,2509488,0,4688048,6216092,77094022,4645473,1516090,8539391,6853327,11573945,9184858,9288762,312238,0,6883430,9393890,8902618,19197341,7646110,0,9088507,2462724,0]
["Combustível","SUL","GRUPO - LÍQUIDOS",2007243875,141026849,158187649,164003404,152207106,165906353,177592191,189759368,185810685,183298305,182146846,162342351,144962768,1971718577,143628945,132900733,144560417,137946083,163325928,145708583,191221402,191705138,186272112,203974715,171531956,158942565,2052549558,158606315,161694107,166599616,153606625,144449736,168885791,177638538,193325905,195904583,185029835,169638966,177169541,2293495672,170418122,177358056,178093620,186106634,194411692,189300803,214790914,225453225,210037594,212655678,173596079,161273255,1744089988,157859982,154060725,96066030,115754942,130800231,141332987,149329871,148908236,159478025,168969012,164824033,156705914,1917532816,159641472,156637643,171638325,145432695,169321355,156796309,162645790,166477145,168524004,164403580,153108087,142906411,756370092,145328427,138448212,153883320,144583415,174126718]
[null,"SUL","GRUPO - OUTROS",null,null,null,null,null,null,null,null,null,null,null,null,null,null,null,null,null,null,null,null,null,null,null,null,null,null,null,null,null,null,null,null,null,null,null,null,null,null,null,0,0,0,0,0,0,0,0,0,0,0,0,0,11,0,1,1,1,1,1,1,1,1,1,1,1,5,1,1,1,1,1,0,0,0,0,0,0,0,0,0,0,0,0,0]
[null,null,null,null,null,null,null,null,null,null,null,null,null,null,null,null,null,null,null,null,null,null,null,null,null,null,null,null,null,null,null,null,null,null,null,null,null,null,null,null,null,null,null,null,null,null,null,null,null,null,null,null,null,null,null,null,null,null,null,null,null,null,null,null,null,null,null,null,null,null,null,null,null,null,"","","","","","","",null,"","","","",""]
[null,null,null,null,null,null,null,null,null,null,null,null,null,null,null,null,null,null,null,null,null,null,null,null,null,null,null,null,null,null,null,null,null,null,null,null,null,null,null,null,null,null,null,null,null,null,null,null,null,null,null,null,null,null,null,null,null,null,null,null,null,null,null,null,null,null,null,null,null,null,null,null,null,null,"","","","","","","",null,"","","","",""]
[null,null,null,null,null,null,null,null,null,null,null,null,null,null,null,null,null,null,null,null,null,null,null,null,null,null,null,null,null,null,null,null,null,null,null,null,null,null,null,null,null,null,null,null,null,null,null,null,null,null,null,null,null,null,null,null,null,null,null,null,null,null,null,null,null,null,null,null,null,null,null,null,null,null,"","","","","","","",null,"","","","",""]
[null,null,null,null,null,null,null,null,null,null,null,null,null,null,null,null,null,null,null,null,null,null,null,null,null,null,null,null,null,null,null,null,null,null,null,null,null,null,null,null,null,null,null,null,null,null,null,null,null,null,null,null,null,null,null,null,null,null,null,null,null,null,null,null,null,null,null,null,null,null,null,null,null,null,"","","","","","","",null,"","","","",""]
[null,null,null,null,null,null,null,null,null,null,null,null,null,null,null,null,null,null,null,null,null,null,null,null,null,null,null,null,null,null,null,null,null,null,null,null,null,null,null,null,null,null,null,null,null,null,null,null,null,null,null,null,null,null,null,null,null,null,null,null,null,null,null,null,null,null,null,null,null,null,null,null,null,null,"","","","","","","",null,"","","","",""]
[null,null,null,null,null,null,null,null,null,null,null,null,null,null,null,null,null,null,null,null,null,null,null,null,null,null,null,null,null,null,null,null,null,null,null,null,null,null,null,null,null,null,null,null,null,null,null,null,null,null,null,null,null,null,null,null,null,null,null,null,null,null,null,null,null,null,null,null,null,null,null,null,null,null,"","","","","","","",null,"","","","",""]
[null,null,null,null,null,null,null,null,null,null,null,null,null,null,null,null,null,null,null,null,null,null,null,null,null,null,null,null,null,null,null,null,null,null,null,null,null,null,null,null,null,null,null,null,null,null,null,null,null,null,null,null,null,null,null,null,null,null,null,null,null,null,null,null,null,null,null,null,null,null,null,null,null,null,"","","","","","","",null,"","","","",""]
[null,null,null,null,null,null,null,null,null,null,null,null,null,null,null,null,null,null,null,null,null,null,null,null,null,null,null,null,null,null,null,null,null,null,null,null,null,null,null,null,null,null,null,null,null,null,null,null,null,null,null,null,null,null,null,null,null,null,null,null,null,null,null,null,null,null,null,null,null,null,null,null,null,null,"","","","","","","",null,"","","","",""]

{"sheet":"RTK Base","index":3,"n_rows":100,"n_cols":94,"rows_kept":100,"cut":false,"hidden":true,"merged":[]}
[null,"CUBE:","Cosan_Logistica:CLOG.ACO.116.VOLUMETRIA.FLUXO"]
[null,"CLOG.D.ACO.VERSAO","R"]
[null,"ALL.D.TEMPO.ANO","2019"]
[null,"CLOG.M.ACO.VOLUMETRIA.FLUXO","Toneladas Km Útil"]
[null,"CLOG.D.ACO.MODAL","Total Modal"]
[null,"CLOG.D.ALL.CORREDOR","Total Corredor"]
[null,"CLOG.D.ACO.GERENCIA","Total Gerencia"]
[null,"CLOG.D.ALL.EMPRESA","Total Empresa"]
[null,"CLOG.D.ACO.ORIGEM","Total Origem"]
[null,"CLOG.D.ACO.DESTINO","Total Destino"]
[null,"CLOG.D.ALL.CLIENTE.HIERARQUIA","Total Clientes"]
[]
[null,null,null,"2016","2016","2016","2016","2016","2016","2016","2016","2016","2016","2016","2016","2016","2017","2017","2017","2017","2017","2017","2017","2017","2017","2017","2017","2017","2017","2018","2018","2018","2018","2018","2018","2018","2018","2018","2018","2018","2018","2018","2019","2019","2019","2019","2019","2019","2019","2019","2019","2019","2019","2019","2019",null,2020,2020,2020,2020,2020,2020,2020,2020,2020,2020,2020,2020,null,2021,2021,2021,2021,2021,2021,2021,2021,2021,2021,2021,2021,null,2022,2022,2022,2022,2022,2022,2022,2022,2022,2022,2022,2022]
["RI Classification","Operation","Product (PTBR)","Full Year","January","February","March","April","May","June","July","August","September","October","November","December","Full Year","January","February","March","April","May","June","July","August","September","October","November","December","Full Year","January","February","March","April","May","June","July","August","September","October","November","December","Full Year","January","February","March","April","May","June","July","August","September","October","November","December","Full Year 2020","January","February","March","April","May","June","July","August","September","October","November","December","Full Year 2021","January","February","March","April","May","June","July","August","September","October","November","December","Full Year 2022","January","February","March","April","May","June","July","August","September","October","November","December"]
[null,"Consolidated","Total Produto",{"$f":"SUM(D16:D19,D28,D39)","v":40269274785},2935859903,3206215552,3934263149,4019427284,3717579416,3098303462,3991928450,4101131995,3805228688,2657968599,2333336596,2468031691,49687534138,2400694247,3457325086,4163179347,3979012076,4230460382,4104771401,4584238928,4833114222,4584363564,4796737135,4404518043,4149119707,56365855566.989998,3024619551,4076401446,4726180173,4577654180,4138350614,{"$f":"SUM(AJ16:AJ19,AJ28,AJ39)","v":4748781097},5299339127,5546486360,5284907798,4891203035,5224852231,4827079954.9899998,60096159678,4113877853,4077830912,5114060523,4578383160,4283034713,5554706542,6176665240,5846945066,5353300654,5592950155,5573179594,3831225266,62458411884,3567796821,4909247069,3820431784,5230196623,5744285903,5442092770,6156971912,5782032590,5607934850,5735395980,5388710038,5073315548,{"$f":"SUM(BR15:CC15)","v":64027605861},2703592947,5048896966,6120824128,5970771174,6233856237,5700197168,6337071154,5355656782,4673938132,5046461204,5392385150,5443954819,{"$f":"SUM(CE15:CP15)","v":30355201456},5210909753,6170890794,6725736123,6012630351,6235034435]
["Sugar","Consolidated","GRUPO - AÇÚCAR",5272723853,234456127,157457807,178380923,207666213,435861989,586082991,506293778,574426665,585802120,682569854,588722783,535002603,3953951221,282027679,118958041,104334820,214854646,531045332,422409931,385769440,407300956,420547076,385730898,379151472,301820930,3529189508,294655220,193819178,140573881,165996269,412855333,435275749,322824073,326510975,356321626,400664258,229239340,250453606,{"$f":"SUM(AR16:BC16)","v":2847097185},154011202,86190192,142319921,225747978,317024881,262381096,295557980,238205073,262978241,239161723,267346364,356172534,{"$f":"SUM(BE16:BP16)","v":5010561601},237738464,175342797,147830554,249287130,436874687,365364448,337393157,494165516,664780826,735318079,660154195,506311748,4667644429,369388573,87318869,143548775,233179737,544244105,621577452,340389104,416021704,643319239,538254724,468241965,262160182,887134452,201508290,65138876,114729904,112160448,393596934]
["Containers","Consolidated","GRUPO - BRADO",1638372032,130967792,148674379,165831386,156251329,155735935,145132120,137973975,123861135,117616418,122481666,123082850,110763047,1764622143,130928520,102663992,114834939,127973428,157626899,166338509,168299872,190253514,165768720,169785212,139966732,130181806,2305426125,73832041,203242721,201001869,211056270,167602482,179181716,228942881,234107430,214036905,203000901,191951165,197469744,{"$f":"SUM(AR17:BC17)","v":2766297634},184379005,170016947,236750341,231422933,228749626,208663527,240803420,259778024,257763296,243628384,261913998,242428133,{"$f":"SUM(BE17:BP17)","v":2956498561},228107072,226052541,232818475,199005432,189002920,252885049,265497537,257950276,272916521,272503055,291262425,268497258,3309454011,244131778,241929942,241431957,284646377,276343617,289859025,296143242,320650825,282428528,271114870,269726344,291047506,1501004556,266845995,295396426,317146865,305382677,316232593]
["Fertilizers","Consolidated","GRUPO - FERTILIZANTES",814939100,28277886,17986273,20430346,22496891,61922969,79419138,91515181,95034592,123820635,98535259,98943488,76556442,683653693,67081150,37347427,30187374,69954742,69651088,49094098,51279952,55388520,60182641,70693725,63823446,58969530,1861603051,67919034,48889296,34909110,48651351,111770289,137895092,249050670,250780489,151730932,172935569,249323062,337748157,{"$f":"SUM(AR18:BC18)","v":3537113771},264335857,166741201,194926232,248118763,368948113,352127685,400542858,327778933,181152004,281218724,331257013,419966388,{"$f":"SUM(BE18:BP18)","v":4464529843},367050116,296982213,135626534,339998024,442256234,408841668,441870999,308394735,335131549,472406176,464465745,451505850,5008296854,485666343,411296596,248293627,272282472,295951034,313744948,600443859,609640683,461649368,493868744,411021704,404437476,1840354755,344794062,436281847,389611369,185731561,483935916]
[null,"Consolidated","GRUPO - GRÃOS",{"$f":"SUM(D20:D27)","v":26522594640},2136398149,2454697287,3107888033,3185144987,2582137849,1763734218,2693741792,2729740010,2397744718,1180188781,1021505151,1269673665,36801524106,1416734136,2753269754,3409909657,3103438712,2941591951,2945152403,3396920876,3593436283,3384126955,3525864709,3255078757,3075999913,41059266403.989998,2008684993,3053637437,3755394426,3633108996,2904375685,{"$f":"SUM(AJ20:AJ27)","v":3310282915},3817003917,4024439668,3868614116,3415565891,3888256423,3379901936.9899998,42948445350,2849315590,3057062505,3905476332,3265170777,2712228217,4058312360,4527509422,4290426631,3939351262,4090685906,4058735503,2194170845,42354801120,2089616257,3611014226,2807206531,4000523005,4057838302,3815358783,4429094221,4028421230,3590367246,3482112106,3229488056,3213761157,42124444378,908295914,3616791575,4747560898,4456254910,4345303613,3728509759,4329002802,3196696132,2522380026,2958765555,3534620693,3780262501,22339801239,3676942251,4665042766,5106279286,4668583976,4222952960]
[null,"Consolidated","ARROZ (GRANEL)",null,null,null,null,null,null,null,null,null,null,null,null,null,null,null,null,null,null,null,null,null,null,null,null,null,null,null,null,null,null,null,null,null,null,null,null,null,null,null,{"$f":"SUM(AR20:BC20)","v":0},0,0,0,0,0,0,0,0,0,0,0,0,{"$f":"SUM(BE20:BP20)","v":0},0,0,0,0,0,0,0,0,0,0,0,0,0," -   "," -   ",0,0,0,0,0,0,0,0,0,0,0,0,0,0,0,0]
["Soybean meal","Consolidated","FARELO",4848739945,216263516,395037005,487856197,535266493,526415615,472965977,354226749,316308402,322786465,377761324,438987529,404864673,5823144957,402662255,407247514,517989061,588470390,519955254,437873199,520803951,428816672,434419046,529768690,506082882,529056043,6371569460.9899998,446265116,515199178,578462202,632174250,499679316,584672441,509672392,486213891,524420464,475608570,515806161,603395479.99000001,6861034753,461211560,446229709,622222881,631900652,579339018,629968674,597870303,494529032,542620092,593321554,664736418,597084860,7529970646,402380851,540976483,561960584,663534438,631765018,649359743,707366512,710348971,661590839,712141676,614376469,674169062,8511802822,444990608,602947558,704474780,786668571,755986114,826858764,840958480,744792682,687938843,587364704,766371924,762449794,4163272614,660249575,723767017,921808474,968329402,889118146]
["Corn meal","Consolidated","FARELO DE MILHO",null,null,null,null,null,null,null,null,null,null,null,null,null,null,null,null,null,null,null,null,null,null,null,null,null,null,null,null,null,null,null,null,null,null,null,null,null,null,null,20738520,0,0,0,0,0,0,0,0,0,0,0,20738520,18105539,18105539,0,0,0,0,0,0,0,0,0,0,0,0," -   "," -   ",0,0,0,0,0,0,0,0,0,0,0,0,0,0,0,0]
["Malt","Consolidated","MALTE",1118223,0,0,0,0,0,0,0,0,0,1118223,0,0,0,0,0,0,0,0,0,0,0,0,0,0,0,0,0,0,0,0,0,0,0,0,0,0,0,0,0,0,0,0,0,0,0,0,0,0,0,0,0,0,0,0,0,0,0,0,0,0,0,0,0,0,0," -   "," -   ",0,0,0,0,0,0,0,0,0,0,0,0,0,0,0,0]
["Corn","Consolidated","MILHO",10215397331,1708525340,147133150,1444443,0,0,343225995,1978457048,2230650957,1944839001,705937169,482401835,672782393,16414826967,113381199,6805808,0,0,8610801,1234812654,2256657775,2716620059,2771581220,2787873497,2379400827,2139083127,16433036304,609522875,73753831,0,0,33737178,327834185,2341412361,2803528227,2731437557,2248798138,2798098022,2464913930,19545827914,415344145,74140707,15008298,34903503,111762523,2575904658,3444661429,3342463779,2963385093,2757652164,2568912783,1241688832,17173456822,60468750,73095562,14966994,0,30471,1431483015,2707269495,2787612289,2601258773,2608081080,2469402636,2419787757,12538628055,124970308,73279588,6976461,0,0,507616840,2759041096,1944864604,1287869615,1691445213,1802043570,2340520760,1506369998,963649780,68267675,46083473,320263102,108105968]
["Soybean","Consolidated","SOJA",11364153908,169291606,1910194661,2614075535,2648204562,2054071595,945775688,359209924,180625179,129292939,94551349,84632489,174228381,14400891554,850038717,2270692543,2876176624,2512529925,2410849338,1270572663,616729111,446697778,177885711,207324380,364243137,397151627,18123088513,933152470,2458559789,3176387751,3000272386,2369348905,2396205432,964269442,733456745,610131958,688905131,537752205,254646299,16440317363,1940144274,2532959259,3267423347,2597566063,2021126676,852439028,484977690,453433820,432861137,739333550,819156360,298896159,17453074969,1585000395,2995142025,2230278953,3336988567,3426042813,1734516025,1014458214,530459970,327517634,149427977,69608678,53633718,20892392104,334677827,2940564429,4036109657,3669586339,3589317499,2394034155,729003226,507038846,546571568,678860034,892350744,574277780,16396885796,1955022219,3750232320,4092793376,3374035729,3224802152]
["Wheat","Consolidated","TRIGO",76524334,41988754,1379574,2484418,0,0,0,0,0,0,0,14076225,16595363,144137874,49240961,66897076,13417951,0,0,0,0,0,0,0,4788405,9793481,116573659,18765000,5009209,0,0,0,0,0,0,0,0,36464420,56335030,75718645,30577094,3732830,0,0,0,0,0,0,0,0,5788090,35620631,180193144,23660722,1800156,0,0,0,0,0,0,0,12461373,76100273,66170620,181621397,3657171," -   ",0,0,0,0,0,0,0,1095604,73854455,103014167,273272831,98020677,122775754,45593963,5955743,926694]
["Soybean","Consolidated","ÓLEO VEGETAL",16660899,328933,952897,2027440,1673932,1650639,1766558,1848071,2155472,826313,820716,1407073,1202855,18522754,1411004,1626813,2326021,2438397,2176558,1893887,2730039,1301774,240978,898142,563506,915635,14998467,979532,1115430,544473,662360,1610286,1570857,1649722,1240805,2624137,2254052,135615,611198,4808155,2038517,0,821806,800559,0,0,0,0,484940,378638,141852,141843,0,0,0,0,0,0,0,0,0,0,0,0,0,0," -   "," -   ",0,0,0,0,0,0,0,0,0,0,0,0,0,0,0,0]
[null,"Consolidated","GRUPO - INDUSTRIAL",1690647492,101231757,113726166,116824008,121254898,129418789,140842872,172400540,175132225,161253546,163644056,154733873,140184762,2119488606,143950006,111904479,149819310,152267058,179305408,162524672,176861648,181297448,180508581,208742141,223193208,249114647,3070579325,236260744,218505087,228159889,201821058,218718236,266527866,256645481,296450973,273725845,303173209,290202901,280388036,3308856023,276690453,229714860,270376133,260237665,272755128,276657976,273545578,287685130,289890716,310638776,283700041,276963567,3304746783,287850932,241363440,220726487,238851139,275399437,264071820,296966479,308409531,316691294,316627039,314457929,223331256,3619376464,282662711,276440928,320931373,313908178,325065146,297863622,305899693,334423813,293218575,305753057,290495995,272713373,1435257136,265858431,250885791,326070488,287086142,305356284]
["Wood, pulp and paper","Consolidated","ARROZ (ENSACADO)",2949823,2867029,82794,0,0,0,0,0,0,0,0,0,0,0,0,0,0,0,0,0,0,0,0,0,0,0,0,0,0,0,0,0,0,0,0,0,0,0,0,0,0,0,0,0,0,0,0,0,0,0,0,0,0,0,0,0,0,0,0,0,0,0,0,0,0,0," -   "," -   ",0,0,0,0,0,0,0,0,0,0,0,0,0,0,0,0]
["Wood, pulp and paper","Consolidated","CALCÁREO (IND)",6322851,518815,415052,793481,389493,377690,188845,678662,389493,1003240,1078263,489817,0,3316593,495719,483916,631451,507521,489817,177042,177042,354085,0,0,0,0,0,0,0,0,0,0,0,0,0,0,0,0,0,0,0,0,0,0,0,0,0,0,0,0,0,0,0,0,0,0,0,0,0,0,0,0,0,0,0,0," -   "," -   ",0,0,0,0,0,0,0,0,0,0,0,0,0,0,0,0]
["Wood, pulp and paper","Consolidated","CELULOSE",844231566,49640262,53374024,52726968,53897960,67886981,68516859,90106159,88751216,81277483,85430901,81173089,71449664,1167203736,66184266,42196771,73607079,77942519,91665532,88958897,90708861,94651136,96334750,121526374,150155622,173271929,2178928383,162081105,153469856,151655644,130458531,140731363,190287606,179959534,223767418,199135618,221557066,209922064,215902578,2440985098,205204474,162200545,204809718,198715056,199981946,194433325,192615176,200060725,211585503,227075549,218874407,225428674,2488397639,221465242,175575279,162755064,165610028,201265267,198208550,229472146,236640351,246489080,244847483,247883782,158185367,2674158494,215921055,212101781,236648794,230591333,237406111,216306697,219195010,255046608,216508740,225371813,209930160,199130392,1067425572,193009855,183304432,245907736,218184243,227019306]
["Construction","Consolidated","CIMENTO",406012747,25021266,31096223,29058565,30832058,29756097,34507802,41185458,38898023,38650417,37674924,36084035,33247879,400515925,37076222,31980842,34680656,32850063,33627611,31870072,37261484,37759830,34472653,36542385,22153808,30240299,369321166,23693006,27252428,34011328,27853962,29987612,30005187,33774298,35088519,33992573,31709538,34384484,27568231,399159313,30108220,30993666,29339409,32321400,33222594,35394924,34137492,37939603,36582649,37524016,34164652,27430688,409068317,32280331,32413036,22015789,34776696,38813822,35975094,33772093,36324975,34265900,42201389,36708183,29521009,452123929,35882849,30382099,39176060,39256930,39572747,35937522,41340096,40205117,40070608,36464096,37824009,36011796,186892920,35300087,32847683,39095869,36074466,43574815]
["Construction","Consolidated","CLINQUER",268353756,11125714,14730836,22055745,21417587,19434678,25563960,23592094,30229781,27228373,23891311,24944558,24139119,310508595,28589788,23594240,24919905,23344695,31976498,18795045,26501542,24642464,26107876,27610298,29377714,25048530,255138924,29037669,20837751,22022316,22468443,21611727,22031745,15691852,11400157,20164956,30130241,25284496,14457571,245003344,24320952,20734556,24555766,10913353,19713320,21634621,22731986,24647846,19582849,21916588,14562899,19688608,264669342,20505114,23210996,18758407,17424984,24623111,18618729,18058073,22284230,22391212,28358231,25170330,25265925,313803126,22026355,24392857,27157676,26964901,25512579,26523240,25091759,28576293,29217855,28707008,27156655,22475948,119705457,23195136,28341185,23612286,21756721,22800129]
["Wood, pulp and paper","Consolidated","MADEIRA",null,null,null,null,null,null,null,null,null,null,null,null,null,null,null,null,null,null,null,null,null,null,null,null,null,null,null,null,null,null,null,null,null,null,null,null,null,null,null,0,0,0,0,0,0,0,0,0,0,0,0,0,0,0,0,0,0,0,0,0,0,0,0,0,0,0," -   "," -   ",0,0,0,0,0,0,0,0,0,0,0,0,0,0,0,0]
["Steel and mining","Consolidated","MINÉRIO",112605614,8654285,5996943,7605219,8033596,10460080,10554157,11605112,12365736,10089216,9332464,9337280,8571526,138588620,10252237,10657173,10507877,10259738,12089552,13082477,12270250,12224950,12088373,11726467,11907335,11522191,151769895,11811008,11045769,11749875,12837948,14275751,12224975,12901107,13060754,13039535,13480931,12660792,12681450,117820494,8041064,5543822,7739533,10358154,10314870,12220594,14084214,13465750,12336298,11216516,9628252,2871427,87288883,4717469,8886288,6956271,12504445,8637286,7780446,10197150,11211115,11035614,1219936,0,4142863,102196893,4186979,8048101,9409452,10241687,10999764,9911305,10984066,10283557,7421372,8326710,6191281,6192619,42035846,6707243,6392491,8366090,8607988,11962034]
["Wood, pulp and paper","Consolidated","OUTROS (IND)",2840497,76988,1044257,0,1719252,0,0,0,0,0,0,0,0,0,0,0,0,0,0,0,0,0,0,0,0,0,24807,0,0,0,0,0,0,0,24807,0,0,0,0,0,0,0,0,0,0,0,0,0,0,0,0,0,7586,0,0,0,0,0,0,0,0,0,0,7586,0,0," -   "," -   ",0,0,0,0,0,0,0,0,0,0,0,0,0,0,0,0]
["Wood, pulp and paper","Consolidated","PAPEL",null,null,null,null,null,null,null,null,null,null,null,null,null,null,null,null,null,null,null,null,null,null,null,null,null,null,null,null,null,null,null,null,null,null,null,null,null,null,null,0,0,0,0,0,0,0,0,0,0,0,0,0,0,0,0,0,0,0,0,0,0,0,0,0,0,0," -   "," -   ",0,0,0,0,0,0,0,0,0,0,0,0,0,0,0,0]
["Steel and mining","Consolidated","SIDERÚRGICOS (IND)",47330638,3327398,6986037,4584030,4964952,1503263,1511249,5233055,4497976,3004817,6236193,2705094,2776574,99355137,1351774,2991537,5472342,7362522,9456398,9641139,9942469,11664983,11504929,11336617,9598729,9031698,115396150,9637956,5899283,8720726,8202174,12111783,11978353,14318690,13109318,7393163,6295433,7951065,9778206,105887774,9015743,10242271,3931707,7929702,9522398,12974512,9976710,11571206,9803417,12906107,6469831,1544170,55315016,8882776,1277841,10240956,8534986,2059951,3489001,5467017,1948860,2509488,0,4688048,6216092,77094022,4645473,1516090,8539391,6853327,11573945,9184858,9288762,312238,0,6883430,9393890,8902618,19197341,7646110,0,9088507,2462724,0]
["Fuels","Consolidated","GRUPO - LÍQUIDOS",4329997668,304528192,313673640,344908453,326612966,352501885,383092123,390003184,402937368,418991251,410548983,346348451,335851172,4364294369,359972756,333181393,354093247,310523490,351239704,359251788,405107140,405437501,373229591,435920450,343304428,333032881,4539791154,343267519,358307727,366140998,317020236,323028589,419617759,424872105,414196825,420478374,395863207,375879340,381118475,4688349715,385145746,368105207,364211564,347685044,383328748,396563898,438705982,443071275,422165135,427616642,370226675,341523799,4367273976,357433980,358491852,276223203,202531893,342914323,335571002,386149519,384691302,428047414,456429525,428881688,409908275,5298389698,413447622,415119052,419057494,410499497,446948719,448642361,465192453,478223624,470942395,478704253,418278448,433333780,2351649312,454960723,458145087,471898210,453685545,512959747]
[null,"Consolidated","GRUPO - OUTROS",null,null,null,null,null,null,null,null,null,null,null,null,null,null,null,null,null,null,null,null,null,null,null,null,null,null,null,null,null,null,null,null,null,null,null,null,null,null,null,3,0,0,0,0,0,0,0,0,0,1,0,2,46,2,4,4,4,4,4,4,4,4,4,4,4,27,6,4,4,3,3,1,1,1,1,1,1,1,6,1,1,1,2,1]
[null,"North","Total Produto",null,null,null,null,null,null,null,null,null,null,null,null,null,null,null,null,null,null,null,null,null,null,null,null,null,null,null,null,null,null,null,null,null,null,null,null,null,null,null,44893337961,3120274334,2913643210,3840499256,3471864485,3130542893,4266686217,4665451529,4317726806,3948703438,4132442121,4209967626,2875536046,47927957824,2814419794,4001241182,2764831008,4040170514,4331176837,4152160403,4750059681,4337350771,4220248052,4380910322,4057765514,4077623746,49813167620,2026076156,4303617503,4736982117,4581694293,4745631843,4341121536,4937063606,4139059291,3430124250,3886143715,4319061063,4366592247,25478527767,4334722407,5209228522,5518761320,5113597409,5302218109]
["Sugar","North","GRUPO - AÇÚCAR",2653566833,114162274,130724200,102560156,86993835,242652566,356961659,206041495,231280154,240734575,387554702,330176061,223725156,1519198944,177465428,69871586,41425065,88620569,279497777,170192640,84577684,107523976,116958449,112038514,117008639,154018617,1740864052,233978546,128996850,101513181,75403311,223435970,224783423,115660204,104162027,149057058,188454785,107391594,88027103,1432196538,122351917,54639006,114065594,140667081,178610283,106232936,85466035,75016852,116453372,96988008,70955101,270750353,2678654427,151529409,130163203,87833974,130076388,200064834,157707584,130564837,261944022,352608901,427832381,369855550,278473344,2266968359,245050447,21477309,44867139,118036126,284832162,271310376,112453960,209378479,318887843,260253693,252157826,128262999,408535938,111891079,21725376,74732007,42339318,157848158]
["Containers","North","GRUPO - BRADO",1006648102,80313919,89996016,100311275,91571785,97752010,83559245,89412357,75172216,69164680,75906739,80897017,72590843,1290582508,87411944,63344561,65941494,89891550,115268207,123953000,128026371,145190832,130634109,135364131,110149416,95406893,1732141452,44228946,163769291,157476452,163118955,127688865,128941685,176466618,179560031,159889303,147097506,139534655,144369145,2048215868,133647746,120810840,180563662,174528241,169211507,150206234,176776755,192412243,186461968,179937373,199214851,184444448,2065754980,164529498,163333020,172201045,124373599,112287685,171109559,181073235,178257746,193708592,192476160,213076598,199328243,2477736401,172370169,161965007,166565706,204521034,199751544,219821299,224518297,254207065,225184436,212111058,208277214,228443572,1082919988,190346306,215853583,233815236,217931137,224973726]
["Fertilizers","North","GRUPO - FERTILIZANTES",0,0,0,0,0,0,0,0,0,0,0,0,0,0,0,0,0,0,0,0,0,0,0,0,0,0,1157650235,0,0,0,2467047,64802734,75318218,184063981,180525442,87010831,116635802,172102502,274723678,2865820287,177628474,123625083,164557460,216852398,305831356,290615819,335418279,267339750,106771666,225662752,274704641,376812609,3908618941,302451687,248778634,117898807,295673549,393429090,366367788,392956371,264292646,290314702,419985494,407362878,409107295,4410087933,427860782,368102753,242237557,248889003,256377438,257537432,538968071,522331728,391926022,431448535,359762485,364646127,1618532907,296687640,377221012,353822115,155815182,434986958]
[null,"North","GRUPO - GRÃOS",21586398881,1781450591,1900009710,2446255311,2559372323,2039619266,1287380510,2257959496,2282688163,2103298624,962341151,849151231,1116872505,29848922585,1209152106,2250796735,2692836335,2489566054,2360645036,2356999059,2720626342,2883548890,2677511429,2936783973,2738469771,2531986855,32758871534.989998,1556161428,2512380228,2916980948,2827789692,2175933693,2591315036,3051850628,3239508225,3137575889,2695969821,3202736467,2850669479.9899998,34695118621,2354081506,2335949626,3074830006,2650409847,2164329898,3400693380,3726297485,3453881204,3199562045,3274771614,3337496660,1722815350,34848956116,1856357955,3117630520,2078722617,3253709401,3247219551,3098512540,3652379870,3243539684,2955121558,2887485522,2632611316,2825665582,35382904681,790107284,3356057981,3873438642,3597073870,3571904877,3157180764,3599556631,2661731699,2025376871,2489299420,3067051123,3194125519,19847412956,3265549197,4099270624,4328103996,4203907537,3950581602]
[null,"North","ARROZ (GRANEL)",null,null,null,null,null,null,null,null,null,null,null,null,null,null,null,null,null,null,null,null,null,null,null,null,null,null,null,null,null,null,null,null,null,null,null,null,null,null,null,0,0,0,0,0,0,0,0,0,0,0,0,0,0,0,0,0,0,0,0,0,0,0,0,0,0,0," -   "," -   ",0,0,0,0,0,0,0,0,0,0,0,0,0,0,0,0]
["Soybean meal","North","FARELO",4423007148,193678377,367783020,448916552,492667155,489188134,430945423,318436351,287095716,288844467,336430772,393091784,375929397,5478568850,376936122,383876280,484933614,552178829,485317783,407730849,487181295,403707540,408604791,506955395,479734531,501411821,5842847376.9899998,411597834,487858802,541378769,587368580,448932085,535740238,454516415,440809483,483767091,441058649,462549006,547270424.99000001,6145134981,423338642,410199022,570301515,578448165,529770737,548136369,520453233,445081033,474598482,510827643,590555140,543425000,6886159379,363276025,509029791,486277298,631979578,560637374,593687312,634418399,648878840,589678251,650993694,569981060,647321757,7777279887,420956546,585143809,646234334,714946179,681841556,749918903,776801909,668292667,606388208,504978270,709671133,712106373,3847688679,616911704,681605462,842747164,888108494,818315855]
["Corn meal","North","FARELO DE MILHO",null,null,null,null,null,null,null,null,null,null,null,null,null,null,null,null,null,null,null,null,null,null,null,null,null,null,null,null,null,null,null,null,null,null,null,null,null,null,null,20738520,0,0,0,0,0,0,0,0,0,0,0,20738520,18105539,18105539,0,0,0,0,0,0,0,0,0,0,0,0," -   "," -   ",0,0,0,0,0,0,0,0,0,0,0,0,0,0,0,0]
["Malt","North","MALTE",null,null,null,null,null,null,null,null,null,null,null,null,null,null,null,null,null,null,null,null,null,null,null,null,null,null,null,null,null,null,null,null,null,null,null,null,null,null,null,0,0,0,0,0,0,0,0,0,0,0,0,0,0,0,0,0,0,0,0,0,0,0,0,0,0,0," -   "," -   ",0,0,0,0,0,0,0,0,0,0,0,0,0,0,0,0]
["Corn","North","MILHO",9279823129,1467549536,83340510,215911,0,0,342919621,1895258647,1995592447,1814454157,625910379,433792284,620789637,14750410951,95217816,236173,0,0,8570985,1222626774,2076879188,2358834525,2268906638,2429828578,2258735240,2030575034,15827199318,449726126,60345404,0,0,33263967,327834185,2338284778,2729308960,2633316732,2236974232,2714745879,2303399055,17200169987,311415483,0,0,0,73686267,2404180160,3047943378,2859489239,2603795059,2501574468,2312322219,1085763714,15377221316,2202418,0,0,0,0,1431483015,2655903322,2522561961,2287604691,2236491828,2062630256,2178343825,12148339277,46987066,-4101496,0,0,0,507410742,2759041096,1917279679,1271083418,1665927635,1765215891,2219495246,1257159831,902488451,68266851,0,212223158,74181371]
["Soybean","North","SOJA",7883568604,120222678,1448886180,1997122848,2066705168,1550431132,513515466,44264498,0,0,0,22267163,120153471,9619942784,736998168,1866684282,2207902721,1937387225,1866756268,726641436,156565859,121006825,0,0,0,0,11088824840,694837468,1964176022,2375602179,2240421112,1693737641,1727740613,259049435,69389782,20492066,17936940,25441582,0,11329075133,1619327381,1925750604,2504528491,2071961682,1560872894,448376851,157900874,149310932,121168504,262369503,434619301,72888116,12567469882,1472773973,2608600729,1592445319,2621729823,2686582177,1073342213,362058149,72098883,77838616,0,0,0,15457285517,322163672,2775015668,3227204308,2882127691,2890063321,1899851119,63713626,76159353,147905245,318393515,592164099,262523900,14742564446,1746149042,3349398311,3485356832,3103575885,3058084376]
["Wheat","North","TRIGO",null,null,null,null,null,null,null,null,null,null,null,null,null,null,null,null,null,null,null,null,null,null,null,null,null,null,null,null,null,null,null,null,null,null,null,null,null,null,null,{"$f":"SUM(AR52:BC52)","v":0},0,0,0,0,0,0,0,0,0,0,0,0,{"$f":"SUM(BE52:BP52)","v":0},0,0,0,0,0,0,0,0,0,0,0,0,0," -   "," -   ",0,0,0,0,0,0,0,0,0,0,0,0,0,0,0,0]
["Soybean","North","ÓLEO VEGETAL",null,null,null,null,null,null,null,null,null,null,null,null,null,null,null,null,null,null,null,null,null,null,null,null,null,null,null,null,null,null,null,null,null,null,null,null,null,null,null,0,0,0,0,0,0,0,0,0,0,0,0,0,0,0,0,0,0,0,0,0,0,0,0,0,0,0," -   "," -   ",0,0,0,0,0,0,0,0,0,0,0,0,0,0,0,0]
[null,"North","GRUPO - INDUSTRIAL",29531823,13831614,14401249,860898,438062,0,0,0,0,0,0,0,0,168192431,0,0,0,0,0,0,0,0,0,28426654,62728277,77037500,1163357124,68292558,67976253,95264947,64045188,84316610,95016535,95178266,118682862,108359282,121621164,121621165,122982294,1457132603,117837067,87871504,120364590,127828508,123642793,111674753,117577907,111458707,127326846,140121410,130965777,140462741,1802789349,139977246,136904676,128017390,149560624,166061583,164224915,156265718,153533605,159924908,165670250,170801515,111846919,1894613342,136881319,137533041,162453901,148107456,155138456,143425612,159019983,179663840,166330686,178730335,166642053,160686660,925846752,160615888,175461051,210273075,184502103,194994635]
["Wood, pulp and paper","North","ARROZ (ENSACADO)",null,null,null,null,null,null,null,null,null,null,null,null,null,null,null,null,null,null,null,null,null,null,null,null,null,null,null,null,null,null,null,null,null,null,null,null,null,null,null,0,0,0,0,0,0,0,0,0,0,0,0,0,0,0,0,0,0,0,0,0,0,0,0,0,0,0," -   "," -   ",0,0,0,0,0,0,0,0,0,0,0,0,0,0,0,0]
["Wood, pulp and paper","North","CALCÁREO (IND)",null,null,null,null,null,null,null,null,null,null,null,null,null,null,null,null,null,null,null,null,null,null,null,null,null,null,null,null,null,null,null,null,null,null,null,null,null,null,null,0,0,0,0,0,0,0,0,0,0,0,0,0,0,0,0,0,0,0,0,0,0,0,0,0,0,0," -   "," -   ",0,0,0,0,0,0,0,0,0,0,0,0,0,0,0,0]
["Wood, pulp and paper","North","CELULOSE",27736742,13831614,13905128,0,0,0,0,0,0,0,0,0,0,168192431,0,0,0,0,0,0,0,0,0,28426654,62728277,77037500,1163357124,68292558,67976253,95264947,64045188,84316610,95016535,95178266,118682862,108359282,121621164,121621165,122982294,1457132603,117837067,87871504,120364590,127828508,123642793,111674753,117577907,111458707,127326846,140121410,130965777,140462741,1802789349,139977246,136904676,128017390,149560624,166061583,164224915,156265718,153533605,159924908,165670250,170801515,111846919,1894613342,136881319,137533041,162453901,148107456,155138456,143425612,159019983,179663840,166330686,178730335,166642053,160686660,925846752,160615888,175461051,210273075,184502103,194994635]
["Construction","North","CIMENTO",null,null,null,null,null,null,null,null,null,null,null,null,null,null,null,null,null,null,null,null,null,null,null,null,null,null,null,null,null,null,null,null,null,null,null,null,null,null,null,0,0,0,0,0,0,0,0,0,0,0,0,0,0,0,0,0,0,0,0,0,0,0,0,0,0,0," -   "," -   ",0,0,0,0,0,0,0,0,0,0,0,0,0,0,0,0]
["Construction","North","CLINQUER",null,null,null,null,null,null,null,null,null,null,null,null,null,null,null,null,null,null,null,null,null,null,null,null,null,null,null,null,null,null,null,null,null,null,null,null,null,null,null,0,0,0,0,0,0,0,0,0,0,0,0,0,0,0,0,0,0,0,0,0,0,0,0,0,0,0," -   "," -   ",0,0,0,0,0,0,0,0,0,0,0,0,0,0,0,0]
["Wood, pulp and paper","North","MADEIRA",null,null,null,null,null,null,null,null,null,null,null,null,null,null,null,null,null,null,null,null,null,null,null,null,null,null,null,null,null,null,null,null,null,null,null,null,null,null,null,0,0,0,0,0,0,0,0,0,0,0,0,0,0,0,0,0,0,0,0,0,0,0,0,0,0,0," -   "," -   ",0,0,0,0,0,0,0,0,0,0,0,0,0,0,0,0]
["Steel and mining","North","MINÉRIO",null,null,null,null,null,null,null,null,null,null,null,null,null,null,null,null,null,null,null,null,null,null,null,null,null,null,null,null,null,null,null,null,null,null,null,null,null,null,null,0,0,0,0,0,0,0,0,0,0,0,0,0,0,0,0,0,0,0,0,0,0,0,0,0,0,0," -   "," -   ",0,0,0,0,0,0,0,0,0,0,0,0,0,0,0,0]
["Wood, pulp and paper","North","OUTROS (IND)",null,null,null,null,null,null,null,null,null,null,null,null,null,null,null,null,null,null,null,null,null,null,null,null,null,null,null,null,null,null,null,null,null,null,null,null,null,null,null,0,0,0,0,0,0,0,0,0,0,0,0,0,0,0,0,0,0,0,0,0,0,0,0,0,0,0," -   "," -   ",0,0,0,0,0,0,0,0,0,0,0,0,0,0,0,0]
["Wood, pulp and paper","North","PAPEL",null,null,null,null,null,null,null,null,null,null,null,null,null,null,null,null,null,null,null,null,null,null,null,null,null,null,null,null,null,null,null,null,null,null,null,null,null,null,null,0,0,0,0,0,0,0,0,0,0,0,0,0,0,0,0,0,0,0,0,0,0,0,0,0,0,0," -   "," -   ",0,0,0,0,0,0,0,0,0,0,0,0,0,0,0,0]
["Steel and mining","North","SIDERÚRGICOS (IND)",1795081,0,496121,860898,438062,0,0,0,0,0,0,0,0,0,0,0,0,0,0,0,0,0,0,0,0,0,0,0,0,0,0,0,0,0,0,0,0,0,0,0,0,0,0,0,0,0,0,0,0,0,0,0,0,0,0,0,0,0,0,0,0,0,0,0,0,0," -   "," -   ",0,0,0,0,0,0,0,0,0,0,0,0,0,0,0,0]
["Fuels","North","GRUPO - LÍQUIDOS",2322753793,163501343,155485991,180905049,174405860,186595532,205499932,200243816,217126683,235692946,228402137,184006100,190888404,2392575792,216343811,200280660,209532830,172577407,187913776,213543205,213885738,213732363,186957479,231945735,171772472,174090316,2487241596,184661204,196613620,199541382,163413611,178578853,250731968,247233567,220870920,224573791,210833372,206240374,203948934,2394854043,214727624,190747151,186117944,161578410,188917056,207263095,223915068,217618050,212127541,214960964,196630596,180250544,2623183988,199573998,204431127,180157173,86776951,212114092,194238015,236819648,235783066,268569389,287460513,264057655,253202361,3380856882,253806150,258481409,247419169,265066802,277627364,291846052,302546663,311746479,302418391,314300673,265170361,290427369,1595279220,309632296,319696875,318014890,309102130,338833029]
[null,"North","GRUPO - OUTROS",null,null,null,null,null,null,null,null,null,null,null,null,null,null,null,null,null,null,null,null,null,null,null,null,null,null,null,null,null,null,null,null,null,null,null,null,null,null,null,1,0,0,0,0,0,0,0,0,0,0,0,1,23,1,2,2,2,2,2,2,2,2,2,2,2,22,5,3,3,2,2,1,1,1,1,1,1,1,6,1,1,1,2,1]
[null,"South","Total Produto",{"$f":"SUM(D68:D71,D80,D91)","v":12670375353},null,null,null,null,null,null,null,null,null,null,null,null,null,null,null,null,null,null,null,null,null,null,null,null,null,null,null,null,null,null,null,null,null,null,null,null,null,null,15202821718,993603519,1164187702,1273561267,1106518675,1152491820,1288020325,1511213711,1529218260,1404597216,1460508034,1363211968,955689221,14530454094,753377028,908005890,1055600779,1190026112,1413109069,1289932370,1406912234,1444681822,1387686801,1354485661,1330944527,995691801,14214438241,677516791,745279463,1383842011,1389076881,1488224394,1359075632,1400007548,1216597491,1243813882,1160317489,1073324087,1077362572,4876673689,876187346,961662272,1206974803,899032942,932816326]
["Sugar","South","GRUPO - AÇÚCAR",2619157020,120293853,26733607,75820767,120672378,193209423,229121332,300252283,343146511,345067545,295015152,258546722,311277447,2434752277,104562251,49086455,62909755,126234077,251547555,252217291,301191756,299776980,303588627,273692384,262142833,147802313,1788325456,60676674,64822328,39060700,90592958,189419363,210492326,207163869,222348948,207264568,212209473,121847746,162426503,1414900647,31659285,31551186,28254327,85080897,138414598,156148160,210091945,163188221,146524869,142173715,196391263,85422181,2331907174,86209055,45179594,59996580,119210742,236809853,207656864,206828320,232221494,312171925,307485698,290298645,227838404,2400676070,124338126,65841560,98681636,115143611,259411943,350267076,227935144,206643225,324431396,278001031,216084139,133897183,478598514,89617211,43413500,39997897,69821130,235748776]
["Containers","South","GRUPO - BRADO",631723930,50653873,58678363,65520111,64679544,57983925,61572875,48561618,48688919,48451738,46574927,42185833,38172204,474039635,43516576,39319431,48893445,38081878,42358692,42385509,40273501,45062682,35134611,34421081,29817316,34774913,573284673,29603095,39473430,43525417,47937315,39913617,50240031,52476263,54547399,54147602,55903395,52416510,53100599,718081766,50731259,49206107,56186679,56894692,59538119,58457293,64026665,67365781,71301328,63691011,62699147,57983685,890743581,63577574,62719521,60617430,74631833,76715235,81775490,84424302,79692530,79207929,80026895,78185827,69169015,831717610,71761609,79964935,74866251,80125343,76592073,70037726,71624945,66443760,57244092,59003812,61449130,62603934,418084568,76499689,79542843,83331629,87451540,91258867]
["Fertilizers","South","GRUPO - FERTILIZANTES",814939100,28277886,17986273,20430346,22496891,61922969,79419138,91515181,95034592,123820635,98535259,98943488,76556442,683653693,67081150,37347427,30187374,69954742,69651088,49094098,51279952,55388520,60182641,70693725,63823446,58969530,703952816,67919034,48889296,34909110,46184304,46967555,62576874,64986689,70255047,64720101,56299767,77220560,63024479,671293484,86707383,43116118,30368772,31266365,63116757,61511866,65124579,60439183,74380338,55555972,56552372,43153779,555910902,64598429,48203579,17727727,44324475,48827144,42473880,48914628,44102089,44816847,52420682,57102867,42398555,598208921,57805561,43193843,6056070,23393469,39573596,56207516,61475788,87308955,69723346,62420209,51259219,39791349,221821848,48106422,59060835,35789254,29916379,48948958]
[null,"South","GRUPO - GRÃOS",4936195759,354947558,554687577,661632722,625772664,542518583,476353708,435782296,447051847,294446094,217847630,172353920,152801160,6952601521,207582030,502473019,717073322,613872658,580946915,588153344,676294534,709887393,706615526,589080736,516608986,544013058,8300394869,452523565,541257209,838413478,805319304,728441992,718967879,765153289,784931443,731038227,719596070,685519956,529232457,8253326729,495234084,721112879,830646326,614760930,547898319,657618980,801211937,836545427,739789217,815914292,721238843,471355495,7505845004,233258302,493383706,728483914,746813604,810618751,716846243,776714351,784881546,635245688,594626584,596876740,388095575,6741539697,118188630,260733594,874122256,859181040,773398736,571328995,729446171,534964433,497003155,469466135,467569570,586136982,2492388283,411393054,565772142,778175290,464676439,272371358]
[null,"South","ARROZ (GRANEL)",null,null,null,null,null,null,null,null,null,null,null,null,null,null,null,null,null,null,null,null,null,null,null,null,null,null,null,null,null,null,null,null,null,null,null,null,null,null,null,0,0,0,0,0,0,0,0,0,0,0,0,0,0,0,0,0,0,0,0,0,0,0,0,0,0,0," -   "," -   ",0,0,0,0,0,0,0,0,0,0,0,0,0,0,0,0]
["Soybean meal","South","FARELO",425732797,22585139,27253985,38939645,42599338,37227481,42020554,35790398,29212686,33941998,41330552,45895745,28935276,344576107,25726133,23371234,33055447,36291561,34637471,30142350,33622656,25109132,25814255,22813295,26348351,27644222,528722084,34667282,27340376,37083433,44805670,50747231,48932203,55155977,45404408,40653373,34549921,53257155,56125055,715899772,37872918,36030687,51921366,53452487,49568281,81832305,77417070,49447999,68021610,82493911,74181278,53659860,643811267,39104826,31946692,75683286,31554860,71127644,55672431,72948113,61470131,71912588,61147982,44395409,26847305,734522935,24034062,17803749,58240446,71722392,74144558,76939861,64156571,76500015,81550635,82386434,56700791,50343421,315583935,43337871,42161555,79061310,80220908,70802291]
["Corn meal","South","FARELO DE MILHO",null,null,null,null,null,null,null,null,null,null,null,null,null,null,null,null,null,null,null,null,null,null,null,null,null,null,null,null,null,null,null,null,null,null,null,null,null,null,null,null,null,null,null,null,null,null,null,null,null,null,null,null,null,0,0,0,0,0,0,0,0,0,0,0,0,0," -   "," -   ",0,0,0,0,0,0,0,0,0,0,null,0,0,0,0,0]
["Malt","South","MALTE",1118223,0,0,0,0,0,0,0,0,0,1118223,0,0,0,0,0,0,0,0,0,0,0,0,0,0,0,0,0,0,0,0,0,0,0,0,0,0,0,0,{"$f":"SUM(AR75:BC75)","v":0},0,0,0,0,0,0,0,0,0,0,0,0,{"$f":"SUM(BE75:BP75)","v":0},0,0,0,0,0,0,0,0,0,0,0,0,0," -   "," -   ",0,0,0,0,0,0,0,0,0,0,{"$f":"SUM(CE75:CP75)","v":0},0,0,0,0,0]
["Corn","South","MILHO",935574202,240975804,63792640,1228532,0,0,306374,83198401,235058510,130384844,80026790,48609551,51992756,1664416016,18163383,6569635,0,0,39816,12185880,179778587,357785534,502674582,358044919,120665587,108508093,605836986,159796749,13408427,0,0,473211,0,3127583,74219267,98120825,11823906,83352143,161514875,2345657927,103928662,74140707,15008298,34903503,38076256,171724498,396718051,482974540,359590034,256077696,256590564,155925118,1796235506,58266332,73095562,14966994,0,30471,0,51366173,265050328,313654082,371589252,406772380,241443932,390288778,77983242,77381084,6976461,0,0,206098,0,27584925,16786197,25517578,36827679,121025514,249210167,61161329,824,46083473,108039944,33924597]
["Soybean","South","SOJA",3480585304,49068928,461308481,616952687,581499394,503640463,432260222,314945426,180625179,129292939,94551349,62365326,54074910,4780948770,113040549,404008261,668273903,575142700,544093070,543931227,460163252,325690953,177885711,207324380,364243137,397151627,7034263673,238315002,494383767,800785572,759851274,675611264,668464819,705220007,664066963,589639892,670968191,512310623,254646299,5111242230,320816893,607208655,762894856,525604381,460253782,404062177,327076816,304122888,311692633,476964047,384537059,226008043,4885605087,112226422,386541296,637833634,715258744,739460636,661173812,652400065,458361087,249679018,149427977,69608678,53633718,5435106587,12514155,165548761,808905349,787458648,699254178,494183036,665289600,430879493,398666323,360466519,300186645,311753880,1654321350,208873177,400834009,607436544,270459844,166717776]
["Wheat","South","TRIGO",76524334,41988754,1379574,2484418,0,0,0,0,0,0,0,14076225,16595363,144137874,49240961,66897076,13417951,0,0,0,0,0,0,0,4788405,9793481,116573659,18765000,5009209,0,0,0,0,0,0,0,0,36464420,56335030,75718645,30577094,3732830,0,0,0,0,0,0,0,0,5788090,35620631,180193144,23660722,1800156,0,0,0,0,0,0,0,12461373,76100273,66170620,181621397,3657171," -   ",0,0,0,0,0,0,0,1095604,73854455,103014167,273272831,98020677,122775754,45593963,5955743,926694]
["Soybean","South","ÓLEO VEGETAL",16660899,328933,952897,2027440,1673932,1650639,1766558,1848071,2155472,826313,820716,1407073,1202855,18522754,1411004,1626813,2326021,2438397,2176558,1893887,2730039,1301774,240978,898142,563506,915635,14998467,979532,1115430,544473,662360,1610286,1570857,1649722,1240805,2624137,2254052,135615,611198,4808155,2038517,0,821806,800559,0,0,0,0,484940,378638,141852,141843,0,0,0,0,0,0,0,0,0,0,0,0,0,{"$f":"SUM(BR79:CC79)","v":0}," -   "," -   ",0,0,0,0,0,0,0,0,0,0,0,0,0,0,0,0]
[null,"South","GRUPO - INDUSTRIAL",1661115669,87400143,99324917,115963110,120816836,129418789,140842872,172400540,175132225,161253546,163644056,154733873,140184762,1951296175,143950006,111904479,149819310,152267058,179305408,162524672,176861648,181297448,180508581,180315487,160464931,172077147,1907222201,167968186,150528834,132894942,137775870,134401626,171511331,161467215,177768111,165366563,181552045,168581736,157405742,1851723420,158853386,141843356,150011543,132409157,149112335,164983223,155967671,176226423,162563870,170517366,152734264,136500826,1501957434,147873686,104458764,92709097,89290515,109337854,99846905,140700761,154875926,156766386,150956789,143656414,111484337,1724763122,145781392,138907887,158477472,165800722,169926690,154438010,146879710,154759973,126887889,127022722,123853942,112026713,509410384,105242543,75424740,115797413,102584039,110361649]
["Wood, pulp and paper","South","ARROZ (ENSACADO)",2949823,2867029,82794,0,0,0,0,0,0,0,0,0,0,0,0,0,0,0,0,0,0,0,0,0,0,0,0,0,0,0,0,0,0,0,0,0,0,0,0,0,0,0,0,0,0,0,0,0,0,0,0,0,0,0,0,0,0,0,0,0,0,0,0,0,0,0," -   "," -   ",0,0,0,0,0,0,0,0,0,0,0,0,0,0,0,0]
["Wood, pulp and paper","South","CALCÁREO (IND)",6322851,518815,415052,793481,389493,377690,188845,678662,389493,1003240,1078263,489817,0,3316593,495719,483916,631451,507521,489817,177042,177042,354085,0,0,0,0,0,0,0,0,0,0,0,0,0,0,0,0,0,0,0,0,0,0,0,0,0,0,0,0,0,0,0,0,0,0,0,0,0,0,0,0,0,0,0,0," -   "," -   ",0,0,0,0,0,0,0,0,0,0,0,0,0,0,0,0]
["Wood, pulp and paper","South","CELULOSE",816494824,35808648,39468896,52726968,53897960,67886981,68516859,90106159,88751216,81277483,85430901,81173089,71449664,999011305,66184266,42196771,73607079,77942519,91665532,88958897,90708861,94651136,96334750,93099720,87427345,96234429,1015571259,93788547,85493603,56390697,66413343,56414753,95271071,84781268,105084556,90776336,99935902,88300899,92920284,983852495,87367407,74329041,84445128,70886548,76339153,82758572,75037269,88602018,84258657,86954139,87908630,84965933,685608290,81487996,38670603,34737674,16049404,35203684,33983635,73206428,83106746,86564172,79177233,77082267,46338448,779545152,79039736,74568740,74194893,82483877,82267655,72881085,60175027,75382768,50178054,46641478,43288107,38443732,141578820,32393967,7843381,35634661,33682140,32024671]
["Construction","South","CIMENTO",406012747,25021266,31096223,29058565,30832058,29756097,34507802,41185458,38898023,38650417,37674924,36084035,33247879,400515925,37076222,31980842,34680656,32850063,33627611,31870072,37261484,37759830,34472653,36542385,22153808,30240299,369321166,23693006,27252428,34011328,27853962,29987612,30005187,33774298,35088519,33992573,31709538,34384484,27568231,399159313,30108220,30993666,29339409,32321400,33222594,35394924,34137492,37939603,36582649,37524016,34164652,27430688,409068317,32280331,32413036,22015789,34776696,38813822,35975094,33772093,36324975,34265900,42201389,36708183,29521009,452123929,35882849,30382099,39176060,39256930,39572747,35937522,41340096,40205117,40070608,36464096,37824009,36011796,186892920,35300087,32847683,39095869,36074466,43574815]
["Construction","South","CLINQUER",268353756,11125714,14730836,22055745,21417587,19434678,25563960,23592094,30229781,27228373,23891311,24944558,24139119,310508595,28589788,23594240,24919905,23344695,31976498,18795045,26501542,24642464,26107876,27610298,29377714,25048530,255138924,29037669,20837751,22022316,22468443,21611727,22031745,15691852,11400157,20164956,30130241,25284496,14457571,245003344,24320952,20734556,24555766,10913353,19713320,21634621,22731986,24647846,19582849,21916588,14562899,19688608,264669342,20505114,23210996,18758407,17424984,24623111,18618729,18058073,22284230,22391212,28358231,25170330,25265925,313803126,22026355,24392857,27157676,26964901,25512579,26523240,25091759,28576293,29217855,28707008,27156655,22475948,119705457,23195136,28341185,23612286,21756721,22800129]
["Wood, pulp and paper","South","MADEIRA",null,null,null,null,null,null,null,null,null,null,null,null,null,null,null,null,null,null,null,null,null,null,null,null,null,null,null,null,null,null,null,null,null,null,null,null,null,null,null,0,0,0,0,0,0,0,0,0,0,0,0,0,0,0,0,0,0,0,0,0,0,0,0,0,0,0," -   "," -   ",0,0,0,0,0,0,0,0,0,0,0,0,0,0,0,0]
["Steel and mining","South","MINÉRIO",112605614,8654285,5996943,7605219,8033596,10460080,10554157,11605112,12365736,10089216,9332464,9337280,8571526,138588620,10252237,10657173,10507877,10259738,12089552,13082477,12270250,12224950,12088373,11726467,11907335,11522191,151769895,11811008,11045769,11749875,12837948,14275751,12224975,12901107,13060754,13039535,13480931,12660792,12681450,117820494,8041064,5543822,7739533,10358154,10314870,12220594,14084214,13465750,12336298,11216516,9628252,2871427,87288883,4717469,8886288,6956271,12504445,8637286,7780446,10197150,11211115,11035614,1219936,0,4142863,102196893,4186979,8048101,9409452,10241687,10999764,9911305,10984066,10283557,7421372,8326710,6191281,6192619,42035846,6707243,6392491,8366090,8607988,11962034]
["Wood, pulp and paper","South","OUTROS (IND)",2840497,76988,1044257,0,1719252,0,0,0,0,0,0,0,0,0,0,0,0,0,0,0,0,0,0,0,0,0,24807,0,0,0,0,0,0,0,24807,0,0,0,0,0,0,0,0,0,0,0,0,0,0,0,0,0,7586,0,0,0,0,0,0,0,0,0,0,7586,0,0," -   "," -   ",0,0,0,0,0,0,0,0,0,0,0,0,0,0,0,0]
["Wood, pulp and paper","South","PAPEL",null,null,null,null,null,null,null,null,null,null,null,null,null,null,null,null,null,null,null,null,null,null,null,null,null,null,null,null,null,null,null,null,null,null,null,null,null,null,null,0,0,0,0,0,0,0,0,0,0,0,0,0,0,0,0,0,0,0,0,0,0,0,0,0,0,0," -   "," -   ",0,0,0,0,0,0,0,0,0,0,0,0,0,0,0,0]
["Steel and mining","South","SIDERÚRGICOS (IND)",45535557,3327398,6489916,3723132,4526890,1503263,1511249,5233055,4497976,3004817,6236193,2705094,2776574,99355137,1351774,2991537,5472342,7362522,9456398,9641139,9942469,11664983,11504929,11336617,9598729,9031698,115396150,9637956,5899283,8720726,8202174,12111783,11978353,14318690,13109318,7393163,6295433,7951065,9778206,105887774,9015743,10242271,3931707,7929702,9522398,12974512,9976710,11571206,9803417,12906107,6469831,1544170,55315016,8882776,1277841,10240956,8534986,2059951,3489001,5467017,1948860,2509488,0,4688048,6216092,77094022,4645473,1516090,8539391,6853327,11573945,9184858,9288762,312238,0,6883430,9393890,8902618,19197341,7646110,0,9088507,2462724,0]
["Fuels","South","GRUPO - LÍQUIDOS",2007243875,141026849,158187649,164003404,152207106,165906353,177592191,189759368,185810685,183298305,182146846,162342351,144962768,1971718577,143628945,132900733,144560417,137946083,163325928,145708583,191221402,191705138,186272112,203974715,171531956,158942565,2052549558,158606315,161694107,166599616,153606625,144449736,168885791,177638538,193325905,195904583,185029835,169638966,177169541,2293495672,170418122,177358056,178093620,186106634,194411692,189300803,214790914,225453225,210037594,212655678,173596079,161273255,1744089988,157859982,154060725,96066030,115754942,130800231,141332987,149329871,148908236,159478025,168969012,164824033,156705914,1917532816,159641472,156637643,171638325,145432695,169321355,156796309,162645790,166477145,168524004,164403580,153108087,142906411,756370092,145328427,138448212,153883320,144583415,174126718]
[null,"South","GRUPO - OUTROS",null,null,null,null,null,null,null,null,null,null,null,null,null,null,null,null,null,null,null,null,null,null,null,null,null,null,null,null,null,null,null,null,null,null,null,null,null,null,null,0,0,0,0,0,0,0,0,0,0,0,0,0,11,0,1,1,1,1,1,1,1,1,1,1,1,5,1,1,1,1,1,0,0,0,0,0,0,0,0,0,0,0,0,0]
[null,null,null,null,null,null,null,null,null,null,null,null,null,null,null,null,null,null,null,null,null,null,null,null,null,null,null,null,null,null,null,null,null,null,null,null,null,null,null,null,null,null,null,null,null,null,null,null,null,null,null,null,null,null,null,null,null,null,null,null,null,null,null,null,null,null,null,null,null,null,null,null,null,null,"","","","","","","",null,"","","","",""]
[null,null,null,null,null,null,null,null,null,null,null,null,null,null,null,null,null,null,null,null,null,null,null,null,null,null,null,null,null,null,null,null,null,null,null,null,null,null,null,null,null,null,null,null,null,null,null,null,null,null,null,null,null,null,null,null,null,null,null,null,null,null,null,null,null,null,null,null,null,null,null,null,null,null,"","","","","","","",null,"","","","",""]
[null,null,null,null,null,null,null,null,null,null,null,null,null,null,null,null,null,null,null,null,null,null,null,null,null,null,null,null,null,null,null,null,null,null,null,null,null,null,null,null,null,null,null,null,null,null,null,null,null,null,null,null,null,null,null,null,null,null,null,null,null,null,null,null,null,null,null,null,null,null,null,null,null,null,"","","","","","","",null,"","","","",""]
[null,null,null,null,null,null,null,null,null,null,null,null,null,null,null,null,null,null,null,null,null,null,null,null,null,null,null,null,null,null,null,null,null,null,null,null,null,null,null,null,null,null,null,null,null,null,null,null,null,null,null,null,null,null,null,null,null,null,null,null,null,null,null,null,null,null,null,null,null,null,null,null,null,null,"","","","","","","",null,"","","","",""]
[null,null,null,null,null,null,null,null,null,null,null,null,null,null,null,null,null,null,null,null,null,null,null,null,null,null,null,null,null,null,null,null,null,null,null,null,null,null,null,null,null,null,null,null,null,null,null,null,null,null,null,null,null,null,null,null,null,null,null,null,null,null,null,null,null,null,null,null,null,null,null,null,null,null,"","","","","","","",null,"","","","",""]
[null,null,null,null,null,null,null,null,null,null,null,null,null,null,null,null,null,null,null,null,null,null,null,null,null,null,null,null,null,null,null,null,null,null,null,null,null,null,null,null,null,null,null,null,null,null,null,null,null,null,null,null,null,null,null,null,null,null,null,null,null,null,null,null,null,null,null,null,null,null,null,null,null,null,"","","","","","","",null,"","","","",""]
[null,null,null,null,null,null,null,null,null,null,null,null,null,null,null,null,null,null,null,null,null,null,null,null,null,null,null,null,null,null,null,null,null,null,null,null,null,null,null,null,null,null,null,null,null,null,null,null,null,null,null,null,null,null,null,null,null,null,null,null,null,null,null,null,null,null,null,null,null,null,null,null,null,null,"","","","","","","",null,"","","","",""]
[null,null,null,null,null,null,null,null,null,null,null,null,null,null,null,null,null,null,null,null,null,null,null,null,null,null,null,null,null,null,null,null,null,null,null,null,null,null,null,null,null,null,null,null,null,null,null,null,null,null,null,null,null,null,null,null,null,null,null,null,null,null,null,null,null,null,null,null,null,null,null,null,null,null,"","","","","","","",null,"","","","",""]

{"sheet":"Base TU","index":4,"n_rows":100,"n_cols":94,"rows_kept":100,"cut":false,"hidden":true,"merged":[]}
[null,"CUBE:","Cosan_Logistica:CLOG.ACO.116.VOLUMETRIA.FLUXO"]
[null,"CLOG.D.ACO.VERSAO","R"]
[null,"ALL.D.TEMPO.ANO","2019"]
[null,"CLOG.M.ACO.VOLUMETRIA.FLUXO","Toneladas Úteis"]
[null,"CLOG.D.ACO.MODAL","Total Modal"]
[null,"CLOG.D.ALL.CORREDOR","Total Corredor"]
[null,"CLOG.D.ACO.GERENCIA","Total Gerencia"]
[null,"CLOG.D.ALL.EMPRESA","Total Empresa"]
[null,"CLOG.D.ACO.ORIGEM","Total Origem"]
[null,"CLOG.D.ACO.DESTINO","Total Destino",null,null,null,null,null,null,null,null,null,null,null,null,null,null,null,null,null,null,null,null,null,null,null,null,null,null,null,null,null,null,null,null,null,null,null,null,null,null,null,{"$f":"SUM(AQ21:AQ27)","v":34986351}]
[null,"CLOG.D.ALL.CLIENTE.HIERARQUIA","Total Clientes",{"$f":"D15/1000","v":42839.826999999997},null,null,null,null,null,null,null,null,null,null,null,null,null,null,null,null,null,null,null,null,null,null,null,null,null,null,null,null,null,null,null,null,null,null,null,null,null,null,{"$f":"AQ10-AQ19","v":0}]
[]
[null,null,null,"2016","2016","2016","2016","2016","2016","2016","2016","2016","2016","2016","2016","2016","2017","2017","2017","2017","2017","2017","2017","2017","2017","2017","2017","2017","2017","2018","2018","2018","2018","2018","2018","2018","2018","2018","2018","2018","2018","2018","2019","2019","2019","2019","2019","2019","2019","2019","2019","2019","2019","2019","2019",2020,2020,2020,2020,2020,2020,2020,2020,2020,2020,2020,2020,2020,2021,2021,2021,2021,2021,2021,2021,2021,2021,2021,2021,2021,2021,2022,2022,2022,2022,2022,2022,2022,2022,2022,2022,2022,2022,2022]
["Classificação RI","Operação","Produto","Total Ano","Janeiro","Fevereiro","Março","Abril","Maio","Junho","Julho","Agosto","Setembro","Outubro","Novembro","Dezembro","Total Ano","Janeiro","Fevereiro","Março","Abril","Maio","Junho","Julho","Agosto","Setembro","Outubro","Novembro","Dezembro","Total Ano","Janeiro","Fevereiro","Março","Abril","Maio","Junho","Julho","Agosto","Setembro","Outubro","Novembro","Dezembro","Total Ano","Janeiro","Fevereiro","Março","Abril","Maio","Junho","Julho","Agosto","Setembro","Outubro","Novembro","Dezembro","Total Ano","Janeiro","Fevereiro","Março","Abril","Maio","Junho","Julho","Agosto","Setembro","Outubro","Novembro","Dezembro","Total Ano","Janeiro","Fevereiro","Março","Abril","Maio","Junho","Julho","Agosto","Setembro","Outubro","Novembro","Dezembro","Total Ano","Janeiro","Fevereiro","Março","Abril","Maio","Junho","Julho","Agosto","Setembro","Outubro","Novembro","Dezembro"]
[null,"Total Operação","Total Produto",{"$f":"SUM(D16:D19,D28,D39)","v":42839827},2909195,3118678,3786354,3852707,3858808,3662245,4102771,4293940,3969024,3362126,2991012,2932967,49916667,2665303,3365751,4003834,3976033,4472596,4244218,4614947,4804302,4628689,4713498,4318150,4109346,55947062.870000005,3411579,3955592,4605648,4521491,4470570,4918535,5150157,5334012,5105982,4939817,4954209,4579470.87,57674040,3939472,3916737,4849313,4535711,4343282,{"$f":"SUM(AW16:AW19,AW28,AW39)","v":5204070},5792147,5571448,5121817,5346719,5206275,3847049,58971506,3427970,4438827,3727259,4924017,5475921,{"$f":"SUM(BJ16:BJ19,BJ28,BJ39)","v":5076795},5666912,5622310,5569597,5452470,5057380,4545044,{"$f":"SUM(BR15:CC15)","v":60415813},2801243,4187892,5588569,5690662,6090703,5617700,5803075,5127593,4722700,4897105,4953457,4935114,{"$f":"SUM(CE15:CP15)","v":26432703},4532798,5227983,5999865,5173067,5498990]
["Açúcar","Total Operação","GRUPO - AÇÚCAR",8072442,343242,222585,259319,317087,643207,906712,757607,841564,869160,1096123,960168,855668,5963968,426322,173794,156527,329557,818796,636714,584453,613090,630287,583240,567451,443737,5421906,502699,297032,221357,254703,640705,692891,483193,488120,525604,601848,340061,373693,{"$f":"SUM(AR16:BC16)","v":4330901},214299,124412,226788,394368,479400,380569,437485,351409,381160,350455,398869,591687,{"$f":"SUM(BE16:BP16)","v":7905803},400380,266399,217003,360523,650204,535263,496440,772580,1080281,1204582,1090213,831935,7409506,611047,150060,236763,359128,856177,988539,512902,618459,995621,883475,754712,442623,1402777,338615,99457,209496,170348,584861]
["Contêiner","Total Operação","GRUPO - BRADO",1890030,140195,164418,177748,166389,169424,172846,165297,157873,147810,153987,147326,126717,1874401,150226,132312,147850,156883,180308,166727,165137,183179,159231,163311,137260,131977,2215465,89718,182692,178786,190065,156919,175007,211278,223106,208607,207629,195324,196334,{"$f":"SUM(AR17:BC17)","v":2760212},187554,180199,228287,224428,229675,214065,245958,259337,259730,246879,248910,235190,{"$f":"SUM(BE17:BP17)","v":2815422},230731,220654,205364,198601,191265,247279,259381,249148,257894,251529,262504,241072,2938110,226125,230441,224831,262335,248245,254400,258294,269739,238696,236397,236833,251774,1407593,252933,272303,291513,287886,302958]
["Fertilizantes","Total Operação","GRUPO - FERTILIZANTES",1256096,40016,26385,29764,37642,94591,118747,135369,148985,195932,149495,157230,121940,1098466,101564,70693,52874,118539,108350,77277,76747,91299,99471,110258,95177,96217,1771057,101394,79975,58163,72632,110302,142225,211946,215261,148045,152613,217358,261143,2767790,232575,136288,143889,188620,288450,275754,306307,261451,176593,218018,247828,292017,3175245,272865,211188,101229,247228,315437,290390,314708,229656,247761,322071,313087,309625,3577849,329630,282826,157013,189655,225313,246636,419222,452011,347360,349707,294137,284339,1319863,256330,305630,267940,141700,348263]
[null,"Total Operação","GRUPO - GRÃOS",20990429,1645675,1981565,2502887,2532228,2081208,1532509,2040724,2099254,1772006,983658,827441,991274,29107599,1080575,2165245,2744400,2497583,2370027,2370213,2729234,2841030,2700502,2722367,2494072,2392351,33455967.870000001,1699704,2394888,3107593,3028088,2525771,2772315,3099422,3221459,3082493,2808385,3079691,2636158.87,{"$f":"SUM(AR19:BC19)","v":34986351},{"$f":"SUM(AR20:AR27)","v":2302664},{"$f":"SUM(AS20:AS27)","v":2599055},3268939,2694942,2270283,3203427,3620506,3481111,3138609,3341317,3234230,1831268,33484800,{"$f":"SUM(BE20:BE27)","v":1566751},{"$f":"SUM(BF20:BF27)","v":2762641},2434815,3243566,3338502,3057626,3504679,3235460,2827259,2702586,2488686,2335225,33559900,695966,2511706,3860998,3769070,3574512,3023267,3462505,2588804,2084343,2338400,2675211,2975118,16990747,2705288,3616369,4100734,3506611,3061745]
[null,"Total Operação","ARROZ (GRANEL)",null,null,null,null,null,null,null,null,null,null,null,null,null,null,null,null,null,null,null,null,null,null,null,null,null,null,null,null,null,null,null,null,null,null,null,null,null,null,null,{"$f":"SUM(AR20:BC20)","v":0},0,0,0,0,0,0,0,0,0,0,0,0,0,0,0,0,0,0,0,0,0,0,0,0,0,0," -   "," -   ",0,0,0,0,0,0,0,0,0,0,0,0,0,0,0,0]
["Farelo de Soja","Total Operação","FARELO",3969992,201066,310159,390723,434669,400653,377341,297404,251399,277005,338686,367552,323335,4686011,322857,338253,416847,466624,421607,358040,416762,337641,342962,421263,414328,428827,5226408.87,371792,412188,466139,510473,422164,464212,426054,411507,435918,374367,432493,499101.87000000005,5754347,393573,393024,521646,521301,488445,550633,519305,401116,463474,492409,536874,472547,6022027,362151,453770,477683,539117,540876,536495,571586,534123,518579,548966,450418,488263,6560650,334876,419029,529527,603179,582252,628711,646094,587620,560413,503838,586561,578550,3143469,483861,530605,705742,737503,685758]
["Farelo de Milho","Total Operação","FARELO DE MILHO",null,null,null,null,null,null,null,null,null,null,null,null,null,null,null,null,null,null,null,null,null,null,null,null,null,null,null,null,null,null,null,null,null,null,null,null,null,null,null,{"$f":"SUM(AR22:BC22)","v":14886},0,0,0,0,0,0,0,0,0,null,0,14886,null,12996,0,0,0,0,0,0,0,0,0,0,0,0," -   "," -   ",0,0,0,0,0,0,0,0,0,0,0,0,0,0,0,0]
["Malte","Total Operação","MALTE",2311,0,0,0,0,0,0,0,0,0,2311,0,0,0,0,0,0,0,0,0,0,0,0,0,0,0,0,0,0,0,0,0,0,0,0,0,0,0,0,0,0,0,0,0,0,0,0,0,0,0,0,0,0,0,0,0,0,0,0,0,0,0,0,0,0,0," -   "," -   ",0,0,0,0,0,0,0,0,0,0,0,0,0,0,0,0]
["Milho","Total Operação","MILHO",7114355,1245723,140909,1682,0,0,213883,1271999,1588841,1316650,510670,344112,479886,11458575,85296,8797,0,0,7293,780246,1542625,1971538,2109089,1993773,1553793,1406125,10759302,511871,58203,0,0,22684,227177,1437771,1791480,1790353,1424964,1820700,1674099,14257220,388763,106889,21357,59186,105342,1738048,2489866,2524502,2139600,1938564,1831686,913417,12264145,88580,102557,20269,0,41,869988,1771947,1999554,1911519,1934609,1869337,1695744,8391260,141408,101243,9765,0,0,319694,1776466,1342011,861572,1088342,1144566,1606193,1200620,693464,46286,65640,293175,102055]
["Soja","Total Operação","SOJA",9778680,142225,1526682,2103585,2093133,1677153,937865,467438,255206,176779,130487,104449,163678,12732867,606111,1731574,2304734,2025913,1936062,1226966,764236,528953,247404,303428,517462,540024,17246325,785626,1914150,2639088,2514737,2076437,2077205,1230710,1014386,849151,1002931,768766,373138,14833359,1468302,2093722,2724675,2113227,1676496,914746,611335,555493,533428,908699,857215,376021,14939229,1062084,2204041,1936863,2704449,2797585,1651143,1161146,701783,397161,201998,62343,58633,18338263,214729,1991434,3321706,3165891,2992260,2074862,1039945,659173,662358,744836,832779,638290,12263631,1389925,2866913,3266186,2467930,2272677]
["Trigo","Total Operação","TRIGO",92438,56140,1934,2974,0,0,0,0,0,0,0,9121,22269,183475,62998,82959,18082,0,0,0,0,0,0,0,6040,13396,178882,27410,6784,0,0,0,0,0,0,0,0,57524,87164,113925,46885,5420,0,0,0,0,0,0,0,0,7839,53781,259399,40940,2273,0,0,0,0,0,0,0,17013,106588,92585,269727,4953," -   ",0,0,0,0,0,0,0,1384,111305,152085,383027,138038,172565,63166,8003,1255]
["Soja","Total Operação","ÓLEO VEGETAL",32653,521,1881,3923,4426,3402,3420,3883,3808,1572,1504,2207,2106,46671,3313,3662,4737,5046,5065,4961,5611,2898,1047,3903,2449,3979,45050,3005,3563,2366,2878,4486,3721,4887,4086,7071,6123,208,2656,12614,5141,0,1261,1228,0,0,0,0,2107,1645,616,616,0,0,0,0,0,0,0,0,0,0,0,0,0,0," -   "," -   ",0,0,0,0,0,0,0,0,0,0,0,0,0,0,0,0]
[null,"Total Operação","GRUPO - INDUSTRIAL",5071902,336172,292087,344432,357790,421952,446109,518004,541290,477514,468696,447294,420562,6233038,468193,420698,459860,464072,533317,533300,539131,540725,534650,566341,568850,603901,7510581,585337,546257,557252,561091,616026,634201,628436,697369,658850,703942,666053,655767,7036358,544671,439346,526163,574601,592158,631919,659398,685781,664252,664911,603827,449331,6345257,495547,515993,446390,587356,570430,536935,631911,668288,664319,451123,408596,368369,6988375,466725,532534,632507,643636,675712,607852,635314,664834,549104,575232,511805,493120,2765338,494213,449164,603824,561200,656937]
["Madeira, Papel e Celulose","Total Operação","ARROZ (ENSACADO)",1665,1623,42,0,0,0,0,0,0,0,0,0,0,0,0,0,0,0,0,0,0,0,0,0,0,0,0,0,0,0,0,0,0,0,0,0,0,0,0,0,0,0,0,0,0,0,0,0,0,0,0,0,0,0,0,0,0,0,0,0,0,0,0,0,0,0," -   "," -   ",0,0,0,0,0,0,0,0,0,0,0,0,0,0,0,0]
["Madeira, Papel e Celulose","Total Operação","CALCÁREO (IND)",46068,3740,2992,5720,2904,2816,1408,5060,2904,7480,7392,3652,0,24728,3696,3608,4708,3784,3652,1320,1320,2640,0,0,0,0,0,0,0,0,0,0,0,0,0,0,0,0,0,0,0,0,0,0,0,0,0,0,0,0,0,0,0,0,0,0,0,0,0,0,0,0,0,0,0,0," -   "," -   ",0,0,0,0,0,0,0,0,0,0,0,0,0,0,0,0]
["Madeira, Papel e Celulose","Total Operação","CELULOSE",1130712,54928,59084,58716,60020,80060,89400,124684,128588,116056,127276,115520,116380,1733132,117576,74704,105112,119472,139980,135608,136868,136836,147088,178596,203292,238000,2864419,218791,202264,180324,171288,189148,257744,234740,300676,259936,292320,272892,284296,3124364,261552,219112,267040,249308,254196,245808,229320,260012,271520,293312,284940,288244,3135548,277460,217452,218276,199660,261830,257296,297386,304644,307790,302316,302868,188570,3363570,277146,272464,295072,288312,298506,273600,271676,321386,269282,280386,262668,253072,1329278,245434,211342,310002,277230,285270]
["Construção Civil","Total Operação","CIMENTO",796450,51960,59887,59205,61661,57595,68650,76161,78110,74915,73999,68651,65656,770394,70778,61523,67337,65785,64955,60826,71753,74683,64073,69366,41493,57822,719827,46667,54405,66526,52833,58136,57165,65630,69407,66327,61833,67113,53785,797494,58843,59373,55397,64214,65604,67011,69113,76419,75952,76399,71587,57582,818429,66430,66962,40409,71088,75191,71841,69218,73803,69638,82218,73881,57750,913949,70642,60876,79515,80601,82658,71946,81896,82180,79629,72821,77334,73851,376524,71602,67550,79139,71224,87009]
["Construção Civil","Total Operação","CLINQUER",298325,12038,15421,24830,24206,21349,28373,26642,33287,30294,26831,28417,26637,348772,30634,25904,26945,26618,36199,21453,30095,27898,29843,30939,33564,28680,287754,33068,23767,24856,25351,24161,24791,17865,13160,22895,33504,28274,16062,270799,27361,22733,27247,11840,21917,23499,25201,27534,21762,24160,15869,21676,294483,22840,25849,20395,19331,27277,20682,20155,24846,24973,31701,28081,28353,352156,24694,27343,30499,30285,28615,29766,28110,32045,32800,32245,30506,25248,134447,26049,31834,26522,24437,25605]
["Madeira, Papel e Celulose","Total Operação","MADEIRA",null,null,null,null,null,null,null,null,null,null,null,null,null,null,null,null,null,null,null,null,null,null,null,null,null,null,null,null,null,null,null,null,null,null,null,null,null,null,null,0,0,0,0,0,0,0,0,0,0,0,0,0,0,0,0,0,0,0,0,0,0,0,0,0,0,0," -   "," -   ",0,0,0,0,0,0,0,0,0,0,0,0,0,0,0,0]
["Siderúrgicos e Mineração","Total Operação","MINÉRIO",2757822,209188,147870,191456,203174,258974,257114,281418,294934,246450,228532,228966,209746,3279366,244466,252650,251534,242730,281232,306652,291462,289664,284766,278690,283092,272428,3549661,279372,261268,278814,305288,335296,285350,299150,303986,303986,311426,291648,294077,2762082,189968,130270,173444,243135,243091,285587,328064,312884,287451,261085,226460,80643,2054142,122000,204748,159442,290720,204549,184435,240952,263498,259990,34888,0,88920,2299471,90674,170686,220860,239173,257041,225485,246496,228983,167393,184491,134080,134109,910340,145254,138438,181178,186417,259053]
["Madeira, Papel e Celulose","Total Operação","OUTROS (IND)",2504,83,842,0,1579,0,0,0,0,0,0,0,0,0,0,0,0,0,0,0,0,0,0,0,0,0,22,0,0,0,0,0,0,0,22,0,0,0,0,0,0,0,0,0,0,0,0,0,0,0,0,0,164,0,0,0,0,0,0,0,0,0,0,164,0,0," -   "," -   ",0,0,0,0,0,0,0,0,0,0,0,0,0,0,0,0]
["Madeira, Papel e Celulose","Total Operação","PAPEL",null,null,null,null,null,null,null,null,null,null,null,null,null,null,null,null,null,null,null,null,null,null,null,null,null,null,null,null,null,null,null,null,null,null,null,null,null,null,null,0,0,0,0,0,0,0,0,0,0,0,0,0,0,0,0,0,0,0,0,0,0,0,0,0,0,0," -   "," -   ",0,0,0,0,0,0,0,0,0,0,0,0,0,0,0,0]
["Siderúrgicos e Mineração","Total Operação","SIDERÚRGICOS (IND)",38356,2612,5949,4505,4246,1158,1164,4039,3467,2319,4666,2088,2143,76646,1043,2309,4224,5683,7299,7441,7633,9004,8880,8750,7409,6971,88898,7439,4553,6732,6331,9285,9151,11051,10118,5706,4859,6126,7547,81619,6947,7858,3035,6104,7350,10014,7700,8932,7567,9955,4971,1186,42491,6817,982,7868,6557,1583,2681,4200,1497,1928,0,3602,4776,59229,3569,1165,6561,5265,8892,7055,7136,240,0,5289,7217,6840,14749,5874,0,6983,1892,0]
["Combustível","Total Operação","GRUPO - LÍQUIDOS",5558928,403895,431638,472204,441571,448426,485322,485770,504974,506602,510167,451553,416806,5639195,438423,403009,442323,409399,461798,459987,520245,534979,504548,567981,455340,441163,5572086,432727,454748,482497,414912,420847,501896,515882,488697,482383,465400,455722,456375,5792428,457709,437437,455247,458752,483316,498336,522493,532359,501473,525139,472611,447556,5244979,461696,461952,322458,286743,410083,409302,459793,467178,492083,520579,494294,458818,5942069,471748,480324,476456,466838,510744,497006,514838,533746,507576,513894,480759,488140,2546385,485419,485060,526358,505322,544226]
[null,"Total Operação","GRUPO - OUTROS",null,null,null,null,null,null,null,null,null,null,null,null,null,null,null,null,null,null,null,null,null,null,null,null,null,null,null,null,null,null,null,null,null,null,null,null,null,null,null,2,0,0,0,0,0,0,0,0,0,1,0,1,0,0,0,0,0,0,0,0,0,0,0,0,0,4,2,1,1,0,0,0,0,0,0,0,0,0,0,0,0,0,0,0]
[null,"NORTE","Total Produto",{"$f":"SUM(D42:D45,D54,D65)","v":20941482},1512500,1600153,1923435,1972200,1864269,1649962,1977554,2075853,1982434,1606930,1394598,1381594,24437526,1297573,1752734,2010546,1959879,2217895,2029491,2121596,2257428,2105506,2353317,2194943,2136618,28967342.870000001,1680391,2143021,2398665,2264991,2158864,2509516,2662230,2743605,2685469,2491933,2711889,2516768.87,31460951,2219067,1984367,2702593,2539708,2303032,2913556,3182551,2954193,2724510,2850985,2856615,2229774,34398967,2066801,2777616,1960457,2787580,3057496,2866446,3251457,3138455,3167355,3329751,3056197,2939356,35998726,1643093,2851096,3255749,3292235,3518270,3270011,3389291,3020256,2628704,2903942,3122264,3103815,17859788,3010359,3607552,3936526,3552443,3752908]
["Açúcar","NORTE","GRUPO - AÇÚCAR",4031626,159114,180609,139265,127612,342175,550508,294642,315576,339512,643579,566026,373008,2163443,264261,97177,57243,132363,426989,242806,113385,144136,155928,155838,158893,214424,2629478,406983,196291,160306,113837,346881,363892,159520,139393,202911,269314,150131,120019,2140095,164754,74714,182717,263268,265242,138801,114189,98405,154178,129019,95748,459060,4229508,263838,194414,122806,173784,278256,207346,171830,406858,587317,717885,631247,473927,3589307,412830,45569,77192,175534,444666,430415,149171,290171,482624,440941,412324,227870,636930,194028,29097,146150,57756,209899]
["Contêiner","NORTE","GRUPO - BRADO",902038,66911,71228,78105,68800,76700,79313,85311,79213,71250,79877,79796,65534,1031163,77206,62501,70145,86667,101449,91000,90524,102534,94613,99242,85445,69837,1176487,35056,111019,101471,104069,85317,88085,117664,124431,109664,103292,96879,99540,1478003,96914,89437,127261,122676,123248,109444,131847,140161,134776,132647,138013,131579,1387783,117087,107946,109280,80242,71525,117378,125064,123704,130722,127553,142406,134876,1648657,115552,105970,109347,137087,129784,145624,147653,170227,151443,144080,138501,153389,726840,127402,143008,156558,147452,152420]
["Fertilizantes","NORTE","GRUPO - FERTILIZANTES",0,0,0,0,0,0,0,0,0,0,0,0,0,0,0,0,0,0,0,0,0,0,0,0,0,0,700690,0,0,0,1490,39138,46832,111152,109027,52548,70442,104008,166053,1732180,107379,74680,99420,130966,184699,175650,202606,161594,64507,136468,166253,227958,2367994,182939,150573,71800,178512,237698,221842,237646,160133,177808,254297,246732,248014,2677218,259463,223175,147105,151100,159329,156254,326400,316078,237472,261324,218129,221389,994083,179855,228742,213985,95893,275608]
[null,"NORTE","GRUPO - GRÃOS",13745782,1112819,1181488,1526294,1602989,1268685,827056,1412079,1477948,1348691,661955,566802,758976,18836880,765037,1419699,1695072,1572813,1501565,1497034,1726374,1810311,1679881,1850480,1716250,1602364,20935468.870000001,993814,1592384,1855430,1817026,1420003,1681672,1949455,2042971,2002082,1731172,2038759,1810700.87,22323728,1535226,1484759,1994074,1730223,1413943,2172047,2405085,2230005,2036686,2100406,2130248,1091026,{"$f":"SUM(BD46:BD53)","v":22156103},{"$f":"SUM(BE46:BE53)","v":1169700},{"$f":"SUM(BF46:BF53)","v":1990404},1366875,2106054,2103651,1977110,2344991,2067470,1864690,1802711,1620543,1741904,23214690,491729,2110481,2538181,2445366,2383920,2139116,2342530,1790856,1328691,1605853,1949668,2088299,13208119,2086281,2756141,2931615,2803706,2630376]
[null,"NORTE","ARROZ (GRANEL)",null,null,null,null,null,null,null,null,null,null,null,null,null,null,null,null,null,null,null,null,null,null,null,null,null,null,null,null,null,null,null,null,null,null,null,null,null,null,null,0,0,0,0,0,0,0,0,0,0,0,0,0,0,0,0,0,0,0,0,0,0,0,0,0,0,0," -   "," -   ",0,0,0,0,0,0,0,0,0,0,0,0,0,0,0,0]
["Farelo de Soja","NORTE","FARELO",3029211,138665,248372,314174,344702,327073,294540,225291,201266,205210,236378,251827,241713,3825322,254830,271252,337929,376599,339766,288499,342228,281327,288632,356200,336901,351159,4064821.87,276811,338182,380643,410914,314032,361905,313799,309701,339574,308946,327625,382689.87,4270319,301233,288059,399566,394771,373017,382772,366677,311848,332050,355964,410599,353763,4552887,258548,357153,337667,441612,390450,411490,417490,402115,368129,410441,354102,403690,{"$f":"SUM(BR47:CC47)","v":4951838},264328,363904,403452,450715,426796,467850,497982,428979,392715,332790,460882,461445,2455051,385790,431714,538016,570770,528761]
["Farelo de Milho","NORTE","FARELO DE MILHO",null,null,null,null,null,null,null,null,null,null,null,null,null,null,null,null,null,null,null,null,null,null,null,null,null,null,null,null,null,null,null,null,null,null,null,null,null,null,null,{"$f":"SUM(AR48:BC48)","v":14886},0,0,0,0,0,0,0,0,0,null,0,14886,12996,12996,0,0,0,0,0,0,0,0,0,0,0,0," -   "," -   ",0,0,0,0,0,0,0,0,0,0,0,0,0,0,0,0]
["Malte","NORTE","MALTE",null,null,null,null,null,null,null,null,null,null,null,null,null,null,null,null,null,null,null,null,null,null,null,null,null,null,null,null,null,null,null,null,null,null,null,null,null,null,null,0,0,0,0,0,0,0,0,0,0,0,0,0,0,0,0,0,0,0,0,0,0,0,0,0,0,0," -   "," -   ",0,0,0,0,0,0,0,0,0,0,0,0,0,0,0,0]
["Milho","NORTE","MILHO",5901716,901140,51329,131,0,0,213479,1159751,1276682,1143481,425577,299064,431082,9087457,63752,185,0,0,7240,761556,1283092,1455549,1391249,1494280,1379349,1251205,9874286,294069,40663,0,0,22060,227177,1432772,1687615,1645201,1407075,1689643,1428011,10779143,234746,0,0,0,44666,1479970,1912642,1818859,1619625,1554429,1439804,674402,9629770,1223,0,0,0,0,869988,1694890,1617572,1449172,1392270,1266441,1338214,7832741,31014,-2942,0,0,0,319368,1776466,1298815,837666,1052141,1088770,1431443,836309,600499,46035,0,140739,49036]
["Soja","NORTE","SOJA",4814855,73014,881787,1211989,1258287,941612,319037,27037,0,0,0,15911,86181,5924101,446455,1148262,1357143,1196214,1154559,446979,101054,73435,0,0,0,0,6996361,422934,1213539,1474787,1406112,1083911,1092590,202884,45655,17307,15151,21491,0,7259380,999247,1196700,1594508,1335452,996260,309305,125766,99298,85011,190013,279845,47975,7960450,896933,1633251,1029208,1664442,1713201,695632,232611,47783,47389,0,0,0,10430111,196387,1749519,2134729,1994651,1957124,1351898,68082,63062,98310,220922,400016,195411,9916759,1099992,2278392,2393599,2092197,2052579]
["Trigo","NORTE","TRIGO",null,null,null,null,null,null,null,null,null,null,null,null,null,null,null,null,null,null,null,null,null,null,null,null,null,null,null,null,null,null,null,null,null,null,null,null,null,null,null,0,0,0,0,0,0,0,0,0,0,0,0,0,0,0,0,0,0,0,0,0,0,0,0,0,0,0," -   "," -   ",0,0,0,0,0,0,0,0,0,0,0,0,0,0,0,0]
["Soja","NORTE","ÓLEO VEGETAL",null,null,null,null,null,null,null,null,null,null,null,null,null,null,null,null,null,null,null,null,null,null,null,null,null,null,null,null,null,null,null,null,null,null,null,null,null,null,null,0,0,0,0,0,0,0,0,0,0,0,0,0,0,0,0,0,0,0,0,0,0,0,0,0,0,0," -   "," -   ",0,0,0,0,0,0,0,0,0,0,0,0,0,0,0,0]
[null,"NORTE","GRUPO - INDUSTRIAL",33515,15052,16072,1631,760,0,0,0,0,0,0,0,0,185416,0,0,0,0,0,0,0,0,0,31240,69256,84920,1268872,75240,74888,104192,69696,91960,103400,103576,129360,117920,132352,132352,133936,1588048,128832,95832,131296,139392,134552,121528,127952,121704,138776,152592,142736,152856,1980924,152328,148984,139314,163230,181830,180048,171906,169878,176850,183428,189220,123908,2097582,151642,152364,179644,163964,171778,158892,176168,199038,183894,197898,184612,177688,1025686,177936,194382,232948,204398,216022]
["Madeira, Papel e Celulose","NORTE","ARROZ (ENSACADO)",null,null,null,null,null,null,null,null,null,null,null,null,null,null,null,null,null,null,null,null,null,null,null,null,null,null,null,null,null,null,null,null,null,null,null,null,null,null,null,0,0,0,0,0,0,0,0,0,0,0,0,0,0,0,0,0,0,0,0,0,0,0,0,0,0,0," -   "," -   ",0,0,0,0,0,0,0,0,0,0,0,0,0,0,0,0]
["Madeira, Papel e Celulose","NORTE","CALCÁREO (IND)",null,null,null,null,null,null,null,null,null,null,null,null,null,null,null,null,null,null,null,null,null,null,null,null,null,null,null,null,null,null,null,null,null,null,null,null,null,null,null,0,0,0,0,0,0,0,0,0,0,0,0,0,0,0,0,0,0,0,0,0,0,0,0,0,0,0," -   "," -   ",0,0,0,0,0,0,0,0,0,0,0,0,0,0,0,0]
["Madeira, Papel e Celulose","NORTE","CELULOSE",30184,15052,15132,0,0,0,0,0,0,0,0,0,0,185416,0,0,0,0,0,0,0,0,0,31240,69256,84920,1268872,75240,74888,104192,69696,91960,103400,103576,129360,117920,132352,132352,133936,1588048,128832,95832,131296,139392,134552,121528,127952,121704,138776,152592,142736,152856,1980924,152328,148984,139314,163230,181830,180048,171906,169878,176850,183428,189220,123908,2097582,151642,152364,179644,163964,171778,158892,176168,199038,183894,197898,184612,177688,1025686,177936,194382,232948,204398,216022]
["Construção Civil","NORTE","CIMENTO",null,null,null,null,null,null,null,null,null,null,null,null,null,null,null,null,null,null,null,null,null,null,null,null,null,null,null,null,null,null,null,null,null,null,null,null,null,null,null,0,0,0,0,0,0,0,0,0,0,0,0,0,0,0,0,0,0,0,0,0,0,0,0,0,0,0," -   "," -   ",0,0,0,0,0,0,0,0,0,0,0,0,0,0,0,0]
["Construção Civil","NORTE","CLINQUER",null,null,null,null,null,null,null,null,null,null,null,null,null,null,null,null,null,null,null,null,null,null,null,null,null,null,null,null,null,null,null,null,null,null,null,null,null,null,null,0,0,0,0,0,0,0,0,0,0,0,0,0,0,0,0,0,0,0,0,0,0,0,0,0,0,0," -   "," -   ",0,0,0,0,0,0,0,0,0,0,0,0,0,0,0,0]
["Madeira, Papel e Celulose","NORTE","MADEIRA",null,null,null,null,null,null,null,null,null,null,null,null,null,null,null,null,null,null,null,null,null,null,null,null,null,null,null,null,null,null,null,null,null,null,null,null,null,null,null,0,0,0,0,0,0,0,0,0,0,0,0,0,0,0,0,0,0,0,0,0,0,0,0,0,0,0," -   "," -   ",0,0,0,0,0,0,0,0,0,0,0,0,0,0,0,0]
["Siderúrgicos e Mineração","NORTE","MINÉRIO",null,null,null,null,null,null,null,null,null,null,null,null,null,null,null,null,null,null,null,null,null,null,null,null,null,null,null,null,null,null,null,null,null,null,null,null,null,null,null,0,0,0,0,0,0,0,0,0,0,0,0,0,0,0,0,0,0,0,0,0,0,0,0,0,0,0," -   "," -   ",0,0,0,0,0,0,0,0,0,0,0,0,0,0,0,0]
["Madeira, Papel e Celulose","NORTE","OUTROS (IND)",null,null,null,null,null,null,null,null,null,null,null,null,null,null,null,null,null,null,null,null,null,null,null,null,null,null,null,null,null,null,null,null,null,null,null,null,null,null,null,0,0,0,0,0,0,0,0,0,0,0,0,0,0,0,0,0,0,0,0,0,0,0,0,0,0,0," -   "," -   ",0,0,0,0,0,0,0,0,0,0,0,0,0,0,0,0]
["Madeira, Papel e Celulose","NORTE","PAPEL",null,null,null,null,null,null,null,null,null,null,null,null,null,null,null,null,null,null,null,null,null,null,null,null,null,null,null,null,null,null,null,null,null,null,null,null,null,null,null,0,0,0,0,0,0,0,0,0,0,0,0,0,0,0,0,0,0,0,0,0,0,0,0,0,0,0," -   "," -   ",0,0,0,0,0,0,0,0,0,0,0,0,0,0,0,0]
["Siderúrgicos e Mineração","NORTE","SIDERÚRGICOS (IND)",3331,0,940,1631,760,0,0,0,0,0,0,0,0,0,0,0,0,0,0,0,0,0,0,0,0,0,0,0,0,0,0,0,0,0,0,0,0,0,0,0,0,0,0,0,0,0,0,0,0,0,0,0,0,0,0,0,0,0,0,0,0,0,0,0,0,0," -   "," -   ",0,0,0,0,0,0,0,0,0,0,0,0,0,0,0,0]
["Combustível","NORTE","GRUPO - LÍQUIDOS",2228521,158604,150756,178140,172039,176709,193085,185522,203116,222981,221519,181974,184076,2220624,191069,173357,188086,168036,187892,198651,191313,200447,175084,216517,165099,165073,2256347,169298,168439,177266,158873,175565,225635,220863,198423,200344,185361,189760,186520,2198897,185962,164945,167825,153183,181348,196086,200872,202324,195587,199853,183617,167295,2276655,180909,185295,150382,85758,184536,162722,200020,210412,229968,243877,226049,216727,2771268,211875,213536,204279,219184,228793,239710,247369,253886,244580,253846,219030,235180,1268130,244857,256182,255270,243238,268583]
[null,"NORTE","GRUPO - OUTROS",null,null,null,null,null,null,null,null,null,null,null,null,null,null,null,null,null,null,null,null,null,null,null,null,null,null,null,null,null,null,null,null,null,null,null,null,null,null,null,0,0,0,0,0,0,0,0,0,0,0,0,0,0,0,0,0,0,0,0,0,0,0,0,0,0,4,2,1,1,0,0,0,0,0,0,0,0,0,0,0,0,0,0,0]
[null,"SUL","Total Produto",{"$f":"SUM(D68:D71,D80,D91)","v":21898345},1396695,1518525,1862919,1880507,1994539,2012283,2125217,2218087,1986590,1755196,1596414,1551373,25479141,1367730,1613017,1993288,2016154,2254701,2214727,2493351,2546874,2523183,2360181,2123207,1972728,26979720,1731188,1812571,2206983,2256500,2311706,2409019,2487927,2590407,2420513,2447884,2242320,2062702,26213089,1720405,1932370,2146720,1996003,2040250,2290514,2609596,2617255,2397307,2495734,2349660,1617275,24585535,1361169,1661211,1766802,2136437,2418425,2210349,2415455,2483855,2402242,2122719,2001183,1605688,24417087,1158150,1336796,2332820,2398427,2572433,2347689,2413784,2107337,2093996,1993163,1831193,1831299,8572915,1522439,1620431,2063339,1620624,1746082]
["Açúcar","SUL","GRUPO - AÇÚCAR",4040816,184128,41976,120054,189475,301032,356204,462965,525988,529648,452544,394142,482660,3800525,162061,76617,99284,197194,391807,393908,471068,468954,474359,427402,408558,229313,2792428,95716,100741,61051,140866,293824,328999,323673,348727,322693,332534,189930,253674,2190806,49545,49698,44071,131100,214158,241768,323296,253004,226982,221436,303121,132627,3676295,136542,71985,94197,186739,371948,327917,324610,365722,492964,486697,458966,358008,3820199,198217,104491,159571,183594,411511,558124,363731,328288,512997,442534,342388,214753,765847,144587,70360,63346,112592,374962]
["Contêiner","SUL","GRUPO - BRADO",987992,73284,93190,99643,97589,92724,93533,79986,78660,76560,74110,67530,61183,843238,73020,69811,77705,70216,78859,75727,74613,80645,64618,64069,51815,62140,1038978,54662,71673,77315,85996,71602,86922,93614,98675,98943,104337,98445,96794,1282209,90640,90762,101026,101752,106427,104621,114111,119176,124954,114232,110897,103611,1427639,113644,112708,96084,118359,119740,129901,134317,125444,127172,123976,120098,106196,1289453,110573,124471,115484,125248,118461,108776,110641,99512,87253,92317,98332,98385,680753,125531,129295,134955,140434,150538]
["Fertilizantes","SUL","GRUPO - FERTILIZANTES",1256096,40016,26385,29764,37642,94591,118747,135369,148985,195932,149495,157230,121940,1098466,101564,70693,52874,118539,108350,77277,76747,91299,99471,110258,95177,96217,1070367,101394,79975,58163,71142,71164,95393,100794,106234,95497,82171,113350,95090,1035610,125196,61608,44469,57654,103751,100104,103701,99857,112086,81550,81575,64059,807251,89926,60615,29429,68716,77739,68548,77062,69523,69953,67774,66355,61611,900631,70167,59651,9908,38555,65984,90382,92822,135933,109888,88383,76008,62950,325780,76475,76888,53955,45807,72655]
[null,"SUL","GRUPO - GRÃOS",7244647,532856,800077,976593,929239,812523,705453,628645,621306,423315,321703,260639,232298,10270719,315538,745546,1049328,924770,868462,873179,1002860,1030719,1020621,871887,777822,789987,12520499,705890,802504,1252163,1211062,1105768,1090643,1149967,1178488,1080411,1077213,1040932,825458,12662623,767438,1114296,1274865,964719,856340,1031380,1215421,1251106,1101923,1240911,1103982,740242,11341693,397051,772237,1067940,1137512,1234851,1080516,1159688,1167990,962569,899875,868143,593321,10345210,204237,401225,1322817,1323704,1190592,884151,1119975,797948,755652,732547,725543,886819,3782628,619007,860228,1169119,702905,431369]
[null,"SUL","ARROZ (GRANEL)",null,null,null,null,null,null,null,null,null,null,null,null,null,null,null,null,null,null,null,null,null,null,null,null,null,null,null,null,null,null,null,null,null,null,null,null,null,null,null,0,0,0,0,0,0,0,0,0,0,0,0,0,0,0,0,0,0,0,0,0,0,0,0,0,0,0," -   "," -   ",0,0,0,0,0,0,0,0,0,0,0,0,0,0,0,0]
["Farelo de Soja","SUL","FARELO",940781,62401,61787,76549,89967,73580,82801,72113,50133,71795,102308,115725,81622,860689,68027,67001,78918,90025,81841,69541,74534,56314,54330,65063,77427,77668,1161587,94981,74006,85496,99559,108132,102307,112255,101806,96344,65421,104868,116412,1484028,92340,104965,122080,126530,115428,167861,152628,89268,131424,136445,126275,118784,1469140,103603,96617,140016,97505,150426,125005,154096,132008,150450,138525,96316,84573,1608812,70548,55125,126075,152464,155456,160861,148112,158641,167698,171048,125679,117105,688418,98071,98891,167726,166733,156997]
["Farelo de Milho","SUL","FARELO DE MILHO",null,null,null,null,null,null,null,null,null,null,null,null,null,null,null,null,null,null,null,null,null,null,null,null,null,null,null,null,null,null,null,null,null,null,null,null,null,null,null,null,null,null,null,null,null,null,null,null,null,null,null,null,null,null,null,null,null,null,null,null,null,null,null,null,0,0," -   "," -   ",0,0,0,0,0,0,0,0,0,0,0,0,0,0,0,0]
["Malte","SUL","MALTE",2311,0,0,0,0,0,0,0,0,0,2311,0,0,0,0,0,0,0,0,0,0,0,0,0,0,0,0,0,0,0,0,0,0,0,0,0,0,0,0,0,0,0,0,0,0,0,0,0,0,0,0,0,0,0,0,0,0,0,0,0,0,0,0,0,0,0," -   "," -   ",0,0,0,0,0,0,0,0,0,0,0,0,0,0,0,0]
["Milho","SUL","MILHO",1212639,344583,89580,1551,0,0,404,112248,312159,173169,85093,45048,48804,2371118,21544,8612,0,0,53,18690,259533,515989,717840,499493,174444,154920,885016,217802,17540,0,0,624,0,4999,103865,145152,17889,131057,246088,3478077,154017,106889,21357,59186,60676,258078,577224,705643,519975,384135,391882,239015,2634375,87357,102557,20269,0,41,0,77057,381982,462347,542339,602896,357530,558519,110394,104185,9765,0,0,326,0,43196,23906,36201,55796,174750,364311,92965,251,65640,152436,53019]
["Soja","SUL","SOJA",4963825,69211,644895,891596,834846,735541,618828,440401,255206,176779,130487,88538,77497,6808766,159656,583312,947591,829699,781503,779987,663182,455518,247404,303428,517462,540024,10249964,362692,700611,1164301,1108625,992526,984615,1027826,968731,831844,987780,747275,373138,7573979,469055,897022,1130167,777775,680236,605441,485569,456195,448417,718686,577370,328046,6978779,165151,570790,907655,1040007,1084384,955511,928535,654000,349772,201998,62343,58633,7908152,18342,241915,1186977,1171240,1035136,722964,971863,596111,564048,523914,432763,442879,2346872,289933,588521,872587,375733,220098]
["Trigo","SUL","TRIGO",92438,56140,1934,2974,0,0,0,0,0,0,0,9121,22269,183475,62998,82959,18082,0,0,0,0,0,0,0,6040,13396,178882,27410,6784,0,0,0,0,0,0,0,0,57524,87164,113925,46885,5420,0,0,0,0,0,0,0,0,7839,53781,259399,40940,2273,0,0,0,0,0,0,0,17013,106588,92585,269727,4953," -   ",0,0,0,0,0,0,0,1384,111305,152085,383027,138038,172565,63166,8003,1255]
["Soja","SUL","ÓLEO VEGETAL",32653,521,1881,3923,4426,3402,3420,3883,3808,1572,1504,2207,2106,46671,3313,3662,4737,5046,5065,4961,5611,2898,1047,3903,2449,3979,45050,3005,3563,2366,2878,4486,3721,4887,4086,7071,6123,208,2656,12614,5141,0,1261,1228,0,0,0,0,2107,1645,616,616,0,0,0,0,0,0,0,0,0,0,0,0,0,{"$f":"SUM(BR79:CC79)","v":0}," -   "," -   ",0,0,0,0,0,0,0,0,0,0,{"$f":"SUM(CE79:CP79)","v":0},0,0,0,0,0]
[null,"SUL","GRUPO - INDUSTRIAL",5038387,321120,276015,342801,357030,421952,446109,518004,541290,477514,468696,447294,420562,6047622,468193,420698,459860,464072,533317,533300,539131,540725,534650,535101,499594,518981,6241709,510097,471369,453060,491395,524066,530801,524860,568009,540930,571590,533701,521831,5448310,415839,343514,394867,435209,457606,510391,531446,564077,525476,512319,461091,296475,4364333,343219,367009,307076,424126,388600,356887,460005,498410,487469,267695,219376,244461,4890793,315083,380170,452863,479672,503934,448960,459146,465796,365210,377334,327193,315432,1739652,316277,254782,370876,356802,440915]
["Madeira, Papel e Celulose","SUL","ARROZ (ENSACADO)",1665,1623,42,0,0,0,0,0,0,0,0,0,0,0,0,0,0,0,0,0,0,0,0,0,0,0,0,0,0,0,0,0,0,0,0,0,0,0,0,0,0,0,0,0,0,0,0,0,0,0,0,0,0,0,0,0,0,0,0,0,0,0,0,0,0,0," -   "," -   ",0,0,0,0,0,0,0,0,0,0,0,0,0,0,0,0]
["Madeira, Papel e Celulose","SUL","CALCÁREO (IND)",46068,3740,2992,5720,2904,2816,1408,5060,2904,7480,7392,3652,0,24728,3696,3608,4708,3784,3652,1320,1320,2640,0,0,0,0,0,0,0,0,0,0,0,0,0,0,0,0,0,0,0,0,0,0,0,0,0,0,0,0,0,0,0,0,0,0,0,0,0,0,0,0,0,0,0,0," -   "," -   ",0,0,0,0,0,0,0,0,0,0,0,0,0,0,0,0]
["Madeira, Papel e Celulose","SUL","CELULOSE",1100528,39876,43952,58716,60020,80060,89400,124684,128588,116056,127276,115520,116380,1547716,117576,74704,105112,119472,139980,135608,136868,136836,147088,147356,134036,153080,1595547,143551,127376,76132,101592,97188,154344,131164,171316,142016,159968,140540,150360,1536316,132720,123280,135744,109916,119644,124280,101368,138308,132744,140720,142204,135388,1154624,125132,68468,78962,36430,80000,77248,125480,134766,130940,118888,113648,64662,1265988,125504,120100,115428,124348,126728,114708,95508,122348,85388,82488,78056,75384,303592,67498,16960,77054,72832,69248]
["Construção Civil","SUL","CIMENTO",796450,51960,59887,59205,61661,57595,68650,76161,78110,74915,73999,68651,65656,770394,70778,61523,67337,65785,64955,60826,71753,74683,64073,69366,41493,57822,719827,46667,54405,66526,52833,58136,57165,65630,69407,66327,61833,67113,53785,{"$f":"SUM(AR84:BC84)","v":797494},58843,59373,55397,64214,65604,67011,69113,76419,75952,76399,71587,57582,{"$f":"SUM(BE84:BP84)","v":818429},66430,66962,40409,71088,75191,71841,69218,73803,69638,82218,73881,57750,913949,70642,60876,79515,80601,82658,71946,81896,82180,79629,72821,77334,73851,376524,71602,67550,79139,71224,87009]
["Construção Civil","SUL","CLINQUER",298325,12038,15421,24830,24206,21349,28373,26642,33287,30294,26831,28417,26637,348772,30634,25904,26945,26618,36199,21453,30095,27898,29843,30939,33564,28680,287754,33068,23767,24856,25351,24161,24791,17865,13160,22895,33504,28274,16062,270799,27361,22733,27247,11840,21917,23499,25201,27534,21762,24160,15869,21676,294483,22840,25849,20395,19331,27277,20682,20155,24846,24973,31701,28081,28353,352156,24694,27343,30499,30285,28615,29766,28110,32045,32800,32245,30506,25248,134447,26049,31834,26522,24437,25605]
["Madeira, Papel e Celulose","SUL","MADEIRA",null,null,null,null,null,null,null,null,null,null,null,null,null,null,null,null,null,null,null,null,null,null,null,null,null,null,null,null,null,null,null,null,null,null,null,null,null,null,null,0,0,0,0,0,0,0,0,0,0,0,0,0,0,0,0,0,0,0,0,0,0,0,0,0,0,0," -   "," -   ",0,0,0,0,0,0,0,0,0,0,0,0,0,0,0,0]
["Siderúrgicos e Mineração","SUL","MINÉRIO",2757822,209188,147870,191456,203174,258974,257114,281418,294934,246450,228532,228966,209746,3279366,244466,252650,251534,242730,281232,306652,291462,289664,284766,278690,283092,272428,3549661,279372,261268,278814,305288,335296,285350,299150,303986,303986,311426,291648,294077,2762082,189968,130270,173444,243135,243091,285587,328064,312884,287451,261085,226460,80643,2054142,122000,204748,159442,290720,204549,184435,240952,263498,259990,34888,0,88920,2299471,90674,170686,220860,239173,257041,225485,246496,228983,167393,184491,134080,134109,910340,145254,138438,181178,186417,259053]
["Madeira, Papel e Celulose","SUL","OUTROS (IND)",2504,83,842,0,1579,0,0,0,0,0,0,0,0,0,0,0,0,0,0,0,0,0,0,0,0,0,22,0,0,0,0,0,0,0,22,0,0,0,0,0,0,0,0,0,0,0,0,0,0,0,0,0,164,0,0,0,0,0,0,0,0,0,0,164,0,0," -   "," -   ",0,0,0,0,0,0,0,0,0,0,0,0,0,0,0,0]
["Madeira, Papel e Celulose","SUL","PAPEL",null,null,null,null,null,null,null,null,null,null,null,null,null,null,null,null,null,null,null,null,null,null,null,null,null,null,null,null,null,null,null,null,null,null,null,null,null,null,null,0,0,0,0,0,0,0,0,0,0,0,0,0,0,0,0,0,0,0,0,0,0,0,0,0,0,0," -   "," -   ",0,0,0,0,0,0,0,0,0,0,0,0,0,0,0,0]
["Siderúrgicos e Mineração","SUL","SIDERÚRGICOS (IND)",35025,2612,5009,2874,3486,1158,1164,4039,3467,2319,4666,2088,2143,76646,1043,2309,4224,5683,7299,7441,7633,9004,8880,8750,7409,6971,88898,7439,4553,6732,6331,9285,9151,11051,10118,5706,4859,6126,7547,81619,6947,7858,3035,6104,7350,10014,7700,8932,7567,9955,4971,1186,42491,6817,982,7868,6557,1583,2681,4200,1497,1928,0,3602,4776,59229,3569,1165,6561,5265,8892,7055,7136,240,0,5289,7217,6840,14749,5874,0,6983,1892,0]
["Combustível","SUL","GRUPO - LÍQUIDOS",3330407,245291,280882,294064,269532,271717,292237,300248,301858,283621,288648,269579,232730,3418571,247354,229652,254237,241363,273906,261336,328932,334532,329464,351464,290241,276090,3315739,263429,286309,305231,256039,245282,276261,295019,290274,282039,280039,265962,269855,3593531,271747,272492,287422,305569,301968,302250,321621,330035,305886,325286,288994,280261,2968324,280787,276657,172076,200985,225547,246580,259773,256766,262115,276702,268245,242091,3170801,259873,266788,272177,247654,281951,257296,267469,279860,262996,260048,261729,252960,1278255,240562,228878,271088,262084,275643]
[null,"SUL","GRUPO - OUTROS",null,null,null,null,null,null,null,null,null,null,null,null,null,null,null,null,null,null,null,null,null,null,null,null,null,null,null,null,null,null,null,null,null,null,null,null,null,null,null,null,0,0,0,0,0,0,0,0,0,0,0,0,0,0,0,0,0,0,0,0,0,0,0,0,0,0," -   "," -   ",0,0,0,0,0,0,0,0,0,0,0,0,0,0,0,0]
[null,null,null,null,null,null,null,null,null,null,null,null,null,null,null,null,null,null,null,null,null,null,null,null,null,null,null,null,null,null,null,null,null,null,null,null,null,null,null,null,null,null,null,null,null,null,null,null,0,0,null,null,null,null,null,null,0,0,0,0,0,0,0,0,0,0,0,null,null,null,null,null,null,null,"","","","","","","",null,"","","","",""]
[null,null,null,null,null,null,null,null,null,null,null,null,null,null,null,null,null,null,null,null,null,null,null,null,null,null,null,null,null,null,null,null,null,null,null,null,null,null,null,null,null,null,null,null,null,null,null,null,null,null,null,null,null,null,null,null,null,null,null,null,null,null,null,null,null,null,null,null,null,null,null,null,null,null,"","","","","","","",null,"","","","",""]
[null,null,null,null,null,null,null,null,null,null,null,null,null,null,null,null,null,null,null,null,null,null,null,null,null,null,null,null,null,null,null,null,null,null,null,null,null,null,null,null,null,null,null,null,null,null,null,null,null,null,null,null,null,null,null,null,null,null,null,null,null,null,null,null,null,null,null,null,null,null,null,null,null,null,"","","","","","","",null,"","","","",""]
[null,null,null,null,null,null,null,null,null,null,null,null,null,null,null,null,null,null,null,null,null,null,null,null,null,null,null,null,null,null,null,null,null,null,null,null,null,null,null,null,null,null,null,null,null,null,null,null,null,null,null,null,null,null,null,null,null,null,null,null,null,null,null,null,null,null,null,null,null,null,null,null,null,null,"","","","","","","",null,"","","","",""]
[null,null,null,null,null,null,null,null,null,null,null,null,null,null,null,null,null,null,null,null,null,null,null,null,null,null,null,null,null,null,null,null,null,null,null,null,null,null,null,null,null,null,null,null,null,null,null,null,null,null,null,null,null,null,null,null,null,null,null,null,null,null,null,null,null,null,null,null,null,null,null,null,null,null,"","","","","","","",null,"","","","",""]
[null,null,null,null,null,null,null,null,null,null,null,null,null,null,null,null,null,null,null,null,null,null,null,null,null,null,null,null,null,null,null,null,null,null,null,null,null,null,null,null,null,null,null,null,null,null,null,null,null,null,null,null,null,null,null,null,null,null,null,null,null,null,null,null,null,null,null,null,null,null,null,null,null,null,"","","","","","","",null,"","","","",""]
[null,null,null,null,null,null,null,null,null,null,null,null,null,null,null,null,null,null,null,null,null,null,null,null,null,null,null,null,null,null,null,null,null,null,null,null,null,null,null,null,null,null,null,null,null,null,null,null,null,null,null,null,null,null,null,null,null,null,null,null,null,null,null,null,null,null,null,null,null,null,null,null,null,null,"","","","","","","",null,"","","","",""]
[null,null,null,null,null,null,null,null,null,null,null,null,null,null,null,null,null,null,null,null,null,null,null,null,null,null,null,null,null,null,null,null,null,null,null,null,null,null,null,null,null,null,null,null,null,null,null,null,null,null,null,null,null,null,null,null,null,null,null,null,null,null,null,null,null,null,null,null,null,null,null,null,null,null,"","","","","","","",null,"","","","",""]

{"sheet":"UT Base","index":5,"n_rows":100,"n_cols":94,"rows_kept":100,"cut":false,"hidden":true,"merged":[]}
[null,"CUBE:","Cosan_Logistica:CLOG.ACO.116.VOLUMETRIA.FLUXO"]
[null,"CLOG.D.ACO.VERSAO","R"]
[null,"ALL.D.TEMPO.ANO"]
[null,"CLOG.M.ACO.VOLUMETRIA.FLUXO","Toneladas Úteis"]
[null,"CLOG.D.ACO.MODAL","Total Modal"]
[null,"CLOG.D.ALL.CORREDOR","Total Corredor"]
[null,"CLOG.D.ACO.GERENCIA","Total Gerencia"]
[null,"CLOG.D.ALL.EMPRESA","Total Empresa"]
[null,"CLOG.D.ACO.ORIGEM","Total Origem"]
[null,"CLOG.D.ACO.DESTINO","Total Destino",null,null,null,null,null,null,null,null,null,null,null,null,null,null,null,null,null,null,null,null,null,null,null,null,null,null,null,null,null,null,null,null,null,null,null,null,null,null,null,{"$f":"SUM(AQ21:AQ27)","v":34986351}]
[null,"CLOG.D.ALL.CLIENTE.HIERARQUIA","Total Clientes",{"$f":"D15/1000","v":42839.826999999997},null,null,null,null,null,null,null,null,null,null,null,null,null,null,null,null,null,null,null,null,null,null,null,null,null,null,null,null,null,null,null,null,null,null,null,null,null,null,{"$f":"AQ10-AQ19","v":0}]
[]
[null,null,null,"2016","2016","2016","2016","2016","2016","2016","2016","2016","2016","2016","2016","2016","2017","2017","2017","2017","2017","2017","2017","2017","2017","2017","2017","2017","2017","2018","2018","2018","2018","2018","2018","2018","2018","2018","2018","2018","2018","2018","2019","2019","2019","2019","2019","2019","2019","2019","2019","2019","2019","2019","2019",2020,2020,2020,2020,2020,2020,2020,2020,2020,2020,2020,2020,2020,2021,2021,2021,2021,2021,2021,2021,2021,2021,2021,2021,2021,2021,2022,2022,2022,2022,2022,2022,2022,2022,2022,2022,2022,2022,2022]
["RI Classification","Operation","Product (PTBR)","Full Year","January","February","March","April","May","June","July","August","September","October","November","December","Full Year","January","February","March","April","May","June","July","August","September","October","November","December","Full Year","January","February","March","April","May","June","July","August","September","October","November","December","Full Year","January","February","March","April","May","June","July","August","September","October","November","December","Full Year","January","February","March","April","May","June","July","August","September","October","November","December","Full Year","January","February","March","April","May","June","July","August","September","October","November","December","Full Year 2022","January","February","March","April","May","June","July","August","September","October","November","December"]
[null,"Consolidated","Total Produto",{"$f":"SUM(D16:D19,D28,D39)","v":42839827},2909195,3118678,3786354,3852707,3858808,3662245,4102771,4293940,3969024,3362126,2991012,2932967,49916667,2665303,3365751,4003834,3976033,4472596,4244218,4614947,4804302,4628689,4713498,4318150,4109346,55947062.870000005,3411579,3955592,4605648,4521491,4470570,{"$f":"SUM(AJ16:AJ19,AJ28,AJ39)","v":4918535},5150157,5334012,5105982,4939817,4954209,4579470.87,57674040,3939472,3916737,4849313,4535711,4343282,5204070,5792147,5571448,5121817,5346719,5206275,3847049,58971506,3427970,4438827,3727259,4924017,5475921,5076795,5666912,5622310,5569597,5452470,5057380,4545044,{"$f":"SUM(BR15:CC15)","v":60415813},2801243,4187892,5588569,5690662,6090703,5617700,5803075,5127593,4722700,4897105,4953457,4935114,{"$f":"SUM(CE15:CP15)","v":26432703},4532798,5227983,5999865,5173067,5498990]
["Sugar","Consolidated","GRUPO - AÇÚCAR",8072442,343242,222585,259319,317087,643207,906712,757607,841564,869160,1096123,960168,855668,5963968,426322,173794,156527,329557,818796,636714,584453,613090,630287,583240,567451,443737,5421906,502699,297032,221357,254703,640705,692891,483193,488120,525604,601848,340061,373693,{"$f":"SUM(AR16:BC16)","v":4330901},214299,124412,226788,394368,479400,380569,437485,351409,381160,350455,398869,591687,{"$f":"SUM(BE16:BP16)","v":7905803},400380,266399,217003,360523,650204,535263,496440,772580,1080281,1204582,1090213,831935,7409506,611047,150060,236763,359128,856177,988539,512902,618459,995621,883475,754712,442623,1402777,338615,99457,209496,170348,584861]
["Containers","Consolidated","GRUPO - BRADO",1890030,140195,164418,177748,166389,169424,172846,165297,157873,147810,153987,147326,126717,1874401,150226,132312,147850,156883,180308,166727,165137,183179,159231,163311,137260,131977,2215465,89718,182692,178786,190065,156919,175007,211278,223106,208607,207629,195324,196334,2760212,187554,180199,228287,224428,229675,214065,245958,259337,259730,246879,248910,235190,{"$f":"SUM(BE17:BP17)","v":2815422},230731,220654,205364,198601,191265,247279,259381,249148,257894,251529,262504,241072,2938110,226125,230441,224831,262335,248245,254400,258294,269739,238696,236397,236833,251774,1407593,252933,272303,291513,287886,302958]
["Fertilizers","Consolidated","GRUPO - FERTILIZANTES",1256096,40016,26385,29764,37642,94591,118747,135369,148985,195932,149495,157230,121940,1098466,101564,70693,52874,118539,108350,77277,76747,91299,99471,110258,95177,96217,1771057,101394,79975,58163,72632,110302,142225,211946,215261,148045,152613,217358,261143,2767790,232575,136288,143889,188620,288450,275754,306307,261451,176593,218018,247828,292017,{"$f":"SUM(BE18:BP18)","v":3175245},272865,211188,101229,247228,315437,290390,314708,229656,247761,322071,313087,309625,3577849,329630,282826,157013,189655,225313,246636,419222,452011,347360,349707,294137,284339,1319863,256330,305630,267940,141700,348263]
[null,"Consolidated","GRUPO - GRÃOS",20990429,1645675,1981565,2502887,2532228,2081208,1532509,2040724,2099254,1772006,983658,827441,991274,29107599,1080575,2165245,2744400,2497583,2370027,2370213,2729234,2841030,2700502,2722367,2494072,2392351,33455967.870000001,1699704,2394888,3107593,3028088,2525771,2772315,3099422,3221459,3082493,2808385,3079691,2636158.87,34986351,{"$f":"SUM(AR20:AR27)","v":2302664},2599055,3268939,2694942,2270283,3203427,3620506,3481111,3138609,3341317,3234230,1831268,33484800,1566751,2762641,2434815,3243566,3338502,3057626,3504679,3235460,2827259,2702586,2488686,2335225,33559900,695966,2511706,3860998,3769070,3574512,3023267,3462505,2588804,2084343,2338400,2675211,2975118,16990747,2705288,3616369,4100734,3506611,3061745]
[null,"Consolidated","ARROZ (GRANEL)",null,null,null,null,null,null,null,null,null,null,null,null,null,null,null,null,null,null,null,null,null,null,null,null,null,null,null,null,null,null,null,null,null,null,null,null,null,null,null,0,0,0,0,0,0,0,0,0,0,0,0,0,{"$f":"SUM(BE20:BP20)","v":0},0,0,0,0,0,0,0,0,0,0,0,0,0," -   "," -   ",0,0,0,0,0,0,0,0,0,0,0,0,0,0,0,0]
["Soybean meal","Consolidated","FARELO",3969992,201066,310159,390723,434669,400653,377341,297404,251399,277005,338686,367552,323335,4686011,322857,338253,416847,466624,421607,358040,416762,337641,342962,421263,414328,428827,5226408.87,371792,412188,466139,510473,422164,464212,426054,411507,435918,374367,432493,499101.87000000005,5754347,393573,393024,521646,521301,488445,550633,519305,401116,463474,492409,536874,472547,{"$f":"SUM(BE21:BP21)","v":6022027},362151,453770,477683,539117,540876,536495,571586,534123,518579,548966,450418,488263,6560650,334876,419029,529527,603179,582252,628711,646094,587620,560413,503838,586561,578550,3143469,483861,530605,705742,737503,685758]
["Corn meal","Consolidated","FARELO DE MILHO",null,null,null,null,null,null,null,null,null,null,null,null,null,null,null,null,null,null,null,null,null,null,null,null,null,null,null,null,null,null,null,null,null,null,null,null,null,null,null,14886,0,0,0,0,0,0,0,0,0,null,0,14886,null,12996,0,0,0,0,0,0,0,0,0,0,0,0," -   "," -   ",0,0,0,0,0,0,0,0,0,0,0,0,0,0,0,0]
["Malt","Consolidated","MALTE",2311,0,0,0,0,0,0,0,0,0,2311,0,0,0,0,0,0,0,0,0,0,0,0,0,0,0,0,0,0,0,0,0,0,0,0,0,0,0,0,0,0,0,0,0,0,0,0,0,0,0,0,0,{"$f":"SUM(BE23:BP23)","v":0},0,0,0,0,0,0,0,0,0,0,0,0,0," -   "," -   ",0,0,0,0,0,0,0,0,0,0,0,0,0,0,0,0]
["Corn","Consolidated","MILHO",7114355,1245723,140909,1682,0,0,213883,1271999,1588841,1316650,510670,344112,479886,11458575,85296,8797,0,0,7293,780246,1542625,1971538,2109089,1993773,1553793,1406125,10759302,511871,58203,0,0,22684,227177,1437771,1791480,1790353,1424964,1820700,1674099,14257220,388763,106889,21357,59186,105342,1738048,2489866,2524502,2139600,1938564,1831686,913417,12264145,88580,102557,20269,0,41,869988,1771947,1999554,1911519,1934609,1869337,1695744,8391260,141408,101243,9765,0,0,319694,1776466,1342011,861572,1088342,1144566,1606193,1200620,693464,46286,65640,293175,102055]
["Soybean","Consolidated","SOJA",9778680,142225,1526682,2103585,2093133,1677153,937865,467438,255206,176779,130487,104449,163678,12732867,606111,1731574,2304734,2025913,1936062,1226966,764236,528953,247404,303428,517462,540024,17246325,785626,1914150,2639088,2514737,2076437,2077205,1230710,1014386,849151,1002931,768766,373138,14833359,1468302,2093722,2724675,2113227,1676496,914746,611335,555493,533428,908699,857215,376021,14939229,1062084,2204041,1936863,2704449,2797585,1651143,1161146,701783,397161,201998,62343,58633,18338263,214729,1991434,3321706,3165891,2992260,2074862,1039945,659173,662358,744836,832779,638290,12263631,1389925,2866913,3266186,2467930,2272677]
["Wheat","Consolidated","TRIGO",92438,56140,1934,2974,0,0,0,0,0,0,0,9121,22269,183475,62998,82959,18082,0,0,0,0,0,0,0,6040,13396,178882,27410,6784,0,0,0,0,0,0,0,0,57524,87164,113925,46885,5420,0,0,0,0,0,0,0,0,7839,53781,259399,40940,2273,0,0,0,0,0,0,0,17013,106588,92585,269727,4953," -   ",0,0,0,0,0,0,0,1384,111305,152085,383027,138038,172565,63166,8003,1255]
["Soybean","Consolidated","ÓLEO VEGETAL",32653,521,1881,3923,4426,3402,3420,3883,3808,1572,1504,2207,2106,46671,3313,3662,4737,5046,5065,4961,5611,2898,1047,3903,2449,3979,45050,3005,3563,2366,2878,4486,3721,4887,4086,7071,6123,208,2656,12614,5141,0,1261,1228,0,0,0,0,2107,1645,616,616,0,0,0,0,0,0,0,0,0,0,0,0,0,0," -   "," -   ",0,0,0,0,0,0,0,0,0,0,0,0,0,0,0,0]
[null,"Consolidated","GRUPO - INDUSTRIAL",5071902,336172,292087,344432,357790,421952,446109,518004,541290,477514,468696,447294,420562,6233038,468193,420698,459860,464072,533317,533300,539131,540725,534650,566341,568850,603901,7510581,585337,546257,557252,561091,616026,634201,628436,697369,658850,703942,666053,655767,7036358,544671,439346,526163,574601,592158,631919,659398,685781,664252,664911,603827,449331,6345257,495547,515993,446390,587356,570430,536935,631911,668288,664319,451123,408596,368369,6988375,466725,532534,632507,643636,675712,607852,635314,664834,549104,575232,511805,493120,2765338,494213,449164,603824,561200,656937]
["Wood, pulp and paper","Consolidated","ARROZ (ENSACADO)",1665,1623,42,0,0,0,0,0,0,0,0,0,0,0,0,0,0,0,0,0,0,0,0,0,0,0,0,0,0,0,0,0,0,0,0,0,0,0,0,0,0,0,0,0,0,0,0,0,0,0,0,0,0,0,0,0,0,0,0,0,0,0,0,0,0,0," -   "," -   ",0,0,0,0,0,0,0,0,0,0,0,0,0,0,0,0]
["Wood, pulp and paper","Consolidated","CALCÁREO (IND)",46068,3740,2992,5720,2904,2816,1408,5060,2904,7480,7392,3652,0,24728,3696,3608,4708,3784,3652,1320,1320,2640,0,0,0,0,0,0,0,0,0,0,0,0,0,0,0,0,0,0,0,0,0,0,0,0,0,0,0,0,0,0,0,0,0,0,0,0,0,0,0,0,0,0,0,0," -   "," -   ",0,0,0,0,0,0,0,0,0,0,0,0,0,0,0,0]
["Wood, pulp and paper","Consolidated","CELULOSE",1130712,54928,59084,58716,60020,80060,89400,124684,128588,116056,127276,115520,116380,1733132,117576,74704,105112,119472,139980,135608,136868,136836,147088,178596,203292,238000,2864419,218791,202264,180324,171288,189148,257744,234740,300676,259936,292320,272892,284296,3124364,261552,219112,267040,249308,254196,245808,229320,260012,271520,293312,284940,288244,3135548,277460,217452,218276,199660,261830,257296,297386,304644,307790,302316,302868,188570,3363570,277146,272464,295072,288312,298506,273600,271676,321386,269282,280386,262668,253072,1329278,245434,211342,310002,277230,285270]
["Construction","Consolidated","CIMENTO",796450,51960,59887,59205,61661,57595,68650,76161,78110,74915,73999,68651,65656,770394,70778,61523,67337,65785,64955,60826,71753,74683,64073,69366,41493,57822,719827,46667,54405,66526,52833,58136,57165,65630,69407,66327,61833,67113,53785,797494,58843,59373,55397,64214,65604,67011,69113,76419,75952,76399,71587,57582,818429,66430,66962,40409,71088,75191,71841,69218,73803,69638,82218,73881,57750,913949,70642,60876,79515,80601,82658,71946,81896,82180,79629,72821,77334,73851,376524,71602,67550,79139,71224,87009]
["Construction","Consolidated","CLINQUER",298325,12038,15421,24830,24206,21349,28373,26642,33287,30294,26831,28417,26637,348772,30634,25904,26945,26618,36199,21453,30095,27898,29843,30939,33564,28680,287754,33068,23767,24856,25351,24161,24791,17865,13160,22895,33504,28274,16062,270799,27361,22733,27247,11840,21917,23499,25201,27534,21762,24160,15869,21676,294483,22840,25849,20395,19331,27277,20682,20155,24846,24973,31701,28081,28353,352156,24694,27343,30499,30285,28615,29766,28110,32045,32800,32245,30506,25248,134447,26049,31834,26522,24437,25605]
["Wood, pulp and paper","Consolidated","MADEIRA",null,null,null,null,null,null,null,null,null,null,null,null,null,null,null,null,null,null,null,null,null,null,null,null,null,null,null,null,null,null,null,null,null,null,null,null,null,null,null,0,0,0,0,0,0,0,0,0,0,0,0,0,0,0,0,0,0,0,0,0,0,0,0,0,0,0," -   "," -   ",0,0,0,0,0,0,0,0,0,0,0,0,0,0,0,0]
["Steel and mining","Consolidated","MINÉRIO",2757822,209188,147870,191456,203174,258974,257114,281418,294934,246450,228532,228966,209746,3279366,244466,252650,251534,242730,281232,306652,291462,289664,284766,278690,283092,272428,3549661,279372,261268,278814,305288,335296,285350,299150,303986,303986,311426,291648,294077,2762082,189968,130270,173444,243135,243091,285587,328064,312884,287451,261085,226460,80643,2054142,122000,204748,159442,290720,204549,184435,240952,263498,259990,34888,0,88920,2299471,90674,170686,220860,239173,257041,225485,246496,228983,167393,184491,134080,134109,910340,145254,138438,181178,186417,259053]
["Wood, pulp and paper","Consolidated","OUTROS (IND)",2504,83,842,0,1579,0,0,0,0,0,0,0,0,0,0,0,0,0,0,0,0,0,0,0,0,0,22,0,0,0,0,0,0,0,22,0,0,0,0,0,0,0,0,0,0,0,0,0,0,0,0,0,164,0,0,0,0,0,0,0,0,0,0,164,0,0," -   "," -   ",0,0,0,0,0,0,0,0,0,0,0,0,0,0,0,0]
["Wood, pulp and paper","Consolidated","PAPEL",null,null,null,null,null,null,null,null,null,null,null,null,null,null,null,null,null,null,null,null,null,null,null,null,null,null,null,null,null,null,null,null,null,null,null,null,null,null,null,0,0,0,0,0,0,0,0,0,0,0,0,0,0,0,0,0,0,0,0,0,0,0,0,0,0,0," -   "," -   ",0,0,0,0,0,0,0,0,0,0,0,0,0,0,0,0]
["Steel and mining","Consolidated","SIDERÚRGICOS (IND)",38356,2612,5949,4505,4246,1158,1164,4039,3467,2319,4666,2088,2143,76646,1043,2309,4224,5683,7299,7441,7633,9004,8880,8750,7409,6971,88898,7439,4553,6732,6331,9285,9151,11051,10118,5706,4859,6126,7547,81619,6947,7858,3035,6104,7350,10014,7700,8932,7567,9955,4971,1186,42491,6817,982,7868,6557,1583,2681,4200,1497,1928,0,3602,4776,59229,3569,1165,6561,5265,8892,7055,7136,240,0,5289,7217,6840,14749,5874,0,6983,1892,0]
["Fuels","Consolidated","GRUPO - LÍQUIDOS",5558928,403895,431638,472204,441571,448426,485322,485770,504974,506602,510167,451553,416806,5639195,438423,403009,442323,409399,461798,459987,520245,534979,504548,567981,455340,441163,5572086,432727,454748,482497,414912,420847,501896,515882,488697,482383,465400,455722,456375,5792428,457709,437437,455247,458752,483316,498336,522493,532359,501473,525139,472611,447556,5244979,461696,461952,322458,286743,410083,409302,459793,467178,492083,520579,494294,458818,5942069,471748,480324,476456,466838,510744,497006,514838,533746,507576,513894,480759,488140,2546385,485419,485060,526358,505322,544226]
[null,"Consolidated","GRUPO - OUTROS",null,null,null,null,null,null,null,null,null,null,null,null,null,null,null,null,null,null,null,null,null,null,null,null,null,null,null,null,null,null,null,null,null,null,null,null,null,null,null,2,0,0,0,0,0,0,0,0,0,1,0,1,0,0,0,0,0,0,0,0,0,0,0,0,0,4,2,1,1,0,0,0,0,0,0,0,0,0,0,0,0,0,0,0]
[null,"North","Total Produto",{"$f":"SUM(D42:D45,D54,D65)","v":20941482},1512500,1600153,1923435,1972200,1864269,1649962,1977554,2075853,1982434,1606930,1394598,1381594,24437526,1297573,1752734,2010546,1959879,2217895,2029491,2121596,2257428,2105506,2353317,2194943,2136618,28967342.870000001,1680391,2143021,2398665,2264991,2158864,2509516,2662230,2743605,2685469,2491933,2711889,2516768.87,31460951,2219067,1984367,2702593,2539708,2303032,2913556,3182551,2954193,2724510,2850985,2856615,2229774,34398967,2066801,2777616,1960457,2787580,3057496,2866446,3251457,3138455,3167355,3329751,3056197,2939356,35998726,1643093,2851096,3255749,3292235,3518270,3270011,3389291,3020256,2628704,2903942,3122264,3103815,17859788,3010359,3607552,3936526,3552443,3752908]
["Sugar","North","GRUPO - AÇÚCAR",4031626,159114,180609,139265,127612,342175,550508,294642,315576,339512,643579,566026,373008,2163443,264261,97177,57243,132363,426989,242806,113385,144136,155928,155838,158893,214424,2629478,406983,196291,160306,113837,346881,363892,159520,139393,202911,269314,150131,120019,2140095,164754,74714,182717,263268,265242,138801,114189,98405,154178,129019,95748,459060,4229508,263838,194414,122806,173784,278256,207346,171830,406858,587317,717885,631247,473927,3589307,412830,45569,77192,175534,444666,430415,149171,290171,482624,440941,412324,227870,636930,194028,29097,146150,57756,209899]
["Containers","North","GRUPO - BRADO",902038,66911,71228,78105,68800,76700,79313,85311,79213,71250,79877,79796,65534,1031163,77206,62501,70145,86667,101449,91000,90524,102534,94613,99242,85445,69837,1176487,35056,111019,101471,104069,85317,88085,117664,124431,109664,103292,96879,99540,1478003,96914,89437,127261,122676,123248,109444,131847,140161,134776,132647,138013,131579,1387783,117087,107946,109280,80242,71525,117378,125064,123704,130722,127553,142406,134876,1648657,115552,105970,109347,137087,129784,145624,147653,170227,151443,144080,138501,153389,726840,127402,143008,156558,147452,152420]
["Fertilizers","North","GRUPO - FERTILIZANTES",0,0,0,0,0,0,0,0,0,0,0,0,0,0,0,0,0,0,0,0,0,0,0,0,0,0,700690,0,0,0,1490,39138,46832,111152,109027,52548,70442,104008,166053,1732180,107379,74680,99420,130966,184699,175650,202606,161594,64507,136468,166253,227958,2367994,182939,150573,71800,178512,237698,221842,237646,160133,177808,254297,246732,248014,2677218,259463,223175,147105,151100,159329,156254,326400,316078,237472,261324,218129,221389,994083,179855,228742,213985,95893,275608]
[null,"North","GRUPO - GRÃOS",13745782,1112819,1181488,1526294,1602989,1268685,827056,1412079,1477948,1348691,661955,566802,758976,18836880,765037,1419699,1695072,1572813,1501565,1497034,1726374,1810311,1679881,1850480,1716250,1602364,20935468.870000001,993814,1592384,1855430,1817026,1420003,1681672,1949455,2042971,2002082,1731172,2038759,1810700.87,22323728,1535226,1484759,1994074,1730223,1413943,2172047,2405085,2230005,2036686,2100406,2130248,1091026,{"$f":"SUM(BD46:BD53)","v":22156103},1169700,1990404,1366875,2106054,2103651,1977110,2344991,2067470,1864690,1802711,1620543,1741904,23214690,491729,2110481,2538181,2445366,2383920,2139116,2342530,1790856,1328691,1605853,1949668,2088299,13208119,2086281,2756141,2931615,2803706,2630376]
[null,"North","ARROZ (GRANEL)",null,null,null,null,null,null,null,null,null,null,null,null,null,null,null,null,null,null,null,null,null,null,null,null,null,null,null,null,null,null,null,null,null,null,null,null,null,null,null,0,0,0,0,0,0,0,0,0,0,0,0,0,{"$f":"SUM(BE46:BP46)","v":0},0,0,0,0,0,0,0,0,0,0,0,0,0," -   "," -   ",0,0,0,0,0,0,0,0,0,0,0,0,0,0,0,0]
["Soybean meal","North","FARELO",3029211,138665,248372,314174,344702,327073,294540,225291,201266,205210,236378,251827,241713,3825322,254830,271252,337929,376599,339766,288499,342228,281327,288632,356200,336901,351159,4064821.87,276811,338182,380643,410914,314032,361905,313799,309701,339574,308946,327625,382689.87,4270319,301233,288059,399566,394771,373017,382772,366677,311848,332050,355964,410599,353763,4552887,258548,357153,337667,441612,390450,411490,417490,402115,368129,410441,354102,403690,{"$f":"SUM(BR47:CC47)","v":4951838},264328,363904,403452,450715,426796,467850,497982,428979,392715,332790,460882,461445,2455051,385790,431714,538016,570770,528761]
["Corn meal","North","FARELO DE MILHO",null,null,null,null,null,null,null,null,null,null,null,null,null,null,null,null,null,null,null,null,null,null,null,null,null,null,null,null,null,null,null,null,null,null,null,null,null,null,null,{"$f":"SUM(AR48:BC48)","v":14886},0,0,0,0,0,0,0,0,0,null,0,14886,12996,12996,0,0,0,0,0,0,0,0,0,0,0,0," -   "," -   ",0,0,0,0,0,0,0,0,0,0,0,0,0,0,0,0]
["Malt","North","MALTE",null,null,null,null,null,null,null,null,null,null,null,null,null,null,null,null,null,null,null,null,null,null,null,null,null,null,null,null,null,null,null,null,null,null,null,null,null,null,null,0,0,0,0,0,0,0,0,0,0,0,0,0,0,0,0,0,0,0,0,0,0,0,0,0,0,0," -   "," -   ",0,0,0,0,0,0,0,0,0,0,0,0,0,0,0,0]
["Corn","North","MILHO",5901716,901140,51329,131,0,0,213479,1159751,1276682,1143481,425577,299064,431082,9087457,63752,185,0,0,7240,761556,1283092,1455549,1391249,1494280,1379349,1251205,9874286,294069,40663,0,0,22060,227177,1432772,1687615,1645201,1407075,1689643,1428011,10779143,234746,0,0,0,44666,1479970,1912642,1818859,1619625,1554429,1439804,674402,9629770,1223,0,0,0,0,869988,1694890,1617572,1449172,1392270,1266441,1338214,7832741,31014,-2942,0,0,0,319368,1776466,1298815,837666,1052141,1088770,1431443,836309,600499,46035,0,140739,49036]
["Soybean","North","SOJA",4814855,73014,881787,1211989,1258287,941612,319037,27037,0,0,0,15911,86181,5924101,446455,1148262,1357143,1196214,1154559,446979,101054,73435,0,0,0,0,6996361,422934,1213539,1474787,1406112,1083911,1092590,202884,45655,17307,15151,21491,0,7259380,999247,1196700,1594508,1335452,996260,309305,125766,99298,85011,190013,279845,47975,7960450,896933,1633251,1029208,1664442,1713201,695632,232611,47783,47389,0,0,0,10430111,196387,1749519,2134729,1994651,1957124,1351898,68082,63062,98310,220922,400016,195411,9916759,1099992,2278392,2393599,2092197,2052579]
["Wheat","North","TRIGO",null,null,null,null,null,null,null,null,null,null,null,null,null,null,null,null,null,null,null,null,null,null,null,null,null,null,null,null,null,null,null,null,null,null,null,null,null,null,null,0,0,0,0,0,0,0,0,0,0,0,0,0,0,0,0,0,0,0,0,0,0,0,0,0,0,0," -   "," -   ",0,0,0,0,0,0,0,0,0,0,0,0,0,0,0,0]
["Soybean","North","ÓLEO VEGETAL",null,null,null,null,null,null,null,null,null,null,null,null,null,null,null,null,null,null,null,null,null,null,null,null,null,null,null,null,null,null,null,null,null,null,null,null,null,null,null,0,0,0,0,0,0,0,0,0,0,0,0,0,0,0,0,0,0,0,0,0,0,0,0,0,0,0," -   "," -   ",0,0,0,0,0,0,0,0,0,0,0,0,0,0,0,0]
[null,"North","GRUPO - INDUSTRIAL",33515,15052,16072,1631,760,0,0,0,0,0,0,0,0,185416,0,0,0,0,0,0,0,0,0,31240,69256,84920,1268872,75240,74888,104192,69696,91960,103400,103576,129360,117920,132352,132352,133936,1588048,128832,95832,131296,139392,134552,121528,127952,121704,138776,152592,142736,152856,1980924,152328,148984,139314,163230,181830,180048,171906,169878,176850,183428,189220,123908,2097582,151642,152364,179644,163964,171778,158892,176168,199038,183894,197898,184612,177688,1025686,177936,194382,232948,204398,216022]
["Wood, pulp and paper","North","ARROZ (ENSACADO)",null,null,null,null,null,null,null,null,null,null,null,null,null,null,null,null,null,null,null,null,null,null,null,null,null,null,null,null,null,null,null,null,null,null,null,null,null,null,null,0,0,0,0,0,0,0,0,0,0,0,0,0,0,0,0,0,0,0,0,0,0,0,0,0,0,0," -   "," -   ",0,0,0,0,0,0,0,0,0,0,0,0,0,0,0,0]
["Wood, pulp and paper","North","CALCÁREO (IND)",null,null,null,null,null,null,null,null,null,null,null,null,null,null,null,null,null,null,null,null,null,null,null,null,null,null,null,null,null,null,null,null,null,null,null,null,null,null,null,0,0,0,0,0,0,0,0,0,0,0,0,0,0,0,0,0,0,0,0,0,0,0,0,0,0,0," -   "," -   ",0,0,0,0,0,0,0,0,0,0,0,0,0,0,0,0]
["Wood, pulp and paper","North","CELULOSE",30184,15052,15132,0,0,0,0,0,0,0,0,0,0,185416,0,0,0,0,0,0,0,0,0,31240,69256,84920,1268872,75240,74888,104192,69696,91960,103400,103576,129360,117920,132352,132352,133936,1588048,128832,95832,131296,139392,134552,121528,127952,121704,138776,152592,142736,152856,1980924,152328,148984,139314,163230,181830,180048,171906,169878,176850,183428,189220,123908,2097582,151642,152364,179644,163964,171778,158892,176168,199038,183894,197898,184612,177688,1025686,177936,194382,232948,204398,216022]
["Construction","North","CIMENTO",null,null,null,null,null,null,null,null,null,null,null,null,null,null,null,null,null,null,null,null,null,null,null,null,null,null,null,null,null,null,null,null,null,null,null,null,null,null,null,0,0,0,0,0,0,0,0,0,0,0,0,0,0,0,0,0,0,0,0,0,0,0,0,0,0,0," -   "," -   ",0,0,0,0,0,0,0,0,0,0,0,0,0,0,0,0]
["Construction","North","CLINQUER",null,null,null,null,null,null,null,null,null,null,null,null,null,null,null,null,null,null,null,null,null,null,null,null,null,null,null,null,null,null,null,null,null,null,null,null,null,null,null,0,0,0,0,0,0,0,0,0,0,0,0,0,0,0,0,0,0,0,0,0,0,0,0,0,0,0," -   "," -   ",0,0,0,0,0,0,0,0,0,0,0,0,0,0,0,0]
["Wood, pulp and paper","North","MADEIRA",null,null,null,null,null,null,null,null,null,null,null,null,null,null,null,null,null,null,null,null,null,null,null,null,null,null,null,null,null,null,null,null,null,null,null,null,null,null,null,0,0,0,0,0,0,0,0,0,0,0,0,0,0,0,0,0,0,0,0,0,0,0,0,0,0,0," -   "," -   ",0,0,0,0,0,0,0,0,0,0,0,0,0,0,0,0]
["Steel and mining","North","MINÉRIO",null,null,null,null,null,null,null,null,null,null,null,null,null,null,null,null,null,null,null,null,null,null,null,null,null,null,null,null,null,null,null,null,null,null,null,null,null,null,null,0,0,0,0,0,0,0,0,0,0,0,0,0,0,0,0,0,0,0,0,0,0,0,0,0,0,0," -   "," -   ",0,0,0,0,0,0,0,0,0,0,0,0,0,0,0,0]
["Wood, pulp and paper","North","OUTROS (IND)",null,null,null,null,null,null,null,null,null,null,null,null,null,null,null,null,null,null,null,null,null,null,null,null,null,null,null,null,null,null,null,null,null,null,null,null,null,null,null,0,0,0,0,0,0,0,0,0,0,0,0,0,0,0,0,0,0,0,0,0,0,0,0,0,0,0," -   "," -   ",0,0,0,0,0,0,0,0,0,0,0,0,0,0,0,0]
["Wood, pulp and paper","North","PAPEL",null,null,null,null,null,null,null,null,null,null,null,null,null,null,null,null,null,null,null,null,null,null,null,null,null,null,null,null,null,null,null,null,null,null,null,null,null,null,null,0,0,0,0,0,0,0,0,0,0,0,0,0,0,0,0,0,0,0,0,0,0,0,0,0,0,0," -   "," -   ",0,0,0,0,0,0,0,0,0,0,0,0,0,0,0,0]
["Steel and mining","North","SIDERÚRGICOS (IND)",3331,0,940,1631,760,0,0,0,0,0,0,0,0,0,0,0,0,0,0,0,0,0,0,0,0,0,0,0,0,0,0,0,0,0,0,0,0,0,0,0,0,0,0,0,0,0,0,0,0,0,0,0,0,0,0,0,0,0,0,0,0,0,0,0,0,0," -   "," -   ",0,0,0,0,0,0,0,0,0,0,0,0,0,0,0,0]
["Fuels","North","GRUPO - LÍQUIDOS",2228521,158604,150756,178140,172039,176709,193085,185522,203116,222981,221519,181974,184076,2220624,191069,173357,188086,168036,187892,198651,191313,200447,175084,216517,165099,165073,2256347,169298,168439,177266,158873,175565,225635,220863,198423,200344,185361,189760,186520,2198897,185962,164945,167825,153183,181348,196086,200872,202324,195587,199853,183617,167295,2276655,180909,185295,150382,85758,184536,162722,200020,210412,229968,243877,226049,216727,2771268,211875,213536,204279,219184,228793,239710,247369,253886,244580,253846,219030,235180,1268130,244857,256182,255270,243238,268583]
[null,"North","GRUPO - OUTROS",null,null,null,null,null,null,null,null,null,null,null,null,null,null,null,null,null,null,null,null,null,null,null,null,null,null,null,null,null,null,null,null,null,null,null,null,null,null,null,0,0,0,0,0,0,0,0,0,0,0,0,0,0,0,0,0,0,0,0,0,0,0,0,0,0,4,2,1,1,0,0,0,0,0,0,0,0,0,0,0,0,0,0,0]
[null,"South","Total Produto",{"$f":"SUM(D68:D71,D80,D91)","v":21898345},1396695,1518525,1862919,1880507,1994539,2012283,2125217,2218087,1986590,1755196,1596414,1551373,25479141,1367730,1613017,1993288,2016154,2254701,2214727,2493351,2546874,2523183,2360181,2123207,1972728,26979720,1731188,1812571,2206983,2256500,2311706,2409019,2487927,2590407,2420513,2447884,2242320,2062702,26213089,1720405,1932370,2146720,1996003,2040250,2290514,2609596,2617255,2397307,2495734,2349660,1617275,24585535,1361169,1661211,1766802,2136437,2418425,2210349,2415455,2483855,2402242,2122719,2001183,1605688,24417087,1158150,1336796,2332820,2398427,2572433,2347689,2413784,2107337,2093996,1993163,1831193,1831299,8572915,1522439,1620431,2063339,1620624,1746082]
["Sugar","South","GRUPO - AÇÚCAR",4040816,184128,41976,120054,189475,301032,356204,462965,525988,529648,452544,394142,482660,3800525,162061,76617,99284,197194,391807,393908,471068,468954,474359,427402,408558,229313,2792428,95716,100741,61051,140866,293824,328999,323673,348727,322693,332534,189930,253674,{"$f":"SUM(AR68:BC68)","v":2190806},49545,49698,44071,131100,214158,241768,323296,253004,226982,221436,303121,132627,3676295,136542,71985,94197,186739,371948,327917,324610,365722,492964,486697,458966,358008,3820199,198217,104491,159571,183594,411511,558124,363731,328288,512997,442534,342388,214753,765847,144587,70360,63346,112592,374962]
["Containers","South","GRUPO - BRADO",987992,73284,93190,99643,97589,92724,93533,79986,78660,76560,74110,67530,61183,843238,73020,69811,77705,70216,78859,75727,74613,80645,64618,64069,51815,62140,1038978,54662,71673,77315,85996,71602,86922,93614,98675,98943,104337,98445,96794,1282209,90640,90762,101026,101752,106427,104621,114111,119176,124954,114232,110897,103611,1427639,113644,112708,96084,118359,119740,129901,134317,125444,127172,123976,120098,106196,1289453,110573,124471,115484,125248,118461,108776,110641,99512,87253,92317,98332,98385,680753,125531,129295,134955,140434,150538]
["Fertilizers","South","GRUPO - FERTILIZANTES",1256096,40016,26385,29764,37642,94591,118747,135369,148985,195932,149495,157230,121940,1098466,101564,70693,52874,118539,108350,77277,76747,91299,99471,110258,95177,96217,1070367,101394,79975,58163,71142,71164,95393,100794,106234,95497,82171,113350,95090,1035610,125196,61608,44469,57654,103751,100104,103701,99857,112086,81550,81575,64059,807251,89926,60615,29429,68716,77739,68548,77062,69523,69953,67774,66355,61611,900631,70167,59651,9908,38555,65984,90382,92822,135933,109888,88383,76008,62950,325780,76475,76888,53955,45807,72655]
[null,"South","GRUPO - GRÃOS",7244647,532856,800077,976593,929239,812523,705453,628645,621306,423315,321703,260639,232298,10270719,315538,745546,1049328,924770,868462,873179,1002860,1030719,1020621,871887,777822,789987,12520499,705890,802504,1252163,1211062,1105768,1090643,1149967,1178488,1080411,1077213,1040932,825458,12662623,767438,1114296,1274865,964719,856340,1031380,1215421,1251106,1101923,1240911,1103982,740242,11341693,397051,772237,1067940,1137512,1234851,1080516,1159688,1167990,962569,899875,868143,593321,10345210,204237,401225,1322817,1323704,1190592,884151,1119975,797948,755652,732547,725543,886819,3782628,619007,860228,1169119,702905,431369]
[null,"South","ARROZ (GRANEL)",null,null,null,null,null,null,null,null,null,null,null,null,null,null,null,null,null,null,null,null,null,null,null,null,null,null,null,null,null,null,null,null,null,null,null,null,null,null,null,0,0,0,0,0,0,0,0,0,0,0,0,0,0,0,0,0,0,0,0,0,0,0,0,0,0,0," -   "," -   ",0,0,0,0,0,0,0,0,0,0,0,0,0,0,0,0]
["Soybean meal","South","FARELO",940781,62401,61787,76549,89967,73580,82801,72113,50133,71795,102308,115725,81622,860689,68027,67001,78918,90025,81841,69541,74534,56314,54330,65063,77427,77668,1161587,94981,74006,85496,99559,108132,102307,112255,101806,96344,65421,104868,116412,1484028,92340,104965,122080,126530,115428,167861,152628,89268,131424,136445,126275,118784,1469140,103603,96617,140016,97505,150426,125005,154096,132008,150450,138525,96316,84573,1608812,70548,55125,126075,152464,155456,160861,148112,158641,167698,171048,125679,117105,688418,98071,98891,167726,166733,156997]
["Corn meal","South","FARELO DE MILHO",null,null,null,null,null,null,null,null,null,null,null,null,null,null,null,null,null,null,null,null,null,null,null,null,null,null,null,null,null,null,null,null,null,null,null,null,null,null,null,null,null,null,null,null,null,null,null,null,null,null,null,null,null,null,null,null,null,null,null,null,null,null,null,null,0,0," -   "," -   ",0,0,0,0,0,0,0,0,0,0,0,0,0,0,0,0]
["Malt","South","MALTE",2311,0,0,0,0,0,0,0,0,0,2311,0,0,0,0,0,0,0,0,0,0,0,0,0,0,0,0,0,0,0,0,0,0,0,0,0,0,0,0,{"$f":"SUM(AR75:BC75)","v":0},0,0,0,0,0,0,0,0,0,0,0,0,{"$f":"SUM(BE75:BP75)","v":0},0,0,0,0,0,0,0,0,0,0,0,0,0," -   "," -   ",0,0,0,0,0,0,0,0,0,0,0,0,0,0,0,0]
["Corn","South","MILHO",1212639,344583,89580,1551,0,0,404,112248,312159,173169,85093,45048,48804,2371118,21544,8612,0,0,53,18690,259533,515989,717840,499493,174444,154920,885016,217802,17540,0,0,624,0,4999,103865,145152,17889,131057,246088,3478077,154017,106889,21357,59186,60676,258078,577224,705643,519975,384135,391882,239015,2634375,87357,102557,20269,0,41,0,77057,381982,462347,542339,602896,357530,558519,110394,104185,9765,0,0,326,0,43196,23906,36201,55796,174750,364311,92965,251,65640,152436,53019]
["Soybean","South","SOJA",4963825,69211,644895,891596,834846,735541,618828,440401,255206,176779,130487,88538,77497,6808766,159656,583312,947591,829699,781503,779987,663182,455518,247404,303428,517462,540024,10249964,362692,700611,1164301,1108625,992526,984615,1027826,968731,831844,987780,747275,373138,7573979,469055,897022,1130167,777775,680236,605441,485569,456195,448417,718686,577370,328046,6978779,165151,570790,907655,1040007,1084384,955511,928535,654000,349772,201998,62343,58633,7908152,18342,241915,1186977,1171240,1035136,722964,971863,596111,564048,523914,432763,442879,2346872,289933,588521,872587,375733,220098]
["Wheat","South","TRIGO",92438,56140,1934,2974,0,0,0,0,0,0,0,9121,22269,183475,62998,82959,18082,0,0,0,0,0,0,0,6040,13396,178882,27410,6784,0,0,0,0,0,0,0,0,57524,87164,113925,46885,5420,0,0,0,0,0,0,0,0,7839,53781,259399,40940,2273,0,0,0,0,0,0,0,17013,106588,92585,269727,4953," -   ",0,0,0,0,0,0,0,1384,111305,152085,383027,138038,172565,63166,8003,1255]
["Soybean","South","ÓLEO VEGETAL",32653,521,1881,3923,4426,3402,3420,3883,3808,1572,1504,2207,2106,46671,3313,3662,4737,5046,5065,4961,5611,2898,1047,3903,2449,3979,45050,3005,3563,2366,2878,4486,3721,4887,4086,7071,6123,208,2656,12614,5141,0,1261,1228,0,0,0,0,2107,1645,616,616,0,0,0,0,0,0,0,0,0,0,0,0,0,{"$f":"SUM(BR79:CC79)","v":0}," -   "," -   ",0,0,0,0,0,0,0,0,0,0,{"$f":"SUM(CE79:CP79)","v":0},0,0,0,0,0]
[null,"South","GRUPO - INDUSTRIAL",5038387,321120,276015,342801,357030,421952,446109,518004,541290,477514,468696,447294,420562,6047622,468193,420698,459860,464072,533317,533300,539131,540725,534650,535101,499594,518981,6241709,510097,471369,453060,491395,524066,530801,524860,568009,540930,571590,533701,521831,5448310,415839,343514,394867,435209,457606,510391,531446,564077,525476,512319,461091,296475,4364333,343219,367009,307076,424126,388600,356887,460005,498410,487469,267695,219376,244461,4890793,315083,380170,452863,479672,503934,448960,459146,465796,365210,377334,327193,315432,1739652,316277,254782,370876,356802,440915]
["Wood, pulp and paper","South","ARROZ (ENSACADO)",1665,1623,42,0,0,0,0,0,0,0,0,0,0,0,0,0,0,0,0,0,0,0,0,0,0,0,0,0,0,0,0,0,0,0,0,0,0,0,0,0,0,0,0,0,0,0,0,0,0,0,0,0,0,0,0,0,0,0,0,0,0,0,0,0,0,0," -   "," -   ",0,0,0,0,0,0,0,0,0,0,0,0,0,0,0,0]
["Wood, pulp and paper","South","CALCÁREO (IND)",46068,3740,2992,5720,2904,2816,1408,5060,2904,7480,7392,3652,0,24728,3696,3608,4708,3784,3652,1320,1320,2640,0,0,0,0,0,0,0,0,0,0,0,0,0,0,0,0,0,0,0,0,0,0,0,0,0,0,0,0,0,0,0,0,0,0,0,0,0,0,0,0,0,0,0,0," -   "," -   ",0,0,0,0,0,0,0,0,0,0,0,0,0,0,0,0]
["Wood, pulp and paper","South","CELULOSE",1100528,39876,43952,58716,60020,80060,89400,124684,128588,116056,127276,115520,116380,1547716,117576,74704,105112,119472,139980,135608,136868,136836,147088,147356,134036,153080,1595547,143551,127376,76132,101592,97188,154344,131164,171316,142016,159968,140540,150360,1536316,132720,123280,135744,109916,119644,124280,101368,138308,132744,140720,142204,135388,1154624,125132,68468,78962,36430,80000,77248,125480,134766,130940,118888,113648,64662,1265988,125504,120100,115428,124348,126728,114708,95508,122348,85388,82488,78056,75384,303592,67498,16960,77054,72832,69248]
["Construction","South","CIMENTO",796450,51960,59887,59205,61661,57595,68650,76161,78110,74915,73999,68651,65656,770394,70778,61523,67337,65785,64955,60826,71753,74683,64073,69366,41493,57822,719827,46667,54405,66526,52833,58136,57165,65630,69407,66327,61833,67113,53785,797494,58843,59373,55397,64214,65604,67011,69113,76419,75952,76399,71587,57582,818429,66430,66962,40409,71088,75191,71841,69218,73803,69638,82218,73881,57750,913949,70642,60876,79515,80601,82658,71946,81896,82180,79629,72821,77334,73851,376524,71602,67550,79139,71224,87009]
["Construction","South","CLINQUER",298325,12038,15421,24830,24206,21349,28373,26642,33287,30294,26831,28417,26637,348772,30634,25904,26945,26618,36199,21453,30095,27898,29843,30939,33564,28680,287754,33068,23767,24856,25351,24161,24791,17865,13160,22895,33504,28274,16062,270799,27361,22733,27247,11840,21917,23499,25201,27534,21762,24160,15869,21676,294483,22840,25849,20395,19331,27277,20682,20155,24846,24973,31701,28081,28353,352156,24694,27343,30499,30285,28615,29766,28110,32045,32800,32245,30506,25248,134447,26049,31834,26522,24437,25605]
["Wood, pulp and paper","South","MADEIRA",null,null,null,null,null,null,null,null,null,null,null,null,null,null,null,null,null,null,null,null,null,null,null,null,null,null,null,null,null,null,null,null,null,null,null,null,null,null,null,0,0,0,0,0,0,0,0,0,0,0,0,0,0,0,0,0,0,0,0,0,0,0,0,0,0,0," -   "," -   ",0,0,0,0,0,0,0,0,0,0,0,0,0,0,0,0]
["Steel and mining","South","MINÉRIO",2757822,209188,147870,191456,203174,258974,257114,281418,294934,246450,228532,228966,209746,3279366,244466,252650,251534,242730,281232,306652,291462,289664,284766,278690,283092,272428,3549661,279372,261268,278814,305288,335296,285350,299150,303986,303986,311426,291648,294077,2762082,189968,130270,173444,243135,243091,285587,328064,312884,287451,261085,226460,80643,2054142,122000,204748,159442,290720,204549,184435,240952,263498,259990,34888,0,88920,2299471,90674,170686,220860,239173,257041,225485,246496,228983,167393,184491,134080,134109,910340,145254,138438,181178,186417,259053]
["Wood, pulp and paper","South","OUTROS (IND)",2504,83,842,0,1579,0,0,0,0,0,0,0,0,0,0,0,0,0,0,0,0,0,0,0,0,0,22,0,0,0,0,0,0,0,22,0,0,0,0,0,0,0,0,0,0,0,0,0,0,0,0,0,164,0,0,0,0,0,0,0,0,0,0,164,0,0," -   "," -   ",0,0,0,0,0,0,0,0,0,0,0,0,0,0,0,0]
["Wood, pulp and paper","South","PAPEL",null,null,null,null,null,null,null,null,null,null,null,null,null,null,null,null,null,null,null,null,null,null,null,null,null,null,null,null,null,null,null,null,null,null,null,null,null,null,null,0,0,0,0,0,0,0,0,0,0,0,0,0,0,0,0,0,0,0,0,0,0,0,0,0,0,0," -   "," -   ",0,0,0,0,0,0,0,0,0,0,0,0,0,0,0,0]
["Steel and mining","South","SIDERÚRGICOS (IND)",35025,2612,5009,2874,3486,1158,1164,4039,3467,2319,4666,2088,2143,76646,1043,2309,4224,5683,7299,7441,7633,9004,8880,8750,7409,6971,88898,7439,4553,6732,6331,9285,9151,11051,10118,5706,4859,6126,7547,81619,6947,7858,3035,6104,7350,10014,7700,8932,7567,9955,4971,1186,42491,6817,982,7868,6557,1583,2681,4200,1497,1928,0,3602,4776,59229,3569,1165,6561,5265,8892,7055,7136,240,0,5289,7217,6840,14749,5874,0,6983,1892,0]
["Fuels","South","GRUPO - LÍQUIDOS",3330407,245291,280882,294064,269532,271717,292237,300248,301858,283621,288648,269579,232730,3418571,247354,229652,254237,241363,273906,261336,328932,334532,329464,351464,290241,276090,3315739,263429,286309,305231,256039,245282,276261,295019,290274,282039,280039,265962,269855,3593531,271747,272492,287422,305569,301968,302250,321621,330035,305886,325286,288994,280261,2968324,280787,276657,172076,200985,225547,246580,259773,256766,262115,276702,268245,242091,3170801,259873,266788,272177,247654,281951,257296,267469,279860,262996,260048,261729,252960,1278255,240562,228878,271088,262084,275643]
[null,"South","GRUPO - OUTROS",null,null,null,null,null,null,null,null,null,null,null,null,null,null,null,null,null,null,null,null,null,null,null,null,null,null,null,null,null,null,null,null,null,null,null,null,null,null,null,null,0,0,0,0,0,0,0,0,0,0,0,0,0,0,0,0,0,0,0,0,0,0,0,0,0,0," -   "," -   ",0,0,0,0,0,0,0,0,0,0,0,0,0,0,0,0]
[null,null,null,null,null,null,null,null,null,null,null,null,null,null,null,null,null,null,null,null,null,null,null,null,null,null,null,null,null,null,null,null,null,null,null,null,null,null,null,null,null,null,null,null,null,null,null,null,0,0,null,null,null,null,null,null,0,0,0,0,0,0,0,0,0,0,0,null,null,null,null,null,null,null,"","","","","","","",null,"","","","",""]
[null,null,null,null,null,null,null,null,null,null,null,null,null,null,null,null,null,null,null,null,null,null,null,null,null,null,null,null,null,null,null,null,null,null,null,null,null,null,null,null,null,null,null,null,null,null,null,null,null,null,null,null,null,null,null,null,null,null,null,null,null,null,null,null,null,null,null,null,null,null,null,null,null,null,"","","","","","","",null,"","","","",""]
[null,null,null,null,null,null,null,null,null,null,null,null,null,null,null,null,null,null,null,null,null,null,null,null,null,null,null,null,null,null,null,null,null,null,null,null,null,null,null,null,null,null,null,null,null,null,null,null,null,null,null,null,null,null,null,null,null,null,null,null,null,null,null,null,null,null,null,null,null,null,null,null,null,null,"","","","","","","",null,"","","","",""]
[null,null,null,null,null,null,null,null,null,null,null,null,null,null,null,null,null,null,null,null,null,null,null,null,null,null,null,null,null,null,null,null,null,null,null,null,null,null,null,null,null,null,null,null,null,null,null,null,null,null,null,null,null,null,null,null,null,null,null,null,null,null,null,null,null,null,null,null,null,null,null,null,null,null,"","","","","","","",null,"","","","",""]
[null,null,null,null,null,null,null,null,null,null,null,null,null,null,null,null,null,null,null,null,null,null,null,null,null,null,null,null,null,null,null,null,null,null,null,null,null,null,null,null,null,null,null,null,null,null,null,null,null,null,null,null,null,null,null,null,null,null,null,null,null,null,null,null,null,null,null,null,null,null,null,null,null,null,"","","","","","","",null,"","","","",""]
[null,null,null,null,null,null,null,null,null,null,null,null,null,null,null,null,null,null,null,null,null,null,null,null,null,null,null,null,null,null,null,null,null,null,null,null,null,null,null,null,null,null,null,null,null,null,null,null,null,null,null,null,null,null,null,null,null,null,null,null,null,null,null,null,null,null,null,null,null,null,null,null,null,null,"","","","","","","",null,"","","","",""]
[null,null,null,null,null,null,null,null,null,null,null,null,null,null,null,null,null,null,null,null,null,null,null,null,null,null,null,null,null,null,null,null,null,null,null,null,null,null,null,null,null,null,null,null,null,null,null,null,null,null,null,null,null,null,null,null,null,null,null,null,null,null,null,null,null,null,null,null,null,null,null,null,null,null,"","","","","","","",null,"","","","",""]
[null,null,null,null,null,null,null,null,null,null,null,null,null,null,null,null,null,null,null,null,null,null,null,null,null,null,null,null,null,null,null,null,null,null,null,null,null,null,null,null,null,null,null,null,null,null,null,null,null,null,null,null,null,null,null,null,null,null,null,null,null,null,null,null,null,null,null,null,null,null,null,null,null,null,"","","","","","","",null,"","","","",""]

{"sheet":"Rumo BD","index":6,"n_rows":11,"n_cols":92,"rows_kept":11,"cut":false,"hidden":true,"merged":[]}
["CUBE:","Cosan_Logistica:CLOG.ACO.130.MARGEM.RUMO"]
["ALL.D.VERSAO","Realizado"]
["ALL.D.TEMPO.ANO"]
["CLOG.D.ACO.GRUPO.MARGEM.RUMO","Volume (Ton)"]
["CLOG.M.ACO.MARGEM.RUMO","Valor Total"]
["ALL.D.MENSAL.YTD","Mensal"]
[]
[null,"2016","2016","2016","2016","2016","2016","2016","2016","2016","2016","2016","2016","2016","2017","2017","2017","2017","2017","2017","2017","2017","2017","2017","2017","2017","2017","2018","2018","2018","2018","2018","2018","2018","2018","2018","2018","2018","2018","2018","2019","2019","2019","2019","2019","2019","2019","2019","2019","2019","2019","2019","2019",2020,2020,2020,2020,2020,2020,2020,2020,2020,2020,2020,2020,2020,2021,2021,2021,2021,2021,2021,2021,2021,2021,2021,2021,2021,2021,2022,2022,2022,2022,2022,2022,2022,2022,2022,2022,2022,2022,2022]
[null,"Total Ano","Janeiro","Fevereiro","Março","Abril","Maio","Junho","Julho","Agosto","Setembro","Outubro","Novembro","Dezembro","Total Ano","Janeiro","Fevereiro","Março","Abril","Maio","Junho","Julho","Agosto","Setembro","Outubro","Novembro","Dezembro","Total Ano","Janeiro","Fevereiro","Março","Abril","Maio","Junho","Julho","Agosto","Setembro","Outubro","Novembro","Dezembro","Total Ano","Janeiro","Fevereiro","Março","Abril","Maio","Junho","Julho","Agosto","Setembro","Outubro","Novembro","Dezembro","Total Ano","Janeiro","Fevereiro","Março","Abril","Maio","Junho","Julho","Agosto","Setembro","Outubro","Novembro","Dezembro","Total Ano","Janeiro","Fevereiro","Março","Abril","Maio","Junho","Julho","Agosto","Setembro","Outubro","Novembro","Dezembro","Total Ano","Janeiro","Fevereiro","Março","Abril","Maio","Junho","Julho","Agosto","Setembro","Outubro","Novembro","Dezembro"]
["Elevação",13113696.545,563944,1034725.1459999999,1256287.5680000002,790290.902,1385839.7860000001,1337228.4069999999,1446591.523,1370670.8829999999,1335441.5190000001,1002999.902,991273.00100000005,598403.90800000005,13133264.848999999,448691.78600000002,990337.674,1062339.5279999999,728499.34499999997,1386043.21,1177130.196,1198897.24,1305722.574,1462392.844,1422848.6189999999,1202030.622,748331.21099999989,11400536.983000001,575252.29800000007,894197.076,1004462.753,770344.61599999992,860548.32499999995,1041464.306,1139332.7390000001,1028650.6129999999,1300371.0419999999,578963.42099999997,1127285.017,1079664.777,4324663.4369999999,849241.55,848437.08,1122643.1399999999,820902.33,683439.34,1123125.53,1175676.93,971107.51,953165.34,1148336.92,766630.91,750420.47,{"$f":"SUM(BC10:BN10)","v":14446644.41},593457.99,844553.29,1106753.32,1257871.44,1654912.33,1210769.76,1452716.87,1502891.89,1289811.29,1181065.33,1208736.76,1143104.1399999999,{"$f":"SUM(BP10:CA10)","v":12493331.082},644082,845289.09,1374488.48,1178864.8700000001,1286065.6000000001,1171816.878,922173.48200000008,1053564.47,1119736.8570000001,781592.92500000005,1165499.7529999998,950156.67699999991,{"$f":"SUM(CC10:CN10)","v":4761339.0219999999},745696.64800000004,1119738.888,1051892.8740000001,665720.74599999993,1178289.8660000002]
["Transporte",6597615.3770000003,729098.674,1067798.1090000002,886893,179879.81,429345.06,573343.86,466912.41899999976,531465.8069999998,496566.522,561482.28700000001,420731.00800000026,254098.82099999997,4524385.0949999997,213886.75,340748.69999999995,306416.54399999999,241595.91900000005,533248.44799999997,538287.74500000011,399640.13400000019,433390.75900000008,475429.10099999985,451944.66299999971,371503.63100000017,218292.70100000006,4674213.1320000002,284314.97499999992,312541.01500000001,509326.77500000014,240087.12500000006,540742.77899999963,683712.64600000018,440177.74200000009,337175.1719999999,457198.56999999989,356704.25999999995,262020.19400000013,250211.87899999999,1949337.477,366343.1,414353.01,466174.81,274827.18,427639.39,383778.44,266765.15999999997,366021.46,365693.81,353079.76,287010.44,363545.98,7033324.7000000002,389622.68,440347.27,316390.77,472887.97,562335.17000000004,561169.1,581302.34,725888.95,722617.34,839417.2,863489.02,557856.89,5526312.3619999997,441354.73,268376.84999999998,368168.44,309180.83,596121.75,631752.5399999998,397226.42399999988,427414.04099999985,525420.56900000013,527216.82200000016,630470.36800000025,403608.99799999991,1887129.8599999999,427661.20900000003,386420.6559999999,422766.60400000005,119773.23500000002,530508.15599999984]

{"sheet":"Rumo DB","index":7,"n_rows":11,"n_cols":92,"rows_kept":11,"cut":false,"hidden":true,"merged":[]}
["CUBE:","Cosan_Logistica:CLOG.ACO.130.MARGEM.RUMO"]
["ALL.D.VERSAO","Realizado"]
["ALL.D.TEMPO.ANO"]
["CLOG.D.ACO.GRUPO.MARGEM.RUMO","Volume (Ton)"]
["CLOG.M.ACO.MARGEM.RUMO","Valor Total"]
["ALL.D.MENSAL.YTD","Mensal"]
[]
[null,"2016","2016","2016","2016","2016","2016","2016","2016","2016","2016","2016","2016","2016","2017","2017","2017","2017","2017","2017","2017","2017","2017","2017","2017","2017","2017","2018","2018","2018","2018","2018","2018","2018","2018","2018","2018","2018","2018","2018","2019","2019","2019","2019","2019","2019","2019","2019","2019","2019","2019","2019","2019",2020,2020,2020,2020,2020,2020,2020,2020,2020,2020,2020,2020,2020,2021,2021,2021,2021,2021,2021,2021,2021,2021,2021,2021,2021,2021,2022,2022,2022,2022,2022,2022,2022,2022,2022,2022,2022,2022,2022]
[null,"Full Year","January","February","March","April","May","June","July","August","September","October","November","December","Full Year","January","February","March","April","May","June","July","August","September","October","November","December","Full Year","January","February","March","April","May","June","July","August","September","October","November","December","Full Year","January","February","March","April","May","June","July","August","September","October","November","December","Full Year","January","February","March","April","May","June","July","August","September","October","November","December","Full Year","January","February","March","April","May","June","July","August","September","October","November","December","Full Year","January","February","March","April","May","June","July","August","September","October","November","December"]
["Port Elevation ",13113696.545,563944,1034725.1459999999,1256287.5680000002,790290.902,1385839.7860000001,1337228.4069999999,1446591.523,1370670.8829999999,1335441.5190000001,1002999.902,991273.00100000005,598403.90800000005,13133264.848999999,448691.78600000002,990337.674,1062339.5279999999,728499.34499999997,1386043.21,1177130.196,1198897.24,1305722.574,1462392.844,1422848.6189999999,1202030.622,748331.21099999989,11400536.983000001,575252.29800000007,894197.076,1004462.753,770344.61599999992,860548.32499999995,1041464.306,1139332.7390000001,1028650.6129999999,1300371.0419999999,578963.42099999997,1127285.017,1079664.777,4324663.4369999999,849241.55,848437.08,1122643.1399999999,820902.33,683439.34,1123125.53,1175676.93,971107.51,953165.34,1148336.92,766630.91,750420.47,{"$f":"SUM(BC10:BN10)","v":14446644.41},593457.99,844553.29,1106753.32,1257871.44,1654912.33,1210769.76,1452716.87,1502891.89,1289811.29,1181065.33,1208736.76,1143104.1399999999,{"$f":"SUM(BP10:CA10)","v":12493331.082},644082,845289.09,1374488.48,1178864.8700000001,1286065.6000000001,1171816.878,922173.48200000008,1053564.47,1119736.8570000001,781592.92500000005,1165499.7529999998,950156.67699999991,{"$f":"SUM(CC10:CN10)","v":4761339.0219999999},745696.64800000004,1119738.888,1051892.8740000001,665720.74599999993,1178289.8660000002]
["Logistics Solution ",6597615.3770000003,729098.674,1067798.1090000002,886893,179879.81,429345.06,573343.86,466912.41899999976,531465.8069999998,496566.522,561482.28700000001,420731.00800000026,254098.82099999997,4524385.0949999997,213886.75,340748.69999999995,306416.54399999999,241595.91900000005,533248.44799999997,538287.74500000011,399640.13400000019,433390.75900000008,475429.10099999985,451944.66299999971,371503.63100000017,218292.70100000006,4674213.1320000002,284314.97499999992,312541.01500000001,509326.77500000014,240087.12500000006,540742.77899999963,683712.64600000018,440177.74200000009,337175.1719999999,457198.56999999989,356704.25999999995,262020.19400000013,250211.87899999999,1949337.477,366343.1,414353.01,466174.81,274827.18,427639.39,383778.44,266765.15999999997,366021.46,365693.81,353079.76,287010.44,363545.98,{"$f":"SUM(BC11:BN11)","v":7033324.7000000002},389622.68,440347.27,316390.77,472887.97,562335.17000000004,561169.1,581302.34,725888.95,722617.34,839417.2,863489.02,557856.89,{"$f":"SUM(BP11:CA11)","v":5526312.3619999997},441354.73,268376.84999999998,368168.44,309180.83,596121.75,631752.5399999998,397226.42399999988,427414.04099999985,525420.56900000013,527216.82200000016,630470.36800000025,403608.99799999991,{"$f":"SUM(CC11:CN11)","v":1887129.8599999999},427661.20900000003,386420.6559999999,422766.60400000005,119773.23500000002,530508.15599999984]

{"sheet":"Check","index":8,"n_rows":44,"n_cols":14,"rows_kept":44,"cut":false,"hidden":true,"merged":[]}
["CUBE:","Cosan_Logistica:CLOG.ACO.116.VOLUMETRIA.FLUXO",null,null,null,null,null,null,"CUBE:","Cosan_Logistica:CLOG.ACO.130.MARGEM.RUMO"]
["CLOG.D.ACO.VERSAO","Realizado",null,null,null,null,null,null,"ALL.D.VERSAO","Realizado"]
["ALL.D.TEMPO.ANO","2021",null,null,null,null,null,null,"ALL.D.TEMPO.ANO","2021"]
["CLOG.D.ACO.MODAL","Total Modal",null,null,null,null,null,null,"CLOG.M.ACO.MARGEM.RUMO","Valor Total"]
["CLOG.D.ALL.CORREDOR","Total Corredor",null,null,null,null,null,null,"ALL.D.MENSAL.YTD","Mensal"]
["CLOG.D.ACO.GERENCIA","Total Gerencia",null,null,null,null,null,null,"CLOG.D.ACO.GRUPO.MARGEM.RUMO","Volume (Ton)"]
["CLOG.D.ALL.EMPRESA","Total Empresa"]
["CLOG.D.ACO.ORIGEM","Total Origem"]
["CLOG.D.ACO.DESTINO","Total Destino"]
["CLOG.D.ACO.MERCADORIA.HIERARQUIA","Total Produto"]
["CLOG.D.ALL.CLIENTE.HIERARQUIA","Total Clientes"]
["CLOG.M.ACO.VOLUMETRIA.FLUXO","Toneladas Úteis"]
[null,null,null,null,"Total Ano",null,"",null,"Full Year"]
[null,null,null,null,"Excel","DBMS","Var.",null,null,"Excel","DBMS","Var.",null,"PTB - ING"]
["Total Operação","Toneladas Km Útil",null,"TKU",64027605833.999992,64027605861,-27.000007629394531,null,"RTK",64027605833.999992,64027605861,-27.000007629394531,null,0]
["NORTE","Toneladas Km Útil",null,"TKU Norte",49813167598,49813167620,-22,null,"RTK Norte",49813167598,49813167620,-22,null,0]
["SUL","Toneladas Km Útil",null,"TKU Sul",14214438236,14214438241,-5,null,"RTK Sul",14214438236,14214438241,-5,null,0]
["Total Operação","Toneladas Úteis",null,"TU",60415809,60415813,-4,null,"UT",60415809,60415813,-4,null,0]
["NORTE","Toneladas Úteis",null,"TU Norte",35998722.000000007,35998726,-3.9999999925494194,null,"UT Norte",35998722.000000007,35998726,-3.9999999925494194,null,0]
["SUL","Toneladas Úteis",null,"TU Sul",24417086.999999996,24417087,0,null,"UT Sul",24417086.999999996,24417087,0,null,0]
[null,null,null,"Central",null,null,null,null,"Central"]
["NS","Toneladas Km Útil",null,"TKU Central",3679194827,3679194831,-4,null,"RTK Central",3679194827,3679194831,-4,null,0]
["NS","Toneladas Úteis",null,"TU Central",3457893.0000000005,3457896,-2.9999999995343387,null,"UT Central",3457893.0000000005,3457896,-2.9999999995343387,null,0]
[null,null,null,"RUMO",null,null,null,null,"RUMO"]
["Elevação",null,null,"Elevação",12493331.082,12493331.079000002,2.9999986290931702E-3,null,"Port Elevation ",12493331.082,12493331.079000002,2.9999986290931702E-3,null,0]
["Transporte",null,null,"Solução Logística",5526312.3619999997,5526312.3579999991,4.0000006556510925E-3,null,"Logistics Solution ",5526312.3619999997,5526312.3579999991,4.0000006556510925E-3,null,0]
[]
[null,null,null,"Toneladas Km Útil",null,null,null,null,"Toneladas Úteis"]
[null,null,null,"Mês","Excel","DBMS","Var.",null,"Mês","Excel","DBMS","Var."]
[null,null,null,"Soma dos meses",64027605834,64027605861,-27,null,"Soma dos meses",60415809,60415813,-4]
[null,null,null,"Total Ano",64027605834,64027605861,-27,null,"Total Ano",60415809,60415813,-4]
[null,null,null,"Check",0,0,0,null,"Check",0,0,0]
[null,null,null,"Janeiro",2703592941,2703592947,-6,null,"Janeiro",2801241,2801243,-2]
[null,null,null,"Fevereiro",5048896962,5048896966,-4,null,"Fevereiro",4187890.9999999995,4187892,-1.0000000004656613]
[null,null,null,"Março",6120824124,6120824128,-4,null,"Março",5588568,5588569,-1]
[null,null,null,"Abril",5970771171.000001,5970771174,-2.9999990463256836,null,"Abril",5690662,5690662,0]
[null,null,null,"Maio",6233856233.999999,6233856237,-3.0000009536743164,null,"Maio",6090703,6090703,0]
[null,null,null,"Junho",5700197166.999999,5700197168,-1.0000009536743164,null,"Junho",5617700.0000000009,5617700,0]
[null,null,null,"Julho",6337071153,6337071154,-1,null,"Julho",5803075,5803075,0]
[null,null,null,"Agosto",5355656780.999999,5355656782,-1.0000009536743164,null,"Agosto",5127593.0000000009,5127593,0]
[null,null,null,"Setembro",4673938131,4673938132,-1,null,"Setembro",4722700,4722700,0]
[null,null,null,"Outubro",5046461203,5046461204,-1,null,"Outubro",4897105,4897105,0]
[null,null,null,"Novembro",5392385149,5392385150,-1,null,"Novembro",4953456.9999999991,4953457,0]
[null,null,null,"Dezembro",5443954817.999999,5443954819,-1.0000009536743164,null,"Dezembro",4935114.0000000009,4935114,0]

{"sheet":"Volume TKU Consolidado","index":9,"n_rows":21,"n_cols":93,"rows_kept":21,"cut":false,"hidden":false,"merged":[[3,30,4,30],[3,31,4,31],[3,42,4,42],[3,34,4,34],[3,35,4,35],[3,32,4,32],[3,33,4,33],[3,38,4,38],[3,40,4,40],[3,39,4,39],[3,37,4,37],[3,47,4,47],[3,26,4,26],[3,36,4,36],[3,25,4,25],[3,1,4,1],[3,16,4,16],[3,17,4,17],[3,18,4,18],[3,19,4,19],[3,20,4,20],[3,21,4,21],[3,22,4,22],[3,23,4,23],[3,24,4,24],[3,27,4,27],[3,29,4,29],[3,3,4,3],[3,4,4,4],[3,5,4,5],[3,6,4,6],[3,7,4,7],[3,8,4,8],[3,9,4,9],[3,10,4,10],[3,11,4,11],[3,12,4,12],[3,55,4,55],[3,56,4,56],[3,57,4,57],[3,58,4,58],[3,13,4,13],[3,14,4,14],[3,53,4,53],[3,48,4,48],[3,49,4,49],[3,50,4,50],[3,51,4,51],[3,52,4,52],[3,43,4,43],[3,44,4,44],[3,45,4,45],[3,46,4,46],[3,64,4,64],[3,65,4,65],[3,66,4,66],[3,59,4,59],[3,60,4,60],[3,61,4,61],[3,62,4,62],[3,63,4,63],[3,68,4,68],[3,69,4,69],[3,70,4,70],[3,71,4,71],[3,72,4,72],[3,78,4,78],[3,79,4,79],[3,73,4,73],[3,74,4,74],[3,75,4,75],[3,76,4,76],[3,77,4,77],[3,81,4,81],[3,82,4,82],[3,83,4,83],[3,84,4,84],[3,85,4,85],[3,91,4,91],[3,92,4,92],[3,86,4,86],[3,87,4,87],[3,88,4,88],[3,89,4,89],[3,90,4,90]]}
[]
[null,"Volume TKU RI | Consolidado"]
[]
[null,null,null,"2016-01-01","2016-02-01","2016-03-01","2016-04-01","2016-05-01","2016-06-01","2016-07-01","2016-08-01","2016-09-01","2016-10-01","2016-11-01","2016-12-01",null,"2017-01-01","2017-02-01","2017-03-01","2017-04-01","2017-05-01","2017-06-01","2017-07-01","2017-08-01","2017-09-01","2017-10-01","2017-11-01","2017-12-01",null,"2018-01-01","2018-02-01","2018-03-01","2018-04-01","2018-05-01","2018-06-01","2018-07-01","2018-08-01","2018-09-01","2018-10-01","2018-11-01","2018-12-01",null,"2019-01-01","2019-02-01","2019-03-01","2019-04-01","2019-05-01","2019-06-01","2019-07-01","2019-08-01","2019-09-01","2019-10-01","2019-11-01","2019-12-01",null,"2020-01-01","2020-02-01","2020-03-01","2020-04-01","2020-05-01","2020-06-01","2020-07-01","2020-08-01","2020-09-01","2020-10-01","2020-11-01","2020-12-01",null,"2021-01-01","2021-02-01","2021-03-01","2021-04-01","2021-05-01","2021-06-01","2021-07-01","2021-08-01","2021-09-01","2021-10-01","2021-11-01","2021-12-01",null,"2022-01-01","2022-02-01","2022-03-01","2022-04-01","2022-05-01","2022-06-01","2022-07-01","2022-08-01","2022-09-01","2022-10-01","2022-11-01","2022-12-01"]
[]
[null,"Transporte Ferro (TKU MM)",null,{"$f":"SUM(D7,D17,D16)","v":2935.8599029999991},{"$f":"SUM(E7,E17,E16)","v":3206.2155520000001},3934.2631489999999,4019.4272839999999,3717.579416,3098.3034619999999,3991.9284500000003,4101.1319949999997,3805.2286879999997,2657.9685990000003,2333.3365960000001,2468.0316909999997,null,2400.6942469999999,3457.3250860000003,4163.1793470000002,3979.0120759999995,4230.4603820000002,4104.771401,4584.2389279999998,4833.1142220000002,4584.3635639999993,4796.7371350000003,4404.5180429999991,4149.1197069999998,0,3024.6195510000002,4076.4014459999999,4726.1801729999997,4577.6541800000005,4138.350614,4748.781097,5299.3391269999993,5546.4863599999999,5284.9077980000011,4891.2030350000005,5224.8522310000008,4827.0799549900003,null,4113.877853,4077.8309120000004,5114.0605230000001,4578.3831599999994,4283.034713,5554.7065419999999,6176.6652399999994,5846.9450660000002,5353.3006539999997,5592.9501549999995,5573.1795940000011,3831.2252659999999,null,3567.7968209999999,4909.2470689999991,3820.4317839999999,5230.1966229999998,5744.285903,5442.0927700000002,6156.971912,5782.0325899999989,5607.9348499999996,5735.3959800000002,5388.7100380000002,5073.315544,null,{"$f":"SUM(BQ7,BQ17,BQ16)","v":2703.5929409999999},5048.8969619999998,6120.8241239999998,5970.7711710000012,6233.8562339999989,5700.1971669999994,6337.0711529999999,5355.6567809999988,4673.9381309999999,5046.4612029999998,5392.3851489999997,5443.9548179999992,null,{"$f":"SUM(CD7,CD17,CD16)","v":5210.9097519999996},6170.8907930000005,6725.7361219999993,6012.6303489999991,6235.0344340000001,0,0,0,0,0,0,0]
[null,"Produtos Agrícolas",null,{"$f":"SUM(D8:D15)","v":2399.1321619999994},{"$f":"SUM(E8:E15)","v":2630.1413670000002},3306.699302,3415.3080909999999,3079.9228069999999,2429.236347,3291.5507510000002,3399.2012669999999,3107.3674729999998,1961.2938940000001,1709.1714220000001,1881.2327099999998,null,1765.8429649999998,2909.5752220000004,3544.4318509999998,3388.2480999999998,3542.2883710000001,3416.6564320000002,3833.970268,4056.125759,3864.8566719999994,3982.2893320000003,3698.0536749999997,3436.7903729999998,null,2371.259247,3296.3459109999999,3930.8774170000002,3847.7566160000001,3429.0013069999995,3883.4537560000003,4388.8786599999994,4601.7311319999999,4376.666674000001,3989.1657180000002,4366.8188250000003,3968.1036999900007,null,3267.6626490000003,3309.9938980000002,4242.7224850000002,3739.0375179999996,3398.2012109999996,4672.8211410000004,5223.6102599999995,4856.410637,4383.4815069999995,4611.0663530000002,4657.3388800000012,2970.3097669999997,null,2694.404837,4083.3392359999993,3090.6636189999999,4589.8081590000002,4936.9692230000001,4589.564899,5208.3583769999996,4830.9814809999998,4590.2796209999997,4689.8363610000006,4354.1079960000006,4171.5787549999995,null,{"$f":"SUM(BQ8:BQ15)","v":1763.3508300000001},4115.4070400000001,5139.4032999999999,4961.7171190000008,5185.4987519999995,4663.8321589999996,5269.8357649999998,4222.3585189999994,3627.3486329999996,3990.8890229999997,4413.8843619999998,4446.8601589999998,null,{"$f":"SUM(CD8:CD15)","v":4223.2446030000001},5166.4634890000007,5610.620559,4966.475985,5100.4858100000001,0,0,0,0,0,0,0]
[null,"Soja",null,{"$f":"SUMIFS('Base TKU'!E:E,'Base TKU'!$A:$A,$B8,'Base TKU'!$B:$B,\"Total Operação\")/1000000","v":169.62053900000001},{"$f":"SUMIFS('Base TKU'!F:F,'Base TKU'!$A:$A,$B8,'Base TKU'!$B:$B,\"Total Operação\")/1000000","v":1911.1475579999999},{"$f":"SUMIFS('Base TKU'!G:G,'Base TKU'!$A:$A,$B8,'Base TKU'!$B:$B,\"Total Operação\")/1000000","v":2616.1029749999998},{"$f":"SUMIFS('Base TKU'!H:H,'Base TKU'!$A:$A,$B8,'Base TKU'!$B:$B,\"Total Operação\")/1000000","v":2649.878494},{"$f":"SUMIFS('Base TKU'!I:I,'Base TKU'!$A:$A,$B8,'Base TKU'!$B:$B,\"Total Operação\")/1000000","v":2055.7222339999998},{"$f":"SUMIFS('Base TKU'!J:J,'Base TKU'!$A:$A,$B8,'Base TKU'!$B:$B,\"Total Operação\")/1000000","v":947.54224599999998},{"$f":"SUMIFS('Base TKU'!K:K,'Base TKU'!$A:$A,$B8,'Base TKU'!$B:$B,\"Total Operação\")/1000000","v":361.05799500000001},{"$f":"SUMIFS('Base TKU'!L:L,'Base TKU'!$A:$A,$B8,'Base TKU'!$B:$B,\"Total Operação\")/1000000","v":182.78065100000001},{"$f":"SUMIFS('Base TKU'!M:M,'Base TKU'!$A:$A,$B8,'Base TKU'!$B:$B,\"Total Operação\")/1000000","v":130.11925199999999},{"$f":"SUMIFS('Base TKU'!N:N,'Base TKU'!$A:$A,$B8,'Base TKU'!$B:$B,\"Total Operação\")/1000000","v":95.372065000000006},{"$f":"SUMIFS('Base TKU'!O:O,'Base TKU'!$A:$A,$B8,'Base TKU'!$B:$B,\"Total Operação\")/1000000","v":86.039562000000004},{"$f":"SUMIFS('Base TKU'!P:P,'Base TKU'!$A:$A,$B8,'Base TKU'!$B:$B,\"Total Operação\")/1000000","v":175.43123600000001},null,{"$f":"SUMIFS('Base TKU'!R:R,'Base TKU'!$A:$A,$B8,'Base TKU'!$B:$B,\"Total Operação\")/1000000","v":851.44972099999995},{"$f":"SUMIFS('Base TKU'!S:S,'Base TKU'!$A:$A,$B8,'Base TKU'!$B:$B,\"Total Operação\")/1000000","v":2272.319356},{"$f":"SUMIFS('Base TKU'!T:T,'Base TKU'!$A:$A,$B8,'Base TKU'!$B:$B,\"Total Operação\")/1000000","v":2878.502645},{"$f":"SUMIFS('Base TKU'!U:U,'Base TKU'!$A:$A,$B8,'Base TKU'!$B:$B,\"Total Operação\")/1000000","v":2514.9683220000002},{"$f":"SUMIFS('Base TKU'!V:V,'Base TKU'!$A:$A,$B8,'Base TKU'!$B:$B,\"Total Operação\")/1000000","v":2413.0258960000001},{"$f":"SUMIFS('Base TKU'!W:W,'Base TKU'!$A:$A,$B8,'Base TKU'!$B:$B,\"Total Operação\")/1000000","v":1272.4665500000001},{"$f":"SUMIFS('Base TKU'!X:X,'Base TKU'!$A:$A,$B8,'Base TKU'!$B:$B,\"Total Operação\")/1000000","v":619.45915000000002},{"$f":"SUMIFS('Base TKU'!Y:Y,'Base TKU'!$A:$A,$B8,'Base TKU'!$B:$B,\"Total Operação\")/1000000","v":447.99955199999999},{"$f":"SUMIFS('Base TKU'!Z:Z,'Base TKU'!$A:$A,$B8,'Base TKU'!$B:$B,\"Total Operação\")/1000000","v":178.126689},{"$f":"SUMIFS('Base TKU'!AA:AA,'Base TKU'!$A:$A,$B8,'Base TKU'!$B:$B,\"Total Operação\")/1000000","v":208.222522},{"$f":"SUMIFS('Base TKU'!AB:AB,'Base TKU'!$A:$A,$B8,'Base TKU'!$B:$B,\"Total Operação\")/1000000","v":364.80664300000001},{"$f":"SUMIFS('Base TKU'!AC:AC,'Base TKU'!$A:$A,$B8,'Base TKU'!$B:$B,\"Total Operação\")/1000000","v":398.06726200000003},null,{"$f":"SUMIFS('Base TKU'!AE:AE,'Base TKU'!$A:$A,$B8,'Base TKU'!$B:$B,\"Total Operação\")/1000000","v":934.13200200000006},{"$f":"SUMIFS('Base TKU'!AF:AF,'Base TKU'!$A:$A,$B8,'Base TKU'!$B:$B,\"Total Operação\")/1000000","v":2459.6752190000002},{"$f":"SUMIFS('Base TKU'!AG:AG,'Base TKU'!$A:$A,$B8,'Base TKU'!$B:$B,\"Total Operação\")/1000000","v":3176.9322240000001},{"$f":"SUMIFS('Base TKU'!AH:AH,'Base TKU'!$A:$A,$B8,'Base TKU'!$B:$B,\"Total Operação\")/1000000","v":3000.9347459999999},{"$f":"SUMIFS('Base TKU'!AI:AI,'Base TKU'!$A:$A,$B8,'Base TKU'!$B:$B,\"Total Operação\")/1000000","v":2370.9591909999999},{"$f":"SUMIFS('Base TKU'!AJ:AJ,'Base TKU'!$A:$A,$B8,'Base TKU'!$B:$B,\"Total Operação\")/1000000","v":2397.7762889999999},{"$f":"SUMIFS('Base TKU'!AK:AK,'Base TKU'!$A:$A,$B8,'Base TKU'!$B:$B,\"Total Operação\")/1000000","v":965.91916400000002},{"$f":"SUMIFS('Base TKU'!AL:AL,'Base TKU'!$A:$A,$B8,'Base TKU'!$B:$B,\"Total Operação\")/1000000","v":734.69754999999998},{"$f":"SUMIFS('Base TKU'!AM:AM,'Base TKU'!$A:$A,$B8,'Base TKU'!$B:$B,\"Total Operação\")/1000000","v":612.75609499999996},{"$f":"SUMIFS('Base TKU'!AN:AN,'Base TKU'!$A:$A,$B8,'Base TKU'!$B:$B,\"Total Operação\")/1000000","v":691.15918299999998},{"$f":"SUMIFS('Base TKU'!AO:AO,'Base TKU'!$A:$A,$B8,'Base TKU'!$B:$B,\"Total Operação\")/1000000","v":537.88782000000003},{"$f":"SUMIFS('Base TKU'!AP:AP,'Base TKU'!$A:$A,$B8,'Base TKU'!$B:$B,\"Total Operação\")/1000000","v":255.257497},null,{"$f":"SUMIFS('Base TKU'!AR:AR,'Base TKU'!$A:$A,$B8,'Base TKU'!$B:$B,\"Total Operação\")/1000000","v":1942.182791},{"$f":"SUMIFS('Base TKU'!AS:AS,'Base TKU'!$A:$A,$B8,'Base TKU'!$B:$B,\"Total Operação\")/1000000","v":2532.9592590000002},{"$f":"SUMIFS('Base TKU'!AT:AT,'Base TKU'!$A:$A,$B8,'Base TKU'!$B:$B,\"Total Operação\")/1000000","v":3268.2451529999998},{"$f":"SUMIFS('Base TKU'!AU:AU,'Base TKU'!$A:$A,$B8,'Base TKU'!$B:$B,\"Total Operação\")/1000000","v":2598.366622},{"$f":"SUMIFS('Base TKU'!AV:AV,'Base TKU'!$A:$A,$B8,'Base TKU'!$B:$B,\"Total Operação\")/1000000","v":2021.1266760000001},{"$f":"SUMIFS('Base TKU'!AW:AW,'Base TKU'!$A:$A,$B8,'Base TKU'!$B:$B,\"Total Operação\")/1000000","v":852.43902800000001},{"$f":"SUMIFS('Base TKU'!AX:AX,'Base TKU'!$A:$A,$B8,'Base TKU'!$B:$B,\"Total Operação\")/1000000","v":484.97769},{"$f":"SUMIFS('Base TKU'!AY:AY,'Base TKU'!$A:$A,$B8,'Base TKU'!$B:$B,\"Total Operação\")/1000000","v":453.43382000000003},{"$f":"SUMIFS('Base TKU'!AZ:AZ,'Base TKU'!$A:$A,$B8,'Base TKU'!$B:$B,\"Total Operação\")/1000000","v":433.34607699999998},{"$f":"SUMIFS('Base TKU'!BA:BA,'Base TKU'!$A:$A,$B8,'Base TKU'!$B:$B,\"Total Operação\")/1000000","v":739.71218799999997},{"$f":"SUMIFS('Base TKU'!BB:BB,'Base TKU'!$A:$A,$B8,'Base TKU'!$B:$B,\"Total Operação\")/1000000","v":819.29821200000004},{"$f":"SUMIFS('Base TKU'!BC:BC,'Base TKU'!$A:$A,$B8,'Base TKU'!$B:$B,\"Total Operação\")/1000000","v":299.03800200000001},null,{"$f":"SUMIFS('Base TKU'!BE:BE,'Base TKU'!$A:$A,$B8,'Base TKU'!$B:$B,\"Total Operação\")/1000000","v":1585.000395},{"$f":"SUMIFS('Base TKU'!BF:BF,'Base TKU'!$A:$A,$B8,'Base TKU'!$B:$B,\"Total Operação\")/1000000","v":2995.1420250000001},{"$f":"SUMIFS('Base TKU'!BG:BG,'Base TKU'!$A:$A,$B8,'Base TKU'!$B:$B,\"Total Operação\")/1000000","v":2230.278953},{"$f":"SUMIFS('Base TKU'!BH:BH,'Base TKU'!$A:$A,$B8,'Base TKU'!$B:$B,\"Total Operação\")/1000000","v":3336.9885669999999},{"$f":"SUMIFS('Base TKU'!BI:BI,'Base TKU'!$A:$A,$B8,'Base TKU'!$B:$B,\"Total Operação\")/1000000","v":3426.042813},{"$f":"SUMIFS('Base TKU'!BJ:BJ,'Base TKU'!$A:$A,$B8,'Base TKU'!$B:$B,\"Total Operação\")/1000000","v":1734.5160249999999},{"$f":"SUMIFS('Base TKU'!BK:BK,'Base TKU'!$A:$A,$B8,'Base TKU'!$B:$B,\"Total Operação\")/1000000","v":1014.458214},{"$f":"SUMIFS('Base TKU'!BL:BL,'Base TKU'!$A:$A,$B8,'Base TKU'!$B:$B,\"Total Operação\")/1000000","v":530.45997},{"$f":"SUMIFS('Base TKU'!BM:BM,'Base TKU'!$A:$A,$B8,'Base TKU'!$B:$B,\"Total Operação\")/1000000","v":327.51763399999999},{"$f":"SUMIFS('Base TKU'!BN:BN,'Base TKU'!$A:$A,$B8,'Base TKU'!$B:$B,\"Total Operação\")/1000000","v":149.427977},{"$f":"SUMIFS('Base TKU'!BO:BO,'Base TKU'!$A:$A,$B8,'Base TKU'!$B:$B,\"Total Operação\")/1000000","v":69.608677999999998},{"$f":"SUMIFS('Base TKU'!BP:BP,'Base TKU'!$A:$A,$B8,'Base TKU'!$B:$B,\"Total Operação\")/1000000","v":53.633718000000002},null,{"$f":"'Volume TKU Norte'!BQ8+'Volume TKU Sul'!BP8","v":334.67782700000004},{"$f":"'Volume TKU Norte'!BR8+'Volume TKU Sul'!BQ8","v":2940.564429},{"$f":"'Volume TKU Norte'!BS8+'Volume TKU Sul'!BR8","v":4036.109657},{"$f":"'Volume TKU Norte'!BT8+'Volume TKU Sul'!BS8","v":3669.5863390000004},{"$f":"'Volume TKU Norte'!BU8+'Volume TKU Sul'!BT8","v":3589.3174990000002},{"$f":"'Volume TKU Norte'!BV8+'Volume TKU Sul'!BU8","v":2394.0341549999998},{"$f":"'Volume TKU Norte'!BW8+'Volume TKU Sul'!BV8","v":729.00322599999993},{"$f":"'Volume TKU Norte'!BX8+'Volume TKU Sul'!BW8","v":507.03884600000004},{"$f":"'Volume TKU Norte'!BY8+'Volume TKU Sul'!BX8","v":546.57156799999996},{"$f":"'Volume TKU Norte'!BZ8+'Volume TKU Sul'!BY8","v":678.86003400000004},{"$f":"'Volume TKU Norte'!CA8+'Volume TKU Sul'!BZ8","v":892.35074399999996},{"$f":"'Volume TKU Norte'!CB8+'Volume TKU Sul'!CA8","v":574.27778000000001},null,{"$f":"'Volume TKU Norte'!CD8+'Volume TKU Sul'!CC8","v":1955.022219},{"$f":"'Volume TKU Norte'!CE8+'Volume TKU Sul'!CD8","v":3750.2323200000001},{"$f":"'Volume TKU Norte'!CF8+'Volume TKU Sul'!CE8","v":4092.7933760000001},{"$f":"'Volume TKU Norte'!CG8+'Volume TKU Sul'!CF8","v":3374.0357290000002},{"$f":"'Volume TKU Norte'!CH8+'Volume TKU Sul'!CG8","v":3224.8021519999998},{"$f":"'Volume TKU Norte'!CI8+'Volume TKU Sul'!CH8","v":0},{"$f":"'Volume TKU Norte'!CJ8+'Volume TKU Sul'!CI8","v":0},{"$f":"'Volume TKU Norte'!CK8+'Volume TKU Sul'!CJ8","v":0},{"$f":"'Volume TKU Norte'!CL8+'Volume TKU Sul'!CK8","v":0},{"$f":"'Volume TKU Norte'!CM8+'Volume TKU Sul'!CL8","v":0},{"$f":"'Volume TKU Norte'!CN8+'Volume TKU Sul'!CM8","v":0},{"$f":"'Volume TKU Norte'!CO8+'Volume TKU Sul'!CN8","v":0}]
[null,"Farelo de Soja",null,{"$f":"SUMIFS('Base TKU'!E:E,'Base TKU'!$A:$A,$B9,'Base TKU'!$B:$B,\"Total Operação\")/1000000","v":216.26351600000001},{"$f":"SUMIFS('Base TKU'!F:F,'Base TKU'!$A:$A,$B9,'Base TKU'!$B:$B,\"Total Operação\")/1000000","v":395.03700500000002},{"$f":"SUMIFS('Base TKU'!G:G,'Base TKU'!$A:$A,$B9,'Base TKU'!$B:$B,\"Total Operação\")/1000000","v":487.85619700000001},{"$f":"SUMIFS('Base TKU'!H:H,'Base TKU'!$A:$A,$B9,'Base TKU'!$B:$B,\"Total Operação\")/1000000","v":535.26649299999997},{"$f":"SUMIFS('Base TKU'!I:I,'Base TKU'!$A:$A,$B9,'Base TKU'!$B:$B,\"Total Operação\")/1000000","v":526.415615},{"$f":"SUMIFS('Base TKU'!J:J,'Base TKU'!$A:$A,$B9,'Base TKU'!$B:$B,\"Total Operação\")/1000000","v":472.96597700000001},{"$f":"SUMIFS('Base TKU'!K:K,'Base TKU'!$A:$A,$B9,'Base TKU'!$B:$B,\"Total Operação\")/1000000","v":354.22674899999998},{"$f":"SUMIFS('Base TKU'!L:L,'Base TKU'!$A:$A,$B9,'Base TKU'!$B:$B,\"Total Operação\")/1000000","v":316.308402},{"$f":"SUMIFS('Base TKU'!M:M,'Base TKU'!$A:$A,$B9,'Base TKU'!$B:$B,\"Total Operação\")/1000000","v":322.78646500000002},{"$f":"SUMIFS('Base TKU'!N:N,'Base TKU'!$A:$A,$B9,'Base TKU'!$B:$B,\"Total Operação\")/1000000","v":377.761324},{"$f":"SUMIFS('Base TKU'!O:O,'Base TKU'!$A:$A,$B9,'Base TKU'!$B:$B,\"Total Operação\")/1000000","v":438.98752899999999},{"$f":"SUMIFS('Base TKU'!P:P,'Base TKU'!$A:$A,$B9,'Base TKU'!$B:$B,\"Total Operação\")/1000000","v":404.86467299999998},null,{"$f":"SUMIFS('Base TKU'!R:R,'Base TKU'!$A:$A,$B9,'Base TKU'!$B:$B,\"Total Operação\")/1000000","v":402.66225500000002},{"$f":"SUMIFS('Base TKU'!S:S,'Base TKU'!$A:$A,$B9,'Base TKU'!$B:$B,\"Total Operação\")/1000000","v":407.24751400000002},{"$f":"SUMIFS('Base TKU'!T:T,'Base TKU'!$A:$A,$B9,'Base TKU'!$B:$B,\"Total Operação\")/1000000","v":517.98906099999999},{"$f":"SUMIFS('Base TKU'!U:U,'Base TKU'!$A:$A,$B9,'Base TKU'!$B:$B,\"Total Operação\")/1000000","v":588.47038999999995},{"$f":"SUMIFS('Base TKU'!V:V,'Base TKU'!$A:$A,$B9,'Base TKU'!$B:$B,\"Total Operação\")/1000000","v":519.95525399999997},{"$f":"SUMIFS('Base TKU'!W:W,'Base TKU'!$A:$A,$B9,'Base TKU'!$B:$B,\"Total Operação\")/1000000","v":437.873199},{"$f":"SUMIFS('Base TKU'!X:X,'Base TKU'!$A:$A,$B9,'Base TKU'!$B:$B,\"Total Operação\")/1000000","v":520.80395099999998},{"$f":"SUMIFS('Base TKU'!Y:Y,'Base TKU'!$A:$A,$B9,'Base TKU'!$B:$B,\"Total Operação\")/1000000","v":428.81667199999998},{"$f":"SUMIFS('Base TKU'!Z:Z,'Base TKU'!$A:$A,$B9,'Base TKU'!$B:$B,\"Total Operação\")/1000000","v":434.41904599999998},{"$f":"SUMIFS('Base TKU'!AA:AA,'Base TKU'!$A:$A,$B9,'Base TKU'!$B:$B,\"Total Operação\")/1000000","v":529.76868999999999},{"$f":"SUMIFS('Base TKU'!AB:AB,'Base TKU'!$A:$A,$B9,'Base TKU'!$B:$B,\"Total Operação\")/1000000","v":506.08288199999998},{"$f":"SUMIFS('Base TKU'!AC:AC,'Base TKU'!$A:$A,$B9,'Base TKU'!$B:$B,\"Total Operação\")/1000000","v":529.05604300000005},null,{"$f":"SUMIFS('Base TKU'!AE:AE,'Base TKU'!$A:$A,$B9,'Base TKU'!$B:$B,\"Total Operação\")/1000000","v":446.26511599999998},{"$f":"SUMIFS('Base TKU'!AF:AF,'Base TKU'!$A:$A,$B9,'Base TKU'!$B:$B,\"Total Operação\")/1000000","v":515.19917799999996},{"$f":"SUMIFS('Base TKU'!AG:AG,'Base TKU'!$A:$A,$B9,'Base TKU'!$B:$B,\"Total Operação\")/1000000","v":578.46220200000005},{"$f":"SUMIFS('Base TKU'!AH:AH,'Base TKU'!$A:$A,$B9,'Base TKU'!$B:$B,\"Total Operação\")/1000000","v":632.17425000000003},{"$f":"SUMIFS('Base TKU'!AI:AI,'Base TKU'!$A:$A,$B9,'Base TKU'!$B:$B,\"Total Operação\")/1000000","v":499.67931599999997},{"$f":"SUMIFS('Base TKU'!AJ:AJ,'Base TKU'!$A:$A,$B9,'Base TKU'!$B:$B,\"Total Operação\")/1000000","v":584.67244100000005},{"$f":"SUMIFS('Base TKU'!AK:AK,'Base TKU'!$A:$A,$B9,'Base TKU'!$B:$B,\"Total Operação\")/1000000","v":509.672392},{"$f":"SUMIFS('Base TKU'!AL:AL,'Base TKU'!$A:$A,$B9,'Base TKU'!$B:$B,\"Total Operação\")/1000000","v":486.21389099999999},{"$f":"SUMIFS('Base TKU'!AM:AM,'Base TKU'!$A:$A,$B9,'Base TKU'!$B:$B,\"Total Operação\")/1000000","v":524.42046400000004},{"$f":"SUMIFS('Base TKU'!AN:AN,'Base TKU'!$A:$A,$B9,'Base TKU'!$B:$B,\"Total Operação\")/1000000","v":475.60856999999999},{"$f":"SUMIFS('Base TKU'!AO:AO,'Base TKU'!$A:$A,$B9,'Base TKU'!$B:$B,\"Total Operação\")/1000000","v":515.80616099999997},{"$f":"SUMIFS('Base TKU'!AP:AP,'Base TKU'!$A:$A,$B9,'Base TKU'!$B:$B,\"Total Operação\")/1000000","v":603.39547999000001},null,{"$f":"SUMIFS('Base TKU'!AR:AR,'Base TKU'!$A:$A,$B9,'Base TKU'!$B:$B,\"Total Operação\")/1000000","v":461.21156000000002},{"$f":"SUMIFS('Base TKU'!AS:AS,'Base TKU'!$A:$A,$B9,'Base TKU'!$B:$B,\"Total Operação\")/1000000","v":446.22970900000001},{"$f":"SUMIFS('Base TKU'!AT:AT,'Base TKU'!$A:$A,$B9,'Base TKU'!$B:$B,\"Total Operação\")/1000000","v":622.22288100000003},{"$f":"SUMIFS('Base TKU'!AU:AU,'Base TKU'!$A:$A,$B9,'Base TKU'!$B:$B,\"Total Operação\")/1000000","v":631.90065200000004},{"$f":"SUMIFS('Base TKU'!AV:AV,'Base TKU'!$A:$A,$B9,'Base TKU'!$B:$B,\"Total Operação\")/1000000","v":579.33901800000001},{"$f":"SUMIFS('Base TKU'!AW:AW,'Base TKU'!$A:$A,$B9,'Base TKU'!$B:$B,\"Total Operação\")/1000000","v":629.96867399999996},{"$f":"SUMIFS('Base TKU'!AX:AX,'Base TKU'!$A:$A,$B9,'Base TKU'!$B:$B,\"Total Operação\")/1000000","v":597.87030300000004},{"$f":"SUMIFS('Base TKU'!AY:AY,'Base TKU'!$A:$A,$B9,'Base TKU'!$B:$B,\"Total Operação\")/1000000","v":494.52903199999997},{"$f":"SUMIFS('Base TKU'!AZ:AZ,'Base TKU'!$A:$A,$B9,'Base TKU'!$B:$B,\"Total Operação\")/1000000","v":542.620092},{"$f":"SUMIFS('Base TKU'!BA:BA,'Base TKU'!$A:$A,$B9,'Base TKU'!$B:$B,\"Total Operação\")/1000000","v":593.32155399999999},{"$f":"SUMIFS('Base TKU'!BB:BB,'Base TKU'!$A:$A,$B9,'Base TKU'!$B:$B,\"Total Operação\")/1000000","v":664.73641799999996},{"$f":"SUMIFS('Base TKU'!BC:BC,'Base TKU'!$A:$A,$B9,'Base TKU'!$B:$B,\"Total Operação\")/1000000","v":597.08486000000005},null,{"$f":"SUMIFS('Base TKU'!BE:BE,'Base TKU'!$A:$A,$B9,'Base TKU'!$B:$B,\"Total Operação\")/1000000","v":402.38085100000001},{"$f":"SUMIFS('Base TKU'!BF:BF,'Base TKU'!$A:$A,$B9,'Base TKU'!$B:$B,\"Total Operação\")/1000000","v":540.97648300000003},{"$f":"SUMIFS('Base TKU'!BG:BG,'Base TKU'!$A:$A,$B9,'Base TKU'!$B:$B,\"Total Operação\")/1000000","v":561.96058400000004},{"$f":"SUMIFS('Base TKU'!BH:BH,'Base TKU'!$A:$A,$B9,'Base TKU'!$B:$B,\"Total Operação\")/1000000","v":663.53443800000002},{"$f":"SUMIFS('Base TKU'!BI:BI,'Base TKU'!$A:$A,$B9,'Base TKU'!$B:$B,\"Total Operação\")/1000000","v":631.76501800000005},{"$f":"SUMIFS('Base TKU'!BJ:BJ,'Base TKU'!$A:$A,$B9,'Base TKU'!$B:$B,\"Total Operação\")/1000000","v":649.35974299999998},{"$f":"SUMIFS('Base TKU'!BK:BK,'Base TKU'!$A:$A,$B9,'Base TKU'!$B:$B,\"Total Operação\")/1000000","v":707.36651199999994},{"$f":"SUMIFS('Base TKU'!BL:BL,'Base TKU'!$A:$A,$B9,'Base TKU'!$B:$B,\"Total Operação\")/1000000","v":710.34897100000001},{"$f":"SUMIFS('Base TKU'!BM:BM,'Base TKU'!$A:$A,$B9,'Base TKU'!$B:$B,\"Total Operação\")/1000000","v":661.59083899999996},{"$f":"SUMIFS('Base TKU'!BN:BN,'Base TKU'!$A:$A,$B9,'Base TKU'!$B:$B,\"Total Operação\")/1000000","v":712.14167599999996},{"$f":"SUMIFS('Base TKU'!BO:BO,'Base TKU'!$A:$A,$B9,'Base TKU'!$B:$B,\"Total Operação\")/1000000","v":614.37646900000004},{"$f":"SUMIFS('Base TKU'!BP:BP,'Base TKU'!$A:$A,$B9,'Base TKU'!$B:$B,\"Total Operação\")/1000000","v":674.16906200000005},null,{"$f":"'Volume TKU Norte'!BQ9+'Volume TKU Sul'!BP9","v":444.99060800000001},{"$f":"'Volume TKU Norte'!BR9+'Volume TKU Sul'!BQ9","v":602.94755800000007},{"$f":"'Volume TKU Norte'!BS9+'Volume TKU Sul'!BR9","v":704.47478000000001},{"$f":"'Volume TKU Norte'!BT9+'Volume TKU Sul'!BS9","v":786.66857100000004},{"$f":"'Volume TKU Norte'!BU9+'Volume TKU Sul'!BT9","v":755.98611399999993},{"$f":"'Volume TKU Norte'!BV9+'Volume TKU Sul'!BU9","v":826.85876399999995},{"$f":"'Volume TKU Norte'!BW9+'Volume TKU Sul'!BV9","v":840.95848000000001},{"$f":"'Volume TKU Norte'!BX9+'Volume TKU Sul'!BW9","v":744.79268200000001},{"$f":"'Volume TKU Norte'!BY9+'Volume TKU Sul'!BX9","v":687.93884299999991},{"$f":"'Volume TKU Norte'!BZ9+'Volume TKU Sul'!BY9","v":587.36470399999996},{"$f":"'Volume TKU Norte'!CA9+'Volume TKU Sul'!BZ9","v":766.37192400000004},{"$f":"'Volume TKU Norte'!CB9+'Volume TKU Sul'!CA9","v":762.449794},null,{"$f":"'Volume TKU Norte'!CD9+'Volume TKU Sul'!CC9","v":660.24957499999994},{"$f":"'Volume TKU Norte'!CE9+'Volume TKU Sul'!CD9","v":723.76701700000001},{"$f":"'Volume TKU Norte'!CF9+'Volume TKU Sul'!CE9","v":921.80847400000005},{"$f":"'Volume TKU Norte'!CG9+'Volume TKU Sul'!CF9","v":968.32940199999996},{"$f":"'Volume TKU Norte'!CH9+'Volume TKU Sul'!CG9","v":889.11814600000002},{"$f":"'Volume TKU Norte'!CI9+'Volume TKU Sul'!CH9","v":0},{"$f":"'Volume TKU Norte'!CJ9+'Volume TKU Sul'!CI9","v":0},{"$f":"'Volume TKU Norte'!CK9+'Volume TKU Sul'!CJ9","v":0},{"$f":"'Volume TKU Norte'!CL9+'Volume TKU Sul'!CK9","v":0},{"$f":"'Volume TKU Norte'!CM9+'Volume TKU Sul'!CL9","v":0},{"$f":"'Volume TKU Norte'!CN9+'Volume TKU Sul'!CM9","v":0},{"$f":"'Volume TKU Norte'!CO9+'Volume TKU Sul'!CN9","v":0}]
[null,"Milho",null,{"$f":"SUMIFS('Base TKU'!E:E,'Base TKU'!$A:$A,$B10,'Base TKU'!$B:$B,\"Total Operação\")/1000000","v":1708.5253399999999},{"$f":"SUMIFS('Base TKU'!F:F,'Base TKU'!$A:$A,$B10,'Base TKU'!$B:$B,\"Total Operação\")/1000000","v":147.13315},{"$f":"SUMIFS('Base TKU'!G:G,'Base TKU'!$A:$A,$B10,'Base TKU'!$B:$B,\"Total Operação\")/1000000","v":1.4444429999999999},{"$f":"SUMIFS('Base TKU'!H:H,'Base TKU'!$A:$A,$B10,'Base TKU'!$B:$B,\"Total Operação\")/1000000","v":0},{"$f":"SUMIFS('Base TKU'!I:I,'Base TKU'!$A:$A,$B10,'Base TKU'!$B:$B,\"Total Operação\")/1000000","v":0},{"$f":"SUMIFS('Base TKU'!J:J,'Base TKU'!$A:$A,$B10,'Base TKU'!$B:$B,\"Total Operação\")/1000000","v":343.22599500000001},{"$f":"SUMIFS('Base TKU'!K:K,'Base TKU'!$A:$A,$B10,'Base TKU'!$B:$B,\"Total Operação\")/1000000","v":1978.457048},{"$f":"SUMIFS('Base TKU'!L:L,'Base TKU'!$A:$A,$B10,'Base TKU'!$B:$B,\"Total Operação\")/1000000","v":2230.6509569999998},{"$f":"SUMIFS('Base TKU'!M:M,'Base TKU'!$A:$A,$B10,'Base TKU'!$B:$B,\"Total Operação\")/1000000","v":1944.8390010000001},{"$f":"SUMIFS('Base TKU'!N:N,'Base TKU'!$A:$A,$B10,'Base TKU'!$B:$B,\"Total Operação\")/1000000","v":705.93716900000004},{"$f":"SUMIFS('Base TKU'!O:O,'Base TKU'!$A:$A,$B10,'Base TKU'!$B:$B,\"Total Operação\")/1000000","v":482.40183500000001},{"$f":"SUMIFS('Base TKU'!P:P,'Base TKU'!$A:$A,$B10,'Base TKU'!$B:$B,\"Total Operação\")/1000000","v":672.78239299999996},null,{"$f":"SUMIFS('Base TKU'!R:R,'Base TKU'!$A:$A,$B10,'Base TKU'!$B:$B,\"Total Operação\")/1000000","v":113.381199},{"$f":"SUMIFS('Base TKU'!S:S,'Base TKU'!$A:$A,$B10,'Base TKU'!$B:$B,\"Total Operação\")/1000000","v":6.8058079999999999},{"$f":"SUMIFS('Base TKU'!T:T,'Base TKU'!$A:$A,$B10,'Base TKU'!$B:$B,\"Total Operação\")/1000000","v":0},{"$f":"SUMIFS('Base TKU'!U:U,'Base TKU'!$A:$A,$B10,'Base TKU'!$B:$B,\"Total Operação\")/1000000","v":0},{"$f":"SUMIFS('Base TKU'!V:V,'Base TKU'!$A:$A,$B10,'Base TKU'!$B:$B,\"Total Operação\")/1000000","v":8.6108010000000004},{"$f":"SUMIFS('Base TKU'!W:W,'Base TKU'!$A:$A,$B10,'Base TKU'!$B:$B,\"Total Operação\")/1000000","v":1234.8126540000001},{"$f":"SUMIFS('Base TKU'!X:X,'Base TKU'!$A:$A,$B10,'Base TKU'!$B:$B,\"Total Operação\")/1000000","v":2256.6577750000001},{"$f":"SUMIFS('Base TKU'!Y:Y,'Base TKU'!$A:$A,$B10,'Base TKU'!$B:$B,\"Total Operação\")/1000000","v":2716.6200589999999},{"$f":"SUMIFS('Base TKU'!Z:Z,'Base TKU'!$A:$A,$B10,'Base TKU'!$B:$B,\"Total Operação\")/1000000","v":2771.58122},{"$f":"SUMIFS('Base TKU'!AA:AA,'Base TKU'!$A:$A,$B10,'Base TKU'!$B:$B,\"Total Operação\")/1000000","v":2787.873497},{"$f":"SUMIFS('Base TKU'!AB:AB,'Base TKU'!$A:$A,$B10,'Base TKU'!$B:$B,\"Total Operação\")/1000000","v":2379.4008269999999},{"$f":"SUMIFS('Base TKU'!AC:AC,'Base TKU'!$A:$A,$B10,'Base TKU'!$B:$B,\"Total Operação\")/1000000","v":2139.0831269999999},null,{"$f":"SUMIFS('Base TKU'!AE:AE,'Base TKU'!$A:$A,$B10,'Base TKU'!$B:$B,\"Total Operação\")/1000000","v":609.522875},{"$f":"SUMIFS('Base TKU'!AF:AF,'Base TKU'!$A:$A,$B10,'Base TKU'!$B:$B,\"Total Operação\")/1000000","v":73.753831000000005},{"$f":"SUMIFS('Base TKU'!AG:AG,'Base TKU'!$A:$A,$B10,'Base TKU'!$B:$B,\"Total Operação\")/1000000","v":0},{"$f":"SUMIFS('Base TKU'!AH:AH,'Base TKU'!$A:$A,$B10,'Base TKU'!$B:$B,\"Total Operação\")/1000000","v":0},{"$f":"SUMIFS('Base TKU'!AI:AI,'Base TKU'!$A:$A,$B10,'Base TKU'!$B:$B,\"Total Operação\")/1000000","v":33.737178},{"$f":"SUMIFS('Base TKU'!AJ:AJ,'Base TKU'!$A:$A,$B10,'Base TKU'!$B:$B,\"Total Operação\")/1000000","v":327.83418499999999},{"$f":"SUMIFS('Base TKU'!AK:AK,'Base TKU'!$A:$A,$B10,'Base TKU'!$B:$B,\"Total Operação\")/1000000","v":2341.4123610000001},{"$f":"SUMIFS('Base TKU'!AL:AL,'Base TKU'!$A:$A,$B10,'Base TKU'!$B:$B,\"Total Operação\")/1000000","v":2803.5282269999998},{"$f":"SUMIFS('Base TKU'!AM:AM,'Base TKU'!$A:$A,$B10,'Base TKU'!$B:$B,\"Total Operação\")/1000000","v":2731.4375570000002},{"$f":"SUMIFS('Base TKU'!AN:AN,'Base TKU'!$A:$A,$B10,'Base TKU'!$B:$B,\"Total Operação\")/1000000","v":2248.7981380000001},{"$f":"SUMIFS('Base TKU'!AO:AO,'Base TKU'!$A:$A,$B10,'Base TKU'!$B:$B,\"Total Operação\")/1000000","v":2798.0980220000001},{"$f":"SUMIFS('Base TKU'!AP:AP,'Base TKU'!$A:$A,$B10,'Base TKU'!$B:$B,\"Total Operação\")/1000000","v":2464.9139300000002},null,{"$f":"SUMIFS('Base TKU'!AR:AR,'Base TKU'!$A:$A,$B10,'Base TKU'!$B:$B,\"Total Operação\")/1000000","v":415.34414500000003},{"$f":"SUMIFS('Base TKU'!AS:AS,'Base TKU'!$A:$A,$B10,'Base TKU'!$B:$B,\"Total Operação\")/1000000","v":74.140707000000006},{"$f":"SUMIFS('Base TKU'!AT:AT,'Base TKU'!$A:$A,$B10,'Base TKU'!$B:$B,\"Total Operação\")/1000000","v":15.008298},{"$f":"SUMIFS('Base TKU'!AU:AU,'Base TKU'!$A:$A,$B10,'Base TKU'!$B:$B,\"Total Operação\")/1000000","v":34.903503000000001},{"$f":"SUMIFS('Base TKU'!AV:AV,'Base TKU'!$A:$A,$B10,'Base TKU'!$B:$B,\"Total Operação\")/1000000","v":111.762523},{"$f":"SUMIFS('Base TKU'!AW:AW,'Base TKU'!$A:$A,$B10,'Base TKU'!$B:$B,\"Total Operação\")/1000000","v":2575.9046579999999},{"$f":"SUMIFS('Base TKU'!AX:AX,'Base TKU'!$A:$A,$B10,'Base TKU'!$B:$B,\"Total Operação\")/1000000","v":3444.6614290000002},{"$f":"SUMIFS('Base TKU'!AY:AY,'Base TKU'!$A:$A,$B10,'Base TKU'!$B:$B,\"Total Operação\")/1000000","v":3342.4637790000002},{"$f":"SUMIFS('Base TKU'!AZ:AZ,'Base TKU'!$A:$A,$B10,'Base TKU'!$B:$B,\"Total Operação\")/1000000","v":2963.3850929999999},{"$f":"SUMIFS('Base TKU'!BA:BA,'Base TKU'!$A:$A,$B10,'Base TKU'!$B:$B,\"Total Operação\")/1000000","v":2757.6521640000001},{"$f":"SUMIFS('Base TKU'!BB:BB,'Base TKU'!$A:$A,$B10,'Base TKU'!$B:$B,\"Total Operação\")/1000000","v":2568.9127830000002},{"$f":"SUMIFS('Base TKU'!BC:BC,'Base TKU'!$A:$A,$B10,'Base TKU'!$B:$B,\"Total Operação\")/1000000","v":1241.688832},null,{"$f":"SUMIFS('Base TKU'!BE:BE,'Base TKU'!$A:$A,$B10,'Base TKU'!$B:$B,\"Total Operação\")/1000000","v":60.46875},{"$f":"SUMIFS('Base TKU'!BF:BF,'Base TKU'!$A:$A,$B10,'Base TKU'!$B:$B,\"Total Operação\")/1000000","v":73.095562000000001},{"$f":"SUMIFS('Base TKU'!BG:BG,'Base TKU'!$A:$A,$B10,'Base TKU'!$B:$B,\"Total Operação\")/1000000","v":14.966994},{"$f":"SUMIFS('Base TKU'!BH:BH,'Base TKU'!$A:$A,$B10,'Base TKU'!$B:$B,\"Total Operação\")/1000000","v":0},{"$f":"SUMIFS('Base TKU'!BI:BI,'Base TKU'!$A:$A,$B10,'Base TKU'!$B:$B,\"Total Operação\")/1000000","v":3.0471000000000002E-2},{"$f":"SUMIFS('Base TKU'!BJ:BJ,'Base TKU'!$A:$A,$B10,'Base TKU'!$B:$B,\"Total Operação\")/1000000","v":1431.483015},{"$f":"SUMIFS('Base TKU'!BK:BK,'Base TKU'!$A:$A,$B10,'Base TKU'!$B:$B,\"Total Operação\")/1000000","v":2707.269495},{"$f":"SUMIFS('Base TKU'!BL:BL,'Base TKU'!$A:$A,$B10,'Base TKU'!$B:$B,\"Total Operação\")/1000000","v":2787.6122890000001},{"$f":"SUMIFS('Base TKU'!BM:BM,'Base TKU'!$A:$A,$B10,'Base TKU'!$B:$B,\"Total Operação\")/1000000","v":2601.258773},{"$f":"SUMIFS('Base TKU'!BN:BN,'Base TKU'!$A:$A,$B10,'Base TKU'!$B:$B,\"Total Operação\")/1000000","v":2608.0810799999999},{"$f":"SUMIFS('Base TKU'!BO:BO,'Base TKU'!$A:$A,$B10,'Base TKU'!$B:$B,\"Total Operação\")/1000000","v":2469.4026359999998},{"$f":"SUMIFS('Base TKU'!BP:BP,'Base TKU'!$A:$A,$B10,'Base TKU'!$B:$B,\"Total Operação\")/1000000","v":2419.7877570000001},null,{"$f":"'Volume TKU Norte'!BQ10+'Volume TKU Sul'!BP10","v":124.970308},{"$f":"'Volume TKU Norte'!BR10+'Volume TKU Sul'!BQ10","v":73.279588000000004},{"$f":"'Volume TKU Norte'!BS10+'Volume TKU Sul'!BR10","v":6.9764609999999996},{"$f":"'Volume TKU Norte'!BT10+'Volume TKU Sul'!BS10","v":0},{"$f":"'Volume TKU Norte'!BU10+'Volume TKU Sul'!BT10","v":0},{"$f":"'Volume TKU Norte'!BV10+'Volume TKU Sul'!BU10","v":507.61684000000002},{"$f":"'Volume TKU Norte'!BW10+'Volume TKU Sul'!BV10","v":2759.0410959999999},{"$f":"'Volume TKU Norte'!BX10+'Volume TKU Sul'!BW10","v":1944.8646039999999},{"$f":"'Volume TKU Norte'!BY10+'Volume TKU Sul'!BX10","v":1287.8696149999998},{"$f":"'Volume TKU Norte'!BZ10+'Volume TKU Sul'!BY10","v":1691.445213},{"$f":"'Volume TKU Norte'!CA10+'Volume TKU Sul'!BZ10","v":1802.04357},{"$f":"'Volume TKU Norte'!CB10+'Volume TKU Sul'!CA10","v":2340.5207599999999},null,{"$f":"'Volume TKU Norte'!CD10+'Volume TKU Sul'!CC10","v":963.64978000000008},{"$f":"'Volume TKU Norte'!CE10+'Volume TKU Sul'!CD10","v":68.267674999999997},{"$f":"'Volume TKU Norte'!CF10+'Volume TKU Sul'!CE10","v":46.083472999999998},{"$f":"'Volume TKU Norte'!CG10+'Volume TKU Sul'!CF10","v":320.263102},{"$f":"'Volume TKU Norte'!CH10+'Volume TKU Sul'!CG10","v":108.10596799999999},{"$f":"'Volume TKU Norte'!CI10+'Volume TKU Sul'!CH10","v":0},{"$f":"'Volume TKU Norte'!CJ10+'Volume TKU Sul'!CI10","v":0},{"$f":"'Volume TKU Norte'!CK10+'Volume TKU Sul'!CJ10","v":0},{"$f":"'Volume TKU Norte'!CL10+'Volume TKU Sul'!CK10","v":0},{"$f":"'Volume TKU Norte'!CM10+'Volume TKU Sul'!CL10","v":0},{"$f":"'Volume TKU Norte'!CN10+'Volume TKU Sul'!CM10","v":0},{"$f":"'Volume TKU Norte'!CO10+'Volume TKU Sul'!CN10","v":0}]
[null,"Açúcar",null,{"$f":"SUMIFS('Base TKU'!E:E,'Base TKU'!$A:$A,$B11,'Base TKU'!$B:$B,\"Total Operação\")/1000000","v":234.45612700000001},{"$f":"SUMIFS('Base TKU'!F:F,'Base TKU'!$A:$A,$B11,'Base TKU'!$B:$B,\"Total Operação\")/1000000","v":157.457807},{"$f":"SUMIFS('Base TKU'!G:G,'Base TKU'!$A:$A,$B11,'Base TKU'!$B:$B,\"Total Operação\")/1000000","v":178.380923},{"$f":"SUMIFS('Base TKU'!H:H,'Base TKU'!$A:$A,$B11,'Base TKU'!$B:$B,\"Total Operação\")/1000000","v":207.666213},{"$f":"SUMIFS('Base TKU'!I:I,'Base TKU'!$A:$A,$B11,'Base TKU'!$B:$B,\"Total Operação\")/1000000","v":435.86198899999999},{"$f":"SUMIFS('Base TKU'!J:J,'Base TKU'!$A:$A,$B11,'Base TKU'!$B:$B,\"Total Operação\")/1000000","v":586.08299099999999},{"$f":"SUMIFS('Base TKU'!K:K,'Base TKU'!$A:$A,$B11,'Base TKU'!$B:$B,\"Total Operação\")/1000000","v":506.29377799999997},{"$f":"SUMIFS('Base TKU'!L:L,'Base TKU'!$A:$A,$B11,'Base TKU'!$B:$B,\"Total Operação\")/1000000","v":574.42666499999996},{"$f":"SUMIFS('Base TKU'!M:M,'Base TKU'!$A:$A,$B11,'Base TKU'!$B:$B,\"Total Operação\")/1000000","v":585.80211999999995},{"$f":"SUMIFS('Base TKU'!N:N,'Base TKU'!$A:$A,$B11,'Base TKU'!$B:$B,\"Total Operação\")/1000000","v":682.56985399999996},{"$f":"SUMIFS('Base TKU'!O:O,'Base TKU'!$A:$A,$B11,'Base TKU'!$B:$B,\"Total Operação\")/1000000","v":588.72278300000005},{"$f":"SUMIFS('Base TKU'!P:P,'Base TKU'!$A:$A,$B11,'Base TKU'!$B:$B,\"Total Operação\")/1000000","v":535.00260300000002},null,{"$f":"SUMIFS('Base TKU'!R:R,'Base TKU'!$A:$A,$B11,'Base TKU'!$B:$B,\"Total Operação\")/1000000","v":282.02767899999998},{"$f":"SUMIFS('Base TKU'!S:S,'Base TKU'!$A:$A,$B11,'Base TKU'!$B:$B,\"Total Operação\")/1000000","v":118.95804099999999},{"$f":"SUMIFS('Base TKU'!T:T,'Base TKU'!$A:$A,$B11,'Base TKU'!$B:$B,\"Total Operação\")/1000000","v":104.33481999999999},{"$f":"SUMIFS('Base TKU'!U:U,'Base TKU'!$A:$A,$B11,'Base TKU'!$B:$B,\"Total Operação\")/1000000","v":214.854646},{"$f":"SUMIFS('Base TKU'!V:V,'Base TKU'!$A:$A,$B11,'Base TKU'!$B:$B,\"Total Operação\")/1000000","v":531.04533200000003},{"$f":"SUMIFS('Base TKU'!W:W,'Base TKU'!$A:$A,$B11,'Base TKU'!$B:$B,\"Total Operação\")/1000000","v":422.40993099999997},{"$f":"SUMIFS('Base TKU'!X:X,'Base TKU'!$A:$A,$B11,'Base TKU'!$B:$B,\"Total Operação\")/1000000","v":385.76943999999997},{"$f":"SUMIFS('Base TKU'!Y:Y,'Base TKU'!$A:$A,$B11,'Base TKU'!$B:$B,\"Total Operação\")/1000000","v":407.30095599999999},{"$f":"SUMIFS('Base TKU'!Z:Z,'Base TKU'!$A:$A,$B11,'Base TKU'!$B:$B,\"Total Operação\")/1000000","v":420.547076},{"$f":"SUMIFS('Base TKU'!AA:AA,'Base TKU'!$A:$A,$B11,'Base TKU'!$B:$B,\"Total Operação\")/1000000","v":385.73089800000002},{"$f":"SUMIFS('Base TKU'!AB:AB,'Base TKU'!$A:$A,$B11,'Base TKU'!$B:$B,\"Total Operação\")/1000000","v":379.15147200000001},{"$f":"SUMIFS('Base TKU'!AC:AC,'Base TKU'!$A:$A,$B11,'Base TKU'!$B:$B,\"Total Operação\")/1000000","v":301.82092999999998},null,{"$f":"SUMIFS('Base TKU'!AE:AE,'Base TKU'!$A:$A,$B11,'Base TKU'!$B:$B,\"Total Operação\")/1000000","v":294.65521999999999},{"$f":"SUMIFS('Base TKU'!AF:AF,'Base TKU'!$A:$A,$B11,'Base TKU'!$B:$B,\"Total Operação\")/1000000","v":193.81917799999999},{"$f":"SUMIFS('Base TKU'!AG:AG,'Base TKU'!$A:$A,$B11,'Base TKU'!$B:$B,\"Total Operação\")/1000000","v":140.573881},{"$f":"SUMIFS('Base TKU'!AH:AH,'Base TKU'!$A:$A,$B11,'Base TKU'!$B:$B,\"Total Operação\")/1000000","v":165.99626900000001},{"$f":"SUMIFS('Base TKU'!AI:AI,'Base TKU'!$A:$A,$B11,'Base TKU'!$B:$B,\"Total Operação\")/1000000","v":412.85533299999997},{"$f":"SUMIFS('Base TKU'!AJ:AJ,'Base TKU'!$A:$A,$B11,'Base TKU'!$B:$B,\"Total Operação\")/1000000","v":435.27574900000002},{"$f":"SUMIFS('Base TKU'!AK:AK,'Base TKU'!$A:$A,$B11,'Base TKU'!$B:$B,\"Total Operação\")/1000000","v":322.824073},{"$f":"SUMIFS('Base TKU'!AL:AL,'Base TKU'!$A:$A,$B11,'Base TKU'!$B:$B,\"Total Operação\")/1000000","v":326.51097499999997},{"$f":"SUMIFS('Base TKU'!AM:AM,'Base TKU'!$A:$A,$B11,'Base TKU'!$B:$B,\"Total Operação\")/1000000","v":356.32162599999998},{"$f":"SUMIFS('Base TKU'!AN:AN,'Base TKU'!$A:$A,$B11,'Base TKU'!$B:$B,\"Total Operação\")/1000000","v":400.66425800000002},{"$f":"SUMIFS('Base TKU'!AO:AO,'Base TKU'!$A:$A,$B11,'Base TKU'!$B:$B,\"Total Operação\")/1000000","v":229.23934},{"$f":"SUMIFS('Base TKU'!AP:AP,'Base TKU'!$A:$A,$B11,'Base TKU'!$B:$B,\"Total Operação\")/1000000","v":250.45360600000001},null,{"$f":"SUMIFS('Base TKU'!AR:AR,'Base TKU'!$A:$A,$B11,'Base TKU'!$B:$B,\"Total Operação\")/1000000","v":154.011202},{"$f":"SUMIFS('Base TKU'!AS:AS,'Base TKU'!$A:$A,$B11,'Base TKU'!$B:$B,\"Total Operação\")/1000000","v":86.190191999999996},{"$f":"SUMIFS('Base TKU'!AT:AT,'Base TKU'!$A:$A,$B11,'Base TKU'!$B:$B,\"Total Operação\")/1000000","v":142.31992099999999},{"$f":"SUMIFS('Base TKU'!AU:AU,'Base TKU'!$A:$A,$B11,'Base TKU'!$B:$B,\"Total Operação\")/1000000","v":225.74797799999999},{"$f":"SUMIFS('Base TKU'!AV:AV,'Base TKU'!$A:$A,$B11,'Base TKU'!$B:$B,\"Total Operação\")/1000000","v":317.02488099999999},{"$f":"SUMIFS('Base TKU'!AW:AW,'Base TKU'!$A:$A,$B11,'Base TKU'!$B:$B,\"Total Operação\")/1000000","v":262.38109600000001},{"$f":"SUMIFS('Base TKU'!AX:AX,'Base TKU'!$A:$A,$B11,'Base TKU'!$B:$B,\"Total Operação\")/1000000","v":295.55797999999999},{"$f":"SUMIFS('Base TKU'!AY:AY,'Base TKU'!$A:$A,$B11,'Base TKU'!$B:$B,\"Total Operação\")/1000000","v":238.205073},{"$f":"SUMIFS('Base TKU'!AZ:AZ,'Base TKU'!$A:$A,$B11,'Base TKU'!$B:$B,\"Total Operação\")/1000000","v":262.97824100000003},{"$f":"SUMIFS('Base TKU'!BA:BA,'Base TKU'!$A:$A,$B11,'Base TKU'!$B:$B,\"Total Operação\")/1000000","v":239.16172299999999},{"$f":"SUMIFS('Base TKU'!BB:BB,'Base TKU'!$A:$A,$B11,'Base TKU'!$B:$B,\"Total Operação\")/1000000","v":267.34636399999999},{"$f":"SUMIFS('Base TKU'!BC:BC,'Base TKU'!$A:$A,$B11,'Base TKU'!$B:$B,\"Total Operação\")/1000000","v":356.17253399999998},null,{"$f":"SUMIFS('Base TKU'!BE:BE,'Base TKU'!$A:$A,$B11,'Base TKU'!$B:$B,\"Total Operação\")/1000000","v":237.73846399999999},{"$f":"SUMIFS('Base TKU'!BF:BF,'Base TKU'!$A:$A,$B11,'Base TKU'!$B:$B,\"Total Operação\")/1000000","v":175.34279699999999},{"$f":"SUMIFS('Base TKU'!BG:BG,'Base TKU'!$A:$A,$B11,'Base TKU'!$B:$B,\"Total Operação\")/1000000","v":147.83055400000001},{"$f":"SUMIFS('Base TKU'!BH:BH,'Base TKU'!$A:$A,$B11,'Base TKU'!$B:$B,\"Total Operação\")/1000000","v":249.28712999999999},{"$f":"SUMIFS('Base TKU'!BI:BI,'Base TKU'!$A:$A,$B11,'Base TKU'!$B:$B,\"Total Operação\")/1000000","v":436.87468699999999},{"$f":"SUMIFS('Base TKU'!BJ:BJ,'Base TKU'!$A:$A,$B11,'Base TKU'!$B:$B,\"Total Operação\")/1000000","v":365.36444799999998},{"$f":"SUMIFS('Base TKU'!BK:BK,'Base TKU'!$A:$A,$B11,'Base TKU'!$B:$B,\"Total Operação\")/1000000","v":337.39315699999997},{"$f":"SUMIFS('Base TKU'!BL:BL,'Base TKU'!$A:$A,$B11,'Base TKU'!$B:$B,\"Total Operação\")/1000000","v":494.16551600000003},{"$f":"SUMIFS('Base TKU'!BM:BM,'Base TKU'!$A:$A,$B11,'Base TKU'!$B:$B,\"Total Operação\")/1000000","v":664.78082600000005},{"$f":"SUMIFS('Base TKU'!BN:BN,'Base TKU'!$A:$A,$B11,'Base TKU'!$B:$B,\"Total Operação\")/1000000","v":735.31807900000001},{"$f":"SUMIFS('Base TKU'!BO:BO,'Base TKU'!$A:$A,$B11,'Base TKU'!$B:$B,\"Total Operação\")/1000000","v":660.15419499999996},{"$f":"SUMIFS('Base TKU'!BP:BP,'Base TKU'!$A:$A,$B11,'Base TKU'!$B:$B,\"Total Operação\")/1000000","v":506.31174800000002},null,{"$f":"'Volume TKU Norte'!BQ11+'Volume TKU Sul'!BP11","v":369.38857300000001},{"$f":"'Volume TKU Norte'!BR11+'Volume TKU Sul'!BQ11","v":87.318869000000007},{"$f":"'Volume TKU Norte'!BS11+'Volume TKU Sul'!BR11","v":143.54877500000001},{"$f":"'Volume TKU Norte'!BT11+'Volume TKU Sul'!BS11","v":233.17973699999999},{"$f":"'Volume TKU Norte'!BU11+'Volume TKU Sul'!BT11","v":544.24410499999999},{"$f":"'Volume TKU Norte'!BV11+'Volume TKU Sul'!BU11","v":621.57745199999999},{"$f":"'Volume TKU Norte'!BW11+'Volume TKU Sul'!BV11","v":340.38910399999997},{"$f":"'Volume TKU Norte'!BX11+'Volume TKU Sul'!BW11","v":416.021704},{"$f":"'Volume TKU Norte'!BY11+'Volume TKU Sul'!BX11","v":643.31923899999992},{"$f":"'Volume TKU Norte'!BZ11+'Volume TKU Sul'!BY11","v":538.25472400000001},{"$f":"'Volume TKU Norte'!CA11+'Volume TKU Sul'!BZ11","v":468.24196499999999},{"$f":"'Volume TKU Norte'!CB11+'Volume TKU Sul'!CA11","v":262.16018200000002},null,{"$f":"'Volume TKU Norte'!CD11+'Volume TKU Sul'!CC11","v":201.50828999999999},{"$f":"'Volume TKU Norte'!CE11+'Volume TKU Sul'!CD11","v":65.138875999999996},{"$f":"'Volume TKU Norte'!CF11+'Volume TKU Sul'!CE11","v":114.729904},{"$f":"'Volume TKU Norte'!CG11+'Volume TKU Sul'!CF11","v":112.160448},{"$f":"'Volume TKU Norte'!CH11+'Volume TKU Sul'!CG11","v":393.59693400000003},{"$f":"'Volume TKU Norte'!CI11+'Volume TKU Sul'!CH11","v":0},{"$f":"'Volume TKU Norte'!CJ11+'Volume TKU Sul'!CI11","v":0},{"$f":"'Volume TKU Norte'!CK11+'Volume TKU Sul'!CJ11","v":0},{"$f":"'Volume TKU Norte'!CL11+'Volume TKU Sul'!CK11","v":0},{"$f":"'Volume TKU Norte'!CM11+'Volume TKU Sul'!CL11","v":0},{"$f":"'Volume TKU Norte'!CN11+'Volume TKU Sul'!CM11","v":0},{"$f":"'Volume TKU Norte'!CO11+'Volume TKU Sul'!CN11","v":0}]
[null,"Fertilizantes",null,{"$f":"SUMIFS('Base TKU'!E:E,'Base TKU'!$A:$A,$B12,'Base TKU'!$B:$B,\"Total Operação\")/1000000","v":28.277885999999999},{"$f":"SUMIFS('Base TKU'!F:F,'Base TKU'!$A:$A,$B12,'Base TKU'!$B:$B,\"Total Operação\")/1000000","v":17.986273000000001},{"$f":"SUMIFS('Base TKU'!G:G,'Base TKU'!$A:$A,$B12,'Base TKU'!$B:$B,\"Total Operação\")/1000000","v":20.430346},{"$f":"SUMIFS('Base TKU'!H:H,'Base TKU'!$A:$A,$B12,'Base TKU'!$B:$B,\"Total Operação\")/1000000","v":22.496891000000002},{"$f":"SUMIFS('Base TKU'!I:I,'Base TKU'!$A:$A,$B12,'Base TKU'!$B:$B,\"Total Operação\")/1000000","v":61.922969000000002},{"$f":"SUMIFS('Base TKU'!J:J,'Base TKU'!$A:$A,$B12,'Base TKU'!$B:$B,\"Total Operação\")/1000000","v":79.419138000000004},{"$f":"SUMIFS('Base TKU'!K:K,'Base TKU'!$A:$A,$B12,'Base TKU'!$B:$B,\"Total Operação\")/1000000","v":91.515180999999998},{"$f":"SUMIFS('Base TKU'!L:L,'Base TKU'!$A:$A,$B12,'Base TKU'!$B:$B,\"Total Operação\")/1000000","v":95.034592000000004},{"$f":"SUMIFS('Base TKU'!M:M,'Base TKU'!$A:$A,$B12,'Base TKU'!$B:$B,\"Total Operação\")/1000000","v":123.820635},{"$f":"SUMIFS('Base TKU'!N:N,'Base TKU'!$A:$A,$B12,'Base TKU'!$B:$B,\"Total Operação\")/1000000","v":98.535258999999996},{"$f":"SUMIFS('Base TKU'!O:O,'Base TKU'!$A:$A,$B12,'Base TKU'!$B:$B,\"Total Operação\")/1000000","v":98.943488000000002},{"$f":"SUMIFS('Base TKU'!P:P,'Base TKU'!$A:$A,$B12,'Base TKU'!$B:$B,\"Total Operação\")/1000000","v":76.556442000000004},null,{"$f":"SUMIFS('Base TKU'!R:R,'Base TKU'!$A:$A,$B12,'Base TKU'!$B:$B,\"Total Operação\")/1000000","v":67.081149999999994},{"$f":"SUMIFS('Base TKU'!S:S,'Base TKU'!$A:$A,$B12,'Base TKU'!$B:$B,\"Total Operação\")/1000000","v":37.347427000000003},{"$f":"SUMIFS('Base TKU'!T:T,'Base TKU'!$A:$A,$B12,'Base TKU'!$B:$B,\"Total Operação\")/1000000","v":30.187373999999998},{"$f":"SUMIFS('Base TKU'!U:U,'Base TKU'!$A:$A,$B12,'Base TKU'!$B:$B,\"Total Operação\")/1000000","v":69.954741999999996},{"$f":"SUMIFS('Base TKU'!V:V,'Base TKU'!$A:$A,$B12,'Base TKU'!$B:$B,\"Total Operação\")/1000000","v":69.651088000000001},{"$f":"SUMIFS('Base TKU'!W:W,'Base TKU'!$A:$A,$B12,'Base TKU'!$B:$B,\"Total Operação\")/1000000","v":49.094098000000002},{"$f":"SUMIFS('Base TKU'!X:X,'Base TKU'!$A:$A,$B12,'Base TKU'!$B:$B,\"Total Operação\")/1000000","v":51.279952000000002},{"$f":"SUMIFS('Base TKU'!Y:Y,'Base TKU'!$A:$A,$B12,'Base TKU'!$B:$B,\"Total Operação\")/1000000","v":55.38852},{"$f":"SUMIFS('Base TKU'!Z:Z,'Base TKU'!$A:$A,$B12,'Base TKU'!$B:$B,\"Total Operação\")/1000000","v":60.182640999999997},{"$f":"SUMIFS('Base TKU'!AA:AA,'Base TKU'!$A:$A,$B12,'Base TKU'!$B:$B,\"Total Operação\")/1000000","v":70.693725000000001},{"$f":"SUMIFS('Base TKU'!AB:AB,'Base TKU'!$A:$A,$B12,'Base TKU'!$B:$B,\"Total Operação\")/1000000","v":63.823445999999997},{"$f":"SUMIFS('Base TKU'!AC:AC,'Base TKU'!$A:$A,$B12,'Base TKU'!$B:$B,\"Total Operação\")/1000000","v":58.969529999999999},null,{"$f":"SUMIFS('Base TKU'!AE:AE,'Base TKU'!$A:$A,$B12,'Base TKU'!$B:$B,\"Total Operação\")/1000000","v":67.919033999999996},{"$f":"SUMIFS('Base TKU'!AF:AF,'Base TKU'!$A:$A,$B12,'Base TKU'!$B:$B,\"Total Operação\")/1000000","v":48.889296000000002},{"$f":"SUMIFS('Base TKU'!AG:AG,'Base TKU'!$A:$A,$B12,'Base TKU'!$B:$B,\"Total Operação\")/1000000","v":34.909109999999998},{"$f":"SUMIFS('Base TKU'!AH:AH,'Base TKU'!$A:$A,$B12,'Base TKU'!$B:$B,\"Total Operação\")/1000000","v":48.651350999999998},{"$f":"SUMIFS('Base TKU'!AI:AI,'Base TKU'!$A:$A,$B12,'Base TKU'!$B:$B,\"Total Operação\")/1000000","v":111.77028900000001},{"$f":"SUMIFS('Base TKU'!AJ:AJ,'Base TKU'!$A:$A,$B12,'Base TKU'!$B:$B,\"Total Operação\")/1000000","v":137.89509200000001},{"$f":"SUMIFS('Base TKU'!AK:AK,'Base TKU'!$A:$A,$B12,'Base TKU'!$B:$B,\"Total Operação\")/1000000","v":249.05067},{"$f":"SUMIFS('Base TKU'!AL:AL,'Base TKU'!$A:$A,$B12,'Base TKU'!$B:$B,\"Total Operação\")/1000000","v":250.78048899999999},{"$f":"SUMIFS('Base TKU'!AM:AM,'Base TKU'!$A:$A,$B12,'Base TKU'!$B:$B,\"Total Operação\")/1000000","v":151.730932},{"$f":"SUMIFS('Base TKU'!AN:AN,'Base TKU'!$A:$A,$B12,'Base TKU'!$B:$B,\"Total Operação\")/1000000","v":172.93556899999999},{"$f":"SUMIFS('Base TKU'!AO:AO,'Base TKU'!$A:$A,$B12,'Base TKU'!$B:$B,\"Total Operação\")/1000000","v":249.32306199999999},{"$f":"SUMIFS('Base TKU'!AP:AP,'Base TKU'!$A:$A,$B12,'Base TKU'!$B:$B,\"Total Operação\")/1000000","v":337.74815699999999},null,{"$f":"SUMIFS('Base TKU'!AR:AR,'Base TKU'!$A:$A,$B12,'Base TKU'!$B:$B,\"Total Operação\")/1000000","v":264.33585699999998},{"$f":"SUMIFS('Base TKU'!AS:AS,'Base TKU'!$A:$A,$B12,'Base TKU'!$B:$B,\"Total Operação\")/1000000","v":166.74120099999999},{"$f":"SUMIFS('Base TKU'!AT:AT,'Base TKU'!$A:$A,$B12,'Base TKU'!$B:$B,\"Total Operação\")/1000000","v":194.926232},{"$f":"SUMIFS('Base TKU'!AU:AU,'Base TKU'!$A:$A,$B12,'Base TKU'!$B:$B,\"Total Operação\")/1000000","v":248.118763},{"$f":"SUMIFS('Base TKU'!AV:AV,'Base TKU'!$A:$A,$B12,'Base TKU'!$B:$B,\"Total Operação\")/1000000","v":368.94811299999998},{"$f":"SUMIFS('Base TKU'!AW:AW,'Base TKU'!$A:$A,$B12,'Base TKU'!$B:$B,\"Total Operação\")/1000000","v":352.12768499999999},{"$f":"SUMIFS('Base TKU'!AX:AX,'Base TKU'!$A:$A,$B12,'Base TKU'!$B:$B,\"Total Operação\")/1000000","v":400.54285800000002},{"$f":"SUMIFS('Base TKU'!AY:AY,'Base TKU'!$A:$A,$B12,'Base TKU'!$B:$B,\"Total Operação\")/1000000","v":327.77893299999999},{"$f":"SUMIFS('Base TKU'!AZ:AZ,'Base TKU'!$A:$A,$B12,'Base TKU'!$B:$B,\"Total Operação\")/1000000","v":181.15200400000001},{"$f":"SUMIFS('Base TKU'!BA:BA,'Base TKU'!$A:$A,$B12,'Base TKU'!$B:$B,\"Total Operação\")/1000000","v":281.21872400000001},{"$f":"SUMIFS('Base TKU'!BB:BB,'Base TKU'!$A:$A,$B12,'Base TKU'!$B:$B,\"Total Operação\")/1000000","v":331.25701299999997},{"$f":"SUMIFS('Base TKU'!BC:BC,'Base TKU'!$A:$A,$B12,'Base TKU'!$B:$B,\"Total Operação\")/1000000","v":419.96638799999999},null,{"$f":"SUMIFS('Base TKU'!BE:BE,'Base TKU'!$A:$A,$B12,'Base TKU'!$B:$B,\"Total Operação\")/1000000","v":367.050116},{"$f":"SUMIFS('Base TKU'!BF:BF,'Base TKU'!$A:$A,$B12,'Base TKU'!$B:$B,\"Total Operação\")/1000000","v":296.982213},{"$f":"SUMIFS('Base TKU'!BG:BG,'Base TKU'!$A:$A,$B12,'Base TKU'!$B:$B,\"Total Operação\")/1000000","v":135.62653399999999},{"$f":"SUMIFS('Base TKU'!BH:BH,'Base TKU'!$A:$A,$B12,'Base TKU'!$B:$B,\"Total Operação\")/1000000","v":339.99802399999999},{"$f":"SUMIFS('Base TKU'!BI:BI,'Base TKU'!$A:$A,$B12,'Base TKU'!$B:$B,\"Total Operação\")/1000000","v":442.25623400000001},{"$f":"SUMIFS('Base TKU'!BJ:BJ,'Base TKU'!$A:$A,$B12,'Base TKU'!$B:$B,\"Total Operação\")/1000000","v":408.84166800000003},{"$f":"SUMIFS('Base TKU'!BK:BK,'Base TKU'!$A:$A,$B12,'Base TKU'!$B:$B,\"Total Operação\")/1000000","v":441.87099899999998},{"$f":"SUMIFS('Base TKU'!BL:BL,'Base TKU'!$A:$A,$B12,'Base TKU'!$B:$B,\"Total Operação\")/1000000","v":308.39473500000003},{"$f":"SUMIFS('Base TKU'!BM:BM,'Base TKU'!$A:$A,$B12,'Base TKU'!$B:$B,\"Total Operação\")/1000000","v":335.13154900000001},{"$f":"SUMIFS('Base TKU'!BN:BN,'Base TKU'!$A:$A,$B12,'Base TKU'!$B:$B,\"Total Operação\")/1000000","v":472.40617600000002},{"$f":"SUMIFS('Base TKU'!BO:BO,'Base TKU'!$A:$A,$B12,'Base TKU'!$B:$B,\"Total Operação\")/1000000","v":464.46574500000003},{"$f":"SUMIFS('Base TKU'!BP:BP,'Base TKU'!$A:$A,$B12,'Base TKU'!$B:$B,\"Total Operação\")/1000000","v":451.50585000000001},null,{"$f":"'Volume TKU Norte'!BQ12+'Volume TKU Sul'!BP12","v":485.66634299999998},{"$f":"'Volume TKU Norte'!BR12+'Volume TKU Sul'!BQ12","v":411.29659600000002},{"$f":"'Volume TKU Norte'!BS12+'Volume TKU Sul'!BR12","v":248.29362700000001},{"$f":"'Volume TKU Norte'!BT12+'Volume TKU Sul'!BS12","v":272.28247199999998},{"$f":"'Volume TKU Norte'!BU12+'Volume TKU Sul'!BT12","v":295.95103399999999},{"$f":"'Volume TKU Norte'!BV12+'Volume TKU Sul'!BU12","v":313.74494800000002},{"$f":"'Volume TKU Norte'!BW12+'Volume TKU Sul'!BV12","v":600.44385899999997},{"$f":"'Volume TKU Norte'!BX12+'Volume TKU Sul'!BW12","v":609.64068299999997},{"$f":"'Volume TKU Norte'!BY12+'Volume TKU Sul'!BX12","v":461.64936799999998},{"$f":"'Volume TKU Norte'!BZ12+'Volume TKU Sul'!BY12","v":493.86874399999999},{"$f":"'Volume TKU Norte'!CA12+'Volume TKU Sul'!BZ12","v":411.021704},{"$f":"'Volume TKU Norte'!CB12+'Volume TKU Sul'!CA12","v":404.43747599999995},null,{"$f":"'Volume TKU Norte'!CD12+'Volume TKU Sul'!CC12","v":344.794062},{"$f":"'Volume TKU Norte'!CE12+'Volume TKU Sul'!CD12","v":436.28184699999997},{"$f":"'Volume TKU Norte'!CF12+'Volume TKU Sul'!CE12","v":389.61136899999997},{"$f":"'Volume TKU Norte'!CG12+'Volume TKU Sul'!CF12","v":185.731561},{"$f":"'Volume TKU Norte'!CH12+'Volume TKU Sul'!CG12","v":483.93591600000002},{"$f":"'Volume TKU Norte'!CI12+'Volume TKU Sul'!CH12","v":0},{"$f":"'Volume TKU Norte'!CJ12+'Volume TKU Sul'!CI12","v":0},{"$f":"'Volume TKU Norte'!CK12+'Volume TKU Sul'!CJ12","v":0},{"$f":"'Volume TKU Norte'!CL12+'Volume TKU Sul'!CK12","v":0},{"$f":"'Volume TKU Norte'!CM12+'Volume TKU Sul'!CL12","v":0},{"$f":"'Volume TKU Norte'!CN12+'Volume TKU Sul'!CM12","v":0},{"$f":"'Volume TKU Norte'!CO12+'Volume TKU Sul'!CN12","v":0}]
[null,"Trigo",null,{"$f":"SUMIFS('Base TKU'!E:E,'Base TKU'!$A:$A,$B13,'Base TKU'!$B:$B,\"Total Operação\")/1000000","v":41.988754},{"$f":"SUMIFS('Base TKU'!F:F,'Base TKU'!$A:$A,$B13,'Base TKU'!$B:$B,\"Total Operação\")/1000000","v":1.3795740000000001},{"$f":"SUMIFS('Base TKU'!G:G,'Base TKU'!$A:$A,$B13,'Base TKU'!$B:$B,\"Total Operação\")/1000000","v":2.4844179999999998},{"$f":"SUMIFS('Base TKU'!H:H,'Base TKU'!$A:$A,$B13,'Base TKU'!$B:$B,\"Total Operação\")/1000000","v":0},{"$f":"SUMIFS('Base TKU'!I:I,'Base TKU'!$A:$A,$B13,'Base TKU'!$B:$B,\"Total Operação\")/1000000","v":0},{"$f":"SUMIFS('Base TKU'!J:J,'Base TKU'!$A:$A,$B13,'Base TKU'!$B:$B,\"Total Operação\")/1000000","v":0},{"$f":"SUMIFS('Base TKU'!K:K,'Base TKU'!$A:$A,$B13,'Base TKU'!$B:$B,\"Total Operação\")/1000000","v":0},{"$f":"SUMIFS('Base TKU'!L:L,'Base TKU'!$A:$A,$B13,'Base TKU'!$B:$B,\"Total Operação\")/1000000","v":0},{"$f":"SUMIFS('Base TKU'!M:M,'Base TKU'!$A:$A,$B13,'Base TKU'!$B:$B,\"Total Operação\")/1000000","v":0},{"$f":"SUMIFS('Base TKU'!N:N,'Base TKU'!$A:$A,$B13,'Base TKU'!$B:$B,\"Total Operação\")/1000000","v":0},{"$f":"SUMIFS('Base TKU'!O:O,'Base TKU'!$A:$A,$B13,'Base TKU'!$B:$B,\"Total Operação\")/1000000","v":14.076225000000001},{"$f":"SUMIFS('Base TKU'!P:P,'Base TKU'!$A:$A,$B13,'Base TKU'!$B:$B,\"Total Operação\")/1000000","v":16.595362999999999},null,{"$f":"SUMIFS('Base TKU'!R:R,'Base TKU'!$A:$A,$B13,'Base TKU'!$B:$B,\"Total Operação\")/1000000","v":49.240960999999999},{"$f":"SUMIFS('Base TKU'!S:S,'Base TKU'!$A:$A,$B13,'Base TKU'!$B:$B,\"Total Operação\")/1000000","v":66.897075999999998},{"$f":"SUMIFS('Base TKU'!T:T,'Base TKU'!$A:$A,$B13,'Base TKU'!$B:$B,\"Total Operação\")/1000000","v":13.417951},{"$f":"SUMIFS('Base TKU'!U:U,'Base TKU'!$A:$A,$B13,'Base TKU'!$B:$B,\"Total Operação\")/1000000","v":0},{"$f":"SUMIFS('Base TKU'!V:V,'Base TKU'!$A:$A,$B13,'Base TKU'!$B:$B,\"Total Operação\")/1000000","v":0},{"$f":"SUMIFS('Base TKU'!W:W,'Base TKU'!$A:$A,$B13,'Base TKU'!$B:$B,\"Total Operação\")/1000000","v":0},{"$f":"SUMIFS('Base TKU'!X:X,'Base TKU'!$A:$A,$B13,'Base TKU'!$B:$B,\"Total Operação\")/1000000","v":0},{"$f":"SUMIFS('Base TKU'!Y:Y,'Base TKU'!$A:$A,$B13,'Base TKU'!$B:$B,\"Total Operação\")/1000000","v":0},{"$f":"SUMIFS('Base TKU'!Z:Z,'Base TKU'!$A:$A,$B13,'Base TKU'!$B:$B,\"Total Operação\")/1000000","v":0},{"$f":"SUMIFS('Base TKU'!AA:AA,'Base TKU'!$A:$A,$B13,'Base TKU'!$B:$B,\"Total Operação\")/1000000","v":0},{"$f":"SUMIFS('Base TKU'!AB:AB,'Base TKU'!$A:$A,$B13,'Base TKU'!$B:$B,\"Total Operação\")/1000000","v":4.788405},{"$f":"SUMIFS('Base TKU'!AC:AC,'Base TKU'!$A:$A,$B13,'Base TKU'!$B:$B,\"Total Operação\")/1000000","v":9.7934809999999999},null,{"$f":"SUMIFS('Base TKU'!AE:AE,'Base TKU'!$A:$A,$B13,'Base TKU'!$B:$B,\"Total Operação\")/1000000","v":18.765000000000001},{"$f":"SUMIFS('Base TKU'!AF:AF,'Base TKU'!$A:$A,$B13,'Base TKU'!$B:$B,\"Total Operação\")/1000000","v":5.0092090000000002},{"$f":"SUMIFS('Base TKU'!AG:AG,'Base TKU'!$A:$A,$B13,'Base TKU'!$B:$B,\"Total Operação\")/1000000","v":0},{"$f":"SUMIFS('Base TKU'!AH:AH,'Base TKU'!$A:$A,$B13,'Base TKU'!$B:$B,\"Total Operação\")/1000000","v":0},{"$f":"SUMIFS('Base TKU'!AI:AI,'Base TKU'!$A:$A,$B13,'Base TKU'!$B:$B,\"Total Operação\")/1000000","v":0},{"$f":"SUMIFS('Base TKU'!AJ:AJ,'Base TKU'!$A:$A,$B13,'Base TKU'!$B:$B,\"Total Operação\")/1000000","v":0},{"$f":"SUMIFS('Base TKU'!AK:AK,'Base TKU'!$A:$A,$B13,'Base TKU'!$B:$B,\"Total Operação\")/1000000","v":0},{"$f":"SUMIFS('Base TKU'!AL:AL,'Base TKU'!$A:$A,$B13,'Base TKU'!$B:$B,\"Total Operação\")/1000000","v":0},{"$f":"SUMIFS('Base TKU'!AM:AM,'Base TKU'!$A:$A,$B13,'Base TKU'!$B:$B,\"Total Operação\")/1000000","v":0},{"$f":"SUMIFS('Base TKU'!AN:AN,'Base TKU'!$A:$A,$B13,'Base TKU'!$B:$B,\"Total Operação\")/1000000","v":0},{"$f":"SUMIFS('Base TKU'!AO:AO,'Base TKU'!$A:$A,$B13,'Base TKU'!$B:$B,\"Total Operação\")/1000000","v":36.464419999999997},{"$f":"SUMIFS('Base TKU'!AP:AP,'Base TKU'!$A:$A,$B13,'Base TKU'!$B:$B,\"Total Operação\")/1000000","v":56.335030000000003},null,{"$f":"SUMIFS('Base TKU'!AR:AR,'Base TKU'!$A:$A,$B13,'Base TKU'!$B:$B,\"Total Operação\")/1000000","v":30.577093999999999},{"$f":"SUMIFS('Base TKU'!AS:AS,'Base TKU'!$A:$A,$B13,'Base TKU'!$B:$B,\"Total Operação\")/1000000","v":3.7328299999999999},{"$f":"SUMIFS('Base TKU'!AT:AT,'Base TKU'!$A:$A,$B13,'Base TKU'!$B:$B,\"Total Operação\")/1000000","v":0},{"$f":"SUMIFS('Base TKU'!AU:AU,'Base TKU'!$A:$A,$B13,'Base TKU'!$B:$B,\"Total Operação\")/1000000","v":0},{"$f":"SUMIFS('Base TKU'!AV:AV,'Base TKU'!$A:$A,$B13,'Base TKU'!$B:$B,\"Total Operação\")/1000000","v":0},{"$f":"SUMIFS('Base TKU'!AW:AW,'Base TKU'!$A:$A,$B13,'Base TKU'!$B:$B,\"Total Operação\")/1000000","v":0},{"$f":"SUMIFS('Base TKU'!AX:AX,'Base TKU'!$A:$A,$B13,'Base TKU'!$B:$B,\"Total Operação\")/1000000","v":0},{"$f":"SUMIFS('Base TKU'!AY:AY,'Base TKU'!$A:$A,$B13,'Base TKU'!$B:$B,\"Total Operação\")/1000000","v":0},{"$f":"SUMIFS('Base TKU'!AZ:AZ,'Base TKU'!$A:$A,$B13,'Base TKU'!$B:$B,\"Total Operação\")/1000000","v":0},{"$f":"SUMIFS('Base TKU'!BA:BA,'Base TKU'!$A:$A,$B13,'Base TKU'!$B:$B,\"Total Operação\")/1000000","v":0},{"$f":"SUMIFS('Base TKU'!BB:BB,'Base TKU'!$A:$A,$B13,'Base TKU'!$B:$B,\"Total Operação\")/1000000","v":5.7880900000000004},{"$f":"SUMIFS('Base TKU'!BC:BC,'Base TKU'!$A:$A,$B13,'Base TKU'!$B:$B,\"Total Operação\")/1000000","v":35.620631000000003},null,{"$f":"SUMIFS('Base TKU'!BE:BE,'Base TKU'!$A:$A,$B13,'Base TKU'!$B:$B,\"Total Operação\")/1000000","v":23.660722},{"$f":"SUMIFS('Base TKU'!BF:BF,'Base TKU'!$A:$A,$B13,'Base TKU'!$B:$B,\"Total Operação\")/1000000","v":1.8001560000000001},{"$f":"SUMIFS('Base TKU'!BG:BG,'Base TKU'!$A:$A,$B13,'Base TKU'!$B:$B,\"Total Operação\")/1000000","v":0},{"$f":"SUMIFS('Base TU'!BH:BH,'Base TU'!$A:$A,$B13,'Base TU'!$B:$B,\"Total Operação\")/1000","v":0},{"$f":"SUMIFS('Base TKU'!BI:BI,'Base TKU'!$A:$A,$B13,'Base TKU'!$B:$B,\"Total Operação\")/1000000","v":0},{"$f":"SUMIFS('Base TKU'!BJ:BJ,'Base TKU'!$A:$A,$B13,'Base TKU'!$B:$B,\"Total Operação\")/1000000","v":0},{"$f":"SUMIFS('Base TKU'!BK:BK,'Base TKU'!$A:$A,$B13,'Base TKU'!$B:$B,\"Total Operação\")/1000000","v":0},{"$f":"SUMIFS('Base TKU'!BL:BL,'Base TKU'!$A:$A,$B13,'Base TKU'!$B:$B,\"Total Operação\")/1000000","v":0},{"$f":"SUMIFS('Base TKU'!BM:BM,'Base TKU'!$A:$A,$B13,'Base TKU'!$B:$B,\"Total Operação\")/1000000","v":0},{"$f":"SUMIFS('Base TKU'!BN:BN,'Base TKU'!$A:$A,$B13,'Base TKU'!$B:$B,\"Total Operação\")/1000000","v":12.461373},{"$f":"SUMIFS('Base TKU'!BO:BO,'Base TKU'!$A:$A,$B13,'Base TKU'!$B:$B,\"Total Operação\")/1000000","v":76.100273000000001},{"$f":"SUMIFS('Base TKU'!BP:BP,'Base TKU'!$A:$A,$B13,'Base TKU'!$B:$B,\"Total Operação\")/1000000","v":66.17062},null,{"$f":"'Volume TKU Norte'!BQ13+'Volume TKU Sul'!BP13","v":3.6571709999999999},{"$f":"'Volume TKU Norte'!BR13+'Volume TKU Sul'!BQ13","v":0},{"$f":"'Volume TKU Norte'!BS13+'Volume TKU Sul'!BR13","v":0},{"$f":"'Volume TKU Norte'!BT13+'Volume TKU Sul'!BS13","v":0},{"$f":"'Volume TKU Norte'!BU13+'Volume TKU Sul'!BT13","v":0},{"$f":"'Volume TKU Norte'!BV13+'Volume TKU Sul'!BU13","v":0},{"$f":"'Volume TKU Norte'!BW13+'Volume TKU Sul'!BV13","v":0},{"$f":"'Volume TKU Norte'!BX13+'Volume TKU Sul'!BW13","v":0},{"$f":"'Volume TKU Norte'!BY13+'Volume TKU Sul'!BX13","v":0},{"$f":"'Volume TKU Norte'!BZ13+'Volume TKU Sul'!BY13","v":1.095604},{"$f":"'Volume TKU Norte'!CA13+'Volume TKU Sul'!BZ13","v":73.854455000000002},{"$f":"'Volume TKU Norte'!CB13+'Volume TKU Sul'!CA13","v":103.014167},null,{"$f":"'Volume TKU Norte'!CD13+'Volume TKU Sul'!CC13","v":98.020677000000006},{"$f":"'Volume TKU Norte'!CE13+'Volume TKU Sul'!CD13","v":122.77575400000001},{"$f":"'Volume TKU Norte'!CF13+'Volume TKU Sul'!CE13","v":45.593963000000002},{"$f":"'Volume TKU Norte'!CG13+'Volume TKU Sul'!CF13","v":5.955743},{"$f":"'Volume TKU Norte'!CH13+'Volume TKU Sul'!CG13","v":0.92669400000000002},{"$f":"'Volume TKU Norte'!CI13+'Volume TKU Sul'!CH13","v":0},{"$f":"'Volume TKU Norte'!CJ13+'Volume TKU Sul'!CI13","v":0},{"$f":"'Volume TKU Norte'!CK13+'Volume TKU Sul'!CJ13","v":0},{"$f":"'Volume TKU Norte'!CL13+'Volume TKU Sul'!CK13","v":0},{"$f":"'Volume TKU Norte'!CM13+'Volume TKU Sul'!CL13","v":0},{"$f":"'Volume TKU Norte'!CN13+'Volume TKU Sul'!CM13","v":0},{"$f":"'Volume TKU Norte'!CO13+'Volume TKU Sul'!CN13","v":0}]
[null,"Malte",null,{"$f":"SUMIFS('Base TKU'!E:E,'Base TKU'!$A:$A,$B14,'Base TKU'!$B:$B,\"Total Operação\")/1000000","v":0},{"$f":"SUMIFS('Base TKU'!F:F,'Base TKU'!$A:$A,$B14,'Base TKU'!$B:$B,\"Total Operação\")/1000000","v":0},{"$f":"SUMIFS('Base TKU'!G:G,'Base TKU'!$A:$A,$B14,'Base TKU'!$B:$B,\"Total Operação\")/1000000","v":0},{"$f":"SUMIFS('Base TKU'!H:H,'Base TKU'!$A:$A,$B14,'Base TKU'!$B:$B,\"Total Operação\")/1000000","v":0},{"$f":"SUMIFS('Base TKU'!I:I,'Base TKU'!$A:$A,$B14,'Base TKU'!$B:$B,\"Total Operação\")/1000000","v":0},{"$f":"SUMIFS('Base TKU'!J:J,'Base TKU'!$A:$A,$B14,'Base TKU'!$B:$B,\"Total Operação\")/1000000","v":0},{"$f":"SUMIFS('Base TKU'!K:K,'Base TKU'!$A:$A,$B14,'Base TKU'!$B:$B,\"Total Operação\")/1000000","v":0},{"$f":"SUMIFS('Base TKU'!L:L,'Base TKU'!$A:$A,$B14,'Base TKU'!$B:$B,\"Total Operação\")/1000000","v":0},{"$f":"SUMIFS('Base TKU'!M:M,'Base TKU'!$A:$A,$B14,'Base TKU'!$B:$B,\"Total Operação\")/1000000","v":0},{"$f":"SUMIFS('Base TKU'!N:N,'Base TKU'!$A:$A,$B14,'Base TKU'!$B:$B,\"Total Operação\")/1000000","v":1.118223},{"$f":"SUMIFS('Base TKU'!O:O,'Base TKU'!$A:$A,$B14,'Base TKU'!$B:$B,\"Total Operação\")/1000000","v":0},{"$f":"SUMIFS('Base TKU'!P:P,'Base TKU'!$A:$A,$B14,'Base TKU'!$B:$B,\"Total Operação\")/1000000","v":0},null,{"$f":"SUMIFS('Base TKU'!R:R,'Base TKU'!$A:$A,$B14,'Base TKU'!$B:$B,\"Total Operação\")/1000000","v":0},{"$f":"SUMIFS('Base TKU'!S:S,'Base TKU'!$A:$A,$B14,'Base TKU'!$B:$B,\"Total Operação\")/1000000","v":0},{"$f":"SUMIFS('Base TKU'!T:T,'Base TKU'!$A:$A,$B14,'Base TKU'!$B:$B,\"Total Operação\")/1000000","v":0},{"$f":"SUMIFS('Base TKU'!U:U,'Base TKU'!$A:$A,$B14,'Base TKU'!$B:$B,\"Total Operação\")/1000000","v":0},{"$f":"SUMIFS('Base TKU'!V:V,'Base TKU'!$A:$A,$B14,'Base TKU'!$B:$B,\"Total Operação\")/1000000","v":0},{"$f":"SUMIFS('Base TKU'!W:W,'Base TKU'!$A:$A,$B14,'Base TKU'!$B:$B,\"Total Operação\")/1000000","v":0},{"$f":"SUMIFS('Base TKU'!X:X,'Base TKU'!$A:$A,$B14,'Base TKU'!$B:$B,\"Total Operação\")/1000000","v":0},{"$f":"SUMIFS('Base TKU'!Y:Y,'Base TKU'!$A:$A,$B14,'Base TKU'!$B:$B,\"Total Operação\")/1000000","v":0},{"$f":"SUMIFS('Base TKU'!Z:Z,'Base TKU'!$A:$A,$B14,'Base TKU'!$B:$B,\"Total Operação\")/1000000","v":0},{"$f":"SUMIFS('Base TKU'!AA:AA,'Base TKU'!$A:$A,$B14,'Base TKU'!$B:$B,\"Total Operação\")/1000000","v":0},{"$f":"SUMIFS('Base TKU'!AB:AB,'Base TKU'!$A:$A,$B14,'Base TKU'!$B:$B,\"Total Operação\")/1000000","v":0},{"$f":"SUMIFS('Base TKU'!AC:AC,'Base TKU'!$A:$A,$B14,'Base TKU'!$B:$B,\"Total Operação\")/1000000","v":0},null,{"$f":"SUMIFS('Base TKU'!AE:AE,'Base TKU'!$A:$A,$B14,'Base TKU'!$B:$B,\"Total Operação\")/1000000","v":0},{"$f":"SUMIFS('Base TKU'!AF:AF,'Base TKU'!$A:$A,$B14,'Base TKU'!$B:$B,\"Total Operação\")/1000000","v":0},{"$f":"SUMIFS('Base TKU'!AG:AG,'Base TKU'!$A:$A,$B14,'Base TKU'!$B:$B,\"Total Operação\")/1000000","v":0},{"$f":"SUMIFS('Base TKU'!AH:AH,'Base TKU'!$A:$A,$B14,'Base TKU'!$B:$B,\"Total Operação\")/1000000","v":0},{"$f":"SUMIFS('Base TKU'!AI:AI,'Base TKU'!$A:$A,$B14,'Base TKU'!$B:$B,\"Total Operação\")/1000000","v":0},{"$f":"SUMIFS('Base TKU'!AJ:AJ,'Base TKU'!$A:$A,$B14,'Base TKU'!$B:$B,\"Total Operação\")/1000000","v":0},{"$f":"SUMIFS('Base TKU'!AK:AK,'Base TKU'!$A:$A,$B14,'Base TKU'!$B:$B,\"Total Operação\")/1000000","v":0},{"$f":"SUMIFS('Base TKU'!AL:AL,'Base TKU'!$A:$A,$B14,'Base TKU'!$B:$B,\"Total Operação\")/1000000","v":0},{"$f":"SUMIFS('Base TKU'!AM:AM,'Base TKU'!$A:$A,$B14,'Base TKU'!$B:$B,\"Total Operação\")/1000000","v":0},{"$f":"SUMIFS('Base TKU'!AN:AN,'Base TKU'!$A:$A,$B14,'Base TKU'!$B:$B,\"Total Operação\")/1000000","v":0},{"$f":"SUMIFS('Base TKU'!AO:AO,'Base TKU'!$A:$A,$B14,'Base TKU'!$B:$B,\"Total Operação\")/1000000","v":0},{"$f":"SUMIFS('Base TKU'!AP:AP,'Base TKU'!$A:$A,$B14,'Base TKU'!$B:$B,\"Total Operação\")/1000000","v":0},null,{"$f":"SUMIFS('Base TKU'!AR:AR,'Base TKU'!$A:$A,$B14,'Base TKU'!$B:$B,\"Total Operação\")/1000000","v":0},{"$f":"SUMIFS('Base TKU'!AS:AS,'Base TKU'!$A:$A,$B14,'Base TKU'!$B:$B,\"Total Operação\")/1000000","v":0},{"$f":"SUMIFS('Base TKU'!AT:AT,'Base TKU'!$A:$A,$B14,'Base TKU'!$B:$B,\"Total Operação\")/1000000","v":0},{"$f":"SUMIFS('Base TKU'!AU:AU,'Base TKU'!$A:$A,$B14,'Base TKU'!$B:$B,\"Total Operação\")/1000000","v":0},{"$f":"SUMIFS('Base TKU'!AV:AV,'Base TKU'!$A:$A,$B14,'Base TKU'!$B:$B,\"Total Operação\")/1000000","v":0},{"$f":"SUMIFS('Base TKU'!AW:AW,'Base TKU'!$A:$A,$B14,'Base TKU'!$B:$B,\"Total Operação\")/1000000","v":0},{"$f":"SUMIFS('Base TKU'!AX:AX,'Base TKU'!$A:$A,$B14,'Base TKU'!$B:$B,\"Total Operação\")/1000000","v":0},{"$f":"SUMIFS('Base TKU'!AY:AY,'Base TKU'!$A:$A,$B14,'Base TKU'!$B:$B,\"Total Operação\")/1000000","v":0},{"$f":"SUMIFS('Base TKU'!AZ:AZ,'Base TKU'!$A:$A,$B14,'Base TKU'!$B:$B,\"Total Operação\")/1000000","v":0},{"$f":"SUMIFS('Base TKU'!BA:BA,'Base TKU'!$A:$A,$B14,'Base TKU'!$B:$B,\"Total Operação\")/1000000","v":0},{"$f":"SUMIFS('Base TKU'!BB:BB,'Base TKU'!$A:$A,$B14,'Base TKU'!$B:$B,\"Total Operação\")/1000000","v":0},{"$f":"SUMIFS('Base TKU'!BC:BC,'Base TKU'!$A:$A,$B14,'Base TKU'!$B:$B,\"Total Operação\")/1000000","v":0},null,{"$f":"SUMIFS('Base TKU'!BE:BE,'Base TKU'!$A:$A,$B14,'Base TKU'!$B:$B,\"Total Operação\")/1000000","v":0},{"$f":"SUMIFS('Base TKU'!BF:BF,'Base TKU'!$A:$A,$B14,'Base TKU'!$B:$B,\"Total Operação\")/1000000","v":0},{"$f":"SUMIFS('Base TKU'!BG:BG,'Base TKU'!$A:$A,$B14,'Base TKU'!$B:$B,\"Total Operação\")/1000000","v":0},{"$f":"SUMIFS('Base TKU'!BH:BH,'Base TKU'!$A:$A,$B14,'Base TKU'!$B:$B,\"Total Operação\")/1000000","v":0},{"$f":"SUMIFS('Base TKU'!BI:BI,'Base TKU'!$A:$A,$B14,'Base TKU'!$B:$B,\"Total Operação\")/1000000","v":0},{"$f":"SUMIFS('Base TKU'!BJ:BJ,'Base TKU'!$A:$A,$B14,'Base TKU'!$B:$B,\"Total Operação\")/1000000","v":0},{"$f":"SUMIFS('Base TKU'!BK:BK,'Base TKU'!$A:$A,$B14,'Base TKU'!$B:$B,\"Total Operação\")/1000000","v":0},{"$f":"SUMIFS('Base TKU'!BL:BL,'Base TKU'!$A:$A,$B14,'Base TKU'!$B:$B,\"Total Operação\")/1000000","v":0},{"$f":"SUMIFS('Base TKU'!BM:BM,'Base TKU'!$A:$A,$B14,'Base TKU'!$B:$B,\"Total Operação\")/1000000","v":0},{"$f":"SUMIFS('Base TKU'!BN:BN,'Base TKU'!$A:$A,$B14,'Base TKU'!$B:$B,\"Total Operação\")/1000000","v":0},{"$f":"SUMIFS('Base TKU'!BO:BO,'Base TKU'!$A:$A,$B14,'Base TKU'!$B:$B,\"Total Operação\")/1000000","v":0},{"$f":"SUMIFS('Base TKU'!BP:BP,'Base TKU'!$A:$A,$B14,'Base TKU'!$B:$B,\"Total Operação\")/1000000","v":0},null,{"$f":"'Volume TKU Norte'!BQ14+'Volume TKU Sul'!BP14","v":0},{"$f":"'Volume TKU Norte'!BR14+'Volume TKU Sul'!BQ14","v":0},{"$f":"'Volume TKU Norte'!BS14+'Volume TKU Sul'!BR14","v":0},{"$f":"'Volume TKU Norte'!BT14+'Volume TKU Sul'!BS14","v":0},{"$f":"'Volume TKU Norte'!BU14+'Volume TKU Sul'!BT14","v":0},{"$f":"'Volume TKU Norte'!BV14+'Volume TKU Sul'!BU14","v":0},{"$f":"'Volume TKU Norte'!BW14+'Volume TKU Sul'!BV14","v":0},{"$f":"'Volume TKU Norte'!BX14+'Volume TKU Sul'!BW14","v":0},{"$f":"'Volume TKU Norte'!BY14+'Volume TKU Sul'!BX14","v":0},{"$f":"'Volume TKU Norte'!BZ14+'Volume TKU Sul'!BY14","v":0},{"$f":"'Volume TKU Norte'!CA14+'Volume TKU Sul'!BZ14","v":0},{"$f":"'Volume TKU Norte'!CB14+'Volume TKU Sul'!CA14","v":0},null,{"$f":"'Volume TKU Norte'!CD14+'Volume TKU Sul'!CC14","v":0},{"$f":"'Volume TKU Norte'!CE14+'Volume TKU Sul'!CD14","v":0},{"$f":"'Volume TKU Norte'!CF14+'Volume TKU Sul'!CE14","v":0},{"$f":"'Volume TKU Norte'!CG14+'Volume TKU Sul'!CF14","v":0},{"$f":"'Volume TKU Norte'!CH14+'Volume TKU Sul'!CG14","v":0},{"$f":"'Volume TKU Norte'!CI14+'Volume TKU Sul'!CH14","v":0},{"$f":"'Volume TKU Norte'!CJ14+'Volume TKU Sul'!CI14","v":0},{"$f":"'Volume TKU Norte'!CK14+'Volume TKU Sul'!CJ14","v":0},{"$f":"'Volume TKU Norte'!CL14+'Volume TKU Sul'!CK14","v":0},{"$f":"'Volume TKU Norte'!CM14+'Volume TKU Sul'!CL14","v":0},{"$f":"'Volume TKU Norte'!CN14+'Volume TKU Sul'!CM14","v":0},{"$f":"'Volume TKU Norte'!CO14+'Volume TKU Sul'!CN14","v":0}]
[null,"Farelo de Milho",null,{"$f":"SUMIFS('Base TKU'!E:E,'Base TKU'!$A:$A,$B15,'Base TKU'!$B:$B,\"Total Operação\")/1000000","v":0},{"$f":"SUMIFS('Base TKU'!F:F,'Base TKU'!$A:$A,$B15,'Base TKU'!$B:$B,\"Total Operação\")/1000000","v":0},{"$f":"SUMIFS('Base TKU'!G:G,'Base TKU'!$A:$A,$B15,'Base TKU'!$B:$B,\"Total Operação\")/1000000","v":0},{"$f":"SUMIFS('Base TKU'!H:H,'Base TKU'!$A:$A,$B15,'Base TKU'!$B:$B,\"Total Operação\")/1000000","v":0},{"$f":"SUMIFS('Base TKU'!I:I,'Base TKU'!$A:$A,$B15,'Base TKU'!$B:$B,\"Total Operação\")/1000000","v":0},{"$f":"SUMIFS('Base TKU'!J:J,'Base TKU'!$A:$A,$B15,'Base TKU'!$B:$B,\"Total Operação\")/1000000","v":0},{"$f":"SUMIFS('Base TKU'!K:K,'Base TKU'!$A:$A,$B15,'Base TKU'!$B:$B,\"Total Operação\")/1000000","v":0},{"$f":"SUMIFS('Base TKU'!L:L,'Base TKU'!$A:$A,$B15,'Base TKU'!$B:$B,\"Total Operação\")/1000000","v":0},{"$f":"SUMIFS('Base TKU'!M:M,'Base TKU'!$A:$A,$B15,'Base TKU'!$B:$B,\"Total Operação\")/1000000","v":0},{"$f":"SUMIFS('Base TKU'!N:N,'Base TKU'!$A:$A,$B15,'Base TKU'!$B:$B,\"Total Operação\")/1000000","v":0},{"$f":"SUMIFS('Base TKU'!O:O,'Base TKU'!$A:$A,$B15,'Base TKU'!$B:$B,\"Total Operação\")/1000000","v":0},{"$f":"SUMIFS('Base TKU'!P:P,'Base TKU'!$A:$A,$B15,'Base TKU'!$B:$B,\"Total Operação\")/1000000","v":0},null,{"$f":"SUMIFS('Base TKU'!R:R,'Base TKU'!$A:$A,$B15,'Base TKU'!$B:$B,\"Total Operação\")/1000000","v":0},{"$f":"SUMIFS('Base TKU'!S:S,'Base TKU'!$A:$A,$B15,'Base TKU'!$B:$B,\"Total Operação\")/1000000","v":0},{"$f":"SUMIFS('Base TKU'!T:T,'Base TKU'!$A:$A,$B15,'Base TKU'!$B:$B,\"Total Operação\")/1000000","v":0},{"$f":"SUMIFS('Base TKU'!U:U,'Base TKU'!$A:$A,$B15,'Base TKU'!$B:$B,\"Total Operação\")/1000000","v":0},{"$f":"SUMIFS('Base TKU'!V:V,'Base TKU'!$A:$A,$B15,'Base TKU'!$B:$B,\"Total Operação\")/1000000","v":0},{"$f":"SUMIFS('Base TKU'!W:W,'Base TKU'!$A:$A,$B15,'Base TKU'!$B:$B,\"Total Operação\")/1000000","v":0},{"$f":"SUMIFS('Base TKU'!X:X,'Base TKU'!$A:$A,$B15,'Base TKU'!$B:$B,\"Total Operação\")/1000000","v":0},{"$f":"SUMIFS('Base TKU'!Y:Y,'Base TKU'!$A:$A,$B15,'Base TKU'!$B:$B,\"Total Operação\")/1000000","v":0},{"$f":"SUMIFS('Base TKU'!Z:Z,'Base TKU'!$A:$A,$B15,'Base TKU'!$B:$B,\"Total Operação\")/1000000","v":0},{"$f":"SUMIFS('Base TKU'!AA:AA,'Base TKU'!$A:$A,$B15,'Base TKU'!$B:$B,\"Total Operação\")/1000000","v":0},{"$f":"SUMIFS('Base TKU'!AB:AB,'Base TKU'!$A:$A,$B15,'Base TKU'!$B:$B,\"Total Operação\")/1000000","v":0},{"$f":"SUMIFS('Base TKU'!AC:AC,'Base TKU'!$A:$A,$B15,'Base TKU'!$B:$B,\"Total Operação\")/1000000","v":0},null,{"$f":"SUMIFS('Base TKU'!AE:AE,'Base TKU'!$A:$A,$B15,'Base TKU'!$B:$B,\"Total Operação\")/1000000","v":0},{"$f":"SUMIFS('Base TKU'!AF:AF,'Base TKU'!$A:$A,$B15,'Base TKU'!$B:$B,\"Total Operação\")/1000000","v":0},{"$f":"SUMIFS('Base TKU'!AG:AG,'Base TKU'!$A:$A,$B15,'Base TKU'!$B:$B,\"Total Operação\")/1000000","v":0},{"$f":"SUMIFS('Base TKU'!AH:AH,'Base TKU'!$A:$A,$B15,'Base TKU'!$B:$B,\"Total Operação\")/1000000","v":0},{"$f":"SUMIFS('Base TKU'!AI:AI,'Base TKU'!$A:$A,$B15,'Base TKU'!$B:$B,\"Total Operação\")/1000000","v":0},{"$f":"SUMIFS('Base TKU'!AJ:AJ,'Base TKU'!$A:$A,$B15,'Base TKU'!$B:$B,\"Total Operação\")/1000000","v":0},{"$f":"SUMIFS('Base TKU'!AK:AK,'Base TKU'!$A:$A,$B15,'Base TKU'!$B:$B,\"Total Operação\")/1000000","v":0},{"$f":"SUMIFS('Base TKU'!AL:AL,'Base TKU'!$A:$A,$B15,'Base TKU'!$B:$B,\"Total Operação\")/1000000","v":0},{"$f":"SUMIFS('Base TKU'!AM:AM,'Base TKU'!$A:$A,$B15,'Base TKU'!$B:$B,\"Total Operação\")/1000000","v":0},{"$f":"SUMIFS('Base TKU'!AN:AN,'Base TKU'!$A:$A,$B15,'Base TKU'!$B:$B,\"Total Operação\")/1000000","v":0},{"$f":"SUMIFS('Base TKU'!AO:AO,'Base TKU'!$A:$A,$B15,'Base TKU'!$B:$B,\"Total Operação\")/1000000","v":0},{"$f":"SUMIFS('Base TKU'!AP:AP,'Base TKU'!$A:$A,$B15,'Base TKU'!$B:$B,\"Total Operação\")/1000000","v":0},null,{"$f":"SUMIFS('Base TKU'!AR:AR,'Base TKU'!$A:$A,$B15,'Base TKU'!$B:$B,\"Total Operação\")/1000000","v":0},{"$f":"SUMIFS('Base TKU'!AS:AS,'Base TKU'!$A:$A,$B15,'Base TKU'!$B:$B,\"Total Operação\")/1000000","v":0},{"$f":"SUMIFS('Base TKU'!AT:AT,'Base TKU'!$A:$A,$B15,'Base TKU'!$B:$B,\"Total Operação\")/1000000","v":0},{"$f":"SUMIFS('Base TKU'!AU:AU,'Base TKU'!$A:$A,$B15,'Base TKU'!$B:$B,\"Total Operação\")/1000000","v":0},{"$f":"SUMIFS('Base TKU'!AV:AV,'Base TKU'!$A:$A,$B15,'Base TKU'!$B:$B,\"Total Operação\")/1000000","v":0},{"$f":"SUMIFS('Base TKU'!AW:AW,'Base TKU'!$A:$A,$B15,'Base TKU'!$B:$B,\"Total Operação\")/1000000","v":0},{"$f":"SUMIFS('Base TKU'!AX:AX,'Base TKU'!$A:$A,$B15,'Base TKU'!$B:$B,\"Total Operação\")/1000000","v":0},{"$f":"SUMIFS('Base TKU'!AY:AY,'Base TKU'!$A:$A,$B15,'Base TKU'!$B:$B,\"Total Operação\")/1000000","v":0},{"$f":"SUMIFS('Base TKU'!AZ:AZ,'Base TKU'!$A:$A,$B15,'Base TKU'!$B:$B,\"Total Operação\")/1000000","v":0},{"$f":"SUMIFS('Base TKU'!BA:BA,'Base TKU'!$A:$A,$B15,'Base TKU'!$B:$B,\"Total Operação\")/1000000","v":0},{"$f":"SUMIFS('Base TKU'!BB:BB,'Base TKU'!$A:$A,$B15,'Base TKU'!$B:$B,\"Total Operação\")/1000000","v":0},{"$f":"SUMIFS('Base TKU'!BC:BC,'Base TKU'!$A:$A,$B15,'Base TKU'!$B:$B,\"Total Operação\")/1000000","v":20.738520000000001},null,{"$f":"SUMIFS('Base TKU'!BE:BE,'Base TKU'!$A:$A,$B15,'Base TKU'!$B:$B,\"Total Operação\")/1000000","v":18.105539},{"$f":"SUMIFS('Base TKU'!BF:BF,'Base TKU'!$A:$A,$B15,'Base TKU'!$B:$B,\"Total Operação\")/1000000","v":0},{"$f":"SUMIFS('Base TKU'!BG:BG,'Base TKU'!$A:$A,$B15,'Base TKU'!$B:$B,\"Total Operação\")/1000000","v":0},{"$f":"SUMIFS('Base TKU'!BH:BH,'Base TKU'!$A:$A,$B15,'Base TKU'!$B:$B,\"Total Operação\")/1000000","v":0},{"$f":"SUMIFS('Base TKU'!BI:BI,'Base TKU'!$A:$A,$B15,'Base TKU'!$B:$B,\"Total Operação\")/1000000","v":0},{"$f":"SUMIFS('Base TKU'!BJ:BJ,'Base TKU'!$A:$A,$B15,'Base TKU'!$B:$B,\"Total Operação\")/1000000","v":0},{"$f":"SUMIFS('Base TKU'!BK:BK,'Base TKU'!$A:$A,$B15,'Base TKU'!$B:$B,\"Total Operação\")/1000000","v":0},{"$f":"SUMIFS('Base TKU'!BL:BL,'Base TKU'!$A:$A,$B15,'Base TKU'!$B:$B,\"Total Operação\")/1000000","v":0},{"$f":"SUMIFS('Base TKU'!BM:BM,'Base TKU'!$A:$A,$B15,'Base TKU'!$B:$B,\"Total Operação\")/1000000","v":0},{"$f":"SUMIFS('Base TKU'!BN:BN,'Base TKU'!$A:$A,$B15,'Base TKU'!$B:$B,\"Total Operação\")/1000000","v":0},{"$f":"SUMIFS('Base TKU'!BO:BO,'Base TKU'!$A:$A,$B15,'Base TKU'!$B:$B,\"Total Operação\")/1000000","v":0},{"$f":"SUMIFS('Base TKU'!BP:BP,'Base TKU'!$A:$A,$B15,'Base TKU'!$B:$B,\"Total Operação\")/1000000","v":0},null,{"$f":"'Volume TKU Norte'!BQ15+'Volume TKU Sul'!BP15","v":0},{"$f":"'Volume TKU Norte'!BR15+'Volume TKU Sul'!BQ15","v":0},{"$f":"'Volume TKU Norte'!BS15+'Volume TKU Sul'!BR15","v":0},{"$f":"'Volume TKU Norte'!BT15+'Volume TKU Sul'!BS15","v":0},{"$f":"'Volume TKU Norte'!BU15+'Volume TKU Sul'!BT15","v":0},{"$f":"'Volume TKU Norte'!BV15+'Volume TKU Sul'!BU15","v":0},{"$f":"'Volume TKU Norte'!BW15+'Volume TKU Sul'!BV15","v":0},{"$f":"'Volume TKU Norte'!BX15+'Volume TKU Sul'!BW15","v":0},{"$f":"'Volume TKU Norte'!BY15+'Volume TKU Sul'!BX15","v":0},{"$f":"'Volume TKU Norte'!BZ15+'Volume TKU Sul'!BY15","v":0},{"$f":"'Volume TKU Norte'!CA15+'Volume TKU Sul'!BZ15","v":0},{"$f":"'Volume TKU Norte'!CB15+'Volume TKU Sul'!CA15","v":0},null,{"$f":"'Volume TKU Norte'!CD15+'Volume TKU Sul'!CC15","v":0},{"$f":"'Volume TKU Norte'!CE15+'Volume TKU Sul'!CD15","v":0},{"$f":"'Volume TKU Norte'!CF15+'Volume TKU Sul'!CE15","v":0},{"$f":"'Volume TKU Norte'!CG15+'Volume TKU Sul'!CF15","v":0},{"$f":"'Volume TKU Norte'!CH15+'Volume TKU Sul'!CG15","v":0},{"$f":"'Volume TKU Norte'!CI15+'Volume TKU Sul'!CH15","v":0},{"$f":"'Volume TKU Norte'!CJ15+'Volume TKU Sul'!CI15","v":0},{"$f":"'Volume TKU Norte'!CK15+'Volume TKU Sul'!CJ15","v":0},{"$f":"'Volume TKU Norte'!CL15+'Volume TKU Sul'!CK15","v":0},{"$f":"'Volume TKU Norte'!CM15+'Volume TKU Sul'!CL15","v":0},{"$f":"'Volume TKU Norte'!CN15+'Volume TKU Sul'!CM15","v":0},{"$f":"'Volume TKU Norte'!CO15+'Volume TKU Sul'!CN15","v":0}]
[null,"Contêiner",null,{"$f":"SUMIFS('Base TKU'!E:E,'Base TKU'!$A:$A,$B16,'Base TKU'!$B:$B,\"Total Operação\")/1000000","v":130.967792},{"$f":"SUMIFS('Base TKU'!F:F,'Base TKU'!$A:$A,$B16,'Base TKU'!$B:$B,\"Total Operação\")/1000000","v":148.67437899999999},{"$f":"SUMIFS('Base TKU'!G:G,'Base TKU'!$A:$A,$B16,'Base TKU'!$B:$B,\"Total Operação\")/1000000","v":165.83138600000001},{"$f":"SUMIFS('Base TKU'!H:H,'Base TKU'!$A:$A,$B16,'Base TKU'!$B:$B,\"Total Operação\")/1000000","v":156.251329},{"$f":"SUMIFS('Base TKU'!I:I,'Base TKU'!$A:$A,$B16,'Base TKU'!$B:$B,\"Total Operação\")/1000000","v":155.73593500000001},{"$f":"SUMIFS('Base TKU'!J:J,'Base TKU'!$A:$A,$B16,'Base TKU'!$B:$B,\"Total Operação\")/1000000","v":145.13211999999999},{"$f":"SUMIFS('Base TKU'!K:K,'Base TKU'!$A:$A,$B16,'Base TKU'!$B:$B,\"Total Operação\")/1000000","v":137.973975},{"$f":"SUMIFS('Base TKU'!L:L,'Base TKU'!$A:$A,$B16,'Base TKU'!$B:$B,\"Total Operação\")/1000000","v":123.861135},{"$f":"SUMIFS('Base TKU'!M:M,'Base TKU'!$A:$A,$B16,'Base TKU'!$B:$B,\"Total Operação\")/1000000","v":117.616418},{"$f":"SUMIFS('Base TKU'!N:N,'Base TKU'!$A:$A,$B16,'Base TKU'!$B:$B,\"Total Operação\")/1000000","v":122.481666},{"$f":"SUMIFS('Base TKU'!O:O,'Base TKU'!$A:$A,$B16,'Base TKU'!$B:$B,\"Total Operação\")/1000000","v":123.08284999999999},{"$f":"SUMIFS('Base TKU'!P:P,'Base TKU'!$A:$A,$B16,'Base TKU'!$B:$B,\"Total Operação\")/1000000","v":110.763047},null,{"$f":"SUMIFS('Base TKU'!R:R,'Base TKU'!$A:$A,$B16,'Base TKU'!$B:$B,\"Total Operação\")/1000000","v":130.92851999999999},{"$f":"SUMIFS('Base TKU'!S:S,'Base TKU'!$A:$A,$B16,'Base TKU'!$B:$B,\"Total Operação\")/1000000","v":102.66399199999999},{"$f":"SUMIFS('Base TKU'!T:T,'Base TKU'!$A:$A,$B16,'Base TKU'!$B:$B,\"Total Operação\")/1000000","v":114.83493900000001},{"$f":"SUMIFS('Base TKU'!U:U,'Base TKU'!$A:$A,$B16,'Base TKU'!$B:$B,\"Total Operação\")/1000000","v":127.973428},{"$f":"SUMIFS('Base TKU'!V:V,'Base TKU'!$A:$A,$B16,'Base TKU'!$B:$B,\"Total Operação\")/1000000","v":157.62689900000001},{"$f":"SUMIFS('Base TKU'!W:W,'Base TKU'!$A:$A,$B16,'Base TKU'!$B:$B,\"Total Operação\")/1000000","v":166.33850899999999},{"$f":"SUMIFS('Base TKU'!X:X,'Base TKU'!$A:$A,$B16,'Base TKU'!$B:$B,\"Total Operação\")/1000000","v":168.29987199999999},{"$f":"SUMIFS('Base TKU'!Y:Y,'Base TKU'!$A:$A,$B16,'Base TKU'!$B:$B,\"Total Operação\")/1000000","v":190.253514},{"$f":"SUMIFS('Base TKU'!Z:Z,'Base TKU'!$A:$A,$B16,'Base TKU'!$B:$B,\"Total Operação\")/1000000","v":165.76872},{"$f":"SUMIFS('Base TKU'!AA:AA,'Base TKU'!$A:$A,$B16,'Base TKU'!$B:$B,\"Total Operação\")/1000000","v":169.785212},{"$f":"SUMIFS('Base TKU'!AB:AB,'Base TKU'!$A:$A,$B16,'Base TKU'!$B:$B,\"Total Operação\")/1000000","v":139.96673200000001},{"$f":"SUMIFS('Base TKU'!AC:AC,'Base TKU'!$A:$A,$B16,'Base TKU'!$B:$B,\"Total Operação\")/1000000","v":130.18180599999999},null,{"$f":"SUMIFS('Base TKU'!AE:AE,'Base TKU'!$A:$A,$B16,'Base TKU'!$B:$B,\"Total Operação\")/1000000","v":73.832041000000004},{"$f":"SUMIFS('Base TKU'!AF:AF,'Base TKU'!$A:$A,$B16,'Base TKU'!$B:$B,\"Total Operação\")/1000000","v":203.24272099999999},{"$f":"SUMIFS('Base TKU'!AG:AG,'Base TKU'!$A:$A,$B16,'Base TKU'!$B:$B,\"Total Operação\")/1000000","v":201.001869},{"$f":"SUMIFS('Base TKU'!AH:AH,'Base TKU'!$A:$A,$B16,'Base TKU'!$B:$B,\"Total Operação\")/1000000","v":211.05627000000001},{"$f":"SUMIFS('Base TKU'!AI:AI,'Base TKU'!$A:$A,$B16,'Base TKU'!$B:$B,\"Total Operação\")/1000000","v":167.60248200000001},{"$f":"SUMIFS('Base TKU'!AJ:AJ,'Base TKU'!$A:$A,$B16,'Base TKU'!$B:$B,\"Total Operação\")/1000000","v":179.18171599999999},{"$f":"SUMIFS('Base TKU'!AK:AK,'Base TKU'!$A:$A,$B16,'Base TKU'!$B:$B,\"Total Operação\")/1000000","v":228.942881},{"$f":"SUMIFS('Base TKU'!AL:AL,'Base TKU'!$A:$A,$B16,'Base TKU'!$B:$B,\"Total Operação\")/1000000","v":234.10742999999999},{"$f":"SUMIFS('Base TKU'!AM:AM,'Base TKU'!$A:$A,$B16,'Base TKU'!$B:$B,\"Total Operação\")/1000000","v":214.03690499999999},{"$f":"SUMIFS('Base TKU'!AN:AN,'Base TKU'!$A:$A,$B16,'Base TKU'!$B:$B,\"Total Operação\")/1000000","v":203.000901},{"$f":"SUMIFS('Base TKU'!AO:AO,'Base TKU'!$A:$A,$B16,'Base TKU'!$B:$B,\"Total Operação\")/1000000","v":191.951165},{"$f":"SUMIFS('Base TKU'!AP:AP,'Base TKU'!$A:$A,$B16,'Base TKU'!$B:$B,\"Total Operação\")/1000000","v":197.46974399999999},null,{"$f":"SUMIFS('Base TKU'!AR:AR,'Base TKU'!$A:$A,$B16,'Base TKU'!$B:$B,\"Total Operação\")/1000000","v":184.37900500000001},{"$f":"SUMIFS('Base TKU'!AS:AS,'Base TKU'!$A:$A,$B16,'Base TKU'!$B:$B,\"Total Operação\")/1000000","v":170.01694699999999},{"$f":"SUMIFS('Base TKU'!AT:AT,'Base TKU'!$A:$A,$B16,'Base TKU'!$B:$B,\"Total Operação\")/1000000","v":236.75034099999999},{"$f":"SUMIFS('Base TKU'!AU:AU,'Base TKU'!$A:$A,$B16,'Base TKU'!$B:$B,\"Total Operação\")/1000000","v":231.422933},{"$f":"SUMIFS('Base TKU'!AV:AV,'Base TKU'!$A:$A,$B16,'Base TKU'!$B:$B,\"Total Operação\")/1000000","v":228.74962600000001},{"$f":"SUMIFS('Base TKU'!AW:AW,'Base TKU'!$A:$A,$B16,'Base TKU'!$B:$B,\"Total Operação\")/1000000","v":208.66352699999999},{"$f":"SUMIFS('Base TKU'!AX:AX,'Base TKU'!$A:$A,$B16,'Base TKU'!$B:$B,\"Total Operação\")/1000000","v":240.80341999999999},{"$f":"SUMIFS('Base TKU'!AY:AY,'Base TKU'!$A:$A,$B16,'Base TKU'!$B:$B,\"Total Operação\")/1000000","v":259.77802400000002},{"$f":"SUMIFS('Base TKU'!AZ:AZ,'Base TKU'!$A:$A,$B16,'Base TKU'!$B:$B,\"Total Operação\")/1000000","v":257.76329600000003},{"$f":"SUMIFS('Base TKU'!BA:BA,'Base TKU'!$A:$A,$B16,'Base TKU'!$B:$B,\"Total Operação\")/1000000","v":243.62838400000001},{"$f":"SUMIFS('Base TKU'!BB:BB,'Base TKU'!$A:$A,$B16,'Base TKU'!$B:$B,\"Total Operação\")/1000000","v":261.91399799999999},{"$f":"SUMIFS('Base TKU'!BC:BC,'Base TKU'!$A:$A,$B16,'Base TKU'!$B:$B,\"Total Operação\")/1000000","v":242.428133},null,{"$f":"SUMIFS('Base TKU'!BE:BE,'Base TKU'!$A:$A,$B16,'Base TKU'!$B:$B,\"Total Operação\")/1000000","v":228.10707199999999},{"$f":"SUMIFS('Base TKU'!BF:BF,'Base TKU'!$A:$A,$B16,'Base TKU'!$B:$B,\"Total Operação\")/1000000","v":226.05254099999999},{"$f":"SUMIFS('Base TKU'!BG:BG,'Base TKU'!$A:$A,$B16,'Base TKU'!$B:$B,\"Total Operação\")/1000000","v":232.81847500000001},{"$f":"SUMIFS('Base TKU'!BH:BH,'Base TKU'!$A:$A,$B16,'Base TKU'!$B:$B,\"Total Operação\")/1000000","v":199.00543200000001},{"$f":"SUMIFS('Base TKU'!BI:BI,'Base TKU'!$A:$A,$B16,'Base TKU'!$B:$B,\"Total Operação\")/1000000","v":189.00291999999999},{"$f":"SUMIFS('Base TKU'!BJ:BJ,'Base TKU'!$A:$A,$B16,'Base TKU'!$B:$B,\"Total Operação\")/1000000","v":252.88504900000001},{"$f":"SUMIFS('Base TKU'!BK:BK,'Base TKU'!$A:$A,$B16,'Base TKU'!$B:$B,\"Total Operação\")/1000000","v":265.49753700000002},{"$f":"SUMIFS('Base TKU'!BL:BL,'Base TKU'!$A:$A,$B16,'Base TKU'!$B:$B,\"Total Operação\")/1000000","v":257.95027599999997},{"$f":"SUMIFS('Base TKU'!BM:BM,'Base TKU'!$A:$A,$B16,'Base TKU'!$B:$B,\"Total Operação\")/1000000","v":272.91652099999999},{"$f":"SUMIFS('Base TKU'!BN:BN,'Base TKU'!$A:$A,$B16,'Base TKU'!$B:$B,\"Total Operação\")/1000000","v":272.50305500000002},{"$f":"SUMIFS('Base TKU'!BO:BO,'Base TKU'!$A:$A,$B16,'Base TKU'!$B:$B,\"Total Operação\")/1000000","v":291.26242500000001},{"$f":"SUMIFS('Base TKU'!BP:BP,'Base TKU'!$A:$A,$B16,'Base TKU'!$B:$B,\"Total Operação\")/1000000","v":268.49725799999999},null,{"$f":"'Volume TKU Norte'!BQ16+'Volume TKU Sul'!BP16","v":244.131778},{"$f":"'Volume TKU Norte'!BR16+'Volume TKU Sul'!BQ16","v":241.92994200000001},{"$f":"'Volume TKU Norte'!BS16+'Volume TKU Sul'!BR16","v":241.43195700000001},{"$f":"'Volume TKU Norte'!BT16+'Volume TKU Sul'!BS16","v":284.64637699999997},{"$f":"'Volume TKU Norte'!BU16+'Volume TKU Sul'!BT16","v":276.34361699999999},{"$f":"'Volume TKU Norte'!BV16+'Volume TKU Sul'!BU16","v":289.85902500000003},{"$f":"'Volume TKU Norte'!BW16+'Volume TKU Sul'!BV16","v":296.14324199999999},{"$f":"'Volume TKU Norte'!BX16+'Volume TKU Sul'!BW16","v":320.650825},{"$f":"'Volume TKU Norte'!BY16+'Volume TKU Sul'!BX16","v":282.42852800000003},{"$f":"'Volume TKU Norte'!BZ16+'Volume TKU Sul'!BY16","v":271.11487},{"$f":"'Volume TKU Norte'!CA16+'Volume TKU Sul'!BZ16","v":269.72634399999998},{"$f":"'Volume TKU Norte'!CB16+'Volume TKU Sul'!CA16","v":291.047506},null,{"$f":"'Volume TKU Norte'!CD16+'Volume TKU Sul'!CC16","v":266.84599500000002},{"$f":"'Volume TKU Norte'!CE16+'Volume TKU Sul'!CD16","v":295.39642600000002},{"$f":"'Volume TKU Norte'!CF16+'Volume TKU Sul'!CE16","v":317.14686499999999},{"$f":"'Volume TKU Norte'!CG16+'Volume TKU Sul'!CF16","v":305.382677},{"$f":"'Volume TKU Norte'!CH16+'Volume TKU Sul'!CG16","v":316.23259300000001},{"$f":"'Volume TKU Norte'!CI16+'Volume TKU Sul'!CH16","v":0},{"$f":"'Volume TKU Norte'!CJ16+'Volume TKU Sul'!CI16","v":0},{"$f":"'Volume TKU Norte'!CK16+'Volume TKU Sul'!CJ16","v":0},{"$f":"'Volume TKU Norte'!CL16+'Volume TKU Sul'!CK16","v":0},{"$f":"'Volume TKU Norte'!CM16+'Volume TKU Sul'!CL16","v":0},{"$f":"'Volume TKU Norte'!CN16+'Volume TKU Sul'!CM16","v":0},{"$f":"'Volume TKU Norte'!CO16+'Volume TKU Sul'!CN16","v":0}]
[null,"Produtos Industriais",null,{"$f":"SUM(D18:D21)","v":405.75994899999995},{"$f":"SUM(E18:E21)","v":427.39980600000001},461.732461,447.86786399999994,481.92067400000008,523.93499499999996,562.40372400000001,578.06959299999994,580.24479699999995,574.193039,501.08232400000003,476.035934,null,503.92276200000003,445.08587199999999,503.91255699999994,462.79054799999994,530.54511200000002,521.77646000000004,581.96878800000002,586.73494900000003,553.73817199999996,644.66259100000002,566.49763600000006,582.14752799999997,0,579.52826300000004,576.812814,594.30088699999999,518.84129400000006,541.74682499999994,686.14562499999988,681.51758599999994,710.64779800000008,694.20421899999985,699.03641599999992,666.08224100000007,661.50651099999993,null,661.83619900000008,597.82006699999999,634.58769700000005,607.92270900000005,656.08387600000003,673.22187399999996,712.25155999999993,730.75640500000009,712.05585099999996,738.25541799999996,653.92671599999994,618.48736600000007,null,645.28491199999996,599.85529199999996,496.94969000000003,441.38303200000001,618.31375999999989,599.64282200000002,683.11599799999999,693.10083299999997,744.73870799999997,773.05656399999998,743.33961699999998,633.23953100000006,null,{"$f":"SUM(BQ18:BQ21)","v":696.11033300000008},691.55998000000011,739.98886700000014,724.40767500000004,772.01386500000001,746.50598300000001,771.09214600000007,812.64743700000008,764.16097000000002,784.45731000000001,708.77444300000002,706.04715299999998,null,{"$f":"SUM(CD18:CD21)","v":720.81915400000003},709.03087799999992,797.96869800000002,740.77168699999993,818.31603100000007,0,0,0,0,0,0,0]
[null,"Combustível",null,{"$f":"SUMIFS('Base TKU'!E:E,'Base TKU'!$A:$A,$B18,'Base TKU'!$B:$B,\"Total Operação\")/1000000","v":304.52819199999999},{"$f":"SUMIFS('Base TKU'!F:F,'Base TKU'!$A:$A,$B18,'Base TKU'!$B:$B,\"Total Operação\")/1000000","v":313.67363999999998},{"$f":"SUMIFS('Base TKU'!G:G,'Base TKU'!$A:$A,$B18,'Base TKU'!$B:$B,\"Total Operação\")/1000000","v":344.90845300000001},{"$f":"SUMIFS('Base TKU'!H:H,'Base TKU'!$A:$A,$B18,'Base TKU'!$B:$B,\"Total Operação\")/1000000","v":326.61296599999997},{"$f":"SUMIFS('Base TKU'!I:I,'Base TKU'!$A:$A,$B18,'Base TKU'!$B:$B,\"Total Operação\")/1000000","v":352.50188500000002},{"$f":"SUMIFS('Base TKU'!J:J,'Base TKU'!$A:$A,$B18,'Base TKU'!$B:$B,\"Total Operação\")/1000000","v":383.09212300000002},{"$f":"SUMIFS('Base TKU'!K:K,'Base TKU'!$A:$A,$B18,'Base TKU'!$B:$B,\"Total Operação\")/1000000","v":390.00318399999998},{"$f":"SUMIFS('Base TKU'!L:L,'Base TKU'!$A:$A,$B18,'Base TKU'!$B:$B,\"Total Operação\")/1000000","v":402.93736799999999},{"$f":"SUMIFS('Base TKU'!M:M,'Base TKU'!$A:$A,$B18,'Base TKU'!$B:$B,\"Total Operação\")/1000000","v":418.99125099999998},{"$f":"SUMIFS('Base TKU'!N:N,'Base TKU'!$A:$A,$B18,'Base TKU'!$B:$B,\"Total Operação\")/1000000","v":410.54898300000002},{"$f":"SUMIFS('Base TKU'!O:O,'Base TKU'!$A:$A,$B18,'Base TKU'!$B:$B,\"Total Operação\")/1000000","v":346.34845100000001},{"$f":"SUMIFS('Base TKU'!P:P,'Base TKU'!$A:$A,$B18,'Base TKU'!$B:$B,\"Total Operação\")/1000000","v":335.85117200000002},null,{"$f":"SUMIFS('Base TKU'!R:R,'Base TKU'!$A:$A,$B18,'Base TKU'!$B:$B,\"Total Operação\")/1000000","v":359.972756},{"$f":"SUMIFS('Base TKU'!S:S,'Base TKU'!$A:$A,$B18,'Base TKU'!$B:$B,\"Total Operação\")/1000000","v":333.18139300000001},{"$f":"SUMIFS('Base TKU'!T:T,'Base TKU'!$A:$A,$B18,'Base TKU'!$B:$B,\"Total Operação\")/1000000","v":354.09324700000002},{"$f":"SUMIFS('Base TKU'!U:U,'Base TKU'!$A:$A,$B18,'Base TKU'!$B:$B,\"Total Operação\")/1000000","v":310.52348999999998},{"$f":"SUMIFS('Base TKU'!V:V,'Base TKU'!$A:$A,$B18,'Base TKU'!$B:$B,\"Total Operação\")/1000000","v":351.23970400000002},{"$f":"SUMIFS('Base TKU'!W:W,'Base TKU'!$A:$A,$B18,'Base TKU'!$B:$B,\"Total Operação\")/1000000","v":359.25178799999998},{"$f":"SUMIFS('Base TKU'!X:X,'Base TKU'!$A:$A,$B18,'Base TKU'!$B:$B,\"Total Operação\")/1000000","v":405.10714000000002},{"$f":"SUMIFS('Base TKU'!Y:Y,'Base TKU'!$A:$A,$B18,'Base TKU'!$B:$B,\"Total Operação\")/1000000","v":405.437501},{"$f":"SUMIFS('Base TKU'!Z:Z,'Base TKU'!$A:$A,$B18,'Base TKU'!$B:$B,\"Total Operação\")/1000000","v":373.22959100000003},{"$f":"SUMIFS('Base TKU'!AA:AA,'Base TKU'!$A:$A,$B18,'Base TKU'!$B:$B,\"Total Operação\")/1000000","v":435.92045000000002},{"$f":"SUMIFS('Base TKU'!AB:AB,'Base TKU'!$A:$A,$B18,'Base TKU'!$B:$B,\"Total Operação\")/1000000","v":343.30442799999997},{"$f":"SUMIFS('Base TKU'!AC:AC,'Base TKU'!$A:$A,$B18,'Base TKU'!$B:$B,\"Total Operação\")/1000000","v":333.03288099999997},null,{"$f":"SUMIFS('Base TKU'!AE:AE,'Base TKU'!$A:$A,$B18,'Base TKU'!$B:$B,\"Total Operação\")/1000000","v":343.26751899999999},{"$f":"SUMIFS('Base TKU'!AF:AF,'Base TKU'!$A:$A,$B18,'Base TKU'!$B:$B,\"Total Operação\")/1000000","v":358.307727},{"$f":"SUMIFS('Base TKU'!AG:AG,'Base TKU'!$A:$A,$B18,'Base TKU'!$B:$B,\"Total Operação\")/1000000","v":366.14099800000002},{"$f":"SUMIFS('Base TKU'!AH:AH,'Base TKU'!$A:$A,$B18,'Base TKU'!$B:$B,\"Total Operação\")/1000000","v":317.02023600000001},{"$f":"SUMIFS('Base TKU'!AI:AI,'Base TKU'!$A:$A,$B18,'Base TKU'!$B:$B,\"Total Operação\")/1000000","v":323.02858900000001},{"$f":"SUMIFS('Base TKU'!AJ:AJ,'Base TKU'!$A:$A,$B18,'Base TKU'!$B:$B,\"Total Operação\")/1000000","v":419.61775899999998},{"$f":"SUMIFS('Base TKU'!AK:AK,'Base TKU'!$A:$A,$B18,'Base TKU'!$B:$B,\"Total Operação\")/1000000","v":424.87210499999998},{"$f":"SUMIFS('Base TKU'!AL:AL,'Base TKU'!$A:$A,$B18,'Base TKU'!$B:$B,\"Total Operação\")/1000000","v":414.19682499999999},{"$f":"SUMIFS('Base TKU'!AM:AM,'Base TKU'!$A:$A,$B18,'Base TKU'!$B:$B,\"Total Operação\")/1000000","v":420.47837399999997},{"$f":"SUMIFS('Base TKU'!AN:AN,'Base TKU'!$A:$A,$B18,'Base TKU'!$B:$B,\"Total Operação\")/1000000","v":395.86320699999999},{"$f":"SUMIFS('Base TKU'!AO:AO,'Base TKU'!$A:$A,$B18,'Base TKU'!$B:$B,\"Total Operação\")/1000000","v":375.87934000000001},{"$f":"SUMIFS('Base TKU'!AP:AP,'Base TKU'!$A:$A,$B18,'Base TKU'!$B:$B,\"Total Operação\")/1000000","v":381.11847499999999},null,{"$f":"SUMIFS('Base TKU'!AR:AR,'Base TKU'!$A:$A,$B18,'Base TKU'!$B:$B,\"Total Operação\")/1000000","v":385.14574599999997},{"$f":"SUMIFS('Base TKU'!AS:AS,'Base TKU'!$A:$A,$B18,'Base TKU'!$B:$B,\"Total Operação\")/1000000","v":368.10520700000001},{"$f":"SUMIFS('Base TKU'!AT:AT,'Base TKU'!$A:$A,$B18,'Base TKU'!$B:$B,\"Total Operação\")/1000000","v":364.21156400000001},{"$f":"SUMIFS('Base TKU'!AU:AU,'Base TKU'!$A:$A,$B18,'Base TKU'!$B:$B,\"Total Operação\")/1000000","v":347.685044},{"$f":"SUMIFS('Base TKU'!AV:AV,'Base TKU'!$A:$A,$B18,'Base TKU'!$B:$B,\"Total Operação\")/1000000","v":383.32874800000002},{"$f":"SUMIFS('Base TKU'!AW:AW,'Base TKU'!$A:$A,$B18,'Base TKU'!$B:$B,\"Total Operação\")/1000000","v":396.56389799999999},{"$f":"SUMIFS('Base TKU'!AX:AX,'Base TKU'!$A:$A,$B18,'Base TKU'!$B:$B,\"Total Operação\")/1000000","v":438.70598200000001},{"$f":"SUMIFS('Base TKU'!AY:AY,'Base TKU'!$A:$A,$B18,'Base TKU'!$B:$B,\"Total Operação\")/1000000","v":443.07127500000001},{"$f":"SUMIFS('Base TKU'!AZ:AZ,'Base TKU'!$A:$A,$B18,'Base TKU'!$B:$B,\"Total Operação\")/1000000","v":422.16513500000002},{"$f":"SUMIFS('Base TKU'!BA:BA,'Base TKU'!$A:$A,$B18,'Base TKU'!$B:$B,\"Total Operação\")/1000000","v":427.61664200000001},{"$f":"SUMIFS('Base TKU'!BB:BB,'Base TKU'!$A:$A,$B18,'Base TKU'!$B:$B,\"Total Operação\")/1000000","v":370.226675},{"$f":"SUMIFS('Base TKU'!BC:BC,'Base TKU'!$A:$A,$B18,'Base TKU'!$B:$B,\"Total Operação\")/1000000","v":341.523799},null,{"$f":"SUMIFS('Base TKU'!BE:BE,'Base TKU'!$A:$A,$B18,'Base TKU'!$B:$B,\"Total Operação\")/1000000","v":357.43398000000002},{"$f":"SUMIFS('Base TKU'!BF:BF,'Base TKU'!$A:$A,$B18,'Base TKU'!$B:$B,\"Total Operação\")/1000000","v":358.49185199999999},{"$f":"SUMIFS('Base TKU'!BG:BG,'Base TKU'!$A:$A,$B18,'Base TKU'!$B:$B,\"Total Operação\")/1000000","v":276.22320300000001},{"$f":"SUMIFS('Base TKU'!BH:BH,'Base TKU'!$A:$A,$B18,'Base TKU'!$B:$B,\"Total Operação\")/1000000","v":202.531893},{"$f":"SUMIFS('Base TKU'!BI:BI,'Base TKU'!$A:$A,$B18,'Base TKU'!$B:$B,\"Total Operação\")/1000000","v":342.91432300000002},{"$f":"SUMIFS('Base TKU'!BJ:BJ,'Base TKU'!$A:$A,$B18,'Base TKU'!$B:$B,\"Total Operação\")/1000000","v":335.57100200000002},{"$f":"SUMIFS('Base TKU'!BK:BK,'Base TKU'!$A:$A,$B18,'Base TKU'!$B:$B,\"Total Operação\")/1000000","v":386.149519},{"$f":"SUMIFS('Base TKU'!BL:BL,'Base TKU'!$A:$A,$B18,'Base TKU'!$B:$B,\"Total Operação\")/1000000","v":384.69130200000001},{"$f":"SUMIFS('Base TKU'!BM:BM,'Base TKU'!$A:$A,$B18,'Base TKU'!$B:$B,\"Total Operação\")/1000000","v":428.047414},{"$f":"SUMIFS('Base TKU'!BN:BN,'Base TKU'!$A:$A,$B18,'Base TKU'!$B:$B,\"Total Operação\")/1000000","v":456.42952500000001},{"$f":"SUMIFS('Base TKU'!BO:BO,'Base TKU'!$A:$A,$B18,'Base TKU'!$B:$B,\"Total Operação\")/1000000","v":428.881688},{"$f":"SUMIFS('Base TKU'!BP:BP,'Base TKU'!$A:$A,$B18,'Base TKU'!$B:$B,\"Total Operação\")/1000000","v":409.908275},null,{"$f":"'Volume TKU Norte'!BQ18+'Volume TKU Sul'!BP18","v":413.44762200000002},{"$f":"'Volume TKU Norte'!BR18+'Volume TKU Sul'!BQ18","v":415.11905200000001},{"$f":"'Volume TKU Norte'!BS18+'Volume TKU Sul'!BR18","v":419.05749400000002},{"$f":"'Volume TKU Norte'!BT18+'Volume TKU Sul'!BS18","v":410.49949700000002},{"$f":"'Volume TKU Norte'!BU18+'Volume TKU Sul'!BT18","v":446.94871899999998},{"$f":"'Volume TKU Norte'!BV18+'Volume TKU Sul'!BU18","v":448.64236099999999},{"$f":"'Volume TKU Norte'!BW18+'Volume TKU Sul'!BV18","v":465.192453},{"$f":"'Volume TKU Norte'!BX18+'Volume TKU Sul'!BW18","v":478.22362400000003},{"$f":"'Volume TKU Norte'!BY18+'Volume TKU Sul'!BX18","v":470.94239499999998},{"$f":"'Volume TKU Norte'!BZ18+'Volume TKU Sul'!BY18","v":478.70425299999999},{"$f":"'Volume TKU Norte'!CA18+'Volume TKU Sul'!BZ18","v":418.27844800000003},{"$f":"'Volume TKU Norte'!CB18+'Volume TKU Sul'!CA18","v":433.33377999999999},null,{"$f":"'Volume TKU Norte'!CD18+'Volume TKU Sul'!CC18","v":454.96072300000003},{"$f":"'Volume TKU Norte'!CE18+'Volume TKU Sul'!CD18","v":458.14508699999999},{"$f":"'Volume TKU Norte'!CF18+'Volume TKU Sul'!CE18","v":471.89820999999995},{"$f":"'Volume TKU Norte'!CG18+'Volume TKU Sul'!CF18","v":453.68554499999999},{"$f":"'Volume TKU Norte'!CH18+'Volume TKU Sul'!CG18","v":512.95974699999999},{"$f":"'Volume TKU Norte'!CI18+'Volume TKU Sul'!CH18","v":0},{"$f":"'Volume TKU Norte'!CJ18+'Volume TKU Sul'!CI18","v":0},{"$f":"'Volume TKU Norte'!CK18+'Volume TKU Sul'!CJ18","v":0},{"$f":"'Volume TKU Norte'!CL18+'Volume TKU Sul'!CK18","v":0},{"$f":"'Volume TKU Norte'!CM18+'Volume TKU Sul'!CL18","v":0},{"$f":"'Volume TKU Norte'!CN18+'Volume TKU Sul'!CM18","v":0},{"$f":"'Volume TKU Norte'!CO18+'Volume TKU Sul'!CN18","v":0}]
[null,"Madeira, Papel e Celulose",null,{"$f":"SUMIFS('Base TKU'!E:E,'Base TKU'!$A:$A,$B19,'Base TKU'!$B:$B,\"Total Operação\")/1000000","v":53.103093999999999},{"$f":"SUMIFS('Base TKU'!F:F,'Base TKU'!$A:$A,$B19,'Base TKU'!$B:$B,\"Total Operação\")/1000000","v":54.916127000000003},{"$f":"SUMIFS('Base TKU'!G:G,'Base TKU'!$A:$A,$B19,'Base TKU'!$B:$B,\"Total Operação\")/1000000","v":53.520448999999999},{"$f":"SUMIFS('Base TKU'!H:H,'Base TKU'!$A:$A,$B19,'Base TKU'!$B:$B,\"Total Operação\")/1000000","v":56.006704999999997},{"$f":"SUMIFS('Base TKU'!I:I,'Base TKU'!$A:$A,$B19,'Base TKU'!$B:$B,\"Total Operação\")/1000000","v":68.264671000000007},{"$f":"SUMIFS('Base TKU'!J:J,'Base TKU'!$A:$A,$B19,'Base TKU'!$B:$B,\"Total Operação\")/1000000","v":68.705703999999997},{"$f":"SUMIFS('Base TKU'!K:K,'Base TKU'!$A:$A,$B19,'Base TKU'!$B:$B,\"Total Operação\")/1000000","v":90.784820999999994},{"$f":"SUMIFS('Base TKU'!L:L,'Base TKU'!$A:$A,$B19,'Base TKU'!$B:$B,\"Total Operação\")/1000000","v":89.140709000000001},{"$f":"SUMIFS('Base TKU'!M:M,'Base TKU'!$A:$A,$B19,'Base TKU'!$B:$B,\"Total Operação\")/1000000","v":82.280722999999995},{"$f":"SUMIFS('Base TKU'!N:N,'Base TKU'!$A:$A,$B19,'Base TKU'!$B:$B,\"Total Operação\")/1000000","v":86.509163999999998},{"$f":"SUMIFS('Base TKU'!O:O,'Base TKU'!$A:$A,$B19,'Base TKU'!$B:$B,\"Total Operação\")/1000000","v":81.662906000000007},{"$f":"SUMIFS('Base TKU'!P:P,'Base TKU'!$A:$A,$B19,'Base TKU'!$B:$B,\"Total Operação\")/1000000","v":71.449663999999999},null,{"$f":"SUMIFS('Base TKU'!R:R,'Base TKU'!$A:$A,$B19,'Base TKU'!$B:$B,\"Total Operação\")/1000000","v":66.679985000000002},{"$f":"SUMIFS('Base TKU'!S:S,'Base TKU'!$A:$A,$B19,'Base TKU'!$B:$B,\"Total Operação\")/1000000","v":42.680686999999999},{"$f":"SUMIFS('Base TKU'!T:T,'Base TKU'!$A:$A,$B19,'Base TKU'!$B:$B,\"Total Operação\")/1000000","v":74.238529999999997},{"$f":"SUMIFS('Base TKU'!U:U,'Base TKU'!$A:$A,$B19,'Base TKU'!$B:$B,\"Total Operação\")/1000000","v":78.450040000000001},{"$f":"SUMIFS('Base TKU'!V:V,'Base TKU'!$A:$A,$B19,'Base TKU'!$B:$B,\"Total Operação\")/1000000","v":92.155349000000001},{"$f":"SUMIFS('Base TKU'!W:W,'Base TKU'!$A:$A,$B19,'Base TKU'!$B:$B,\"Total Operação\")/1000000","v":89.135938999999993},{"$f":"SUMIFS('Base TKU'!X:X,'Base TKU'!$A:$A,$B19,'Base TKU'!$B:$B,\"Total Operação\")/1000000","v":90.885902999999999},{"$f":"SUMIFS('Base TKU'!Y:Y,'Base TKU'!$A:$A,$B19,'Base TKU'!$B:$B,\"Total Operação\")/1000000","v":95.005221000000006},{"$f":"SUMIFS('Base TKU'!Z:Z,'Base TKU'!$A:$A,$B19,'Base TKU'!$B:$B,\"Total Operação\")/1000000","v":96.33475},{"$f":"SUMIFS('Base TKU'!AA:AA,'Base TKU'!$A:$A,$B19,'Base TKU'!$B:$B,\"Total Operação\")/1000000","v":121.526374},{"$f":"SUMIFS('Base TKU'!AB:AB,'Base TKU'!$A:$A,$B19,'Base TKU'!$B:$B,\"Total Operação\")/1000000","v":150.15562199999999},{"$f":"SUMIFS('Base TKU'!AC:AC,'Base TKU'!$A:$A,$B19,'Base TKU'!$B:$B,\"Total Operação\")/1000000","v":173.271929},null,{"$f":"SUMIFS('Base TKU'!AE:AE,'Base TKU'!$A:$A,$B19,'Base TKU'!$B:$B,\"Total Operação\")/1000000","v":162.08110500000001},{"$f":"SUMIFS('Base TKU'!AF:AF,'Base TKU'!$A:$A,$B19,'Base TKU'!$B:$B,\"Total Operação\")/1000000","v":153.46985599999999},{"$f":"SUMIFS('Base TKU'!AG:AG,'Base TKU'!$A:$A,$B19,'Base TKU'!$B:$B,\"Total Operação\")/1000000","v":151.655644},{"$f":"SUMIFS('Base TKU'!AH:AH,'Base TKU'!$A:$A,$B19,'Base TKU'!$B:$B,\"Total Operação\")/1000000","v":130.45853099999999},{"$f":"SUMIFS('Base TKU'!AI:AI,'Base TKU'!$A:$A,$B19,'Base TKU'!$B:$B,\"Total Operação\")/1000000","v":140.73136299999999},{"$f":"SUMIFS('Base TKU'!AJ:AJ,'Base TKU'!$A:$A,$B19,'Base TKU'!$B:$B,\"Total Operação\")/1000000","v":190.28760600000001},{"$f":"SUMIFS('Base TKU'!AK:AK,'Base TKU'!$A:$A,$B19,'Base TKU'!$B:$B,\"Total Operação\")/1000000","v":179.95953399999999},{"$f":"SUMIFS('Base TKU'!AL:AL,'Base TKU'!$A:$A,$B19,'Base TKU'!$B:$B,\"Total Operação\")/1000000","v":223.792225},{"$f":"SUMIFS('Base TKU'!AM:AM,'Base TKU'!$A:$A,$B19,'Base TKU'!$B:$B,\"Total Operação\")/1000000","v":199.13561799999999},{"$f":"SUMIFS('Base TKU'!AN:AN,'Base TKU'!$A:$A,$B19,'Base TKU'!$B:$B,\"Total Operação\")/1000000","v":221.55706599999999},{"$f":"SUMIFS('Base TKU'!AO:AO,'Base TKU'!$A:$A,$B19,'Base TKU'!$B:$B,\"Total Operação\")/1000000","v":209.92206400000001},{"$f":"SUMIFS('Base TKU'!AP:AP,'Base TKU'!$A:$A,$B19,'Base TKU'!$B:$B,\"Total Operação\")/1000000","v":215.90257800000001},null,{"$f":"SUMIFS('Base TKU'!AR:AR,'Base TKU'!$A:$A,$B19,'Base TKU'!$B:$B,\"Total Operação\")/1000000","v":205.204474},{"$f":"SUMIFS('Base TKU'!AS:AS,'Base TKU'!$A:$A,$B19,'Base TKU'!$B:$B,\"Total Operação\")/1000000","v":162.20054500000001},{"$f":"SUMIFS('Base TKU'!AT:AT,'Base TKU'!$A:$A,$B19,'Base TKU'!$B:$B,\"Total Operação\")/1000000","v":204.809718},{"$f":"SUMIFS('Base TKU'!AU:AU,'Base TKU'!$A:$A,$B19,'Base TKU'!$B:$B,\"Total Operação\")/1000000","v":198.715056},{"$f":"SUMIFS('Base TKU'!AV:AV,'Base TKU'!$A:$A,$B19,'Base TKU'!$B:$B,\"Total Operação\")/1000000","v":199.98194599999999},{"$f":"SUMIFS('Base TKU'!AW:AW,'Base TKU'!$A:$A,$B19,'Base TKU'!$B:$B,\"Total Operação\")/1000000","v":194.433325},{"$f":"SUMIFS('Base TKU'!AX:AX,'Base TKU'!$A:$A,$B19,'Base TKU'!$B:$B,\"Total Operação\")/1000000","v":192.61517599999999},{"$f":"SUMIFS('Base TKU'!AY:AY,'Base TKU'!$A:$A,$B19,'Base TKU'!$B:$B,\"Total Operação\")/1000000","v":200.06072499999999},{"$f":"SUMIFS('Base TKU'!AZ:AZ,'Base TKU'!$A:$A,$B19,'Base TKU'!$B:$B,\"Total Operação\")/1000000","v":211.58550299999999},{"$f":"SUMIFS('Base TKU'!BA:BA,'Base TKU'!$A:$A,$B19,'Base TKU'!$B:$B,\"Total Operação\")/1000000","v":227.075549},{"$f":"SUMIFS('Base TKU'!BB:BB,'Base TKU'!$A:$A,$B19,'Base TKU'!$B:$B,\"Total Operação\")/1000000","v":218.87440699999999},{"$f":"SUMIFS('Base TKU'!BC:BC,'Base TKU'!$A:$A,$B19,'Base TKU'!$B:$B,\"Total Operação\")/1000000","v":225.428674},null,{"$f":"SUMIFS('Base TKU'!BE:BE,'Base TKU'!$A:$A,$B19,'Base TKU'!$B:$B,\"Total Operação\")/1000000","v":221.46524199999999},{"$f":"SUMIFS('Base TKU'!BF:BF,'Base TKU'!$A:$A,$B19,'Base TKU'!$B:$B,\"Total Operação\")/1000000","v":175.57527899999999},{"$f":"SUMIFS('Base TKU'!BG:BG,'Base TKU'!$A:$A,$B19,'Base TKU'!$B:$B,\"Total Operação\")/1000000","v":162.755064},{"$f":"SUMIFS('Base TKU'!BH:BH,'Base TKU'!$A:$A,$B19,'Base TKU'!$B:$B,\"Total Operação\")/1000000","v":165.610028},{"$f":"SUMIFS('Base TKU'!BI:BI,'Base TKU'!$A:$A,$B19,'Base TKU'!$B:$B,\"Total Operação\")/1000000","v":201.26526699999999},{"$f":"SUMIFS('Base TKU'!BJ:BJ,'Base TKU'!$A:$A,$B19,'Base TKU'!$B:$B,\"Total Operação\")/1000000","v":198.20855},{"$f":"SUMIFS('Base TKU'!BK:BK,'Base TKU'!$A:$A,$B19,'Base TKU'!$B:$B,\"Total Operação\")/1000000","v":229.47214600000001},{"$f":"SUMIFS('Base TKU'!BL:BL,'Base TKU'!$A:$A,$B19,'Base TKU'!$B:$B,\"Total Operação\")/1000000","v":236.64035100000001},{"$f":"SUMIFS('Base TKU'!BM:BM,'Base TKU'!$A:$A,$B19,'Base TKU'!$B:$B,\"Total Operação\")/1000000","v":246.48908},{"$f":"SUMIFS('Base TKU'!BN:BN,'Base TKU'!$A:$A,$B19,'Base TKU'!$B:$B,\"Total Operação\")/1000000","v":244.84748300000001},{"$f":"SUMIFS('Base TKU'!BO:BO,'Base TKU'!$A:$A,$B19,'Base TKU'!$B:$B,\"Total Operação\")/1000000","v":247.891368},{"$f":"SUMIFS('Base TKU'!BP:BP,'Base TKU'!$A:$A,$B19,'Base TKU'!$B:$B,\"Total Operação\")/1000000","v":158.18536700000001},null,{"$f":"'Volume TKU Norte'!BQ19+'Volume TKU Sul'!BP19","v":215.921055},{"$f":"'Volume TKU Norte'!BR19+'Volume TKU Sul'!BQ19","v":212.10178100000002},{"$f":"'Volume TKU Norte'!BS19+'Volume TKU Sul'!BR19","v":236.64879400000001},{"$f":"'Volume TKU Norte'!BT19+'Volume TKU Sul'!BS19","v":230.59133300000002},{"$f":"'Volume TKU Norte'!BU19+'Volume TKU Sul'!BT19","v":237.40611100000001},{"$f":"'Volume TKU Norte'!BV19+'Volume TKU Sul'!BU19","v":216.30669699999999},{"$f":"'Volume TKU Norte'!BW19+'Volume TKU Sul'!BV19","v":219.19501},{"$f":"'Volume TKU Norte'!BX19+'Volume TKU Sul'!BW19","v":255.04660799999999},{"$f":"'Volume TKU Norte'!BY19+'Volume TKU Sul'!BX19","v":216.50873999999999},{"$f":"'Volume TKU Norte'!BZ19+'Volume TKU Sul'!BY19","v":225.371813},{"$f":"'Volume TKU Norte'!CA19+'Volume TKU Sul'!BZ19","v":209.93016},{"$f":"'Volume TKU Norte'!CB19+'Volume TKU Sul'!CA19","v":199.13039199999997},null,{"$f":"'Volume TKU Norte'!CD19+'Volume TKU Sul'!CC19","v":193.00985500000002},{"$f":"'Volume TKU Norte'!CE19+'Volume TKU Sul'!CD19","v":183.30443199999999},{"$f":"'Volume TKU Norte'!CF19+'Volume TKU Sul'!CE19","v":245.907736},{"$f":"'Volume TKU Norte'!CG19+'Volume TKU Sul'!CF19","v":218.18424300000001},{"$f":"'Volume TKU Norte'!CH19+'Volume TKU Sul'!CG19","v":227.01930599999997},{"$f":"'Volume TKU Norte'!CI19+'Volume TKU Sul'!CH19","v":0},{"$f":"'Volume TKU Norte'!CJ19+'Volume TKU Sul'!CI19","v":0},{"$f":"'Volume TKU Norte'!CK19+'Volume TKU Sul'!CJ19","v":0},{"$f":"'Volume TKU Norte'!CL19+'Volume TKU Sul'!CK19","v":0},{"$f":"'Volume TKU Norte'!CM19+'Volume TKU Sul'!CL19","v":0},{"$f":"'Volume TKU Norte'!CN19+'Volume TKU Sul'!CM19","v":0},{"$f":"'Volume TKU Norte'!CO19+'Volume TKU Sul'!CN19","v":0}]
[null,"Construção Civil",null,{"$f":"SUMIFS('Base TKU'!E:E,'Base TKU'!$A:$A,$B20,'Base TKU'!$B:$B,\"Total Operação\")/1000000","v":36.146979999999999},{"$f":"SUMIFS('Base TKU'!F:F,'Base TKU'!$A:$A,$B20,'Base TKU'!$B:$B,\"Total Operação\")/1000000","v":45.827058999999998},{"$f":"SUMIFS('Base TKU'!G:G,'Base TKU'!$A:$A,$B20,'Base TKU'!$B:$B,\"Total Operação\")/1000000","v":51.114310000000003},{"$f":"SUMIFS('Base TKU'!H:H,'Base TKU'!$A:$A,$B20,'Base TKU'!$B:$B,\"Total Operação\")/1000000","v":52.249645000000001},{"$f":"SUMIFS('Base TKU'!I:I,'Base TKU'!$A:$A,$B20,'Base TKU'!$B:$B,\"Total Operação\")/1000000","v":49.190775000000002},{"$f":"SUMIFS('Base TKU'!J:J,'Base TKU'!$A:$A,$B20,'Base TKU'!$B:$B,\"Total Operação\")/1000000","v":60.071762},{"$f":"SUMIFS('Base TKU'!K:K,'Base TKU'!$A:$A,$B20,'Base TKU'!$B:$B,\"Total Operação\")/1000000","v":64.777552},{"$f":"SUMIFS('Base TKU'!L:L,'Base TKU'!$A:$A,$B20,'Base TKU'!$B:$B,\"Total Operação\")/1000000","v":69.127803999999998},{"$f":"SUMIFS('Base TKU'!M:M,'Base TKU'!$A:$A,$B20,'Base TKU'!$B:$B,\"Total Operação\")/1000000","v":65.878789999999995},{"$f":"SUMIFS('Base TKU'!N:N,'Base TKU'!$A:$A,$B20,'Base TKU'!$B:$B,\"Total Operação\")/1000000","v":61.566234999999999},{"$f":"SUMIFS('Base TKU'!O:O,'Base TKU'!$A:$A,$B20,'Base TKU'!$B:$B,\"Total Operação\")/1000000","v":61.028593000000001},{"$f":"SUMIFS('Base TKU'!P:P,'Base TKU'!$A:$A,$B20,'Base TKU'!$B:$B,\"Total Operação\")/1000000","v":57.386997999999998},null,{"$f":"SUMIFS('Base TKU'!R:R,'Base TKU'!$A:$A,$B20,'Base TKU'!$B:$B,\"Total Operação\")/1000000","v":65.66601},{"$f":"SUMIFS('Base TKU'!S:S,'Base TKU'!$A:$A,$B20,'Base TKU'!$B:$B,\"Total Operação\")/1000000","v":55.575082000000002},{"$f":"SUMIFS('Base TKU'!T:T,'Base TKU'!$A:$A,$B20,'Base TKU'!$B:$B,\"Total Operação\")/1000000","v":59.600560999999999},{"$f":"SUMIFS('Base TKU'!U:U,'Base TKU'!$A:$A,$B20,'Base TKU'!$B:$B,\"Total Operação\")/1000000","v":56.194758},{"$f":"SUMIFS('Base TKU'!V:V,'Base TKU'!$A:$A,$B20,'Base TKU'!$B:$B,\"Total Operação\")/1000000","v":65.604108999999994},{"$f":"SUMIFS('Base TKU'!W:W,'Base TKU'!$A:$A,$B20,'Base TKU'!$B:$B,\"Total Operação\")/1000000","v":50.665117000000002},{"$f":"SUMIFS('Base TKU'!X:X,'Base TKU'!$A:$A,$B20,'Base TKU'!$B:$B,\"Total Operação\")/1000000","v":63.763026000000004},{"$f":"SUMIFS('Base TKU'!Y:Y,'Base TKU'!$A:$A,$B20,'Base TKU'!$B:$B,\"Total Operação\")/1000000","v":62.402293999999998},{"$f":"SUMIFS('Base TKU'!Z:Z,'Base TKU'!$A:$A,$B20,'Base TKU'!$B:$B,\"Total Operação\")/1000000","v":60.580528999999999},{"$f":"SUMIFS('Base TKU'!AA:AA,'Base TKU'!$A:$A,$B20,'Base TKU'!$B:$B,\"Total Operação\")/1000000","v":64.152682999999996},{"$f":"SUMIFS('Base TKU'!AB:AB,'Base TKU'!$A:$A,$B20,'Base TKU'!$B:$B,\"Total Operação\")/1000000","v":51.531522000000002},{"$f":"SUMIFS('Base TKU'!AC:AC,'Base TKU'!$A:$A,$B20,'Base TKU'!$B:$B,\"Total Operação\")/1000000","v":55.288829},null,{"$f":"SUMIFS('Base TKU'!AE:AE,'Base TKU'!$A:$A,$B20,'Base TKU'!$B:$B,\"Total Operação\")/1000000","v":52.730674999999998},{"$f":"SUMIFS('Base TKU'!AF:AF,'Base TKU'!$A:$A,$B20,'Base TKU'!$B:$B,\"Total Operação\")/1000000","v":48.090178999999999},{"$f":"SUMIFS('Base TKU'!AG:AG,'Base TKU'!$A:$A,$B20,'Base TKU'!$B:$B,\"Total Operação\")/1000000","v":56.033644000000002},{"$f":"SUMIFS('Base TKU'!AH:AH,'Base TKU'!$A:$A,$B20,'Base TKU'!$B:$B,\"Total Operação\")/1000000","v":50.322405000000003},{"$f":"SUMIFS('Base TKU'!AI:AI,'Base TKU'!$A:$A,$B20,'Base TKU'!$B:$B,\"Total Operação\")/1000000","v":51.599339000000001},{"$f":"SUMIFS('Base TKU'!AJ:AJ,'Base TKU'!$A:$A,$B20,'Base TKU'!$B:$B,\"Total Operação\")/1000000","v":52.036932},{"$f":"SUMIFS('Base TKU'!AK:AK,'Base TKU'!$A:$A,$B20,'Base TKU'!$B:$B,\"Total Operação\")/1000000","v":49.466149999999999},{"$f":"SUMIFS('Base TKU'!AL:AL,'Base TKU'!$A:$A,$B20,'Base TKU'!$B:$B,\"Total Operação\")/1000000","v":46.488675999999998},{"$f":"SUMIFS('Base TKU'!AM:AM,'Base TKU'!$A:$A,$B20,'Base TKU'!$B:$B,\"Total Operação\")/1000000","v":54.157528999999997},{"$f":"SUMIFS('Base TKU'!AN:AN,'Base TKU'!$A:$A,$B20,'Base TKU'!$B:$B,\"Total Operação\")/1000000","v":61.839779},{"$f":"SUMIFS('Base TKU'!AO:AO,'Base TKU'!$A:$A,$B20,'Base TKU'!$B:$B,\"Total Operação\")/1000000","v":59.668979999999998},{"$f":"SUMIFS('Base TKU'!AP:AP,'Base TKU'!$A:$A,$B20,'Base TKU'!$B:$B,\"Total Operação\")/1000000","v":42.025801999999999},null,{"$f":"SUMIFS('Base TKU'!AR:AR,'Base TKU'!$A:$A,$B20,'Base TKU'!$B:$B,\"Total Operação\")/1000000","v":54.429172000000001},{"$f":"SUMIFS('Base TKU'!AS:AS,'Base TKU'!$A:$A,$B20,'Base TKU'!$B:$B,\"Total Operação\")/1000000","v":51.728222000000002},{"$f":"SUMIFS('Base TKU'!AT:AT,'Base TKU'!$A:$A,$B20,'Base TKU'!$B:$B,\"Total Operação\")/1000000","v":53.895175000000002},{"$f":"SUMIFS('Base TKU'!AU:AU,'Base TKU'!$A:$A,$B20,'Base TKU'!$B:$B,\"Total Operação\")/1000000","v":43.234752999999998},{"$f":"SUMIFS('Base TKU'!AV:AV,'Base TKU'!$A:$A,$B20,'Base TKU'!$B:$B,\"Total Operação\")/1000000","v":52.935913999999997},{"$f":"SUMIFS('Base TKU'!AW:AW,'Base TKU'!$A:$A,$B20,'Base TKU'!$B:$B,\"Total Operação\")/1000000","v":57.029544999999999},{"$f":"SUMIFS('Base TKU'!AX:AX,'Base TKU'!$A:$A,$B20,'Base TKU'!$B:$B,\"Total Operação\")/1000000","v":56.869478000000001},{"$f":"SUMIFS('Base TKU'!AY:AY,'Base TKU'!$A:$A,$B20,'Base TKU'!$B:$B,\"Total Operação\")/1000000","v":62.587448999999999},{"$f":"SUMIFS('Base TKU'!AZ:AZ,'Base TKU'!$A:$A,$B20,'Base TKU'!$B:$B,\"Total Operação\")/1000000","v":56.165497999999999},{"$f":"SUMIFS('Base TKU'!BA:BA,'Base TKU'!$A:$A,$B20,'Base TKU'!$B:$B,\"Total Operação\")/1000000","v":59.440604},{"$f":"SUMIFS('Base TKU'!BB:BB,'Base TKU'!$A:$A,$B20,'Base TKU'!$B:$B,\"Total Operação\")/1000000","v":48.727550999999998},{"$f":"SUMIFS('Base TKU'!BC:BC,'Base TKU'!$A:$A,$B20,'Base TKU'!$B:$B,\"Total Operação\")/1000000","v":47.119295999999999},null,{"$f":"SUMIFS('Base TKU'!BE:BE,'Base TKU'!$A:$A,$B20,'Base TKU'!$B:$B,\"Total Operação\")/1000000","v":52.785445000000003},{"$f":"SUMIFS('Base TKU'!BF:BF,'Base TKU'!$A:$A,$B20,'Base TKU'!$B:$B,\"Total Operação\")/1000000","v":55.624032},{"$f":"SUMIFS('Base TKU'!BG:BG,'Base TKU'!$A:$A,$B20,'Base TKU'!$B:$B,\"Total Operação\")/1000000","v":40.774196000000003},{"$f":"SUMIFS('Base TKU'!BH:BH,'Base TKU'!$A:$A,$B20,'Base TKU'!$B:$B,\"Total Operação\")/1000000","v":52.201680000000003},{"$f":"SUMIFS('Base TKU'!BI:BI,'Base TKU'!$A:$A,$B20,'Base TKU'!$B:$B,\"Total Operação\")/1000000","v":63.436933000000003},{"$f":"SUMIFS('Base TKU'!BJ:BJ,'Base TKU'!$A:$A,$B20,'Base TKU'!$B:$B,\"Total Operação\")/1000000","v":54.593823},{"$f":"SUMIFS('Base TKU'!BK:BK,'Base TKU'!$A:$A,$B20,'Base TKU'!$B:$B,\"Total Operação\")/1000000","v":51.830165999999998},{"$f":"SUMIFS('Base TKU'!BL:BL,'Base TKU'!$A:$A,$B20,'Base TKU'!$B:$B,\"Total Operação\")/1000000","v":58.609205000000003},{"$f":"SUMIFS('Base TKU'!BM:BM,'Base TKU'!$A:$A,$B20,'Base TKU'!$B:$B,\"Total Operação\")/1000000","v":56.657111999999998},{"$f":"SUMIFS('Base TKU'!BN:BN,'Base TKU'!$A:$A,$B20,'Base TKU'!$B:$B,\"Total Operação\")/1000000","v":70.559619999999995},{"$f":"SUMIFS('Base TKU'!BO:BO,'Base TKU'!$A:$A,$B20,'Base TKU'!$B:$B,\"Total Operação\")/1000000","v":61.878512999999998},{"$f":"SUMIFS('Base TKU'!BP:BP,'Base TKU'!$A:$A,$B20,'Base TKU'!$B:$B,\"Total Operação\")/1000000","v":54.786934000000002},null,{"$f":"'Volume TKU Norte'!BQ20+'Volume TKU Sul'!BP20","v":57.909204000000003},{"$f":"'Volume TKU Norte'!BR20+'Volume TKU Sul'!BQ20","v":54.774956000000003},{"$f":"'Volume TKU Norte'!BS20+'Volume TKU Sul'!BR20","v":66.333736000000002},{"$f":"'Volume TKU Norte'!BT20+'Volume TKU Sul'!BS20","v":66.221830999999995},{"$f":"'Volume TKU Norte'!BU20+'Volume TKU Sul'!BT20","v":65.085325999999995},{"$f":"'Volume TKU Norte'!BV20+'Volume TKU Sul'!BU20","v":62.460762000000003},{"$f":"'Volume TKU Norte'!BW20+'Volume TKU Sul'!BV20","v":66.431854999999999},{"$f":"'Volume TKU Norte'!BX20+'Volume TKU Sul'!BW20","v":68.781409999999994},{"$f":"'Volume TKU Norte'!BY20+'Volume TKU Sul'!BX20","v":69.288462999999993},{"$f":"'Volume TKU Norte'!BZ20+'Volume TKU Sul'!BY20","v":65.171104},{"$f":"'Volume TKU Norte'!CA20+'Volume TKU Sul'!BZ20","v":64.980664000000004},{"$f":"'Volume TKU Norte'!CB20+'Volume TKU Sul'!CA20","v":58.487743999999999},null,{"$f":"'Volume TKU Norte'!CD20+'Volume TKU Sul'!CC20","v":58.495223000000003},{"$f":"'Volume TKU Norte'!CE20+'Volume TKU Sul'!CD20","v":61.188867999999999},{"$f":"'Volume TKU Norte'!CF20+'Volume TKU Sul'!CE20","v":62.708154999999998},{"$f":"'Volume TKU Norte'!CG20+'Volume TKU Sul'!CF20","v":57.831187},{"$f":"'Volume TKU Norte'!CH20+'Volume TKU Sul'!CG20","v":66.374943999999999},{"$f":"'Volume TKU Norte'!CI20+'Volume TKU Sul'!CH20","v":0},{"$f":"'Volume TKU Norte'!CJ20+'Volume TKU Sul'!CI20","v":0},{"$f":"'Volume TKU Norte'!CK20+'Volume TKU Sul'!CJ20","v":0},{"$f":"'Volume TKU Norte'!CL20+'Volume TKU Sul'!CK20","v":0},{"$f":"'Volume TKU Norte'!CM20+'Volume TKU Sul'!CL20","v":0},{"$f":"'Volume TKU Norte'!CN20+'Volume TKU Sul'!CM20","v":0},{"$f":"'Volume TKU Norte'!CO20+'Volume TKU Sul'!CN20","v":0}]
[null,"Siderúrgicos e Mineração",null,{"$f":"SUMIFS('Base TKU'!E:E,'Base TKU'!$A:$A,$B21,'Base TKU'!$B:$B,\"Total Operação\")/1000000","v":11.981683},{"$f":"SUMIFS('Base TKU'!F:F,'Base TKU'!$A:$A,$B21,'Base TKU'!$B:$B,\"Total Operação\")/1000000","v":12.98298},{"$f":"SUMIFS('Base TKU'!G:G,'Base TKU'!$A:$A,$B21,'Base TKU'!$B:$B,\"Total Operação\")/1000000","v":12.189249},{"$f":"SUMIFS('Base TKU'!H:H,'Base TKU'!$A:$A,$B21,'Base TKU'!$B:$B,\"Total Operação\")/1000000","v":12.998548},{"$f":"SUMIFS('Base TKU'!I:I,'Base TKU'!$A:$A,$B21,'Base TKU'!$B:$B,\"Total Operação\")/1000000","v":11.963343},{"$f":"SUMIFS('Base TKU'!J:J,'Base TKU'!$A:$A,$B21,'Base TKU'!$B:$B,\"Total Operação\")/1000000","v":12.065405999999999},{"$f":"SUMIFS('Base TKU'!K:K,'Base TKU'!$A:$A,$B21,'Base TKU'!$B:$B,\"Total Operação\")/1000000","v":16.838166999999999},{"$f":"SUMIFS('Base TKU'!L:L,'Base TKU'!$A:$A,$B21,'Base TKU'!$B:$B,\"Total Operação\")/1000000","v":16.863712},{"$f":"SUMIFS('Base TKU'!M:M,'Base TKU'!$A:$A,$B21,'Base TKU'!$B:$B,\"Total Operação\")/1000000","v":13.094033},{"$f":"SUMIFS('Base TKU'!N:N,'Base TKU'!$A:$A,$B21,'Base TKU'!$B:$B,\"Total Operação\")/1000000","v":15.568657},{"$f":"SUMIFS('Base TKU'!O:O,'Base TKU'!$A:$A,$B21,'Base TKU'!$B:$B,\"Total Operação\")/1000000","v":12.042374000000001},{"$f":"SUMIFS('Base TKU'!P:P,'Base TKU'!$A:$A,$B21,'Base TKU'!$B:$B,\"Total Operação\")/1000000","v":11.348100000000001},null,{"$f":"SUMIFS('Base TKU'!R:R,'Base TKU'!$A:$A,$B21,'Base TKU'!$B:$B,\"Total Operação\")/1000000","v":11.604011},{"$f":"SUMIFS('Base TKU'!S:S,'Base TKU'!$A:$A,$B21,'Base TKU'!$B:$B,\"Total Operação\")/1000000","v":13.648709999999999},{"$f":"SUMIFS('Base TKU'!T:T,'Base TKU'!$A:$A,$B21,'Base TKU'!$B:$B,\"Total Operação\")/1000000","v":15.980219},{"$f":"SUMIFS('Base TKU'!U:U,'Base TKU'!$A:$A,$B21,'Base TKU'!$B:$B,\"Total Operação\")/1000000","v":17.622260000000001},{"$f":"SUMIFS('Base TKU'!V:V,'Base TKU'!$A:$A,$B21,'Base TKU'!$B:$B,\"Total Operação\")/1000000","v":21.545950000000001},{"$f":"SUMIFS('Base TKU'!W:W,'Base TKU'!$A:$A,$B21,'Base TKU'!$B:$B,\"Total Operação\")/1000000","v":22.723616},{"$f":"SUMIFS('Base TKU'!X:X,'Base TKU'!$A:$A,$B21,'Base TKU'!$B:$B,\"Total Operação\")/1000000","v":22.212719},{"$f":"SUMIFS('Base TKU'!Y:Y,'Base TKU'!$A:$A,$B21,'Base TKU'!$B:$B,\"Total Operação\")/1000000","v":23.889932999999999},{"$f":"SUMIFS('Base TKU'!Z:Z,'Base TKU'!$A:$A,$B21,'Base TKU'!$B:$B,\"Total Operação\")/1000000","v":23.593302000000001},{"$f":"SUMIFS('Base TKU'!AA:AA,'Base TKU'!$A:$A,$B21,'Base TKU'!$B:$B,\"Total Operação\")/1000000","v":23.063084},{"$f":"SUMIFS('Base TKU'!AB:AB,'Base TKU'!$A:$A,$B21,'Base TKU'!$B:$B,\"Total Operação\")/1000000","v":21.506063999999999},{"$f":"SUMIFS('Base TKU'!AC:AC,'Base TKU'!$A:$A,$B21,'Base TKU'!$B:$B,\"Total Operação\")/1000000","v":20.553889000000002},null,{"$f":"SUMIFS('Base TKU'!AE:AE,'Base TKU'!$A:$A,$B21,'Base TKU'!$B:$B,\"Total Operação\")/1000000","v":21.448964},{"$f":"SUMIFS('Base TKU'!AF:AF,'Base TKU'!$A:$A,$B21,'Base TKU'!$B:$B,\"Total Operação\")/1000000","v":16.945052},{"$f":"SUMIFS('Base TKU'!AG:AG,'Base TKU'!$A:$A,$B21,'Base TKU'!$B:$B,\"Total Operação\")/1000000","v":20.470600999999998},{"$f":"SUMIFS('Base TKU'!AH:AH,'Base TKU'!$A:$A,$B21,'Base TKU'!$B:$B,\"Total Operação\")/1000000","v":21.040122},{"$f":"SUMIFS('Base TKU'!AI:AI,'Base TKU'!$A:$A,$B21,'Base TKU'!$B:$B,\"Total Operação\")/1000000","v":26.387533999999999},{"$f":"SUMIFS('Base TKU'!AJ:AJ,'Base TKU'!$A:$A,$B21,'Base TKU'!$B:$B,\"Total Operação\")/1000000","v":24.203327999999999},{"$f":"SUMIFS('Base TKU'!AK:AK,'Base TKU'!$A:$A,$B21,'Base TKU'!$B:$B,\"Total Operação\")/1000000","v":27.219797},{"$f":"SUMIFS('Base TKU'!AL:AL,'Base TKU'!$A:$A,$B21,'Base TKU'!$B:$B,\"Total Operação\")/1000000","v":26.170072000000001},{"$f":"SUMIFS('Base TKU'!AM:AM,'Base TKU'!$A:$A,$B21,'Base TKU'!$B:$B,\"Total Operação\")/1000000","v":20.432697999999998},{"$f":"SUMIFS('Base TKU'!AN:AN,'Base TKU'!$A:$A,$B21,'Base TKU'!$B:$B,\"Total Operação\")/1000000","v":19.776364000000001},{"$f":"SUMIFS('Base TKU'!AO:AO,'Base TKU'!$A:$A,$B21,'Base TKU'!$B:$B,\"Total Operação\")/1000000","v":20.611857000000001},{"$f":"SUMIFS('Base TKU'!AP:AP,'Base TKU'!$A:$A,$B21,'Base TKU'!$B:$B,\"Total Operação\")/1000000","v":22.459655999999999},null,{"$f":"SUMIFS('Base TKU'!AR:AR,'Base TKU'!$A:$A,$B21,'Base TKU'!$B:$B,\"Total Operação\")/1000000","v":17.056806999999999},{"$f":"SUMIFS('Base TKU'!AS:AS,'Base TKU'!$A:$A,$B21,'Base TKU'!$B:$B,\"Total Operação\")/1000000","v":15.786092999999999},{"$f":"SUMIFS('Base TKU'!AT:AT,'Base TKU'!$A:$A,$B21,'Base TKU'!$B:$B,\"Total Operação\")/1000000","v":11.671239999999999},{"$f":"SUMIFS('Base TKU'!AU:AU,'Base TKU'!$A:$A,$B21,'Base TKU'!$B:$B,\"Total Operação\")/1000000","v":18.287856000000001},{"$f":"SUMIFS('Base TKU'!AV:AV,'Base TKU'!$A:$A,$B21,'Base TKU'!$B:$B,\"Total Operação\")/1000000","v":19.837268000000002},{"$f":"SUMIFS('Base TKU'!AW:AW,'Base TKU'!$A:$A,$B21,'Base TKU'!$B:$B,\"Total Operação\")/1000000","v":25.195105999999999},{"$f":"SUMIFS('Base TKU'!AX:AX,'Base TKU'!$A:$A,$B21,'Base TKU'!$B:$B,\"Total Operação\")/1000000","v":24.060924},{"$f":"SUMIFS('Base TKU'!AY:AY,'Base TKU'!$A:$A,$B21,'Base TKU'!$B:$B,\"Total Operação\")/1000000","v":25.036956},{"$f":"SUMIFS('Base TKU'!AZ:AZ,'Base TKU'!$A:$A,$B21,'Base TKU'!$B:$B,\"Total Operação\")/1000000","v":22.139714999999999},{"$f":"SUMIFS('Base TKU'!BA:BA,'Base TKU'!$A:$A,$B21,'Base TKU'!$B:$B,\"Total Operação\")/1000000","v":24.122623000000001},{"$f":"SUMIFS('Base TKU'!BB:BB,'Base TKU'!$A:$A,$B21,'Base TKU'!$B:$B,\"Total Operação\")/1000000","v":16.098082999999999},{"$f":"SUMIFS('Base TKU'!BC:BC,'Base TKU'!$A:$A,$B21,'Base TKU'!$B:$B,\"Total Operação\")/1000000","v":4.415597},null,{"$f":"SUMIFS('Base TKU'!BE:BE,'Base TKU'!$A:$A,$B21,'Base TKU'!$B:$B,\"Total Operação\")/1000000","v":13.600244999999999},{"$f":"SUMIFS('Base TKU'!BF:BF,'Base TKU'!$A:$A,$B21,'Base TKU'!$B:$B,\"Total Operação\")/1000000","v":10.164129000000001},{"$f":"SUMIFS('Base TKU'!BG:BG,'Base TKU'!$A:$A,$B21,'Base TKU'!$B:$B,\"Total Operação\")/1000000","v":17.197227000000002},{"$f":"SUMIFS('Base TKU'!BH:BH,'Base TKU'!$A:$A,$B21,'Base TKU'!$B:$B,\"Total Operação\")/1000000","v":21.039431},{"$f":"SUMIFS('Base TKU'!BI:BI,'Base TKU'!$A:$A,$B21,'Base TKU'!$B:$B,\"Total Operação\")/1000000","v":10.697236999999999},{"$f":"SUMIFS('Base TKU'!BJ:BJ,'Base TKU'!$A:$A,$B21,'Base TKU'!$B:$B,\"Total Operação\")/1000000","v":11.269447},{"$f":"SUMIFS('Base TKU'!BK:BK,'Base TKU'!$A:$A,$B21,'Base TKU'!$B:$B,\"Total Operação\")/1000000","v":15.664167000000001},{"$f":"SUMIFS('Base TKU'!BL:BL,'Base TKU'!$A:$A,$B21,'Base TKU'!$B:$B,\"Total Operação\")/1000000","v":13.159974999999999},{"$f":"SUMIFS('Base TKU'!BM:BM,'Base TKU'!$A:$A,$B21,'Base TKU'!$B:$B,\"Total Operação\")/1000000","v":13.545102},{"$f":"SUMIFS('Base TKU'!BN:BN,'Base TKU'!$A:$A,$B21,'Base TKU'!$B:$B,\"Total Operação\")/1000000","v":1.2199359999999999},{"$f":"SUMIFS('Base TKU'!BO:BO,'Base TKU'!$A:$A,$B21,'Base TKU'!$B:$B,\"Total Operação\")/1000000","v":4.6880480000000002},{"$f":"SUMIFS('Base TKU'!BP:BP,'Base TKU'!$A:$A,$B21,'Base TKU'!$B:$B,\"Total Operação\")/1000000","v":10.358955},null,{"$f":"'Volume TKU Norte'!BQ21+'Volume TKU Sul'!BP21","v":8.832452},{"$f":"'Volume TKU Norte'!BR21+'Volume TKU Sul'!BQ21","v":9.5641909999999992},{"$f":"'Volume TKU Norte'!BS21+'Volume TKU Sul'!BR21","v":17.948843},{"$f":"'Volume TKU Norte'!BT21+'Volume TKU Sul'!BS21","v":17.095013999999999},{"$f":"'Volume TKU Norte'!BU21+'Volume TKU Sul'!BT21","v":22.573709000000001},{"$f":"'Volume TKU Norte'!BV21+'Volume TKU Sul'!BU21","v":19.096163000000001},{"$f":"'Volume TKU Norte'!BW21+'Volume TKU Sul'!BV21","v":20.272828000000001},{"$f":"'Volume TKU Norte'!BX21+'Volume TKU Sul'!BW21","v":10.595795000000001},{"$f":"'Volume TKU Norte'!BY21+'Volume TKU Sul'!BX21","v":7.4213719999999999},{"$f":"'Volume TKU Norte'!BZ21+'Volume TKU Sul'!BY21","v":15.210140000000001},{"$f":"'Volume TKU Norte'!CA21+'Volume TKU Sul'!BZ21","v":15.585171000000001},{"$f":"'Volume TKU Norte'!CB21+'Volume TKU Sul'!CA21","v":15.095236999999999},null,{"$f":"'Volume TKU Norte'!CD21+'Volume TKU Sul'!CC21","v":14.353353},{"$f":"'Volume TKU Norte'!CE21+'Volume TKU Sul'!CD21","v":6.3924909999999997},{"$f":"'Volume TKU Norte'!CF21+'Volume TKU Sul'!CE21","v":17.454597},{"$f":"'Volume TKU Norte'!CG21+'Volume TKU Sul'!CF21","v":11.070712},{"$f":"'Volume TKU Norte'!CH21+'Volume TKU Sul'!CG21","v":11.962033999999999},{"$f":"'Volume TKU Norte'!CI21+'Volume TKU Sul'!CH21","v":0},{"$f":"'Volume TKU Norte'!CJ21+'Volume TKU Sul'!CI21","v":0},{"$f":"'Volume TKU Norte'!CK21+'Volume TKU Sul'!CJ21","v":0},{"$f":"'Volume TKU Norte'!CL21+'Volume TKU Sul'!CK21","v":0},{"$f":"'Volume TKU Norte'!CM21+'Volume TKU Sul'!CL21","v":0},{"$f":"'Volume TKU Norte'!CN21+'Volume TKU Sul'!CM21","v":0},{"$f":"'Volume TKU Norte'!CO21+'Volume TKU Sul'!CN21","v":0}]

{"sheet":"Volume TKU Norte","index":10,"n_rows":42,"n_cols":93,"rows_kept":42,"cut":false,"hidden":false,"merged":[[3,27,4,27],[3,29,4,29],[3,26,4,26],[3,1,4,1],[3,16,4,16],[3,17,4,17],[3,18,4,18],[3,19,4,19],[3,20,4,20],[3,21,4,21],[3,22,4,22],[3,23,4,23],[3,24,4,24],[3,25,4,25],[3,3,4,3],[3,4,4,4],[3,10,4,10],[3,11,4,11],[3,12,4,12],[3,13,4,13],[3,14,4,14],[3,5,4,5],[3,6,4,6],[3,7,4,7],[3,44,4,44],[3,45,4,45],[3,42,4,42],[3,40,4,40],[3,30,4,30],[3,31,4,31],[3,32,4,32],[3,38,4,38],[3,36,4,36],[3,34,4,34],[3,35,4,35],[3,33,4,33],[3,37,4,37],[3,8,4,8],[3,9,4,9],[3,65,4,65],[3,66,4,66],[3,60,4,60],[3,61,4,61],[3,62,4,62],[3,63,4,63],[3,64,4,64],[3,55,4,55],[3,56,4,56],[3,57,4,57],[3,58,4,58],[3,59,4,59],[3,51,4,51],[3,52,4,52],[3,53,4,53],[3,46,4,46],[3,47,4,47],[3,48,4,48],[3,49,4,49],[3,50,4,50],[3,39,4,39],[3,43,4,43],[3,78,4,78],[3,79,4,79],[3,73,4,73],[3,74,4,74],[3,75,4,75],[3,76,4,76],[3,77,4,77],[3,68,4,68],[3,69,4,69],[3,70,4,70],[3,71,4,71],[3,72,4,72],[24,7,25,7],[24,8,25,8],[24,9,25,9],[24,10,25,10],[24,11,25,11],[24,1,25,1],[24,3,25,3],[24,4,25,4],[24,5,25,5],[24,6,25,6],[24,18,25,18],[24,19,25,19],[24,20,25,20],[24,21,25,21],[24,22,25,22],[24,12,25,12],[24,13,25,13],[24,14,25,14],[24,16,25,16],[24,17,25,17],[24,29,25,29],[24,30,25,30],[24,31,25,31],[24,32,25,32],[24,33,25,33],[24,23,25,23],[24,24,25,24],[24,25,25,25],[24,26,25,26],[24,27,25,27],[24,39,25,39],[24,40,25,40],[24,42,25,42],[24,43,25,43],[24,44,25,44],[24,34,25,34],[24,35,25,35],[24,36,25,36],[24,37,25,37],[24,38,25,38],[24,50,25,50],[24,51,25,51],[24,52,25,52],[24,53,25,53],[24,55,25,55],[24,45,25,45],[24,46,25,46],[24,47,25,47],[24,48,25,48],[24,49,25,49],[24,61,25,61],[24,62,25,62],[24,63,25,63],[24,64,25,64],[24,65,25,65],[24,56,25,56],[24,57,25,57],[24,58,25,58],[24,59,25,59],[24,60,25,60],[24,77,25,77],[24,78,25,78],[24,79,25,79],[24,72,25,72],[24,73,25,73],[24,74,25,74],[24,75,25,75],[24,76,25,76],[24,66,25,66],[24,68,25,68],[24,69,25,69],[24,70,25,70],[24,71,25,71],[3,90,4,90],[3,91,4,91],[3,92,4,92],[24,81,25,81],[24,82,25,82],[24,83,25,83],[24,84,25,84],[24,85,25,85],[24,86,25,86],[24,87,25,87],[24,88,25,88],[24,89,25,89],[24,90,25,90],[24,91,25,91],[24,92,25,92],[3,81,4,81],[3,82,4,82],[3,83,4,83],[3,84,4,84],[3,85,4,85],[3,86,4,86],[3,87,4,87],[3,88,4,88],[3,89,4,89]]}
[]
[null,"Volume TKU RI | Norte"]
[]
[null,null,null,"2016-01-01","2016-02-01","2016-03-01","2016-04-01","2016-05-01","2016-06-01","2016-07-01","2016-08-01","2016-09-01","2016-10-01","2016-11-01","2016-12-01",null,"2017-01-01","2017-02-01","2017-03-01","2017-04-01","2017-05-01","2017-06-01","2017-07-01","2017-08-01","2017-09-01","2017-10-01","2017-11-01","2017-12-01",null,"2018-01-01","2018-02-01","2018-03-01","2018-04-01","2018-05-01","2018-06-01","2018-07-01","2018-08-01","2018-09-01","2018-10-01","2018-11-01","2018-12-01",null,"2019-01-01","2019-02-01","2019-03-01","2019-04-01","2019-05-01","2019-06-01","2019-07-01","2019-08-01","2019-09-01","2019-10-01","2019-11-01","2019-12-01",null,"2020-01-01","2020-02-01","2020-03-01","2020-04-01","2020-05-01","2020-06-01","2020-07-01","2020-08-01","2020-09-01","2020-10-01","2020-11-01","2020-12-01",null,"2021-01-01","2021-02-01","2021-03-01","2021-04-01","2021-05-01","2021-06-01","2021-07-01","2021-08-01","2021-09-01","2021-10-01","2021-11-01","2021-12-01",null,"2022-01-01","2022-02-01","2022-03-01","2022-04-01","2022-05-01","2022-06-01","2022-07-01","2022-08-01","2022-09-01","2022-10-01","2022-11-01","2022-12-01"]
[]
[null,"Transporte Ferro (TKU MM)",null,{"$f":"SUM(D7,D17,D16)","v":2153.2597410000003},{"$f":"SUM(E7,E17,E16)","v":2290.617166},2830.8926889999998,2912.7818650000004,2566.6193739999999,1933.4013459999999,2753.6571640000002,2806.2672159999997,2648.8908249999999,1654.204729,1444.230409,1604.0769079999998,null,1690.3732889999999,2584.2935419999999,3009.7357240000001,2840.6555800000001,2943.3247959999999,2864.6879039999999,3147.1161349999993,3349.9960609999998,3112.0614660000006,3444.5590069999998,3200.1285750000002,3032.5401810000003,0,2087.322682,3069.7362420000004,3470.7769099999996,3296.2378039999999,2854.7567249999997,3366.1068649999997,3870.4532640000002,4043.3095069999995,3866.4661539999997,3480.6124499999996,3949.6267570000005,3684.7206339899994,null,3120.2743340000002,2913.6432100000002,3840.4992560000005,3471.8644850000001,3130.5428929999998,4266.6862169999995,4665.4515289999999,4317.7268060000006,3948.703438,4132.442121,4209.9676259999997,2875.5360449999998,null,2814.419793,4001.24118,2764.8310059999999,4040.1705120000001,4331.1768350000002,4152.1604009999992,4750.059679,4337.3507689999997,4220.2480500000001,4380.91032,4057.7655119999999,4077.6237440000004,null,{"$f":"SUM(BQ7,BQ17,BQ16)","v":2026.076151},4303.6174999999994,4736.9821140000004,4581.6942910000007,4745.6318409999994,4341.1215350000002,4937.0636049999994,4139.0592900000001,3430.124249,3886.1437140000003,4319.0610620000007,4366.5922460000002,null,{"$f":"SUM(CD7,CD17,CD16)","v":4334.7224060000008},5209.228521,5518.7613189999993,5113.5974070000002,5302.2181080000009,null,null,0,0,0,0,0]
[null,"Produtos Agrícolas",null,{"$f":"SUM(D8:D15)","v":1895.6128650000001},{"$f":"SUM(E8:E15)","v":2030.7339099999999},2548.8154669999999,2646.3661580000003,2282.2718319999999,1644.342169,2464.0009909999999,2513.9683169999998,2344.033199,1349.895853,1179.3272919999999,1340.5976609999998,null,1386.617534,2320.6683210000001,2734.2613999999999,2578.1866230000001,2640.1428129999999,2527.191699,2805.2040259999994,2991.072866,2794.4698780000003,3048.8224869999999,2855.4784100000002,2686.0054720000003,null,1790.1399739999999,2641.3770780000004,3018.4941289999997,2905.66005,2464.1723969999998,2891.4166769999997,3351.5748130000002,3524.1956939999995,3373.6437779999997,3001.0604079999998,3482.2305630000005,3213.4202609899994,null,2654.061897,2514.2137149999999,3353.4530600000003,3007.9293259999999,2648.7715370000001,3797.5421349999997,4147.181799,3796.2378060000005,3422.7870830000002,3597.4223739999998,3683.1564020000001,2370.3783119999998,null,2310.3390509999999,3496.572357,2284.4553980000001,3679.4593380000001,3840.7134749999996,3622.5879119999995,4175.9010779999999,3769.7763519999999,3598.045161,3735.3033970000001,3409.8297439999997,3513.2462210000003,null,{"$f":"SUM(BQ8:BQ15)","v":1463.018513},3745.6380429999999,4160.5433380000004,3963.9989990000004,4113.1144770000001,3686.0285719999997,4250.9786619999995,3393.441906,2736.190736,3181.0016480000004,3678.9714340000005,3687.0346450000002,null,{"$f":"SUM(CD8:CD15)","v":3674.1279160000004},4498.2170120000001,4756.6581179999994,4402.0620370000006,4543.4167180000004,0,0,0,0,0,0,0]
[null,"Soja",null,{"$f":"SUMIFS('Base TKU'!E:E,'Base TKU'!$A:$A,$B8,'Base TKU'!$B:$B,\"NORTE\")/1000000","v":120.222678},{"$f":"SUMIFS('Base TKU'!F:F,'Base TKU'!$A:$A,$B8,'Base TKU'!$B:$B,\"NORTE\")/1000000","v":1448.88618},{"$f":"SUMIFS('Base TKU'!G:G,'Base TKU'!$A:$A,$B8,'Base TKU'!$B:$B,\"NORTE\")/1000000","v":1997.122848},{"$f":"SUMIFS('Base TKU'!H:H,'Base TKU'!$A:$A,$B8,'Base TKU'!$B:$B,\"NORTE\")/1000000","v":2066.705168},{"$f":"SUMIFS('Base TKU'!I:I,'Base TKU'!$A:$A,$B8,'Base TKU'!$B:$B,\"NORTE\")/1000000","v":1550.4311319999999},{"$f":"SUMIFS('Base TKU'!J:J,'Base TKU'!$A:$A,$B8,'Base TKU'!$B:$B,\"NORTE\")/1000000","v":513.51546599999995},{"$f":"SUMIFS('Base TKU'!K:K,'Base TKU'!$A:$A,$B8,'Base TKU'!$B:$B,\"NORTE\")/1000000","v":44.264498000000003},{"$f":"SUMIFS('Base TKU'!L:L,'Base TKU'!$A:$A,$B8,'Base TKU'!$B:$B,\"NORTE\")/1000000","v":0},{"$f":"SUMIFS('Base TKU'!M:M,'Base TKU'!$A:$A,$B8,'Base TKU'!$B:$B,\"NORTE\")/1000000","v":0},{"$f":"SUMIFS('Base TKU'!N:N,'Base TKU'!$A:$A,$B8,'Base TKU'!$B:$B,\"NORTE\")/1000000","v":0},{"$f":"SUMIFS('Base TKU'!O:O,'Base TKU'!$A:$A,$B8,'Base TKU'!$B:$B,\"NORTE\")/1000000","v":22.267163},{"$f":"SUMIFS('Base TKU'!P:P,'Base TKU'!$A:$A,$B8,'Base TKU'!$B:$B,\"NORTE\")/1000000","v":120.153471},null,{"$f":"SUMIFS('Base TKU'!R:R,'Base TKU'!$A:$A,$B8,'Base TKU'!$B:$B,\"NORTE\")/1000000","v":736.99816799999996},{"$f":"SUMIFS('Base TKU'!S:S,'Base TKU'!$A:$A,$B8,'Base TKU'!$B:$B,\"NORTE\")/1000000","v":1866.6842819999999},{"$f":"SUMIFS('Base TKU'!T:T,'Base TKU'!$A:$A,$B8,'Base TKU'!$B:$B,\"NORTE\")/1000000","v":2207.9027209999999},{"$f":"SUMIFS('Base TKU'!U:U,'Base TKU'!$A:$A,$B8,'Base TKU'!$B:$B,\"NORTE\")/1000000","v":1937.3872249999999},{"$f":"SUMIFS('Base TKU'!V:V,'Base TKU'!$A:$A,$B8,'Base TKU'!$B:$B,\"NORTE\")/1000000","v":1866.7562680000001},{"$f":"SUMIFS('Base TKU'!W:W,'Base TKU'!$A:$A,$B8,'Base TKU'!$B:$B,\"NORTE\")/1000000","v":726.641436},{"$f":"SUMIFS('Base TKU'!X:X,'Base TKU'!$A:$A,$B8,'Base TKU'!$B:$B,\"NORTE\")/1000000","v":156.56585899999999},{"$f":"SUMIFS('Base TKU'!Y:Y,'Base TKU'!$A:$A,$B8,'Base TKU'!$B:$B,\"NORTE\")/1000000","v":121.00682500000001},{"$f":"SUMIFS('Base TKU'!Z:Z,'Base TKU'!$A:$A,$B8,'Base TKU'!$B:$B,\"NORTE\")/1000000","v":0},{"$f":"SUMIFS('Base TKU'!AA:AA,'Base TKU'!$A:$A,$B8,'Base TKU'!$B:$B,\"NORTE\")/1000000","v":0},{"$f":"SUMIFS('Base TKU'!AB:AB,'Base TKU'!$A:$A,$B8,'Base TKU'!$B:$B,\"NORTE\")/1000000","v":0},{"$f":"SUMIFS('Base TKU'!AC:AC,'Base TKU'!$A:$A,$B8,'Base TKU'!$B:$B,\"NORTE\")/1000000","v":0},null,{"$f":"SUMIFS('Base TKU'!AE:AE,'Base TKU'!$A:$A,$B8,'Base TKU'!$B:$B,\"NORTE\")/1000000","v":694.83746799999994},{"$f":"SUMIFS('Base TKU'!AF:AF,'Base TKU'!$A:$A,$B8,'Base TKU'!$B:$B,\"NORTE\")/1000000","v":1964.1760220000001},{"$f":"SUMIFS('Base TKU'!AG:AG,'Base TKU'!$A:$A,$B8,'Base TKU'!$B:$B,\"NORTE\")/1000000","v":2375.602179},{"$f":"SUMIFS('Base TKU'!AH:AH,'Base TKU'!$A:$A,$B8,'Base TKU'!$B:$B,\"NORTE\")/1000000","v":2240.421112},{"$f":"SUMIFS('Base TKU'!AI:AI,'Base TKU'!$A:$A,$B8,'Base TKU'!$B:$B,\"NORTE\")/1000000","v":1693.7376409999999},{"$f":"SUMIFS('Base TKU'!AJ:AJ,'Base TKU'!$A:$A,$B8,'Base TKU'!$B:$B,\"NORTE\")/1000000","v":1727.7406129999999},{"$f":"SUMIFS('Base TKU'!AK:AK,'Base TKU'!$A:$A,$B8,'Base TKU'!$B:$B,\"NORTE\")/1000000","v":259.04943500000002},{"$f":"SUMIFS('Base TKU'!AL:AL,'Base TKU'!$A:$A,$B8,'Base TKU'!$B:$B,\"NORTE\")/1000000","v":69.389781999999997},{"$f":"SUMIFS('Base TKU'!AM:AM,'Base TKU'!$A:$A,$B8,'Base TKU'!$B:$B,\"NORTE\")/1000000","v":20.492066000000001},{"$f":"SUMIFS('Base TKU'!AN:AN,'Base TKU'!$A:$A,$B8,'Base TKU'!$B:$B,\"NORTE\")/1000000","v":17.93694},{"$f":"SUMIFS('Base TKU'!AO:AO,'Base TKU'!$A:$A,$B8,'Base TKU'!$B:$B,\"NORTE\")/1000000","v":25.441582},{"$f":"SUMIFS('Base TKU'!AP:AP,'Base TKU'!$A:$A,$B8,'Base TKU'!$B:$B,\"NORTE\")/1000000","v":0},null,{"$f":"SUMIFS('Base TKU'!AR:AR,'Base TKU'!$A:$A,$B8,'Base TKU'!$B:$B,\"NORTE\")/1000000","v":1619.3273810000001},{"$f":"SUMIFS('Base TKU'!AS:AS,'Base TKU'!$A:$A,$B8,'Base TKU'!$B:$B,\"NORTE\")/1000000","v":1925.7506040000001},{"$f":"SUMIFS('Base TKU'!AT:AT,'Base TKU'!$A:$A,$B8,'Base TKU'!$B:$B,\"NORTE\")/1000000","v":2504.528491},{"$f":"SUMIFS('Base TKU'!AU:AU,'Base TKU'!$A:$A,$B8,'Base TKU'!$B:$B,\"NORTE\")/1000000","v":2071.9616820000001},{"$f":"SUMIFS('Base TKU'!AV:AV,'Base TKU'!$A:$A,$B8,'Base TKU'!$B:$B,\"NORTE\")/1000000","v":1560.8728940000001},{"$f":"SUMIFS('Base TKU'!AW:AW,'Base TKU'!$A:$A,$B8,'Base TKU'!$B:$B,\"NORTE\")/1000000","v":448.37685099999999},{"$f":"SUMIFS('Base TKU'!AX:AX,'Base TKU'!$A:$A,$B8,'Base TKU'!$B:$B,\"NORTE\")/1000000","v":157.90087399999999},{"$f":"SUMIFS('Base TKU'!AY:AY,'Base TKU'!$A:$A,$B8,'Base TKU'!$B:$B,\"NORTE\")/1000000","v":149.31093200000001},{"$f":"SUMIFS('Base TKU'!AZ:AZ,'Base TKU'!$A:$A,$B8,'Base TKU'!$B:$B,\"NORTE\")/1000000","v":121.168504},{"$f":"SUMIFS('Base TKU'!BA:BA,'Base TKU'!$A:$A,$B8,'Base TKU'!$B:$B,\"NORTE\")/1000000","v":262.36950300000001},{"$f":"SUMIFS('Base TKU'!BB:BB,'Base TKU'!$A:$A,$B8,'Base TKU'!$B:$B,\"NORTE\")/1000000","v":434.61930100000001},{"$f":"SUMIFS('Base TKU'!BC:BC,'Base TKU'!$A:$A,$B8,'Base TKU'!$B:$B,\"NORTE\")/1000000","v":72.888115999999997},null,{"$f":"SUMIFS('Base TKU'!BE:BE,'Base TKU'!$A:$A,$B8,'Base TKU'!$B:$B,\"NORTE\")/1000000","v":1472.7739730000001},{"$f":"SUMIFS('Base TKU'!BF:BF,'Base TKU'!$A:$A,$B8,'Base TKU'!$B:$B,\"NORTE\")/1000000","v":2608.6007289999998},{"$f":"SUMIFS('Base TKU'!BG:BG,'Base TKU'!$A:$A,$B8,'Base TKU'!$B:$B,\"NORTE\")/1000000","v":1592.4453189999999},{"$f":"SUMIFS('Base TKU'!BH:BH,'Base TKU'!$A:$A,$B8,'Base TKU'!$B:$B,\"NORTE\")/1000000","v":2621.7298230000001},{"$f":"SUMIFS('Base TKU'!BI:BI,'Base TKU'!$A:$A,$B8,'Base TKU'!$B:$B,\"NORTE\")/1000000","v":2686.5821769999998},{"$f":"SUMIFS('Base TKU'!BJ:BJ,'Base TKU'!$A:$A,$B8,'Base TKU'!$B:$B,\"NORTE\")/1000000","v":1073.3422129999999},{"$f":"SUMIFS('Base TKU'!BK:BK,'Base TKU'!$A:$A,$B8,'Base TKU'!$B:$B,\"NORTE\")/1000000","v":362.05814900000001},{"$f":"SUMIFS('Base TKU'!BL:BL,'Base TKU'!$A:$A,$B8,'Base TKU'!$B:$B,\"NORTE\")/1000000","v":72.098883000000001},{"$f":"SUMIFS('Base TKU'!BM:BM,'Base TKU'!$A:$A,$B8,'Base TKU'!$B:$B,\"NORTE\")/1000000","v":77.838616000000002},{"$f":"SUMIFS('Base TKU'!BN:BN,'Base TKU'!$A:$A,$B8,'Base TKU'!$B:$B,\"NORTE\")/1000000","v":0},{"$f":"SUMIFS('Base TKU'!BO:BO,'Base TKU'!$A:$A,$B8,'Base TKU'!$B:$B,\"NORTE\")/1000000","v":0},{"$f":"SUMIFS('Base TKU'!BP:BP,'Base TKU'!$A:$A,$B8,'Base TKU'!$B:$B,\"NORTE\")/1000000","v":0},null,{"$f":"SUMIFS('Base TKU'!BR:BR,'Base TKU'!$A:$A,$B8,'Base TKU'!$B:$B,\"NORTE\")/1000000","v":322.16367200000002},{"$f":"SUMIFS('Base TKU'!BS:BS,'Base TKU'!$A:$A,$B8,'Base TKU'!$B:$B,\"NORTE\")/1000000","v":2775.015668},{"$f":"SUMIFS('Base TKU'!BT:BT,'Base TKU'!$A:$A,$B8,'Base TKU'!$B:$B,\"NORTE\")/1000000","v":3227.2043079999999},{"$f":"SUMIFS('Base TKU'!BU:BU,'Base TKU'!$A:$A,$B8,'Base TKU'!$B:$B,\"NORTE\")/1000000","v":2882.1276910000001},{"$f":"SUMIFS('Base TKU'!BV:BV,'Base TKU'!$A:$A,$B8,'Base TKU'!$B:$B,\"NORTE\")/1000000","v":2890.0633210000001},{"$f":"SUMIFS('Base TKU'!BW:BW,'Base TKU'!$A:$A,$B8,'Base TKU'!$B:$B,\"NORTE\")/1000000","v":1899.8511189999999},{"$f":"SUMIFS('Base TKU'!BX:BX,'Base TKU'!$A:$A,$B8,'Base TKU'!$B:$B,\"NORTE\")/1000000","v":63.713625999999998},{"$f":"SUMIFS('Base TKU'!BY:BY,'Base TKU'!$A:$A,$B8,'Base TKU'!$B:$B,\"NORTE\")/1000000","v":76.159352999999996},{"$f":"SUMIFS('Base TKU'!BZ:BZ,'Base TKU'!$A:$A,$B8,'Base TKU'!$B:$B,\"NORTE\")/1000000","v":147.90524500000001},{"$f":"SUMIFS('Base TKU'!CA:CA,'Base TKU'!$A:$A,$B8,'Base TKU'!$B:$B,\"NORTE\")/1000000","v":318.39351499999998},{"$f":"SUMIFS('Base TKU'!CB:CB,'Base TKU'!$A:$A,$B8,'Base TKU'!$B:$B,\"NORTE\")/1000000","v":592.16409899999996},{"$f":"SUMIFS('Base TKU'!CC:CC,'Base TKU'!$A:$A,$B8,'Base TKU'!$B:$B,\"NORTE\")/1000000","v":262.52390000000003},null,{"$f":"SUMIFS('Base TKU'!CE:CE,'Base TKU'!$A:$A,$B8,'Base TKU'!$B:$B,\"NORTE\")/1000000","v":1746.149042},{"$f":"SUMIFS('Base TKU'!CF:CF,'Base TKU'!$A:$A,$B8,'Base TKU'!$B:$B,\"NORTE\")/1000000","v":3349.3983109999999},{"$f":"SUMIFS('Base TKU'!CG:CG,'Base TKU'!$A:$A,$B8,'Base TKU'!$B:$B,\"NORTE\")/1000000","v":3485.3568319999999},{"$f":"SUMIFS('Base TKU'!CH:CH,'Base TKU'!$A:$A,$B8,'Base TKU'!$B:$B,\"NORTE\")/1000000","v":3103.5758850000002},{"$f":"SUMIFS('Base TKU'!CI:CI,'Base TKU'!$A:$A,$B8,'Base TKU'!$B:$B,\"NORTE\")/1000000","v":3058.0843759999998},{"$f":"SUMIFS('Base TKU'!CJ:CJ,'Base TKU'!$A:$A,$B8,'Base TKU'!$B:$B,\"NORTE\")/1000000","v":0},{"$f":"SUMIFS('Base TKU'!CK:CK,'Base TKU'!$A:$A,$B8,'Base TKU'!$B:$B,\"NORTE\")/1000000","v":0},{"$f":"SUMIFS('Base TKU'!CL:CL,'Base TKU'!$A:$A,$B8,'Base TKU'!$B:$B,\"NORTE\")/1000000","v":0},{"$f":"SUMIFS('Base TKU'!CM:CM,'Base TKU'!$A:$A,$B8,'Base TKU'!$B:$B,\"NORTE\")/1000000","v":0},{"$f":"SUMIFS('Base TKU'!CN:CN,'Base TKU'!$A:$A,$B8,'Base TKU'!$B:$B,\"NORTE\")/1000000","v":0},{"$f":"SUMIFS('Base TKU'!CO:CO,'Base TKU'!$A:$A,$B8,'Base TKU'!$B:$B,\"NORTE\")/1000000","v":0},{"$f":"SUMIFS('Base TKU'!CP:CP,'Base TKU'!$A:$A,$B8,'Base TKU'!$B:$B,\"NORTE\")/1000000","v":0}]
[null,"Farelo de Soja",null,{"$f":"SUMIFS('Base TKU'!E:E,'Base TKU'!$A:$A,$B9,'Base TKU'!$B:$B,\"NORTE\")/1000000","v":193.67837700000001},{"$f":"SUMIFS('Base TKU'!F:F,'Base TKU'!$A:$A,$B9,'Base TKU'!$B:$B,\"NORTE\")/1000000","v":367.78302000000002},{"$f":"SUMIFS('Base TKU'!G:G,'Base TKU'!$A:$A,$B9,'Base TKU'!$B:$B,\"NORTE\")/1000000","v":448.91655200000002},{"$f":"SUMIFS('Base TKU'!H:H,'Base TKU'!$A:$A,$B9,'Base TKU'!$B:$B,\"NORTE\")/1000000","v":492.66715499999998},{"$f":"SUMIFS('Base TKU'!I:I,'Base TKU'!$A:$A,$B9,'Base TKU'!$B:$B,\"NORTE\")/1000000","v":489.18813399999999},{"$f":"SUMIFS('Base TKU'!J:J,'Base TKU'!$A:$A,$B9,'Base TKU'!$B:$B,\"NORTE\")/1000000","v":430.94542300000001},{"$f":"SUMIFS('Base TKU'!K:K,'Base TKU'!$A:$A,$B9,'Base TKU'!$B:$B,\"NORTE\")/1000000","v":318.436351},{"$f":"SUMIFS('Base TKU'!L:L,'Base TKU'!$A:$A,$B9,'Base TKU'!$B:$B,\"NORTE\")/1000000","v":287.09571599999998},{"$f":"SUMIFS('Base TKU'!M:M,'Base TKU'!$A:$A,$B9,'Base TKU'!$B:$B,\"NORTE\")/1000000","v":288.84446700000001},{"$f":"SUMIFS('Base TKU'!N:N,'Base TKU'!$A:$A,$B9,'Base TKU'!$B:$B,\"NORTE\")/1000000","v":336.43077199999999},{"$f":"SUMIFS('Base TKU'!O:O,'Base TKU'!$A:$A,$B9,'Base TKU'!$B:$B,\"NORTE\")/1000000","v":393.09178400000002},{"$f":"SUMIFS('Base TKU'!P:P,'Base TKU'!$A:$A,$B9,'Base TKU'!$B:$B,\"NORTE\")/1000000","v":375.92939699999999},null,{"$f":"SUMIFS('Base TKU'!R:R,'Base TKU'!$A:$A,$B9,'Base TKU'!$B:$B,\"NORTE\")/1000000","v":376.93612200000001},{"$f":"SUMIFS('Base TKU'!S:S,'Base TKU'!$A:$A,$B9,'Base TKU'!$B:$B,\"NORTE\")/1000000","v":383.87628000000001},{"$f":"SUMIFS('Base TKU'!T:T,'Base TKU'!$A:$A,$B9,'Base TKU'!$B:$B,\"NORTE\")/1000000","v":484.93361399999998},{"$f":"SUMIFS('Base TKU'!U:U,'Base TKU'!$A:$A,$B9,'Base TKU'!$B:$B,\"NORTE\")/1000000","v":552.17882899999995},{"$f":"SUMIFS('Base TKU'!V:V,'Base TKU'!$A:$A,$B9,'Base TKU'!$B:$B,\"NORTE\")/1000000","v":485.31778300000002},{"$f":"SUMIFS('Base TKU'!W:W,'Base TKU'!$A:$A,$B9,'Base TKU'!$B:$B,\"NORTE\")/1000000","v":407.73084899999998},{"$f":"SUMIFS('Base TKU'!X:X,'Base TKU'!$A:$A,$B9,'Base TKU'!$B:$B,\"NORTE\")/1000000","v":487.18129499999998},{"$f":"SUMIFS('Base TKU'!Y:Y,'Base TKU'!$A:$A,$B9,'Base TKU'!$B:$B,\"NORTE\")/1000000","v":403.70753999999999},{"$f":"SUMIFS('Base TKU'!Z:Z,'Base TKU'!$A:$A,$B9,'Base TKU'!$B:$B,\"NORTE\")/1000000","v":408.60479099999998},{"$f":"SUMIFS('Base TKU'!AA:AA,'Base TKU'!$A:$A,$B9,'Base TKU'!$B:$B,\"NORTE\")/1000000","v":506.95539500000001},{"$f":"SUMIFS('Base TKU'!AB:AB,'Base TKU'!$A:$A,$B9,'Base TKU'!$B:$B,\"NORTE\")/1000000","v":479.734531},{"$f":"SUMIFS('Base TKU'!AC:AC,'Base TKU'!$A:$A,$B9,'Base TKU'!$B:$B,\"NORTE\")/1000000","v":501.41182099999997},null,{"$f":"SUMIFS('Base TKU'!AE:AE,'Base TKU'!$A:$A,$B9,'Base TKU'!$B:$B,\"NORTE\")/1000000","v":411.59783399999998},{"$f":"SUMIFS('Base TKU'!AF:AF,'Base TKU'!$A:$A,$B9,'Base TKU'!$B:$B,\"NORTE\")/1000000","v":487.85880200000003},{"$f":"SUMIFS('Base TKU'!AG:AG,'Base TKU'!$A:$A,$B9,'Base TKU'!$B:$B,\"NORTE\")/1000000","v":541.37876900000003},{"$f":"SUMIFS('Base TKU'!AH:AH,'Base TKU'!$A:$A,$B9,'Base TKU'!$B:$B,\"NORTE\")/1000000","v":587.36857999999995},{"$f":"SUMIFS('Base TKU'!AI:AI,'Base TKU'!$A:$A,$B9,'Base TKU'!$B:$B,\"NORTE\")/1000000","v":448.93208499999997},{"$f":"SUMIFS('Base TKU'!AJ:AJ,'Base TKU'!$A:$A,$B9,'Base TKU'!$B:$B,\"NORTE\")/1000000","v":535.74023799999998},{"$f":"SUMIFS('Base TKU'!AK:AK,'Base TKU'!$A:$A,$B9,'Base TKU'!$B:$B,\"NORTE\")/1000000","v":454.51641499999999},{"$f":"SUMIFS('Base TKU'!AL:AL,'Base TKU'!$A:$A,$B9,'Base TKU'!$B:$B,\"NORTE\")/1000000","v":440.809483},{"$f":"SUMIFS('Base TKU'!AM:AM,'Base TKU'!$A:$A,$B9,'Base TKU'!$B:$B,\"NORTE\")/1000000","v":483.76709099999999},{"$f":"SUMIFS('Base TKU'!AN:AN,'Base TKU'!$A:$A,$B9,'Base TKU'!$B:$B,\"NORTE\")/1000000","v":441.058649},{"$f":"SUMIFS('Base TKU'!AO:AO,'Base TKU'!$A:$A,$B9,'Base TKU'!$B:$B,\"NORTE\")/1000000","v":462.54900600000002},{"$f":"SUMIFS('Base TKU'!AP:AP,'Base TKU'!$A:$A,$B9,'Base TKU'!$B:$B,\"NORTE\")/1000000","v":547.27042499000004},null,{"$f":"SUMIFS('Base TKU'!AR:AR,'Base TKU'!$A:$A,$B9,'Base TKU'!$B:$B,\"NORTE\")/1000000","v":423.33864199999999},{"$f":"SUMIFS('Base TKU'!AS:AS,'Base TKU'!$A:$A,$B9,'Base TKU'!$B:$B,\"NORTE\")/1000000","v":410.19902200000001},{"$f":"SUMIFS('Base TKU'!AT:AT,'Base TKU'!$A:$A,$B9,'Base TKU'!$B:$B,\"NORTE\")/1000000","v":570.30151499999999},{"$f":"SUMIFS('Base TKU'!AU:AU,'Base TKU'!$A:$A,$B9,'Base TKU'!$B:$B,\"NORTE\")/1000000","v":578.44816500000002},{"$f":"SUMIFS('Base TKU'!AV:AV,'Base TKU'!$A:$A,$B9,'Base TKU'!$B:$B,\"NORTE\")/1000000","v":529.77073700000005},{"$f":"SUMIFS('Base TKU'!AW:AW,'Base TKU'!$A:$A,$B9,'Base TKU'!$B:$B,\"NORTE\")/1000000","v":548.13636899999995},{"$f":"SUMIFS('Base TKU'!AX:AX,'Base TKU'!$A:$A,$B9,'Base TKU'!$B:$B,\"NORTE\")/1000000","v":520.45323299999995},{"$f":"SUMIFS('Base TKU'!AY:AY,'Base TKU'!$A:$A,$B9,'Base TKU'!$B:$B,\"NORTE\")/1000000","v":445.08103299999999},{"$f":"SUMIFS('Base TKU'!AZ:AZ,'Base TKU'!$A:$A,$B9,'Base TKU'!$B:$B,\"NORTE\")/1000000","v":474.59848199999999},{"$f":"SUMIFS('Base TKU'!BA:BA,'Base TKU'!$A:$A,$B9,'Base TKU'!$B:$B,\"NORTE\")/1000000","v":510.82764300000002},{"$f":"SUMIFS('Base TKU'!BB:BB,'Base TKU'!$A:$A,$B9,'Base TKU'!$B:$B,\"NORTE\")/1000000","v":590.55514000000005},{"$f":"SUMIFS('Base TKU'!BC:BC,'Base TKU'!$A:$A,$B9,'Base TKU'!$B:$B,\"NORTE\")/1000000","v":543.42499999999995},null,{"$f":"SUMIFS('Base TKU'!BE:BE,'Base TKU'!$A:$A,$B9,'Base TKU'!$B:$B,\"NORTE\")/1000000","v":363.276025},{"$f":"SUMIFS('Base TKU'!BF:BF,'Base TKU'!$A:$A,$B9,'Base TKU'!$B:$B,\"NORTE\")/1000000","v":509.02979099999999},{"$f":"SUMIFS('Base TKU'!BG:BG,'Base TKU'!$A:$A,$B9,'Base TKU'!$B:$B,\"NORTE\")/1000000","v":486.27729799999997},{"$f":"SUMIFS('Base TKU'!BH:BH,'Base TKU'!$A:$A,$B9,'Base TKU'!$B:$B,\"NORTE\")/1000000","v":631.97957799999995},{"$f":"SUMIFS('Base TKU'!BI:BI,'Base TKU'!$A:$A,$B9,'Base TKU'!$B:$B,\"NORTE\")/1000000","v":560.63737400000002},{"$f":"SUMIFS('Base TKU'!BJ:BJ,'Base TKU'!$A:$A,$B9,'Base TKU'!$B:$B,\"NORTE\")/1000000","v":593.68731200000002},{"$f":"SUMIFS('Base TKU'!BK:BK,'Base TKU'!$A:$A,$B9,'Base TKU'!$B:$B,\"NORTE\")/1000000","v":634.41839900000002},{"$f":"SUMIFS('Base TKU'!BL:BL,'Base TKU'!$A:$A,$B9,'Base TKU'!$B:$B,\"NORTE\")/1000000","v":648.87883999999997},{"$f":"SUMIFS('Base TKU'!BM:BM,'Base TKU'!$A:$A,$B9,'Base TKU'!$B:$B,\"NORTE\")/1000000","v":589.67825100000005},{"$f":"SUMIFS('Base TKU'!BN:BN,'Base TKU'!$A:$A,$B9,'Base TKU'!$B:$B,\"NORTE\")/1000000","v":650.993694},{"$f":"SUMIFS('Base TKU'!BO:BO,'Base TKU'!$A:$A,$B9,'Base TKU'!$B:$B,\"NORTE\")/1000000","v":569.98105999999996},{"$f":"SUMIFS('Base TKU'!BP:BP,'Base TKU'!$A:$A,$B9,'Base TKU'!$B:$B,\"NORTE\")/1000000","v":647.32175700000005},null,{"$f":"SUMIFS('Base TKU'!BR:BR,'Base TKU'!$A:$A,$B9,'Base TKU'!$B:$B,\"NORTE\")/1000000","v":420.956546},{"$f":"SUMIFS('Base TKU'!BS:BS,'Base TKU'!$A:$A,$B9,'Base TKU'!$B:$B,\"NORTE\")/1000000","v":585.14380900000003},{"$f":"SUMIFS('Base TKU'!BT:BT,'Base TKU'!$A:$A,$B9,'Base TKU'!$B:$B,\"NORTE\")/1000000","v":646.23433399999999},{"$f":"SUMIFS('Base TKU'!BU:BU,'Base TKU'!$A:$A,$B9,'Base TKU'!$B:$B,\"NORTE\")/1000000","v":714.94617900000003},{"$f":"SUMIFS('Base TKU'!BV:BV,'Base TKU'!$A:$A,$B9,'Base TKU'!$B:$B,\"NORTE\")/1000000","v":681.84155599999997},{"$f":"SUMIFS('Base TKU'!BW:BW,'Base TKU'!$A:$A,$B9,'Base TKU'!$B:$B,\"NORTE\")/1000000","v":749.918903},{"$f":"SUMIFS('Base TKU'!BX:BX,'Base TKU'!$A:$A,$B9,'Base TKU'!$B:$B,\"NORTE\")/1000000","v":776.80190900000002},{"$f":"SUMIFS('Base TKU'!BY:BY,'Base TKU'!$A:$A,$B9,'Base TKU'!$B:$B,\"NORTE\")/1000000","v":668.29266700000005},{"$f":"SUMIFS('Base TKU'!BZ:BZ,'Base TKU'!$A:$A,$B9,'Base TKU'!$B:$B,\"NORTE\")/1000000","v":606.38820799999996},{"$f":"SUMIFS('Base TKU'!CA:CA,'Base TKU'!$A:$A,$B9,'Base TKU'!$B:$B,\"NORTE\")/1000000","v":504.97827000000001},{"$f":"SUMIFS('Base TKU'!CB:CB,'Base TKU'!$A:$A,$B9,'Base TKU'!$B:$B,\"NORTE\")/1000000","v":709.67113300000005},{"$f":"SUMIFS('Base TKU'!CC:CC,'Base TKU'!$A:$A,$B9,'Base TKU'!$B:$B,\"NORTE\")/1000000","v":712.10637299999996},null,{"$f":"SUMIFS('Base TKU'!CE:CE,'Base TKU'!$A:$A,$B9,'Base TKU'!$B:$B,\"NORTE\")/1000000","v":616.91170399999999},{"$f":"SUMIFS('Base TKU'!CF:CF,'Base TKU'!$A:$A,$B9,'Base TKU'!$B:$B,\"NORTE\")/1000000","v":681.60546199999999},{"$f":"SUMIFS('Base TKU'!CG:CG,'Base TKU'!$A:$A,$B9,'Base TKU'!$B:$B,\"NORTE\")/1000000","v":842.747164},{"$f":"SUMIFS('Base TKU'!CH:CH,'Base TKU'!$A:$A,$B9,'Base TKU'!$B:$B,\"NORTE\")/1000000","v":888.10849399999995},{"$f":"SUMIFS('Base TKU'!CI:CI,'Base TKU'!$A:$A,$B9,'Base TKU'!$B:$B,\"NORTE\")/1000000","v":818.31585500000006},{"$f":"SUMIFS('Base TKU'!CJ:CJ,'Base TKU'!$A:$A,$B9,'Base TKU'!$B:$B,\"NORTE\")/1000000","v":0},{"$f":"SUMIFS('Base TKU'!CK:CK,'Base TKU'!$A:$A,$B9,'Base TKU'!$B:$B,\"NORTE\")/1000000","v":0},{"$f":"SUMIFS('Base TKU'!CL:CL,'Base TKU'!$A:$A,$B9,'Base TKU'!$B:$B,\"NORTE\")/1000000","v":0},{"$f":"SUMIFS('Base TKU'!CM:CM,'Base TKU'!$A:$A,$B9,'Base TKU'!$B:$B,\"NORTE\")/1000000","v":0},{"$f":"SUMIFS('Base TKU'!CN:CN,'Base TKU'!$A:$A,$B9,'Base TKU'!$B:$B,\"NORTE\")/1000000","v":0},{"$f":"SUMIFS('Base TKU'!CO:CO,'Base TKU'!$A:$A,$B9,'Base TKU'!$B:$B,\"NORTE\")/1000000","v":0},{"$f":"SUMIFS('Base TKU'!CP:CP,'Base TKU'!$A:$A,$B9,'Base TKU'!$B:$B,\"NORTE\")/1000000","v":0}]
[null,"Milho",null,{"$f":"SUMIFS('Base TKU'!E:E,'Base TKU'!$A:$A,$B10,'Base TKU'!$B:$B,\"NORTE\")/1000000","v":1467.549536},{"$f":"SUMIFS('Base TKU'!F:F,'Base TKU'!$A:$A,$B10,'Base TKU'!$B:$B,\"NORTE\")/1000000","v":83.340509999999995},{"$f":"SUMIFS('Base TKU'!G:G,'Base TKU'!$A:$A,$B10,'Base TKU'!$B:$B,\"NORTE\")/1000000","v":0.21591099999999999},{"$f":"SUMIFS('Base TKU'!H:H,'Base TKU'!$A:$A,$B10,'Base TKU'!$B:$B,\"NORTE\")/1000000","v":0},{"$f":"SUMIFS('Base TKU'!I:I,'Base TKU'!$A:$A,$B10,'Base TKU'!$B:$B,\"NORTE\")/1000000","v":0},{"$f":"SUMIFS('Base TKU'!J:J,'Base TKU'!$A:$A,$B10,'Base TKU'!$B:$B,\"NORTE\")/1000000","v":342.91962100000001},{"$f":"SUMIFS('Base TKU'!K:K,'Base TKU'!$A:$A,$B10,'Base TKU'!$B:$B,\"NORTE\")/1000000","v":1895.2586470000001},{"$f":"SUMIFS('Base TKU'!L:L,'Base TKU'!$A:$A,$B10,'Base TKU'!$B:$B,\"NORTE\")/1000000","v":1995.592447},{"$f":"SUMIFS('Base TKU'!M:M,'Base TKU'!$A:$A,$B10,'Base TKU'!$B:$B,\"NORTE\")/1000000","v":1814.4541569999999},{"$f":"SUMIFS('Base TKU'!N:N,'Base TKU'!$A:$A,$B10,'Base TKU'!$B:$B,\"NORTE\")/1000000","v":625.91037900000003},{"$f":"SUMIFS('Base TKU'!O:O,'Base TKU'!$A:$A,$B10,'Base TKU'!$B:$B,\"NORTE\")/1000000","v":433.792284},{"$f":"SUMIFS('Base TKU'!P:P,'Base TKU'!$A:$A,$B10,'Base TKU'!$B:$B,\"NORTE\")/1000000","v":620.78963699999997},null,{"$f":"SUMIFS('Base TKU'!R:R,'Base TKU'!$A:$A,$B10,'Base TKU'!$B:$B,\"NORTE\")/1000000","v":95.217815999999999},{"$f":"SUMIFS('Base TKU'!S:S,'Base TKU'!$A:$A,$B10,'Base TKU'!$B:$B,\"NORTE\")/1000000","v":0.23617299999999999},{"$f":"SUMIFS('Base TKU'!T:T,'Base TKU'!$A:$A,$B10,'Base TKU'!$B:$B,\"NORTE\")/1000000","v":0},{"$f":"SUMIFS('Base TKU'!U:U,'Base TKU'!$A:$A,$B10,'Base TKU'!$B:$B,\"NORTE\")/1000000","v":0},{"$f":"SUMIFS('Base TKU'!V:V,'Base TKU'!$A:$A,$B10,'Base TKU'!$B:$B,\"NORTE\")/1000000","v":8.5709850000000003},{"$f":"SUMIFS('Base TKU'!W:W,'Base TKU'!$A:$A,$B10,'Base TKU'!$B:$B,\"NORTE\")/1000000","v":1222.6267740000001},{"$f":"SUMIFS('Base TKU'!X:X,'Base TKU'!$A:$A,$B10,'Base TKU'!$B:$B,\"NORTE\")/1000000","v":2076.8791879999999},{"$f":"SUMIFS('Base TKU'!Y:Y,'Base TKU'!$A:$A,$B10,'Base TKU'!$B:$B,\"NORTE\")/1000000","v":2358.8345250000002},{"$f":"SUMIFS('Base TKU'!Z:Z,'Base TKU'!$A:$A,$B10,'Base TKU'!$B:$B,\"NORTE\")/1000000","v":2268.9066379999999},{"$f":"SUMIFS('Base TKU'!AA:AA,'Base TKU'!$A:$A,$B10,'Base TKU'!$B:$B,\"NORTE\")/1000000","v":2429.8285780000001},{"$f":"SUMIFS('Base TKU'!AB:AB,'Base TKU'!$A:$A,$B10,'Base TKU'!$B:$B,\"NORTE\")/1000000","v":2258.73524},{"$f":"SUMIFS('Base TKU'!AC:AC,'Base TKU'!$A:$A,$B10,'Base TKU'!$B:$B,\"NORTE\")/1000000","v":2030.575034},null,{"$f":"SUMIFS('Base TKU'!AE:AE,'Base TKU'!$A:$A,$B10,'Base TKU'!$B:$B,\"NORTE\")/1000000","v":449.72612600000002},{"$f":"SUMIFS('Base TKU'!AF:AF,'Base TKU'!$A:$A,$B10,'Base TKU'!$B:$B,\"NORTE\")/1000000","v":60.345404000000002},{"$f":"SUMIFS('Base TKU'!AG:AG,'Base TKU'!$A:$A,$B10,'Base TKU'!$B:$B,\"NORTE\")/1000000","v":0},{"$f":"SUMIFS('Base TKU'!AH:AH,'Base TKU'!$A:$A,$B10,'Base TKU'!$B:$B,\"NORTE\")/1000000","v":0},{"$f":"SUMIFS('Base TKU'!AI:AI,'Base TKU'!$A:$A,$B10,'Base TKU'!$B:$B,\"NORTE\")/1000000","v":33.263967000000001},{"$f":"SUMIFS('Base TKU'!AJ:AJ,'Base TKU'!$A:$A,$B10,'Base TKU'!$B:$B,\"NORTE\")/1000000","v":327.83418499999999},{"$f":"SUMIFS('Base TKU'!AK:AK,'Base TKU'!$A:$A,$B10,'Base TKU'!$B:$B,\"NORTE\")/1000000","v":2338.2847780000002},{"$f":"SUMIFS('Base TKU'!AL:AL,'Base TKU'!$A:$A,$B10,'Base TKU'!$B:$B,\"NORTE\")/1000000","v":2729.3089599999998},{"$f":"SUMIFS('Base TKU'!AM:AM,'Base TKU'!$A:$A,$B10,'Base TKU'!$B:$B,\"NORTE\")/1000000","v":2633.3167319999998},{"$f":"SUMIFS('Base TKU'!AN:AN,'Base TKU'!$A:$A,$B10,'Base TKU'!$B:$B,\"NORTE\")/1000000","v":2236.974232},{"$f":"SUMIFS('Base TKU'!AO:AO,'Base TKU'!$A:$A,$B10,'Base TKU'!$B:$B,\"NORTE\")/1000000","v":2714.7458790000001},{"$f":"SUMIFS('Base TKU'!AP:AP,'Base TKU'!$A:$A,$B10,'Base TKU'!$B:$B,\"NORTE\")/1000000","v":2303.3990549999999},null,{"$f":"SUMIFS('Base TKU'!AR:AR,'Base TKU'!$A:$A,$B10,'Base TKU'!$B:$B,\"NORTE\")/1000000","v":311.41548299999999},{"$f":"SUMIFS('Base TKU'!AS:AS,'Base TKU'!$A:$A,$B10,'Base TKU'!$B:$B,\"NORTE\")/1000000","v":0},{"$f":"SUMIFS('Base TKU'!AT:AT,'Base TKU'!$A:$A,$B10,'Base TKU'!$B:$B,\"NORTE\")/1000000","v":0},{"$f":"SUMIFS('Base TKU'!AU:AU,'Base TKU'!$A:$A,$B10,'Base TKU'!$B:$B,\"NORTE\")/1000000","v":0},{"$f":"SUMIFS('Base TKU'!AV:AV,'Base TKU'!$A:$A,$B10,'Base TKU'!$B:$B,\"NORTE\")/1000000","v":73.686267000000001},{"$f":"SUMIFS('Base TKU'!AW:AW,'Base TKU'!$A:$A,$B10,'Base TKU'!$B:$B,\"NORTE\")/1000000","v":2404.1801599999999},{"$f":"SUMIFS('Base TKU'!AX:AX,'Base TKU'!$A:$A,$B10,'Base TKU'!$B:$B,\"NORTE\")/1000000","v":3047.9433779999999},{"$f":"SUMIFS('Base TKU'!AY:AY,'Base TKU'!$A:$A,$B10,'Base TKU'!$B:$B,\"NORTE\")/1000000","v":2859.489239},{"$f":"SUMIFS('Base TKU'!AZ:AZ,'Base TKU'!$A:$A,$B10,'Base TKU'!$B:$B,\"NORTE\")/1000000","v":2603.795059},{"$f":"SUMIFS('Base TKU'!BA:BA,'Base TKU'!$A:$A,$B10,'Base TKU'!$B:$B,\"NORTE\")/1000000","v":2501.5744679999998},{"$f":"SUMIFS('Base TKU'!BB:BB,'Base TKU'!$A:$A,$B10,'Base TKU'!$B:$B,\"NORTE\")/1000000","v":2312.3222190000001},{"$f":"SUMIFS('Base TKU'!BC:BC,'Base TKU'!$A:$A,$B10,'Base TKU'!$B:$B,\"NORTE\")/1000000","v":1085.7637139999999},null,{"$f":"SUMIFS('Base TKU'!BE:BE,'Base TKU'!$A:$A,$B10,'Base TKU'!$B:$B,\"NORTE\")/1000000","v":2.2024180000000002},{"$f":"SUMIFS('Base TKU'!BF:BF,'Base TKU'!$A:$A,$B10,'Base TKU'!$B:$B,\"NORTE\")/1000000","v":0},{"$f":"SUMIFS('Base TKU'!BG:BG,'Base TKU'!$A:$A,$B10,'Base TKU'!$B:$B,\"NORTE\")/1000000","v":0},{"$f":"SUMIFS('Base TKU'!BH:BH,'Base TKU'!$A:$A,$B10,'Base TKU'!$B:$B,\"NORTE\")/1000000","v":0},{"$f":"SUMIFS('Base TKU'!BI:BI,'Base TKU'!$A:$A,$B10,'Base TKU'!$B:$B,\"NORTE\")/1000000","v":0},{"$f":"SUMIFS('Base TKU'!BJ:BJ,'Base TKU'!$A:$A,$B10,'Base TKU'!$B:$B,\"NORTE\")/1000000","v":1431.483015},{"$f":"SUMIFS('Base TKU'!BK:BK,'Base TKU'!$A:$A,$B10,'Base TKU'!$B:$B,\"NORTE\")/1000000","v":2655.9033220000001},{"$f":"SUMIFS('Base TKU'!BL:BL,'Base TKU'!$A:$A,$B10,'Base TKU'!$B:$B,\"NORTE\")/1000000","v":2522.5619609999999},{"$f":"SUMIFS('Base TKU'!BM:BM,'Base TKU'!$A:$A,$B10,'Base TKU'!$B:$B,\"NORTE\")/1000000","v":2287.604691},{"$f":"SUMIFS('Base TKU'!BN:BN,'Base TKU'!$A:$A,$B10,'Base TKU'!$B:$B,\"NORTE\")/1000000","v":2236.4918280000002},{"$f":"SUMIFS('Base TKU'!BO:BO,'Base TKU'!$A:$A,$B10,'Base TKU'!$B:$B,\"NORTE\")/1000000","v":2062.6302559999999},{"$f":"SUMIFS('Base TKU'!BP:BP,'Base TKU'!$A:$A,$B10,'Base TKU'!$B:$B,\"NORTE\")/1000000","v":2178.3438249999999},null,{"$f":"SUMIFS('Base TKU'!BR:BR,'Base TKU'!$A:$A,$B10,'Base TKU'!$B:$B,\"NORTE\")/1000000","v":46.987065999999999},{"$f":"SUMIFS('Base TKU'!BS:BS,'Base TKU'!$A:$A,$B10,'Base TKU'!$B:$B,\"NORTE\")/1000000","v":-4.101496},{"$f":"SUMIFS('Base TKU'!BT:BT,'Base TKU'!$A:$A,$B10,'Base TKU'!$B:$B,\"NORTE\")/1000000","v":0},{"$f":"SUMIFS('Base TKU'!BU:BU,'Base TKU'!$A:$A,$B10,'Base TKU'!$B:$B,\"NORTE\")/1000000","v":0},{"$f":"SUMIFS('Base TKU'!BV:BV,'Base TKU'!$A:$A,$B10,'Base TKU'!$B:$B,\"NORTE\")/1000000","v":0},{"$f":"SUMIFS('Base TKU'!BW:BW,'Base TKU'!$A:$A,$B10,'Base TKU'!$B:$B,\"NORTE\")/1000000","v":507.41074200000003},{"$f":"SUMIFS('Base TKU'!BX:BX,'Base TKU'!$A:$A,$B10,'Base TKU'!$B:$B,\"NORTE\")/1000000","v":2759.0410959999999},{"$f":"SUMIFS('Base TKU'!BY:BY,'Base TKU'!$A:$A,$B10,'Base TKU'!$B:$B,\"NORTE\")/1000000","v":1917.279679},{"$f":"SUMIFS('Base TKU'!BZ:BZ,'Base TKU'!$A:$A,$B10,'Base TKU'!$B:$B,\"NORTE\")/1000000","v":1271.0834179999999},{"$f":"SUMIFS('Base TKU'!CA:CA,'Base TKU'!$A:$A,$B10,'Base TKU'!$B:$B,\"NORTE\")/1000000","v":1665.927635},{"$f":"SUMIFS('Base TKU'!CB:CB,'Base TKU'!$A:$A,$B10,'Base TKU'!$B:$B,\"NORTE\")/1000000","v":1765.2158910000001},{"$f":"SUMIFS('Base TKU'!CC:CC,'Base TKU'!$A:$A,$B10,'Base TKU'!$B:$B,\"NORTE\")/1000000","v":2219.495246},null,{"$f":"SUMIFS('Base TKU'!CE:CE,'Base TKU'!$A:$A,$B10,'Base TKU'!$B:$B,\"NORTE\")/1000000","v":902.48845100000005},{"$f":"SUMIFS('Base TKU'!CF:CF,'Base TKU'!$A:$A,$B10,'Base TKU'!$B:$B,\"NORTE\")/1000000","v":68.266851000000003},{"$f":"SUMIFS('Base TKU'!CG:CG,'Base TKU'!$A:$A,$B10,'Base TKU'!$B:$B,\"NORTE\")/1000000","v":0},{"$f":"SUMIFS('Base TKU'!CH:CH,'Base TKU'!$A:$A,$B10,'Base TKU'!$B:$B,\"NORTE\")/1000000","v":212.22315800000001},{"$f":"SUMIFS('Base TKU'!CI:CI,'Base TKU'!$A:$A,$B10,'Base TKU'!$B:$B,\"NORTE\")/1000000","v":74.181370999999999},{"$f":"SUMIFS('Base TKU'!CJ:CJ,'Base TKU'!$A:$A,$B10,'Base TKU'!$B:$B,\"NORTE\")/1000000","v":0},{"$f":"SUMIFS('Base TKU'!CK:CK,'Base TKU'!$A:$A,$B10,'Base TKU'!$B:$B,\"NORTE\")/1000000","v":0},{"$f":"SUMIFS('Base TKU'!CL:CL,'Base TKU'!$A:$A,$B10,'Base TKU'!$B:$B,\"NORTE\")/1000000","v":0},{"$f":"SUMIFS('Base TKU'!CM:CM,'Base TKU'!$A:$A,$B10,'Base TKU'!$B:$B,\"NORTE\")/1000000","v":0},{"$f":"SUMIFS('Base TKU'!CN:CN,'Base TKU'!$A:$A,$B10,'Base TKU'!$B:$B,\"NORTE\")/1000000","v":0},{"$f":"SUMIFS('Base TKU'!CO:CO,'Base TKU'!$A:$A,$B10,'Base TKU'!$B:$B,\"NORTE\")/1000000","v":0},{"$f":"SUMIFS('Base TKU'!CP:CP,'Base TKU'!$A:$A,$B10,'Base TKU'!$B:$B,\"NORTE\")/1000000","v":0}]
[null,"Açúcar",null,{"$f":"SUMIFS('Base TKU'!E:E,'Base TKU'!$A:$A,$B11,'Base TKU'!$B:$B,\"NORTE\")/1000000","v":114.162274},{"$f":"SUMIFS('Base TKU'!F:F,'Base TKU'!$A:$A,$B11,'Base TKU'!$B:$B,\"NORTE\")/1000000","v":130.7242},{"$f":"SUMIFS('Base TKU'!G:G,'Base TKU'!$A:$A,$B11,'Base TKU'!$B:$B,\"NORTE\")/1000000","v":102.56015600000001},{"$f":"SUMIFS('Base TKU'!H:H,'Base TKU'!$A:$A,$B11,'Base TKU'!$B:$B,\"NORTE\")/1000000","v":86.993835000000004},{"$f":"SUMIFS('Base TKU'!I:I,'Base TKU'!$A:$A,$B11,'Base TKU'!$B:$B,\"NORTE\")/1000000","v":242.65256600000001},{"$f":"SUMIFS('Base TKU'!J:J,'Base TKU'!$A:$A,$B11,'Base TKU'!$B:$B,\"NORTE\")/1000000","v":356.961659},{"$f":"SUMIFS('Base TKU'!K:K,'Base TKU'!$A:$A,$B11,'Base TKU'!$B:$B,\"NORTE\")/1000000","v":206.041495},{"$f":"SUMIFS('Base TKU'!L:L,'Base TKU'!$A:$A,$B11,'Base TKU'!$B:$B,\"NORTE\")/1000000","v":231.28015400000001},{"$f":"SUMIFS('Base TKU'!M:M,'Base TKU'!$A:$A,$B11,'Base TKU'!$B:$B,\"NORTE\")/1000000","v":240.73457500000001},{"$f":"SUMIFS('Base TKU'!N:N,'Base TKU'!$A:$A,$B11,'Base TKU'!$B:$B,\"NORTE\")/1000000","v":387.55470200000002},{"$f":"SUMIFS('Base TKU'!O:O,'Base TKU'!$A:$A,$B11,'Base TKU'!$B:$B,\"NORTE\")/1000000","v":330.176061},{"$f":"SUMIFS('Base TKU'!P:P,'Base TKU'!$A:$A,$B11,'Base TKU'!$B:$B,\"NORTE\")/1000000","v":223.725156},null,{"$f":"SUMIFS('Base TKU'!R:R,'Base TKU'!$A:$A,$B11,'Base TKU'!$B:$B,\"NORTE\")/1000000","v":177.465428},{"$f":"SUMIFS('Base TKU'!S:S,'Base TKU'!$A:$A,$B11,'Base TKU'!$B:$B,\"NORTE\")/1000000","v":69.871585999999994},{"$f":"SUMIFS('Base TKU'!T:T,'Base TKU'!$A:$A,$B11,'Base TKU'!$B:$B,\"NORTE\")/1000000","v":41.425064999999996},{"$f":"SUMIFS('Base TKU'!U:U,'Base TKU'!$A:$A,$B11,'Base TKU'!$B:$B,\"NORTE\")/1000000","v":88.620569000000003},{"$f":"SUMIFS('Base TKU'!V:V,'Base TKU'!$A:$A,$B11,'Base TKU'!$B:$B,\"NORTE\")/1000000","v":279.49777699999999},{"$f":"SUMIFS('Base TKU'!W:W,'Base TKU'!$A:$A,$B11,'Base TKU'!$B:$B,\"NORTE\")/1000000","v":170.19264000000001},{"$f":"SUMIFS('Base TKU'!X:X,'Base TKU'!$A:$A,$B11,'Base TKU'!$B:$B,\"NORTE\")/1000000","v":84.577684000000005},{"$f":"SUMIFS('Base TKU'!Y:Y,'Base TKU'!$A:$A,$B11,'Base TKU'!$B:$B,\"NORTE\")/1000000","v":107.523976},{"$f":"SUMIFS('Base TKU'!Z:Z,'Base TKU'!$A:$A,$B11,'Base TKU'!$B:$B,\"NORTE\")/1000000","v":116.958449},{"$f":"SUMIFS('Base TKU'!AA:AA,'Base TKU'!$A:$A,$B11,'Base TKU'!$B:$B,\"NORTE\")/1000000","v":112.03851400000001},{"$f":"SUMIFS('Base TKU'!AB:AB,'Base TKU'!$A:$A,$B11,'Base TKU'!$B:$B,\"NORTE\")/1000000","v":117.008639},{"$f":"SUMIFS('Base TKU'!AC:AC,'Base TKU'!$A:$A,$B11,'Base TKU'!$B:$B,\"NORTE\")/1000000","v":154.01861700000001},null,{"$f":"SUMIFS('Base TKU'!AE:AE,'Base TKU'!$A:$A,$B11,'Base TKU'!$B:$B,\"NORTE\")/1000000","v":233.97854599999999},{"$f":"SUMIFS('Base TKU'!AF:AF,'Base TKU'!$A:$A,$B11,'Base TKU'!$B:$B,\"NORTE\")/1000000","v":128.99684999999999},{"$f":"SUMIFS('Base TKU'!AG:AG,'Base TKU'!$A:$A,$B11,'Base TKU'!$B:$B,\"NORTE\")/1000000","v":101.513181},{"$f":"SUMIFS('Base TKU'!AH:AH,'Base TKU'!$A:$A,$B11,'Base TKU'!$B:$B,\"NORTE\")/1000000","v":75.403311000000002},{"$f":"SUMIFS('Base TKU'!AI:AI,'Base TKU'!$A:$A,$B11,'Base TKU'!$B:$B,\"NORTE\")/1000000","v":223.43597},{"$f":"SUMIFS('Base TKU'!AJ:AJ,'Base TKU'!$A:$A,$B11,'Base TKU'!$B:$B,\"NORTE\")/1000000","v":224.783423},{"$f":"SUMIFS('Base TKU'!AK:AK,'Base TKU'!$A:$A,$B11,'Base TKU'!$B:$B,\"NORTE\")/1000000","v":115.66020399999999},{"$f":"SUMIFS('Base TKU'!AL:AL,'Base TKU'!$A:$A,$B11,'Base TKU'!$B:$B,\"NORTE\")/1000000","v":104.16202699999999},{"$f":"SUMIFS('Base TKU'!AM:AM,'Base TKU'!$A:$A,$B11,'Base TKU'!$B:$B,\"NORTE\")/1000000","v":149.05705800000001},{"$f":"SUMIFS('Base TKU'!AN:AN,'Base TKU'!$A:$A,$B11,'Base TKU'!$B:$B,\"NORTE\")/1000000","v":188.45478499999999},{"$f":"SUMIFS('Base TKU'!AO:AO,'Base TKU'!$A:$A,$B11,'Base TKU'!$B:$B,\"NORTE\")/1000000","v":107.391594},{"$f":"SUMIFS('Base TKU'!AP:AP,'Base TKU'!$A:$A,$B11,'Base TKU'!$B:$B,\"NORTE\")/1000000","v":88.027102999999997},null,{"$f":"SUMIFS('Base TKU'!AR:AR,'Base TKU'!$A:$A,$B11,'Base TKU'!$B:$B,\"NORTE\")/1000000","v":122.351917},{"$f":"SUMIFS('Base TKU'!AS:AS,'Base TKU'!$A:$A,$B11,'Base TKU'!$B:$B,\"NORTE\")/1000000","v":54.639006000000002},{"$f":"SUMIFS('Base TKU'!AT:AT,'Base TKU'!$A:$A,$B11,'Base TKU'!$B:$B,\"NORTE\")/1000000","v":114.065594},{"$f":"SUMIFS('Base TKU'!AU:AU,'Base TKU'!$A:$A,$B11,'Base TKU'!$B:$B,\"NORTE\")/1000000","v":140.667081},{"$f":"SUMIFS('Base TKU'!AV:AV,'Base TKU'!$A:$A,$B11,'Base TKU'!$B:$B,\"NORTE\")/1000000","v":178.61028300000001},{"$f":"SUMIFS('Base TKU'!AW:AW,'Base TKU'!$A:$A,$B11,'Base TKU'!$B:$B,\"NORTE\")/1000000","v":106.232936},{"$f":"SUMIFS('Base TKU'!AX:AX,'Base TKU'!$A:$A,$B11,'Base TKU'!$B:$B,\"NORTE\")/1000000","v":85.466035000000005},{"$f":"SUMIFS('Base TKU'!AY:AY,'Base TKU'!$A:$A,$B11,'Base TKU'!$B:$B,\"NORTE\")/1000000","v":75.016852},{"$f":"SUMIFS('Base TKU'!AZ:AZ,'Base TKU'!$A:$A,$B11,'Base TKU'!$B:$B,\"NORTE\")/1000000","v":116.453372},{"$f":"SUMIFS('Base TKU'!BA:BA,'Base TKU'!$A:$A,$B11,'Base TKU'!$B:$B,\"NORTE\")/1000000","v":96.988007999999994},{"$f":"SUMIFS('Base TKU'!BB:BB,'Base TKU'!$A:$A,$B11,'Base TKU'!$B:$B,\"NORTE\")/1000000","v":70.955100999999999},{"$f":"SUMIFS('Base TKU'!BC:BC,'Base TKU'!$A:$A,$B11,'Base TKU'!$B:$B,\"NORTE\")/1000000","v":270.75035300000002},null,{"$f":"SUMIFS('Base TKU'!BE:BE,'Base TKU'!$A:$A,$B11,'Base TKU'!$B:$B,\"NORTE\")/1000000","v":151.52940899999999},{"$f":"SUMIFS('Base TKU'!BF:BF,'Base TKU'!$A:$A,$B11,'Base TKU'!$B:$B,\"NORTE\")/1000000","v":130.16320300000001},{"$f":"SUMIFS('Base TKU'!BG:BG,'Base TKU'!$A:$A,$B11,'Base TKU'!$B:$B,\"NORTE\")/1000000","v":87.833973999999998},{"$f":"SUMIFS('Base TKU'!BH:BH,'Base TKU'!$A:$A,$B11,'Base TKU'!$B:$B,\"NORTE\")/1000000","v":130.07638800000001},{"$f":"SUMIFS('Base TKU'!BI:BI,'Base TKU'!$A:$A,$B11,'Base TKU'!$B:$B,\"NORTE\")/1000000","v":200.06483399999999},{"$f":"SUMIFS('Base TKU'!BJ:BJ,'Base TKU'!$A:$A,$B11,'Base TKU'!$B:$B,\"NORTE\")/1000000","v":157.707584},{"$f":"SUMIFS('Base TKU'!BK:BK,'Base TKU'!$A:$A,$B11,'Base TKU'!$B:$B,\"NORTE\")/1000000","v":130.56483700000001},{"$f":"SUMIFS('Base TKU'!BL:BL,'Base TKU'!$A:$A,$B11,'Base TKU'!$B:$B,\"NORTE\")/1000000","v":261.94402200000002},{"$f":"SUMIFS('Base TKU'!BM:BM,'Base TKU'!$A:$A,$B11,'Base TKU'!$B:$B,\"NORTE\")/1000000","v":352.608901},{"$f":"SUMIFS('Base TKU'!BN:BN,'Base TKU'!$A:$A,$B11,'Base TKU'!$B:$B,\"NORTE\")/1000000","v":427.832381},{"$f":"SUMIFS('Base TKU'!BO:BO,'Base TKU'!$A:$A,$B11,'Base TKU'!$B:$B,\"NORTE\")/1000000","v":369.85554999999999},{"$f":"SUMIFS('Base TKU'!BP:BP,'Base TKU'!$A:$A,$B11,'Base TKU'!$B:$B,\"NORTE\")/1000000","v":278.473344},null,{"$f":"SUMIFS('Base TKU'!BR:BR,'Base TKU'!$A:$A,$B11,'Base TKU'!$B:$B,\"NORTE\")/1000000","v":245.05044699999999},{"$f":"SUMIFS('Base TKU'!BS:BS,'Base TKU'!$A:$A,$B11,'Base TKU'!$B:$B,\"NORTE\")/1000000","v":21.477309000000002},{"$f":"SUMIFS('Base TKU'!BT:BT,'Base TKU'!$A:$A,$B11,'Base TKU'!$B:$B,\"NORTE\")/1000000","v":44.867139000000002},{"$f":"SUMIFS('Base TKU'!BU:BU,'Base TKU'!$A:$A,$B11,'Base TKU'!$B:$B,\"NORTE\")/1000000","v":118.036126},{"$f":"SUMIFS('Base TKU'!BV:BV,'Base TKU'!$A:$A,$B11,'Base TKU'!$B:$B,\"NORTE\")/1000000","v":284.83216199999998},{"$f":"SUMIFS('Base TKU'!BW:BW,'Base TKU'!$A:$A,$B11,'Base TKU'!$B:$B,\"NORTE\")/1000000","v":271.31037600000002},{"$f":"SUMIFS('Base TKU'!BX:BX,'Base TKU'!$A:$A,$B11,'Base TKU'!$B:$B,\"NORTE\")/1000000","v":112.45396},{"$f":"SUMIFS('Base TKU'!BY:BY,'Base TKU'!$A:$A,$B11,'Base TKU'!$B:$B,\"NORTE\")/1000000","v":209.378479},{"$f":"SUMIFS('Base TKU'!BZ:BZ,'Base TKU'!$A:$A,$B11,'Base TKU'!$B:$B,\"NORTE\")/1000000","v":318.88784299999998},{"$f":"SUMIFS('Base TKU'!CA:CA,'Base TKU'!$A:$A,$B11,'Base TKU'!$B:$B,\"NORTE\")/1000000","v":260.253693},{"$f":"SUMIFS('Base TKU'!CB:CB,'Base TKU'!$A:$A,$B11,'Base TKU'!$B:$B,\"NORTE\")/1000000","v":252.157826},{"$f":"SUMIFS('Base TKU'!CC:CC,'Base TKU'!$A:$A,$B11,'Base TKU'!$B:$B,\"NORTE\")/1000000","v":128.26299900000001},null,{"$f":"SUMIFS('Base TKU'!CE:CE,'Base TKU'!$A:$A,$B11,'Base TKU'!$B:$B,\"NORTE\")/1000000","v":111.891079},{"$f":"SUMIFS('Base TKU'!CF:CF,'Base TKU'!$A:$A,$B11,'Base TKU'!$B:$B,\"NORTE\")/1000000","v":21.725376000000001},{"$f":"SUMIFS('Base TKU'!CG:CG,'Base TKU'!$A:$A,$B11,'Base TKU'!$B:$B,\"NORTE\")/1000000","v":74.732006999999996},{"$f":"SUMIFS('Base TKU'!CH:CH,'Base TKU'!$A:$A,$B11,'Base TKU'!$B:$B,\"NORTE\")/1000000","v":42.339317999999999},{"$f":"SUMIFS('Base TKU'!CI:CI,'Base TKU'!$A:$A,$B11,'Base TKU'!$B:$B,\"NORTE\")/1000000","v":157.84815800000001},{"$f":"SUMIFS('Base TKU'!CJ:CJ,'Base TKU'!$A:$A,$B11,'Base TKU'!$B:$B,\"NORTE\")/1000000","v":0},{"$f":"SUMIFS('Base TKU'!CK:CK,'Base TKU'!$A:$A,$B11,'Base TKU'!$B:$B,\"NORTE\")/1000000","v":0},{"$f":"SUMIFS('Base TKU'!CL:CL,'Base TKU'!$A:$A,$B11,'Base TKU'!$B:$B,\"NORTE\")/1000000","v":0},{"$f":"SUMIFS('Base TKU'!CM:CM,'Base TKU'!$A:$A,$B11,'Base TKU'!$B:$B,\"NORTE\")/1000000","v":0},{"$f":"SUMIFS('Base TKU'!CN:CN,'Base TKU'!$A:$A,$B11,'Base TKU'!$B:$B,\"NORTE\")/1000000","v":0},{"$f":"SUMIFS('Base TKU'!CO:CO,'Base TKU'!$A:$A,$B11,'Base TKU'!$B:$B,\"NORTE\")/1000000","v":0},{"$f":"SUMIFS('Base TKU'!CP:CP,'Base TKU'!$A:$A,$B11,'Base TKU'!$B:$B,\"NORTE\")/1000000","v":0}]
[null,"Fertilizantes",null,{"$f":"SUMIFS('Base TKU'!E:E,'Base TKU'!$A:$A,$B12,'Base TKU'!$B:$B,\"NORTE\")/1000000","v":0},{"$f":"SUMIFS('Base TKU'!F:F,'Base TKU'!$A:$A,$B12,'Base TKU'!$B:$B,\"NORTE\")/1000000","v":0},{"$f":"SUMIFS('Base TKU'!G:G,'Base TKU'!$A:$A,$B12,'Base TKU'!$B:$B,\"NORTE\")/1000000","v":0},{"$f":"SUMIFS('Base TKU'!H:H,'Base TKU'!$A:$A,$B12,'Base TKU'!$B:$B,\"NORTE\")/1000000","v":0},{"$f":"SUMIFS('Base TKU'!I:I,'Base TKU'!$A:$A,$B12,'Base TKU'!$B:$B,\"NORTE\")/1000000","v":0},{"$f":"SUMIFS('Base TKU'!J:J,'Base TKU'!$A:$A,$B12,'Base TKU'!$B:$B,\"NORTE\")/1000000","v":0},{"$f":"SUMIFS('Base TKU'!K:K,'Base TKU'!$A:$A,$B12,'Base TKU'!$B:$B,\"NORTE\")/1000000","v":0},{"$f":"SUMIFS('Base TKU'!L:L,'Base TKU'!$A:$A,$B12,'Base TKU'!$B:$B,\"NORTE\")/1000000","v":0},{"$f":"SUMIFS('Base TKU'!M:M,'Base TKU'!$A:$A,$B12,'Base TKU'!$B:$B,\"NORTE\")/1000000","v":0},{"$f":"SUMIFS('Base TKU'!N:N,'Base TKU'!$A:$A,$B12,'Base TKU'!$B:$B,\"NORTE\")/1000000","v":0},{"$f":"SUMIFS('Base TKU'!O:O,'Base TKU'!$A:$A,$B12,'Base TKU'!$B:$B,\"NORTE\")/1000000","v":0},{"$f":"SUMIFS('Base TKU'!P:P,'Base TKU'!$A:$A,$B12,'Base TKU'!$B:$B,\"NORTE\")/1000000","v":0},null,{"$f":"SUMIFS('Base TKU'!R:R,'Base TKU'!$A:$A,$B12,'Base TKU'!$B:$B,\"NORTE\")/1000000","v":0},{"$f":"SUMIFS('Base TKU'!S:S,'Base TKU'!$A:$A,$B12,'Base TKU'!$B:$B,\"NORTE\")/1000000","v":0},{"$f":"SUMIFS('Base TKU'!T:T,'Base TKU'!$A:$A,$B12,'Base TKU'!$B:$B,\"NORTE\")/1000000","v":0},{"$f":"SUMIFS('Base TKU'!U:U,'Base TKU'!$A:$A,$B12,'Base TKU'!$B:$B,\"NORTE\")/1000000","v":0},{"$f":"SUMIFS('Base TKU'!V:V,'Base TKU'!$A:$A,$B12,'Base TKU'!$B:$B,\"NORTE\")/1000000","v":0},{"$f":"SUMIFS('Base TKU'!W:W,'Base TKU'!$A:$A,$B12,'Base TKU'!$B:$B,\"NORTE\")/1000000","v":0},{"$f":"SUMIFS('Base TKU'!X:X,'Base TKU'!$A:$A,$B12,'Base TKU'!$B:$B,\"NORTE\")/1000000","v":0},{"$f":"SUMIFS('Base TKU'!Y:Y,'Base TKU'!$A:$A,$B12,'Base TKU'!$B:$B,\"NORTE\")/1000000","v":0},{"$f":"SUMIFS('Base TKU'!Z:Z,'Base TKU'!$A:$A,$B12,'Base TKU'!$B:$B,\"NORTE\")/1000000","v":0},{"$f":"SUMIFS('Base TKU'!AA:AA,'Base TKU'!$A:$A,$B12,'Base TKU'!$B:$B,\"NORTE\")/1000000","v":0},{"$f":"SUMIFS('Base TKU'!AB:AB,'Base TKU'!$A:$A,$B12,'Base TKU'!$B:$B,\"NORTE\")/1000000","v":0},{"$f":"SUMIFS('Base TKU'!AC:AC,'Base TKU'!$A:$A,$B12,'Base TKU'!$B:$B,\"NORTE\")/1000000","v":0},null,{"$f":"SUMIFS('Base TKU'!AE:AE,'Base TKU'!$A:$A,$B12,'Base TKU'!$B:$B,\"NORTE\")/1000000","v":0},{"$f":"SUMIFS('Base TKU'!AF:AF,'Base TKU'!$A:$A,$B12,'Base TKU'!$B:$B,\"NORTE\")/1000000","v":0},{"$f":"SUMIFS('Base TKU'!AG:AG,'Base TKU'!$A:$A,$B12,'Base TKU'!$B:$B,\"NORTE\")/1000000","v":0},{"$f":"SUMIFS('Base TKU'!AH:AH,'Base TKU'!$A:$A,$B12,'Base TKU'!$B:$B,\"NORTE\")/1000000","v":2.467047},{"$f":"SUMIFS('Base TKU'!AI:AI,'Base TKU'!$A:$A,$B12,'Base TKU'!$B:$B,\"NORTE\")/1000000","v":64.802734000000001},{"$f":"SUMIFS('Base TKU'!AJ:AJ,'Base TKU'!$A:$A,$B12,'Base TKU'!$B:$B,\"NORTE\")/1000000","v":75.318218000000002},{"$f":"SUMIFS('Base TKU'!AK:AK,'Base TKU'!$A:$A,$B12,'Base TKU'!$B:$B,\"NORTE\")/1000000","v":184.06398100000001},{"$f":"SUMIFS('Base TKU'!AL:AL,'Base TKU'!$A:$A,$B12,'Base TKU'!$B:$B,\"NORTE\")/1000000","v":180.525442},{"$f":"SUMIFS('Base TKU'!AM:AM,'Base TKU'!$A:$A,$B12,'Base TKU'!$B:$B,\"NORTE\")/1000000","v":87.010830999999996},{"$f":"SUMIFS('Base TKU'!AN:AN,'Base TKU'!$A:$A,$B12,'Base TKU'!$B:$B,\"NORTE\")/1000000","v":116.635802},{"$f":"SUMIFS('Base TKU'!AO:AO,'Base TKU'!$A:$A,$B12,'Base TKU'!$B:$B,\"NORTE\")/1000000","v":172.10250199999999},{"$f":"SUMIFS('Base TKU'!AP:AP,'Base TKU'!$A:$A,$B12,'Base TKU'!$B:$B,\"NORTE\")/1000000","v":274.72367800000001},null,{"$f":"SUMIFS('Base TKU'!AR:AR,'Base TKU'!$A:$A,$B12,'Base TKU'!$B:$B,\"NORTE\")/1000000","v":177.62847400000001},{"$f":"SUMIFS('Base TKU'!AS:AS,'Base TKU'!$A:$A,$B12,'Base TKU'!$B:$B,\"NORTE\")/1000000","v":123.625083},{"$f":"SUMIFS('Base TKU'!AT:AT,'Base TKU'!$A:$A,$B12,'Base TKU'!$B:$B,\"NORTE\")/1000000","v":164.55745999999999},{"$f":"SUMIFS('Base TKU'!AU:AU,'Base TKU'!$A:$A,$B12,'Base TKU'!$B:$B,\"NORTE\")/1000000","v":216.85239799999999},{"$f":"SUMIFS('Base TKU'!AV:AV,'Base TKU'!$A:$A,$B12,'Base TKU'!$B:$B,\"NORTE\")/1000000","v":305.83135600000003},{"$f":"SUMIFS('Base TKU'!AW:AW,'Base TKU'!$A:$A,$B12,'Base TKU'!$B:$B,\"NORTE\")/1000000","v":290.61581899999999},{"$f":"SUMIFS('Base TKU'!AX:AX,'Base TKU'!$A:$A,$B12,'Base TKU'!$B:$B,\"NORTE\")/1000000","v":335.41827899999998},{"$f":"SUMIFS('Base TKU'!AY:AY,'Base TKU'!$A:$A,$B12,'Base TKU'!$B:$B,\"NORTE\")/1000000","v":267.33974999999998},{"$f":"SUMIFS('Base TKU'!AZ:AZ,'Base TKU'!$A:$A,$B12,'Base TKU'!$B:$B,\"NORTE\")/1000000","v":106.771666},{"$f":"SUMIFS('Base TKU'!BA:BA,'Base TKU'!$A:$A,$B12,'Base TKU'!$B:$B,\"NORTE\")/1000000","v":225.66275200000001},{"$f":"SUMIFS('Base TKU'!BB:BB,'Base TKU'!$A:$A,$B12,'Base TKU'!$B:$B,\"NORTE\")/1000000","v":274.70464099999998},{"$f":"SUMIFS('Base TKU'!BC:BC,'Base TKU'!$A:$A,$B12,'Base TKU'!$B:$B,\"NORTE\")/1000000","v":376.81260900000001},null,{"$f":"SUMIFS('Base TKU'!BE:BE,'Base TKU'!$A:$A,$B12,'Base TKU'!$B:$B,\"NORTE\")/1000000","v":302.45168699999999},{"$f":"SUMIFS('Base TKU'!BF:BF,'Base TKU'!$A:$A,$B12,'Base TKU'!$B:$B,\"NORTE\")/1000000","v":248.77863400000001},{"$f":"SUMIFS('Base TKU'!BG:BG,'Base TKU'!$A:$A,$B12,'Base TKU'!$B:$B,\"NORTE\")/1000000","v":117.89880700000001},{"$f":"SUMIFS('Base TKU'!BH:BH,'Base TKU'!$A:$A,$B12,'Base TKU'!$B:$B,\"NORTE\")/1000000","v":295.67354899999998},{"$f":"SUMIFS('Base TKU'!BI:BI,'Base TKU'!$A:$A,$B12,'Base TKU'!$B:$B,\"NORTE\")/1000000","v":393.42908999999997},{"$f":"SUMIFS('Base TKU'!BJ:BJ,'Base TKU'!$A:$A,$B12,'Base TKU'!$B:$B,\"NORTE\")/1000000","v":366.36778800000002},{"$f":"SUMIFS('Base TKU'!BK:BK,'Base TKU'!$A:$A,$B12,'Base TKU'!$B:$B,\"NORTE\")/1000000","v":392.95637099999999},{"$f":"SUMIFS('Base TKU'!BL:BL,'Base TKU'!$A:$A,$B12,'Base TKU'!$B:$B,\"NORTE\")/1000000","v":264.29264599999999},{"$f":"SUMIFS('Base TKU'!BM:BM,'Base TKU'!$A:$A,$B12,'Base TKU'!$B:$B,\"NORTE\")/1000000","v":290.31470200000001},{"$f":"SUMIFS('Base TKU'!BN:BN,'Base TKU'!$A:$A,$B12,'Base TKU'!$B:$B,\"NORTE\")/1000000","v":419.98549400000002},{"$f":"SUMIFS('Base TKU'!BO:BO,'Base TKU'!$A:$A,$B12,'Base TKU'!$B:$B,\"NORTE\")/1000000","v":407.36287800000002},{"$f":"SUMIFS('Base TKU'!BP:BP,'Base TKU'!$A:$A,$B12,'Base TKU'!$B:$B,\"NORTE\")/1000000","v":409.10729500000002},null,{"$f":"SUMIFS('Base TKU'!BR:BR,'Base TKU'!$A:$A,$B12,'Base TKU'!$B:$B,\"NORTE\")/1000000","v":427.86078199999997},{"$f":"SUMIFS('Base TKU'!BS:BS,'Base TKU'!$A:$A,$B12,'Base TKU'!$B:$B,\"NORTE\")/1000000","v":368.10275300000001},{"$f":"SUMIFS('Base TKU'!BT:BT,'Base TKU'!$A:$A,$B12,'Base TKU'!$B:$B,\"NORTE\")/1000000","v":242.23755700000001},{"$f":"SUMIFS('Base TKU'!BU:BU,'Base TKU'!$A:$A,$B12,'Base TKU'!$B:$B,\"NORTE\")/1000000","v":248.889003},{"$f":"SUMIFS('Base TKU'!BV:BV,'Base TKU'!$A:$A,$B12,'Base TKU'!$B:$B,\"NORTE\")/1000000","v":256.37743799999998},{"$f":"SUMIFS('Base TKU'!BW:BW,'Base TKU'!$A:$A,$B12,'Base TKU'!$B:$B,\"NORTE\")/1000000","v":257.53743200000002},{"$f":"SUMIFS('Base TKU'!BX:BX,'Base TKU'!$A:$A,$B12,'Base TKU'!$B:$B,\"NORTE\")/1000000","v":538.96807100000001},{"$f":"SUMIFS('Base TKU'!BY:BY,'Base TKU'!$A:$A,$B12,'Base TKU'!$B:$B,\"NORTE\")/1000000","v":522.331728},{"$f":"SUMIFS('Base TKU'!BZ:BZ,'Base TKU'!$A:$A,$B12,'Base TKU'!$B:$B,\"NORTE\")/1000000","v":391.92602199999999},{"$f":"SUMIFS('Base TKU'!CA:CA,'Base TKU'!$A:$A,$B12,'Base TKU'!$B:$B,\"NORTE\")/1000000","v":431.44853499999999},{"$f":"SUMIFS('Base TKU'!CB:CB,'Base TKU'!$A:$A,$B12,'Base TKU'!$B:$B,\"NORTE\")/1000000","v":359.76248500000003},{"$f":"SUMIFS('Base TKU'!CC:CC,'Base TKU'!$A:$A,$B12,'Base TKU'!$B:$B,\"NORTE\")/1000000","v":364.64612699999998},null,{"$f":"SUMIFS('Base TKU'!CE:CE,'Base TKU'!$A:$A,$B12,'Base TKU'!$B:$B,\"NORTE\")/1000000","v":296.68763999999999},{"$f":"SUMIFS('Base TKU'!CF:CF,'Base TKU'!$A:$A,$B12,'Base TKU'!$B:$B,\"NORTE\")/1000000","v":377.22101199999997},{"$f":"SUMIFS('Base TKU'!CG:CG,'Base TKU'!$A:$A,$B12,'Base TKU'!$B:$B,\"NORTE\")/1000000","v":353.822115},{"$f":"SUMIFS('Base TKU'!CH:CH,'Base TKU'!$A:$A,$B12,'Base TKU'!$B:$B,\"NORTE\")/1000000","v":155.81518199999999},{"$f":"SUMIFS('Base TKU'!CI:CI,'Base TKU'!$A:$A,$B12,'Base TKU'!$B:$B,\"NORTE\")/1000000","v":434.98695800000002},{"$f":"SUMIFS('Base TKU'!CJ:CJ,'Base TKU'!$A:$A,$B12,'Base TKU'!$B:$B,\"NORTE\")/1000000","v":0},{"$f":"SUMIFS('Base TKU'!CK:CK,'Base TKU'!$A:$A,$B12,'Base TKU'!$B:$B,\"NORTE\")/1000000","v":0},{"$f":"SUMIFS('Base TKU'!CL:CL,'Base TKU'!$A:$A,$B12,'Base TKU'!$B:$B,\"NORTE\")/1000000","v":0},{"$f":"SUMIFS('Base TKU'!CM:CM,'Base TKU'!$A:$A,$B12,'Base TKU'!$B:$B,\"NORTE\")/1000000","v":0},{"$f":"SUMIFS('Base TKU'!CN:CN,'Base TKU'!$A:$A,$B12,'Base TKU'!$B:$B,\"NORTE\")/1000000","v":0},{"$f":"SUMIFS('Base TKU'!CO:CO,'Base TKU'!$A:$A,$B12,'Base TKU'!$B:$B,\"NORTE\")/1000000","v":0},{"$f":"SUMIFS('Base TKU'!CP:CP,'Base TKU'!$A:$A,$B12,'Base TKU'!$B:$B,\"NORTE\")/1000000","v":0}]
[null,"Trigo",null,{"$f":"SUMIFS('Base TKU'!E:E,'Base TKU'!$A:$A,$B13,'Base TKU'!$B:$B,\"NORTE\")/1000000","v":0},{"$f":"SUMIFS('Base TKU'!F:F,'Base TKU'!$A:$A,$B13,'Base TKU'!$B:$B,\"NORTE\")/1000000","v":0},{"$f":"SUMIFS('Base TKU'!G:G,'Base TKU'!$A:$A,$B13,'Base TKU'!$B:$B,\"NORTE\")/1000000","v":0},{"$f":"SUMIFS('Base TKU'!H:H,'Base TKU'!$A:$A,$B13,'Base TKU'!$B:$B,\"NORTE\")/1000000","v":0},{"$f":"SUMIFS('Base TKU'!I:I,'Base TKU'!$A:$A,$B13,'Base TKU'!$B:$B,\"NORTE\")/1000000","v":0},{"$f":"SUMIFS('Base TKU'!J:J,'Base TKU'!$A:$A,$B13,'Base TKU'!$B:$B,\"NORTE\")/1000000","v":0},{"$f":"SUMIFS('Base TKU'!K:K,'Base TKU'!$A:$A,$B13,'Base TKU'!$B:$B,\"NORTE\")/1000000","v":0},{"$f":"SUMIFS('Base TKU'!L:L,'Base TKU'!$A:$A,$B13,'Base TKU'!$B:$B,\"NORTE\")/1000000","v":0},{"$f":"SUMIFS('Base TKU'!M:M,'Base TKU'!$A:$A,$B13,'Base TKU'!$B:$B,\"NORTE\")/1000000","v":0},{"$f":"SUMIFS('Base TKU'!N:N,'Base TKU'!$A:$A,$B13,'Base TKU'!$B:$B,\"NORTE\")/1000000","v":0},{"$f":"SUMIFS('Base TKU'!O:O,'Base TKU'!$A:$A,$B13,'Base TKU'!$B:$B,\"NORTE\")/1000000","v":0},{"$f":"SUMIFS('Base TKU'!P:P,'Base TKU'!$A:$A,$B13,'Base TKU'!$B:$B,\"NORTE\")/1000000","v":0},null,{"$f":"SUMIFS('Base TKU'!R:R,'Base TKU'!$A:$A,$B13,'Base TKU'!$B:$B,\"NORTE\")/1000000","v":0},{"$f":"SUMIFS('Base TKU'!S:S,'Base TKU'!$A:$A,$B13,'Base TKU'!$B:$B,\"NORTE\")/1000000","v":0},{"$f":"SUMIFS('Base TKU'!T:T,'Base TKU'!$A:$A,$B13,'Base TKU'!$B:$B,\"NORTE\")/1000000","v":0},{"$f":"SUMIFS('Base TKU'!U:U,'Base TKU'!$A:$A,$B13,'Base TKU'!$B:$B,\"NORTE\")/1000000","v":0},{"$f":"SUMIFS('Base TKU'!V:V,'Base TKU'!$A:$A,$B13,'Base TKU'!$B:$B,\"NORTE\")/1000000","v":0},{"$f":"SUMIFS('Base TKU'!W:W,'Base TKU'!$A:$A,$B13,'Base TKU'!$B:$B,\"NORTE\")/1000000","v":0},{"$f":"SUMIFS('Base TKU'!X:X,'Base TKU'!$A:$A,$B13,'Base TKU'!$B:$B,\"NORTE\")/1000000","v":0},{"$f":"SUMIFS('Base TKU'!Y:Y,'Base TKU'!$A:$A,$B13,'Base TKU'!$B:$B,\"NORTE\")/1000000","v":0},{"$f":"SUMIFS('Base TKU'!Z:Z,'Base TKU'!$A:$A,$B13,'Base TKU'!$B:$B,\"NORTE\")/1000000","v":0},{"$f":"SUMIFS('Base TKU'!AA:AA,'Base TKU'!$A:$A,$B13,'Base TKU'!$B:$B,\"NORTE\")/1000000","v":0},{"$f":"SUMIFS('Base TKU'!AB:AB,'Base TKU'!$A:$A,$B13,'Base TKU'!$B:$B,\"NORTE\")/1000000","v":0},{"$f":"SUMIFS('Base TKU'!AC:AC,'Base TKU'!$A:$A,$B13,'Base TKU'!$B:$B,\"NORTE\")/1000000","v":0},null,{"$f":"SUMIFS('Base TKU'!AE:AE,'Base TKU'!$A:$A,$B13,'Base TKU'!$B:$B,\"NORTE\")/1000000","v":0},{"$f":"SUMIFS('Base TKU'!AF:AF,'Base TKU'!$A:$A,$B13,'Base TKU'!$B:$B,\"NORTE\")/1000000","v":0},{"$f":"SUMIFS('Base TKU'!AG:AG,'Base TKU'!$A:$A,$B13,'Base TKU'!$B:$B,\"NORTE\")/1000000","v":0},{"$f":"SUMIFS('Base TKU'!AH:AH,'Base TKU'!$A:$A,$B13,'Base TKU'!$B:$B,\"NORTE\")/1000000","v":0},{"$f":"SUMIFS('Base TKU'!AI:AI,'Base TKU'!$A:$A,$B13,'Base TKU'!$B:$B,\"NORTE\")/1000000","v":0},{"$f":"SUMIFS('Base TKU'!AJ:AJ,'Base TKU'!$A:$A,$B13,'Base TKU'!$B:$B,\"NORTE\")/1000000","v":0},{"$f":"SUMIFS('Base TKU'!AK:AK,'Base TKU'!$A:$A,$B13,'Base TKU'!$B:$B,\"NORTE\")/1000000","v":0},{"$f":"SUMIFS('Base TKU'!AL:AL,'Base TKU'!$A:$A,$B13,'Base TKU'!$B:$B,\"NORTE\")/1000000","v":0},{"$f":"SUMIFS('Base TKU'!AM:AM,'Base TKU'!$A:$A,$B13,'Base TKU'!$B:$B,\"NORTE\")/1000000","v":0},{"$f":"SUMIFS('Base TKU'!AN:AN,'Base TKU'!$A:$A,$B13,'Base TKU'!$B:$B,\"NORTE\")/1000000","v":0},{"$f":"SUMIFS('Base TKU'!AO:AO,'Base TKU'!$A:$A,$B13,'Base TKU'!$B:$B,\"NORTE\")/1000000","v":0},{"$f":"SUMIFS('Base TKU'!AP:AP,'Base TKU'!$A:$A,$B13,'Base TKU'!$B:$B,\"NORTE\")/1000000","v":0},null,{"$f":"SUMIFS('Base TKU'!AR:AR,'Base TKU'!$A:$A,$B13,'Base TKU'!$B:$B,\"NORTE\")/1000000","v":0},{"$f":"SUMIFS('Base TKU'!AS:AS,'Base TKU'!$A:$A,$B13,'Base TKU'!$B:$B,\"NORTE\")/1000000","v":0},{"$f":"SUMIFS('Base TKU'!AT:AT,'Base TKU'!$A:$A,$B13,'Base TKU'!$B:$B,\"NORTE\")/1000000","v":0},{"$f":"SUMIFS('Base TKU'!AU:AU,'Base TKU'!$A:$A,$B13,'Base TKU'!$B:$B,\"NORTE\")/1000000","v":0},{"$f":"SUMIFS('Base TKU'!AV:AV,'Base TKU'!$A:$A,$B13,'Base TKU'!$B:$B,\"NORTE\")/1000000","v":0},{"$f":"SUMIFS('Base TKU'!AW:AW,'Base TKU'!$A:$A,$B13,'Base TKU'!$B:$B,\"NORTE\")/1000000","v":0},{"$f":"SUMIFS('Base TKU'!AX:AX,'Base TKU'!$A:$A,$B13,'Base TKU'!$B:$B,\"NORTE\")/1000000","v":0},{"$f":"SUMIFS('Base TKU'!AY:AY,'Base TKU'!$A:$A,$B13,'Base TKU'!$B:$B,\"NORTE\")/1000000","v":0},{"$f":"SUMIFS('Base TKU'!AZ:AZ,'Base TKU'!$A:$A,$B13,'Base TKU'!$B:$B,\"NORTE\")/1000000","v":0},{"$f":"SUMIFS('Base TKU'!BA:BA,'Base TKU'!$A:$A,$B13,'Base TKU'!$B:$B,\"NORTE\")/1000000","v":0},{"$f":"SUMIFS('Base TKU'!BB:BB,'Base TKU'!$A:$A,$B13,'Base TKU'!$B:$B,\"NORTE\")/1000000","v":0},{"$f":"SUMIFS('Base TKU'!BC:BC,'Base TKU'!$A:$A,$B13,'Base TKU'!$B:$B,\"NORTE\")/1000000","v":0},null,{"$f":"SUMIFS('Base TKU'!BE:BE,'Base TKU'!$A:$A,$B13,'Base TKU'!$B:$B,\"NORTE\")/1000000","v":0},{"$f":"SUMIFS('Base TKU'!BF:BF,'Base TKU'!$A:$A,$B13,'Base TKU'!$B:$B,\"NORTE\")/1000000","v":0},{"$f":"SUMIFS('Base TKU'!BG:BG,'Base TKU'!$A:$A,$B13,'Base TKU'!$B:$B,\"NORTE\")/1000000","v":0},{"$f":"SUMIFS('Base TKU'!BH:BH,'Base TKU'!$A:$A,$B13,'Base TKU'!$B:$B,\"NORTE\")/1000000","v":0},{"$f":"SUMIFS('Base TKU'!BI:BI,'Base TKU'!$A:$A,$B13,'Base TKU'!$B:$B,\"NORTE\")/1000000","v":0},{"$f":"SUMIFS('Base TKU'!BJ:BJ,'Base TKU'!$A:$A,$B13,'Base TKU'!$B:$B,\"NORTE\")/1000000","v":0},{"$f":"SUMIFS('Base TKU'!BK:BK,'Base TKU'!$A:$A,$B13,'Base TKU'!$B:$B,\"NORTE\")/1000000","v":0},{"$f":"SUMIFS('Base TKU'!BL:BL,'Base TKU'!$A:$A,$B13,'Base TKU'!$B:$B,\"NORTE\")/1000000","v":0},{"$f":"SUMIFS('Base TKU'!BM:BM,'Base TKU'!$A:$A,$B13,'Base TKU'!$B:$B,\"NORTE\")/1000000","v":0},{"$f":"SUMIFS('Base TKU'!BN:BN,'Base TKU'!$A:$A,$B13,'Base TKU'!$B:$B,\"NORTE\")/1000000","v":0},{"$f":"SUMIFS('Base TKU'!BO:BO,'Base TKU'!$A:$A,$B13,'Base TKU'!$B:$B,\"NORTE\")/1000000","v":0},{"$f":"SUMIFS('Base TKU'!BP:BP,'Base TKU'!$A:$A,$B13,'Base TKU'!$B:$B,\"NORTE\")/1000000","v":0},null,{"$f":"SUMIFS('Base TKU'!BR:BR,'Base TKU'!$A:$A,$B13,'Base TKU'!$B:$B,\"NORTE\")/1000000","v":0},{"$f":"SUMIFS('Base TKU'!BS:BS,'Base TKU'!$A:$A,$B13,'Base TKU'!$B:$B,\"NORTE\")/1000000","v":0},{"$f":"SUMIFS('Base TKU'!BT:BT,'Base TKU'!$A:$A,$B13,'Base TKU'!$B:$B,\"NORTE\")/1000000","v":0},{"$f":"SUMIFS('Base TKU'!BU:BU,'Base TKU'!$A:$A,$B13,'Base TKU'!$B:$B,\"NORTE\")/1000000","v":0},{"$f":"SUMIFS('Base TKU'!BV:BV,'Base TKU'!$A:$A,$B13,'Base TKU'!$B:$B,\"NORTE\")/1000000","v":0},{"$f":"SUMIFS('Base TKU'!BW:BW,'Base TKU'!$A:$A,$B13,'Base TKU'!$B:$B,\"NORTE\")/1000000","v":0},{"$f":"SUMIFS('Base TKU'!BX:BX,'Base TKU'!$A:$A,$B13,'Base TKU'!$B:$B,\"NORTE\")/1000000","v":0},{"$f":"SUMIFS('Base TKU'!BY:BY,'Base TKU'!$A:$A,$B13,'Base TKU'!$B:$B,\"NORTE\")/1000000","v":0},{"$f":"SUMIFS('Base TKU'!BZ:BZ,'Base TKU'!$A:$A,$B13,'Base TKU'!$B:$B,\"NORTE\")/1000000","v":0},{"$f":"SUMIFS('Base TKU'!CA:CA,'Base TKU'!$A:$A,$B13,'Base TKU'!$B:$B,\"NORTE\")/1000000","v":0},{"$f":"SUMIFS('Base TKU'!CB:CB,'Base TKU'!$A:$A,$B13,'Base TKU'!$B:$B,\"NORTE\")/1000000","v":0},{"$f":"SUMIFS('Base TKU'!CC:CC,'Base TKU'!$A:$A,$B13,'Base TKU'!$B:$B,\"NORTE\")/1000000","v":0},null,{"$f":"SUMIFS('Base TKU'!CE:CE,'Base TKU'!$A:$A,$B13,'Base TKU'!$B:$B,\"NORTE\")/1000000","v":0},{"$f":"SUMIFS('Base TKU'!CF:CF,'Base TKU'!$A:$A,$B13,'Base TKU'!$B:$B,\"NORTE\")/1000000","v":0},{"$f":"SUMIFS('Base TKU'!CG:CG,'Base TKU'!$A:$A,$B13,'Base TKU'!$B:$B,\"NORTE\")/1000000","v":0},{"$f":"SUMIFS('Base TKU'!CH:CH,'Base TKU'!$A:$A,$B13,'Base TKU'!$B:$B,\"NORTE\")/1000000","v":0},{"$f":"SUMIFS('Base TKU'!CI:CI,'Base TKU'!$A:$A,$B13,'Base TKU'!$B:$B,\"NORTE\")/1000000","v":0},{"$f":"SUMIFS('Base TKU'!CJ:CJ,'Base TKU'!$A:$A,$B13,'Base TKU'!$B:$B,\"NORTE\")/1000000","v":0},{"$f":"SUMIFS('Base TKU'!CK:CK,'Base TKU'!$A:$A,$B13,'Base TKU'!$B:$B,\"NORTE\")/1000000","v":0},{"$f":"SUMIFS('Base TKU'!CL:CL,'Base TKU'!$A:$A,$B13,'Base TKU'!$B:$B,\"NORTE\")/1000000","v":0},{"$f":"SUMIFS('Base TKU'!CM:CM,'Base TKU'!$A:$A,$B13,'Base TKU'!$B:$B,\"NORTE\")/1000000","v":0},{"$f":"SUMIFS('Base TKU'!CN:CN,'Base TKU'!$A:$A,$B13,'Base TKU'!$B:$B,\"NORTE\")/1000000","v":0},{"$f":"SUMIFS('Base TKU'!CO:CO,'Base TKU'!$A:$A,$B13,'Base TKU'!$B:$B,\"NORTE\")/1000000","v":0},{"$f":"SUMIFS('Base TKU'!CP:CP,'Base TKU'!$A:$A,$B13,'Base TKU'!$B:$B,\"NORTE\")/1000000","v":0}]
[null,"Malte",null,{"$f":"SUMIFS('Base TKU'!E:E,'Base TKU'!$A:$A,$B14,'Base TKU'!$B:$B,\"NORTE\")/1000000","v":0},{"$f":"SUMIFS('Base TKU'!F:F,'Base TKU'!$A:$A,$B14,'Base TKU'!$B:$B,\"NORTE\")/1000000","v":0},{"$f":"SUMIFS('Base TKU'!G:G,'Base TKU'!$A:$A,$B14,'Base TKU'!$B:$B,\"NORTE\")/1000000","v":0},{"$f":"SUMIFS('Base TKU'!H:H,'Base TKU'!$A:$A,$B14,'Base TKU'!$B:$B,\"NORTE\")/1000000","v":0},{"$f":"SUMIFS('Base TKU'!I:I,'Base TKU'!$A:$A,$B14,'Base TKU'!$B:$B,\"NORTE\")/1000000","v":0},{"$f":"SUMIFS('Base TKU'!J:J,'Base TKU'!$A:$A,$B14,'Base TKU'!$B:$B,\"NORTE\")/1000000","v":0},{"$f":"SUMIFS('Base TKU'!K:K,'Base TKU'!$A:$A,$B14,'Base TKU'!$B:$B,\"NORTE\")/1000000","v":0},{"$f":"SUMIFS('Base TKU'!L:L,'Base TKU'!$A:$A,$B14,'Base TKU'!$B:$B,\"NORTE\")/1000000","v":0},{"$f":"SUMIFS('Base TKU'!M:M,'Base TKU'!$A:$A,$B14,'Base TKU'!$B:$B,\"NORTE\")/1000000","v":0},{"$f":"SUMIFS('Base TKU'!N:N,'Base TKU'!$A:$A,$B14,'Base TKU'!$B:$B,\"NORTE\")/1000000","v":0},{"$f":"SUMIFS('Base TKU'!O:O,'Base TKU'!$A:$A,$B14,'Base TKU'!$B:$B,\"NORTE\")/1000000","v":0},{"$f":"SUMIFS('Base TKU'!P:P,'Base TKU'!$A:$A,$B14,'Base TKU'!$B:$B,\"NORTE\")/1000000","v":0},null,{"$f":"SUMIFS('Base TKU'!R:R,'Base TKU'!$A:$A,$B14,'Base TKU'!$B:$B,\"NORTE\")/1000000","v":0},{"$f":"SUMIFS('Base TKU'!S:S,'Base TKU'!$A:$A,$B14,'Base TKU'!$B:$B,\"NORTE\")/1000000","v":0},{"$f":"SUMIFS('Base TKU'!T:T,'Base TKU'!$A:$A,$B14,'Base TKU'!$B:$B,\"NORTE\")/1000000","v":0},{"$f":"SUMIFS('Base TKU'!U:U,'Base TKU'!$A:$A,$B14,'Base TKU'!$B:$B,\"NORTE\")/1000000","v":0},{"$f":"SUMIFS('Base TKU'!V:V,'Base TKU'!$A:$A,$B14,'Base TKU'!$B:$B,\"NORTE\")/1000000","v":0},{"$f":"SUMIFS('Base TKU'!W:W,'Base TKU'!$A:$A,$B14,'Base TKU'!$B:$B,\"NORTE\")/1000000","v":0},{"$f":"SUMIFS('Base TKU'!X:X,'Base TKU'!$A:$A,$B14,'Base TKU'!$B:$B,\"NORTE\")/1000000","v":0},{"$f":"SUMIFS('Base TKU'!Y:Y,'Base TKU'!$A:$A,$B14,'Base TKU'!$B:$B,\"NORTE\")/1000000","v":0},{"$f":"SUMIFS('Base TKU'!Z:Z,'Base TKU'!$A:$A,$B14,'Base TKU'!$B:$B,\"NORTE\")/1000000","v":0},{"$f":"SUMIFS('Base TKU'!AA:AA,'Base TKU'!$A:$A,$B14,'Base TKU'!$B:$B,\"NORTE\")/1000000","v":0},{"$f":"SUMIFS('Base TKU'!AB:AB,'Base TKU'!$A:$A,$B14,'Base TKU'!$B:$B,\"NORTE\")/1000000","v":0},{"$f":"SUMIFS('Base TKU'!AC:AC,'Base TKU'!$A:$A,$B14,'Base TKU'!$B:$B,\"NORTE\")/1000000","v":0},null,{"$f":"SUMIFS('Base TKU'!AE:AE,'Base TKU'!$A:$A,$B14,'Base TKU'!$B:$B,\"NORTE\")/1000000","v":0},{"$f":"SUMIFS('Base TKU'!AF:AF,'Base TKU'!$A:$A,$B14,'Base TKU'!$B:$B,\"NORTE\")/1000000","v":0},{"$f":"SUMIFS('Base TKU'!AG:AG,'Base TKU'!$A:$A,$B14,'Base TKU'!$B:$B,\"NORTE\")/1000000","v":0},{"$f":"SUMIFS('Base TKU'!AH:AH,'Base TKU'!$A:$A,$B14,'Base TKU'!$B:$B,\"NORTE\")/1000000","v":0},{"$f":"SUMIFS('Base TKU'!AI:AI,'Base TKU'!$A:$A,$B14,'Base TKU'!$B:$B,\"NORTE\")/1000000","v":0},{"$f":"SUMIFS('Base TKU'!AJ:AJ,'Base TKU'!$A:$A,$B14,'Base TKU'!$B:$B,\"NORTE\")/1000000","v":0},{"$f":"SUMIFS('Base TKU'!AK:AK,'Base TKU'!$A:$A,$B14,'Base TKU'!$B:$B,\"NORTE\")/1000000","v":0},{"$f":"SUMIFS('Base TKU'!AL:AL,'Base TKU'!$A:$A,$B14,'Base TKU'!$B:$B,\"NORTE\")/1000000","v":0},{"$f":"SUMIFS('Base TKU'!AM:AM,'Base TKU'!$A:$A,$B14,'Base TKU'!$B:$B,\"NORTE\")/1000000","v":0},{"$f":"SUMIFS('Base TKU'!AN:AN,'Base TKU'!$A:$A,$B14,'Base TKU'!$B:$B,\"NORTE\")/1000000","v":0},{"$f":"SUMIFS('Base TKU'!AO:AO,'Base TKU'!$A:$A,$B14,'Base TKU'!$B:$B,\"NORTE\")/1000000","v":0},{"$f":"SUMIFS('Base TKU'!AP:AP,'Base TKU'!$A:$A,$B14,'Base TKU'!$B:$B,\"NORTE\")/1000000","v":0},null,{"$f":"SUMIFS('Base TKU'!AR:AR,'Base TKU'!$A:$A,$B14,'Base TKU'!$B:$B,\"NORTE\")/1000000","v":0},{"$f":"SUMIFS('Base TKU'!AS:AS,'Base TKU'!$A:$A,$B14,'Base TKU'!$B:$B,\"NORTE\")/1000000","v":0},{"$f":"SUMIFS('Base TKU'!AT:AT,'Base TKU'!$A:$A,$B14,'Base TKU'!$B:$B,\"NORTE\")/1000000","v":0},{"$f":"SUMIFS('Base TKU'!AU:AU,'Base TKU'!$A:$A,$B14,'Base TKU'!$B:$B,\"NORTE\")/1000000","v":0},{"$f":"SUMIFS('Base TKU'!AV:AV,'Base TKU'!$A:$A,$B14,'Base TKU'!$B:$B,\"NORTE\")/1000000","v":0},{"$f":"SUMIFS('Base TKU'!AW:AW,'Base TKU'!$A:$A,$B14,'Base TKU'!$B:$B,\"NORTE\")/1000000","v":0},{"$f":"SUMIFS('Base TKU'!AX:AX,'Base TKU'!$A:$A,$B14,'Base TKU'!$B:$B,\"NORTE\")/1000000","v":0},{"$f":"SUMIFS('Base TKU'!AY:AY,'Base TKU'!$A:$A,$B14,'Base TKU'!$B:$B,\"NORTE\")/1000000","v":0},{"$f":"SUMIFS('Base TKU'!AZ:AZ,'Base TKU'!$A:$A,$B14,'Base TKU'!$B:$B,\"NORTE\")/1000000","v":0},{"$f":"SUMIFS('Base TKU'!BA:BA,'Base TKU'!$A:$A,$B14,'Base TKU'!$B:$B,\"NORTE\")/1000000","v":0},{"$f":"SUMIFS('Base TKU'!BB:BB,'Base TKU'!$A:$A,$B14,'Base TKU'!$B:$B,\"NORTE\")/1000000","v":0},{"$f":"SUMIFS('Base TKU'!BC:BC,'Base TKU'!$A:$A,$B14,'Base TKU'!$B:$B,\"NORTE\")/1000000","v":0},null,{"$f":"SUMIFS('Base TKU'!BE:BE,'Base TKU'!$A:$A,$B14,'Base TKU'!$B:$B,\"NORTE\")/1000000","v":0},{"$f":"SUMIFS('Base TKU'!BF:BF,'Base TKU'!$A:$A,$B14,'Base TKU'!$B:$B,\"NORTE\")/1000000","v":0},{"$f":"SUMIFS('Base TKU'!BG:BG,'Base TKU'!$A:$A,$B14,'Base TKU'!$B:$B,\"NORTE\")/1000000","v":0},{"$f":"SUMIFS('Base TKU'!BH:BH,'Base TKU'!$A:$A,$B14,'Base TKU'!$B:$B,\"NORTE\")/1000000","v":0},{"$f":"SUMIFS('Base TKU'!BI:BI,'Base TKU'!$A:$A,$B14,'Base TKU'!$B:$B,\"NORTE\")/1000000","v":0},{"$f":"SUMIFS('Base TKU'!BJ:BJ,'Base TKU'!$A:$A,$B14,'Base TKU'!$B:$B,\"NORTE\")/1000000","v":0},{"$f":"SUMIFS('Base TKU'!BK:BK,'Base TKU'!$A:$A,$B14,'Base TKU'!$B:$B,\"NORTE\")/1000000","v":0},{"$f":"SUMIFS('Base TKU'!BL:BL,'Base TKU'!$A:$A,$B14,'Base TKU'!$B:$B,\"NORTE\")/1000000","v":0},{"$f":"SUMIFS('Base TKU'!BM:BM,'Base TKU'!$A:$A,$B14,'Base TKU'!$B:$B,\"NORTE\")/1000000","v":0},{"$f":"SUMIFS('Base TKU'!BN:BN,'Base TKU'!$A:$A,$B14,'Base TKU'!$B:$B,\"NORTE\")/1000000","v":0},{"$f":"SUMIFS('Base TKU'!BO:BO,'Base TKU'!$A:$A,$B14,'Base TKU'!$B:$B,\"NORTE\")/1000000","v":0},{"$f":"SUMIFS('Base TKU'!BP:BP,'Base TKU'!$A:$A,$B14,'Base TKU'!$B:$B,\"NORTE\")/1000000","v":0},null,{"$f":"SUMIFS('Base TKU'!BR:BR,'Base TKU'!$A:$A,$B14,'Base TKU'!$B:$B,\"NORTE\")/1000000","v":0},{"$f":"SUMIFS('Base TKU'!BS:BS,'Base TKU'!$A:$A,$B14,'Base TKU'!$B:$B,\"NORTE\")/1000000","v":0},{"$f":"SUMIFS('Base TKU'!BT:BT,'Base TKU'!$A:$A,$B14,'Base TKU'!$B:$B,\"NORTE\")/1000000","v":0},{"$f":"SUMIFS('Base TKU'!BU:BU,'Base TKU'!$A:$A,$B14,'Base TKU'!$B:$B,\"NORTE\")/1000000","v":0},{"$f":"SUMIFS('Base TKU'!BV:BV,'Base TKU'!$A:$A,$B14,'Base TKU'!$B:$B,\"NORTE\")/1000000","v":0},{"$f":"SUMIFS('Base TKU'!BW:BW,'Base TKU'!$A:$A,$B14,'Base TKU'!$B:$B,\"NORTE\")/1000000","v":0},{"$f":"SUMIFS('Base TKU'!BX:BX,'Base TKU'!$A:$A,$B14,'Base TKU'!$B:$B,\"NORTE\")/1000000","v":0},{"$f":"SUMIFS('Base TKU'!BY:BY,'Base TKU'!$A:$A,$B14,'Base TKU'!$B:$B,\"NORTE\")/1000000","v":0},{"$f":"SUMIFS('Base TKU'!BZ:BZ,'Base TKU'!$A:$A,$B14,'Base TKU'!$B:$B,\"NORTE\")/1000000","v":0},{"$f":"SUMIFS('Base TKU'!CA:CA,'Base TKU'!$A:$A,$B14,'Base TKU'!$B:$B,\"NORTE\")/1000000","v":0},{"$f":"SUMIFS('Base TKU'!CB:CB,'Base TKU'!$A:$A,$B14,'Base TKU'!$B:$B,\"NORTE\")/1000000","v":0},{"$f":"SUMIFS('Base TKU'!CC:CC,'Base TKU'!$A:$A,$B14,'Base TKU'!$B:$B,\"NORTE\")/1000000","v":0},null,{"$f":"SUMIFS('Base TKU'!CE:CE,'Base TKU'!$A:$A,$B14,'Base TKU'!$B:$B,\"NORTE\")/1000000","v":0},{"$f":"SUMIFS('Base TKU'!CF:CF,'Base TKU'!$A:$A,$B14,'Base TKU'!$B:$B,\"NORTE\")/1000000","v":0},{"$f":"SUMIFS('Base TKU'!CG:CG,'Base TKU'!$A:$A,$B14,'Base TKU'!$B:$B,\"NORTE\")/1000000","v":0},{"$f":"SUMIFS('Base TKU'!CH:CH,'Base TKU'!$A:$A,$B14,'Base TKU'!$B:$B,\"NORTE\")/1000000","v":0},{"$f":"SUMIFS('Base TKU'!CI:CI,'Base TKU'!$A:$A,$B14,'Base TKU'!$B:$B,\"NORTE\")/1000000","v":0},{"$f":"SUMIFS('Base TKU'!CJ:CJ,'Base TKU'!$A:$A,$B14,'Base TKU'!$B:$B,\"NORTE\")/1000000","v":0},{"$f":"SUMIFS('Base TKU'!CK:CK,'Base TKU'!$A:$A,$B14,'Base TKU'!$B:$B,\"NORTE\")/1000000","v":0},{"$f":"SUMIFS('Base TKU'!CL:CL,'Base TKU'!$A:$A,$B14,'Base TKU'!$B:$B,\"NORTE\")/1000000","v":0},{"$f":"SUMIFS('Base TKU'!CM:CM,'Base TKU'!$A:$A,$B14,'Base TKU'!$B:$B,\"NORTE\")/1000000","v":0},{"$f":"SUMIFS('Base TKU'!CN:CN,'Base TKU'!$A:$A,$B14,'Base TKU'!$B:$B,\"NORTE\")/1000000","v":0},{"$f":"SUMIFS('Base TKU'!CO:CO,'Base TKU'!$A:$A,$B14,'Base TKU'!$B:$B,\"NORTE\")/1000000","v":0},{"$f":"SUMIFS('Base TKU'!CP:CP,'Base TKU'!$A:$A,$B14,'Base TKU'!$B:$B,\"NORTE\")/1000000","v":0}]
[null,"Farelo de Milho",null,{"$f":"SUMIFS('Base TKU'!E:E,'Base TKU'!$A:$A,$B15,'Base TKU'!$B:$B,\"NORTE\")/1000000","v":0},{"$f":"SUMIFS('Base TKU'!F:F,'Base TKU'!$A:$A,$B15,'Base TKU'!$B:$B,\"NORTE\")/1000000","v":0},{"$f":"SUMIFS('Base TKU'!G:G,'Base TKU'!$A:$A,$B15,'Base TKU'!$B:$B,\"NORTE\")/1000000","v":0},{"$f":"SUMIFS('Base TKU'!H:H,'Base TKU'!$A:$A,$B15,'Base TKU'!$B:$B,\"NORTE\")/1000000","v":0},{"$f":"SUMIFS('Base TKU'!I:I,'Base TKU'!$A:$A,$B15,'Base TKU'!$B:$B,\"NORTE\")/1000000","v":0},{"$f":"SUMIFS('Base TKU'!J:J,'Base TKU'!$A:$A,$B15,'Base TKU'!$B:$B,\"NORTE\")/1000000","v":0},{"$f":"SUMIFS('Base TKU'!K:K,'Base TKU'!$A:$A,$B15,'Base TKU'!$B:$B,\"NORTE\")/1000000","v":0},{"$f":"SUMIFS('Base TKU'!L:L,'Base TKU'!$A:$A,$B15,'Base TKU'!$B:$B,\"NORTE\")/1000000","v":0},{"$f":"SUMIFS('Base TKU'!M:M,'Base TKU'!$A:$A,$B15,'Base TKU'!$B:$B,\"NORTE\")/1000000","v":0},{"$f":"SUMIFS('Base TKU'!N:N,'Base TKU'!$A:$A,$B15,'Base TKU'!$B:$B,\"NORTE\")/1000000","v":0},{"$f":"SUMIFS('Base TKU'!O:O,'Base TKU'!$A:$A,$B15,'Base TKU'!$B:$B,\"NORTE\")/1000000","v":0},{"$f":"SUMIFS('Base TKU'!P:P,'Base TKU'!$A:$A,$B15,'Base TKU'!$B:$B,\"NORTE\")/1000000","v":0},null,{"$f":"SUMIFS('Base TKU'!R:R,'Base TKU'!$A:$A,$B15,'Base TKU'!$B:$B,\"NORTE\")/1000000","v":0},{"$f":"SUMIFS('Base TKU'!S:S,'Base TKU'!$A:$A,$B15,'Base TKU'!$B:$B,\"NORTE\")/1000000","v":0},{"$f":"SUMIFS('Base TKU'!T:T,'Base TKU'!$A:$A,$B15,'Base TKU'!$B:$B,\"NORTE\")/1000000","v":0},{"$f":"SUMIFS('Base TKU'!U:U,'Base TKU'!$A:$A,$B15,'Base TKU'!$B:$B,\"NORTE\")/1000000","v":0},{"$f":"SUMIFS('Base TKU'!V:V,'Base TKU'!$A:$A,$B15,'Base TKU'!$B:$B,\"NORTE\")/1000000","v":0},{"$f":"SUMIFS('Base TKU'!W:W,'Base TKU'!$A:$A,$B15,'Base TKU'!$B:$B,\"NORTE\")/1000000","v":0},{"$f":"SUMIFS('Base TKU'!X:X,'Base TKU'!$A:$A,$B15,'Base TKU'!$B:$B,\"NORTE\")/1000000","v":0},{"$f":"SUMIFS('Base TKU'!Y:Y,'Base TKU'!$A:$A,$B15,'Base TKU'!$B:$B,\"NORTE\")/1000000","v":0},{"$f":"SUMIFS('Base TKU'!Z:Z,'Base TKU'!$A:$A,$B15,'Base TKU'!$B:$B,\"NORTE\")/1000000","v":0},{"$f":"SUMIFS('Base TKU'!AA:AA,'Base TKU'!$A:$A,$B15,'Base TKU'!$B:$B,\"NORTE\")/1000000","v":0},{"$f":"SUMIFS('Base TKU'!AB:AB,'Base TKU'!$A:$A,$B15,'Base TKU'!$B:$B,\"NORTE\")/1000000","v":0},{"$f":"SUMIFS('Base TKU'!AC:AC,'Base TKU'!$A:$A,$B15,'Base TKU'!$B:$B,\"NORTE\")/1000000","v":0},null,{"$f":"SUMIFS('Base TKU'!AE:AE,'Base TKU'!$A:$A,$B15,'Base TKU'!$B:$B,\"NORTE\")/1000000","v":0},{"$f":"SUMIFS('Base TKU'!AF:AF,'Base TKU'!$A:$A,$B15,'Base TKU'!$B:$B,\"NORTE\")/1000000","v":0},{"$f":"SUMIFS('Base TKU'!AG:AG,'Base TKU'!$A:$A,$B15,'Base TKU'!$B:$B,\"NORTE\")/1000000","v":0},{"$f":"SUMIFS('Base TKU'!AH:AH,'Base TKU'!$A:$A,$B15,'Base TKU'!$B:$B,\"NORTE\")/1000000","v":0},{"$f":"SUMIFS('Base TKU'!AI:AI,'Base TKU'!$A:$A,$B15,'Base TKU'!$B:$B,\"NORTE\")/1000000","v":0},{"$f":"SUMIFS('Base TKU'!AJ:AJ,'Base TKU'!$A:$A,$B15,'Base TKU'!$B:$B,\"NORTE\")/1000000","v":0},{"$f":"SUMIFS('Base TKU'!AK:AK,'Base TKU'!$A:$A,$B15,'Base TKU'!$B:$B,\"NORTE\")/1000000","v":0},{"$f":"SUMIFS('Base TKU'!AL:AL,'Base TKU'!$A:$A,$B15,'Base TKU'!$B:$B,\"NORTE\")/1000000","v":0},{"$f":"SUMIFS('Base TKU'!AM:AM,'Base TKU'!$A:$A,$B15,'Base TKU'!$B:$B,\"NORTE\")/1000000","v":0},{"$f":"SUMIFS('Base TKU'!AN:AN,'Base TKU'!$A:$A,$B15,'Base TKU'!$B:$B,\"NORTE\")/1000000","v":0},{"$f":"SUMIFS('Base TKU'!AO:AO,'Base TKU'!$A:$A,$B15,'Base TKU'!$B:$B,\"NORTE\")/1000000","v":0},{"$f":"SUMIFS('Base TKU'!AP:AP,'Base TKU'!$A:$A,$B15,'Base TKU'!$B:$B,\"NORTE\")/1000000","v":0},null,{"$f":"SUMIFS('Base TKU'!AR:AR,'Base TKU'!$A:$A,$B15,'Base TKU'!$B:$B,\"NORTE\")/1000000","v":0},{"$f":"SUMIFS('Base TKU'!AS:AS,'Base TKU'!$A:$A,$B15,'Base TKU'!$B:$B,\"NORTE\")/1000000","v":0},{"$f":"SUMIFS('Base TKU'!AT:AT,'Base TKU'!$A:$A,$B15,'Base TKU'!$B:$B,\"NORTE\")/1000000","v":0},{"$f":"SUMIFS('Base TKU'!AU:AU,'Base TKU'!$A:$A,$B15,'Base TKU'!$B:$B,\"NORTE\")/1000000","v":0},{"$f":"SUMIFS('Base TKU'!AV:AV,'Base TKU'!$A:$A,$B15,'Base TKU'!$B:$B,\"NORTE\")/1000000","v":0},{"$f":"SUMIFS('Base TKU'!AW:AW,'Base TKU'!$A:$A,$B15,'Base TKU'!$B:$B,\"NORTE\")/1000000","v":0},{"$f":"SUMIFS('Base TKU'!AX:AX,'Base TKU'!$A:$A,$B15,'Base TKU'!$B:$B,\"NORTE\")/1000000","v":0},{"$f":"SUMIFS('Base TKU'!AY:AY,'Base TKU'!$A:$A,$B15,'Base TKU'!$B:$B,\"NORTE\")/1000000","v":0},{"$f":"SUMIFS('Base TKU'!AZ:AZ,'Base TKU'!$A:$A,$B15,'Base TKU'!$B:$B,\"NORTE\")/1000000","v":0},{"$f":"SUMIFS('Base TKU'!BA:BA,'Base TKU'!$A:$A,$B15,'Base TKU'!$B:$B,\"NORTE\")/1000000","v":0},{"$f":"SUMIFS('Base TKU'!BB:BB,'Base TKU'!$A:$A,$B15,'Base TKU'!$B:$B,\"NORTE\")/1000000","v":0},{"$f":"SUMIFS('Base TKU'!BC:BC,'Base TKU'!$A:$A,$B15,'Base TKU'!$B:$B,\"NORTE\")/1000000","v":20.738520000000001},null,{"$f":"SUMIFS('Base TKU'!BE:BE,'Base TKU'!$A:$A,$B15,'Base TKU'!$B:$B,\"NORTE\")/1000000","v":18.105539},{"$f":"SUMIFS('Base TKU'!BF:BF,'Base TKU'!$A:$A,$B15,'Base TKU'!$B:$B,\"NORTE\")/1000000","v":0},{"$f":"SUMIFS('Base TKU'!BG:BG,'Base TKU'!$A:$A,$B15,'Base TKU'!$B:$B,\"NORTE\")/1000000","v":0},{"$f":"SUMIFS('Base TKU'!BH:BH,'Base TKU'!$A:$A,$B15,'Base TKU'!$B:$B,\"NORTE\")/1000000","v":0},{"$f":"SUMIFS('Base TKU'!BI:BI,'Base TKU'!$A:$A,$B15,'Base TKU'!$B:$B,\"NORTE\")/1000000","v":0},{"$f":"SUMIFS('Base TKU'!BJ:BJ,'Base TKU'!$A:$A,$B15,'Base TKU'!$B:$B,\"NORTE\")/1000000","v":0},{"$f":"SUMIFS('Base TKU'!BK:BK,'Base TKU'!$A:$A,$B15,'Base TKU'!$B:$B,\"NORTE\")/1000000","v":0},{"$f":"SUMIFS('Base TKU'!BL:BL,'Base TKU'!$A:$A,$B15,'Base TKU'!$B:$B,\"NORTE\")/1000000","v":0},{"$f":"SUMIFS('Base TKU'!BM:BM,'Base TKU'!$A:$A,$B15,'Base TKU'!$B:$B,\"NORTE\")/1000000","v":0},{"$f":"SUMIFS('Base TKU'!BN:BN,'Base TKU'!$A:$A,$B15,'Base TKU'!$B:$B,\"NORTE\")/1000000","v":0},{"$f":"SUMIFS('Base TKU'!BO:BO,'Base TKU'!$A:$A,$B15,'Base TKU'!$B:$B,\"NORTE\")/1000000","v":0},{"$f":"SUMIFS('Base TKU'!BP:BP,'Base TKU'!$A:$A,$B15,'Base TKU'!$B:$B,\"NORTE\")/1000000","v":0},null,{"$f":"SUMIFS('Base TKU'!BR:BR,'Base TKU'!$A:$A,$B15,'Base TKU'!$B:$B,\"NORTE\")/1000000","v":0},{"$f":"SUMIFS('Base TKU'!BS:BS,'Base TKU'!$A:$A,$B15,'Base TKU'!$B:$B,\"NORTE\")/1000000","v":0},{"$f":"SUMIFS('Base TKU'!BT:BT,'Base TKU'!$A:$A,$B15,'Base TKU'!$B:$B,\"NORTE\")/1000000","v":0},{"$f":"SUMIFS('Base TKU'!BU:BU,'Base TKU'!$A:$A,$B15,'Base TKU'!$B:$B,\"NORTE\")/1000000","v":0},{"$f":"SUMIFS('Base TKU'!BV:BV,'Base TKU'!$A:$A,$B15,'Base TKU'!$B:$B,\"NORTE\")/1000000","v":0},{"$f":"SUMIFS('Base TKU'!BW:BW,'Base TKU'!$A:$A,$B15,'Base TKU'!$B:$B,\"NORTE\")/1000000","v":0},{"$f":"SUMIFS('Base TKU'!BX:BX,'Base TKU'!$A:$A,$B15,'Base TKU'!$B:$B,\"NORTE\")/1000000","v":0},{"$f":"SUMIFS('Base TKU'!BY:BY,'Base TKU'!$A:$A,$B15,'Base TKU'!$B:$B,\"NORTE\")/1000000","v":0},{"$f":"SUMIFS('Base TKU'!BZ:BZ,'Base TKU'!$A:$A,$B15,'Base TKU'!$B:$B,\"NORTE\")/1000000","v":0},{"$f":"SUMIFS('Base TKU'!CA:CA,'Base TKU'!$A:$A,$B15,'Base TKU'!$B:$B,\"NORTE\")/1000000","v":0},{"$f":"SUMIFS('Base TKU'!CB:CB,'Base TKU'!$A:$A,$B15,'Base TKU'!$B:$B,\"NORTE\")/1000000","v":0},{"$f":"SUMIFS('Base TKU'!CC:CC,'Base TKU'!$A:$A,$B15,'Base TKU'!$B:$B,\"NORTE\")/1000000","v":0},null,{"$f":"SUMIFS('Base TKU'!CE:CE,'Base TKU'!$A:$A,$B15,'Base TKU'!$B:$B,\"NORTE\")/1000000","v":0},{"$f":"SUMIFS('Base TKU'!CF:CF,'Base TKU'!$A:$A,$B15,'Base TKU'!$B:$B,\"NORTE\")/1000000","v":0},{"$f":"SUMIFS('Base TKU'!CG:CG,'Base TKU'!$A:$A,$B15,'Base TKU'!$B:$B,\"NORTE\")/1000000","v":0},{"$f":"SUMIFS('Base TKU'!CH:CH,'Base TKU'!$A:$A,$B15,'Base TKU'!$B:$B,\"NORTE\")/1000000","v":0},{"$f":"SUMIFS('Base TKU'!CI:CI,'Base TKU'!$A:$A,$B15,'Base TKU'!$B:$B,\"NORTE\")/1000000","v":0},{"$f":"SUMIFS('Base TKU'!CJ:CJ,'Base TKU'!$A:$A,$B15,'Base TKU'!$B:$B,\"NORTE\")/1000000","v":0},{"$f":"SUMIFS('Base TKU'!CK:CK,'Base TKU'!$A:$A,$B15,'Base TKU'!$B:$B,\"NORTE\")/1000000","v":0},{"$f":"SUMIFS('Base TKU'!CL:CL,'Base TKU'!$A:$A,$B15,'Base TKU'!$B:$B,\"NORTE\")/1000000","v":0},{"$f":"SUMIFS('Base TKU'!CM:CM,'Base TKU'!$A:$A,$B15,'Base TKU'!$B:$B,\"NORTE\")/1000000","v":0},{"$f":"SUMIFS('Base TKU'!CN:CN,'Base TKU'!$A:$A,$B15,'Base TKU'!$B:$B,\"NORTE\")/1000000","v":0},{"$f":"SUMIFS('Base TKU'!CO:CO,'Base TKU'!$A:$A,$B15,'Base TKU'!$B:$B,\"NORTE\")/1000000","v":0},{"$f":"SUMIFS('Base TKU'!CP:CP,'Base TKU'!$A:$A,$B15,'Base TKU'!$B:$B,\"NORTE\")/1000000","v":0}]
[null,"Contêiner",null,{"$f":"SUMIFS('Base TKU'!E:E,'Base TKU'!$A:$A,$B16,'Base TKU'!$B:$B,\"NORTE\")/1000000","v":80.313918999999999},{"$f":"SUMIFS('Base TKU'!F:F,'Base TKU'!$A:$A,$B16,'Base TKU'!$B:$B,\"NORTE\")/1000000","v":89.996015999999997},{"$f":"SUMIFS('Base TKU'!G:G,'Base TKU'!$A:$A,$B16,'Base TKU'!$B:$B,\"NORTE\")/1000000","v":100.31127499999999},{"$f":"SUMIFS('Base TKU'!H:H,'Base TKU'!$A:$A,$B16,'Base TKU'!$B:$B,\"NORTE\")/1000000","v":91.571785000000006},{"$f":"SUMIFS('Base TKU'!I:I,'Base TKU'!$A:$A,$B16,'Base TKU'!$B:$B,\"NORTE\")/1000000","v":97.752009999999999},{"$f":"SUMIFS('Base TKU'!J:J,'Base TKU'!$A:$A,$B16,'Base TKU'!$B:$B,\"NORTE\")/1000000","v":83.559245000000004},{"$f":"SUMIFS('Base TKU'!K:K,'Base TKU'!$A:$A,$B16,'Base TKU'!$B:$B,\"NORTE\")/1000000","v":89.412357},{"$f":"SUMIFS('Base TKU'!L:L,'Base TKU'!$A:$A,$B16,'Base TKU'!$B:$B,\"NORTE\")/1000000","v":75.172216000000006},{"$f":"SUMIFS('Base TKU'!M:M,'Base TKU'!$A:$A,$B16,'Base TKU'!$B:$B,\"NORTE\")/1000000","v":69.164680000000004},{"$f":"SUMIFS('Base TKU'!N:N,'Base TKU'!$A:$A,$B16,'Base TKU'!$B:$B,\"NORTE\")/1000000","v":75.906739000000002},{"$f":"SUMIFS('Base TKU'!O:O,'Base TKU'!$A:$A,$B16,'Base TKU'!$B:$B,\"NORTE\")/1000000","v":80.897017000000005},{"$f":"SUMIFS('Base TKU'!P:P,'Base TKU'!$A:$A,$B16,'Base TKU'!$B:$B,\"NORTE\")/1000000","v":72.590843000000007},null,{"$f":"SUMIFS('Base TKU'!R:R,'Base TKU'!$A:$A,$B16,'Base TKU'!$B:$B,\"NORTE\")/1000000","v":87.411944000000005},{"$f":"SUMIFS('Base TKU'!S:S,'Base TKU'!$A:$A,$B16,'Base TKU'!$B:$B,\"NORTE\")/1000000","v":63.344560999999999},{"$f":"SUMIFS('Base TKU'!T:T,'Base TKU'!$A:$A,$B16,'Base TKU'!$B:$B,\"NORTE\")/1000000","v":65.941494000000006},{"$f":"SUMIFS('Base TKU'!U:U,'Base TKU'!$A:$A,$B16,'Base TKU'!$B:$B,\"NORTE\")/1000000","v":89.891549999999995},{"$f":"SUMIFS('Base TKU'!V:V,'Base TKU'!$A:$A,$B16,'Base TKU'!$B:$B,\"NORTE\")/1000000","v":115.268207},{"$f":"SUMIFS('Base TKU'!W:W,'Base TKU'!$A:$A,$B16,'Base TKU'!$B:$B,\"NORTE\")/1000000","v":123.953},{"$f":"SUMIFS('Base TKU'!X:X,'Base TKU'!$A:$A,$B16,'Base TKU'!$B:$B,\"NORTE\")/1000000","v":128.02637100000001},{"$f":"SUMIFS('Base TKU'!Y:Y,'Base TKU'!$A:$A,$B16,'Base TKU'!$B:$B,\"NORTE\")/1000000","v":145.190832},{"$f":"SUMIFS('Base TKU'!Z:Z,'Base TKU'!$A:$A,$B16,'Base TKU'!$B:$B,\"NORTE\")/1000000","v":130.634109},{"$f":"SUMIFS('Base TKU'!AA:AA,'Base TKU'!$A:$A,$B16,'Base TKU'!$B:$B,\"NORTE\")/1000000","v":135.36413099999999},{"$f":"SUMIFS('Base TKU'!AB:AB,'Base TKU'!$A:$A,$B16,'Base TKU'!$B:$B,\"NORTE\")/1000000","v":110.149416},{"$f":"SUMIFS('Base TKU'!AC:AC,'Base TKU'!$A:$A,$B16,'Base TKU'!$B:$B,\"NORTE\")/1000000","v":95.406892999999997},null,{"$f":"SUMIFS('Base TKU'!AE:AE,'Base TKU'!$A:$A,$B16,'Base TKU'!$B:$B,\"NORTE\")/1000000","v":44.228946000000001},{"$f":"SUMIFS('Base TKU'!AF:AF,'Base TKU'!$A:$A,$B16,'Base TKU'!$B:$B,\"NORTE\")/1000000","v":163.76929100000001},{"$f":"SUMIFS('Base TKU'!AG:AG,'Base TKU'!$A:$A,$B16,'Base TKU'!$B:$B,\"NORTE\")/1000000","v":157.47645199999999},{"$f":"SUMIFS('Base TKU'!AH:AH,'Base TKU'!$A:$A,$B16,'Base TKU'!$B:$B,\"NORTE\")/1000000","v":163.118955},{"$f":"SUMIFS('Base TKU'!AI:AI,'Base TKU'!$A:$A,$B16,'Base TKU'!$B:$B,\"NORTE\")/1000000","v":127.68886500000001},{"$f":"SUMIFS('Base TKU'!AJ:AJ,'Base TKU'!$A:$A,$B16,'Base TKU'!$B:$B,\"NORTE\")/1000000","v":128.94168500000001},{"$f":"SUMIFS('Base TKU'!AK:AK,'Base TKU'!$A:$A,$B16,'Base TKU'!$B:$B,\"NORTE\")/1000000","v":176.46661800000001},{"$f":"SUMIFS('Base TKU'!AL:AL,'Base TKU'!$A:$A,$B16,'Base TKU'!$B:$B,\"NORTE\")/1000000","v":179.56003100000001},{"$f":"SUMIFS('Base TKU'!AM:AM,'Base TKU'!$A:$A,$B16,'Base TKU'!$B:$B,\"NORTE\")/1000000","v":159.88930300000001},{"$f":"SUMIFS('Base TKU'!AN:AN,'Base TKU'!$A:$A,$B16,'Base TKU'!$B:$B,\"NORTE\")/1000000","v":147.09750600000001},{"$f":"SUMIFS('Base TKU'!AO:AO,'Base TKU'!$A:$A,$B16,'Base TKU'!$B:$B,\"NORTE\")/1000000","v":139.53465499999999},{"$f":"SUMIFS('Base TKU'!AP:AP,'Base TKU'!$A:$A,$B16,'Base TKU'!$B:$B,\"NORTE\")/1000000","v":144.369145},null,{"$f":"SUMIFS('Base TKU'!AR:AR,'Base TKU'!$A:$A,$B16,'Base TKU'!$B:$B,\"NORTE\")/1000000","v":133.64774600000001},{"$f":"SUMIFS('Base TKU'!AS:AS,'Base TKU'!$A:$A,$B16,'Base TKU'!$B:$B,\"NORTE\")/1000000","v":120.81084},{"$f":"SUMIFS('Base TKU'!AT:AT,'Base TKU'!$A:$A,$B16,'Base TKU'!$B:$B,\"NORTE\")/1000000","v":180.56366199999999},{"$f":"SUMIFS('Base TKU'!AU:AU,'Base TKU'!$A:$A,$B16,'Base TKU'!$B:$B,\"NORTE\")/1000000","v":174.52824100000001},{"$f":"SUMIFS('Base TKU'!AV:AV,'Base TKU'!$A:$A,$B16,'Base TKU'!$B:$B,\"NORTE\")/1000000","v":169.21150700000001},{"$f":"SUMIFS('Base TKU'!AW:AW,'Base TKU'!$A:$A,$B16,'Base TKU'!$B:$B,\"NORTE\")/1000000","v":150.20623399999999},{"$f":"SUMIFS('Base TKU'!AX:AX,'Base TKU'!$A:$A,$B16,'Base TKU'!$B:$B,\"NORTE\")/1000000","v":176.77675500000001},{"$f":"SUMIFS('Base TKU'!AY:AY,'Base TKU'!$A:$A,$B16,'Base TKU'!$B:$B,\"NORTE\")/1000000","v":192.41224299999999},{"$f":"SUMIFS('Base TKU'!AZ:AZ,'Base TKU'!$A:$A,$B16,'Base TKU'!$B:$B,\"NORTE\")/1000000","v":186.46196800000001},{"$f":"SUMIFS('Base TKU'!BA:BA,'Base TKU'!$A:$A,$B16,'Base TKU'!$B:$B,\"NORTE\")/1000000","v":179.93737300000001},{"$f":"SUMIFS('Base TKU'!BB:BB,'Base TKU'!$A:$A,$B16,'Base TKU'!$B:$B,\"NORTE\")/1000000","v":199.21485100000001},{"$f":"SUMIFS('Base TKU'!BC:BC,'Base TKU'!$A:$A,$B16,'Base TKU'!$B:$B,\"NORTE\")/1000000","v":184.44444799999999},null,{"$f":"SUMIFS('Base TKU'!BE:BE,'Base TKU'!$A:$A,$B16,'Base TKU'!$B:$B,\"NORTE\")/1000000","v":164.52949799999999},{"$f":"SUMIFS('Base TKU'!BF:BF,'Base TKU'!$A:$A,$B16,'Base TKU'!$B:$B,\"NORTE\")/1000000","v":163.33302},{"$f":"SUMIFS('Base TKU'!BG:BG,'Base TKU'!$A:$A,$B16,'Base TKU'!$B:$B,\"NORTE\")/1000000","v":172.20104499999999},{"$f":"SUMIFS('Base TKU'!BH:BH,'Base TKU'!$A:$A,$B16,'Base TKU'!$B:$B,\"NORTE\")/1000000","v":124.373599},{"$f":"SUMIFS('Base TKU'!BI:BI,'Base TKU'!$A:$A,$B16,'Base TKU'!$B:$B,\"NORTE\")/1000000","v":112.287685},{"$f":"SUMIFS('Base TKU'!BJ:BJ,'Base TKU'!$A:$A,$B16,'Base TKU'!$B:$B,\"NORTE\")/1000000","v":171.10955899999999},{"$f":"SUMIFS('Base TKU'!BK:BK,'Base TKU'!$A:$A,$B16,'Base TKU'!$B:$B,\"NORTE\")/1000000","v":181.07323500000001},{"$f":"SUMIFS('Base TKU'!BL:BL,'Base TKU'!$A:$A,$B16,'Base TKU'!$B:$B,\"NORTE\")/1000000","v":178.257746},{"$f":"SUMIFS('Base TKU'!BM:BM,'Base TKU'!$A:$A,$B16,'Base TKU'!$B:$B,\"NORTE\")/1000000","v":193.70859200000001},{"$f":"SUMIFS('Base TKU'!BN:BN,'Base TKU'!$A:$A,$B16,'Base TKU'!$B:$B,\"NORTE\")/1000000","v":192.47615999999999},{"$f":"SUMIFS('Base TKU'!BO:BO,'Base TKU'!$A:$A,$B16,'Base TKU'!$B:$B,\"NORTE\")/1000000","v":213.07659799999999},{"$f":"SUMIFS('Base TKU'!BP:BP,'Base TKU'!$A:$A,$B16,'Base TKU'!$B:$B,\"NORTE\")/1000000","v":199.32824299999999},null,{"$f":"SUMIFS('Base TKU'!BR:BR,'Base TKU'!$A:$A,$B16,'Base TKU'!$B:$B,\"NORTE\")/1000000","v":172.370169},{"$f":"SUMIFS('Base TKU'!BS:BS,'Base TKU'!$A:$A,$B16,'Base TKU'!$B:$B,\"NORTE\")/1000000","v":161.96500700000001},{"$f":"SUMIFS('Base TKU'!BT:BT,'Base TKU'!$A:$A,$B16,'Base TKU'!$B:$B,\"NORTE\")/1000000","v":166.56570600000001},{"$f":"SUMIFS('Base TKU'!BU:BU,'Base TKU'!$A:$A,$B16,'Base TKU'!$B:$B,\"NORTE\")/1000000","v":204.52103399999999},{"$f":"SUMIFS('Base TKU'!BV:BV,'Base TKU'!$A:$A,$B16,'Base TKU'!$B:$B,\"NORTE\")/1000000","v":199.751544},{"$f":"SUMIFS('Base TKU'!BW:BW,'Base TKU'!$A:$A,$B16,'Base TKU'!$B:$B,\"NORTE\")/1000000","v":219.82129900000001},{"$f":"SUMIFS('Base TKU'!BX:BX,'Base TKU'!$A:$A,$B16,'Base TKU'!$B:$B,\"NORTE\")/1000000","v":224.51829699999999},{"$f":"SUMIFS('Base TKU'!BY:BY,'Base TKU'!$A:$A,$B16,'Base TKU'!$B:$B,\"NORTE\")/1000000","v":254.207065},{"$f":"SUMIFS('Base TKU'!BZ:BZ,'Base TKU'!$A:$A,$B16,'Base TKU'!$B:$B,\"NORTE\")/1000000","v":225.18443600000001},{"$f":"SUMIFS('Base TKU'!CA:CA,'Base TKU'!$A:$A,$B16,'Base TKU'!$B:$B,\"NORTE\")/1000000","v":212.11105800000001},{"$f":"SUMIFS('Base TKU'!CB:CB,'Base TKU'!$A:$A,$B16,'Base TKU'!$B:$B,\"NORTE\")/1000000","v":208.27721399999999},{"$f":"SUMIFS('Base TKU'!CC:CC,'Base TKU'!$A:$A,$B16,'Base TKU'!$B:$B,\"NORTE\")/1000000","v":228.44357199999999},null,{"$f":"SUMIFS('Base TKU'!CE:CE,'Base TKU'!$A:$A,$B16,'Base TKU'!$B:$B,\"NORTE\")/1000000","v":190.346306},{"$f":"SUMIFS('Base TKU'!CF:CF,'Base TKU'!$A:$A,$B16,'Base TKU'!$B:$B,\"NORTE\")/1000000","v":215.85358299999999},{"$f":"SUMIFS('Base TKU'!CG:CG,'Base TKU'!$A:$A,$B16,'Base TKU'!$B:$B,\"NORTE\")/1000000","v":233.815236},{"$f":"SUMIFS('Base TKU'!CH:CH,'Base TKU'!$A:$A,$B16,'Base TKU'!$B:$B,\"NORTE\")/1000000","v":217.93113700000001},{"$f":"SUMIFS('Base TKU'!CI:CI,'Base TKU'!$A:$A,$B16,'Base TKU'!$B:$B,\"NORTE\")/1000000","v":224.973726},{"$f":"SUMIFS('Base TKU'!CJ:CJ,'Base TKU'!$A:$A,$B16,'Base TKU'!$B:$B,\"NORTE\")/1000000","v":0},{"$f":"SUMIFS('Base TKU'!CK:CK,'Base TKU'!$A:$A,$B16,'Base TKU'!$B:$B,\"NORTE\")/1000000","v":0},{"$f":"SUMIFS('Base TKU'!CL:CL,'Base TKU'!$A:$A,$B16,'Base TKU'!$B:$B,\"NORTE\")/1000000","v":0},{"$f":"SUMIFS('Base TKU'!CM:CM,'Base TKU'!$A:$A,$B16,'Base TKU'!$B:$B,\"NORTE\")/1000000","v":0},{"$f":"SUMIFS('Base TKU'!CN:CN,'Base TKU'!$A:$A,$B16,'Base TKU'!$B:$B,\"NORTE\")/1000000","v":0},{"$f":"SUMIFS('Base TKU'!CO:CO,'Base TKU'!$A:$A,$B16,'Base TKU'!$B:$B,\"NORTE\")/1000000","v":0},{"$f":"SUMIFS('Base TKU'!CP:CP,'Base TKU'!$A:$A,$B16,'Base TKU'!$B:$B,\"NORTE\")/1000000","v":0}]
[null,"Produtos Industriais",null,{"$f":"SUM(D18:D21)","v":177.33295699999999},{"$f":"SUM(E18:E21)","v":169.88723999999999},181.76594699999998,174.84392199999999,186.59553199999999,205.499932,200.24381600000001,217.12668300000001,235.69294600000001,228.40213700000001,184.0061,190.88840400000001,null,216.34381099999999,200.28066000000001,209.53282999999999,172.57740699999999,187.91377600000001,213.543205,213.885738,213.73236299999999,186.95747900000001,260.372389,234.50074899999998,251.127816,0,252.95376199999998,264.58987300000001,294.80632900000001,227.458799,262.89546300000001,345.74850300000003,342.411833,339.55378200000001,332.93307299999998,332.45453599999996,327.86153899999999,326.93122800000003,null,332.56469099999998,278.61865499999999,306.48253399999999,289.40691800000002,312.55984899999999,318.93784799999997,341.492975,329.07675700000004,339.454387,355.08237399999996,327.59637299999997,320.71328499999998,null,339.551244,341.335803,308.17456300000003,236.33757499999999,378.17567500000001,358.46293000000003,393.08536600000002,389.31667099999999,428.49429699999996,453.130763,434.85917000000001,365.04928000000001,null,{"$f":"SUM(BQ18:BQ21)","v":390.68746899999996},396.01445000000001,409.87306999999998,413.17425800000001,432.76581999999996,435.27166399999999,461.56664599999999,491.41031900000002,468.74907699999994,493.03100800000004,431.81241399999999,451.11402899999996,null,{"$f":"SUM(CD18:CD21)","v":470.24818400000004},495.15792599999997,528.28796499999999,493.60423300000002,533.82766400000003,0,0,0,0,0,0,0]
[null,"Combustível",null,{"$f":"SUMIFS('Base TKU'!E:E,'Base TKU'!$A:$A,$B18,'Base TKU'!$B:$B,\"NORTE\")/1000000","v":163.50134299999999},{"$f":"SUMIFS('Base TKU'!F:F,'Base TKU'!$A:$A,$B18,'Base TKU'!$B:$B,\"NORTE\")/1000000","v":155.48599100000001},{"$f":"SUMIFS('Base TKU'!G:G,'Base TKU'!$A:$A,$B18,'Base TKU'!$B:$B,\"NORTE\")/1000000","v":180.90504899999999},{"$f":"SUMIFS('Base TKU'!H:H,'Base TKU'!$A:$A,$B18,'Base TKU'!$B:$B,\"NORTE\")/1000000","v":174.40585999999999},{"$f":"SUMIFS('Base TKU'!I:I,'Base TKU'!$A:$A,$B18,'Base TKU'!$B:$B,\"NORTE\")/1000000","v":186.59553199999999},{"$f":"SUMIFS('Base TKU'!J:J,'Base TKU'!$A:$A,$B18,'Base TKU'!$B:$B,\"NORTE\")/1000000","v":205.499932},{"$f":"SUMIFS('Base TKU'!K:K,'Base TKU'!$A:$A,$B18,'Base TKU'!$B:$B,\"NORTE\")/1000000","v":200.24381600000001},{"$f":"SUMIFS('Base TKU'!L:L,'Base TKU'!$A:$A,$B18,'Base TKU'!$B:$B,\"NORTE\")/1000000","v":217.12668300000001},{"$f":"SUMIFS('Base TKU'!M:M,'Base TKU'!$A:$A,$B18,'Base TKU'!$B:$B,\"NORTE\")/1000000","v":235.69294600000001},{"$f":"SUMIFS('Base TKU'!N:N,'Base TKU'!$A:$A,$B18,'Base TKU'!$B:$B,\"NORTE\")/1000000","v":228.40213700000001},{"$f":"SUMIFS('Base TKU'!O:O,'Base TKU'!$A:$A,$B18,'Base TKU'!$B:$B,\"NORTE\")/1000000","v":184.0061},{"$f":"SUMIFS('Base TKU'!P:P,'Base TKU'!$A:$A,$B18,'Base TKU'!$B:$B,\"NORTE\")/1000000","v":190.88840400000001},null,{"$f":"SUMIFS('Base TKU'!R:R,'Base TKU'!$A:$A,$B18,'Base TKU'!$B:$B,\"NORTE\")/1000000","v":216.34381099999999},{"$f":"SUMIFS('Base TKU'!S:S,'Base TKU'!$A:$A,$B18,'Base TKU'!$B:$B,\"NORTE\")/1000000","v":200.28066000000001},{"$f":"SUMIFS('Base TKU'!T:T,'Base TKU'!$A:$A,$B18,'Base TKU'!$B:$B,\"NORTE\")/1000000","v":209.53282999999999},{"$f":"SUMIFS('Base TKU'!U:U,'Base TKU'!$A:$A,$B18,'Base TKU'!$B:$B,\"NORTE\")/1000000","v":172.57740699999999},{"$f":"SUMIFS('Base TKU'!V:V,'Base TKU'!$A:$A,$B18,'Base TKU'!$B:$B,\"NORTE\")/1000000","v":187.91377600000001},{"$f":"SUMIFS('Base TKU'!W:W,'Base TKU'!$A:$A,$B18,'Base TKU'!$B:$B,\"NORTE\")/1000000","v":213.543205},{"$f":"SUMIFS('Base TKU'!X:X,'Base TKU'!$A:$A,$B18,'Base TKU'!$B:$B,\"NORTE\")/1000000","v":213.885738},{"$f":"SUMIFS('Base TKU'!Y:Y,'Base TKU'!$A:$A,$B18,'Base TKU'!$B:$B,\"NORTE\")/1000000","v":213.73236299999999},{"$f":"SUMIFS('Base TKU'!Z:Z,'Base TKU'!$A:$A,$B18,'Base TKU'!$B:$B,\"NORTE\")/1000000","v":186.95747900000001},{"$f":"SUMIFS('Base TKU'!AA:AA,'Base TKU'!$A:$A,$B18,'Base TKU'!$B:$B,\"NORTE\")/1000000","v":231.94573500000001},{"$f":"SUMIFS('Base TKU'!AB:AB,'Base TKU'!$A:$A,$B18,'Base TKU'!$B:$B,\"NORTE\")/1000000","v":171.77247199999999},{"$f":"SUMIFS('Base TKU'!AC:AC,'Base TKU'!$A:$A,$B18,'Base TKU'!$B:$B,\"NORTE\")/1000000","v":174.090316},null,{"$f":"SUMIFS('Base TKU'!AE:AE,'Base TKU'!$A:$A,$B18,'Base TKU'!$B:$B,\"NORTE\")/1000000","v":184.661204},{"$f":"SUMIFS('Base TKU'!AF:AF,'Base TKU'!$A:$A,$B18,'Base TKU'!$B:$B,\"NORTE\")/1000000","v":196.61362},{"$f":"SUMIFS('Base TKU'!AG:AG,'Base TKU'!$A:$A,$B18,'Base TKU'!$B:$B,\"NORTE\")/1000000","v":199.541382},{"$f":"SUMIFS('Base TKU'!AH:AH,'Base TKU'!$A:$A,$B18,'Base TKU'!$B:$B,\"NORTE\")/1000000","v":163.413611},{"$f":"SUMIFS('Base TKU'!AI:AI,'Base TKU'!$A:$A,$B18,'Base TKU'!$B:$B,\"NORTE\")/1000000","v":178.57885300000001},{"$f":"SUMIFS('Base TKU'!AJ:AJ,'Base TKU'!$A:$A,$B18,'Base TKU'!$B:$B,\"NORTE\")/1000000","v":250.73196799999999},{"$f":"SUMIFS('Base TKU'!AK:AK,'Base TKU'!$A:$A,$B18,'Base TKU'!$B:$B,\"NORTE\")/1000000","v":247.23356699999999},{"$f":"SUMIFS('Base TKU'!AL:AL,'Base TKU'!$A:$A,$B18,'Base TKU'!$B:$B,\"NORTE\")/1000000","v":220.87092000000001},{"$f":"SUMIFS('Base TKU'!AM:AM,'Base TKU'!$A:$A,$B18,'Base TKU'!$B:$B,\"NORTE\")/1000000","v":224.573791},{"$f":"SUMIFS('Base TKU'!AN:AN,'Base TKU'!$A:$A,$B18,'Base TKU'!$B:$B,\"NORTE\")/1000000","v":210.833372},{"$f":"SUMIFS('Base TKU'!AO:AO,'Base TKU'!$A:$A,$B18,'Base TKU'!$B:$B,\"NORTE\")/1000000","v":206.240374},{"$f":"SUMIFS('Base TKU'!AP:AP,'Base TKU'!$A:$A,$B18,'Base TKU'!$B:$B,\"NORTE\")/1000000","v":203.94893400000001},null,{"$f":"SUMIFS('Base TKU'!AR:AR,'Base TKU'!$A:$A,$B18,'Base TKU'!$B:$B,\"NORTE\")/1000000","v":214.72762399999999},{"$f":"SUMIFS('Base TKU'!AS:AS,'Base TKU'!$A:$A,$B18,'Base TKU'!$B:$B,\"NORTE\")/1000000","v":190.747151},{"$f":"SUMIFS('Base TKU'!AT:AT,'Base TKU'!$A:$A,$B18,'Base TKU'!$B:$B,\"NORTE\")/1000000","v":186.11794399999999},{"$f":"SUMIFS('Base TKU'!AU:AU,'Base TKU'!$A:$A,$B18,'Base TKU'!$B:$B,\"NORTE\")/1000000","v":161.57840999999999},{"$f":"SUMIFS('Base TKU'!AV:AV,'Base TKU'!$A:$A,$B18,'Base TKU'!$B:$B,\"NORTE\")/1000000","v":188.917056},{"$f":"SUMIFS('Base TKU'!AW:AW,'Base TKU'!$A:$A,$B18,'Base TKU'!$B:$B,\"NORTE\")/1000000","v":207.26309499999999},{"$f":"SUMIFS('Base TKU'!AX:AX,'Base TKU'!$A:$A,$B18,'Base TKU'!$B:$B,\"NORTE\")/1000000","v":223.91506799999999},{"$f":"SUMIFS('Base TKU'!AY:AY,'Base TKU'!$A:$A,$B18,'Base TKU'!$B:$B,\"NORTE\")/1000000","v":217.61805000000001},{"$f":"SUMIFS('Base TKU'!AZ:AZ,'Base TKU'!$A:$A,$B18,'Base TKU'!$B:$B,\"NORTE\")/1000000","v":212.12754100000001},{"$f":"SUMIFS('Base TKU'!BA:BA,'Base TKU'!$A:$A,$B18,'Base TKU'!$B:$B,\"NORTE\")/1000000","v":214.96096399999999},{"$f":"SUMIFS('Base TKU'!BB:BB,'Base TKU'!$A:$A,$B18,'Base TKU'!$B:$B,\"NORTE\")/1000000","v":196.630596},{"$f":"SUMIFS('Base TKU'!BC:BC,'Base TKU'!$A:$A,$B18,'Base TKU'!$B:$B,\"NORTE\")/1000000","v":180.25054399999999},null,{"$f":"SUMIFS('Base TKU'!BE:BE,'Base TKU'!$A:$A,$B18,'Base TKU'!$B:$B,\"NORTE\")/1000000","v":199.57399799999999},{"$f":"SUMIFS('Base TKU'!BF:BF,'Base TKU'!$A:$A,$B18,'Base TKU'!$B:$B,\"NORTE\")/1000000","v":204.431127},{"$f":"SUMIFS('Base TKU'!BG:BG,'Base TKU'!$A:$A,$B18,'Base TKU'!$B:$B,\"NORTE\")/1000000","v":180.157173},{"$f":"SUMIFS('Base TKU'!BH:BH,'Base TKU'!$A:$A,$B18,'Base TKU'!$B:$B,\"NORTE\")/1000000","v":86.776950999999997},{"$f":"SUMIFS('Base TKU'!BI:BI,'Base TKU'!$A:$A,$B18,'Base TKU'!$B:$B,\"NORTE\")/1000000","v":212.114092},{"$f":"SUMIFS('Base TKU'!BJ:BJ,'Base TKU'!$A:$A,$B18,'Base TKU'!$B:$B,\"NORTE\")/1000000","v":194.23801499999999},{"$f":"SUMIFS('Base TKU'!BK:BK,'Base TKU'!$A:$A,$B18,'Base TKU'!$B:$B,\"NORTE\")/1000000","v":236.819648},{"$f":"SUMIFS('Base TKU'!BL:BL,'Base TKU'!$A:$A,$B18,'Base TKU'!$B:$B,\"NORTE\")/1000000","v":235.78306599999999},{"$f":"SUMIFS('Base TKU'!BM:BM,'Base TKU'!$A:$A,$B18,'Base TKU'!$B:$B,\"NORTE\")/1000000","v":268.569389},{"$f":"SUMIFS('Base TKU'!BN:BN,'Base TKU'!$A:$A,$B18,'Base TKU'!$B:$B,\"NORTE\")/1000000","v":287.46051299999999},{"$f":"SUMIFS('Base TKU'!BO:BO,'Base TKU'!$A:$A,$B18,'Base TKU'!$B:$B,\"NORTE\")/1000000","v":264.05765500000001},{"$f":"SUMIFS('Base TKU'!BP:BP,'Base TKU'!$A:$A,$B18,'Base TKU'!$B:$B,\"NORTE\")/1000000","v":253.202361},null,{"$f":"SUMIFS('Base TKU'!BR:BR,'Base TKU'!$A:$A,$B18,'Base TKU'!$B:$B,\"NORTE\")/1000000","v":253.80615},{"$f":"SUMIFS('Base TKU'!BS:BS,'Base TKU'!$A:$A,$B18,'Base TKU'!$B:$B,\"NORTE\")/1000000","v":258.48140899999999},{"$f":"SUMIFS('Base TKU'!BT:BT,'Base TKU'!$A:$A,$B18,'Base TKU'!$B:$B,\"NORTE\")/1000000","v":247.41916900000001},{"$f":"SUMIFS('Base TKU'!BU:BU,'Base TKU'!$A:$A,$B18,'Base TKU'!$B:$B,\"NORTE\")/1000000","v":265.066802},{"$f":"SUMIFS('Base TKU'!BV:BV,'Base TKU'!$A:$A,$B18,'Base TKU'!$B:$B,\"NORTE\")/1000000","v":277.627364},{"$f":"SUMIFS('Base TKU'!BW:BW,'Base TKU'!$A:$A,$B18,'Base TKU'!$B:$B,\"NORTE\")/1000000","v":291.84605199999999},{"$f":"SUMIFS('Base TKU'!BX:BX,'Base TKU'!$A:$A,$B18,'Base TKU'!$B:$B,\"NORTE\")/1000000","v":302.54666300000002},{"$f":"SUMIFS('Base TKU'!BY:BY,'Base TKU'!$A:$A,$B18,'Base TKU'!$B:$B,\"NORTE\")/1000000","v":311.74647900000002},{"$f":"SUMIFS('Base TKU'!BZ:BZ,'Base TKU'!$A:$A,$B18,'Base TKU'!$B:$B,\"NORTE\")/1000000","v":302.41839099999999},{"$f":"SUMIFS('Base TKU'!CA:CA,'Base TKU'!$A:$A,$B18,'Base TKU'!$B:$B,\"NORTE\")/1000000","v":314.30067300000002},{"$f":"SUMIFS('Base TKU'!CB:CB,'Base TKU'!$A:$A,$B18,'Base TKU'!$B:$B,\"NORTE\")/1000000","v":265.17036100000001},{"$f":"SUMIFS('Base TKU'!CC:CC,'Base TKU'!$A:$A,$B18,'Base TKU'!$B:$B,\"NORTE\")/1000000","v":290.427369},null,{"$f":"SUMIFS('Base TKU'!CE:CE,'Base TKU'!$A:$A,$B18,'Base TKU'!$B:$B,\"NORTE\")/1000000","v":309.632296},{"$f":"SUMIFS('Base TKU'!CF:CF,'Base TKU'!$A:$A,$B18,'Base TKU'!$B:$B,\"NORTE\")/1000000","v":319.69687499999998},{"$f":"SUMIFS('Base TKU'!CG:CG,'Base TKU'!$A:$A,$B18,'Base TKU'!$B:$B,\"NORTE\")/1000000","v":318.01488999999998},{"$f":"SUMIFS('Base TKU'!CH:CH,'Base TKU'!$A:$A,$B18,'Base TKU'!$B:$B,\"NORTE\")/1000000","v":309.10212999999999},{"$f":"SUMIFS('Base TKU'!CI:CI,'Base TKU'!$A:$A,$B18,'Base TKU'!$B:$B,\"NORTE\")/1000000","v":338.83302900000001},{"$f":"SUMIFS('Base TKU'!CJ:CJ,'Base TKU'!$A:$A,$B18,'Base TKU'!$B:$B,\"NORTE\")/1000000","v":0},{"$f":"SUMIFS('Base TKU'!CK:CK,'Base TKU'!$A:$A,$B18,'Base TKU'!$B:$B,\"NORTE\")/1000000","v":0},{"$f":"SUMIFS('Base TKU'!CL:CL,'Base TKU'!$A:$A,$B18,'Base TKU'!$B:$B,\"NORTE\")/1000000","v":0},{"$f":"SUMIFS('Base TKU'!CM:CM,'Base TKU'!$A:$A,$B18,'Base TKU'!$B:$B,\"NORTE\")/1000000","v":0},{"$f":"SUMIFS('Base TKU'!CN:CN,'Base TKU'!$A:$A,$B18,'Base TKU'!$B:$B,\"NORTE\")/1000000","v":0},{"$f":"SUMIFS('Base TKU'!CO:CO,'Base TKU'!$A:$A,$B18,'Base TKU'!$B:$B,\"NORTE\")/1000000","v":0},{"$f":"SUMIFS('Base TKU'!CP:CP,'Base TKU'!$A:$A,$B18,'Base TKU'!$B:$B,\"NORTE\")/1000000","v":0}]
[null,"Madeira, Papel e Celulose",null,{"$f":"SUMIFS('Base TKU'!E:E,'Base TKU'!$A:$A,$B19,'Base TKU'!$B:$B,\"NORTE\")/1000000","v":13.831614},{"$f":"SUMIFS('Base TKU'!F:F,'Base TKU'!$A:$A,$B19,'Base TKU'!$B:$B,\"NORTE\")/1000000","v":13.905127999999999},{"$f":"SUMIFS('Base TKU'!G:G,'Base TKU'!$A:$A,$B19,'Base TKU'!$B:$B,\"NORTE\")/1000000","v":0},{"$f":"SUMIFS('Base TKU'!H:H,'Base TKU'!$A:$A,$B19,'Base TKU'!$B:$B,\"NORTE\")/1000000","v":0},{"$f":"SUMIFS('Base TKU'!I:I,'Base TKU'!$A:$A,$B19,'Base TKU'!$B:$B,\"NORTE\")/1000000","v":0},{"$f":"SUMIFS('Base TKU'!J:J,'Base TKU'!$A:$A,$B19,'Base TKU'!$B:$B,\"NORTE\")/1000000","v":0},{"$f":"SUMIFS('Base TKU'!K:K,'Base TKU'!$A:$A,$B19,'Base TKU'!$B:$B,\"NORTE\")/1000000","v":0},{"$f":"SUMIFS('Base TKU'!L:L,'Base TKU'!$A:$A,$B19,'Base TKU'!$B:$B,\"NORTE\")/1000000","v":0},{"$f":"SUMIFS('Base TKU'!M:M,'Base TKU'!$A:$A,$B19,'Base TKU'!$B:$B,\"NORTE\")/1000000","v":0},{"$f":"SUMIFS('Base TKU'!N:N,'Base TKU'!$A:$A,$B19,'Base TKU'!$B:$B,\"NORTE\")/1000000","v":0},{"$f":"SUMIFS('Base TKU'!O:O,'Base TKU'!$A:$A,$B19,'Base TKU'!$B:$B,\"NORTE\")/1000000","v":0},{"$f":"SUMIFS('Base TKU'!P:P,'Base TKU'!$A:$A,$B19,'Base TKU'!$B:$B,\"NORTE\")/1000000","v":0},null,{"$f":"SUMIFS('Base TKU'!R:R,'Base TKU'!$A:$A,$B19,'Base TKU'!$B:$B,\"NORTE\")/1000000","v":0},{"$f":"SUMIFS('Base TKU'!S:S,'Base TKU'!$A:$A,$B19,'Base TKU'!$B:$B,\"NORTE\")/1000000","v":0},{"$f":"SUMIFS('Base TKU'!T:T,'Base TKU'!$A:$A,$B19,'Base TKU'!$B:$B,\"NORTE\")/1000000","v":0},{"$f":"SUMIFS('Base TKU'!U:U,'Base TKU'!$A:$A,$B19,'Base TKU'!$B:$B,\"NORTE\")/1000000","v":0},{"$f":"SUMIFS('Base TKU'!V:V,'Base TKU'!$A:$A,$B19,'Base TKU'!$B:$B,\"NORTE\")/1000000","v":0},{"$f":"SUMIFS('Base TKU'!W:W,'Base TKU'!$A:$A,$B19,'Base TKU'!$B:$B,\"NORTE\")/1000000","v":0},{"$f":"SUMIFS('Base TKU'!X:X,'Base TKU'!$A:$A,$B19,'Base TKU'!$B:$B,\"NORTE\")/1000000","v":0},{"$f":"SUMIFS('Base TKU'!Y:Y,'Base TKU'!$A:$A,$B19,'Base TKU'!$B:$B,\"NORTE\")/1000000","v":0},{"$f":"SUMIFS('Base TKU'!Z:Z,'Base TKU'!$A:$A,$B19,'Base TKU'!$B:$B,\"NORTE\")/1000000","v":0},{"$f":"SUMIFS('Base TKU'!AA:AA,'Base TKU'!$A:$A,$B19,'Base TKU'!$B:$B,\"NORTE\")/1000000","v":28.426653999999999},{"$f":"SUMIFS('Base TKU'!AB:AB,'Base TKU'!$A:$A,$B19,'Base TKU'!$B:$B,\"NORTE\")/1000000","v":62.728276999999999},{"$f":"SUMIFS('Base TKU'!AC:AC,'Base TKU'!$A:$A,$B19,'Base TKU'!$B:$B,\"NORTE\")/1000000","v":77.037499999999994},null,{"$f":"SUMIFS('Base TKU'!AE:AE,'Base TKU'!$A:$A,$B19,'Base TKU'!$B:$B,\"NORTE\")/1000000","v":68.292558},{"$f":"SUMIFS('Base TKU'!AF:AF,'Base TKU'!$A:$A,$B19,'Base TKU'!$B:$B,\"NORTE\")/1000000","v":67.976253},{"$f":"SUMIFS('Base TKU'!AG:AG,'Base TKU'!$A:$A,$B19,'Base TKU'!$B:$B,\"NORTE\")/1000000","v":95.264947000000006},{"$f":"SUMIFS('Base TKU'!AH:AH,'Base TKU'!$A:$A,$B19,'Base TKU'!$B:$B,\"NORTE\")/1000000","v":64.045187999999996},{"$f":"SUMIFS('Base TKU'!AI:AI,'Base TKU'!$A:$A,$B19,'Base TKU'!$B:$B,\"NORTE\")/1000000","v":84.316609999999997},{"$f":"SUMIFS('Base TKU'!AJ:AJ,'Base TKU'!$A:$A,$B19,'Base TKU'!$B:$B,\"NORTE\")/1000000","v":95.016535000000005},{"$f":"SUMIFS('Base TKU'!AK:AK,'Base TKU'!$A:$A,$B19,'Base TKU'!$B:$B,\"NORTE\")/1000000","v":95.178265999999994},{"$f":"SUMIFS('Base TKU'!AL:AL,'Base TKU'!$A:$A,$B19,'Base TKU'!$B:$B,\"NORTE\")/1000000","v":118.682862},{"$f":"SUMIFS('Base TKU'!AM:AM,'Base TKU'!$A:$A,$B19,'Base TKU'!$B:$B,\"NORTE\")/1000000","v":108.35928199999999},{"$f":"SUMIFS('Base TKU'!AN:AN,'Base TKU'!$A:$A,$B19,'Base TKU'!$B:$B,\"NORTE\")/1000000","v":121.62116399999999},{"$f":"SUMIFS('Base TKU'!AO:AO,'Base TKU'!$A:$A,$B19,'Base TKU'!$B:$B,\"NORTE\")/1000000","v":121.621165},{"$f":"SUMIFS('Base TKU'!AP:AP,'Base TKU'!$A:$A,$B19,'Base TKU'!$B:$B,\"NORTE\")/1000000","v":122.982294},null,{"$f":"SUMIFS('Base TKU'!AR:AR,'Base TKU'!$A:$A,$B19,'Base TKU'!$B:$B,\"NORTE\")/1000000","v":117.837067},{"$f":"SUMIFS('Base TKU'!AS:AS,'Base TKU'!$A:$A,$B19,'Base TKU'!$B:$B,\"NORTE\")/1000000","v":87.871504000000002},{"$f":"SUMIFS('Base TKU'!AT:AT,'Base TKU'!$A:$A,$B19,'Base TKU'!$B:$B,\"NORTE\")/1000000","v":120.36459000000001},{"$f":"SUMIFS('Base TKU'!AU:AU,'Base TKU'!$A:$A,$B19,'Base TKU'!$B:$B,\"NORTE\")/1000000","v":127.828508},{"$f":"SUMIFS('Base TKU'!AV:AV,'Base TKU'!$A:$A,$B19,'Base TKU'!$B:$B,\"NORTE\")/1000000","v":123.642793},{"$f":"SUMIFS('Base TKU'!AW:AW,'Base TKU'!$A:$A,$B19,'Base TKU'!$B:$B,\"NORTE\")/1000000","v":111.674753},{"$f":"SUMIFS('Base TKU'!AX:AX,'Base TKU'!$A:$A,$B19,'Base TKU'!$B:$B,\"NORTE\")/1000000","v":117.577907},{"$f":"SUMIFS('Base TKU'!AY:AY,'Base TKU'!$A:$A,$B19,'Base TKU'!$B:$B,\"NORTE\")/1000000","v":111.458707},{"$f":"SUMIFS('Base TKU'!AZ:AZ,'Base TKU'!$A:$A,$B19,'Base TKU'!$B:$B,\"NORTE\")/1000000","v":127.326846},{"$f":"SUMIFS('Base TKU'!BA:BA,'Base TKU'!$A:$A,$B19,'Base TKU'!$B:$B,\"NORTE\")/1000000","v":140.12141},{"$f":"SUMIFS('Base TKU'!BB:BB,'Base TKU'!$A:$A,$B19,'Base TKU'!$B:$B,\"NORTE\")/1000000","v":130.965777},{"$f":"SUMIFS('Base TKU'!BC:BC,'Base TKU'!$A:$A,$B19,'Base TKU'!$B:$B,\"NORTE\")/1000000","v":140.46274099999999},null,{"$f":"SUMIFS('Base TKU'!BE:BE,'Base TKU'!$A:$A,$B19,'Base TKU'!$B:$B,\"NORTE\")/1000000","v":139.97724600000001},{"$f":"SUMIFS('Base TKU'!BF:BF,'Base TKU'!$A:$A,$B19,'Base TKU'!$B:$B,\"NORTE\")/1000000","v":136.90467599999999},{"$f":"SUMIFS('Base TKU'!BG:BG,'Base TKU'!$A:$A,$B19,'Base TKU'!$B:$B,\"NORTE\")/1000000","v":128.01739000000001},{"$f":"SUMIFS('Base TKU'!BH:BH,'Base TKU'!$A:$A,$B19,'Base TKU'!$B:$B,\"NORTE\")/1000000","v":149.56062399999999},{"$f":"SUMIFS('Base TKU'!BI:BI,'Base TKU'!$A:$A,$B19,'Base TKU'!$B:$B,\"NORTE\")/1000000","v":166.06158300000001},{"$f":"SUMIFS('Base TKU'!BJ:BJ,'Base TKU'!$A:$A,$B19,'Base TKU'!$B:$B,\"NORTE\")/1000000","v":164.22491500000001},{"$f":"SUMIFS('Base TKU'!BK:BK,'Base TKU'!$A:$A,$B19,'Base TKU'!$B:$B,\"NORTE\")/1000000","v":156.26571799999999},{"$f":"SUMIFS('Base TKU'!BL:BL,'Base TKU'!$A:$A,$B19,'Base TKU'!$B:$B,\"NORTE\")/1000000","v":153.53360499999999},{"$f":"SUMIFS('Base TKU'!BM:BM,'Base TKU'!$A:$A,$B19,'Base TKU'!$B:$B,\"NORTE\")/1000000","v":159.92490799999999},{"$f":"SUMIFS('Base TKU'!BN:BN,'Base TKU'!$A:$A,$B19,'Base TKU'!$B:$B,\"NORTE\")/1000000","v":165.67025000000001},{"$f":"SUMIFS('Base TKU'!BO:BO,'Base TKU'!$A:$A,$B19,'Base TKU'!$B:$B,\"NORTE\")/1000000","v":170.80151499999999},{"$f":"SUMIFS('Base TKU'!BP:BP,'Base TKU'!$A:$A,$B19,'Base TKU'!$B:$B,\"NORTE\")/1000000","v":111.846919},null,{"$f":"SUMIFS('Base TKU'!BR:BR,'Base TKU'!$A:$A,$B19,'Base TKU'!$B:$B,\"NORTE\")/1000000","v":136.88131899999999},{"$f":"SUMIFS('Base TKU'!BS:BS,'Base TKU'!$A:$A,$B19,'Base TKU'!$B:$B,\"NORTE\")/1000000","v":137.533041},{"$f":"SUMIFS('Base TKU'!BT:BT,'Base TKU'!$A:$A,$B19,'Base TKU'!$B:$B,\"NORTE\")/1000000","v":162.453901},{"$f":"SUMIFS('Base TKU'!BU:BU,'Base TKU'!$A:$A,$B19,'Base TKU'!$B:$B,\"NORTE\")/1000000","v":148.10745600000001},{"$f":"SUMIFS('Base TKU'!BV:BV,'Base TKU'!$A:$A,$B19,'Base TKU'!$B:$B,\"NORTE\")/1000000","v":155.13845599999999},{"$f":"SUMIFS('Base TKU'!BW:BW,'Base TKU'!$A:$A,$B19,'Base TKU'!$B:$B,\"NORTE\")/1000000","v":143.425612},{"$f":"SUMIFS('Base TKU'!BX:BX,'Base TKU'!$A:$A,$B19,'Base TKU'!$B:$B,\"NORTE\")/1000000","v":159.019983},{"$f":"SUMIFS('Base TKU'!BY:BY,'Base TKU'!$A:$A,$B19,'Base TKU'!$B:$B,\"NORTE\")/1000000","v":179.66383999999999},{"$f":"SUMIFS('Base TKU'!BZ:BZ,'Base TKU'!$A:$A,$B19,'Base TKU'!$B:$B,\"NORTE\")/1000000","v":166.33068599999999},{"$f":"SUMIFS('Base TKU'!CA:CA,'Base TKU'!$A:$A,$B19,'Base TKU'!$B:$B,\"NORTE\")/1000000","v":178.730335},{"$f":"SUMIFS('Base TKU'!CB:CB,'Base TKU'!$A:$A,$B19,'Base TKU'!$B:$B,\"NORTE\")/1000000","v":166.642053},{"$f":"SUMIFS('Base TKU'!CC:CC,'Base TKU'!$A:$A,$B19,'Base TKU'!$B:$B,\"NORTE\")/1000000","v":160.68665999999999},null,{"$f":"SUMIFS('Base TKU'!CE:CE,'Base TKU'!$A:$A,$B19,'Base TKU'!$B:$B,\"NORTE\")/1000000","v":160.61588800000001},{"$f":"SUMIFS('Base TKU'!CF:CF,'Base TKU'!$A:$A,$B19,'Base TKU'!$B:$B,\"NORTE\")/1000000","v":175.461051},{"$f":"SUMIFS('Base TKU'!CG:CG,'Base TKU'!$A:$A,$B19,'Base TKU'!$B:$B,\"NORTE\")/1000000","v":210.27307500000001},{"$f":"SUMIFS('Base TKU'!CH:CH,'Base TKU'!$A:$A,$B19,'Base TKU'!$B:$B,\"NORTE\")/1000000","v":184.50210300000001},{"$f":"SUMIFS('Base TKU'!CI:CI,'Base TKU'!$A:$A,$B19,'Base TKU'!$B:$B,\"NORTE\")/1000000","v":194.99463499999999},{"$f":"SUMIFS('Base TKU'!CJ:CJ,'Base TKU'!$A:$A,$B19,'Base TKU'!$B:$B,\"NORTE\")/1000000","v":0},{"$f":"SUMIFS('Base TKU'!CK:CK,'Base TKU'!$A:$A,$B19,'Base TKU'!$B:$B,\"NORTE\")/1000000","v":0},{"$f":"SUMIFS('Base TKU'!CL:CL,'Base TKU'!$A:$A,$B19,'Base TKU'!$B:$B,\"NORTE\")/1000000","v":0},{"$f":"SUMIFS('Base TKU'!CM:CM,'Base TKU'!$A:$A,$B19,'Base TKU'!$B:$B,\"NORTE\")/1000000","v":0},{"$f":"SUMIFS('Base TKU'!CN:CN,'Base TKU'!$A:$A,$B19,'Base TKU'!$B:$B,\"NORTE\")/1000000","v":0},{"$f":"SUMIFS('Base TKU'!CO:CO,'Base TKU'!$A:$A,$B19,'Base TKU'!$B:$B,\"NORTE\")/1000000","v":0},{"$f":"SUMIFS('Base TKU'!CP:CP,'Base TKU'!$A:$A,$B19,'Base TKU'!$B:$B,\"NORTE\")/1000000","v":0}]
[null,"Construção Civil",null,{"$f":"SUMIFS('Base TKU'!E:E,'Base TKU'!$A:$A,$B20,'Base TKU'!$B:$B,\"NORTE\")/1000000","v":0},{"$f":"SUMIFS('Base TKU'!F:F,'Base TKU'!$A:$A,$B20,'Base TKU'!$B:$B,\"NORTE\")/1000000","v":0},{"$f":"SUMIFS('Base TKU'!G:G,'Base TKU'!$A:$A,$B20,'Base TKU'!$B:$B,\"NORTE\")/1000000","v":0},{"$f":"SUMIFS('Base TKU'!H:H,'Base TKU'!$A:$A,$B20,'Base TKU'!$B:$B,\"NORTE\")/1000000","v":0},{"$f":"SUMIFS('Base TKU'!I:I,'Base TKU'!$A:$A,$B20,'Base TKU'!$B:$B,\"NORTE\")/1000000","v":0},{"$f":"SUMIFS('Base TKU'!J:J,'Base TKU'!$A:$A,$B20,'Base TKU'!$B:$B,\"NORTE\")/1000000","v":0},{"$f":"SUMIFS('Base TKU'!K:K,'Base TKU'!$A:$A,$B20,'Base TKU'!$B:$B,\"NORTE\")/1000000","v":0},{"$f":"SUMIFS('Base TKU'!L:L,'Base TKU'!$A:$A,$B20,'Base TKU'!$B:$B,\"NORTE\")/1000000","v":0},{"$f":"SUMIFS('Base TKU'!M:M,'Base TKU'!$A:$A,$B20,'Base TKU'!$B:$B,\"NORTE\")/1000000","v":0},{"$f":"SUMIFS('Base TKU'!N:N,'Base TKU'!$A:$A,$B20,'Base TKU'!$B:$B,\"NORTE\")/1000000","v":0},{"$f":"SUMIFS('Base TKU'!O:O,'Base TKU'!$A:$A,$B20,'Base TKU'!$B:$B,\"NORTE\")/1000000","v":0},{"$f":"SUMIFS('Base TKU'!P:P,'Base TKU'!$A:$A,$B20,'Base TKU'!$B:$B,\"NORTE\")/1000000","v":0},null,{"$f":"SUMIFS('Base TKU'!R:R,'Base TKU'!$A:$A,$B20,'Base TKU'!$B:$B,\"NORTE\")/1000000","v":0},{"$f":"SUMIFS('Base TKU'!S:S,'Base TKU'!$A:$A,$B20,'Base TKU'!$B:$B,\"NORTE\")/1000000","v":0},{"$f":"SUMIFS('Base TKU'!T:T,'Base TKU'!$A:$A,$B20,'Base TKU'!$B:$B,\"NORTE\")/1000000","v":0},{"$f":"SUMIFS('Base TKU'!U:U,'Base TKU'!$A:$A,$B20,'Base TKU'!$B:$B,\"NORTE\")/1000000","v":0},{"$f":"SUMIFS('Base TKU'!V:V,'Base TKU'!$A:$A,$B20,'Base TKU'!$B:$B,\"NORTE\")/1000000","v":0},{"$f":"SUMIFS('Base TKU'!W:W,'Base TKU'!$A:$A,$B20,'Base TKU'!$B:$B,\"NORTE\")/1000000","v":0},{"$f":"SUMIFS('Base TKU'!X:X,'Base TKU'!$A:$A,$B20,'Base TKU'!$B:$B,\"NORTE\")/1000000","v":0},{"$f":"SUMIFS('Base TKU'!Y:Y,'Base TKU'!$A:$A,$B20,'Base TKU'!$B:$B,\"NORTE\")/1000000","v":0},{"$f":"SUMIFS('Base TKU'!Z:Z,'Base TKU'!$A:$A,$B20,'Base TKU'!$B:$B,\"NORTE\")/1000000","v":0},{"$f":"SUMIFS('Base TKU'!AA:AA,'Base TKU'!$A:$A,$B20,'Base TKU'!$B:$B,\"NORTE\")/1000000","v":0},{"$f":"SUMIFS('Base TKU'!AB:AB,'Base TKU'!$A:$A,$B20,'Base TKU'!$B:$B,\"NORTE\")/1000000","v":0},{"$f":"SUMIFS('Base TKU'!AC:AC,'Base TKU'!$A:$A,$B20,'Base TKU'!$B:$B,\"NORTE\")/1000000","v":0},null,{"$f":"SUMIFS('Base TKU'!AE:AE,'Base TKU'!$A:$A,$B20,'Base TKU'!$B:$B,\"NORTE\")/1000000","v":0},{"$f":"SUMIFS('Base TKU'!AF:AF,'Base TKU'!$A:$A,$B20,'Base TKU'!$B:$B,\"NORTE\")/1000000","v":0},{"$f":"SUMIFS('Base TKU'!AG:AG,'Base TKU'!$A:$A,$B20,'Base TKU'!$B:$B,\"NORTE\")/1000000","v":0},{"$f":"SUMIFS('Base TKU'!AH:AH,'Base TKU'!$A:$A,$B20,'Base TKU'!$B:$B,\"NORTE\")/1000000","v":0},{"$f":"SUMIFS('Base TKU'!AI:AI,'Base TKU'!$A:$A,$B20,'Base TKU'!$B:$B,\"NORTE\")/1000000","v":0},{"$f":"SUMIFS('Base TKU'!AJ:AJ,'Base TKU'!$A:$A,$B20,'Base TKU'!$B:$B,\"NORTE\")/1000000","v":0},{"$f":"SUMIFS('Base TKU'!AK:AK,'Base TKU'!$A:$A,$B20,'Base TKU'!$B:$B,\"NORTE\")/1000000","v":0},{"$f":"SUMIFS('Base TKU'!AL:AL,'Base TKU'!$A:$A,$B20,'Base TKU'!$B:$B,\"NORTE\")/1000000","v":0},{"$f":"SUMIFS('Base TKU'!AM:AM,'Base TKU'!$A:$A,$B20,'Base TKU'!$B:$B,\"NORTE\")/1000000","v":0},{"$f":"SUMIFS('Base TKU'!AN:AN,'Base TKU'!$A:$A,$B20,'Base TKU'!$B:$B,\"NORTE\")/1000000","v":0},{"$f":"SUMIFS('Base TKU'!AO:AO,'Base TKU'!$A:$A,$B20,'Base TKU'!$B:$B,\"NORTE\")/1000000","v":0},{"$f":"SUMIFS('Base TKU'!AP:AP,'Base TKU'!$A:$A,$B20,'Base TKU'!$B:$B,\"NORTE\")/1000000","v":0},null,{"$f":"SUMIFS('Base TKU'!AR:AR,'Base TKU'!$A:$A,$B20,'Base TKU'!$B:$B,\"NORTE\")/1000000","v":0},{"$f":"SUMIFS('Base TKU'!AS:AS,'Base TKU'!$A:$A,$B20,'Base TKU'!$B:$B,\"NORTE\")/1000000","v":0},{"$f":"SUMIFS('Base TKU'!AT:AT,'Base TKU'!$A:$A,$B20,'Base TKU'!$B:$B,\"NORTE\")/1000000","v":0},{"$f":"SUMIFS('Base TKU'!AU:AU,'Base TKU'!$A:$A,$B20,'Base TKU'!$B:$B,\"NORTE\")/1000000","v":0},{"$f":"SUMIFS('Base TKU'!AV:AV,'Base TKU'!$A:$A,$B20,'Base TKU'!$B:$B,\"NORTE\")/1000000","v":0},{"$f":"SUMIFS('Base TKU'!AW:AW,'Base TKU'!$A:$A,$B20,'Base TKU'!$B:$B,\"NORTE\")/1000000","v":0},{"$f":"SUMIFS('Base TKU'!AX:AX,'Base TKU'!$A:$A,$B20,'Base TKU'!$B:$B,\"NORTE\")/1000000","v":0},{"$f":"SUMIFS('Base TKU'!AY:AY,'Base TKU'!$A:$A,$B20,'Base TKU'!$B:$B,\"NORTE\")/1000000","v":0},{"$f":"SUMIFS('Base TKU'!AZ:AZ,'Base TKU'!$A:$A,$B20,'Base TKU'!$B:$B,\"NORTE\")/1000000","v":0},{"$f":"SUMIFS('Base TKU'!BA:BA,'Base TKU'!$A:$A,$B20,'Base TKU'!$B:$B,\"NORTE\")/1000000","v":0},{"$f":"SUMIFS('Base TKU'!BB:BB,'Base TKU'!$A:$A,$B20,'Base TKU'!$B:$B,\"NORTE\")/1000000","v":0},{"$f":"SUMIFS('Base TKU'!BC:BC,'Base TKU'!$A:$A,$B20,'Base TKU'!$B:$B,\"NORTE\")/1000000","v":0},null,{"$f":"SUMIFS('Base TKU'!BE:BE,'Base TKU'!$A:$A,$B20,'Base TKU'!$B:$B,\"NORTE\")/1000000","v":0},{"$f":"SUMIFS('Base TKU'!BF:BF,'Base TKU'!$A:$A,$B20,'Base TKU'!$B:$B,\"NORTE\")/1000000","v":0},{"$f":"SUMIFS('Base TKU'!BG:BG,'Base TKU'!$A:$A,$B20,'Base TKU'!$B:$B,\"NORTE\")/1000000","v":0},{"$f":"SUMIFS('Base TKU'!BH:BH,'Base TKU'!$A:$A,$B20,'Base TKU'!$B:$B,\"NORTE\")/1000000","v":0},{"$f":"SUMIFS('Base TKU'!BI:BI,'Base TKU'!$A:$A,$B20,'Base TKU'!$B:$B,\"NORTE\")/1000000","v":0},{"$f":"SUMIFS('Base TKU'!BJ:BJ,'Base TKU'!$A:$A,$B20,'Base TKU'!$B:$B,\"NORTE\")/1000000","v":0},{"$f":"SUMIFS('Base TKU'!BK:BK,'Base TKU'!$A:$A,$B20,'Base TKU'!$B:$B,\"NORTE\")/1000000","v":0},{"$f":"SUMIFS('Base TKU'!BL:BL,'Base TKU'!$A:$A,$B20,'Base TKU'!$B:$B,\"NORTE\")/1000000","v":0},{"$f":"SUMIFS('Base TKU'!BM:BM,'Base TKU'!$A:$A,$B20,'Base TKU'!$B:$B,\"NORTE\")/1000000","v":0},{"$f":"SUMIFS('Base TKU'!BN:BN,'Base TKU'!$A:$A,$B20,'Base TKU'!$B:$B,\"NORTE\")/1000000","v":0},{"$f":"SUMIFS('Base TKU'!BO:BO,'Base TKU'!$A:$A,$B20,'Base TKU'!$B:$B,\"NORTE\")/1000000","v":0},{"$f":"SUMIFS('Base TKU'!BP:BP,'Base TKU'!$A:$A,$B20,'Base TKU'!$B:$B,\"NORTE\")/1000000","v":0},null,{"$f":"SUMIFS('Base TKU'!BR:BR,'Base TKU'!$A:$A,$B20,'Base TKU'!$B:$B,\"NORTE\")/1000000","v":0},{"$f":"SUMIFS('Base TKU'!BS:BS,'Base TKU'!$A:$A,$B20,'Base TKU'!$B:$B,\"NORTE\")/1000000","v":0},{"$f":"SUMIFS('Base TKU'!BT:BT,'Base TKU'!$A:$A,$B20,'Base TKU'!$B:$B,\"NORTE\")/1000000","v":0},{"$f":"SUMIFS('Base TKU'!BU:BU,'Base TKU'!$A:$A,$B20,'Base TKU'!$B:$B,\"NORTE\")/1000000","v":0},{"$f":"SUMIFS('Base TKU'!BV:BV,'Base TKU'!$A:$A,$B20,'Base TKU'!$B:$B,\"NORTE\")/1000000","v":0},{"$f":"SUMIFS('Base TKU'!BW:BW,'Base TKU'!$A:$A,$B20,'Base TKU'!$B:$B,\"NORTE\")/1000000","v":0},{"$f":"SUMIFS('Base TKU'!BX:BX,'Base TKU'!$A:$A,$B20,'Base TKU'!$B:$B,\"NORTE\")/1000000","v":0},{"$f":"SUMIFS('Base TKU'!BY:BY,'Base TKU'!$A:$A,$B20,'Base TKU'!$B:$B,\"NORTE\")/1000000","v":0},{"$f":"SUMIFS('Base TKU'!BZ:BZ,'Base TKU'!$A:$A,$B20,'Base TKU'!$B:$B,\"NORTE\")/1000000","v":0},{"$f":"SUMIFS('Base TKU'!CA:CA,'Base TKU'!$A:$A,$B20,'Base TKU'!$B:$B,\"NORTE\")/1000000","v":0},{"$f":"SUMIFS('Base TKU'!CB:CB,'Base TKU'!$A:$A,$B20,'Base TKU'!$B:$B,\"NORTE\")/1000000","v":0},{"$f":"SUMIFS('Base TKU'!CC:CC,'Base TKU'!$A:$A,$B20,'Base TKU'!$B:$B,\"NORTE\")/1000000","v":0},null,{"$f":"SUMIFS('Base TKU'!CE:CE,'Base TKU'!$A:$A,$B20,'Base TKU'!$B:$B,\"NORTE\")/1000000","v":0},{"$f":"SUMIFS('Base TKU'!CF:CF,'Base TKU'!$A:$A,$B20,'Base TKU'!$B:$B,\"NORTE\")/1000000","v":0},{"$f":"SUMIFS('Base TKU'!CG:CG,'Base TKU'!$A:$A,$B20,'Base TKU'!$B:$B,\"NORTE\")/1000000","v":0},{"$f":"SUMIFS('Base TKU'!CH:CH,'Base TKU'!$A:$A,$B20,'Base TKU'!$B:$B,\"NORTE\")/1000000","v":0},{"$f":"SUMIFS('Base TKU'!CI:CI,'Base TKU'!$A:$A,$B20,'Base TKU'!$B:$B,\"NORTE\")/1000000","v":0},{"$f":"SUMIFS('Base TKU'!CJ:CJ,'Base TKU'!$A:$A,$B20,'Base TKU'!$B:$B,\"NORTE\")/1000000","v":0},{"$f":"SUMIFS('Base TKU'!CK:CK,'Base TKU'!$A:$A,$B20,'Base TKU'!$B:$B,\"NORTE\")/1000000","v":0},{"$f":"SUMIFS('Base TKU'!CL:CL,'Base TKU'!$A:$A,$B20,'Base TKU'!$B:$B,\"NORTE\")/1000000","v":0},{"$f":"SUMIFS('Base TKU'!CM:CM,'Base TKU'!$A:$A,$B20,'Base TKU'!$B:$B,\"NORTE\")/1000000","v":0},{"$f":"SUMIFS('Base TKU'!CN:CN,'Base TKU'!$A:$A,$B20,'Base TKU'!$B:$B,\"NORTE\")/1000000","v":0},{"$f":"SUMIFS('Base TKU'!CO:CO,'Base TKU'!$A:$A,$B20,'Base TKU'!$B:$B,\"NORTE\")/1000000","v":0},{"$f":"SUMIFS('Base TKU'!CP:CP,'Base TKU'!$A:$A,$B20,'Base TKU'!$B:$B,\"NORTE\")/1000000","v":0}]
[null,"Siderúrgicos e Mineração",null,{"$f":"SUMIFS('Base TKU'!E:E,'Base TKU'!$A:$A,$B21,'Base TKU'!$B:$B,\"NORTE\")/1000000","v":0},{"$f":"SUMIFS('Base TKU'!F:F,'Base TKU'!$A:$A,$B21,'Base TKU'!$B:$B,\"NORTE\")/1000000","v":0.49612099999999998},{"$f":"SUMIFS('Base TKU'!G:G,'Base TKU'!$A:$A,$B21,'Base TKU'!$B:$B,\"NORTE\")/1000000","v":0.86089800000000005},{"$f":"SUMIFS('Base TKU'!H:H,'Base TKU'!$A:$A,$B21,'Base TKU'!$B:$B,\"NORTE\")/1000000","v":0.43806200000000001},{"$f":"SUMIFS('Base TKU'!I:I,'Base TKU'!$A:$A,$B21,'Base TKU'!$B:$B,\"NORTE\")/1000000","v":0},{"$f":"SUMIFS('Base TKU'!J:J,'Base TKU'!$A:$A,$B21,'Base TKU'!$B:$B,\"NORTE\")/1000000","v":0},{"$f":"SUMIFS('Base TKU'!K:K,'Base TKU'!$A:$A,$B21,'Base TKU'!$B:$B,\"NORTE\")/1000000","v":0},{"$f":"SUMIFS('Base TKU'!L:L,'Base TKU'!$A:$A,$B21,'Base TKU'!$B:$B,\"NORTE\")/1000000","v":0},{"$f":"SUMIFS('Base TKU'!M:M,'Base TKU'!$A:$A,$B21,'Base TKU'!$B:$B,\"NORTE\")/1000000","v":0},{"$f":"SUMIFS('Base TKU'!N:N,'Base TKU'!$A:$A,$B21,'Base TKU'!$B:$B,\"NORTE\")/1000000","v":0},{"$f":"SUMIFS('Base TKU'!O:O,'Base TKU'!$A:$A,$B21,'Base TKU'!$B:$B,\"NORTE\")/1000000","v":0},{"$f":"SUMIFS('Base TKU'!P:P,'Base TKU'!$A:$A,$B21,'Base TKU'!$B:$B,\"NORTE\")/1000000","v":0},null,{"$f":"SUMIFS('Base TKU'!R:R,'Base TKU'!$A:$A,$B21,'Base TKU'!$B:$B,\"NORTE\")/1000000","v":0},{"$f":"SUMIFS('Base TKU'!S:S,'Base TKU'!$A:$A,$B21,'Base TKU'!$B:$B,\"NORTE\")/1000000","v":0},{"$f":"SUMIFS('Base TKU'!T:T,'Base TKU'!$A:$A,$B21,'Base TKU'!$B:$B,\"NORTE\")/1000000","v":0},{"$f":"SUMIFS('Base TKU'!U:U,'Base TKU'!$A:$A,$B21,'Base TKU'!$B:$B,\"NORTE\")/1000000","v":0},{"$f":"SUMIFS('Base TKU'!V:V,'Base TKU'!$A:$A,$B21,'Base TKU'!$B:$B,\"NORTE\")/1000000","v":0},{"$f":"SUMIFS('Base TKU'!W:W,'Base TKU'!$A:$A,$B21,'Base TKU'!$B:$B,\"NORTE\")/1000000","v":0},{"$f":"SUMIFS('Base TKU'!X:X,'Base TKU'!$A:$A,$B21,'Base TKU'!$B:$B,\"NORTE\")/1000000","v":0},{"$f":"SUMIFS('Base TKU'!Y:Y,'Base TKU'!$A:$A,$B21,'Base TKU'!$B:$B,\"NORTE\")/1000000","v":0},{"$f":"SUMIFS('Base TKU'!Z:Z,'Base TKU'!$A:$A,$B21,'Base TKU'!$B:$B,\"NORTE\")/1000000","v":0},{"$f":"SUMIFS('Base TKU'!AA:AA,'Base TKU'!$A:$A,$B21,'Base TKU'!$B:$B,\"NORTE\")/1000000","v":0},{"$f":"SUMIFS('Base TKU'!AB:AB,'Base TKU'!$A:$A,$B21,'Base TKU'!$B:$B,\"NORTE\")/1000000","v":0},{"$f":"SUMIFS('Base TKU'!AC:AC,'Base TKU'!$A:$A,$B21,'Base TKU'!$B:$B,\"NORTE\")/1000000","v":0},null,{"$f":"SUMIFS('Base TKU'!AE:AE,'Base TKU'!$A:$A,$B21,'Base TKU'!$B:$B,\"NORTE\")/1000000","v":0},{"$f":"SUMIFS('Base TKU'!AF:AF,'Base TKU'!$A:$A,$B21,'Base TKU'!$B:$B,\"NORTE\")/1000000","v":0},{"$f":"SUMIFS('Base TKU'!AG:AG,'Base TKU'!$A:$A,$B21,'Base TKU'!$B:$B,\"NORTE\")/1000000","v":0},{"$f":"SUMIFS('Base TKU'!AH:AH,'Base TKU'!$A:$A,$B21,'Base TKU'!$B:$B,\"NORTE\")/1000000","v":0},{"$f":"SUMIFS('Base TKU'!AI:AI,'Base TKU'!$A:$A,$B21,'Base TKU'!$B:$B,\"NORTE\")/1000000","v":0},{"$f":"SUMIFS('Base TKU'!AJ:AJ,'Base TKU'!$A:$A,$B21,'Base TKU'!$B:$B,\"NORTE\")/1000000","v":0},{"$f":"SUMIFS('Base TKU'!AK:AK,'Base TKU'!$A:$A,$B21,'Base TKU'!$B:$B,\"NORTE\")/1000000","v":0},{"$f":"SUMIFS('Base TKU'!AL:AL,'Base TKU'!$A:$A,$B21,'Base TKU'!$B:$B,\"NORTE\")/1000000","v":0},{"$f":"SUMIFS('Base TKU'!AM:AM,'Base TKU'!$A:$A,$B21,'Base TKU'!$B:$B,\"NORTE\")/1000000","v":0},{"$f":"SUMIFS('Base TKU'!AN:AN,'Base TKU'!$A:$A,$B21,'Base TKU'!$B:$B,\"NORTE\")/1000000","v":0},{"$f":"SUMIFS('Base TKU'!AO:AO,'Base TKU'!$A:$A,$B21,'Base TKU'!$B:$B,\"NORTE\")/1000000","v":0},{"$f":"SUMIFS('Base TKU'!AP:AP,'Base TKU'!$A:$A,$B21,'Base TKU'!$B:$B,\"NORTE\")/1000000","v":0},null,{"$f":"SUMIFS('Base TKU'!AR:AR,'Base TKU'!$A:$A,$B21,'Base TKU'!$B:$B,\"NORTE\")/1000000","v":0},{"$f":"SUMIFS('Base TKU'!AS:AS,'Base TKU'!$A:$A,$B21,'Base TKU'!$B:$B,\"NORTE\")/1000000","v":0},{"$f":"SUMIFS('Base TKU'!AT:AT,'Base TKU'!$A:$A,$B21,'Base TKU'!$B:$B,\"NORTE\")/1000000","v":0},{"$f":"SUMIFS('Base TKU'!AU:AU,'Base TKU'!$A:$A,$B21,'Base TKU'!$B:$B,\"NORTE\")/1000000","v":0},{"$f":"SUMIFS('Base TKU'!AV:AV,'Base TKU'!$A:$A,$B21,'Base TKU'!$B:$B,\"NORTE\")/1000000","v":0},{"$f":"SUMIFS('Base TKU'!AW:AW,'Base TKU'!$A:$A,$B21,'Base TKU'!$B:$B,\"NORTE\")/1000000","v":0},{"$f":"SUMIFS('Base TKU'!AX:AX,'Base TKU'!$A:$A,$B21,'Base TKU'!$B:$B,\"NORTE\")/1000000","v":0},{"$f":"SUMIFS('Base TKU'!AY:AY,'Base TKU'!$A:$A,$B21,'Base TKU'!$B:$B,\"NORTE\")/1000000","v":0},{"$f":"SUMIFS('Base TKU'!AZ:AZ,'Base TKU'!$A:$A,$B21,'Base TKU'!$B:$B,\"NORTE\")/1000000","v":0},{"$f":"SUMIFS('Base TKU'!BA:BA,'Base TKU'!$A:$A,$B21,'Base TKU'!$B:$B,\"NORTE\")/1000000","v":0},{"$f":"SUMIFS('Base TKU'!BB:BB,'Base TKU'!$A:$A,$B21,'Base TKU'!$B:$B,\"NORTE\")/1000000","v":0},{"$f":"SUMIFS('Base TKU'!BC:BC,'Base TKU'!$A:$A,$B21,'Base TKU'!$B:$B,\"NORTE\")/1000000","v":0},null,{"$f":"SUMIFS('Base TKU'!BE:BE,'Base TKU'!$A:$A,$B21,'Base TKU'!$B:$B,\"NORTE\")/1000000","v":0},{"$f":"SUMIFS('Base TKU'!BF:BF,'Base TKU'!$A:$A,$B21,'Base TKU'!$B:$B,\"NORTE\")/1000000","v":0},{"$f":"SUMIFS('Base TKU'!BG:BG,'Base TKU'!$A:$A,$B21,'Base TKU'!$B:$B,\"NORTE\")/1000000","v":0},{"$f":"SUMIFS('Base TKU'!BH:BH,'Base TKU'!$A:$A,$B21,'Base TKU'!$B:$B,\"NORTE\")/1000000","v":0},{"$f":"SUMIFS('Base TKU'!BI:BI,'Base TKU'!$A:$A,$B21,'Base TKU'!$B:$B,\"NORTE\")/1000000","v":0},{"$f":"SUMIFS('Base TKU'!BJ:BJ,'Base TKU'!$A:$A,$B21,'Base TKU'!$B:$B,\"NORTE\")/1000000","v":0},{"$f":"SUMIFS('Base TKU'!BK:BK,'Base TKU'!$A:$A,$B21,'Base TKU'!$B:$B,\"NORTE\")/1000000","v":0},{"$f":"SUMIFS('Base TKU'!BL:BL,'Base TKU'!$A:$A,$B21,'Base TKU'!$B:$B,\"NORTE\")/1000000","v":0},{"$f":"SUMIFS('Base TKU'!BM:BM,'Base TKU'!$A:$A,$B21,'Base TKU'!$B:$B,\"NORTE\")/1000000","v":0},{"$f":"SUMIFS('Base TKU'!BN:BN,'Base TKU'!$A:$A,$B21,'Base TKU'!$B:$B,\"NORTE\")/1000000","v":0},{"$f":"SUMIFS('Base TKU'!BO:BO,'Base TKU'!$A:$A,$B21,'Base TKU'!$B:$B,\"NORTE\")/1000000","v":0},{"$f":"SUMIFS('Base TKU'!BP:BP,'Base TKU'!$A:$A,$B21,'Base TKU'!$B:$B,\"NORTE\")/1000000","v":0},null,{"$f":"SUMIFS('Base TKU'!BR:BR,'Base TKU'!$A:$A,$B21,'Base TKU'!$B:$B,\"NORTE\")/1000000","v":0},{"$f":"SUMIFS('Base TKU'!BS:BS,'Base TKU'!$A:$A,$B21,'Base TKU'!$B:$B,\"NORTE\")/1000000","v":0},{"$f":"SUMIFS('Base TKU'!BT:BT,'Base TKU'!$A:$A,$B21,'Base TKU'!$B:$B,\"NORTE\")/1000000","v":0},{"$f":"SUMIFS('Base TKU'!BU:BU,'Base TKU'!$A:$A,$B21,'Base TKU'!$B:$B,\"NORTE\")/1000000","v":0},{"$f":"SUMIFS('Base TKU'!BV:BV,'Base TKU'!$A:$A,$B21,'Base TKU'!$B:$B,\"NORTE\")/1000000","v":0},{"$f":"SUMIFS('Base TKU'!BW:BW,'Base TKU'!$A:$A,$B21,'Base TKU'!$B:$B,\"NORTE\")/1000000","v":0},{"$f":"SUMIFS('Base TKU'!BX:BX,'Base TKU'!$A:$A,$B21,'Base TKU'!$B:$B,\"NORTE\")/1000000","v":0},{"$f":"SUMIFS('Base TKU'!BY:BY,'Base TKU'!$A:$A,$B21,'Base TKU'!$B:$B,\"NORTE\")/1000000","v":0},{"$f":"SUMIFS('Base TKU'!BZ:BZ,'Base TKU'!$A:$A,$B21,'Base TKU'!$B:$B,\"NORTE\")/1000000","v":0},{"$f":"SUMIFS('Base TKU'!CA:CA,'Base TKU'!$A:$A,$B21,'Base TKU'!$B:$B,\"NORTE\")/1000000","v":0},{"$f":"SUMIFS('Base TKU'!CB:CB,'Base TKU'!$A:$A,$B21,'Base TKU'!$B:$B,\"NORTE\")/1000000","v":0},{"$f":"SUMIFS('Base TKU'!CC:CC,'Base TKU'!$A:$A,$B21,'Base TKU'!$B:$B,\"NORTE\")/1000000","v":0},null,{"$f":"SUMIFS('Base TKU'!CE:CE,'Base TKU'!$A:$A,$B21,'Base TKU'!$B:$B,\"NORTE\")/1000000","v":0},{"$f":"SUMIFS('Base TKU'!CF:CF,'Base TKU'!$A:$A,$B21,'Base TKU'!$B:$B,\"NORTE\")/1000000","v":0},{"$f":"SUMIFS('Base TKU'!CG:CG,'Base TKU'!$A:$A,$B21,'Base TKU'!$B:$B,\"NORTE\")/1000000","v":0},{"$f":"SUMIFS('Base TKU'!CH:CH,'Base TKU'!$A:$A,$B21,'Base TKU'!$B:$B,\"NORTE\")/1000000","v":0},{"$f":"SUMIFS('Base TKU'!CI:CI,'Base TKU'!$A:$A,$B21,'Base TKU'!$B:$B,\"NORTE\")/1000000","v":0},{"$f":"SUMIFS('Base TKU'!CJ:CJ,'Base TKU'!$A:$A,$B21,'Base TKU'!$B:$B,\"NORTE\")/1000000","v":0},{"$f":"SUMIFS('Base TKU'!CK:CK,'Base TKU'!$A:$A,$B21,'Base TKU'!$B:$B,\"NORTE\")/1000000","v":0},{"$f":"SUMIFS('Base TKU'!CL:CL,'Base TKU'!$A:$A,$B21,'Base TKU'!$B:$B,\"NORTE\")/1000000","v":0},{"$f":"SUMIFS('Base TKU'!CM:CM,'Base TKU'!$A:$A,$B21,'Base TKU'!$B:$B,\"NORTE\")/1000000","v":0},{"$f":"SUMIFS('Base TKU'!CN:CN,'Base TKU'!$A:$A,$B21,'Base TKU'!$B:$B,\"NORTE\")/1000000","v":0},{"$f":"SUMIFS('Base TKU'!CO:CO,'Base TKU'!$A:$A,$B21,'Base TKU'!$B:$B,\"NORTE\")/1000000","v":0},{"$f":"SUMIFS('Base TKU'!CP:CP,'Base TKU'!$A:$A,$B21,'Base TKU'!$B:$B,\"NORTE\")/1000000","v":0}]
[]
[null,"Central (Já compõe o valor acima divulgado)"]
[]
[null,null,null,"2016-01-01","2016-02-01","2016-03-01","2016-04-01","2016-05-01","2016-06-01","2016-07-01","2016-08-01","2016-09-01","2016-10-01","2016-11-01","2016-12-01",null,"2017-01-01","2017-02-01","2017-03-01","2017-04-01","2017-05-01","2017-06-01","2017-07-01","2017-08-01","2017-09-01","2017-10-01","2017-11-01","2017-12-01",null,"2018-01-01","2018-02-01","2018-03-01","2018-04-01","2018-05-01","2018-06-01","2018-07-01","2018-08-01","2018-09-01","2018-10-01","2018-11-01","2018-12-01",null,"2019-01-01","2019-02-01","2019-03-01","2019-04-01","2019-05-01","2019-06-01","2019-07-01","2019-08-01","2019-09-01","2019-10-01","2019-11-01","2019-12-01",null,"2020-01-01","2020-02-01","2020-03-01","2020-04-01","2020-05-01","2020-06-01","2020-07-01","2020-08-01","2020-09-01","2020-10-01","2020-11-01","2020-12-01",null,"2021-01-01","2021-02-01","2021-03-01","2021-04-01","2021-05-01","2021-06-01","2021-07-01","2021-08-01","2021-09-01","2021-10-01","2021-11-01","2021-12-01",null,"2022-01-01","2022-02-01","2022-03-01","2022-04-01","2022-05-01","2022-06-01","2022-07-01","2022-08-01","2022-09-01","2022-10-01","2022-11-01","2022-12-01"]
[]
[null,"Transporte Ferro (TKU MM)",null,"-","-","-","-","-","-","-","-","-","-","-","-",null,"-","-","-","-","-","-","-","-","-","-","-","-",null,"-","-","-","-","-","-","-","-","-","-","-","-",null,"-","-","-","-","-","-","-","-","-","-","-","-",null,"-","-","-","-","-","-","-","-","-","-","-","-",null,0,78.485810999999998,249.42326199999999,436.87470200000001,{"$f":"BU28","v":334.16292600000003},{"$f":"BV28","v":421.90039099999996},{"$f":"BW28","v":414.866512},{"$f":"BX28","v":483.45492899999999},317.926466,294.53499799999997,237.77656200000001,409.78826799999996,null,{"$f":"SUM(CD28,CD38,CD37)","v":303.622568},{"$f":"SUM(CE28,CE38,CE37)","v":820.57082300000002},913.79113000000007,{"$f":"SUM(CG28,CG38,CG37)","v":725.711455},{"$f":"SUM(CH28,CH38,CH37)","v":781.15672199999995},0,0,0,0,0,0,0]
[null,"Produtos Agrícolas",null,"-","-","-","-","-","-","-","-","-","-","-","-",null,"-","-","-","-","-","-","-","-","-","-","-","-",null,"-","-","-","-","-","-","-","-","-","-","-","-",null,"-","-","-","-","-","-","-","-","-","-","-","-",null,"-","-","-","-","-","-","-","-","-","-","-","-",null,0,78.485810999999998,249.42326199999999,436.87470200000001,{"$f":"BU29","v":334.16292600000003},421.90039099999996,{"$f":"SUM(BW29:BW31)","v":414.866512},{"$f":"SUM(BX29:BX31)","v":483.45492899999999},317.926466,{"$f":"SUM(BZ29:BZ31)","v":294.53499799999997},{"$f":"SUM(CA29:CA31)","v":237.77656200000001},{"$f":"SUM(CB29:CB31)","v":409.78826799999996},null,{"$f":"SUM(CD29:CD36)","v":303.622568},{"$f":"SUM(CE29:CE36)","v":820.57082300000002},913.79113000000007,{"$f":"SUM(CG29:CG36)","v":725.711455},781.15672199999995,0,0,0,0,0,0,0]
[null,"Soja",null,"-","-","-","-","-","-","-","-","-","-","-","-",null,"-","-","-","-","-","-","-","-","-","-","-","-",null,"-","-","-","-","-","-","-","-","-","-","-","-",null,"-","-","-","-","-","-","-","-","-","-","-","-",null,"-","-","-","-","-","-","-","-","-","-","-","-",null,0,78.485810999999998,249.42326199999999,436.87470200000001,334.16292600000003,371.53508799999997,58.125945000000002,36.147047000000001,20.249745000000001,67.645523999999995,87.659036999999998,75.150959999999998,null,138.771908,776.78083700000002,840.84706800000004,626.54483900000002,637.89604499999996,0,0,0,0,0,0,0]
[null,"Farelo de Soja",null,"-","-","-","-","-","-","-","-","-","-","-","-",null,"-","-","-","-","-","-","-","-","-","-","-","-",null,"-","-","-","-","-","-","-","-","-","-","-","-",null,"-","-","-","-","-","-","-","-","-","-","-","-",null,"-","-","-","-","-","-","-","-","-","-","-","-",null,0,0,0,0,0,0,50.613990000000001,94.975324000000001,60.320053000000001,57.923296000000001,90.917866000000004,74.624534999999995,null,8.5899359999999998,39.853858000000002,72.944062000000002,99.166616000000005,97.542790999999994,0,0,0,0,0,0,0]
[null,"Milho",null,"-","-","-","-","-","-","-","-","-","-","-","-",null,"-","-","-","-","-","-","-","-","-","-","-","-",null,"-","-","-","-","-","-","-","-","-","-","-","-",null,"-","-","-","-","-","-","-","-","-","-","-","-",null,"-","-","-","-","-","-","-","-","-","-","-","-",null,0,0,0,0,0,50.365302999999997,306.126577,352.33255800000001,237.35666800000001,168.96617800000001,59.199658999999997,260.01277299999998,null,156.26072400000001,3.9361280000000001,0,0,0,0,0,0,0,0,0,0]
[null,"Açúcar",null,"-","-","-","-","-","-","-","-","-","-","-","-",null,"-","-","-","-","-","-","-","-","-","-","-","-",null,"-","-","-","-","-","-","-","-","-","-","-","-",null,"-","-","-","-","-","-","-","-","-","-","-","-",null,"-","-","-","-","-","-","-","-","-","-","-","-",null,0,0,0,0,0,0,0,0,0,0,0,0,null,0,0,0,0,0,0,0,0,0,0,0,0]
[null,"Fertilizantes",null,"-","-","-","-","-","-","-","-","-","-","-","-",null,"-","-","-","-","-","-","-","-","-","-","-","-",null,"-","-","-","-","-","-","-","-","-","-","-","-",null,"-","-","-","-","-","-","-","-","-","-","-","-",null,"-","-","-","-","-","-","-","-","-","-","-","-",null,0,0,0,0,0,0,0,0,0,0,0,0,null,0,0,0,0,45.717886,0,0,0,0,0,0,0]
[null,"Trigo",null,"-","-","-","-","-","-","-","-","-","-","-","-",null,"-","-","-","-","-","-","-","-","-","-","-","-",null,"-","-","-","-","-","-","-","-","-","-","-","-",null,"-","-","-","-","-","-","-","-","-","-","-","-",null,"-","-","-","-","-","-","-","-","-","-","-","-",null,0,0,0,0,0,0,0,0,0,0,0,0,null,0,0,0,0,0,0,0,0,0,0,0,0]
[null,"Malte",null,"-","-","-","-","-","-","-","-","-","-","-","-",null,"-","-","-","-","-","-","-","-","-","-","-","-",null,"-","-","-","-","-","-","-","-","-","-","-","-",null,"-","-","-","-","-","-","-","-","-","-","-","-",null,"-","-","-","-","-","-","-","-","-","-","-","-",null,0,0,0,0,0,0,0,0,0,0,0,0,null,0,0,0,0,0,0,0,0,0,0,0,0]
[null,"Farelo de Milho",null,"-","-","-","-","-","-","-","-","-","-","-","-",null,"-","-","-","-","-","-","-","-","-","-","-","-",null,"-","-","-","-","-","-","-","-","-","-","-","-",null,"-","-","-","-","-","-","-","-","-","-","-","-",null,"-","-","-","-","-","-","-","-","-","-","-","-",null,0,0,0,0,0,0,0,0,0,0,0,0,null,0,0,0,0,0,0,0,0,0,0,0,0]
[null,"Contêiner",null,"-","-","-","-","-","-","-","-","-","-","-","-",null,"-","-","-","-","-","-","-","-","-","-","-","-",null,"-","-","-","-","-","-","-","-","-","-","-","-",null,"-","-","-","-","-","-","-","-","-","-","-","-",null,"-","-","-","-","-","-","-","-","-","-","-","-",null,0,0,0,0,0,0,0,0,0,0,0,0,null,0,0,0,0,0,0,0,0,0,0,0,0]
[null,"Produtos Industriais",null,"-","-","-","-","-","-","-","-","-","-","-","-",null,"-","-","-","-","-","-","-","-","-","-","-","-",null,"-","-","-","-","-","-","-","-","-","-","-","-",null,"-","-","-","-","-","-","-","-","-","-","-","-",null,"-","-","-","-","-","-","-","-","-","-","-","-",null,0,0,0,0,0,0,0,0,0,0,0,0,null,0,0,0,0,0,0,0,0,0,0,0,0]
[null,"Combustível",null,"-","-","-","-","-","-","-","-","-","-","-","-",null,"-","-","-","-","-","-","-","-","-","-","-","-",null,"-","-","-","-","-","-","-","-","-","-","-","-",null,"-","-","-","-","-","-","-","-","-","-","-","-",null,"-","-","-","-","-","-","-","-","-","-","-","-",null,0,0,0,0,0,0,0,0,0,0,0,0,null,0,0,0,0,0,0,0,0,0,0,0,0]
[null,"Madeira, Papel e Celulose",null,"-","-","-","-","-","-","-","-","-","-","-","-",null,"-","-","-","-","-","-","-","-","-","-","-","-",null,"-","-","-","-","-","-","-","-","-","-","-","-",null,"-","-","-","-","-","-","-","-","-","-","-","-",null,"-","-","-","-","-","-","-","-","-","-","-","-",null,0,0,0,0,0,0,0,0,0,0,0,0,null,0,0,0,0,0,0,0,0,0,0,0,0]
[null,"Construção Civil",null,"-","-","-","-","-","-","-","-","-","-","-","-",null,"-","-","-","-","-","-","-","-","-","-","-","-",null,"-","-","-","-","-","-","-","-","-","-","-","-",null,"-","-","-","-","-","-","-","-","-","-","-","-",null,"-","-","-","-","-","-","-","-","-","-","-","-",null,0,0,0,0,0,0,0,0,0,0,0,0,null,0,0,0,0,0,0,0,0,0,0,0,0]
[null,"Siderúrgicos e Mineração",null,"-","-","-","-","-","-","-","-","-","-","-","-",null,"-","-","-","-","-","-","-","-","-","-","-","-",null,"-","-","-","-","-","-","-","-","-","-","-","-",null,"-","-","-","-","-","-","-","-","-","-","-","-",null,"-","-","-","-","-","-","-","-","-","-","-","-",null,0,0,0,0,0,0,0,0,0,0,0,0,null,0,0,0,0,0,0,0,0,0,0,0,0]

{"sheet":"Volume TKU Sul","index":11,"n_rows":21,"n_cols":92,"rows_kept":21,"cut":false,"hidden":false,"merged":[[3,26,4,26],[3,28,4,28],[3,25,4,25],[3,0,4,0],[3,15,4,15],[3,16,4,16],[3,17,4,17],[3,18,4,18],[3,19,4,19],[3,20,4,20],[3,21,4,21],[3,22,4,22],[3,23,4,23],[3,24,4,24],[3,2,4,2],[3,3,4,3],[3,42,4,42],[3,43,4,43],[3,44,4,44],[3,41,4,41],[3,39,4,39],[3,38,4,38],[3,29,4,29],[3,30,4,30],[3,31,4,31],[3,37,4,37],[3,35,4,35],[3,33,4,33],[3,34,4,34],[3,32,4,32],[3,36,4,36],[3,50,4,50],[3,51,4,51],[3,52,4,52],[3,45,4,45],[3,46,4,46],[3,47,4,47],[3,48,4,48],[3,49,4,49],[3,4,4,4],[3,5,4,5],[3,6,4,6],[3,7,4,7],[3,8,4,8],[3,9,4,9],[3,10,4,10],[3,11,4,11],[3,12,4,12],[3,13,4,13],[3,54,4,54],[3,55,4,55],[3,56,4,56],[3,57,4,57],[3,58,4,58],[3,64,4,64],[3,65,4,65],[3,59,4,59],[3,60,4,60],[3,61,4,61],[3,62,4,62],[3,63,4,63],[3,67,4,67],[3,68,4,68],[3,69,4,69],[3,70,4,70],[3,71,4,71],[3,77,4,77],[3,78,4,78],[3,72,4,72],[3,73,4,73],[3,74,4,74],[3,75,4,75],[3,76,4,76],[3,80,4,80],[3,81,4,81],[3,82,4,82],[3,83,4,83],[3,84,4,84],[3,90,4,90],[3,91,4,91],[3,85,4,85],[3,86,4,86],[3,87,4,87],[3,88,4,88],[3,89,4,89]]}
[]
["Volume TKU RI | Sul"]
[]
[null,null,"2016-01-01","2016-02-01","2016-03-01","2016-04-01","2016-05-01","2016-06-01","2016-07-01","2016-08-01","2016-09-01","2016-10-01","2016-11-01","2016-12-01",null,"2017-01-01","2017-02-01","2017-03-01","2017-04-01","2017-05-01","2017-06-01","2017-07-01","2017-08-01","2017-09-01","2017-10-01","2017-11-01","2017-12-01",null,"2018-01-01","2018-02-01","2018-03-01","2018-04-01","2018-05-01","2018-06-01","2018-07-01","2018-08-01","2018-09-01","2018-10-01","2018-11-01","2018-12-01",null,"2019-01-01","2019-02-01","2019-03-01","2019-04-01","2019-05-01","2019-06-01","2019-07-01","2019-08-01","2019-09-01","2019-10-01","2019-11-01","2019-12-01",null,"2020-01-01","2020-02-01","2020-03-01","2020-04-01","2020-05-01","2020-06-01","2020-07-01","2020-08-01","2020-09-01","2020-10-01","2020-11-01","2020-12-01",null,"2021-01-01","2021-02-01","2021-03-01","2021-04-01","2021-05-01","2021-06-01","2021-07-01","2021-08-01","2021-09-01","2021-10-01","2021-11-01","2021-12-01",null,"2022-01-01","2022-02-01","2022-03-01","2022-04-01","2022-05-01","2022-06-01","2022-07-01","2022-08-01","2022-09-01","2022-10-01","2022-11-01","2022-12-01"]
[]
["Transporte Ferro (TKU MM)",null,{"$f":"SUM(C7,C17,C16)","v":782.60016200000007},{"$f":"SUM(D7,D17,D16)","v":915.598386},1103.3704600000001,1106.6454189999999,1150.9600420000002,1164.902116,1238.2712859999999,1294.864779,1156.337863,1003.7638699999999,889.10618699999998,863.95478300000013,null,710.32095799999991,873.03154399999994,1153.4436229999999,1138.3564959999999,1287.1355859999999,1240.0834969999999,1437.122793,1483.1181610000001,1472.3020979999999,1352.178128,1204.3894679999999,1116.5795260000002,null,937.2968689999999,1006.6652039999999,1255.4032629999999,1281.4163759999999,1283.593889,1382.6742319999998,1428.885863,1503.1768530000002,1418.441644,1410.5905850000001,1275.2254739999998,1142.3593210000001,null,993.60351900000012,1164.1877020000002,1273.561267,1106.518675,1152.49182,1288.020325,1511.2137110000001,1529.2182600000001,1404.5972160000001,1460.508034,1363.2119680000001,955.68922100000009,null,753.377028,908.0058889999998,1055.6007779999998,1190.0261109999999,1413.1090680000002,1289.9323690000001,1406.912233,1444.6818210000001,1387.6867999999999,1354.4856599999998,1330.944526,995.69179999999983,null,{"$f":"SUM(BP7,BP17,BP16)","v":677.51679000000001},745.27946200000008,1383.8420099999998,1389.0768799999998,1488.224393,1359.0756319999998,1400.007548,1216.597491,1243.8138819999999,1160.317489,1073.3240870000002,1077.362572,null,{"$f":"SUM(CC7,CC17,CC16)","v":876.18734600000005},961.66227200000003,1206.9748030000001,899.03294200000005,932.816326,0,0,0,0,0,0,0]
["Produtos Agrícolas",null,{"$f":"SUM(C8:C15)","v":503.51929700000005},{"$f":"SUM(D8:D15)","v":599.40745700000002},757.88383500000009,768.94193299999995,797.65097500000002,784.89417800000001,827.54975999999988,885.23294999999996,763.33427400000005,611.39804099999992,529.84412999999995,540.63504900000009,null,379.22543099999996,588.90690099999995,810.17045099999996,810.06147699999997,902.14555799999994,889.46473300000002,1028.7662420000001,1065.052893,1070.386794,933.46684500000003,842.57526500000006,750.7849010000001,null,581.11927299999991,654.9688329999999,912.38328799999999,942.09656599999994,964.82890999999995,992.03707899999984,1037.3038469999999,1077.5354380000001,1003.0228960000001,988.10531000000003,884.58826199999999,754.68343900000002,null,613.60075200000006,795.78018300000019,889.26942500000007,731.10819199999992,749.42967399999998,875.27900599999998,1076.428461,1060.1728310000001,960.69442400000003,1013.6439789999999,974.18247800000006,599.93145500000003,null,384.06578600000006,586.7668789999999,806.20822099999987,910.34882099999993,1096.2557480000003,966.97698700000001,1032.4572990000001,1061.2051290000002,992.23446000000001,954.53296399999988,944.27825200000007,658.3325339999999,null,{"$f":"SUM(BP8:BP15)","v":300.33231700000005},369.76899700000007,978.859962,997.71812,1072.3842749999999,977.80358699999988,1018.8571029999999,828.9166130000001,891.15789700000005,809.88737500000002,734.91292800000008,759.825514,null,{"$f":"SUM(CC8:CC15)","v":549.11668700000007},668.24647700000003,853.96244100000013,564.413948,557.06909199999996,0,0,0,0,0,0,0]
["Soja",null,{"$f":"SUMIFS('Base TKU'!E:E,'Base TKU'!$A:$A,$A8,'Base TKU'!$B:$B,\"SUL\")/1000000","v":49.397860999999999},{"$f":"SUMIFS('Base TKU'!F:F,'Base TKU'!$A:$A,$A8,'Base TKU'!$B:$B,\"SUL\")/1000000","v":462.26137799999998},{"$f":"SUMIFS('Base TKU'!G:G,'Base TKU'!$A:$A,$A8,'Base TKU'!$B:$B,\"SUL\")/1000000","v":618.98012700000004},{"$f":"SUMIFS('Base TKU'!H:H,'Base TKU'!$A:$A,$A8,'Base TKU'!$B:$B,\"SUL\")/1000000","v":583.17332599999997},{"$f":"SUMIFS('Base TKU'!I:I,'Base TKU'!$A:$A,$A8,'Base TKU'!$B:$B,\"SUL\")/1000000","v":505.29110200000002},{"$f":"SUMIFS('Base TKU'!J:J,'Base TKU'!$A:$A,$A8,'Base TKU'!$B:$B,\"SUL\")/1000000","v":434.02677999999997},{"$f":"SUMIFS('Base TKU'!K:K,'Base TKU'!$A:$A,$A8,'Base TKU'!$B:$B,\"SUL\")/1000000","v":316.793497},{"$f":"SUMIFS('Base TKU'!L:L,'Base TKU'!$A:$A,$A8,'Base TKU'!$B:$B,\"SUL\")/1000000","v":182.78065100000001},{"$f":"SUMIFS('Base TKU'!M:M,'Base TKU'!$A:$A,$A8,'Base TKU'!$B:$B,\"SUL\")/1000000","v":130.11925199999999},{"$f":"SUMIFS('Base TKU'!N:N,'Base TKU'!$A:$A,$A8,'Base TKU'!$B:$B,\"SUL\")/1000000","v":95.372065000000006},{"$f":"SUMIFS('Base TKU'!O:O,'Base TKU'!$A:$A,$A8,'Base TKU'!$B:$B,\"SUL\")/1000000","v":63.772399},{"$f":"SUMIFS('Base TKU'!P:P,'Base TKU'!$A:$A,$A8,'Base TKU'!$B:$B,\"SUL\")/1000000","v":55.277765000000002},null,{"$f":"SUMIFS('Base TKU'!R:R,'Base TKU'!$A:$A,$A8,'Base TKU'!$B:$B,\"SUL\")/1000000","v":114.451553},{"$f":"SUMIFS('Base TKU'!S:S,'Base TKU'!$A:$A,$A8,'Base TKU'!$B:$B,\"SUL\")/1000000","v":405.63507399999997},{"$f":"SUMIFS('Base TKU'!T:T,'Base TKU'!$A:$A,$A8,'Base TKU'!$B:$B,\"SUL\")/1000000","v":670.59992399999999},{"$f":"SUMIFS('Base TKU'!U:U,'Base TKU'!$A:$A,$A8,'Base TKU'!$B:$B,\"SUL\")/1000000","v":577.581097},{"$f":"SUMIFS('Base TKU'!V:V,'Base TKU'!$A:$A,$A8,'Base TKU'!$B:$B,\"SUL\")/1000000","v":546.26962800000001},{"$f":"SUMIFS('Base TKU'!W:W,'Base TKU'!$A:$A,$A8,'Base TKU'!$B:$B,\"SUL\")/1000000","v":545.82511399999999},{"$f":"SUMIFS('Base TKU'!X:X,'Base TKU'!$A:$A,$A8,'Base TKU'!$B:$B,\"SUL\")/1000000","v":462.89329099999998},{"$f":"SUMIFS('Base TKU'!Y:Y,'Base TKU'!$A:$A,$A8,'Base TKU'!$B:$B,\"SUL\")/1000000","v":326.992727},{"$f":"SUMIFS('Base TKU'!Z:Z,'Base TKU'!$A:$A,$A8,'Base TKU'!$B:$B,\"SUL\")/1000000","v":178.126689},{"$f":"SUMIFS('Base TKU'!AA:AA,'Base TKU'!$A:$A,$A8,'Base TKU'!$B:$B,\"SUL\")/1000000","v":208.222522},{"$f":"SUMIFS('Base TKU'!AB:AB,'Base TKU'!$A:$A,$A8,'Base TKU'!$B:$B,\"SUL\")/1000000","v":364.80664300000001},{"$f":"SUMIFS('Base TKU'!AC:AC,'Base TKU'!$A:$A,$A8,'Base TKU'!$B:$B,\"SUL\")/1000000","v":398.06726200000003},null,{"$f":"SUMIFS('Base TKU'!AE:AE,'Base TKU'!$A:$A,$A8,'Base TKU'!$B:$B,\"SUL\")/1000000","v":239.294534},{"$f":"SUMIFS('Base TKU'!AF:AF,'Base TKU'!$A:$A,$A8,'Base TKU'!$B:$B,\"SUL\")/1000000","v":495.49919699999998},{"$f":"SUMIFS('Base TKU'!AG:AG,'Base TKU'!$A:$A,$A8,'Base TKU'!$B:$B,\"SUL\")/1000000","v":801.33004500000004},{"$f":"SUMIFS('Base TKU'!AH:AH,'Base TKU'!$A:$A,$A8,'Base TKU'!$B:$B,\"SUL\")/1000000","v":760.51363400000002},{"$f":"SUMIFS('Base TKU'!AI:AI,'Base TKU'!$A:$A,$A8,'Base TKU'!$B:$B,\"SUL\")/1000000","v":677.22154999999998},{"$f":"SUMIFS('Base TKU'!AJ:AJ,'Base TKU'!$A:$A,$A8,'Base TKU'!$B:$B,\"SUL\")/1000000","v":670.03567599999997},{"$f":"SUMIFS('Base TKU'!AK:AK,'Base TKU'!$A:$A,$A8,'Base TKU'!$B:$B,\"SUL\")/1000000","v":706.86972900000001},{"$f":"SUMIFS('Base TKU'!AL:AL,'Base TKU'!$A:$A,$A8,'Base TKU'!$B:$B,\"SUL\")/1000000","v":665.30776800000001},{"$f":"SUMIFS('Base TKU'!AM:AM,'Base TKU'!$A:$A,$A8,'Base TKU'!$B:$B,\"SUL\")/1000000","v":592.26402900000005},{"$f":"SUMIFS('Base TKU'!AN:AN,'Base TKU'!$A:$A,$A8,'Base TKU'!$B:$B,\"SUL\")/1000000","v":673.22224300000005},{"$f":"SUMIFS('Base TKU'!AO:AO,'Base TKU'!$A:$A,$A8,'Base TKU'!$B:$B,\"SUL\")/1000000","v":512.44623799999999},{"$f":"SUMIFS('Base TKU'!AP:AP,'Base TKU'!$A:$A,$A8,'Base TKU'!$B:$B,\"SUL\")/1000000","v":255.257497},null,{"$f":"SUMIFS('Base TKU'!AR:AR,'Base TKU'!$A:$A,$A8,'Base TKU'!$B:$B,\"SUL\")/1000000","v":322.85541000000001},{"$f":"SUMIFS('Base TKU'!AS:AS,'Base TKU'!$A:$A,$A8,'Base TKU'!$B:$B,\"SUL\")/1000000","v":607.20865500000002},{"$f":"SUMIFS('Base TKU'!AT:AT,'Base TKU'!$A:$A,$A8,'Base TKU'!$B:$B,\"SUL\")/1000000","v":763.71666200000004},{"$f":"SUMIFS('Base TKU'!AU:AU,'Base TKU'!$A:$A,$A8,'Base TKU'!$B:$B,\"SUL\")/1000000","v":526.40494000000001},{"$f":"SUMIFS('Base TKU'!AV:AV,'Base TKU'!$A:$A,$A8,'Base TKU'!$B:$B,\"SUL\")/1000000","v":460.253782},{"$f":"SUMIFS('Base TKU'!AW:AW,'Base TKU'!$A:$A,$A8,'Base TKU'!$B:$B,\"SUL\")/1000000","v":404.06217700000002},{"$f":"SUMIFS('Base TKU'!AX:AX,'Base TKU'!$A:$A,$A8,'Base TKU'!$B:$B,\"SUL\")/1000000","v":327.07681600000001},{"$f":"SUMIFS('Base TKU'!AY:AY,'Base TKU'!$A:$A,$A8,'Base TKU'!$B:$B,\"SUL\")/1000000","v":304.12288799999999},{"$f":"SUMIFS('Base TKU'!AZ:AZ,'Base TKU'!$A:$A,$A8,'Base TKU'!$B:$B,\"SUL\")/1000000","v":312.177573},{"$f":"SUMIFS('Base TKU'!BA:BA,'Base TKU'!$A:$A,$A8,'Base TKU'!$B:$B,\"SUL\")/1000000","v":477.34268500000002},{"$f":"SUMIFS('Base TKU'!BB:BB,'Base TKU'!$A:$A,$A8,'Base TKU'!$B:$B,\"SUL\")/1000000","v":384.67891100000003},{"$f":"SUMIFS('Base TKU'!BC:BC,'Base TKU'!$A:$A,$A8,'Base TKU'!$B:$B,\"SUL\")/1000000","v":226.14988600000001},null,{"$f":"SUMIFS('Base TKU'!BE:BE,'Base TKU'!$A:$A,$A8,'Base TKU'!$B:$B,\"SUL\")/1000000","v":112.226422},{"$f":"SUMIFS('Base TKU'!BF:BF,'Base TKU'!$A:$A,$A8,'Base TKU'!$B:$B,\"SUL\")/1000000","v":386.54129599999999},{"$f":"SUMIFS('Base TKU'!BG:BG,'Base TKU'!$A:$A,$A8,'Base TKU'!$B:$B,\"SUL\")/1000000","v":637.83363399999996},{"$f":"SUMIFS('Base TKU'!BH:BH,'Base TKU'!$A:$A,$A8,'Base TKU'!$B:$B,\"SUL\")/1000000","v":715.25874399999998},{"$f":"SUMIFS('Base TKU'!BI:BI,'Base TKU'!$A:$A,$A8,'Base TKU'!$B:$B,\"SUL\")/1000000","v":739.46063600000002},{"$f":"SUMIFS('Base TKU'!BJ:BJ,'Base TKU'!$A:$A,$A8,'Base TKU'!$B:$B,\"SUL\")/1000000","v":661.173812},{"$f":"SUMIFS('Base TKU'!BK:BK,'Base TKU'!$A:$A,$A8,'Base TKU'!$B:$B,\"SUL\")/1000000","v":652.40006500000004},{"$f":"SUMIFS('Base TKU'!BL:BL,'Base TKU'!$A:$A,$A8,'Base TKU'!$B:$B,\"SUL\")/1000000","v":458.361087},{"$f":"SUMIFS('Base TKU'!BM:BM,'Base TKU'!$A:$A,$A8,'Base TKU'!$B:$B,\"SUL\")/1000000","v":249.67901800000001},{"$f":"SUMIFS('Base TKU'!BN:BN,'Base TKU'!$A:$A,$A8,'Base TKU'!$B:$B,\"SUL\")/1000000","v":149.427977},{"$f":"SUMIFS('Base TKU'!BO:BO,'Base TKU'!$A:$A,$A8,'Base TKU'!$B:$B,\"SUL\")/1000000","v":69.608677999999998},{"$f":"SUMIFS('Base TKU'!BP:BP,'Base TKU'!$A:$A,$A8,'Base TKU'!$B:$B,\"SUL\")/1000000","v":53.633718000000002},null,{"$f":"SUMIFS('Base TKU'!BR:BR,'Base TKU'!$A:$A,$A8,'Base TKU'!$B:$B,\"SUL\")/1000000","v":12.514155000000001},{"$f":"SUMIFS('Base TKU'!BS:BS,'Base TKU'!$A:$A,$A8,'Base TKU'!$B:$B,\"SUL\")/1000000","v":165.54876100000001},{"$f":"SUMIFS('Base TKU'!BT:BT,'Base TKU'!$A:$A,$A8,'Base TKU'!$B:$B,\"SUL\")/1000000","v":808.905349},{"$f":"SUMIFS('Base TKU'!BU:BU,'Base TKU'!$A:$A,$A8,'Base TKU'!$B:$B,\"SUL\")/1000000","v":787.45864800000004},{"$f":"SUMIFS('Base TKU'!BV:BV,'Base TKU'!$A:$A,$A8,'Base TKU'!$B:$B,\"SUL\")/1000000","v":699.25417800000002},{"$f":"SUMIFS('Base TKU'!BW:BW,'Base TKU'!$A:$A,$A8,'Base TKU'!$B:$B,\"SUL\")/1000000","v":494.18303600000002},{"$f":"SUMIFS('Base TKU'!BX:BX,'Base TKU'!$A:$A,$A8,'Base TKU'!$B:$B,\"SUL\")/1000000","v":665.28959999999995},{"$f":"SUMIFS('Base TKU'!BY:BY,'Base TKU'!$A:$A,$A8,'Base TKU'!$B:$B,\"SUL\")/1000000","v":430.87949300000002},{"$f":"SUMIFS('Base TKU'!BZ:BZ,'Base TKU'!$A:$A,$A8,'Base TKU'!$B:$B,\"SUL\")/1000000","v":398.66632299999998},{"$f":"SUMIFS('Base TKU'!CA:CA,'Base TKU'!$A:$A,$A8,'Base TKU'!$B:$B,\"SUL\")/1000000","v":360.46651900000001},{"$f":"SUMIFS('Base TKU'!CB:CB,'Base TKU'!$A:$A,$A8,'Base TKU'!$B:$B,\"SUL\")/1000000","v":300.186645},{"$f":"SUMIFS('Base TKU'!CC:CC,'Base TKU'!$A:$A,$A8,'Base TKU'!$B:$B,\"SUL\")/1000000","v":311.75387999999998},null,{"$f":"SUMIFS('Base TKU'!CE:CE,'Base TKU'!$A:$A,$A8,'Base TKU'!$B:$B,\"SUL\")/1000000","v":208.873177},{"$f":"SUMIFS('Base TKU'!CF:CF,'Base TKU'!$A:$A,$A8,'Base TKU'!$B:$B,\"SUL\")/1000000","v":400.83400899999998},{"$f":"SUMIFS('Base TKU'!CG:CG,'Base TKU'!$A:$A,$A8,'Base TKU'!$B:$B,\"SUL\")/1000000","v":607.43654400000003},{"$f":"SUMIFS('Base TKU'!CH:CH,'Base TKU'!$A:$A,$A8,'Base TKU'!$B:$B,\"SUL\")/1000000","v":270.45984399999998},{"$f":"SUMIFS('Base TKU'!CI:CI,'Base TKU'!$A:$A,$A8,'Base TKU'!$B:$B,\"SUL\")/1000000","v":166.71777599999999},{"$f":"SUMIFS('Base TKU'!CJ:CJ,'Base TKU'!$A:$A,$A8,'Base TKU'!$B:$B,\"SUL\")/1000000","v":0},{"$f":"SUMIFS('Base TKU'!CK:CK,'Base TKU'!$A:$A,$A8,'Base TKU'!$B:$B,\"SUL\")/1000000","v":0},{"$f":"SUMIFS('Base TKU'!CL:CL,'Base TKU'!$A:$A,$A8,'Base TKU'!$B:$B,\"SUL\")/1000000","v":0},{"$f":"SUMIFS('Base TKU'!CM:CM,'Base TKU'!$A:$A,$A8,'Base TKU'!$B:$B,\"SUL\")/1000000","v":0},{"$f":"SUMIFS('Base TKU'!CN:CN,'Base TKU'!$A:$A,$A8,'Base TKU'!$B:$B,\"SUL\")/1000000","v":0},{"$f":"SUMIFS('Base TKU'!CO:CO,'Base TKU'!$A:$A,$A8,'Base TKU'!$B:$B,\"SUL\")/1000000","v":0},{"$f":"SUMIFS('Base TKU'!CP:CP,'Base TKU'!$A:$A,$A8,'Base TKU'!$B:$B,\"SUL\")/1000000","v":0}]
["Farelo de Soja",null,{"$f":"SUMIFS('Base TKU'!E:E,'Base TKU'!$A:$A,$A9,'Base TKU'!$B:$B,\"SUL\")/1000000","v":22.585139000000002},{"$f":"SUMIFS('Base TKU'!F:F,'Base TKU'!$A:$A,$A9,'Base TKU'!$B:$B,\"SUL\")/1000000","v":27.253985},{"$f":"SUMIFS('Base TKU'!G:G,'Base TKU'!$A:$A,$A9,'Base TKU'!$B:$B,\"SUL\")/1000000","v":38.939644999999999},{"$f":"SUMIFS('Base TKU'!H:H,'Base TKU'!$A:$A,$A9,'Base TKU'!$B:$B,\"SUL\")/1000000","v":42.599338000000003},{"$f":"SUMIFS('Base TKU'!I:I,'Base TKU'!$A:$A,$A9,'Base TKU'!$B:$B,\"SUL\")/1000000","v":37.227480999999997},{"$f":"SUMIFS('Base TKU'!J:J,'Base TKU'!$A:$A,$A9,'Base TKU'!$B:$B,\"SUL\")/1000000","v":42.020553999999997},{"$f":"SUMIFS('Base TKU'!K:K,'Base TKU'!$A:$A,$A9,'Base TKU'!$B:$B,\"SUL\")/1000000","v":35.790398000000003},{"$f":"SUMIFS('Base TKU'!L:L,'Base TKU'!$A:$A,$A9,'Base TKU'!$B:$B,\"SUL\")/1000000","v":29.212686000000001},{"$f":"SUMIFS('Base TKU'!M:M,'Base TKU'!$A:$A,$A9,'Base TKU'!$B:$B,\"SUL\")/1000000","v":33.941997999999998},{"$f":"SUMIFS('Base TKU'!N:N,'Base TKU'!$A:$A,$A9,'Base TKU'!$B:$B,\"SUL\")/1000000","v":41.330551999999997},{"$f":"SUMIFS('Base TKU'!O:O,'Base TKU'!$A:$A,$A9,'Base TKU'!$B:$B,\"SUL\")/1000000","v":45.895744999999998},{"$f":"SUMIFS('Base TKU'!P:P,'Base TKU'!$A:$A,$A9,'Base TKU'!$B:$B,\"SUL\")/1000000","v":28.935276000000002},null,{"$f":"SUMIFS('Base TKU'!R:R,'Base TKU'!$A:$A,$A9,'Base TKU'!$B:$B,\"SUL\")/1000000","v":25.726133000000001},{"$f":"SUMIFS('Base TKU'!S:S,'Base TKU'!$A:$A,$A9,'Base TKU'!$B:$B,\"SUL\")/1000000","v":23.371234000000001},{"$f":"SUMIFS('Base TKU'!T:T,'Base TKU'!$A:$A,$A9,'Base TKU'!$B:$B,\"SUL\")/1000000","v":33.055447000000001},{"$f":"SUMIFS('Base TKU'!U:U,'Base TKU'!$A:$A,$A9,'Base TKU'!$B:$B,\"SUL\")/1000000","v":36.291561000000002},{"$f":"SUMIFS('Base TKU'!V:V,'Base TKU'!$A:$A,$A9,'Base TKU'!$B:$B,\"SUL\")/1000000","v":34.637470999999998},{"$f":"SUMIFS('Base TKU'!W:W,'Base TKU'!$A:$A,$A9,'Base TKU'!$B:$B,\"SUL\")/1000000","v":30.14235},{"$f":"SUMIFS('Base TKU'!X:X,'Base TKU'!$A:$A,$A9,'Base TKU'!$B:$B,\"SUL\")/1000000","v":33.622655999999999},{"$f":"SUMIFS('Base TKU'!Y:Y,'Base TKU'!$A:$A,$A9,'Base TKU'!$B:$B,\"SUL\")/1000000","v":25.109131999999999},{"$f":"SUMIFS('Base TKU'!Z:Z,'Base TKU'!$A:$A,$A9,'Base TKU'!$B:$B,\"SUL\")/1000000","v":25.814254999999999},{"$f":"SUMIFS('Base TKU'!AA:AA,'Base TKU'!$A:$A,$A9,'Base TKU'!$B:$B,\"SUL\")/1000000","v":22.813295},{"$f":"SUMIFS('Base TKU'!AB:AB,'Base TKU'!$A:$A,$A9,'Base TKU'!$B:$B,\"SUL\")/1000000","v":26.348351000000001},{"$f":"SUMIFS('Base TKU'!AC:AC,'Base TKU'!$A:$A,$A9,'Base TKU'!$B:$B,\"SUL\")/1000000","v":27.644221999999999},null,{"$f":"SUMIFS('Base TKU'!AE:AE,'Base TKU'!$A:$A,$A9,'Base TKU'!$B:$B,\"SUL\")/1000000","v":34.667282},{"$f":"SUMIFS('Base TKU'!AF:AF,'Base TKU'!$A:$A,$A9,'Base TKU'!$B:$B,\"SUL\")/1000000","v":27.340375999999999},{"$f":"SUMIFS('Base TKU'!AG:AG,'Base TKU'!$A:$A,$A9,'Base TKU'!$B:$B,\"SUL\")/1000000","v":37.083432999999999},{"$f":"SUMIFS('Base TKU'!AH:AH,'Base TKU'!$A:$A,$A9,'Base TKU'!$B:$B,\"SUL\")/1000000","v":44.805669999999999},{"$f":"SUMIFS('Base TKU'!AI:AI,'Base TKU'!$A:$A,$A9,'Base TKU'!$B:$B,\"SUL\")/1000000","v":50.747230999999999},{"$f":"SUMIFS('Base TKU'!AJ:AJ,'Base TKU'!$A:$A,$A9,'Base TKU'!$B:$B,\"SUL\")/1000000","v":48.932203000000001},{"$f":"SUMIFS('Base TKU'!AK:AK,'Base TKU'!$A:$A,$A9,'Base TKU'!$B:$B,\"SUL\")/1000000","v":55.155977},{"$f":"SUMIFS('Base TKU'!AL:AL,'Base TKU'!$A:$A,$A9,'Base TKU'!$B:$B,\"SUL\")/1000000","v":45.404407999999997},{"$f":"SUMIFS('Base TKU'!AM:AM,'Base TKU'!$A:$A,$A9,'Base TKU'!$B:$B,\"SUL\")/1000000","v":40.653373000000002},{"$f":"SUMIFS('Base TKU'!AN:AN,'Base TKU'!$A:$A,$A9,'Base TKU'!$B:$B,\"SUL\")/1000000","v":34.549920999999998},{"$f":"SUMIFS('Base TKU'!AO:AO,'Base TKU'!$A:$A,$A9,'Base TKU'!$B:$B,\"SUL\")/1000000","v":53.257154999999997},{"$f":"SUMIFS('Base TKU'!AP:AP,'Base TKU'!$A:$A,$A9,'Base TKU'!$B:$B,\"SUL\")/1000000","v":56.125055000000003},null,{"$f":"SUMIFS('Base TKU'!AR:AR,'Base TKU'!$A:$A,$A9,'Base TKU'!$B:$B,\"SUL\")/1000000","v":37.872917999999999},{"$f":"SUMIFS('Base TKU'!AS:AS,'Base TKU'!$A:$A,$A9,'Base TKU'!$B:$B,\"SUL\")/1000000","v":36.030687},{"$f":"SUMIFS('Base TKU'!AT:AT,'Base TKU'!$A:$A,$A9,'Base TKU'!$B:$B,\"SUL\")/1000000","v":51.921365999999999},{"$f":"SUMIFS('Base TKU'!AU:AU,'Base TKU'!$A:$A,$A9,'Base TKU'!$B:$B,\"SUL\")/1000000","v":53.452486999999998},{"$f":"SUMIFS('Base TKU'!AV:AV,'Base TKU'!$A:$A,$A9,'Base TKU'!$B:$B,\"SUL\")/1000000","v":49.568280999999999},{"$f":"SUMIFS('Base TKU'!AW:AW,'Base TKU'!$A:$A,$A9,'Base TKU'!$B:$B,\"SUL\")/1000000","v":81.832305000000005},{"$f":"SUMIFS('Base TKU'!AX:AX,'Base TKU'!$A:$A,$A9,'Base TKU'!$B:$B,\"SUL\")/1000000","v":77.417069999999995},{"$f":"SUMIFS('Base TKU'!AY:AY,'Base TKU'!$A:$A,$A9,'Base TKU'!$B:$B,\"SUL\")/1000000","v":49.447999000000003},{"$f":"SUMIFS('Base TKU'!AZ:AZ,'Base TKU'!$A:$A,$A9,'Base TKU'!$B:$B,\"SUL\")/1000000","v":68.021609999999995},{"$f":"SUMIFS('Base TKU'!BA:BA,'Base TKU'!$A:$A,$A9,'Base TKU'!$B:$B,\"SUL\")/1000000","v":82.493910999999997},{"$f":"SUMIFS('Base TKU'!BB:BB,'Base TKU'!$A:$A,$A9,'Base TKU'!$B:$B,\"SUL\")/1000000","v":74.181278000000006},{"$f":"SUMIFS('Base TKU'!BC:BC,'Base TKU'!$A:$A,$A9,'Base TKU'!$B:$B,\"SUL\")/1000000","v":53.659860000000002},null,{"$f":"SUMIFS('Base TKU'!BE:BE,'Base TKU'!$A:$A,$A9,'Base TKU'!$B:$B,\"SUL\")/1000000","v":39.104826000000003},{"$f":"SUMIFS('Base TKU'!BF:BF,'Base TKU'!$A:$A,$A9,'Base TKU'!$B:$B,\"SUL\")/1000000","v":31.946691999999999},{"$f":"SUMIFS('Base TKU'!BG:BG,'Base TKU'!$A:$A,$A9,'Base TKU'!$B:$B,\"SUL\")/1000000","v":75.683285999999995},{"$f":"SUMIFS('Base TKU'!BH:BH,'Base TKU'!$A:$A,$A9,'Base TKU'!$B:$B,\"SUL\")/1000000","v":31.554860000000001},{"$f":"SUMIFS('Base TKU'!BI:BI,'Base TKU'!$A:$A,$A9,'Base TKU'!$B:$B,\"SUL\")/1000000","v":71.127644000000004},{"$f":"SUMIFS('Base TKU'!BJ:BJ,'Base TKU'!$A:$A,$A9,'Base TKU'!$B:$B,\"SUL\")/1000000","v":55.672431000000003},{"$f":"SUMIFS('Base TKU'!BK:BK,'Base TKU'!$A:$A,$A9,'Base TKU'!$B:$B,\"SUL\")/1000000","v":72.948113000000006},{"$f":"SUMIFS('Base TKU'!BL:BL,'Base TKU'!$A:$A,$A9,'Base TKU'!$B:$B,\"SUL\")/1000000","v":61.470131000000002},{"$f":"SUMIFS('Base TKU'!BM:BM,'Base TKU'!$A:$A,$A9,'Base TKU'!$B:$B,\"SUL\")/1000000","v":71.912588},{"$f":"SUMIFS('Base TKU'!BN:BN,'Base TKU'!$A:$A,$A9,'Base TKU'!$B:$B,\"SUL\")/1000000","v":61.147981999999999},{"$f":"SUMIFS('Base TKU'!BO:BO,'Base TKU'!$A:$A,$A9,'Base TKU'!$B:$B,\"SUL\")/1000000","v":44.395409000000001},{"$f":"SUMIFS('Base TKU'!BP:BP,'Base TKU'!$A:$A,$A9,'Base TKU'!$B:$B,\"SUL\")/1000000","v":26.847304999999999},null,{"$f":"SUMIFS('Base TKU'!BR:BR,'Base TKU'!$A:$A,$A9,'Base TKU'!$B:$B,\"SUL\")/1000000","v":24.034061999999999},{"$f":"SUMIFS('Base TKU'!BS:BS,'Base TKU'!$A:$A,$A9,'Base TKU'!$B:$B,\"SUL\")/1000000","v":17.803749},{"$f":"SUMIFS('Base TKU'!BT:BT,'Base TKU'!$A:$A,$A9,'Base TKU'!$B:$B,\"SUL\")/1000000","v":58.240445999999999},{"$f":"SUMIFS('Base TKU'!BU:BU,'Base TKU'!$A:$A,$A9,'Base TKU'!$B:$B,\"SUL\")/1000000","v":71.722391999999999},{"$f":"SUMIFS('Base TKU'!BV:BV,'Base TKU'!$A:$A,$A9,'Base TKU'!$B:$B,\"SUL\")/1000000","v":74.144558000000004},{"$f":"SUMIFS('Base TKU'!BW:BW,'Base TKU'!$A:$A,$A9,'Base TKU'!$B:$B,\"SUL\")/1000000","v":76.939860999999993},{"$f":"SUMIFS('Base TKU'!BX:BX,'Base TKU'!$A:$A,$A9,'Base TKU'!$B:$B,\"SUL\")/1000000","v":64.156571},{"$f":"SUMIFS('Base TKU'!BY:BY,'Base TKU'!$A:$A,$A9,'Base TKU'!$B:$B,\"SUL\")/1000000","v":76.500015000000005},{"$f":"SUMIFS('Base TKU'!BZ:BZ,'Base TKU'!$A:$A,$A9,'Base TKU'!$B:$B,\"SUL\")/1000000","v":81.550635},{"$f":"SUMIFS('Base TKU'!CA:CA,'Base TKU'!$A:$A,$A9,'Base TKU'!$B:$B,\"SUL\")/1000000","v":82.386433999999994},{"$f":"SUMIFS('Base TKU'!CB:CB,'Base TKU'!$A:$A,$A9,'Base TKU'!$B:$B,\"SUL\")/1000000","v":56.700791000000002},{"$f":"SUMIFS('Base TKU'!CC:CC,'Base TKU'!$A:$A,$A9,'Base TKU'!$B:$B,\"SUL\")/1000000","v":50.343420999999999},null,{"$f":"SUMIFS('Base TKU'!CE:CE,'Base TKU'!$A:$A,$A9,'Base TKU'!$B:$B,\"SUL\")/1000000","v":43.337871},{"$f":"SUMIFS('Base TKU'!CF:CF,'Base TKU'!$A:$A,$A9,'Base TKU'!$B:$B,\"SUL\")/1000000","v":42.161555},{"$f":"SUMIFS('Base TKU'!CG:CG,'Base TKU'!$A:$A,$A9,'Base TKU'!$B:$B,\"SUL\")/1000000","v":79.061310000000006},{"$f":"SUMIFS('Base TKU'!CH:CH,'Base TKU'!$A:$A,$A9,'Base TKU'!$B:$B,\"SUL\")/1000000","v":80.220907999999994},{"$f":"SUMIFS('Base TKU'!CI:CI,'Base TKU'!$A:$A,$A9,'Base TKU'!$B:$B,\"SUL\")/1000000","v":70.802290999999997},{"$f":"SUMIFS('Base TKU'!CJ:CJ,'Base TKU'!$A:$A,$A9,'Base TKU'!$B:$B,\"SUL\")/1000000","v":0},{"$f":"SUMIFS('Base TKU'!CK:CK,'Base TKU'!$A:$A,$A9,'Base TKU'!$B:$B,\"SUL\")/1000000","v":0},{"$f":"SUMIFS('Base TKU'!CL:CL,'Base TKU'!$A:$A,$A9,'Base TKU'!$B:$B,\"SUL\")/1000000","v":0},{"$f":"SUMIFS('Base TKU'!CM:CM,'Base TKU'!$A:$A,$A9,'Base TKU'!$B:$B,\"SUL\")/1000000","v":0},{"$f":"SUMIFS('Base TKU'!CN:CN,'Base TKU'!$A:$A,$A9,'Base TKU'!$B:$B,\"SUL\")/1000000","v":0},{"$f":"SUMIFS('Base TKU'!CO:CO,'Base TKU'!$A:$A,$A9,'Base TKU'!$B:$B,\"SUL\")/1000000","v":0},{"$f":"SUMIFS('Base TKU'!CP:CP,'Base TKU'!$A:$A,$A9,'Base TKU'!$B:$B,\"SUL\")/1000000","v":0}]
["Milho",null,{"$f":"SUMIFS('Base TKU'!E:E,'Base TKU'!$A:$A,$A10,'Base TKU'!$B:$B,\"SUL\")/1000000","v":240.97580400000001},{"$f":"SUMIFS('Base TKU'!F:F,'Base TKU'!$A:$A,$A10,'Base TKU'!$B:$B,\"SUL\")/1000000","v":63.792639999999999},{"$f":"SUMIFS('Base TKU'!G:G,'Base TKU'!$A:$A,$A10,'Base TKU'!$B:$B,\"SUL\")/1000000","v":1.228532},{"$f":"SUMIFS('Base TKU'!H:H,'Base TKU'!$A:$A,$A10,'Base TKU'!$B:$B,\"SUL\")/1000000","v":0},{"$f":"SUMIFS('Base TKU'!I:I,'Base TKU'!$A:$A,$A10,'Base TKU'!$B:$B,\"SUL\")/1000000","v":0},{"$f":"SUMIFS('Base TKU'!J:J,'Base TKU'!$A:$A,$A10,'Base TKU'!$B:$B,\"SUL\")/1000000","v":0.30637399999999998},{"$f":"SUMIFS('Base TKU'!K:K,'Base TKU'!$A:$A,$A10,'Base TKU'!$B:$B,\"SUL\")/1000000","v":83.198401000000004},{"$f":"SUMIFS('Base TKU'!L:L,'Base TKU'!$A:$A,$A10,'Base TKU'!$B:$B,\"SUL\")/1000000","v":235.05851000000001},{"$f":"SUMIFS('Base TKU'!M:M,'Base TKU'!$A:$A,$A10,'Base TKU'!$B:$B,\"SUL\")/1000000","v":130.38484399999999},{"$f":"SUMIFS('Base TKU'!N:N,'Base TKU'!$A:$A,$A10,'Base TKU'!$B:$B,\"SUL\")/1000000","v":80.026790000000005},{"$f":"SUMIFS('Base TKU'!O:O,'Base TKU'!$A:$A,$A10,'Base TKU'!$B:$B,\"SUL\")/1000000","v":48.609551000000003},{"$f":"SUMIFS('Base TKU'!P:P,'Base TKU'!$A:$A,$A10,'Base TKU'!$B:$B,\"SUL\")/1000000","v":51.992756},null,{"$f":"SUMIFS('Base TKU'!R:R,'Base TKU'!$A:$A,$A10,'Base TKU'!$B:$B,\"SUL\")/1000000","v":18.163383},{"$f":"SUMIFS('Base TKU'!S:S,'Base TKU'!$A:$A,$A10,'Base TKU'!$B:$B,\"SUL\")/1000000","v":6.5696349999999999},{"$f":"SUMIFS('Base TKU'!T:T,'Base TKU'!$A:$A,$A10,'Base TKU'!$B:$B,\"SUL\")/1000000","v":0},{"$f":"SUMIFS('Base TKU'!U:U,'Base TKU'!$A:$A,$A10,'Base TKU'!$B:$B,\"SUL\")/1000000","v":0},{"$f":"SUMIFS('Base TKU'!V:V,'Base TKU'!$A:$A,$A10,'Base TKU'!$B:$B,\"SUL\")/1000000","v":3.9815999999999997E-2},{"$f":"SUMIFS('Base TKU'!W:W,'Base TKU'!$A:$A,$A10,'Base TKU'!$B:$B,\"SUL\")/1000000","v":12.185879999999999},{"$f":"SUMIFS('Base TKU'!X:X,'Base TKU'!$A:$A,$A10,'Base TKU'!$B:$B,\"SUL\")/1000000","v":179.77858699999999},{"$f":"SUMIFS('Base TKU'!Y:Y,'Base TKU'!$A:$A,$A10,'Base TKU'!$B:$B,\"SUL\")/1000000","v":357.78553399999998},{"$f":"SUMIFS('Base TKU'!Z:Z,'Base TKU'!$A:$A,$A10,'Base TKU'!$B:$B,\"SUL\")/1000000","v":502.67458199999999},{"$f":"SUMIFS('Base TKU'!AA:AA,'Base TKU'!$A:$A,$A10,'Base TKU'!$B:$B,\"SUL\")/1000000","v":358.04491899999999},{"$f":"SUMIFS('Base TKU'!AB:AB,'Base TKU'!$A:$A,$A10,'Base TKU'!$B:$B,\"SUL\")/1000000","v":120.665587},{"$f":"SUMIFS('Base TKU'!AC:AC,'Base TKU'!$A:$A,$A10,'Base TKU'!$B:$B,\"SUL\")/1000000","v":108.508093},null,{"$f":"SUMIFS('Base TKU'!AE:AE,'Base TKU'!$A:$A,$A10,'Base TKU'!$B:$B,\"SUL\")/1000000","v":159.79674900000001},{"$f":"SUMIFS('Base TKU'!AF:AF,'Base TKU'!$A:$A,$A10,'Base TKU'!$B:$B,\"SUL\")/1000000","v":13.408427},{"$f":"SUMIFS('Base TKU'!AG:AG,'Base TKU'!$A:$A,$A10,'Base TKU'!$B:$B,\"SUL\")/1000000","v":0},{"$f":"SUMIFS('Base TKU'!AH:AH,'Base TKU'!$A:$A,$A10,'Base TKU'!$B:$B,\"SUL\")/1000000","v":0},{"$f":"SUMIFS('Base TKU'!AI:AI,'Base TKU'!$A:$A,$A10,'Base TKU'!$B:$B,\"SUL\")/1000000","v":0.47321099999999999},{"$f":"SUMIFS('Base TKU'!AJ:AJ,'Base TKU'!$A:$A,$A10,'Base TKU'!$B:$B,\"SUL\")/1000000","v":0},{"$f":"SUMIFS('Base TKU'!AK:AK,'Base TKU'!$A:$A,$A10,'Base TKU'!$B:$B,\"SUL\")/1000000","v":3.127583},{"$f":"SUMIFS('Base TKU'!AL:AL,'Base TKU'!$A:$A,$A10,'Base TKU'!$B:$B,\"SUL\")/1000000","v":74.219267000000002},{"$f":"SUMIFS('Base TKU'!AM:AM,'Base TKU'!$A:$A,$A10,'Base TKU'!$B:$B,\"SUL\")/1000000","v":98.120824999999996},{"$f":"SUMIFS('Base TKU'!AN:AN,'Base TKU'!$A:$A,$A10,'Base TKU'!$B:$B,\"SUL\")/1000000","v":11.823905999999999},{"$f":"SUMIFS('Base TKU'!AO:AO,'Base TKU'!$A:$A,$A10,'Base TKU'!$B:$B,\"SUL\")/1000000","v":83.352142999999998},{"$f":"SUMIFS('Base TKU'!AP:AP,'Base TKU'!$A:$A,$A10,'Base TKU'!$B:$B,\"SUL\")/1000000","v":161.51487499999999},null,{"$f":"SUMIFS('Base TKU'!AR:AR,'Base TKU'!$A:$A,$A10,'Base TKU'!$B:$B,\"SUL\")/1000000","v":103.928662},{"$f":"SUMIFS('Base TKU'!AS:AS,'Base TKU'!$A:$A,$A10,'Base TKU'!$B:$B,\"SUL\")/1000000","v":74.140707000000006},{"$f":"SUMIFS('Base TKU'!AT:AT,'Base TKU'!$A:$A,$A10,'Base TKU'!$B:$B,\"SUL\")/1000000","v":15.008298},{"$f":"SUMIFS('Base TKU'!AU:AU,'Base TKU'!$A:$A,$A10,'Base TKU'!$B:$B,\"SUL\")/1000000","v":34.903503000000001},{"$f":"SUMIFS('Base TKU'!AV:AV,'Base TKU'!$A:$A,$A10,'Base TKU'!$B:$B,\"SUL\")/1000000","v":38.076256000000001},{"$f":"SUMIFS('Base TKU'!AW:AW,'Base TKU'!$A:$A,$A10,'Base TKU'!$B:$B,\"SUL\")/1000000","v":171.72449800000001},{"$f":"SUMIFS('Base TKU'!AX:AX,'Base TKU'!$A:$A,$A10,'Base TKU'!$B:$B,\"SUL\")/1000000","v":396.718051},{"$f":"SUMIFS('Base TKU'!AY:AY,'Base TKU'!$A:$A,$A10,'Base TKU'!$B:$B,\"SUL\")/1000000","v":482.97453999999999},{"$f":"SUMIFS('Base TKU'!AZ:AZ,'Base TKU'!$A:$A,$A10,'Base TKU'!$B:$B,\"SUL\")/1000000","v":359.590034},{"$f":"SUMIFS('Base TKU'!BA:BA,'Base TKU'!$A:$A,$A10,'Base TKU'!$B:$B,\"SUL\")/1000000","v":256.077696},{"$f":"SUMIFS('Base TKU'!BB:BB,'Base TKU'!$A:$A,$A10,'Base TKU'!$B:$B,\"SUL\")/1000000","v":256.59056399999997},{"$f":"SUMIFS('Base TKU'!BC:BC,'Base TKU'!$A:$A,$A10,'Base TKU'!$B:$B,\"SUL\")/1000000","v":155.925118},null,{"$f":"SUMIFS('Base TKU'!BE:BE,'Base TKU'!$A:$A,$A10,'Base TKU'!$B:$B,\"SUL\")/1000000","v":58.266331999999998},{"$f":"SUMIFS('Base TKU'!BF:BF,'Base TKU'!$A:$A,$A10,'Base TKU'!$B:$B,\"SUL\")/1000000","v":73.095562000000001},{"$f":"SUMIFS('Base TKU'!BG:BG,'Base TKU'!$A:$A,$A10,'Base TKU'!$B:$B,\"SUL\")/1000000","v":14.966994},{"$f":"SUMIFS('Base TKU'!BH:BH,'Base TKU'!$A:$A,$A10,'Base TKU'!$B:$B,\"SUL\")/1000000","v":0},{"$f":"SUMIFS('Base TKU'!BI:BI,'Base TKU'!$A:$A,$A10,'Base TKU'!$B:$B,\"SUL\")/1000000","v":3.0471000000000002E-2},{"$f":"SUMIFS('Base TKU'!BJ:BJ,'Base TKU'!$A:$A,$A10,'Base TKU'!$B:$B,\"SUL\")/1000000","v":0},{"$f":"SUMIFS('Base TKU'!BK:BK,'Base TKU'!$A:$A,$A10,'Base TKU'!$B:$B,\"SUL\")/1000000","v":51.366173000000003},{"$f":"SUMIFS('Base TKU'!BL:BL,'Base TKU'!$A:$A,$A10,'Base TKU'!$B:$B,\"SUL\")/1000000","v":265.05032799999998},{"$f":"SUMIFS('Base TKU'!BM:BM,'Base TKU'!$A:$A,$A10,'Base TKU'!$B:$B,\"SUL\")/1000000","v":313.65408200000002},{"$f":"SUMIFS('Base TKU'!BN:BN,'Base TKU'!$A:$A,$A10,'Base TKU'!$B:$B,\"SUL\")/1000000","v":371.58925199999999},{"$f":"SUMIFS('Base TKU'!BO:BO,'Base TKU'!$A:$A,$A10,'Base TKU'!$B:$B,\"SUL\")/1000000","v":406.77238},{"$f":"SUMIFS('Base TKU'!BP:BP,'Base TKU'!$A:$A,$A10,'Base TKU'!$B:$B,\"SUL\")/1000000","v":241.44393199999999},null,{"$f":"SUMIFS('Base TKU'!BR:BR,'Base TKU'!$A:$A,$A10,'Base TKU'!$B:$B,\"SUL\")/1000000","v":77.983242000000004},{"$f":"SUMIFS('Base TKU'!BS:BS,'Base TKU'!$A:$A,$A10,'Base TKU'!$B:$B,\"SUL\")/1000000","v":77.381084000000001},{"$f":"SUMIFS('Base TKU'!BT:BT,'Base TKU'!$A:$A,$A10,'Base TKU'!$B:$B,\"SUL\")/1000000","v":6.9764609999999996},{"$f":"SUMIFS('Base TKU'!BU:BU,'Base TKU'!$A:$A,$A10,'Base TKU'!$B:$B,\"SUL\")/1000000","v":0},{"$f":"SUMIFS('Base TKU'!BV:BV,'Base TKU'!$A:$A,$A10,'Base TKU'!$B:$B,\"SUL\")/1000000","v":0},{"$f":"SUMIFS('Base TKU'!BW:BW,'Base TKU'!$A:$A,$A10,'Base TKU'!$B:$B,\"SUL\")/1000000","v":0.206098},{"$f":"SUMIFS('Base TKU'!BX:BX,'Base TKU'!$A:$A,$A10,'Base TKU'!$B:$B,\"SUL\")/1000000","v":0},{"$f":"SUMIFS('Base TKU'!BY:BY,'Base TKU'!$A:$A,$A10,'Base TKU'!$B:$B,\"SUL\")/1000000","v":27.584924999999998},{"$f":"SUMIFS('Base TKU'!BZ:BZ,'Base TKU'!$A:$A,$A10,'Base TKU'!$B:$B,\"SUL\")/1000000","v":16.786197000000001},{"$f":"SUMIFS('Base TKU'!CA:CA,'Base TKU'!$A:$A,$A10,'Base TKU'!$B:$B,\"SUL\")/1000000","v":25.517578},{"$f":"SUMIFS('Base TKU'!CB:CB,'Base TKU'!$A:$A,$A10,'Base TKU'!$B:$B,\"SUL\")/1000000","v":36.827679000000003},{"$f":"SUMIFS('Base TKU'!CC:CC,'Base TKU'!$A:$A,$A10,'Base TKU'!$B:$B,\"SUL\")/1000000","v":121.025514},null,{"$f":"SUMIFS('Base TKU'!CE:CE,'Base TKU'!$A:$A,$A10,'Base TKU'!$B:$B,\"SUL\")/1000000","v":61.161329000000002},{"$f":"SUMIFS('Base TKU'!CF:CF,'Base TKU'!$A:$A,$A10,'Base TKU'!$B:$B,\"SUL\")/1000000","v":8.2399999999999997E-4},{"$f":"SUMIFS('Base TKU'!CG:CG,'Base TKU'!$A:$A,$A10,'Base TKU'!$B:$B,\"SUL\")/1000000","v":46.083472999999998},{"$f":"SUMIFS('Base TKU'!CH:CH,'Base TKU'!$A:$A,$A10,'Base TKU'!$B:$B,\"SUL\")/1000000","v":108.03994400000001},{"$f":"SUMIFS('Base TKU'!CI:CI,'Base TKU'!$A:$A,$A10,'Base TKU'!$B:$B,\"SUL\")/1000000","v":33.924596999999999},{"$f":"SUMIFS('Base TKU'!CJ:CJ,'Base TKU'!$A:$A,$A10,'Base TKU'!$B:$B,\"SUL\")/1000000","v":0},{"$f":"SUMIFS('Base TKU'!CK:CK,'Base TKU'!$A:$A,$A10,'Base TKU'!$B:$B,\"SUL\")/1000000","v":0},{"$f":"SUMIFS('Base TKU'!CL:CL,'Base TKU'!$A:$A,$A10,'Base TKU'!$B:$B,\"SUL\")/1000000","v":0},{"$f":"SUMIFS('Base TKU'!CM:CM,'Base TKU'!$A:$A,$A10,'Base TKU'!$B:$B,\"SUL\")/1000000","v":0},{"$f":"SUMIFS('Base TKU'!CN:CN,'Base TKU'!$A:$A,$A10,'Base TKU'!$B:$B,\"SUL\")/1000000","v":0},{"$f":"SUMIFS('Base TKU'!CO:CO,'Base TKU'!$A:$A,$A10,'Base TKU'!$B:$B,\"SUL\")/1000000","v":0},{"$f":"SUMIFS('Base TKU'!CP:CP,'Base TKU'!$A:$A,$A10,'Base TKU'!$B:$B,\"SUL\")/1000000","v":0}]
["Açúcar",null,{"$f":"SUMIFS('Base TKU'!E:E,'Base TKU'!$A:$A,$A11,'Base TKU'!$B:$B,\"SUL\")/1000000","v":120.293853},{"$f":"SUMIFS('Base TKU'!F:F,'Base TKU'!$A:$A,$A11,'Base TKU'!$B:$B,\"SUL\")/1000000","v":26.733606999999999},{"$f":"SUMIFS('Base TKU'!G:G,'Base TKU'!$A:$A,$A11,'Base TKU'!$B:$B,\"SUL\")/1000000","v":75.820767000000004},{"$f":"SUMIFS('Base TKU'!H:H,'Base TKU'!$A:$A,$A11,'Base TKU'!$B:$B,\"SUL\")/1000000","v":120.67237799999999},{"$f":"SUMIFS('Base TKU'!I:I,'Base TKU'!$A:$A,$A11,'Base TKU'!$B:$B,\"SUL\")/1000000","v":193.20942299999999},{"$f":"SUMIFS('Base TKU'!J:J,'Base TKU'!$A:$A,$A11,'Base TKU'!$B:$B,\"SUL\")/1000000","v":229.121332},{"$f":"SUMIFS('Base TKU'!K:K,'Base TKU'!$A:$A,$A11,'Base TKU'!$B:$B,\"SUL\")/1000000","v":300.25228299999998},{"$f":"SUMIFS('Base TKU'!L:L,'Base TKU'!$A:$A,$A11,'Base TKU'!$B:$B,\"SUL\")/1000000","v":343.14651099999998},{"$f":"SUMIFS('Base TKU'!M:M,'Base TKU'!$A:$A,$A11,'Base TKU'!$B:$B,\"SUL\")/1000000","v":345.067545},{"$f":"SUMIFS('Base TKU'!N:N,'Base TKU'!$A:$A,$A11,'Base TKU'!$B:$B,\"SUL\")/1000000","v":295.015152},{"$f":"SUMIFS('Base TKU'!O:O,'Base TKU'!$A:$A,$A11,'Base TKU'!$B:$B,\"SUL\")/1000000","v":258.54672199999999},{"$f":"SUMIFS('Base TKU'!P:P,'Base TKU'!$A:$A,$A11,'Base TKU'!$B:$B,\"SUL\")/1000000","v":311.277447},null,{"$f":"SUMIFS('Base TKU'!R:R,'Base TKU'!$A:$A,$A11,'Base TKU'!$B:$B,\"SUL\")/1000000","v":104.562251},{"$f":"SUMIFS('Base TKU'!S:S,'Base TKU'!$A:$A,$A11,'Base TKU'!$B:$B,\"SUL\")/1000000","v":49.086455000000001},{"$f":"SUMIFS('Base TKU'!T:T,'Base TKU'!$A:$A,$A11,'Base TKU'!$B:$B,\"SUL\")/1000000","v":62.909754999999997},{"$f":"SUMIFS('Base TKU'!U:U,'Base TKU'!$A:$A,$A11,'Base TKU'!$B:$B,\"SUL\")/1000000","v":126.234077},{"$f":"SUMIFS('Base TKU'!V:V,'Base TKU'!$A:$A,$A11,'Base TKU'!$B:$B,\"SUL\")/1000000","v":251.54755499999999},{"$f":"SUMIFS('Base TKU'!W:W,'Base TKU'!$A:$A,$A11,'Base TKU'!$B:$B,\"SUL\")/1000000","v":252.21729099999999},{"$f":"SUMIFS('Base TKU'!X:X,'Base TKU'!$A:$A,$A11,'Base TKU'!$B:$B,\"SUL\")/1000000","v":301.191756},{"$f":"SUMIFS('Base TKU'!Y:Y,'Base TKU'!$A:$A,$A11,'Base TKU'!$B:$B,\"SUL\")/1000000","v":299.77697999999998},{"$f":"SUMIFS('Base TKU'!Z:Z,'Base TKU'!$A:$A,$A11,'Base TKU'!$B:$B,\"SUL\")/1000000","v":303.58862699999997},{"$f":"SUMIFS('Base TKU'!AA:AA,'Base TKU'!$A:$A,$A11,'Base TKU'!$B:$B,\"SUL\")/1000000","v":273.692384},{"$f":"SUMIFS('Base TKU'!AB:AB,'Base TKU'!$A:$A,$A11,'Base TKU'!$B:$B,\"SUL\")/1000000","v":262.142833},{"$f":"SUMIFS('Base TKU'!AC:AC,'Base TKU'!$A:$A,$A11,'Base TKU'!$B:$B,\"SUL\")/1000000","v":147.802313},null,{"$f":"SUMIFS('Base TKU'!AE:AE,'Base TKU'!$A:$A,$A11,'Base TKU'!$B:$B,\"SUL\")/1000000","v":60.676673999999998},{"$f":"SUMIFS('Base TKU'!AF:AF,'Base TKU'!$A:$A,$A11,'Base TKU'!$B:$B,\"SUL\")/1000000","v":64.822327999999999},{"$f":"SUMIFS('Base TKU'!AG:AG,'Base TKU'!$A:$A,$A11,'Base TKU'!$B:$B,\"SUL\")/1000000","v":39.060699999999997},{"$f":"SUMIFS('Base TKU'!AH:AH,'Base TKU'!$A:$A,$A11,'Base TKU'!$B:$B,\"SUL\")/1000000","v":90.592957999999996},{"$f":"SUMIFS('Base TKU'!AI:AI,'Base TKU'!$A:$A,$A11,'Base TKU'!$B:$B,\"SUL\")/1000000","v":189.419363},{"$f":"SUMIFS('Base TKU'!AJ:AJ,'Base TKU'!$A:$A,$A11,'Base TKU'!$B:$B,\"SUL\")/1000000","v":210.49232599999999},{"$f":"SUMIFS('Base TKU'!AK:AK,'Base TKU'!$A:$A,$A11,'Base TKU'!$B:$B,\"SUL\")/1000000","v":207.16386900000001},{"$f":"SUMIFS('Base TKU'!AL:AL,'Base TKU'!$A:$A,$A11,'Base TKU'!$B:$B,\"SUL\")/1000000","v":222.34894800000001},{"$f":"SUMIFS('Base TKU'!AM:AM,'Base TKU'!$A:$A,$A11,'Base TKU'!$B:$B,\"SUL\")/1000000","v":207.264568},{"$f":"SUMIFS('Base TKU'!AN:AN,'Base TKU'!$A:$A,$A11,'Base TKU'!$B:$B,\"SUL\")/1000000","v":212.209473},{"$f":"SUMIFS('Base TKU'!AO:AO,'Base TKU'!$A:$A,$A11,'Base TKU'!$B:$B,\"SUL\")/1000000","v":121.847746},{"$f":"SUMIFS('Base TKU'!AP:AP,'Base TKU'!$A:$A,$A11,'Base TKU'!$B:$B,\"SUL\")/1000000","v":162.426503},null,{"$f":"SUMIFS('Base TKU'!AR:AR,'Base TKU'!$A:$A,$A11,'Base TKU'!$B:$B,\"SUL\")/1000000","v":31.659285000000001},{"$f":"SUMIFS('Base TKU'!AS:AS,'Base TKU'!$A:$A,$A11,'Base TKU'!$B:$B,\"SUL\")/1000000","v":31.551186000000001},{"$f":"SUMIFS('Base TKU'!AT:AT,'Base TKU'!$A:$A,$A11,'Base TKU'!$B:$B,\"SUL\")/1000000","v":28.254327},{"$f":"SUMIFS('Base TKU'!AU:AU,'Base TKU'!$A:$A,$A11,'Base TKU'!$B:$B,\"SUL\")/1000000","v":85.080896999999993},{"$f":"SUMIFS('Base TKU'!AV:AV,'Base TKU'!$A:$A,$A11,'Base TKU'!$B:$B,\"SUL\")/1000000","v":138.41459800000001},{"$f":"SUMIFS('Base TKU'!AW:AW,'Base TKU'!$A:$A,$A11,'Base TKU'!$B:$B,\"SUL\")/1000000","v":156.14815999999999},{"$f":"SUMIFS('Base TKU'!AX:AX,'Base TKU'!$A:$A,$A11,'Base TKU'!$B:$B,\"SUL\")/1000000","v":210.09194500000001},{"$f":"SUMIFS('Base TKU'!AY:AY,'Base TKU'!$A:$A,$A11,'Base TKU'!$B:$B,\"SUL\")/1000000","v":163.188221},{"$f":"SUMIFS('Base TKU'!AZ:AZ,'Base TKU'!$A:$A,$A11,'Base TKU'!$B:$B,\"SUL\")/1000000","v":146.524869},{"$f":"SUMIFS('Base TKU'!BA:BA,'Base TKU'!$A:$A,$A11,'Base TKU'!$B:$B,\"SUL\")/1000000","v":142.17371499999999},{"$f":"SUMIFS('Base TKU'!BB:BB,'Base TKU'!$A:$A,$A11,'Base TKU'!$B:$B,\"SUL\")/1000000","v":196.39126300000001},{"$f":"SUMIFS('Base TKU'!BC:BC,'Base TKU'!$A:$A,$A11,'Base TKU'!$B:$B,\"SUL\")/1000000","v":85.422180999999995},null,{"$f":"SUMIFS('Base TKU'!BE:BE,'Base TKU'!$A:$A,$A11,'Base TKU'!$B:$B,\"SUL\")/1000000","v":86.209055000000006},{"$f":"SUMIFS('Base TKU'!BF:BF,'Base TKU'!$A:$A,$A11,'Base TKU'!$B:$B,\"SUL\")/1000000","v":45.179594000000002},{"$f":"SUMIFS('Base TKU'!BG:BG,'Base TKU'!$A:$A,$A11,'Base TKU'!$B:$B,\"SUL\")/1000000","v":59.996580000000002},{"$f":"SUMIFS('Base TKU'!BH:BH,'Base TKU'!$A:$A,$A11,'Base TKU'!$B:$B,\"SUL\")/1000000","v":119.210742},{"$f":"SUMIFS('Base TKU'!BI:BI,'Base TKU'!$A:$A,$A11,'Base TKU'!$B:$B,\"SUL\")/1000000","v":236.809853},{"$f":"SUMIFS('Base TKU'!BJ:BJ,'Base TKU'!$A:$A,$A11,'Base TKU'!$B:$B,\"SUL\")/1000000","v":207.65686400000001},{"$f":"SUMIFS('Base TKU'!BK:BK,'Base TKU'!$A:$A,$A11,'Base TKU'!$B:$B,\"SUL\")/1000000","v":206.82831999999999},{"$f":"SUMIFS('Base TKU'!BL:BL,'Base TKU'!$A:$A,$A11,'Base TKU'!$B:$B,\"SUL\")/1000000","v":232.22149400000001},{"$f":"SUMIFS('Base TKU'!BM:BM,'Base TKU'!$A:$A,$A11,'Base TKU'!$B:$B,\"SUL\")/1000000","v":312.17192499999999},{"$f":"SUMIFS('Base TKU'!BN:BN,'Base TKU'!$A:$A,$A11,'Base TKU'!$B:$B,\"SUL\")/1000000","v":307.48569800000001},{"$f":"SUMIFS('Base TKU'!BO:BO,'Base TKU'!$A:$A,$A11,'Base TKU'!$B:$B,\"SUL\")/1000000","v":290.29864500000002},{"$f":"SUMIFS('Base TKU'!BP:BP,'Base TKU'!$A:$A,$A11,'Base TKU'!$B:$B,\"SUL\")/1000000","v":227.838404},null,{"$f":"SUMIFS('Base TKU'!BR:BR,'Base TKU'!$A:$A,$A11,'Base TKU'!$B:$B,\"SUL\")/1000000","v":124.338126},{"$f":"SUMIFS('Base TKU'!BS:BS,'Base TKU'!$A:$A,$A11,'Base TKU'!$B:$B,\"SUL\")/1000000","v":65.841560000000001},{"$f":"SUMIFS('Base TKU'!BT:BT,'Base TKU'!$A:$A,$A11,'Base TKU'!$B:$B,\"SUL\")/1000000","v":98.681635999999997},{"$f":"SUMIFS('Base TKU'!BU:BU,'Base TKU'!$A:$A,$A11,'Base TKU'!$B:$B,\"SUL\")/1000000","v":115.14361100000001},{"$f":"SUMIFS('Base TKU'!BV:BV,'Base TKU'!$A:$A,$A11,'Base TKU'!$B:$B,\"SUL\")/1000000","v":259.41194300000001},{"$f":"SUMIFS('Base TKU'!BW:BW,'Base TKU'!$A:$A,$A11,'Base TKU'!$B:$B,\"SUL\")/1000000","v":350.26707599999997},{"$f":"SUMIFS('Base TKU'!BX:BX,'Base TKU'!$A:$A,$A11,'Base TKU'!$B:$B,\"SUL\")/1000000","v":227.93514400000001},{"$f":"SUMIFS('Base TKU'!BY:BY,'Base TKU'!$A:$A,$A11,'Base TKU'!$B:$B,\"SUL\")/1000000","v":206.643225},{"$f":"SUMIFS('Base TKU'!BZ:BZ,'Base TKU'!$A:$A,$A11,'Base TKU'!$B:$B,\"SUL\")/1000000","v":324.43139600000001},{"$f":"SUMIFS('Base TKU'!CA:CA,'Base TKU'!$A:$A,$A11,'Base TKU'!$B:$B,\"SUL\")/1000000","v":278.00103100000001},{"$f":"SUMIFS('Base TKU'!CB:CB,'Base TKU'!$A:$A,$A11,'Base TKU'!$B:$B,\"SUL\")/1000000","v":216.08413899999999},{"$f":"SUMIFS('Base TKU'!CC:CC,'Base TKU'!$A:$A,$A11,'Base TKU'!$B:$B,\"SUL\")/1000000","v":133.89718300000001},null,{"$f":"SUMIFS('Base TKU'!CE:CE,'Base TKU'!$A:$A,$A11,'Base TKU'!$B:$B,\"SUL\")/1000000","v":89.617210999999998},{"$f":"SUMIFS('Base TKU'!CF:CF,'Base TKU'!$A:$A,$A11,'Base TKU'!$B:$B,\"SUL\")/1000000","v":43.413499999999999},{"$f":"SUMIFS('Base TKU'!CG:CG,'Base TKU'!$A:$A,$A11,'Base TKU'!$B:$B,\"SUL\")/1000000","v":39.997897000000002},{"$f":"SUMIFS('Base TKU'!CH:CH,'Base TKU'!$A:$A,$A11,'Base TKU'!$B:$B,\"SUL\")/1000000","v":69.821129999999997},{"$f":"SUMIFS('Base TKU'!CI:CI,'Base TKU'!$A:$A,$A11,'Base TKU'!$B:$B,\"SUL\")/1000000","v":235.74877599999999},{"$f":"SUMIFS('Base TKU'!CJ:CJ,'Base TKU'!$A:$A,$A11,'Base TKU'!$B:$B,\"SUL\")/1000000","v":0},{"$f":"SUMIFS('Base TKU'!CK:CK,'Base TKU'!$A:$A,$A11,'Base TKU'!$B:$B,\"SUL\")/1000000","v":0},{"$f":"SUMIFS('Base TKU'!CL:CL,'Base TKU'!$A:$A,$A11,'Base TKU'!$B:$B,\"SUL\")/1000000","v":0},{"$f":"SUMIFS('Base TKU'!CM:CM,'Base TKU'!$A:$A,$A11,'Base TKU'!$B:$B,\"SUL\")/1000000","v":0},{"$f":"SUMIFS('Base TKU'!CN:CN,'Base TKU'!$A:$A,$A11,'Base TKU'!$B:$B,\"SUL\")/1000000","v":0},{"$f":"SUMIFS('Base TKU'!CO:CO,'Base TKU'!$A:$A,$A11,'Base TKU'!$B:$B,\"SUL\")/1000000","v":0},{"$f":"SUMIFS('Base TKU'!CP:CP,'Base TKU'!$A:$A,$A11,'Base TKU'!$B:$B,\"SUL\")/1000000","v":0}]
["Fertilizantes",null,{"$f":"SUMIFS('Base TKU'!E:E,'Base TKU'!$A:$A,$A12,'Base TKU'!$B:$B,\"SUL\")/1000000","v":28.277885999999999},{"$f":"SUMIFS('Base TKU'!F:F,'Base TKU'!$A:$A,$A12,'Base TKU'!$B:$B,\"SUL\")/1000000","v":17.986273000000001},{"$f":"SUMIFS('Base TKU'!G:G,'Base TKU'!$A:$A,$A12,'Base TKU'!$B:$B,\"SUL\")/1000000","v":20.430346},{"$f":"SUMIFS('Base TKU'!H:H,'Base TKU'!$A:$A,$A12,'Base TKU'!$B:$B,\"SUL\")/1000000","v":22.496891000000002},{"$f":"SUMIFS('Base TKU'!I:I,'Base TKU'!$A:$A,$A12,'Base TKU'!$B:$B,\"SUL\")/1000000","v":61.922969000000002},{"$f":"SUMIFS('Base TKU'!J:J,'Base TKU'!$A:$A,$A12,'Base TKU'!$B:$B,\"SUL\")/1000000","v":79.419138000000004},{"$f":"SUMIFS('Base TKU'!K:K,'Base TKU'!$A:$A,$A12,'Base TKU'!$B:$B,\"SUL\")/1000000","v":91.515180999999998},{"$f":"SUMIFS('Base TKU'!L:L,'Base TKU'!$A:$A,$A12,'Base TKU'!$B:$B,\"SUL\")/1000000","v":95.034592000000004},{"$f":"SUMIFS('Base TKU'!M:M,'Base TKU'!$A:$A,$A12,'Base TKU'!$B:$B,\"SUL\")/1000000","v":123.820635},{"$f":"SUMIFS('Base TKU'!N:N,'Base TKU'!$A:$A,$A12,'Base TKU'!$B:$B,\"SUL\")/1000000","v":98.535258999999996},{"$f":"SUMIFS('Base TKU'!O:O,'Base TKU'!$A:$A,$A12,'Base TKU'!$B:$B,\"SUL\")/1000000","v":98.943488000000002},{"$f":"SUMIFS('Base TKU'!P:P,'Base TKU'!$A:$A,$A12,'Base TKU'!$B:$B,\"SUL\")/1000000","v":76.556442000000004},null,{"$f":"SUMIFS('Base TKU'!R:R,'Base TKU'!$A:$A,$A12,'Base TKU'!$B:$B,\"SUL\")/1000000","v":67.081149999999994},{"$f":"SUMIFS('Base TKU'!S:S,'Base TKU'!$A:$A,$A12,'Base TKU'!$B:$B,\"SUL\")/1000000","v":37.347427000000003},{"$f":"SUMIFS('Base TKU'!T:T,'Base TKU'!$A:$A,$A12,'Base TKU'!$B:$B,\"SUL\")/1000000","v":30.187373999999998},{"$f":"SUMIFS('Base TKU'!U:U,'Base TKU'!$A:$A,$A12,'Base TKU'!$B:$B,\"SUL\")/1000000","v":69.954741999999996},{"$f":"SUMIFS('Base TKU'!V:V,'Base TKU'!$A:$A,$A12,'Base TKU'!$B:$B,\"SUL\")/1000000","v":69.651088000000001},{"$f":"SUMIFS('Base TKU'!W:W,'Base TKU'!$A:$A,$A12,'Base TKU'!$B:$B,\"SUL\")/1000000","v":49.094098000000002},{"$f":"SUMIFS('Base TKU'!X:X,'Base TKU'!$A:$A,$A12,'Base TKU'!$B:$B,\"SUL\")/1000000","v":51.279952000000002},{"$f":"SUMIFS('Base TKU'!Y:Y,'Base TKU'!$A:$A,$A12,'Base TKU'!$B:$B,\"SUL\")/1000000","v":55.38852},{"$f":"SUMIFS('Base TKU'!Z:Z,'Base TKU'!$A:$A,$A12,'Base TKU'!$B:$B,\"SUL\")/1000000","v":60.182640999999997},{"$f":"SUMIFS('Base TKU'!AA:AA,'Base TKU'!$A:$A,$A12,'Base TKU'!$B:$B,\"SUL\")/1000000","v":70.693725000000001},{"$f":"SUMIFS('Base TKU'!AB:AB,'Base TKU'!$A:$A,$A12,'Base TKU'!$B:$B,\"SUL\")/1000000","v":63.823445999999997},{"$f":"SUMIFS('Base TKU'!AC:AC,'Base TKU'!$A:$A,$A12,'Base TKU'!$B:$B,\"SUL\")/1000000","v":58.969529999999999},null,{"$f":"SUMIFS('Base TKU'!AE:AE,'Base TKU'!$A:$A,$A12,'Base TKU'!$B:$B,\"SUL\")/1000000","v":67.919033999999996},{"$f":"SUMIFS('Base TKU'!AF:AF,'Base TKU'!$A:$A,$A12,'Base TKU'!$B:$B,\"SUL\")/1000000","v":48.889296000000002},{"$f":"SUMIFS('Base TKU'!AG:AG,'Base TKU'!$A:$A,$A12,'Base TKU'!$B:$B,\"SUL\")/1000000","v":34.909109999999998},{"$f":"SUMIFS('Base TKU'!AH:AH,'Base TKU'!$A:$A,$A12,'Base TKU'!$B:$B,\"SUL\")/1000000","v":46.184303999999997},{"$f":"SUMIFS('Base TKU'!AI:AI,'Base TKU'!$A:$A,$A12,'Base TKU'!$B:$B,\"SUL\")/1000000","v":46.967554999999997},{"$f":"SUMIFS('Base TKU'!AJ:AJ,'Base TKU'!$A:$A,$A12,'Base TKU'!$B:$B,\"SUL\")/1000000","v":62.576873999999997},{"$f":"SUMIFS('Base TKU'!AK:AK,'Base TKU'!$A:$A,$A12,'Base TKU'!$B:$B,\"SUL\")/1000000","v":64.986688999999998},{"$f":"SUMIFS('Base TKU'!AL:AL,'Base TKU'!$A:$A,$A12,'Base TKU'!$B:$B,\"SUL\")/1000000","v":70.255047000000005},{"$f":"SUMIFS('Base TKU'!AM:AM,'Base TKU'!$A:$A,$A12,'Base TKU'!$B:$B,\"SUL\")/1000000","v":64.720101},{"$f":"SUMIFS('Base TKU'!AN:AN,'Base TKU'!$A:$A,$A12,'Base TKU'!$B:$B,\"SUL\")/1000000","v":56.299767000000003},{"$f":"SUMIFS('Base TKU'!AO:AO,'Base TKU'!$A:$A,$A12,'Base TKU'!$B:$B,\"SUL\")/1000000","v":77.220560000000006},{"$f":"SUMIFS('Base TKU'!AP:AP,'Base TKU'!$A:$A,$A12,'Base TKU'!$B:$B,\"SUL\")/1000000","v":63.024478999999999},null,{"$f":"SUMIFS('Base TKU'!AR:AR,'Base TKU'!$A:$A,$A12,'Base TKU'!$B:$B,\"SUL\")/1000000","v":86.707382999999993},{"$f":"SUMIFS('Base TKU'!AS:AS,'Base TKU'!$A:$A,$A12,'Base TKU'!$B:$B,\"SUL\")/1000000","v":43.116118},{"$f":"SUMIFS('Base TKU'!AT:AT,'Base TKU'!$A:$A,$A12,'Base TKU'!$B:$B,\"SUL\")/1000000","v":30.368772},{"$f":"SUMIFS('Base TKU'!AU:AU,'Base TKU'!$A:$A,$A12,'Base TKU'!$B:$B,\"SUL\")/1000000","v":31.266365},{"$f":"SUMIFS('Base TKU'!AV:AV,'Base TKU'!$A:$A,$A12,'Base TKU'!$B:$B,\"SUL\")/1000000","v":63.116757},{"$f":"SUMIFS('Base TKU'!AW:AW,'Base TKU'!$A:$A,$A12,'Base TKU'!$B:$B,\"SUL\")/1000000","v":61.511865999999998},{"$f":"SUMIFS('Base TKU'!AX:AX,'Base TKU'!$A:$A,$A12,'Base TKU'!$B:$B,\"SUL\")/1000000","v":65.124578999999997},{"$f":"SUMIFS('Base TKU'!AY:AY,'Base TKU'!$A:$A,$A12,'Base TKU'!$B:$B,\"SUL\")/1000000","v":60.439183},{"$f":"SUMIFS('Base TKU'!AZ:AZ,'Base TKU'!$A:$A,$A12,'Base TKU'!$B:$B,\"SUL\")/1000000","v":74.380337999999995},{"$f":"SUMIFS('Base TKU'!BA:BA,'Base TKU'!$A:$A,$A12,'Base TKU'!$B:$B,\"SUL\")/1000000","v":55.555971999999997},{"$f":"SUMIFS('Base TKU'!BB:BB,'Base TKU'!$A:$A,$A12,'Base TKU'!$B:$B,\"SUL\")/1000000","v":56.552371999999998},{"$f":"SUMIFS('Base TKU'!BC:BC,'Base TKU'!$A:$A,$A12,'Base TKU'!$B:$B,\"SUL\")/1000000","v":43.153779},null,{"$f":"SUMIFS('Base TKU'!BE:BE,'Base TKU'!$A:$A,$A12,'Base TKU'!$B:$B,\"SUL\")/1000000","v":64.598428999999996},{"$f":"SUMIFS('Base TKU'!BF:BF,'Base TKU'!$A:$A,$A12,'Base TKU'!$B:$B,\"SUL\")/1000000","v":48.203578999999998},{"$f":"SUMIFS('Base TKU'!BG:BG,'Base TKU'!$A:$A,$A12,'Base TKU'!$B:$B,\"SUL\")/1000000","v":17.727727000000002},{"$f":"SUMIFS('Base TKU'!BH:BH,'Base TKU'!$A:$A,$A12,'Base TKU'!$B:$B,\"SUL\")/1000000","v":44.324475},{"$f":"SUMIFS('Base TKU'!BI:BI,'Base TKU'!$A:$A,$A12,'Base TKU'!$B:$B,\"SUL\")/1000000","v":48.827143999999997},{"$f":"SUMIFS('Base TKU'!BJ:BJ,'Base TKU'!$A:$A,$A12,'Base TKU'!$B:$B,\"SUL\")/1000000","v":42.473880000000001},{"$f":"SUMIFS('Base TKU'!BK:BK,'Base TKU'!$A:$A,$A12,'Base TKU'!$B:$B,\"SUL\")/1000000","v":48.914628},{"$f":"SUMIFS('Base TKU'!BL:BL,'Base TKU'!$A:$A,$A12,'Base TKU'!$B:$B,\"SUL\")/1000000","v":44.102088999999999},{"$f":"SUMIFS('Base TKU'!BM:BM,'Base TKU'!$A:$A,$A12,'Base TKU'!$B:$B,\"SUL\")/1000000","v":44.816847000000003},{"$f":"SUMIFS('Base TKU'!BN:BN,'Base TKU'!$A:$A,$A12,'Base TKU'!$B:$B,\"SUL\")/1000000","v":52.420681999999999},{"$f":"SUMIFS('Base TKU'!BO:BO,'Base TKU'!$A:$A,$A12,'Base TKU'!$B:$B,\"SUL\")/1000000","v":57.102867000000003},{"$f":"SUMIFS('Base TKU'!BP:BP,'Base TKU'!$A:$A,$A12,'Base TKU'!$B:$B,\"SUL\")/1000000","v":42.398555000000002},null,{"$f":"SUMIFS('Base TKU'!BR:BR,'Base TKU'!$A:$A,$A12,'Base TKU'!$B:$B,\"SUL\")/1000000","v":57.805560999999997},{"$f":"SUMIFS('Base TKU'!BS:BS,'Base TKU'!$A:$A,$A12,'Base TKU'!$B:$B,\"SUL\")/1000000","v":43.193843000000001},{"$f":"SUMIFS('Base TKU'!BT:BT,'Base TKU'!$A:$A,$A12,'Base TKU'!$B:$B,\"SUL\")/1000000","v":6.0560700000000001},{"$f":"SUMIFS('Base TKU'!BU:BU,'Base TKU'!$A:$A,$A12,'Base TKU'!$B:$B,\"SUL\")/1000000","v":23.393469},{"$f":"SUMIFS('Base TKU'!BV:BV,'Base TKU'!$A:$A,$A12,'Base TKU'!$B:$B,\"SUL\")/1000000","v":39.573596000000002},{"$f":"SUMIFS('Base TKU'!BW:BW,'Base TKU'!$A:$A,$A12,'Base TKU'!$B:$B,\"SUL\")/1000000","v":56.207515999999998},{"$f":"SUMIFS('Base TKU'!BX:BX,'Base TKU'!$A:$A,$A12,'Base TKU'!$B:$B,\"SUL\")/1000000","v":61.475788000000001},{"$f":"SUMIFS('Base TKU'!BY:BY,'Base TKU'!$A:$A,$A12,'Base TKU'!$B:$B,\"SUL\")/1000000","v":87.308954999999997},{"$f":"SUMIFS('Base TKU'!BZ:BZ,'Base TKU'!$A:$A,$A12,'Base TKU'!$B:$B,\"SUL\")/1000000","v":69.723346000000006},{"$f":"SUMIFS('Base TKU'!CA:CA,'Base TKU'!$A:$A,$A12,'Base TKU'!$B:$B,\"SUL\")/1000000","v":62.420209},{"$f":"SUMIFS('Base TKU'!CB:CB,'Base TKU'!$A:$A,$A12,'Base TKU'!$B:$B,\"SUL\")/1000000","v":51.259219000000002},{"$f":"SUMIFS('Base TKU'!CC:CC,'Base TKU'!$A:$A,$A12,'Base TKU'!$B:$B,\"SUL\")/1000000","v":39.791348999999997},null,{"$f":"SUMIFS('Base TKU'!CE:CE,'Base TKU'!$A:$A,$A12,'Base TKU'!$B:$B,\"SUL\")/1000000","v":48.106422000000002},{"$f":"SUMIFS('Base TKU'!CF:CF,'Base TKU'!$A:$A,$A12,'Base TKU'!$B:$B,\"SUL\")/1000000","v":59.060834999999997},{"$f":"SUMIFS('Base TKU'!CG:CG,'Base TKU'!$A:$A,$A12,'Base TKU'!$B:$B,\"SUL\")/1000000","v":35.789254},{"$f":"SUMIFS('Base TKU'!CH:CH,'Base TKU'!$A:$A,$A12,'Base TKU'!$B:$B,\"SUL\")/1000000","v":29.916378999999999},{"$f":"SUMIFS('Base TKU'!CI:CI,'Base TKU'!$A:$A,$A12,'Base TKU'!$B:$B,\"SUL\")/1000000","v":48.948957999999998},{"$f":"SUMIFS('Base TKU'!CJ:CJ,'Base TKU'!$A:$A,$A12,'Base TKU'!$B:$B,\"SUL\")/1000000","v":0},{"$f":"SUMIFS('Base TKU'!CK:CK,'Base TKU'!$A:$A,$A12,'Base TKU'!$B:$B,\"SUL\")/1000000","v":0},{"$f":"SUMIFS('Base TKU'!CL:CL,'Base TKU'!$A:$A,$A12,'Base TKU'!$B:$B,\"SUL\")/1000000","v":0},{"$f":"SUMIFS('Base TKU'!CM:CM,'Base TKU'!$A:$A,$A12,'Base TKU'!$B:$B,\"SUL\")/1000000","v":0},{"$f":"SUMIFS('Base TKU'!CN:CN,'Base TKU'!$A:$A,$A12,'Base TKU'!$B:$B,\"SUL\")/1000000","v":0},{"$f":"SUMIFS('Base TKU'!CO:CO,'Base TKU'!$A:$A,$A12,'Base TKU'!$B:$B,\"SUL\")/1000000","v":0},{"$f":"SUMIFS('Base TKU'!CP:CP,'Base TKU'!$A:$A,$A12,'Base TKU'!$B:$B,\"SUL\")/1000000","v":0}]
["Trigo",null,{"$f":"SUMIFS('Base TKU'!E:E,'Base TKU'!$A:$A,$A13,'Base TKU'!$B:$B,\"SUL\")/1000000","v":41.988754},{"$f":"SUMIFS('Base TKU'!F:F,'Base TKU'!$A:$A,$A13,'Base TKU'!$B:$B,\"SUL\")/1000000","v":1.3795740000000001},{"$f":"SUMIFS('Base TKU'!G:G,'Base TKU'!$A:$A,$A13,'Base TKU'!$B:$B,\"SUL\")/1000000","v":2.4844179999999998},{"$f":"SUMIFS('Base TKU'!H:H,'Base TKU'!$A:$A,$A13,'Base TKU'!$B:$B,\"SUL\")/1000000","v":0},{"$f":"SUMIFS('Base TKU'!I:I,'Base TKU'!$A:$A,$A13,'Base TKU'!$B:$B,\"SUL\")/1000000","v":0},{"$f":"SUMIFS('Base TKU'!J:J,'Base TKU'!$A:$A,$A13,'Base TKU'!$B:$B,\"SUL\")/1000000","v":0},{"$f":"SUMIFS('Base TKU'!K:K,'Base TKU'!$A:$A,$A13,'Base TKU'!$B:$B,\"SUL\")/1000000","v":0},{"$f":"SUMIFS('Base TKU'!L:L,'Base TKU'!$A:$A,$A13,'Base TKU'!$B:$B,\"SUL\")/1000000","v":0},{"$f":"SUMIFS('Base TKU'!M:M,'Base TKU'!$A:$A,$A13,'Base TKU'!$B:$B,\"SUL\")/1000000","v":0},{"$f":"SUMIFS('Base TKU'!N:N,'Base TKU'!$A:$A,$A13,'Base TKU'!$B:$B,\"SUL\")/1000000","v":0},{"$f":"SUMIFS('Base TKU'!O:O,'Base TKU'!$A:$A,$A13,'Base TKU'!$B:$B,\"SUL\")/1000000","v":14.076225000000001},{"$f":"SUMIFS('Base TKU'!P:P,'Base TKU'!$A:$A,$A13,'Base TKU'!$B:$B,\"SUL\")/1000000","v":16.595362999999999},null,{"$f":"SUMIFS('Base TKU'!R:R,'Base TKU'!$A:$A,$A13,'Base TKU'!$B:$B,\"SUL\")/1000000","v":49.240960999999999},{"$f":"SUMIFS('Base TKU'!S:S,'Base TKU'!$A:$A,$A13,'Base TKU'!$B:$B,\"SUL\")/1000000","v":66.897075999999998},{"$f":"SUMIFS('Base TKU'!T:T,'Base TKU'!$A:$A,$A13,'Base TKU'!$B:$B,\"SUL\")/1000000","v":13.417951},{"$f":"SUMIFS('Base TKU'!U:U,'Base TKU'!$A:$A,$A13,'Base TKU'!$B:$B,\"SUL\")/1000000","v":0},{"$f":"SUMIFS('Base TKU'!V:V,'Base TKU'!$A:$A,$A13,'Base TKU'!$B:$B,\"SUL\")/1000000","v":0},{"$f":"SUMIFS('Base TKU'!W:W,'Base TKU'!$A:$A,$A13,'Base TKU'!$B:$B,\"SUL\")/1000000","v":0},{"$f":"SUMIFS('Base TKU'!X:X,'Base TKU'!$A:$A,$A13,'Base TKU'!$B:$B,\"SUL\")/1000000","v":0},{"$f":"SUMIFS('Base TKU'!Y:Y,'Base TKU'!$A:$A,$A13,'Base TKU'!$B:$B,\"SUL\")/1000000","v":0},{"$f":"SUMIFS('Base TKU'!Z:Z,'Base TKU'!$A:$A,$A13,'Base TKU'!$B:$B,\"SUL\")/1000000","v":0},{"$f":"SUMIFS('Base TKU'!AA:AA,'Base TKU'!$A:$A,$A13,'Base TKU'!$B:$B,\"SUL\")/1000000","v":0},{"$f":"SUMIFS('Base TKU'!AB:AB,'Base TKU'!$A:$A,$A13,'Base TKU'!$B:$B,\"SUL\")/1000000","v":4.788405},{"$f":"SUMIFS('Base TKU'!AC:AC,'Base TKU'!$A:$A,$A13,'Base TKU'!$B:$B,\"SUL\")/1000000","v":9.7934809999999999},null,{"$f":"SUMIFS('Base TKU'!AE:AE,'Base TKU'!$A:$A,$A13,'Base TKU'!$B:$B,\"SUL\")/1000000","v":18.765000000000001},{"$f":"SUMIFS('Base TKU'!AF:AF,'Base TKU'!$A:$A,$A13,'Base TKU'!$B:$B,\"SUL\")/1000000","v":5.0092090000000002},{"$f":"SUMIFS('Base TKU'!AG:AG,'Base TKU'!$A:$A,$A13,'Base TKU'!$B:$B,\"SUL\")/1000000","v":0},{"$f":"SUMIFS('Base TKU'!AH:AH,'Base TKU'!$A:$A,$A13,'Base TKU'!$B:$B,\"SUL\")/1000000","v":0},{"$f":"SUMIFS('Base TKU'!AI:AI,'Base TKU'!$A:$A,$A13,'Base TKU'!$B:$B,\"SUL\")/1000000","v":0},{"$f":"SUMIFS('Base TKU'!AJ:AJ,'Base TKU'!$A:$A,$A13,'Base TKU'!$B:$B,\"SUL\")/1000000","v":0},{"$f":"SUMIFS('Base TKU'!AK:AK,'Base TKU'!$A:$A,$A13,'Base TKU'!$B:$B,\"SUL\")/1000000","v":0},{"$f":"SUMIFS('Base TKU'!AL:AL,'Base TKU'!$A:$A,$A13,'Base TKU'!$B:$B,\"SUL\")/1000000","v":0},{"$f":"SUMIFS('Base TKU'!AM:AM,'Base TKU'!$A:$A,$A13,'Base TKU'!$B:$B,\"SUL\")/1000000","v":0},{"$f":"SUMIFS('Base TKU'!AN:AN,'Base TKU'!$A:$A,$A13,'Base TKU'!$B:$B,\"SUL\")/1000000","v":0},{"$f":"SUMIFS('Base TKU'!AO:AO,'Base TKU'!$A:$A,$A13,'Base TKU'!$B:$B,\"SUL\")/1000000","v":36.464419999999997},{"$f":"SUMIFS('Base TKU'!AP:AP,'Base TKU'!$A:$A,$A13,'Base TKU'!$B:$B,\"SUL\")/1000000","v":56.335030000000003},null,{"$f":"SUMIFS('Base TKU'!AR:AR,'Base TKU'!$A:$A,$A13,'Base TKU'!$B:$B,\"SUL\")/1000000","v":30.577093999999999},{"$f":"SUMIFS('Base TKU'!AS:AS,'Base TKU'!$A:$A,$A13,'Base TKU'!$B:$B,\"SUL\")/1000000","v":3.7328299999999999},{"$f":"SUMIFS('Base TKU'!AT:AT,'Base TKU'!$A:$A,$A13,'Base TKU'!$B:$B,\"SUL\")/1000000","v":0},{"$f":"SUMIFS('Base TKU'!AU:AU,'Base TKU'!$A:$A,$A13,'Base TKU'!$B:$B,\"SUL\")/1000000","v":0},{"$f":"SUMIFS('Base TKU'!AV:AV,'Base TKU'!$A:$A,$A13,'Base TKU'!$B:$B,\"SUL\")/1000000","v":0},{"$f":"SUMIFS('Base TKU'!AW:AW,'Base TKU'!$A:$A,$A13,'Base TKU'!$B:$B,\"SUL\")/1000000","v":0},{"$f":"SUMIFS('Base TKU'!AX:AX,'Base TKU'!$A:$A,$A13,'Base TKU'!$B:$B,\"SUL\")/1000000","v":0},{"$f":"SUMIFS('Base TKU'!AY:AY,'Base TKU'!$A:$A,$A13,'Base TKU'!$B:$B,\"SUL\")/1000000","v":0},{"$f":"SUMIFS('Base TKU'!AZ:AZ,'Base TKU'!$A:$A,$A13,'Base TKU'!$B:$B,\"SUL\")/1000000","v":0},{"$f":"SUMIFS('Base TKU'!BA:BA,'Base TKU'!$A:$A,$A13,'Base TKU'!$B:$B,\"SUL\")/1000000","v":0},{"$f":"SUMIFS('Base TKU'!BB:BB,'Base TKU'!$A:$A,$A13,'Base TKU'!$B:$B,\"SUL\")/1000000","v":5.7880900000000004},{"$f":"SUMIFS('Base TKU'!BC:BC,'Base TKU'!$A:$A,$A13,'Base TKU'!$B:$B,\"SUL\")/1000000","v":35.620631000000003},null,{"$f":"SUMIFS('Base TKU'!BE:BE,'Base TKU'!$A:$A,$A13,'Base TKU'!$B:$B,\"SUL\")/1000000","v":23.660722},{"$f":"SUMIFS('Base TKU'!BF:BF,'Base TKU'!$A:$A,$A13,'Base TKU'!$B:$B,\"SUL\")/1000000","v":1.8001560000000001},{"$f":"SUMIFS('Base TKU'!BG:BG,'Base TKU'!$A:$A,$A13,'Base TKU'!$B:$B,\"SUL\")/1000000","v":0},{"$f":"SUMIFS('Base TKU'!BH:BH,'Base TKU'!$A:$A,$A13,'Base TKU'!$B:$B,\"SUL\")/1000000","v":0},{"$f":"SUMIFS('Base TKU'!BI:BI,'Base TKU'!$A:$A,$A13,'Base TKU'!$B:$B,\"SUL\")/1000000","v":0},{"$f":"SUMIFS('Base TKU'!BJ:BJ,'Base TKU'!$A:$A,$A13,'Base TKU'!$B:$B,\"SUL\")/1000000","v":0},{"$f":"SUMIFS('Base TKU'!BK:BK,'Base TKU'!$A:$A,$A13,'Base TKU'!$B:$B,\"SUL\")/1000000","v":0},{"$f":"SUMIFS('Base TKU'!BL:BL,'Base TKU'!$A:$A,$A13,'Base TKU'!$B:$B,\"SUL\")/1000000","v":0},{"$f":"SUMIFS('Base TKU'!BM:BM,'Base TKU'!$A:$A,$A13,'Base TKU'!$B:$B,\"SUL\")/1000000","v":0},{"$f":"SUMIFS('Base TKU'!BN:BN,'Base TKU'!$A:$A,$A13,'Base TKU'!$B:$B,\"SUL\")/1000000","v":12.461373},{"$f":"SUMIFS('Base TKU'!BO:BO,'Base TKU'!$A:$A,$A13,'Base TKU'!$B:$B,\"SUL\")/1000000","v":76.100273000000001},{"$f":"SUMIFS('Base TKU'!BP:BP,'Base TKU'!$A:$A,$A13,'Base TKU'!$B:$B,\"SUL\")/1000000","v":66.17062},null,{"$f":"SUMIFS('Base TKU'!BR:BR,'Base TKU'!$A:$A,$A13,'Base TKU'!$B:$B,\"SUL\")/1000000","v":3.6571709999999999},{"$f":"SUMIFS('Base TKU'!BS:BS,'Base TKU'!$A:$A,$A13,'Base TKU'!$B:$B,\"SUL\")/1000000","v":0},{"$f":"SUMIFS('Base TKU'!BT:BT,'Base TKU'!$A:$A,$A13,'Base TKU'!$B:$B,\"SUL\")/1000000","v":0},{"$f":"SUMIFS('Base TKU'!BU:BU,'Base TKU'!$A:$A,$A13,'Base TKU'!$B:$B,\"SUL\")/1000000","v":0},{"$f":"SUMIFS('Base TKU'!BV:BV,'Base TKU'!$A:$A,$A13,'Base TKU'!$B:$B,\"SUL\")/1000000","v":0},{"$f":"SUMIFS('Base TKU'!BW:BW,'Base TKU'!$A:$A,$A13,'Base TKU'!$B:$B,\"SUL\")/1000000","v":0},{"$f":"SUMIFS('Base TKU'!BX:BX,'Base TKU'!$A:$A,$A13,'Base TKU'!$B:$B,\"SUL\")/1000000","v":0},{"$f":"SUMIFS('Base TKU'!BY:BY,'Base TKU'!$A:$A,$A13,'Base TKU'!$B:$B,\"SUL\")/1000000","v":0},{"$f":"SUMIFS('Base TKU'!BZ:BZ,'Base TKU'!$A:$A,$A13,'Base TKU'!$B:$B,\"SUL\")/1000000","v":0},{"$f":"SUMIFS('Base TKU'!CA:CA,'Base TKU'!$A:$A,$A13,'Base TKU'!$B:$B,\"SUL\")/1000000","v":1.095604},{"$f":"SUMIFS('Base TKU'!CB:CB,'Base TKU'!$A:$A,$A13,'Base TKU'!$B:$B,\"SUL\")/1000000","v":73.854455000000002},{"$f":"SUMIFS('Base TKU'!CC:CC,'Base TKU'!$A:$A,$A13,'Base TKU'!$B:$B,\"SUL\")/1000000","v":103.014167},null,{"$f":"SUMIFS('Base TKU'!CE:CE,'Base TKU'!$A:$A,$A13,'Base TKU'!$B:$B,\"SUL\")/1000000","v":98.020677000000006},{"$f":"SUMIFS('Base TKU'!CF:CF,'Base TKU'!$A:$A,$A13,'Base TKU'!$B:$B,\"SUL\")/1000000","v":122.77575400000001},{"$f":"SUMIFS('Base TKU'!CG:CG,'Base TKU'!$A:$A,$A13,'Base TKU'!$B:$B,\"SUL\")/1000000","v":45.593963000000002},{"$f":"SUMIFS('Base TKU'!CH:CH,'Base TKU'!$A:$A,$A13,'Base TKU'!$B:$B,\"SUL\")/1000000","v":5.955743},{"$f":"SUMIFS('Base TKU'!CI:CI,'Base TKU'!$A:$A,$A13,'Base TKU'!$B:$B,\"SUL\")/1000000","v":0.92669400000000002},{"$f":"SUMIFS('Base TKU'!CJ:CJ,'Base TKU'!$A:$A,$A13,'Base TKU'!$B:$B,\"SUL\")/1000000","v":0},{"$f":"SUMIFS('Base TKU'!CK:CK,'Base TKU'!$A:$A,$A13,'Base TKU'!$B:$B,\"SUL\")/1000000","v":0},{"$f":"SUMIFS('Base TKU'!CL:CL,'Base TKU'!$A:$A,$A13,'Base TKU'!$B:$B,\"SUL\")/1000000","v":0},{"$f":"SUMIFS('Base TKU'!CM:CM,'Base TKU'!$A:$A,$A13,'Base TKU'!$B:$B,\"SUL\")/1000000","v":0},{"$f":"SUMIFS('Base TKU'!CN:CN,'Base TKU'!$A:$A,$A13,'Base TKU'!$B:$B,\"SUL\")/1000000","v":0},{"$f":"SUMIFS('Base TKU'!CO:CO,'Base TKU'!$A:$A,$A13,'Base TKU'!$B:$B,\"SUL\")/1000000","v":0},{"$f":"SUMIFS('Base TKU'!CP:CP,'Base TKU'!$A:$A,$A13,'Base TKU'!$B:$B,\"SUL\")/1000000","v":0}]
["Malte",null,{"$f":"SUMIFS('Base TKU'!E:E,'Base TKU'!$A:$A,$A14,'Base TKU'!$B:$B,\"SUL\")/1000000","v":0},{"$f":"SUMIFS('Base TKU'!F:F,'Base TKU'!$A:$A,$A14,'Base TKU'!$B:$B,\"SUL\")/1000000","v":0},{"$f":"SUMIFS('Base TKU'!G:G,'Base TKU'!$A:$A,$A14,'Base TKU'!$B:$B,\"SUL\")/1000000","v":0},{"$f":"SUMIFS('Base TKU'!H:H,'Base TKU'!$A:$A,$A14,'Base TKU'!$B:$B,\"SUL\")/1000000","v":0},{"$f":"SUMIFS('Base TKU'!I:I,'Base TKU'!$A:$A,$A14,'Base TKU'!$B:$B,\"SUL\")/1000000","v":0},{"$f":"SUMIFS('Base TKU'!J:J,'Base TKU'!$A:$A,$A14,'Base TKU'!$B:$B,\"SUL\")/1000000","v":0},{"$f":"SUMIFS('Base TKU'!K:K,'Base TKU'!$A:$A,$A14,'Base TKU'!$B:$B,\"SUL\")/1000000","v":0},{"$f":"SUMIFS('Base TKU'!L:L,'Base TKU'!$A:$A,$A14,'Base TKU'!$B:$B,\"SUL\")/1000000","v":0},{"$f":"SUMIFS('Base TKU'!M:M,'Base TKU'!$A:$A,$A14,'Base TKU'!$B:$B,\"SUL\")/1000000","v":0},{"$f":"SUMIFS('Base TKU'!N:N,'Base TKU'!$A:$A,$A14,'Base TKU'!$B:$B,\"SUL\")/1000000","v":1.118223},{"$f":"SUMIFS('Base TKU'!O:O,'Base TKU'!$A:$A,$A14,'Base TKU'!$B:$B,\"SUL\")/1000000","v":0},{"$f":"SUMIFS('Base TKU'!P:P,'Base TKU'!$A:$A,$A14,'Base TKU'!$B:$B,\"SUL\")/1000000","v":0},null,{"$f":"SUMIFS('Base TKU'!R:R,'Base TKU'!$A:$A,$A14,'Base TKU'!$B:$B,\"SUL\")/1000000","v":0},{"$f":"SUMIFS('Base TKU'!S:S,'Base TKU'!$A:$A,$A14,'Base TKU'!$B:$B,\"SUL\")/1000000","v":0},{"$f":"SUMIFS('Base TKU'!T:T,'Base TKU'!$A:$A,$A14,'Base TKU'!$B:$B,\"SUL\")/1000000","v":0},{"$f":"SUMIFS('Base TKU'!U:U,'Base TKU'!$A:$A,$A14,'Base TKU'!$B:$B,\"SUL\")/1000000","v":0},{"$f":"SUMIFS('Base TKU'!V:V,'Base TKU'!$A:$A,$A14,'Base TKU'!$B:$B,\"SUL\")/1000000","v":0},{"$f":"SUMIFS('Base TKU'!W:W,'Base TKU'!$A:$A,$A14,'Base TKU'!$B:$B,\"SUL\")/1000000","v":0},{"$f":"SUMIFS('Base TKU'!X:X,'Base TKU'!$A:$A,$A14,'Base TKU'!$B:$B,\"SUL\")/1000000","v":0},{"$f":"SUMIFS('Base TKU'!Y:Y,'Base TKU'!$A:$A,$A14,'Base TKU'!$B:$B,\"SUL\")/1000000","v":0},{"$f":"SUMIFS('Base TKU'!Z:Z,'Base TKU'!$A:$A,$A14,'Base TKU'!$B:$B,\"SUL\")/1000000","v":0},{"$f":"SUMIFS('Base TKU'!AA:AA,'Base TKU'!$A:$A,$A14,'Base TKU'!$B:$B,\"SUL\")/1000000","v":0},{"$f":"SUMIFS('Base TKU'!AB:AB,'Base TKU'!$A:$A,$A14,'Base TKU'!$B:$B,\"SUL\")/1000000","v":0},{"$f":"SUMIFS('Base TKU'!AC:AC,'Base TKU'!$A:$A,$A14,'Base TKU'!$B:$B,\"SUL\")/1000000","v":0},null,{"$f":"SUMIFS('Base TKU'!AE:AE,'Base TKU'!$A:$A,$A14,'Base TKU'!$B:$B,\"SUL\")/1000000","v":0},{"$f":"SUMIFS('Base TKU'!AF:AF,'Base TKU'!$A:$A,$A14,'Base TKU'!$B:$B,\"SUL\")/1000000","v":0},{"$f":"SUMIFS('Base TKU'!AG:AG,'Base TKU'!$A:$A,$A14,'Base TKU'!$B:$B,\"SUL\")/1000000","v":0},{"$f":"SUMIFS('Base TKU'!AH:AH,'Base TKU'!$A:$A,$A14,'Base TKU'!$B:$B,\"SUL\")/1000000","v":0},{"$f":"SUMIFS('Base TKU'!AI:AI,'Base TKU'!$A:$A,$A14,'Base TKU'!$B:$B,\"SUL\")/1000000","v":0},{"$f":"SUMIFS('Base TKU'!AJ:AJ,'Base TKU'!$A:$A,$A14,'Base TKU'!$B:$B,\"SUL\")/1000000","v":0},{"$f":"SUMIFS('Base TKU'!AK:AK,'Base TKU'!$A:$A,$A14,'Base TKU'!$B:$B,\"SUL\")/1000000","v":0},{"$f":"SUMIFS('Base TKU'!AL:AL,'Base TKU'!$A:$A,$A14,'Base TKU'!$B:$B,\"SUL\")/1000000","v":0},{"$f":"SUMIFS('Base TKU'!AM:AM,'Base TKU'!$A:$A,$A14,'Base TKU'!$B:$B,\"SUL\")/1000000","v":0},{"$f":"SUMIFS('Base TKU'!AN:AN,'Base TKU'!$A:$A,$A14,'Base TKU'!$B:$B,\"SUL\")/1000000","v":0},{"$f":"SUMIFS('Base TKU'!AO:AO,'Base TKU'!$A:$A,$A14,'Base TKU'!$B:$B,\"SUL\")/1000000","v":0},{"$f":"SUMIFS('Base TKU'!AP:AP,'Base TKU'!$A:$A,$A14,'Base TKU'!$B:$B,\"SUL\")/1000000","v":0},null,{"$f":"SUMIFS('Base TKU'!AR:AR,'Base TKU'!$A:$A,$A14,'Base TKU'!$B:$B,\"SUL\")/1000000","v":0},{"$f":"SUMIFS('Base TKU'!AS:AS,'Base TKU'!$A:$A,$A14,'Base TKU'!$B:$B,\"SUL\")/1000000","v":0},{"$f":"SUMIFS('Base TKU'!AT:AT,'Base TKU'!$A:$A,$A14,'Base TKU'!$B:$B,\"SUL\")/1000000","v":0},{"$f":"SUMIFS('Base TKU'!AU:AU,'Base TKU'!$A:$A,$A14,'Base TKU'!$B:$B,\"SUL\")/1000000","v":0},{"$f":"SUMIFS('Base TKU'!AV:AV,'Base TKU'!$A:$A,$A14,'Base TKU'!$B:$B,\"SUL\")/1000000","v":0},{"$f":"SUMIFS('Base TKU'!AW:AW,'Base TKU'!$A:$A,$A14,'Base TKU'!$B:$B,\"SUL\")/1000000","v":0},{"$f":"SUMIFS('Base TKU'!AX:AX,'Base TKU'!$A:$A,$A14,'Base TKU'!$B:$B,\"SUL\")/1000000","v":0},{"$f":"SUMIFS('Base TKU'!AY:AY,'Base TKU'!$A:$A,$A14,'Base TKU'!$B:$B,\"SUL\")/1000000","v":0},{"$f":"SUMIFS('Base TKU'!AZ:AZ,'Base TKU'!$A:$A,$A14,'Base TKU'!$B:$B,\"SUL\")/1000000","v":0},{"$f":"SUMIFS('Base TKU'!BA:BA,'Base TKU'!$A:$A,$A14,'Base TKU'!$B:$B,\"SUL\")/1000000","v":0},{"$f":"SUMIFS('Base TKU'!BB:BB,'Base TKU'!$A:$A,$A14,'Base TKU'!$B:$B,\"SUL\")/1000000","v":0},{"$f":"SUMIFS('Base TKU'!BC:BC,'Base TKU'!$A:$A,$A14,'Base TKU'!$B:$B,\"SUL\")/1000000","v":0},null,{"$f":"SUMIFS('Base TKU'!BE:BE,'Base TKU'!$A:$A,$A14,'Base TKU'!$B:$B,\"SUL\")/1000000","v":0},{"$f":"SUMIFS('Base TKU'!BF:BF,'Base TKU'!$A:$A,$A14,'Base TKU'!$B:$B,\"SUL\")/1000000","v":0},{"$f":"SUMIFS('Base TKU'!BG:BG,'Base TKU'!$A:$A,$A14,'Base TKU'!$B:$B,\"SUL\")/1000000","v":0},{"$f":"SUMIFS('Base TKU'!BH:BH,'Base TKU'!$A:$A,$A14,'Base TKU'!$B:$B,\"SUL\")/1000000","v":0},{"$f":"SUMIFS('Base TKU'!BI:BI,'Base TKU'!$A:$A,$A14,'Base TKU'!$B:$B,\"SUL\")/1000000","v":0},{"$f":"SUMIFS('Base TKU'!BJ:BJ,'Base TKU'!$A:$A,$A14,'Base TKU'!$B:$B,\"SUL\")/1000000","v":0},{"$f":"SUMIFS('Base TKU'!BK:BK,'Base TKU'!$A:$A,$A14,'Base TKU'!$B:$B,\"SUL\")/1000000","v":0},{"$f":"SUMIFS('Base TKU'!BL:BL,'Base TKU'!$A:$A,$A14,'Base TKU'!$B:$B,\"SUL\")/1000000","v":0},{"$f":"SUMIFS('Base TKU'!BM:BM,'Base TKU'!$A:$A,$A14,'Base TKU'!$B:$B,\"SUL\")/1000000","v":0},{"$f":"SUMIFS('Base TKU'!BN:BN,'Base TKU'!$A:$A,$A14,'Base TKU'!$B:$B,\"SUL\")/1000000","v":0},{"$f":"SUMIFS('Base TKU'!BO:BO,'Base TKU'!$A:$A,$A14,'Base TKU'!$B:$B,\"SUL\")/1000000","v":0},{"$f":"SUMIFS('Base TKU'!BP:BP,'Base TKU'!$A:$A,$A14,'Base TKU'!$B:$B,\"SUL\")/1000000","v":0},null,{"$f":"SUMIFS('Base TKU'!BR:BR,'Base TKU'!$A:$A,$A14,'Base TKU'!$B:$B,\"SUL\")/1000000","v":0},{"$f":"SUMIFS('Base TKU'!BS:BS,'Base TKU'!$A:$A,$A14,'Base TKU'!$B:$B,\"SUL\")/1000000","v":0},{"$f":"SUMIFS('Base TKU'!BT:BT,'Base TKU'!$A:$A,$A14,'Base TKU'!$B:$B,\"SUL\")/1000000","v":0},{"$f":"SUMIFS('Base TKU'!BU:BU,'Base TKU'!$A:$A,$A14,'Base TKU'!$B:$B,\"SUL\")/1000000","v":0},{"$f":"SUMIFS('Base TKU'!BV:BV,'Base TKU'!$A:$A,$A14,'Base TKU'!$B:$B,\"SUL\")/1000000","v":0},{"$f":"SUMIFS('Base TKU'!BW:BW,'Base TKU'!$A:$A,$A14,'Base TKU'!$B:$B,\"SUL\")/1000000","v":0},{"$f":"SUMIFS('Base TKU'!BX:BX,'Base TKU'!$A:$A,$A14,'Base TKU'!$B:$B,\"SUL\")/1000000","v":0},{"$f":"SUMIFS('Base TKU'!BY:BY,'Base TKU'!$A:$A,$A14,'Base TKU'!$B:$B,\"SUL\")/1000000","v":0},{"$f":"SUMIFS('Base TKU'!BZ:BZ,'Base TKU'!$A:$A,$A14,'Base TKU'!$B:$B,\"SUL\")/1000000","v":0},{"$f":"SUMIFS('Base TKU'!CA:CA,'Base TKU'!$A:$A,$A14,'Base TKU'!$B:$B,\"SUL\")/1000000","v":0},{"$f":"SUMIFS('Base TKU'!CB:CB,'Base TKU'!$A:$A,$A14,'Base TKU'!$B:$B,\"SUL\")/1000000","v":0},{"$f":"SUMIFS('Base TKU'!CC:CC,'Base TKU'!$A:$A,$A14,'Base TKU'!$B:$B,\"SUL\")/1000000","v":0},null,{"$f":"SUMIFS('Base TKU'!CE:CE,'Base TKU'!$A:$A,$A14,'Base TKU'!$B:$B,\"SUL\")/1000000","v":0},{"$f":"SUMIFS('Base TKU'!CF:CF,'Base TKU'!$A:$A,$A14,'Base TKU'!$B:$B,\"SUL\")/1000000","v":0},{"$f":"SUMIFS('Base TKU'!CG:CG,'Base TKU'!$A:$A,$A14,'Base TKU'!$B:$B,\"SUL\")/1000000","v":0},{"$f":"SUMIFS('Base TKU'!CH:CH,'Base TKU'!$A:$A,$A14,'Base TKU'!$B:$B,\"SUL\")/1000000","v":0},{"$f":"SUMIFS('Base TKU'!CI:CI,'Base TKU'!$A:$A,$A14,'Base TKU'!$B:$B,\"SUL\")/1000000","v":0},{"$f":"SUMIFS('Base TKU'!CJ:CJ,'Base TKU'!$A:$A,$A14,'Base TKU'!$B:$B,\"SUL\")/1000000","v":0},{"$f":"SUMIFS('Base TKU'!CK:CK,'Base TKU'!$A:$A,$A14,'Base TKU'!$B:$B,\"SUL\")/1000000","v":0},{"$f":"SUMIFS('Base TKU'!CL:CL,'Base TKU'!$A:$A,$A14,'Base TKU'!$B:$B,\"SUL\")/1000000","v":0},{"$f":"SUMIFS('Base TKU'!CM:CM,'Base TKU'!$A:$A,$A14,'Base TKU'!$B:$B,\"SUL\")/1000000","v":0},{"$f":"SUMIFS('Base TKU'!CN:CN,'Base TKU'!$A:$A,$A14,'Base TKU'!$B:$B,\"SUL\")/1000000","v":0},{"$f":"SUMIFS('Base TKU'!CO:CO,'Base TKU'!$A:$A,$A14,'Base TKU'!$B:$B,\"SUL\")/1000000","v":0},{"$f":"SUMIFS('Base TKU'!CP:CP,'Base TKU'!$A:$A,$A14,'Base TKU'!$B:$B,\"SUL\")/1000000","v":0}]
["Farelo de Milho",null,{"$f":"SUMIFS('Base TKU'!E:E,'Base TKU'!$A:$A,$A15,'Base TKU'!$B:$B,\"SUL\")/1000000","v":0},{"$f":"SUMIFS('Base TKU'!F:F,'Base TKU'!$A:$A,$A15,'Base TKU'!$B:$B,\"SUL\")/1000000","v":0},{"$f":"SUMIFS('Base TKU'!G:G,'Base TKU'!$A:$A,$A15,'Base TKU'!$B:$B,\"SUL\")/1000000","v":0},{"$f":"SUMIFS('Base TKU'!H:H,'Base TKU'!$A:$A,$A15,'Base TKU'!$B:$B,\"SUL\")/1000000","v":0},{"$f":"SUMIFS('Base TKU'!I:I,'Base TKU'!$A:$A,$A15,'Base TKU'!$B:$B,\"SUL\")/1000000","v":0},{"$f":"SUMIFS('Base TKU'!J:J,'Base TKU'!$A:$A,$A15,'Base TKU'!$B:$B,\"SUL\")/1000000","v":0},{"$f":"SUMIFS('Base TKU'!K:K,'Base TKU'!$A:$A,$A15,'Base TKU'!$B:$B,\"SUL\")/1000000","v":0},{"$f":"SUMIFS('Base TKU'!L:L,'Base TKU'!$A:$A,$A15,'Base TKU'!$B:$B,\"SUL\")/1000000","v":0},{"$f":"SUMIFS('Base TKU'!M:M,'Base TKU'!$A:$A,$A15,'Base TKU'!$B:$B,\"SUL\")/1000000","v":0},{"$f":"SUMIFS('Base TKU'!N:N,'Base TKU'!$A:$A,$A15,'Base TKU'!$B:$B,\"SUL\")/1000000","v":0},{"$f":"SUMIFS('Base TKU'!O:O,'Base TKU'!$A:$A,$A15,'Base TKU'!$B:$B,\"SUL\")/1000000","v":0},{"$f":"SUMIFS('Base TKU'!P:P,'Base TKU'!$A:$A,$A15,'Base TKU'!$B:$B,\"SUL\")/1000000","v":0},null,{"$f":"SUMIFS('Base TKU'!R:R,'Base TKU'!$A:$A,$A15,'Base TKU'!$B:$B,\"SUL\")/1000000","v":0},{"$f":"SUMIFS('Base TKU'!S:S,'Base TKU'!$A:$A,$A15,'Base TKU'!$B:$B,\"SUL\")/1000000","v":0},{"$f":"SUMIFS('Base TKU'!T:T,'Base TKU'!$A:$A,$A15,'Base TKU'!$B:$B,\"SUL\")/1000000","v":0},{"$f":"SUMIFS('Base TKU'!U:U,'Base TKU'!$A:$A,$A15,'Base TKU'!$B:$B,\"SUL\")/1000000","v":0},{"$f":"SUMIFS('Base TKU'!V:V,'Base TKU'!$A:$A,$A15,'Base TKU'!$B:$B,\"SUL\")/1000000","v":0},{"$f":"SUMIFS('Base TKU'!W:W,'Base TKU'!$A:$A,$A15,'Base TKU'!$B:$B,\"SUL\")/1000000","v":0},{"$f":"SUMIFS('Base TKU'!X:X,'Base TKU'!$A:$A,$A15,'Base TKU'!$B:$B,\"SUL\")/1000000","v":0},{"$f":"SUMIFS('Base TKU'!Y:Y,'Base TKU'!$A:$A,$A15,'Base TKU'!$B:$B,\"SUL\")/1000000","v":0},{"$f":"SUMIFS('Base TKU'!Z:Z,'Base TKU'!$A:$A,$A15,'Base TKU'!$B:$B,\"SUL\")/1000000","v":0},{"$f":"SUMIFS('Base TKU'!AA:AA,'Base TKU'!$A:$A,$A15,'Base TKU'!$B:$B,\"SUL\")/1000000","v":0},{"$f":"SUMIFS('Base TKU'!AB:AB,'Base TKU'!$A:$A,$A15,'Base TKU'!$B:$B,\"SUL\")/1000000","v":0},{"$f":"SUMIFS('Base TKU'!AC:AC,'Base TKU'!$A:$A,$A15,'Base TKU'!$B:$B,\"SUL\")/1000000","v":0},null,{"$f":"SUMIFS('Base TKU'!AE:AE,'Base TKU'!$A:$A,$A15,'Base TKU'!$B:$B,\"SUL\")/1000000","v":0},{"$f":"SUMIFS('Base TKU'!AF:AF,'Base TKU'!$A:$A,$A15,'Base TKU'!$B:$B,\"SUL\")/1000000","v":0},{"$f":"SUMIFS('Base TKU'!AG:AG,'Base TKU'!$A:$A,$A15,'Base TKU'!$B:$B,\"SUL\")/1000000","v":0},{"$f":"SUMIFS('Base TKU'!AH:AH,'Base TKU'!$A:$A,$A15,'Base TKU'!$B:$B,\"SUL\")/1000000","v":0},{"$f":"SUMIFS('Base TKU'!AI:AI,'Base TKU'!$A:$A,$A15,'Base TKU'!$B:$B,\"SUL\")/1000000","v":0},{"$f":"SUMIFS('Base TKU'!AJ:AJ,'Base TKU'!$A:$A,$A15,'Base TKU'!$B:$B,\"SUL\")/1000000","v":0},{"$f":"SUMIFS('Base TKU'!AK:AK,'Base TKU'!$A:$A,$A15,'Base TKU'!$B:$B,\"SUL\")/1000000","v":0},{"$f":"SUMIFS('Base TKU'!AL:AL,'Base TKU'!$A:$A,$A15,'Base TKU'!$B:$B,\"SUL\")/1000000","v":0},{"$f":"SUMIFS('Base TKU'!AM:AM,'Base TKU'!$A:$A,$A15,'Base TKU'!$B:$B,\"SUL\")/1000000","v":0},{"$f":"SUMIFS('Base TKU'!AN:AN,'Base TKU'!$A:$A,$A15,'Base TKU'!$B:$B,\"SUL\")/1000000","v":0},{"$f":"SUMIFS('Base TKU'!AO:AO,'Base TKU'!$A:$A,$A15,'Base TKU'!$B:$B,\"SUL\")/1000000","v":0},{"$f":"SUMIFS('Base TKU'!AP:AP,'Base TKU'!$A:$A,$A15,'Base TKU'!$B:$B,\"SUL\")/1000000","v":0},null,{"$f":"SUMIFS('Base TKU'!AR:AR,'Base TKU'!$A:$A,$A15,'Base TKU'!$B:$B,\"SUL\")/1000000","v":0},{"$f":"SUMIFS('Base TKU'!AS:AS,'Base TKU'!$A:$A,$A15,'Base TKU'!$B:$B,\"SUL\")/1000000","v":0},{"$f":"SUMIFS('Base TKU'!AT:AT,'Base TKU'!$A:$A,$A15,'Base TKU'!$B:$B,\"SUL\")/1000000","v":0},{"$f":"SUMIFS('Base TKU'!AU:AU,'Base TKU'!$A:$A,$A15,'Base TKU'!$B:$B,\"SUL\")/1000000","v":0},{"$f":"SUMIFS('Base TKU'!AV:AV,'Base TKU'!$A:$A,$A15,'Base TKU'!$B:$B,\"SUL\")/1000000","v":0},{"$f":"SUMIFS('Base TKU'!AW:AW,'Base TKU'!$A:$A,$A15,'Base TKU'!$B:$B,\"SUL\")/1000000","v":0},{"$f":"SUMIFS('Base TKU'!AX:AX,'Base TKU'!$A:$A,$A15,'Base TKU'!$B:$B,\"SUL\")/1000000","v":0},{"$f":"SUMIFS('Base TKU'!AY:AY,'Base TKU'!$A:$A,$A15,'Base TKU'!$B:$B,\"SUL\")/1000000","v":0},{"$f":"SUMIFS('Base TKU'!AZ:AZ,'Base TKU'!$A:$A,$A15,'Base TKU'!$B:$B,\"SUL\")/1000000","v":0},{"$f":"SUMIFS('Base TKU'!BA:BA,'Base TKU'!$A:$A,$A15,'Base TKU'!$B:$B,\"SUL\")/1000000","v":0},{"$f":"SUMIFS('Base TKU'!BB:BB,'Base TKU'!$A:$A,$A15,'Base TKU'!$B:$B,\"SUL\")/1000000","v":0},{"$f":"SUMIFS('Base TKU'!BC:BC,'Base TKU'!$A:$A,$A15,'Base TKU'!$B:$B,\"SUL\")/1000000","v":0},null,{"$f":"SUMIFS('Base TKU'!BE:BE,'Base TKU'!$A:$A,$A15,'Base TKU'!$B:$B,\"SUL\")/1000000","v":0},{"$f":"SUMIFS('Base TKU'!BF:BF,'Base TKU'!$A:$A,$A15,'Base TKU'!$B:$B,\"SUL\")/1000000","v":0},{"$f":"SUMIFS('Base TKU'!BG:BG,'Base TKU'!$A:$A,$A15,'Base TKU'!$B:$B,\"SUL\")/1000000","v":0},{"$f":"SUMIFS('Base TKU'!BH:BH,'Base TKU'!$A:$A,$A15,'Base TKU'!$B:$B,\"SUL\")/1000000","v":0},{"$f":"SUMIFS('Base TKU'!BI:BI,'Base TKU'!$A:$A,$A15,'Base TKU'!$B:$B,\"SUL\")/1000000","v":0},{"$f":"SUMIFS('Base TKU'!BJ:BJ,'Base TKU'!$A:$A,$A15,'Base TKU'!$B:$B,\"SUL\")/1000000","v":0},{"$f":"SUMIFS('Base TKU'!BK:BK,'Base TKU'!$A:$A,$A15,'Base TKU'!$B:$B,\"SUL\")/1000000","v":0},{"$f":"SUMIFS('Base TKU'!BL:BL,'Base TKU'!$A:$A,$A15,'Base TKU'!$B:$B,\"SUL\")/1000000","v":0},{"$f":"SUMIFS('Base TKU'!BM:BM,'Base TKU'!$A:$A,$A15,'Base TKU'!$B:$B,\"SUL\")/1000000","v":0},{"$f":"SUMIFS('Base TKU'!BN:BN,'Base TKU'!$A:$A,$A15,'Base TKU'!$B:$B,\"SUL\")/1000000","v":0},{"$f":"SUMIFS('Base TKU'!BO:BO,'Base TKU'!$A:$A,$A15,'Base TKU'!$B:$B,\"SUL\")/1000000","v":0},{"$f":"SUMIFS('Base TKU'!BP:BP,'Base TKU'!$A:$A,$A15,'Base TKU'!$B:$B,\"SUL\")/1000000","v":0},null,{"$f":"SUMIFS('Base TKU'!BR:BR,'Base TKU'!$A:$A,$A15,'Base TKU'!$B:$B,\"SUL\")/1000000","v":0},{"$f":"SUMIFS('Base TKU'!BS:BS,'Base TKU'!$A:$A,$A15,'Base TKU'!$B:$B,\"SUL\")/1000000","v":0},{"$f":"SUMIFS('Base TKU'!BT:BT,'Base TKU'!$A:$A,$A15,'Base TKU'!$B:$B,\"SUL\")/1000000","v":0},{"$f":"SUMIFS('Base TKU'!BU:BU,'Base TKU'!$A:$A,$A15,'Base TKU'!$B:$B,\"SUL\")/1000000","v":0},{"$f":"SUMIFS('Base TKU'!BV:BV,'Base TKU'!$A:$A,$A15,'Base TKU'!$B:$B,\"SUL\")/1000000","v":0},{"$f":"SUMIFS('Base TKU'!BW:BW,'Base TKU'!$A:$A,$A15,'Base TKU'!$B:$B,\"SUL\")/1000000","v":0},{"$f":"SUMIFS('Base TKU'!BX:BX,'Base TKU'!$A:$A,$A15,'Base TKU'!$B:$B,\"SUL\")/1000000","v":0},{"$f":"SUMIFS('Base TKU'!BY:BY,'Base TKU'!$A:$A,$A15,'Base TKU'!$B:$B,\"SUL\")/1000000","v":0},{"$f":"SUMIFS('Base TKU'!BZ:BZ,'Base TKU'!$A:$A,$A15,'Base TKU'!$B:$B,\"SUL\")/1000000","v":0},{"$f":"SUMIFS('Base TKU'!CA:CA,'Base TKU'!$A:$A,$A15,'Base TKU'!$B:$B,\"SUL\")/1000000","v":0},{"$f":"SUMIFS('Base TKU'!CB:CB,'Base TKU'!$A:$A,$A15,'Base TKU'!$B:$B,\"SUL\")/1000000","v":0},{"$f":"SUMIFS('Base TKU'!CC:CC,'Base TKU'!$A:$A,$A15,'Base TKU'!$B:$B,\"SUL\")/1000000","v":0},null,{"$f":"SUMIFS('Base TKU'!CE:CE,'Base TKU'!$A:$A,$A15,'Base TKU'!$B:$B,\"SUL\")/1000000","v":0},{"$f":"SUMIFS('Base TKU'!CF:CF,'Base TKU'!$A:$A,$A15,'Base TKU'!$B:$B,\"SUL\")/1000000","v":0},{"$f":"SUMIFS('Base TKU'!CG:CG,'Base TKU'!$A:$A,$A15,'Base TKU'!$B:$B,\"SUL\")/1000000","v":0},{"$f":"SUMIFS('Base TKU'!CH:CH,'Base TKU'!$A:$A,$A15,'Base TKU'!$B:$B,\"SUL\")/1000000","v":0},{"$f":"SUMIFS('Base TKU'!CI:CI,'Base TKU'!$A:$A,$A15,'Base TKU'!$B:$B,\"SUL\")/1000000","v":0},{"$f":"SUMIFS('Base TKU'!CJ:CJ,'Base TKU'!$A:$A,$A15,'Base TKU'!$B:$B,\"SUL\")/1000000","v":0},{"$f":"SUMIFS('Base TKU'!CK:CK,'Base TKU'!$A:$A,$A15,'Base TKU'!$B:$B,\"SUL\")/1000000","v":0},{"$f":"SUMIFS('Base TKU'!CL:CL,'Base TKU'!$A:$A,$A15,'Base TKU'!$B:$B,\"SUL\")/1000000","v":0},{"$f":"SUMIFS('Base TKU'!CM:CM,'Base TKU'!$A:$A,$A15,'Base TKU'!$B:$B,\"SUL\")/1000000","v":0},{"$f":"SUMIFS('Base TKU'!CN:CN,'Base TKU'!$A:$A,$A15,'Base TKU'!$B:$B,\"SUL\")/1000000","v":0},{"$f":"SUMIFS('Base TKU'!CO:CO,'Base TKU'!$A:$A,$A15,'Base TKU'!$B:$B,\"SUL\")/1000000","v":0},{"$f":"SUMIFS('Base TKU'!CP:CP,'Base TKU'!$A:$A,$A15,'Base TKU'!$B:$B,\"SUL\")/1000000","v":0}]
["Contêiner",null,{"$f":"SUMIFS('Base TKU'!E:E,'Base TKU'!$A:$A,$A16,'Base TKU'!$B:$B,\"SUL\")/1000000","v":50.653872999999997},{"$f":"SUMIFS('Base TKU'!F:F,'Base TKU'!$A:$A,$A16,'Base TKU'!$B:$B,\"SUL\")/1000000","v":58.678362999999997},{"$f":"SUMIFS('Base TKU'!G:G,'Base TKU'!$A:$A,$A16,'Base TKU'!$B:$B,\"SUL\")/1000000","v":65.520111},{"$f":"SUMIFS('Base TKU'!H:H,'Base TKU'!$A:$A,$A16,'Base TKU'!$B:$B,\"SUL\")/1000000","v":64.679544000000007},{"$f":"SUMIFS('Base TKU'!I:I,'Base TKU'!$A:$A,$A16,'Base TKU'!$B:$B,\"SUL\")/1000000","v":57.983924999999999},{"$f":"SUMIFS('Base TKU'!J:J,'Base TKU'!$A:$A,$A16,'Base TKU'!$B:$B,\"SUL\")/1000000","v":61.572875000000003},{"$f":"SUMIFS('Base TKU'!K:K,'Base TKU'!$A:$A,$A16,'Base TKU'!$B:$B,\"SUL\")/1000000","v":48.561618000000003},{"$f":"SUMIFS('Base TKU'!L:L,'Base TKU'!$A:$A,$A16,'Base TKU'!$B:$B,\"SUL\")/1000000","v":48.688918999999999},{"$f":"SUMIFS('Base TKU'!M:M,'Base TKU'!$A:$A,$A16,'Base TKU'!$B:$B,\"SUL\")/1000000","v":48.451737999999999},{"$f":"SUMIFS('Base TKU'!N:N,'Base TKU'!$A:$A,$A16,'Base TKU'!$B:$B,\"SUL\")/1000000","v":46.574927000000002},{"$f":"SUMIFS('Base TKU'!O:O,'Base TKU'!$A:$A,$A16,'Base TKU'!$B:$B,\"SUL\")/1000000","v":42.185833000000002},{"$f":"SUMIFS('Base TKU'!P:P,'Base TKU'!$A:$A,$A16,'Base TKU'!$B:$B,\"SUL\")/1000000","v":38.172204000000001},null,{"$f":"SUMIFS('Base TKU'!R:R,'Base TKU'!$A:$A,$A16,'Base TKU'!$B:$B,\"SUL\")/1000000","v":43.516576000000001},{"$f":"SUMIFS('Base TKU'!S:S,'Base TKU'!$A:$A,$A16,'Base TKU'!$B:$B,\"SUL\")/1000000","v":39.319431000000002},{"$f":"SUMIFS('Base TKU'!T:T,'Base TKU'!$A:$A,$A16,'Base TKU'!$B:$B,\"SUL\")/1000000","v":48.893445},{"$f":"SUMIFS('Base TKU'!U:U,'Base TKU'!$A:$A,$A16,'Base TKU'!$B:$B,\"SUL\")/1000000","v":38.081878000000003},{"$f":"SUMIFS('Base TKU'!V:V,'Base TKU'!$A:$A,$A16,'Base TKU'!$B:$B,\"SUL\")/1000000","v":42.358691999999998},{"$f":"SUMIFS('Base TKU'!W:W,'Base TKU'!$A:$A,$A16,'Base TKU'!$B:$B,\"SUL\")/1000000","v":42.385508999999999},{"$f":"SUMIFS('Base TKU'!X:X,'Base TKU'!$A:$A,$A16,'Base TKU'!$B:$B,\"SUL\")/1000000","v":40.273501000000003},{"$f":"SUMIFS('Base TKU'!Y:Y,'Base TKU'!$A:$A,$A16,'Base TKU'!$B:$B,\"SUL\")/1000000","v":45.062682000000002},{"$f":"SUMIFS('Base TKU'!Z:Z,'Base TKU'!$A:$A,$A16,'Base TKU'!$B:$B,\"SUL\")/1000000","v":35.134611},{"$f":"SUMIFS('Base TKU'!AA:AA,'Base TKU'!$A:$A,$A16,'Base TKU'!$B:$B,\"SUL\")/1000000","v":34.421081000000001},{"$f":"SUMIFS('Base TKU'!AB:AB,'Base TKU'!$A:$A,$A16,'Base TKU'!$B:$B,\"SUL\")/1000000","v":29.817316000000002},{"$f":"SUMIFS('Base TKU'!AC:AC,'Base TKU'!$A:$A,$A16,'Base TKU'!$B:$B,\"SUL\")/1000000","v":34.774912999999998},null,{"$f":"SUMIFS('Base TKU'!AE:AE,'Base TKU'!$A:$A,$A16,'Base TKU'!$B:$B,\"SUL\")/1000000","v":29.603095},{"$f":"SUMIFS('Base TKU'!AF:AF,'Base TKU'!$A:$A,$A16,'Base TKU'!$B:$B,\"SUL\")/1000000","v":39.47343},{"$f":"SUMIFS('Base TKU'!AG:AG,'Base TKU'!$A:$A,$A16,'Base TKU'!$B:$B,\"SUL\")/1000000","v":43.525416999999997},{"$f":"SUMIFS('Base TKU'!AH:AH,'Base TKU'!$A:$A,$A16,'Base TKU'!$B:$B,\"SUL\")/1000000","v":47.937314999999998},{"$f":"SUMIFS('Base TKU'!AI:AI,'Base TKU'!$A:$A,$A16,'Base TKU'!$B:$B,\"SUL\")/1000000","v":39.913617000000002},{"$f":"SUMIFS('Base TKU'!AJ:AJ,'Base TKU'!$A:$A,$A16,'Base TKU'!$B:$B,\"SUL\")/1000000","v":50.240031000000002},{"$f":"SUMIFS('Base TKU'!AK:AK,'Base TKU'!$A:$A,$A16,'Base TKU'!$B:$B,\"SUL\")/1000000","v":52.476263000000003},{"$f":"SUMIFS('Base TKU'!AL:AL,'Base TKU'!$A:$A,$A16,'Base TKU'!$B:$B,\"SUL\")/1000000","v":54.547398999999999},{"$f":"SUMIFS('Base TKU'!AM:AM,'Base TKU'!$A:$A,$A16,'Base TKU'!$B:$B,\"SUL\")/1000000","v":54.147601999999999},{"$f":"SUMIFS('Base TKU'!AN:AN,'Base TKU'!$A:$A,$A16,'Base TKU'!$B:$B,\"SUL\")/1000000","v":55.903395000000003},{"$f":"SUMIFS('Base TKU'!AO:AO,'Base TKU'!$A:$A,$A16,'Base TKU'!$B:$B,\"SUL\")/1000000","v":52.416510000000002},{"$f":"SUMIFS('Base TKU'!AP:AP,'Base TKU'!$A:$A,$A16,'Base TKU'!$B:$B,\"SUL\")/1000000","v":53.100599000000003},null,{"$f":"SUMIFS('Base TKU'!AR:AR,'Base TKU'!$A:$A,$A16,'Base TKU'!$B:$B,\"SUL\")/1000000","v":50.731259000000001},{"$f":"SUMIFS('Base TKU'!AS:AS,'Base TKU'!$A:$A,$A16,'Base TKU'!$B:$B,\"SUL\")/1000000","v":49.206107000000003},{"$f":"SUMIFS('Base TKU'!AT:AT,'Base TKU'!$A:$A,$A16,'Base TKU'!$B:$B,\"SUL\")/1000000","v":56.186678999999998},{"$f":"SUMIFS('Base TKU'!AU:AU,'Base TKU'!$A:$A,$A16,'Base TKU'!$B:$B,\"SUL\")/1000000","v":56.894691999999999},{"$f":"SUMIFS('Base TKU'!AV:AV,'Base TKU'!$A:$A,$A16,'Base TKU'!$B:$B,\"SUL\")/1000000","v":59.538119000000002},{"$f":"SUMIFS('Base TKU'!AW:AW,'Base TKU'!$A:$A,$A16,'Base TKU'!$B:$B,\"SUL\")/1000000","v":58.457293},{"$f":"SUMIFS('Base TKU'!AX:AX,'Base TKU'!$A:$A,$A16,'Base TKU'!$B:$B,\"SUL\")/1000000","v":64.026664999999994},{"$f":"SUMIFS('Base TKU'!AY:AY,'Base TKU'!$A:$A,$A16,'Base TKU'!$B:$B,\"SUL\")/1000000","v":67.365780999999998},{"$f":"SUMIFS('Base TKU'!AZ:AZ,'Base TKU'!$A:$A,$A16,'Base TKU'!$B:$B,\"SUL\")/1000000","v":71.301327999999998},{"$f":"SUMIFS('Base TKU'!BA:BA,'Base TKU'!$A:$A,$A16,'Base TKU'!$B:$B,\"SUL\")/1000000","v":63.691011000000003},{"$f":"SUMIFS('Base TKU'!BB:BB,'Base TKU'!$A:$A,$A16,'Base TKU'!$B:$B,\"SUL\")/1000000","v":62.699147000000004},{"$f":"SUMIFS('Base TKU'!BC:BC,'Base TKU'!$A:$A,$A16,'Base TKU'!$B:$B,\"SUL\")/1000000","v":57.983685000000001},null,{"$f":"SUMIFS('Base TKU'!BE:BE,'Base TKU'!$A:$A,$A16,'Base TKU'!$B:$B,\"SUL\")/1000000","v":63.577573999999998},{"$f":"SUMIFS('Base TKU'!BF:BF,'Base TKU'!$A:$A,$A16,'Base TKU'!$B:$B,\"SUL\")/1000000","v":62.719521},{"$f":"SUMIFS('Base TKU'!BG:BG,'Base TKU'!$A:$A,$A16,'Base TKU'!$B:$B,\"SUL\")/1000000","v":60.617429999999999},{"$f":"SUMIFS('Base TKU'!BH:BH,'Base TKU'!$A:$A,$A16,'Base TKU'!$B:$B,\"SUL\")/1000000","v":74.631833},{"$f":"SUMIFS('Base TKU'!BI:BI,'Base TKU'!$A:$A,$A16,'Base TKU'!$B:$B,\"SUL\")/1000000","v":76.715235000000007},{"$f":"SUMIFS('Base TKU'!BJ:BJ,'Base TKU'!$A:$A,$A16,'Base TKU'!$B:$B,\"SUL\")/1000000","v":81.775490000000005},{"$f":"SUMIFS('Base TKU'!BK:BK,'Base TKU'!$A:$A,$A16,'Base TKU'!$B:$B,\"SUL\")/1000000","v":84.424301999999997},{"$f":"SUMIFS('Base TKU'!BL:BL,'Base TKU'!$A:$A,$A16,'Base TKU'!$B:$B,\"SUL\")/1000000","v":79.692530000000005},{"$f":"SUMIFS('Base TKU'!BM:BM,'Base TKU'!$A:$A,$A16,'Base TKU'!$B:$B,\"SUL\")/1000000","v":79.207928999999993},{"$f":"SUMIFS('Base TKU'!BN:BN,'Base TKU'!$A:$A,$A16,'Base TKU'!$B:$B,\"SUL\")/1000000","v":80.026894999999996},{"$f":"SUMIFS('Base TKU'!BO:BO,'Base TKU'!$A:$A,$A16,'Base TKU'!$B:$B,\"SUL\")/1000000","v":78.185827000000003},{"$f":"SUMIFS('Base TKU'!BP:BP,'Base TKU'!$A:$A,$A16,'Base TKU'!$B:$B,\"SUL\")/1000000","v":69.169015000000002},null,{"$f":"SUMIFS('Base TKU'!BR:BR,'Base TKU'!$A:$A,$A16,'Base TKU'!$B:$B,\"SUL\")/1000000","v":71.761609000000007},{"$f":"SUMIFS('Base TKU'!BS:BS,'Base TKU'!$A:$A,$A16,'Base TKU'!$B:$B,\"SUL\")/1000000","v":79.964934999999997},{"$f":"SUMIFS('Base TKU'!BT:BT,'Base TKU'!$A:$A,$A16,'Base TKU'!$B:$B,\"SUL\")/1000000","v":74.866251000000005},{"$f":"SUMIFS('Base TKU'!BU:BU,'Base TKU'!$A:$A,$A16,'Base TKU'!$B:$B,\"SUL\")/1000000","v":80.125343000000001},{"$f":"SUMIFS('Base TKU'!BV:BV,'Base TKU'!$A:$A,$A16,'Base TKU'!$B:$B,\"SUL\")/1000000","v":76.592072999999999},{"$f":"SUMIFS('Base TKU'!BW:BW,'Base TKU'!$A:$A,$A16,'Base TKU'!$B:$B,\"SUL\")/1000000","v":70.037726000000006},{"$f":"SUMIFS('Base TKU'!BX:BX,'Base TKU'!$A:$A,$A16,'Base TKU'!$B:$B,\"SUL\")/1000000","v":71.624944999999997},{"$f":"SUMIFS('Base TKU'!BY:BY,'Base TKU'!$A:$A,$A16,'Base TKU'!$B:$B,\"SUL\")/1000000","v":66.443759999999997},{"$f":"SUMIFS('Base TKU'!BZ:BZ,'Base TKU'!$A:$A,$A16,'Base TKU'!$B:$B,\"SUL\")/1000000","v":57.244092000000002},{"$f":"SUMIFS('Base TKU'!CA:CA,'Base TKU'!$A:$A,$A16,'Base TKU'!$B:$B,\"SUL\")/1000000","v":59.003812000000003},{"$f":"SUMIFS('Base TKU'!CB:CB,'Base TKU'!$A:$A,$A16,'Base TKU'!$B:$B,\"SUL\")/1000000","v":61.449129999999997},{"$f":"SUMIFS('Base TKU'!CC:CC,'Base TKU'!$A:$A,$A16,'Base TKU'!$B:$B,\"SUL\")/1000000","v":62.603934000000002},null,{"$f":"SUMIFS('Base TKU'!CE:CE,'Base TKU'!$A:$A,$A16,'Base TKU'!$B:$B,\"SUL\")/1000000","v":76.499689000000004},{"$f":"SUMIFS('Base TKU'!CF:CF,'Base TKU'!$A:$A,$A16,'Base TKU'!$B:$B,\"SUL\")/1000000","v":79.542843000000005},{"$f":"SUMIFS('Base TKU'!CG:CG,'Base TKU'!$A:$A,$A16,'Base TKU'!$B:$B,\"SUL\")/1000000","v":83.331629000000007},{"$f":"SUMIFS('Base TKU'!CH:CH,'Base TKU'!$A:$A,$A16,'Base TKU'!$B:$B,\"SUL\")/1000000","v":87.451539999999994},{"$f":"SUMIFS('Base TKU'!CI:CI,'Base TKU'!$A:$A,$A16,'Base TKU'!$B:$B,\"SUL\")/1000000","v":91.258866999999995},{"$f":"SUMIFS('Base TKU'!CJ:CJ,'Base TKU'!$A:$A,$A16,'Base TKU'!$B:$B,\"SUL\")/1000000","v":0},{"$f":"SUMIFS('Base TKU'!CK:CK,'Base TKU'!$A:$A,$A16,'Base TKU'!$B:$B,\"SUL\")/1000000","v":0},{"$f":"SUMIFS('Base TKU'!CL:CL,'Base TKU'!$A:$A,$A16,'Base TKU'!$B:$B,\"SUL\")/1000000","v":0},{"$f":"SUMIFS('Base TKU'!CM:CM,'Base TKU'!$A:$A,$A16,'Base TKU'!$B:$B,\"SUL\")/1000000","v":0},{"$f":"SUMIFS('Base TKU'!CN:CN,'Base TKU'!$A:$A,$A16,'Base TKU'!$B:$B,\"SUL\")/1000000","v":0},{"$f":"SUMIFS('Base TKU'!CO:CO,'Base TKU'!$A:$A,$A16,'Base TKU'!$B:$B,\"SUL\")/1000000","v":0},{"$f":"SUMIFS('Base TKU'!CP:CP,'Base TKU'!$A:$A,$A16,'Base TKU'!$B:$B,\"SUL\")/1000000","v":0}]
["Produtos Industriais",null,{"$f":"SUM(C18:C21)","v":228.42699200000001},{"$f":"SUM(D18:D21)","v":257.51256599999999},279.96651399999996,273.02394200000003,295.32514200000003,318.43506300000001,362.15990799999997,360.94291000000004,344.551851,345.79090200000002,317.07622400000002,285.14753000000002,null,287.57895099999996,244.80521200000001,294.37972699999995,290.21314099999995,342.63133599999998,308.23325499999999,368.08305000000001,373.00258600000001,366.78069299999999,384.29020200000002,331.99688699999996,331.01971200000003,null,326.574501,312.22294099999993,299.49455799999998,291.38249500000001,278.85136199999999,340.39712200000002,339.10575299999994,371.09401600000001,361.27114600000004,366.58188000000001,338.22070199999996,334.57528300000001,null,329.27150799999998,319.201412,328.105163,318.51579100000004,343.52402699999993,354.28402599999998,370.75858499999998,401.67964799999999,372.60146400000002,383.173044,326.33034299999997,297.77408100000002,null,305.73366799999997,258.51948899999996,188.775127,205.04545700000003,240.13808500000002,241.179892,290.03063200000003,303.78416199999998,316.24441099999996,319.92580100000004,308.48044699999997,268.19025099999999,null,{"$f":"SUM(BP18:BP21)","v":305.422864},295.54553000000004,330.11579699999999,311.23341699999997,339.24804500000005,311.23431899999997,309.52550000000002,321.23711800000001,295.41189300000002,291.42630200000002,276.96202900000003,254.93312399999999,null,{"$f":"SUM(CC18:CC21)","v":250.57097000000002},213.872952,269.68073299999998,247.16745400000002,284.48836700000004,0,0,0,0,0,0,0]
["Combustível",null,{"$f":"SUMIFS('Base TKU'!E:E,'Base TKU'!$A:$A,$A18,'Base TKU'!$B:$B,\"SUL\")/1000000","v":141.026849},{"$f":"SUMIFS('Base TKU'!F:F,'Base TKU'!$A:$A,$A18,'Base TKU'!$B:$B,\"SUL\")/1000000","v":158.18764899999999},{"$f":"SUMIFS('Base TKU'!G:G,'Base TKU'!$A:$A,$A18,'Base TKU'!$B:$B,\"SUL\")/1000000","v":164.00340399999999},{"$f":"SUMIFS('Base TKU'!H:H,'Base TKU'!$A:$A,$A18,'Base TKU'!$B:$B,\"SUL\")/1000000","v":152.20710600000001},{"$f":"SUMIFS('Base TKU'!I:I,'Base TKU'!$A:$A,$A18,'Base TKU'!$B:$B,\"SUL\")/1000000","v":165.906353},{"$f":"SUMIFS('Base TKU'!J:J,'Base TKU'!$A:$A,$A18,'Base TKU'!$B:$B,\"SUL\")/1000000","v":177.59219100000001},{"$f":"SUMIFS('Base TKU'!K:K,'Base TKU'!$A:$A,$A18,'Base TKU'!$B:$B,\"SUL\")/1000000","v":189.75936799999999},{"$f":"SUMIFS('Base TKU'!L:L,'Base TKU'!$A:$A,$A18,'Base TKU'!$B:$B,\"SUL\")/1000000","v":185.81068500000001},{"$f":"SUMIFS('Base TKU'!M:M,'Base TKU'!$A:$A,$A18,'Base TKU'!$B:$B,\"SUL\")/1000000","v":183.298305},{"$f":"SUMIFS('Base TKU'!N:N,'Base TKU'!$A:$A,$A18,'Base TKU'!$B:$B,\"SUL\")/1000000","v":182.14684600000001},{"$f":"SUMIFS('Base TKU'!O:O,'Base TKU'!$A:$A,$A18,'Base TKU'!$B:$B,\"SUL\")/1000000","v":162.34235100000001},{"$f":"SUMIFS('Base TKU'!P:P,'Base TKU'!$A:$A,$A18,'Base TKU'!$B:$B,\"SUL\")/1000000","v":144.96276800000001},null,{"$f":"SUMIFS('Base TKU'!R:R,'Base TKU'!$A:$A,$A18,'Base TKU'!$B:$B,\"SUL\")/1000000","v":143.62894499999999},{"$f":"SUMIFS('Base TKU'!S:S,'Base TKU'!$A:$A,$A18,'Base TKU'!$B:$B,\"SUL\")/1000000","v":132.900733},{"$f":"SUMIFS('Base TKU'!T:T,'Base TKU'!$A:$A,$A18,'Base TKU'!$B:$B,\"SUL\")/1000000","v":144.560417},{"$f":"SUMIFS('Base TKU'!U:U,'Base TKU'!$A:$A,$A18,'Base TKU'!$B:$B,\"SUL\")/1000000","v":137.94608299999999},{"$f":"SUMIFS('Base TKU'!V:V,'Base TKU'!$A:$A,$A18,'Base TKU'!$B:$B,\"SUL\")/1000000","v":163.325928},{"$f":"SUMIFS('Base TKU'!W:W,'Base TKU'!$A:$A,$A18,'Base TKU'!$B:$B,\"SUL\")/1000000","v":145.708583},{"$f":"SUMIFS('Base TKU'!X:X,'Base TKU'!$A:$A,$A18,'Base TKU'!$B:$B,\"SUL\")/1000000","v":191.22140200000001},{"$f":"SUMIFS('Base TKU'!Y:Y,'Base TKU'!$A:$A,$A18,'Base TKU'!$B:$B,\"SUL\")/1000000","v":191.70513800000001},{"$f":"SUMIFS('Base TKU'!Z:Z,'Base TKU'!$A:$A,$A18,'Base TKU'!$B:$B,\"SUL\")/1000000","v":186.27211199999999},{"$f":"SUMIFS('Base TKU'!AA:AA,'Base TKU'!$A:$A,$A18,'Base TKU'!$B:$B,\"SUL\")/1000000","v":203.974715},{"$f":"SUMIFS('Base TKU'!AB:AB,'Base TKU'!$A:$A,$A18,'Base TKU'!$B:$B,\"SUL\")/1000000","v":171.53195600000001},{"$f":"SUMIFS('Base TKU'!AC:AC,'Base TKU'!$A:$A,$A18,'Base TKU'!$B:$B,\"SUL\")/1000000","v":158.942565},null,{"$f":"SUMIFS('Base TKU'!AE:AE,'Base TKU'!$A:$A,$A18,'Base TKU'!$B:$B,\"SUL\")/1000000","v":158.606315},{"$f":"SUMIFS('Base TKU'!AF:AF,'Base TKU'!$A:$A,$A18,'Base TKU'!$B:$B,\"SUL\")/1000000","v":161.694107},{"$f":"SUMIFS('Base TKU'!AG:AG,'Base TKU'!$A:$A,$A18,'Base TKU'!$B:$B,\"SUL\")/1000000","v":166.599616},{"$f":"SUMIFS('Base TKU'!AH:AH,'Base TKU'!$A:$A,$A18,'Base TKU'!$B:$B,\"SUL\")/1000000","v":153.60662500000001},{"$f":"SUMIFS('Base TKU'!AI:AI,'Base TKU'!$A:$A,$A18,'Base TKU'!$B:$B,\"SUL\")/1000000","v":144.449736},{"$f":"SUMIFS('Base TKU'!AJ:AJ,'Base TKU'!$A:$A,$A18,'Base TKU'!$B:$B,\"SUL\")/1000000","v":168.88579100000001},{"$f":"SUMIFS('Base TKU'!AK:AK,'Base TKU'!$A:$A,$A18,'Base TKU'!$B:$B,\"SUL\")/1000000","v":177.63853800000001},{"$f":"SUMIFS('Base TKU'!AL:AL,'Base TKU'!$A:$A,$A18,'Base TKU'!$B:$B,\"SUL\")/1000000","v":193.32590500000001},{"$f":"SUMIFS('Base TKU'!AM:AM,'Base TKU'!$A:$A,$A18,'Base TKU'!$B:$B,\"SUL\")/1000000","v":195.904583},{"$f":"SUMIFS('Base TKU'!AN:AN,'Base TKU'!$A:$A,$A18,'Base TKU'!$B:$B,\"SUL\")/1000000","v":185.02983499999999},{"$f":"SUMIFS('Base TKU'!AO:AO,'Base TKU'!$A:$A,$A18,'Base TKU'!$B:$B,\"SUL\")/1000000","v":169.63896600000001},{"$f":"SUMIFS('Base TKU'!AP:AP,'Base TKU'!$A:$A,$A18,'Base TKU'!$B:$B,\"SUL\")/1000000","v":177.16954100000001},null,{"$f":"SUMIFS('Base TKU'!AR:AR,'Base TKU'!$A:$A,$A18,'Base TKU'!$B:$B,\"SUL\")/1000000","v":170.41812200000001},{"$f":"SUMIFS('Base TKU'!AS:AS,'Base TKU'!$A:$A,$A18,'Base TKU'!$B:$B,\"SUL\")/1000000","v":177.358056},{"$f":"SUMIFS('Base TKU'!AT:AT,'Base TKU'!$A:$A,$A18,'Base TKU'!$B:$B,\"SUL\")/1000000","v":178.09361999999999},{"$f":"SUMIFS('Base TKU'!AU:AU,'Base TKU'!$A:$A,$A18,'Base TKU'!$B:$B,\"SUL\")/1000000","v":186.10663400000001},{"$f":"SUMIFS('Base TKU'!AV:AV,'Base TKU'!$A:$A,$A18,'Base TKU'!$B:$B,\"SUL\")/1000000","v":194.41169199999999},{"$f":"SUMIFS('Base TKU'!AW:AW,'Base TKU'!$A:$A,$A18,'Base TKU'!$B:$B,\"SUL\")/1000000","v":189.300803},{"$f":"SUMIFS('Base TKU'!AX:AX,'Base TKU'!$A:$A,$A18,'Base TKU'!$B:$B,\"SUL\")/1000000","v":214.79091399999999},{"$f":"SUMIFS('Base TKU'!AY:AY,'Base TKU'!$A:$A,$A18,'Base TKU'!$B:$B,\"SUL\")/1000000","v":225.453225},{"$f":"SUMIFS('Base TKU'!AZ:AZ,'Base TKU'!$A:$A,$A18,'Base TKU'!$B:$B,\"SUL\")/1000000","v":210.03759400000001},{"$f":"SUMIFS('Base TKU'!BA:BA,'Base TKU'!$A:$A,$A18,'Base TKU'!$B:$B,\"SUL\")/1000000","v":212.65567799999999},{"$f":"SUMIFS('Base TKU'!BB:BB,'Base TKU'!$A:$A,$A18,'Base TKU'!$B:$B,\"SUL\")/1000000","v":173.596079},{"$f":"SUMIFS('Base TKU'!BC:BC,'Base TKU'!$A:$A,$A18,'Base TKU'!$B:$B,\"SUL\")/1000000","v":161.27325500000001},null,{"$f":"SUMIFS('Base TKU'!BE:BE,'Base TKU'!$A:$A,$A18,'Base TKU'!$B:$B,\"SUL\")/1000000","v":157.859982},{"$f":"SUMIFS('Base TKU'!BF:BF,'Base TKU'!$A:$A,$A18,'Base TKU'!$B:$B,\"SUL\")/1000000","v":154.06072499999999},{"$f":"SUMIFS('Base TKU'!BG:BG,'Base TKU'!$A:$A,$A18,'Base TKU'!$B:$B,\"SUL\")/1000000","v":96.066029999999998},{"$f":"SUMIFS('Base TKU'!BH:BH,'Base TKU'!$A:$A,$A18,'Base TKU'!$B:$B,\"SUL\")/1000000","v":115.754942},{"$f":"SUMIFS('Base TKU'!BI:BI,'Base TKU'!$A:$A,$A18,'Base TKU'!$B:$B,\"SUL\")/1000000","v":130.800231},{"$f":"SUMIFS('Base TKU'!BJ:BJ,'Base TKU'!$A:$A,$A18,'Base TKU'!$B:$B,\"SUL\")/1000000","v":141.332987},{"$f":"SUMIFS('Base TKU'!BK:BK,'Base TKU'!$A:$A,$A18,'Base TKU'!$B:$B,\"SUL\")/1000000","v":149.329871},{"$f":"SUMIFS('Base TKU'!BL:BL,'Base TKU'!$A:$A,$A18,'Base TKU'!$B:$B,\"SUL\")/1000000","v":148.90823599999999},{"$f":"SUMIFS('Base TKU'!BM:BM,'Base TKU'!$A:$A,$A18,'Base TKU'!$B:$B,\"SUL\")/1000000","v":159.478025},{"$f":"SUMIFS('Base TKU'!BN:BN,'Base TKU'!$A:$A,$A18,'Base TKU'!$B:$B,\"SUL\")/1000000","v":168.96901199999999},{"$f":"SUMIFS('Base TKU'!BO:BO,'Base TKU'!$A:$A,$A18,'Base TKU'!$B:$B,\"SUL\")/1000000","v":164.82403299999999},{"$f":"SUMIFS('Base TKU'!BP:BP,'Base TKU'!$A:$A,$A18,'Base TKU'!$B:$B,\"SUL\")/1000000","v":156.70591400000001},null,{"$f":"SUMIFS('Base TKU'!BR:BR,'Base TKU'!$A:$A,$A18,'Base TKU'!$B:$B,\"SUL\")/1000000","v":159.64147199999999},{"$f":"SUMIFS('Base TKU'!BS:BS,'Base TKU'!$A:$A,$A18,'Base TKU'!$B:$B,\"SUL\")/1000000","v":156.637643},{"$f":"SUMIFS('Base TKU'!BT:BT,'Base TKU'!$A:$A,$A18,'Base TKU'!$B:$B,\"SUL\")/1000000","v":171.63832500000001},{"$f":"SUMIFS('Base TKU'!BU:BU,'Base TKU'!$A:$A,$A18,'Base TKU'!$B:$B,\"SUL\")/1000000","v":145.432695},{"$f":"SUMIFS('Base TKU'!BV:BV,'Base TKU'!$A:$A,$A18,'Base TKU'!$B:$B,\"SUL\")/1000000","v":169.32135500000001},{"$f":"SUMIFS('Base TKU'!BW:BW,'Base TKU'!$A:$A,$A18,'Base TKU'!$B:$B,\"SUL\")/1000000","v":156.79630900000001},{"$f":"SUMIFS('Base TKU'!BX:BX,'Base TKU'!$A:$A,$A18,'Base TKU'!$B:$B,\"SUL\")/1000000","v":162.64579000000001},{"$f":"SUMIFS('Base TKU'!BY:BY,'Base TKU'!$A:$A,$A18,'Base TKU'!$B:$B,\"SUL\")/1000000","v":166.47714500000001},{"$f":"SUMIFS('Base TKU'!BZ:BZ,'Base TKU'!$A:$A,$A18,'Base TKU'!$B:$B,\"SUL\")/1000000","v":168.52400399999999},{"$f":"SUMIFS('Base TKU'!CA:CA,'Base TKU'!$A:$A,$A18,'Base TKU'!$B:$B,\"SUL\")/1000000","v":164.40358000000001},{"$f":"SUMIFS('Base TKU'!CB:CB,'Base TKU'!$A:$A,$A18,'Base TKU'!$B:$B,\"SUL\")/1000000","v":153.10808700000001},{"$f":"SUMIFS('Base TKU'!CC:CC,'Base TKU'!$A:$A,$A18,'Base TKU'!$B:$B,\"SUL\")/1000000","v":142.90641099999999},null,{"$f":"SUMIFS('Base TKU'!CE:CE,'Base TKU'!$A:$A,$A18,'Base TKU'!$B:$B,\"SUL\")/1000000","v":145.328427},{"$f":"SUMIFS('Base TKU'!CF:CF,'Base TKU'!$A:$A,$A18,'Base TKU'!$B:$B,\"SUL\")/1000000","v":138.44821200000001},{"$f":"SUMIFS('Base TKU'!CG:CG,'Base TKU'!$A:$A,$A18,'Base TKU'!$B:$B,\"SUL\")/1000000","v":153.88332},{"$f":"SUMIFS('Base TKU'!CH:CH,'Base TKU'!$A:$A,$A18,'Base TKU'!$B:$B,\"SUL\")/1000000","v":144.583415},{"$f":"SUMIFS('Base TKU'!CI:CI,'Base TKU'!$A:$A,$A18,'Base TKU'!$B:$B,\"SUL\")/1000000","v":174.12671800000001},{"$f":"SUMIFS('Base TKU'!CJ:CJ,'Base TKU'!$A:$A,$A18,'Base TKU'!$B:$B,\"SUL\")/1000000","v":0},{"$f":"SUMIFS('Base TKU'!CK:CK,'Base TKU'!$A:$A,$A18,'Base TKU'!$B:$B,\"SUL\")/1000000","v":0},{"$f":"SUMIFS('Base TKU'!CL:CL,'Base TKU'!$A:$A,$A18,'Base TKU'!$B:$B,\"SUL\")/1000000","v":0},{"$f":"SUMIFS('Base TKU'!CM:CM,'Base TKU'!$A:$A,$A18,'Base TKU'!$B:$B,\"SUL\")/1000000","v":0},{"$f":"SUMIFS('Base TKU'!CN:CN,'Base TKU'!$A:$A,$A18,'Base TKU'!$B:$B,\"SUL\")/1000000","v":0},{"$f":"SUMIFS('Base TKU'!CO:CO,'Base TKU'!$A:$A,$A18,'Base TKU'!$B:$B,\"SUL\")/1000000","v":0},{"$f":"SUMIFS('Base TKU'!CP:CP,'Base TKU'!$A:$A,$A18,'Base TKU'!$B:$B,\"SUL\")/1000000","v":0}]
["Madeira, Papel e Celulose",null,{"$f":"SUMIFS('Base TKU'!E:E,'Base TKU'!$A:$A,$A19,'Base TKU'!$B:$B,\"SUL\")/1000000","v":39.271479999999997},{"$f":"SUMIFS('Base TKU'!F:F,'Base TKU'!$A:$A,$A19,'Base TKU'!$B:$B,\"SUL\")/1000000","v":41.010998999999998},{"$f":"SUMIFS('Base TKU'!G:G,'Base TKU'!$A:$A,$A19,'Base TKU'!$B:$B,\"SUL\")/1000000","v":53.520448999999999},{"$f":"SUMIFS('Base TKU'!H:H,'Base TKU'!$A:$A,$A19,'Base TKU'!$B:$B,\"SUL\")/1000000","v":56.006704999999997},{"$f":"SUMIFS('Base TKU'!I:I,'Base TKU'!$A:$A,$A19,'Base TKU'!$B:$B,\"SUL\")/1000000","v":68.264671000000007},{"$f":"SUMIFS('Base TKU'!J:J,'Base TKU'!$A:$A,$A19,'Base TKU'!$B:$B,\"SUL\")/1000000","v":68.705703999999997},{"$f":"SUMIFS('Base TKU'!K:K,'Base TKU'!$A:$A,$A19,'Base TKU'!$B:$B,\"SUL\")/1000000","v":90.784820999999994},{"$f":"SUMIFS('Base TKU'!L:L,'Base TKU'!$A:$A,$A19,'Base TKU'!$B:$B,\"SUL\")/1000000","v":89.140709000000001},{"$f":"SUMIFS('Base TKU'!M:M,'Base TKU'!$A:$A,$A19,'Base TKU'!$B:$B,\"SUL\")/1000000","v":82.280722999999995},{"$f":"SUMIFS('Base TKU'!N:N,'Base TKU'!$A:$A,$A19,'Base TKU'!$B:$B,\"SUL\")/1000000","v":86.509163999999998},{"$f":"SUMIFS('Base TKU'!O:O,'Base TKU'!$A:$A,$A19,'Base TKU'!$B:$B,\"SUL\")/1000000","v":81.662906000000007},{"$f":"SUMIFS('Base TKU'!P:P,'Base TKU'!$A:$A,$A19,'Base TKU'!$B:$B,\"SUL\")/1000000","v":71.449663999999999},null,{"$f":"SUMIFS('Base TKU'!R:R,'Base TKU'!$A:$A,$A19,'Base TKU'!$B:$B,\"SUL\")/1000000","v":66.679985000000002},{"$f":"SUMIFS('Base TKU'!S:S,'Base TKU'!$A:$A,$A19,'Base TKU'!$B:$B,\"SUL\")/1000000","v":42.680686999999999},{"$f":"SUMIFS('Base TKU'!T:T,'Base TKU'!$A:$A,$A19,'Base TKU'!$B:$B,\"SUL\")/1000000","v":74.238529999999997},{"$f":"SUMIFS('Base TKU'!U:U,'Base TKU'!$A:$A,$A19,'Base TKU'!$B:$B,\"SUL\")/1000000","v":78.450040000000001},{"$f":"SUMIFS('Base TKU'!V:V,'Base TKU'!$A:$A,$A19,'Base TKU'!$B:$B,\"SUL\")/1000000","v":92.155349000000001},{"$f":"SUMIFS('Base TKU'!W:W,'Base TKU'!$A:$A,$A19,'Base TKU'!$B:$B,\"SUL\")/1000000","v":89.135938999999993},{"$f":"SUMIFS('Base TKU'!X:X,'Base TKU'!$A:$A,$A19,'Base TKU'!$B:$B,\"SUL\")/1000000","v":90.885902999999999},{"$f":"SUMIFS('Base TKU'!Y:Y,'Base TKU'!$A:$A,$A19,'Base TKU'!$B:$B,\"SUL\")/1000000","v":95.005221000000006},{"$f":"SUMIFS('Base TKU'!Z:Z,'Base TKU'!$A:$A,$A19,'Base TKU'!$B:$B,\"SUL\")/1000000","v":96.33475},{"$f":"SUMIFS('Base TKU'!AA:AA,'Base TKU'!$A:$A,$A19,'Base TKU'!$B:$B,\"SUL\")/1000000","v":93.099720000000005},{"$f":"SUMIFS('Base TKU'!AB:AB,'Base TKU'!$A:$A,$A19,'Base TKU'!$B:$B,\"SUL\")/1000000","v":87.427345000000003},{"$f":"SUMIFS('Base TKU'!AC:AC,'Base TKU'!$A:$A,$A19,'Base TKU'!$B:$B,\"SUL\")/1000000","v":96.234429000000006},null,{"$f":"SUMIFS('Base TKU'!AE:AE,'Base TKU'!$A:$A,$A19,'Base TKU'!$B:$B,\"SUL\")/1000000","v":93.788546999999994},{"$f":"SUMIFS('Base TKU'!AF:AF,'Base TKU'!$A:$A,$A19,'Base TKU'!$B:$B,\"SUL\")/1000000","v":85.493602999999993},{"$f":"SUMIFS('Base TKU'!AG:AG,'Base TKU'!$A:$A,$A19,'Base TKU'!$B:$B,\"SUL\")/1000000","v":56.390697000000003},{"$f":"SUMIFS('Base TKU'!AH:AH,'Base TKU'!$A:$A,$A19,'Base TKU'!$B:$B,\"SUL\")/1000000","v":66.413342999999998},{"$f":"SUMIFS('Base TKU'!AI:AI,'Base TKU'!$A:$A,$A19,'Base TKU'!$B:$B,\"SUL\")/1000000","v":56.414752999999997},{"$f":"SUMIFS('Base TKU'!AJ:AJ,'Base TKU'!$A:$A,$A19,'Base TKU'!$B:$B,\"SUL\")/1000000","v":95.271071000000006},{"$f":"SUMIFS('Base TKU'!AK:AK,'Base TKU'!$A:$A,$A19,'Base TKU'!$B:$B,\"SUL\")/1000000","v":84.781267999999997},{"$f":"SUMIFS('Base TKU'!AL:AL,'Base TKU'!$A:$A,$A19,'Base TKU'!$B:$B,\"SUL\")/1000000","v":105.109363},{"$f":"SUMIFS('Base TKU'!AM:AM,'Base TKU'!$A:$A,$A19,'Base TKU'!$B:$B,\"SUL\")/1000000","v":90.776336000000001},{"$f":"SUMIFS('Base TKU'!AN:AN,'Base TKU'!$A:$A,$A19,'Base TKU'!$B:$B,\"SUL\")/1000000","v":99.935901999999999},{"$f":"SUMIFS('Base TKU'!AO:AO,'Base TKU'!$A:$A,$A19,'Base TKU'!$B:$B,\"SUL\")/1000000","v":88.300899000000001},{"$f":"SUMIFS('Base TKU'!AP:AP,'Base TKU'!$A:$A,$A19,'Base TKU'!$B:$B,\"SUL\")/1000000","v":92.920283999999995},null,{"$f":"SUMIFS('Base TKU'!AR:AR,'Base TKU'!$A:$A,$A19,'Base TKU'!$B:$B,\"SUL\")/1000000","v":87.367407},{"$f":"SUMIFS('Base TKU'!AS:AS,'Base TKU'!$A:$A,$A19,'Base TKU'!$B:$B,\"SUL\")/1000000","v":74.329041000000004},{"$f":"SUMIFS('Base TKU'!AT:AT,'Base TKU'!$A:$A,$A19,'Base TKU'!$B:$B,\"SUL\")/1000000","v":84.445127999999997},{"$f":"SUMIFS('Base TKU'!AU:AU,'Base TKU'!$A:$A,$A19,'Base TKU'!$B:$B,\"SUL\")/1000000","v":70.886548000000005},{"$f":"SUMIFS('Base TKU'!AV:AV,'Base TKU'!$A:$A,$A19,'Base TKU'!$B:$B,\"SUL\")/1000000","v":76.339152999999996},{"$f":"SUMIFS('Base TKU'!AW:AW,'Base TKU'!$A:$A,$A19,'Base TKU'!$B:$B,\"SUL\")/1000000","v":82.758572000000001},{"$f":"SUMIFS('Base TKU'!AX:AX,'Base TKU'!$A:$A,$A19,'Base TKU'!$B:$B,\"SUL\")/1000000","v":75.037268999999995},{"$f":"SUMIFS('Base TKU'!AY:AY,'Base TKU'!$A:$A,$A19,'Base TKU'!$B:$B,\"SUL\")/1000000","v":88.602018000000001},{"$f":"SUMIFS('Base TKU'!AZ:AZ,'Base TKU'!$A:$A,$A19,'Base TKU'!$B:$B,\"SUL\")/1000000","v":84.258656999999999},{"$f":"SUMIFS('Base TKU'!BA:BA,'Base TKU'!$A:$A,$A19,'Base TKU'!$B:$B,\"SUL\")/1000000","v":86.954138999999998},{"$f":"SUMIFS('Base TKU'!BB:BB,'Base TKU'!$A:$A,$A19,'Base TKU'!$B:$B,\"SUL\")/1000000","v":87.908630000000002},{"$f":"SUMIFS('Base TKU'!BC:BC,'Base TKU'!$A:$A,$A19,'Base TKU'!$B:$B,\"SUL\")/1000000","v":84.965933000000007},null,{"$f":"SUMIFS('Base TKU'!BE:BE,'Base TKU'!$A:$A,$A19,'Base TKU'!$B:$B,\"SUL\")/1000000","v":81.487995999999995},{"$f":"SUMIFS('Base TKU'!BF:BF,'Base TKU'!$A:$A,$A19,'Base TKU'!$B:$B,\"SUL\")/1000000","v":38.670603},{"$f":"SUMIFS('Base TKU'!BG:BG,'Base TKU'!$A:$A,$A19,'Base TKU'!$B:$B,\"SUL\")/1000000","v":34.737673999999998},{"$f":"SUMIFS('Base TKU'!BH:BH,'Base TKU'!$A:$A,$A19,'Base TKU'!$B:$B,\"SUL\")/1000000","v":16.049403999999999},{"$f":"SUMIFS('Base TKU'!BI:BI,'Base TKU'!$A:$A,$A19,'Base TKU'!$B:$B,\"SUL\")/1000000","v":35.203684000000003},{"$f":"SUMIFS('Base TKU'!BJ:BJ,'Base TKU'!$A:$A,$A19,'Base TKU'!$B:$B,\"SUL\")/1000000","v":33.983635},{"$f":"SUMIFS('Base TKU'!BK:BK,'Base TKU'!$A:$A,$A19,'Base TKU'!$B:$B,\"SUL\")/1000000","v":73.206428000000002},{"$f":"SUMIFS('Base TKU'!BL:BL,'Base TKU'!$A:$A,$A19,'Base TKU'!$B:$B,\"SUL\")/1000000","v":83.106746000000001},{"$f":"SUMIFS('Base TKU'!BM:BM,'Base TKU'!$A:$A,$A19,'Base TKU'!$B:$B,\"SUL\")/1000000","v":86.564171999999999},{"$f":"SUMIFS('Base TKU'!BN:BN,'Base TKU'!$A:$A,$A19,'Base TKU'!$B:$B,\"SUL\")/1000000","v":79.177233000000001},{"$f":"SUMIFS('Base TKU'!BO:BO,'Base TKU'!$A:$A,$A19,'Base TKU'!$B:$B,\"SUL\")/1000000","v":77.089853000000005},{"$f":"SUMIFS('Base TKU'!BP:BP,'Base TKU'!$A:$A,$A19,'Base TKU'!$B:$B,\"SUL\")/1000000","v":46.338448},null,{"$f":"SUMIFS('Base TKU'!BR:BR,'Base TKU'!$A:$A,$A19,'Base TKU'!$B:$B,\"SUL\")/1000000","v":79.039736000000005},{"$f":"SUMIFS('Base TKU'!BS:BS,'Base TKU'!$A:$A,$A19,'Base TKU'!$B:$B,\"SUL\")/1000000","v":74.568740000000005},{"$f":"SUMIFS('Base TKU'!BT:BT,'Base TKU'!$A:$A,$A19,'Base TKU'!$B:$B,\"SUL\")/1000000","v":74.194892999999993},{"$f":"SUMIFS('Base TKU'!BU:BU,'Base TKU'!$A:$A,$A19,'Base TKU'!$B:$B,\"SUL\")/1000000","v":82.483877000000007},{"$f":"SUMIFS('Base TKU'!BV:BV,'Base TKU'!$A:$A,$A19,'Base TKU'!$B:$B,\"SUL\")/1000000","v":82.267655000000005},{"$f":"SUMIFS('Base TKU'!BW:BW,'Base TKU'!$A:$A,$A19,'Base TKU'!$B:$B,\"SUL\")/1000000","v":72.881084999999999},{"$f":"SUMIFS('Base TKU'!BX:BX,'Base TKU'!$A:$A,$A19,'Base TKU'!$B:$B,\"SUL\")/1000000","v":60.175027},{"$f":"SUMIFS('Base TKU'!BY:BY,'Base TKU'!$A:$A,$A19,'Base TKU'!$B:$B,\"SUL\")/1000000","v":75.382767999999999},{"$f":"SUMIFS('Base TKU'!BZ:BZ,'Base TKU'!$A:$A,$A19,'Base TKU'!$B:$B,\"SUL\")/1000000","v":50.178054000000003},{"$f":"SUMIFS('Base TKU'!CA:CA,'Base TKU'!$A:$A,$A19,'Base TKU'!$B:$B,\"SUL\")/1000000","v":46.641477999999999},{"$f":"SUMIFS('Base TKU'!CB:CB,'Base TKU'!$A:$A,$A19,'Base TKU'!$B:$B,\"SUL\")/1000000","v":43.288106999999997},{"$f":"SUMIFS('Base TKU'!CC:CC,'Base TKU'!$A:$A,$A19,'Base TKU'!$B:$B,\"SUL\")/1000000","v":38.443731999999997},null,{"$f":"SUMIFS('Base TKU'!CE:CE,'Base TKU'!$A:$A,$A19,'Base TKU'!$B:$B,\"SUL\")/1000000","v":32.393967000000004},{"$f":"SUMIFS('Base TKU'!CF:CF,'Base TKU'!$A:$A,$A19,'Base TKU'!$B:$B,\"SUL\")/1000000","v":7.8433809999999999},{"$f":"SUMIFS('Base TKU'!CG:CG,'Base TKU'!$A:$A,$A19,'Base TKU'!$B:$B,\"SUL\")/1000000","v":35.634661000000001},{"$f":"SUMIFS('Base TKU'!CH:CH,'Base TKU'!$A:$A,$A19,'Base TKU'!$B:$B,\"SUL\")/1000000","v":33.682139999999997},{"$f":"SUMIFS('Base TKU'!CI:CI,'Base TKU'!$A:$A,$A19,'Base TKU'!$B:$B,\"SUL\")/1000000","v":32.024670999999998},{"$f":"SUMIFS('Base TKU'!CJ:CJ,'Base TKU'!$A:$A,$A19,'Base TKU'!$B:$B,\"SUL\")/1000000","v":0},{"$f":"SUMIFS('Base TKU'!CK:CK,'Base TKU'!$A:$A,$A19,'Base TKU'!$B:$B,\"SUL\")/1000000","v":0},{"$f":"SUMIFS('Base TKU'!CL:CL,'Base TKU'!$A:$A,$A19,'Base TKU'!$B:$B,\"SUL\")/1000000","v":0},{"$f":"SUMIFS('Base TKU'!CM:CM,'Base TKU'!$A:$A,$A19,'Base TKU'!$B:$B,\"SUL\")/1000000","v":0},{"$f":"SUMIFS('Base TKU'!CN:CN,'Base TKU'!$A:$A,$A19,'Base TKU'!$B:$B,\"SUL\")/1000000","v":0},{"$f":"SUMIFS('Base TKU'!CO:CO,'Base TKU'!$A:$A,$A19,'Base TKU'!$B:$B,\"SUL\")/1000000","v":0},{"$f":"SUMIFS('Base TKU'!CP:CP,'Base TKU'!$A:$A,$A19,'Base TKU'!$B:$B,\"SUL\")/1000000","v":0}]
["Construção Civil",null,{"$f":"SUMIFS('Base TKU'!E:E,'Base TKU'!$A:$A,$A20,'Base TKU'!$B:$B,\"SUL\")/1000000","v":36.146979999999999},{"$f":"SUMIFS('Base TKU'!F:F,'Base TKU'!$A:$A,$A20,'Base TKU'!$B:$B,\"SUL\")/1000000","v":45.827058999999998},{"$f":"SUMIFS('Base TKU'!G:G,'Base TKU'!$A:$A,$A20,'Base TKU'!$B:$B,\"SUL\")/1000000","v":51.114310000000003},{"$f":"SUMIFS('Base TKU'!H:H,'Base TKU'!$A:$A,$A20,'Base TKU'!$B:$B,\"SUL\")/1000000","v":52.249645000000001},{"$f":"SUMIFS('Base TKU'!I:I,'Base TKU'!$A:$A,$A20,'Base TKU'!$B:$B,\"SUL\")/1000000","v":49.190775000000002},{"$f":"SUMIFS('Base TKU'!J:J,'Base TKU'!$A:$A,$A20,'Base TKU'!$B:$B,\"SUL\")/1000000","v":60.071762},{"$f":"SUMIFS('Base TKU'!K:K,'Base TKU'!$A:$A,$A20,'Base TKU'!$B:$B,\"SUL\")/1000000","v":64.777552},{"$f":"SUMIFS('Base TKU'!L:L,'Base TKU'!$A:$A,$A20,'Base TKU'!$B:$B,\"SUL\")/1000000","v":69.127803999999998},{"$f":"SUMIFS('Base TKU'!M:M,'Base TKU'!$A:$A,$A20,'Base TKU'!$B:$B,\"SUL\")/1000000","v":65.878789999999995},{"$f":"SUMIFS('Base TKU'!N:N,'Base TKU'!$A:$A,$A20,'Base TKU'!$B:$B,\"SUL\")/1000000","v":61.566234999999999},{"$f":"SUMIFS('Base TKU'!O:O,'Base TKU'!$A:$A,$A20,'Base TKU'!$B:$B,\"SUL\")/1000000","v":61.028593000000001},{"$f":"SUMIFS('Base TKU'!P:P,'Base TKU'!$A:$A,$A20,'Base TKU'!$B:$B,\"SUL\")/1000000","v":57.386997999999998},null,{"$f":"SUMIFS('Base TKU'!R:R,'Base TKU'!$A:$A,$A20,'Base TKU'!$B:$B,\"SUL\")/1000000","v":65.66601},{"$f":"SUMIFS('Base TKU'!S:S,'Base TKU'!$A:$A,$A20,'Base TKU'!$B:$B,\"SUL\")/1000000","v":55.575082000000002},{"$f":"SUMIFS('Base TKU'!T:T,'Base TKU'!$A:$A,$A20,'Base TKU'!$B:$B,\"SUL\")/1000000","v":59.600560999999999},{"$f":"SUMIFS('Base TKU'!U:U,'Base TKU'!$A:$A,$A20,'Base TKU'!$B:$B,\"SUL\")/1000000","v":56.194758},{"$f":"SUMIFS('Base TKU'!V:V,'Base TKU'!$A:$A,$A20,'Base TKU'!$B:$B,\"SUL\")/1000000","v":65.604108999999994},{"$f":"SUMIFS('Base TKU'!W:W,'Base TKU'!$A:$A,$A20,'Base TKU'!$B:$B,\"SUL\")/1000000","v":50.665117000000002},{"$f":"SUMIFS('Base TKU'!X:X,'Base TKU'!$A:$A,$A20,'Base TKU'!$B:$B,\"SUL\")/1000000","v":63.763026000000004},{"$f":"SUMIFS('Base TKU'!Y:Y,'Base TKU'!$A:$A,$A20,'Base TKU'!$B:$B,\"SUL\")/1000000","v":62.402293999999998},{"$f":"SUMIFS('Base TKU'!Z:Z,'Base TKU'!$A:$A,$A20,'Base TKU'!$B:$B,\"SUL\")/1000000","v":60.580528999999999},{"$f":"SUMIFS('Base TKU'!AA:AA,'Base TKU'!$A:$A,$A20,'Base TKU'!$B:$B,\"SUL\")/1000000","v":64.152682999999996},{"$f":"SUMIFS('Base TKU'!AB:AB,'Base TKU'!$A:$A,$A20,'Base TKU'!$B:$B,\"SUL\")/1000000","v":51.531522000000002},{"$f":"SUMIFS('Base TKU'!AC:AC,'Base TKU'!$A:$A,$A20,'Base TKU'!$B:$B,\"SUL\")/1000000","v":55.288829},null,{"$f":"SUMIFS('Base TKU'!AE:AE,'Base TKU'!$A:$A,$A20,'Base TKU'!$B:$B,\"SUL\")/1000000","v":52.730674999999998},{"$f":"SUMIFS('Base TKU'!AF:AF,'Base TKU'!$A:$A,$A20,'Base TKU'!$B:$B,\"SUL\")/1000000","v":48.090178999999999},{"$f":"SUMIFS('Base TKU'!AG:AG,'Base TKU'!$A:$A,$A20,'Base TKU'!$B:$B,\"SUL\")/1000000","v":56.033644000000002},{"$f":"SUMIFS('Base TKU'!AH:AH,'Base TKU'!$A:$A,$A20,'Base TKU'!$B:$B,\"SUL\")/1000000","v":50.322405000000003},{"$f":"SUMIFS('Base TKU'!AI:AI,'Base TKU'!$A:$A,$A20,'Base TKU'!$B:$B,\"SUL\")/1000000","v":51.599339000000001},{"$f":"SUMIFS('Base TKU'!AJ:AJ,'Base TKU'!$A:$A,$A20,'Base TKU'!$B:$B,\"SUL\")/1000000","v":52.036932},{"$f":"SUMIFS('Base TKU'!AK:AK,'Base TKU'!$A:$A,$A20,'Base TKU'!$B:$B,\"SUL\")/1000000","v":49.466149999999999},{"$f":"SUMIFS('Base TKU'!AL:AL,'Base TKU'!$A:$A,$A20,'Base TKU'!$B:$B,\"SUL\")/1000000","v":46.488675999999998},{"$f":"SUMIFS('Base TKU'!AM:AM,'Base TKU'!$A:$A,$A20,'Base TKU'!$B:$B,\"SUL\")/1000000","v":54.157528999999997},{"$f":"SUMIFS('Base TKU'!AN:AN,'Base TKU'!$A:$A,$A20,'Base TKU'!$B:$B,\"SUL\")/1000000","v":61.839779},{"$f":"SUMIFS('Base TKU'!AO:AO,'Base TKU'!$A:$A,$A20,'Base TKU'!$B:$B,\"SUL\")/1000000","v":59.668979999999998},{"$f":"SUMIFS('Base TKU'!AP:AP,'Base TKU'!$A:$A,$A20,'Base TKU'!$B:$B,\"SUL\")/1000000","v":42.025801999999999},null,{"$f":"SUMIFS('Base TKU'!AR:AR,'Base TKU'!$A:$A,$A20,'Base TKU'!$B:$B,\"SUL\")/1000000","v":54.429172000000001},{"$f":"SUMIFS('Base TKU'!AS:AS,'Base TKU'!$A:$A,$A20,'Base TKU'!$B:$B,\"SUL\")/1000000","v":51.728222000000002},{"$f":"SUMIFS('Base TKU'!AT:AT,'Base TKU'!$A:$A,$A20,'Base TKU'!$B:$B,\"SUL\")/1000000","v":53.895175000000002},{"$f":"SUMIFS('Base TKU'!AU:AU,'Base TKU'!$A:$A,$A20,'Base TKU'!$B:$B,\"SUL\")/1000000","v":43.234752999999998},{"$f":"SUMIFS('Base TKU'!AV:AV,'Base TKU'!$A:$A,$A20,'Base TKU'!$B:$B,\"SUL\")/1000000","v":52.935913999999997},{"$f":"SUMIFS('Base TKU'!AW:AW,'Base TKU'!$A:$A,$A20,'Base TKU'!$B:$B,\"SUL\")/1000000","v":57.029544999999999},{"$f":"SUMIFS('Base TKU'!AX:AX,'Base TKU'!$A:$A,$A20,'Base TKU'!$B:$B,\"SUL\")/1000000","v":56.869478000000001},{"$f":"SUMIFS('Base TKU'!AY:AY,'Base TKU'!$A:$A,$A20,'Base TKU'!$B:$B,\"SUL\")/1000000","v":62.587448999999999},{"$f":"SUMIFS('Base TKU'!AZ:AZ,'Base TKU'!$A:$A,$A20,'Base TKU'!$B:$B,\"SUL\")/1000000","v":56.165497999999999},{"$f":"SUMIFS('Base TKU'!BA:BA,'Base TKU'!$A:$A,$A20,'Base TKU'!$B:$B,\"SUL\")/1000000","v":59.440604},{"$f":"SUMIFS('Base TKU'!BB:BB,'Base TKU'!$A:$A,$A20,'Base TKU'!$B:$B,\"SUL\")/1000000","v":48.727550999999998},{"$f":"SUMIFS('Base TKU'!BC:BC,'Base TKU'!$A:$A,$A20,'Base TKU'!$B:$B,\"SUL\")/1000000","v":47.119295999999999},null,{"$f":"SUMIFS('Base TKU'!BE:BE,'Base TKU'!$A:$A,$A20,'Base TKU'!$B:$B,\"SUL\")/1000000","v":52.785445000000003},{"$f":"SUMIFS('Base TKU'!BF:BF,'Base TKU'!$A:$A,$A20,'Base TKU'!$B:$B,\"SUL\")/1000000","v":55.624032},{"$f":"SUMIFS('Base TKU'!BG:BG,'Base TKU'!$A:$A,$A20,'Base TKU'!$B:$B,\"SUL\")/1000000","v":40.774196000000003},{"$f":"SUMIFS('Base TKU'!BH:BH,'Base TKU'!$A:$A,$A20,'Base TKU'!$B:$B,\"SUL\")/1000000","v":52.201680000000003},{"$f":"SUMIFS('Base TKU'!BI:BI,'Base TKU'!$A:$A,$A20,'Base TKU'!$B:$B,\"SUL\")/1000000","v":63.436933000000003},{"$f":"SUMIFS('Base TKU'!BJ:BJ,'Base TKU'!$A:$A,$A20,'Base TKU'!$B:$B,\"SUL\")/1000000","v":54.593823},{"$f":"SUMIFS('Base TKU'!BK:BK,'Base TKU'!$A:$A,$A20,'Base TKU'!$B:$B,\"SUL\")/1000000","v":51.830165999999998},{"$f":"SUMIFS('Base TKU'!BL:BL,'Base TKU'!$A:$A,$A20,'Base TKU'!$B:$B,\"SUL\")/1000000","v":58.609205000000003},{"$f":"SUMIFS('Base TKU'!BM:BM,'Base TKU'!$A:$A,$A20,'Base TKU'!$B:$B,\"SUL\")/1000000","v":56.657111999999998},{"$f":"SUMIFS('Base TKU'!BN:BN,'Base TKU'!$A:$A,$A20,'Base TKU'!$B:$B,\"SUL\")/1000000","v":70.559619999999995},{"$f":"SUMIFS('Base TKU'!BO:BO,'Base TKU'!$A:$A,$A20,'Base TKU'!$B:$B,\"SUL\")/1000000","v":61.878512999999998},{"$f":"SUMIFS('Base TKU'!BP:BP,'Base TKU'!$A:$A,$A20,'Base TKU'!$B:$B,\"SUL\")/1000000","v":54.786934000000002},null,{"$f":"SUMIFS('Base TKU'!BR:BR,'Base TKU'!$A:$A,$A20,'Base TKU'!$B:$B,\"SUL\")/1000000","v":57.909204000000003},{"$f":"SUMIFS('Base TKU'!BS:BS,'Base TKU'!$A:$A,$A20,'Base TKU'!$B:$B,\"SUL\")/1000000","v":54.774956000000003},{"$f":"SUMIFS('Base TKU'!BT:BT,'Base TKU'!$A:$A,$A20,'Base TKU'!$B:$B,\"SUL\")/1000000","v":66.333736000000002},{"$f":"SUMIFS('Base TKU'!BU:BU,'Base TKU'!$A:$A,$A20,'Base TKU'!$B:$B,\"SUL\")/1000000","v":66.221830999999995},{"$f":"SUMIFS('Base TKU'!BV:BV,'Base TKU'!$A:$A,$A20,'Base TKU'!$B:$B,\"SUL\")/1000000","v":65.085325999999995},{"$f":"SUMIFS('Base TKU'!BW:BW,'Base TKU'!$A:$A,$A20,'Base TKU'!$B:$B,\"SUL\")/1000000","v":62.460762000000003},{"$f":"SUMIFS('Base TKU'!BX:BX,'Base TKU'!$A:$A,$A20,'Base TKU'!$B:$B,\"SUL\")/1000000","v":66.431854999999999},{"$f":"SUMIFS('Base TKU'!BY:BY,'Base TKU'!$A:$A,$A20,'Base TKU'!$B:$B,\"SUL\")/1000000","v":68.781409999999994},{"$f":"SUMIFS('Base TKU'!BZ:BZ,'Base TKU'!$A:$A,$A20,'Base TKU'!$B:$B,\"SUL\")/1000000","v":69.288462999999993},{"$f":"SUMIFS('Base TKU'!CA:CA,'Base TKU'!$A:$A,$A20,'Base TKU'!$B:$B,\"SUL\")/1000000","v":65.171104},{"$f":"SUMIFS('Base TKU'!CB:CB,'Base TKU'!$A:$A,$A20,'Base TKU'!$B:$B,\"SUL\")/1000000","v":64.980664000000004},{"$f":"SUMIFS('Base TKU'!CC:CC,'Base TKU'!$A:$A,$A20,'Base TKU'!$B:$B,\"SUL\")/1000000","v":58.487743999999999},null,{"$f":"SUMIFS('Base TKU'!CE:CE,'Base TKU'!$A:$A,$A20,'Base TKU'!$B:$B,\"SUL\")/1000000","v":58.495223000000003},{"$f":"SUMIFS('Base TKU'!CF:CF,'Base TKU'!$A:$A,$A20,'Base TKU'!$B:$B,\"SUL\")/1000000","v":61.188867999999999},{"$f":"SUMIFS('Base TKU'!CG:CG,'Base TKU'!$A:$A,$A20,'Base TKU'!$B:$B,\"SUL\")/1000000","v":62.708154999999998},{"$f":"SUMIFS('Base TKU'!CH:CH,'Base TKU'!$A:$A,$A20,'Base TKU'!$B:$B,\"SUL\")/1000000","v":57.831187},{"$f":"SUMIFS('Base TKU'!CI:CI,'Base TKU'!$A:$A,$A20,'Base TKU'!$B:$B,\"SUL\")/1000000","v":66.374943999999999},{"$f":"SUMIFS('Base TKU'!CJ:CJ,'Base TKU'!$A:$A,$A20,'Base TKU'!$B:$B,\"SUL\")/1000000","v":0},{"$f":"SUMIFS('Base TKU'!CK:CK,'Base TKU'!$A:$A,$A20,'Base TKU'!$B:$B,\"SUL\")/1000000","v":0},{"$f":"SUMIFS('Base TKU'!CL:CL,'Base TKU'!$A:$A,$A20,'Base TKU'!$B:$B,\"SUL\")/1000000","v":0},{"$f":"SUMIFS('Base TKU'!CM:CM,'Base TKU'!$A:$A,$A20,'Base TKU'!$B:$B,\"SUL\")/1000000","v":0},{"$f":"SUMIFS('Base TKU'!CN:CN,'Base TKU'!$A:$A,$A20,'Base TKU'!$B:$B,\"SUL\")/1000000","v":0},{"$f":"SUMIFS('Base TKU'!CO:CO,'Base TKU'!$A:$A,$A20,'Base TKU'!$B:$B,\"SUL\")/1000000","v":0},{"$f":"SUMIFS('Base TKU'!CP:CP,'Base TKU'!$A:$A,$A20,'Base TKU'!$B:$B,\"SUL\")/1000000","v":0}]
["Siderúrgicos e Mineração",null,{"$f":"SUMIFS('Base TKU'!E:E,'Base TKU'!$A:$A,$A21,'Base TKU'!$B:$B,\"SUL\")/1000000","v":11.981683},{"$f":"SUMIFS('Base TKU'!F:F,'Base TKU'!$A:$A,$A21,'Base TKU'!$B:$B,\"SUL\")/1000000","v":12.486859000000001},{"$f":"SUMIFS('Base TKU'!G:G,'Base TKU'!$A:$A,$A21,'Base TKU'!$B:$B,\"SUL\")/1000000","v":11.328351},{"$f":"SUMIFS('Base TKU'!H:H,'Base TKU'!$A:$A,$A21,'Base TKU'!$B:$B,\"SUL\")/1000000","v":12.560485999999999},{"$f":"SUMIFS('Base TKU'!I:I,'Base TKU'!$A:$A,$A21,'Base TKU'!$B:$B,\"SUL\")/1000000","v":11.963343},{"$f":"SUMIFS('Base TKU'!J:J,'Base TKU'!$A:$A,$A21,'Base TKU'!$B:$B,\"SUL\")/1000000","v":12.065405999999999},{"$f":"SUMIFS('Base TKU'!K:K,'Base TKU'!$A:$A,$A21,'Base TKU'!$B:$B,\"SUL\")/1000000","v":16.838166999999999},{"$f":"SUMIFS('Base TKU'!L:L,'Base TKU'!$A:$A,$A21,'Base TKU'!$B:$B,\"SUL\")/1000000","v":16.863712},{"$f":"SUMIFS('Base TKU'!M:M,'Base TKU'!$A:$A,$A21,'Base TKU'!$B:$B,\"SUL\")/1000000","v":13.094033},{"$f":"SUMIFS('Base TKU'!N:N,'Base TKU'!$A:$A,$A21,'Base TKU'!$B:$B,\"SUL\")/1000000","v":15.568657},{"$f":"SUMIFS('Base TKU'!O:O,'Base TKU'!$A:$A,$A21,'Base TKU'!$B:$B,\"SUL\")/1000000","v":12.042374000000001},{"$f":"SUMIFS('Base TKU'!P:P,'Base TKU'!$A:$A,$A21,'Base TKU'!$B:$B,\"SUL\")/1000000","v":11.348100000000001},null,{"$f":"SUMIFS('Base TKU'!R:R,'Base TKU'!$A:$A,$A21,'Base TKU'!$B:$B,\"SUL\")/1000000","v":11.604011},{"$f":"SUMIFS('Base TKU'!S:S,'Base TKU'!$A:$A,$A21,'Base TKU'!$B:$B,\"SUL\")/1000000","v":13.648709999999999},{"$f":"SUMIFS('Base TKU'!T:T,'Base TKU'!$A:$A,$A21,'Base TKU'!$B:$B,\"SUL\")/1000000","v":15.980219},{"$f":"SUMIFS('Base TKU'!U:U,'Base TKU'!$A:$A,$A21,'Base TKU'!$B:$B,\"SUL\")/1000000","v":17.622260000000001},{"$f":"SUMIFS('Base TKU'!V:V,'Base TKU'!$A:$A,$A21,'Base TKU'!$B:$B,\"SUL\")/1000000","v":21.545950000000001},{"$f":"SUMIFS('Base TKU'!W:W,'Base TKU'!$A:$A,$A21,'Base TKU'!$B:$B,\"SUL\")/1000000","v":22.723616},{"$f":"SUMIFS('Base TKU'!X:X,'Base TKU'!$A:$A,$A21,'Base TKU'!$B:$B,\"SUL\")/1000000","v":22.212719},{"$f":"SUMIFS('Base TKU'!Y:Y,'Base TKU'!$A:$A,$A21,'Base TKU'!$B:$B,\"SUL\")/1000000","v":23.889932999999999},{"$f":"SUMIFS('Base TKU'!Z:Z,'Base TKU'!$A:$A,$A21,'Base TKU'!$B:$B,\"SUL\")/1000000","v":23.593302000000001},{"$f":"SUMIFS('Base TKU'!AA:AA,'Base TKU'!$A:$A,$A21,'Base TKU'!$B:$B,\"SUL\")/1000000","v":23.063084},{"$f":"SUMIFS('Base TKU'!AB:AB,'Base TKU'!$A:$A,$A21,'Base TKU'!$B:$B,\"SUL\")/1000000","v":21.506063999999999},{"$f":"SUMIFS('Base TKU'!AC:AC,'Base TKU'!$A:$A,$A21,'Base TKU'!$B:$B,\"SUL\")/1000000","v":20.553889000000002},null,{"$f":"SUMIFS('Base TKU'!AE:AE,'Base TKU'!$A:$A,$A21,'Base TKU'!$B:$B,\"SUL\")/1000000","v":21.448964},{"$f":"SUMIFS('Base TKU'!AF:AF,'Base TKU'!$A:$A,$A21,'Base TKU'!$B:$B,\"SUL\")/1000000","v":16.945052},{"$f":"SUMIFS('Base TKU'!AG:AG,'Base TKU'!$A:$A,$A21,'Base TKU'!$B:$B,\"SUL\")/1000000","v":20.470600999999998},{"$f":"SUMIFS('Base TKU'!AH:AH,'Base TKU'!$A:$A,$A21,'Base TKU'!$B:$B,\"SUL\")/1000000","v":21.040122},{"$f":"SUMIFS('Base TKU'!AI:AI,'Base TKU'!$A:$A,$A21,'Base TKU'!$B:$B,\"SUL\")/1000000","v":26.387533999999999},{"$f":"SUMIFS('Base TKU'!AJ:AJ,'Base TKU'!$A:$A,$A21,'Base TKU'!$B:$B,\"SUL\")/1000000","v":24.203327999999999},{"$f":"SUMIFS('Base TKU'!AK:AK,'Base TKU'!$A:$A,$A21,'Base TKU'!$B:$B,\"SUL\")/1000000","v":27.219797},{"$f":"SUMIFS('Base TKU'!AL:AL,'Base TKU'!$A:$A,$A21,'Base TKU'!$B:$B,\"SUL\")/1000000","v":26.170072000000001},{"$f":"SUMIFS('Base TKU'!AM:AM,'Base TKU'!$A:$A,$A21,'Base TKU'!$B:$B,\"SUL\")/1000000","v":20.432697999999998},{"$f":"SUMIFS('Base TKU'!AN:AN,'Base TKU'!$A:$A,$A21,'Base TKU'!$B:$B,\"SUL\")/1000000","v":19.776364000000001},{"$f":"SUMIFS('Base TKU'!AO:AO,'Base TKU'!$A:$A,$A21,'Base TKU'!$B:$B,\"SUL\")/1000000","v":20.611857000000001},{"$f":"SUMIFS('Base TKU'!AP:AP,'Base TKU'!$A:$A,$A21,'Base TKU'!$B:$B,\"SUL\")/1000000","v":22.459655999999999},null,{"$f":"SUMIFS('Base TKU'!AR:AR,'Base TKU'!$A:$A,$A21,'Base TKU'!$B:$B,\"SUL\")/1000000","v":17.056806999999999},{"$f":"SUMIFS('Base TKU'!AS:AS,'Base TKU'!$A:$A,$A21,'Base TKU'!$B:$B,\"SUL\")/1000000","v":15.786092999999999},{"$f":"SUMIFS('Base TKU'!AT:AT,'Base TKU'!$A:$A,$A21,'Base TKU'!$B:$B,\"SUL\")/1000000","v":11.671239999999999},{"$f":"SUMIFS('Base TKU'!AU:AU,'Base TKU'!$A:$A,$A21,'Base TKU'!$B:$B,\"SUL\")/1000000","v":18.287856000000001},{"$f":"SUMIFS('Base TKU'!AV:AV,'Base TKU'!$A:$A,$A21,'Base TKU'!$B:$B,\"SUL\")/1000000","v":19.837268000000002},{"$f":"SUMIFS('Base TKU'!AW:AW,'Base TKU'!$A:$A,$A21,'Base TKU'!$B:$B,\"SUL\")/1000000","v":25.195105999999999},{"$f":"SUMIFS('Base TKU'!AX:AX,'Base TKU'!$A:$A,$A21,'Base TKU'!$B:$B,\"SUL\")/1000000","v":24.060924},{"$f":"SUMIFS('Base TKU'!AY:AY,'Base TKU'!$A:$A,$A21,'Base TKU'!$B:$B,\"SUL\")/1000000","v":25.036956},{"$f":"SUMIFS('Base TKU'!AZ:AZ,'Base TKU'!$A:$A,$A21,'Base TKU'!$B:$B,\"SUL\")/1000000","v":22.139714999999999},{"$f":"SUMIFS('Base TKU'!BA:BA,'Base TKU'!$A:$A,$A21,'Base TKU'!$B:$B,\"SUL\")/1000000","v":24.122623000000001},{"$f":"SUMIFS('Base TKU'!BB:BB,'Base TKU'!$A:$A,$A21,'Base TKU'!$B:$B,\"SUL\")/1000000","v":16.098082999999999},{"$f":"SUMIFS('Base TKU'!BC:BC,'Base TKU'!$A:$A,$A21,'Base TKU'!$B:$B,\"SUL\")/1000000","v":4.415597},null,{"$f":"SUMIFS('Base TKU'!BE:BE,'Base TKU'!$A:$A,$A21,'Base TKU'!$B:$B,\"SUL\")/1000000","v":13.600244999999999},{"$f":"SUMIFS('Base TKU'!BF:BF,'Base TKU'!$A:$A,$A21,'Base TKU'!$B:$B,\"SUL\")/1000000","v":10.164129000000001},{"$f":"SUMIFS('Base TKU'!BG:BG,'Base TKU'!$A:$A,$A21,'Base TKU'!$B:$B,\"SUL\")/1000000","v":17.197227000000002},{"$f":"SUMIFS('Base TKU'!BH:BH,'Base TKU'!$A:$A,$A21,'Base TKU'!$B:$B,\"SUL\")/1000000","v":21.039431},{"$f":"SUMIFS('Base TKU'!BI:BI,'Base TKU'!$A:$A,$A21,'Base TKU'!$B:$B,\"SUL\")/1000000","v":10.697236999999999},{"$f":"SUMIFS('Base TKU'!BJ:BJ,'Base TKU'!$A:$A,$A21,'Base TKU'!$B:$B,\"SUL\")/1000000","v":11.269447},{"$f":"SUMIFS('Base TKU'!BK:BK,'Base TKU'!$A:$A,$A21,'Base TKU'!$B:$B,\"SUL\")/1000000","v":15.664167000000001},{"$f":"SUMIFS('Base TKU'!BL:BL,'Base TKU'!$A:$A,$A21,'Base TKU'!$B:$B,\"SUL\")/1000000","v":13.159974999999999},{"$f":"SUMIFS('Base TKU'!BM:BM,'Base TKU'!$A:$A,$A21,'Base TKU'!$B:$B,\"SUL\")/1000000","v":13.545102},{"$f":"SUMIFS('Base TKU'!BN:BN,'Base TKU'!$A:$A,$A21,'Base TKU'!$B:$B,\"SUL\")/1000000","v":1.2199359999999999},{"$f":"SUMIFS('Base TKU'!BO:BO,'Base TKU'!$A:$A,$A21,'Base TKU'!$B:$B,\"SUL\")/1000000","v":4.6880480000000002},{"$f":"SUMIFS('Base TKU'!BP:BP,'Base TKU'!$A:$A,$A21,'Base TKU'!$B:$B,\"SUL\")/1000000","v":10.358955},null,{"$f":"SUMIFS('Base TKU'!BR:BR,'Base TKU'!$A:$A,$A21,'Base TKU'!$B:$B,\"SUL\")/1000000","v":8.832452},{"$f":"SUMIFS('Base TKU'!BS:BS,'Base TKU'!$A:$A,$A21,'Base TKU'!$B:$B,\"SUL\")/1000000","v":9.5641909999999992},{"$f":"SUMIFS('Base TKU'!BT:BT,'Base TKU'!$A:$A,$A21,'Base TKU'!$B:$B,\"SUL\")/1000000","v":17.948843},{"$f":"SUMIFS('Base TKU'!BU:BU,'Base TKU'!$A:$A,$A21,'Base TKU'!$B:$B,\"SUL\")/1000000","v":17.095013999999999},{"$f":"SUMIFS('Base TKU'!BV:BV,'Base TKU'!$A:$A,$A21,'Base TKU'!$B:$B,\"SUL\")/1000000","v":22.573709000000001},{"$f":"SUMIFS('Base TKU'!BW:BW,'Base TKU'!$A:$A,$A21,'Base TKU'!$B:$B,\"SUL\")/1000000","v":19.096163000000001},{"$f":"SUMIFS('Base TKU'!BX:BX,'Base TKU'!$A:$A,$A21,'Base TKU'!$B:$B,\"SUL\")/1000000","v":20.272828000000001},{"$f":"SUMIFS('Base TKU'!BY:BY,'Base TKU'!$A:$A,$A21,'Base TKU'!$B:$B,\"SUL\")/1000000","v":10.595795000000001},{"$f":"SUMIFS('Base TKU'!BZ:BZ,'Base TKU'!$A:$A,$A21,'Base TKU'!$B:$B,\"SUL\")/1000000","v":7.4213719999999999},{"$f":"SUMIFS('Base TKU'!CA:CA,'Base TKU'!$A:$A,$A21,'Base TKU'!$B:$B,\"SUL\")/1000000","v":15.210140000000001},{"$f":"SUMIFS('Base TKU'!CB:CB,'Base TKU'!$A:$A,$A21,'Base TKU'!$B:$B,\"SUL\")/1000000","v":15.585171000000001},{"$f":"SUMIFS('Base TKU'!CC:CC,'Base TKU'!$A:$A,$A21,'Base TKU'!$B:$B,\"SUL\")/1000000","v":15.095236999999999},null,{"$f":"SUMIFS('Base TKU'!CE:CE,'Base TKU'!$A:$A,$A21,'Base TKU'!$B:$B,\"SUL\")/1000000","v":14.353353},{"$f":"SUMIFS('Base TKU'!CF:CF,'Base TKU'!$A:$A,$A21,'Base TKU'!$B:$B,\"SUL\")/1000000","v":6.3924909999999997},{"$f":"SUMIFS('Base TKU'!CG:CG,'Base TKU'!$A:$A,$A21,'Base TKU'!$B:$B,\"SUL\")/1000000","v":17.454597},{"$f":"SUMIFS('Base TKU'!CH:CH,'Base TKU'!$A:$A,$A21,'Base TKU'!$B:$B,\"SUL\")/1000000","v":11.070712},{"$f":"SUMIFS('Base TKU'!CI:CI,'Base TKU'!$A:$A,$A21,'Base TKU'!$B:$B,\"SUL\")/1000000","v":11.962033999999999},{"$f":"SUMIFS('Base TKU'!CJ:CJ,'Base TKU'!$A:$A,$A21,'Base TKU'!$B:$B,\"SUL\")/1000000","v":0},{"$f":"SUMIFS('Base TKU'!CK:CK,'Base TKU'!$A:$A,$A21,'Base TKU'!$B:$B,\"SUL\")/1000000","v":0},{"$f":"SUMIFS('Base TKU'!CL:CL,'Base TKU'!$A:$A,$A21,'Base TKU'!$B:$B,\"SUL\")/1000000","v":0},{"$f":"SUMIFS('Base TKU'!CM:CM,'Base TKU'!$A:$A,$A21,'Base TKU'!$B:$B,\"SUL\")/1000000","v":0},{"$f":"SUMIFS('Base TKU'!CN:CN,'Base TKU'!$A:$A,$A21,'Base TKU'!$B:$B,\"SUL\")/1000000","v":0},{"$f":"SUMIFS('Base TKU'!CO:CO,'Base TKU'!$A:$A,$A21,'Base TKU'!$B:$B,\"SUL\")/1000000","v":0},{"$f":"SUMIFS('Base TKU'!CP:CP,'Base TKU'!$A:$A,$A21,'Base TKU'!$B:$B,\"SUL\")/1000000","v":0}]

{"sheet":"Volume TU Consolidado","index":12,"n_rows":25,"n_cols":93,"rows_kept":25,"cut":false,"hidden":false,"merged":[[3,42,4,42],[3,35,4,35],[3,27,4,27],[3,40,4,40],[3,30,4,30],[3,31,4,31],[3,32,4,32],[3,39,4,39],[3,38,4,38],[3,36,4,36],[3,34,4,34],[3,1,4,1],[3,16,4,16],[3,17,4,17],[3,18,4,18],[3,19,4,19],[3,3,4,3],[3,4,4,4],[3,5,4,5],[3,6,4,6],[3,7,4,7],[3,8,4,8],[3,9,4,9],[3,10,4,10],[3,11,4,11],[3,12,4,12],[3,13,4,13],[3,22,4,22],[3,37,4,37],[3,23,4,23],[3,24,4,24],[3,26,4,26],[3,33,4,33],[3,25,4,25],[3,29,4,29],[3,65,4,65],[3,66,4,66],[3,14,4,14],[3,53,4,53],[3,48,4,48],[3,49,4,49],[3,50,4,50],[3,51,4,51],[3,52,4,52],[3,43,4,43],[3,44,4,44],[3,45,4,45],[3,46,4,46],[3,47,4,47],[3,20,4,20],[3,21,4,21],[3,60,4,60],[3,61,4,61],[3,62,4,62],[3,63,4,63],[3,64,4,64],[3,55,4,55],[3,56,4,56],[3,57,4,57],[3,58,4,58],[3,59,4,59],[3,68,4,68],[3,69,4,69],[3,70,4,70],[3,71,4,71],[3,72,4,72],[3,78,4,78],[3,79,4,79],[3,73,4,73],[3,74,4,74],[3,75,4,75],[3,76,4,76],[3,77,4,77],[3,81,4,81],[3,82,4,82],[3,83,4,83],[3,84,4,84],[3,85,4,85],[3,91,4,91],[3,92,4,92],[3,86,4,86],[3,87,4,87],[3,88,4,88],[3,89,4,89],[3,90,4,90]]}
[]
[null,"Volume TU RI | Consolidado"]
[]
[null,null,null,"2016-01-01","2016-02-01","2016-03-01","2016-04-01","2016-05-01","2016-06-01","2016-07-01","2016-08-01","2016-09-01","2016-10-01","2016-11-01","2016-12-01",null,"2017-01-01","2017-02-01","2017-03-01","2017-04-01","2017-05-01","2017-06-01","2017-07-01","2017-08-01","2017-09-01","2017-10-01","2017-11-01","2017-12-01",null,"2018-01-01","2018-02-01","2018-03-01","2018-04-01","2018-05-01","2018-06-01","2018-07-01","2018-08-01","2018-09-01","2018-10-01","2018-11-01","2018-12-01",null,"2019-01-01","2019-02-01","2019-03-01","2019-04-01","2019-05-01","2019-06-01","2019-07-01","2019-08-01","2019-09-01","2019-10-01","2019-11-01","2019-12-01",null,"2020-01-01","2020-02-01","2020-03-01","2020-04-01","2020-05-01","2020-06-01","2020-07-01","2020-08-01","2020-09-01","2020-10-01","2020-11-01","2020-12-01",null,"2021-01-01","2021-02-01","2021-03-01","2021-04-01","2021-05-01","2021-06-01","2021-07-01","2021-08-01","2021-09-01","2021-10-01","2021-11-01","2021-12-01",null,"2022-01-01","2022-02-01","2022-03-01","2022-04-01","2022-05-01","2022-06-01","2022-07-01","2022-08-01","2022-09-01","2022-10-01","2022-11-01","2022-12-01"]
[]
[null,"Transporte Ferro (TU Mil)",null,{"$f":"SUM(D7,D17,D16)","v":2909.1950000000002},{"$f":"SUM(E7,E17,E16)","v":3118.6780000000008},3786.3539999999998,3852.7069999999999,3858.808,3662.2449999999999,4102.7709999999997,4293.9399999999996,3969.0239999999999,3362.1260000000002,2991.0120000000002,2932.9670000000001,null,2665.3030000000003,3365.7510000000002,4003.8339999999998,3976.0330000000004,4472.5960000000005,4244.2179999999998,4614.9469999999992,4804.3019999999997,4628.6889999999994,4713.4979999999996,4318.1499999999996,4109.3460000000005,0,3411.5789999999997,3955.5920000000001,4605.6480000000001,4521.4909999999991,4470.57,4918.5349999999999,5150.1570000000002,5334.0119999999997,5105.982,4939.817,4954.2089999999998,4579.4708700000001,null,3939.4719999999998,3916.7370000000001,4849.313000000001,4535.7109999999993,4343.2820000000002,5204.0699999999988,5792.1469999999999,5571.4480000000003,5121.8169999999991,5346.7190000000001,5206.2749999999996,3847.0489999999995,null,{"$f":"SUM(BD7,BD17,BD16)","v":3427.9700000000003},4438.8269999999993,3727.259,4924.0169999999998,5475.9210000000003,5076.7950000000001,5666.9120000000012,5622.31,5569.5970000000007,5452.4699999999993,5057.38,4545.0439999999999,null,{"$f":"SUM(BQ7,BQ17,BQ16)","v":2801.241},4187.8909999999996,5588.5680000000002,5690.6620000000003,6090.7030000000004,5617.7000000000007,5803.0749999999998,5127.5930000000008,4722.7,4897.1049999999996,4953.4569999999994,4935.1140000000005,null,{"$f":"SUM(CD7,CD17,CD16)","v":4532.7979999999998},5227.9829999999993,5999.8649999999989,5173.0670000000009,5498.99,0,0,0,0,0,0,0]
[null,"Produtos Agrícolas",null,{"$f":"SUM(D8:D15)","v":2028.933},{"$f":"SUM(E8:E15)","v":2230.5350000000008},{"$f":"SUM(F8:F15)","v":2791.97},{"$f":"SUM(G8:G15)","v":2886.9569999999999},{"$f":"SUM(H8:H15)","v":2819.0059999999999},{"$f":"SUM(I8:I15)","v":2557.9679999999998},{"$f":"SUM(J8:J15)","v":2933.7000000000003},{"$f":"SUM(K8:K15)","v":3089.8029999999999},{"$f":"SUM(L8:L15)","v":2837.098},{"$f":"SUM(M8:M15)","v":2229.2760000000003},{"$f":"SUM(N8:N15)","v":1944.8390000000002},{"$f":"SUM(O8:O15)","v":1968.8820000000001},null,{"$f":"SUM(Q8:Q15)","v":1608.461},{"$f":"SUM(R8:R15)","v":2409.732},{"$f":"SUM(S8:S15)","v":2953.8009999999999},{"$f":"SUM(T8:T15)","v":2945.6790000000005},{"$f":"SUM(U8:U15)","v":3297.1730000000002},{"$f":"SUM(V8:V15)","v":3084.2039999999997},{"$f":"SUM(W8:W15)","v":3390.4339999999997},{"$f":"SUM(X8:X15)","v":3545.4189999999999},{"$f":"SUM(Y8:Y15)","v":3430.2599999999998},{"$f":"SUM(Z8:Z15)","v":3415.8649999999998},{"$f":"SUM(AA8:AA15)","v":3156.7},{"$f":"SUM(AB8:AB15)","v":2932.3050000000003},{"$f":"SUM(AC8:AC14)","v":0},2303.7969999999996,2771.895,3387.1130000000003,3355.4229999999998,3276.7779999999998,3607.431,3794.5609999999997,3924.8399999999997,3756.1419999999998,3562.846,3637.1100000000006,3270.99487,null,{"$f":"SUM(AQ8:AQ15)","v":2749.538},{"$f":"SUM(AR8:AR15)","v":2859.7550000000001},{"$f":"SUM(AS8:AS15)","v":3639.6160000000004},{"$f":"SUM(AT8:AT15)","v":3277.93},{"$f":"SUM(AU8:AU15)","v":3038.1330000000003},{"$f":"SUM(AV8:AV15)","v":3859.7499999999995},{"$f":"SUM(AW8:AW15)","v":4364.2979999999998},{"$f":"SUM(AX8:AX15)","v":4093.971},{"$f":"SUM(AY8:AY15)","v":3696.3619999999996},{"$f":"SUM(AZ8:AZ15)","v":3909.79},{"$f":"SUM(BA8:BA15)","v":3880.9269999999997},{"$f":"SUM(BB8:BB15)","v":2714.9719999999998},null,{"$f":"SUM(BD8:BD15)","v":2239.9960000000005},3240.2280000000001,2753.047,3851.317,4304.143,3883.279,4315.8270000000002,4237.6959999999999,4155.3010000000004,4229.2389999999996,3891.9859999999999,3476.7849999999999,null,{"$f":"SUM(BQ8:BQ15)","v":1636.643},2944.5919999999996,4254.7740000000003,4317.8530000000001,4656.0020000000004,4258.4420000000009,4394.6289999999999,3659.2739999999999,3427.3240000000001,3571.5819999999999,3724.06,3702.08,null,{"$f":"SUM(CD8:CD15)","v":3300.2329999999997},4021.4559999999997,4578.1699999999992,3818.6590000000001,3994.8690000000001,0,0,0,0,0,0,0]
[null,"Soja",null,{"$f":"SUMIFS('Base TU'!E:E,'Base TU'!$A:$A,$B8,'Base TU'!$B:$B,\"Total Operação\")/1000","v":142.74600000000001},{"$f":"SUMIFS('Base TU'!F:F,'Base TU'!$A:$A,$B8,'Base TU'!$B:$B,\"Total Operação\")/1000","v":1528.5630000000001},{"$f":"SUMIFS('Base TU'!G:G,'Base TU'!$A:$A,$B8,'Base TU'!$B:$B,\"Total Operação\")/1000","v":2107.5079999999998},{"$f":"SUMIFS('Base TU'!H:H,'Base TU'!$A:$A,$B8,'Base TU'!$B:$B,\"Total Operação\")/1000","v":2097.5590000000002},{"$f":"SUMIFS('Base TU'!I:I,'Base TU'!$A:$A,$B8,'Base TU'!$B:$B,\"Total Operação\")/1000","v":1680.5550000000001},{"$f":"SUMIFS('Base TU'!J:J,'Base TU'!$A:$A,$B8,'Base TU'!$B:$B,\"Total Operação\")/1000","v":941.28499999999997},{"$f":"SUMIFS('Base TU'!K:K,'Base TU'!$A:$A,$B8,'Base TU'!$B:$B,\"Total Operação\")/1000","v":471.32100000000003},{"$f":"SUMIFS('Base TU'!L:L,'Base TU'!$A:$A,$B8,'Base TU'!$B:$B,\"Total Operação\")/1000","v":259.01400000000001},{"$f":"SUMIFS('Base TU'!M:M,'Base TU'!$A:$A,$B8,'Base TU'!$B:$B,\"Total Operação\")/1000","v":178.351},{"$f":"SUMIFS('Base TU'!N:N,'Base TU'!$A:$A,$B8,'Base TU'!$B:$B,\"Total Operação\")/1000","v":131.99100000000001},{"$f":"SUMIFS('Base TU'!O:O,'Base TU'!$A:$A,$B8,'Base TU'!$B:$B,\"Total Operação\")/1000","v":106.65600000000001},{"$f":"SUMIFS('Base TU'!P:P,'Base TU'!$A:$A,$B8,'Base TU'!$B:$B,\"Total Operação\")/1000","v":165.78399999999999},null,{"$f":"SUMIFS('Base TU'!R:R,'Base TU'!$A:$A,$B8,'Base TU'!$B:$B,\"Total Operação\")/1000","v":609.42399999999998},{"$f":"SUMIFS('Base TU'!S:S,'Base TU'!$A:$A,$B8,'Base TU'!$B:$B,\"Total Operação\")/1000","v":1735.2360000000001},{"$f":"SUMIFS('Base TU'!T:T,'Base TU'!$A:$A,$B8,'Base TU'!$B:$B,\"Total Operação\")/1000","v":2309.471},{"$f":"SUMIFS('Base TU'!U:U,'Base TU'!$A:$A,$B8,'Base TU'!$B:$B,\"Total Operação\")/1000","v":2030.9590000000001},{"$f":"SUMIFS('Base TU'!V:V,'Base TU'!$A:$A,$B8,'Base TU'!$B:$B,\"Total Operação\")/1000","v":1941.127},{"$f":"SUMIFS('Base TU'!W:W,'Base TU'!$A:$A,$B8,'Base TU'!$B:$B,\"Total Operação\")/1000","v":1231.9269999999999},{"$f":"SUMIFS('Base TU'!X:X,'Base TU'!$A:$A,$B8,'Base TU'!$B:$B,\"Total Operação\")/1000","v":769.84699999999998},{"$f":"SUMIFS('Base TU'!Y:Y,'Base TU'!$A:$A,$B8,'Base TU'!$B:$B,\"Total Operação\")/1000","v":531.851},{"$f":"SUMIFS('Base TU'!Z:Z,'Base TU'!$A:$A,$B8,'Base TU'!$B:$B,\"Total Operação\")/1000","v":248.45099999999999},{"$f":"SUMIFS('Base TU'!AA:AA,'Base TU'!$A:$A,$B8,'Base TU'!$B:$B,\"Total Operação\")/1000","v":307.33100000000002},{"$f":"SUMIFS('Base TU'!AB:AB,'Base TU'!$A:$A,$B8,'Base TU'!$B:$B,\"Total Operação\")/1000","v":519.91099999999994},{"$f":"SUMIFS('Base TU'!AC:AC,'Base TU'!$A:$A,$B8,'Base TU'!$B:$B,\"Total Operação\")/1000","v":544.00300000000004},null,{"$f":"SUMIFS('Base TU'!AE:AE,'Base TU'!$A:$A,$B8,'Base TU'!$B:$B,\"Total Operação\")/1000","v":788.63099999999997},{"$f":"SUMIFS('Base TU'!AF:AF,'Base TU'!$A:$A,$B8,'Base TU'!$B:$B,\"Total Operação\")/1000","v":1917.713},{"$f":"SUMIFS('Base TU'!AG:AG,'Base TU'!$A:$A,$B8,'Base TU'!$B:$B,\"Total Operação\")/1000","v":2641.4540000000002},{"$f":"SUMIFS('Base TU'!AH:AH,'Base TU'!$A:$A,$B8,'Base TU'!$B:$B,\"Total Operação\")/1000","v":2517.6149999999998},{"$f":"SUMIFS('Base TU'!AI:AI,'Base TU'!$A:$A,$B8,'Base TU'!$B:$B,\"Total Operação\")/1000","v":2080.9229999999998},{"$f":"SUMIFS('Base TU'!AJ:AJ,'Base TU'!$A:$A,$B8,'Base TU'!$B:$B,\"Total Operação\")/1000","v":2080.9259999999999},{"$f":"SUMIFS('Base TU'!AK:AK,'Base TU'!$A:$A,$B8,'Base TU'!$B:$B,\"Total Operação\")/1000","v":1235.597},{"$f":"SUMIFS('Base TU'!AL:AL,'Base TU'!$A:$A,$B8,'Base TU'!$B:$B,\"Total Operação\")/1000","v":1018.472},{"$f":"SUMIFS('Base TU'!AM:AM,'Base TU'!$A:$A,$B8,'Base TU'!$B:$B,\"Total Operação\")/1000","v":856.22199999999998},{"$f":"SUMIFS('Base TU'!AN:AN,'Base TU'!$A:$A,$B8,'Base TU'!$B:$B,\"Total Operação\")/1000","v":1009.054},{"$f":"SUMIFS('Base TU'!AO:AO,'Base TU'!$A:$A,$B8,'Base TU'!$B:$B,\"Total Operação\")/1000","v":768.97400000000005},{"$f":"SUMIFS('Base TU'!AP:AP,'Base TU'!$A:$A,$B8,'Base TU'!$B:$B,\"Total Operação\")/1000","v":375.79399999999998},null,{"$f":"SUMIFS('Base TU'!AR:AR,'Base TU'!$A:$A,$B8,'Base TU'!$B:$B,\"Total Operação\")/1000","v":1473.443},{"$f":"SUMIFS('Base TU'!AS:AS,'Base TU'!$A:$A,$B8,'Base TU'!$B:$B,\"Total Operação\")/1000","v":2093.7220000000002},{"$f":"SUMIFS('Base TU'!AT:AT,'Base TU'!$A:$A,$B8,'Base TU'!$B:$B,\"Total Operação\")/1000","v":2725.9360000000001},{"$f":"SUMIFS('Base TU'!AU:AU,'Base TU'!$A:$A,$B8,'Base TU'!$B:$B,\"Total Operação\")/1000","v":2114.4549999999999},{"$f":"SUMIFS('Base TU'!AV:AV,'Base TU'!$A:$A,$B8,'Base TU'!$B:$B,\"Total Operação\")/1000","v":1676.4960000000001},{"$f":"SUMIFS('Base TU'!AW:AW,'Base TU'!$A:$A,$B8,'Base TU'!$B:$B,\"Total Operação\")/1000","v":914.74599999999998},{"$f":"SUMIFS('Base TU'!AX:AX,'Base TU'!$A:$A,$B8,'Base TU'!$B:$B,\"Total Operação\")/1000","v":611.33500000000004},{"$f":"SUMIFS('Base TU'!AY:AY,'Base TU'!$A:$A,$B8,'Base TU'!$B:$B,\"Total Operação\")/1000","v":555.49300000000005},{"$f":"SUMIFS('Base TU'!AZ:AZ,'Base TU'!$A:$A,$B8,'Base TU'!$B:$B,\"Total Operação\")/1000","v":535.53499999999997},{"$f":"SUMIFS('Base TU'!BA:BA,'Base TU'!$A:$A,$B8,'Base TU'!$B:$B,\"Total Operação\")/1000","v":910.34400000000005},{"$f":"SUMIFS('Base TU'!BB:BB,'Base TU'!$A:$A,$B8,'Base TU'!$B:$B,\"Total Operação\")/1000","v":857.83100000000002},{"$f":"SUMIFS('Base TU'!BC:BC,'Base TU'!$A:$A,$B8,'Base TU'!$B:$B,\"Total Operação\")/1000","v":376.637},null,{"$f":"SUMIFS('Base TU'!BE:BE,'Base TU'!$A:$A,$B8,'Base TU'!$B:$B,\"Total Operação\")/1000","v":1062.0840000000001},{"$f":"SUMIFS('Base TU'!BF:BF,'Base TU'!$A:$A,$B8,'Base TU'!$B:$B,\"Total Operação\")/1000","v":2204.0410000000002},{"$f":"SUMIFS('Base TU'!BG:BG,'Base TU'!$A:$A,$B8,'Base TU'!$B:$B,\"Total Operação\")/1000","v":1936.8630000000001},{"$f":"SUMIFS('Base TU'!BH:BH,'Base TU'!$A:$A,$B8,'Base TU'!$B:$B,\"Total Operação\")/1000","v":2704.4490000000001},{"$f":"SUMIFS('Base TU'!BI:BI,'Base TU'!$A:$A,$B8,'Base TU'!$B:$B,\"Total Operação\")/1000","v":2797.585},{"$f":"SUMIFS('Base TU'!BJ:BJ,'Base TU'!$A:$A,$B8,'Base TU'!$B:$B,\"Total Operação\")/1000","v":1651.143},{"$f":"SUMIFS('Base TU'!BK:BK,'Base TU'!$A:$A,$B8,'Base TU'!$B:$B,\"Total Operação\")/1000","v":1161.146},{"$f":"SUMIFS('Base TU'!BL:BL,'Base TU'!$A:$A,$B8,'Base TU'!$B:$B,\"Total Operação\")/1000","v":701.78300000000002},{"$f":"SUMIFS('Base TU'!BM:BM,'Base TU'!$A:$A,$B8,'Base TU'!$B:$B,\"Total Operação\")/1000","v":397.161},{"$f":"SUMIFS('Base TU'!BN:BN,'Base TU'!$A:$A,$B8,'Base TU'!$B:$B,\"Total Operação\")/1000","v":201.99799999999999},{"$f":"SUMIFS('Base TU'!BO:BO,'Base TU'!$A:$A,$B8,'Base TU'!$B:$B,\"Total Operação\")/1000","v":62.343000000000004},{"$f":"SUMIFS('Base TU'!BP:BP,'Base TU'!$A:$A,$B8,'Base TU'!$B:$B,\"Total Operação\")/1000","v":58.633000000000003},null,{"$f":"'Volume TU Norte'!BQ8+'Volume TU Sul'!BQ8","v":214.72899999999998},{"$f":"'Volume TU Norte'!BR8+'Volume TU Sul'!BR8","v":1991.434},{"$f":"'Volume TU Norte'!BS8+'Volume TU Sul'!BS8","v":3321.7060000000001},{"$f":"'Volume TU Norte'!BT8+'Volume TU Sul'!BT8","v":3165.8910000000001},{"$f":"'Volume TU Norte'!BU8+'Volume TU Sul'!BU8","v":2992.26},{"$f":"'Volume TU Norte'!BV8+'Volume TU Sul'!BV8","v":2074.8620000000001},{"$f":"'Volume TU Norte'!BW8+'Volume TU Sul'!BW8","v":1039.9450000000002},{"$f":"'Volume TU Norte'!BX8+'Volume TU Sul'!BX8","v":659.173},{"$f":"'Volume TU Norte'!BY8+'Volume TU Sul'!BY8","v":662.35799999999995},{"$f":"'Volume TU Norte'!BZ8+'Volume TU Sul'!BZ8","v":744.83600000000001},{"$f":"'Volume TU Norte'!CA8+'Volume TU Sul'!CA8","v":832.779},{"$f":"'Volume TU Norte'!CB8+'Volume TU Sul'!CB8","v":638.29},null,{"$f":"'Volume TU Norte'!CD8+'Volume TU Sul'!CD8","v":1389.925},{"$f":"'Volume TU Norte'!CE8+'Volume TU Sul'!CE8","v":2866.9129999999996},{"$f":"'Volume TU Norte'!CF8+'Volume TU Sul'!CF8","v":3266.1860000000001},{"$f":"'Volume TU Norte'!CG8+'Volume TU Sul'!CG8","v":2467.9300000000003},{"$f":"'Volume TU Norte'!CH8+'Volume TU Sul'!CH8","v":2272.6770000000001},{"$f":"'Volume TU Norte'!CI8+'Volume TU Sul'!CI8","v":0},{"$f":"'Volume TU Norte'!CJ8+'Volume TU Sul'!CJ8","v":0},{"$f":"'Volume TU Norte'!CK8+'Volume TU Sul'!CK8","v":0},{"$f":"'Volume TU Norte'!CL8+'Volume TU Sul'!CL8","v":0},{"$f":"'Volume TU Norte'!CM8+'Volume TU Sul'!CM8","v":0},{"$f":"'Volume TU Norte'!CN8+'Volume TU Sul'!CN8","v":0},{"$f":"'Volume TU Norte'!CO8+'Volume TU Sul'!CO8","v":0}]
[null,"Farelo de Soja",null,{"$f":"SUMIFS('Base TU'!E:E,'Base TU'!$A:$A,$B9,'Base TU'!$B:$B,\"Total Operação\")/1000","v":201.066},{"$f":"SUMIFS('Base TU'!F:F,'Base TU'!$A:$A,$B9,'Base TU'!$B:$B,\"Total Operação\")/1000","v":310.15899999999999},{"$f":"SUMIFS('Base TU'!G:G,'Base TU'!$A:$A,$B9,'Base TU'!$B:$B,\"Total Operação\")/1000","v":390.72300000000001},{"$f":"SUMIFS('Base TU'!H:H,'Base TU'!$A:$A,$B9,'Base TU'!$B:$B,\"Total Operação\")/1000","v":434.66899999999998},{"$f":"SUMIFS('Base TU'!I:I,'Base TU'!$A:$A,$B9,'Base TU'!$B:$B,\"Total Operação\")/1000","v":400.65300000000002},{"$f":"SUMIFS('Base TU'!J:J,'Base TU'!$A:$A,$B9,'Base TU'!$B:$B,\"Total Operação\")/1000","v":377.34100000000001},{"$f":"SUMIFS('Base TU'!K:K,'Base TU'!$A:$A,$B9,'Base TU'!$B:$B,\"Total Operação\")/1000","v":297.404},{"$f":"SUMIFS('Base TU'!L:L,'Base TU'!$A:$A,$B9,'Base TU'!$B:$B,\"Total Operação\")/1000","v":251.399},{"$f":"SUMIFS('Base TU'!M:M,'Base TU'!$A:$A,$B9,'Base TU'!$B:$B,\"Total Operação\")/1000","v":277.005},{"$f":"SUMIFS('Base TU'!N:N,'Base TU'!$A:$A,$B9,'Base TU'!$B:$B,\"Total Operação\")/1000","v":338.68599999999998},{"$f":"SUMIFS('Base TU'!O:O,'Base TU'!$A:$A,$B9,'Base TU'!$B:$B,\"Total Operação\")/1000","v":367.55200000000002},{"$f":"SUMIFS('Base TU'!P:P,'Base TU'!$A:$A,$B9,'Base TU'!$B:$B,\"Total Operação\")/1000","v":323.33499999999998},null,{"$f":"SUMIFS('Base TU'!R:R,'Base TU'!$A:$A,$B9,'Base TU'!$B:$B,\"Total Operação\")/1000","v":322.85700000000003},{"$f":"SUMIFS('Base TU'!S:S,'Base TU'!$A:$A,$B9,'Base TU'!$B:$B,\"Total Operação\")/1000","v":338.25299999999999},{"$f":"SUMIFS('Base TU'!T:T,'Base TU'!$A:$A,$B9,'Base TU'!$B:$B,\"Total Operação\")/1000","v":416.84699999999998},{"$f":"SUMIFS('Base TU'!U:U,'Base TU'!$A:$A,$B9,'Base TU'!$B:$B,\"Total Operação\")/1000","v":466.62400000000002},{"$f":"SUMIFS('Base TU'!V:V,'Base TU'!$A:$A,$B9,'Base TU'!$B:$B,\"Total Operação\")/1000","v":421.60700000000003},{"$f":"SUMIFS('Base TU'!W:W,'Base TU'!$A:$A,$B9,'Base TU'!$B:$B,\"Total Operação\")/1000","v":358.04},{"$f":"SUMIFS('Base TU'!X:X,'Base TU'!$A:$A,$B9,'Base TU'!$B:$B,\"Total Operação\")/1000","v":416.762},{"$f":"SUMIFS('Base TU'!Y:Y,'Base TU'!$A:$A,$B9,'Base TU'!$B:$B,\"Total Operação\")/1000","v":337.64100000000002},{"$f":"SUMIFS('Base TU'!Z:Z,'Base TU'!$A:$A,$B9,'Base TU'!$B:$B,\"Total Operação\")/1000","v":342.96199999999999},{"$f":"SUMIFS('Base TU'!AA:AA,'Base TU'!$A:$A,$B9,'Base TU'!$B:$B,\"Total Operação\")/1000","v":421.26299999999998},{"$f":"SUMIFS('Base TU'!AB:AB,'Base TU'!$A:$A,$B9,'Base TU'!$B:$B,\"Total Operação\")/1000","v":414.32799999999997},{"$f":"SUMIFS('Base TU'!AC:AC,'Base TU'!$A:$A,$B9,'Base TU'!$B:$B,\"Total Operação\")/1000","v":428.827},null,{"$f":"SUMIFS('Base TU'!AE:AE,'Base TU'!$A:$A,$B9,'Base TU'!$B:$B,\"Total Operação\")/1000","v":371.79199999999997},{"$f":"SUMIFS('Base TU'!AF:AF,'Base TU'!$A:$A,$B9,'Base TU'!$B:$B,\"Total Operação\")/1000","v":412.18799999999999},{"$f":"SUMIFS('Base TU'!AG:AG,'Base TU'!$A:$A,$B9,'Base TU'!$B:$B,\"Total Operação\")/1000","v":466.13900000000001},{"$f":"SUMIFS('Base TU'!AH:AH,'Base TU'!$A:$A,$B9,'Base TU'!$B:$B,\"Total Operação\")/1000","v":510.47300000000001},{"$f":"SUMIFS('Base TU'!AI:AI,'Base TU'!$A:$A,$B9,'Base TU'!$B:$B,\"Total Operação\")/1000","v":422.16399999999999},{"$f":"SUMIFS('Base TU'!AJ:AJ,'Base TU'!$A:$A,$B9,'Base TU'!$B:$B,\"Total Operação\")/1000","v":464.21199999999999},{"$f":"SUMIFS('Base TU'!AK:AK,'Base TU'!$A:$A,$B9,'Base TU'!$B:$B,\"Total Operação\")/1000","v":426.05399999999997},{"$f":"SUMIFS('Base TU'!AL:AL,'Base TU'!$A:$A,$B9,'Base TU'!$B:$B,\"Total Operação\")/1000","v":411.50700000000001},{"$f":"SUMIFS('Base TU'!AM:AM,'Base TU'!$A:$A,$B9,'Base TU'!$B:$B,\"Total Operação\")/1000","v":435.91800000000001},{"$f":"SUMIFS('Base TU'!AN:AN,'Base TU'!$A:$A,$B9,'Base TU'!$B:$B,\"Total Operação\")/1000","v":374.36700000000002},{"$f":"SUMIFS('Base TU'!AO:AO,'Base TU'!$A:$A,$B9,'Base TU'!$B:$B,\"Total Operação\")/1000","v":432.49299999999999},{"$f":"SUMIFS('Base TU'!AP:AP,'Base TU'!$A:$A,$B9,'Base TU'!$B:$B,\"Total Operação\")/1000","v":499.10187000000008},null,{"$f":"SUMIFS('Base TU'!AR:AR,'Base TU'!$A:$A,$B9,'Base TU'!$B:$B,\"Total Operação\")/1000","v":393.57299999999998},{"$f":"SUMIFS('Base TU'!AS:AS,'Base TU'!$A:$A,$B9,'Base TU'!$B:$B,\"Total Operação\")/1000","v":393.024},{"$f":"SUMIFS('Base TU'!AT:AT,'Base TU'!$A:$A,$B9,'Base TU'!$B:$B,\"Total Operação\")/1000","v":521.64599999999996},{"$f":"SUMIFS('Base TU'!AU:AU,'Base TU'!$A:$A,$B9,'Base TU'!$B:$B,\"Total Operação\")/1000","v":521.30100000000004},{"$f":"SUMIFS('Base TU'!AV:AV,'Base TU'!$A:$A,$B9,'Base TU'!$B:$B,\"Total Operação\")/1000","v":488.44499999999999},{"$f":"SUMIFS('Base TU'!AW:AW,'Base TU'!$A:$A,$B9,'Base TU'!$B:$B,\"Total Operação\")/1000","v":550.63300000000004},{"$f":"SUMIFS('Base TU'!AX:AX,'Base TU'!$A:$A,$B9,'Base TU'!$B:$B,\"Total Operação\")/1000","v":519.30499999999995},{"$f":"SUMIFS('Base TU'!AY:AY,'Base TU'!$A:$A,$B9,'Base TU'!$B:$B,\"Total Operação\")/1000","v":401.11599999999999},{"$f":"SUMIFS('Base TU'!AZ:AZ,'Base TU'!$A:$A,$B9,'Base TU'!$B:$B,\"Total Operação\")/1000","v":463.47399999999999},{"$f":"SUMIFS('Base TU'!BA:BA,'Base TU'!$A:$A,$B9,'Base TU'!$B:$B,\"Total Operação\")/1000","v":492.40899999999999},{"$f":"SUMIFS('Base TU'!BB:BB,'Base TU'!$A:$A,$B9,'Base TU'!$B:$B,\"Total Operação\")/1000","v":536.87400000000002},{"$f":"SUMIFS('Base TU'!BC:BC,'Base TU'!$A:$A,$B9,'Base TU'!$B:$B,\"Total Operação\")/1000","v":472.54700000000003},null,{"$f":"SUMIFS('Base TU'!BE:BE,'Base TU'!$A:$A,$B9,'Base TU'!$B:$B,\"Total Operação\")/1000","v":362.15100000000001},{"$f":"SUMIFS('Base TU'!BF:BF,'Base TU'!$A:$A,$B9,'Base TU'!$B:$B,\"Total Operação\")/1000","v":453.77},{"$f":"SUMIFS('Base TU'!BG:BG,'Base TU'!$A:$A,$B9,'Base TU'!$B:$B,\"Total Operação\")/1000","v":477.68299999999999},{"$f":"SUMIFS('Base TU'!BH:BH,'Base TU'!$A:$A,$B9,'Base TU'!$B:$B,\"Total Operação\")/1000","v":539.11699999999996},{"$f":"SUMIFS('Base TU'!BI:BI,'Base TU'!$A:$A,$B9,'Base TU'!$B:$B,\"Total Operação\")/1000","v":540.87599999999998},{"$f":"SUMIFS('Base TU'!BJ:BJ,'Base TU'!$A:$A,$B9,'Base TU'!$B:$B,\"Total Operação\")/1000","v":536.495},{"$f":"SUMIFS('Base TU'!BK:BK,'Base TU'!$A:$A,$B9,'Base TU'!$B:$B,\"Total Operação\")/1000","v":571.58600000000001},{"$f":"SUMIFS('Base TU'!BL:BL,'Base TU'!$A:$A,$B9,'Base TU'!$B:$B,\"Total Operação\")/1000","v":534.12300000000005},{"$f":"SUMIFS('Base TU'!BM:BM,'Base TU'!$A:$A,$B9,'Base TU'!$B:$B,\"Total Operação\")/1000","v":518.57899999999995},{"$f":"SUMIFS('Base TU'!BN:BN,'Base TU'!$A:$A,$B9,'Base TU'!$B:$B,\"Total Operação\")/1000","v":548.96600000000001},{"$f":"SUMIFS('Base TU'!BO:BO,'Base TU'!$A:$A,$B9,'Base TU'!$B:$B,\"Total Operação\")/1000","v":450.41800000000001},{"$f":"SUMIFS('Base TU'!BP:BP,'Base TU'!$A:$A,$B9,'Base TU'!$B:$B,\"Total Operação\")/1000","v":488.26299999999998},null,{"$f":"'Volume TU Norte'!BQ9+'Volume TU Sul'!BQ9","v":334.87599999999998},{"$f":"'Volume TU Norte'!BR9+'Volume TU Sul'!BR9","v":419.029},{"$f":"'Volume TU Norte'!BS9+'Volume TU Sul'!BS9","v":529.52700000000004},{"$f":"'Volume TU Norte'!BT9+'Volume TU Sul'!BT9","v":603.17899999999997},{"$f":"'Volume TU Norte'!BU9+'Volume TU Sul'!BU9","v":582.25199999999995},{"$f":"'Volume TU Norte'!BV9+'Volume TU Sul'!BV9","v":628.71100000000001},{"$f":"'Volume TU Norte'!BW9+'Volume TU Sul'!BW9","v":646.09400000000005},{"$f":"'Volume TU Norte'!BX9+'Volume TU Sul'!BX9","v":587.62},{"$f":"'Volume TU Norte'!BY9+'Volume TU Sul'!BY9","v":560.41300000000001},{"$f":"'Volume TU Norte'!BZ9+'Volume TU Sul'!BZ9","v":503.83800000000002},{"$f":"'Volume TU Norte'!CA9+'Volume TU Sul'!CA9","v":586.56100000000004},{"$f":"'Volume TU Norte'!CB9+'Volume TU Sul'!CB9","v":578.54999999999995},null,{"$f":"'Volume TU Norte'!CD9+'Volume TU Sul'!CD9","v":483.86099999999999},{"$f":"'Volume TU Norte'!CE9+'Volume TU Sul'!CE9","v":530.60500000000002},{"$f":"'Volume TU Norte'!CF9+'Volume TU Sul'!CF9","v":705.74199999999996},{"$f":"'Volume TU Norte'!CG9+'Volume TU Sul'!CG9","v":737.50299999999993},{"$f":"'Volume TU Norte'!CH9+'Volume TU Sul'!CH9","v":685.75800000000004},{"$f":"'Volume TU Norte'!CI9+'Volume TU Sul'!CI9","v":0},{"$f":"'Volume TU Norte'!CJ9+'Volume TU Sul'!CJ9","v":0},{"$f":"'Volume TU Norte'!CK9+'Volume TU Sul'!CK9","v":0},{"$f":"'Volume TU Norte'!CL9+'Volume TU Sul'!CL9","v":0},{"$f":"'Volume TU Norte'!CM9+'Volume TU Sul'!CM9","v":0},{"$f":"'Volume TU Norte'!CN9+'Volume TU Sul'!CN9","v":0},{"$f":"'Volume TU Norte'!CO9+'Volume TU Sul'!CO9","v":0}]
[null,"Milho",null,{"$f":"SUMIFS('Base TU'!E:E,'Base TU'!$A:$A,$B10,'Base TU'!$B:$B,\"Total Operação\")/1000","v":1245.723},{"$f":"SUMIFS('Base TU'!F:F,'Base TU'!$A:$A,$B10,'Base TU'!$B:$B,\"Total Operação\")/1000","v":140.90899999999999},{"$f":"SUMIFS('Base TU'!G:G,'Base TU'!$A:$A,$B10,'Base TU'!$B:$B,\"Total Operação\")/1000","v":1.6819999999999999},{"$f":"SUMIFS('Base TU'!H:H,'Base TU'!$A:$A,$B10,'Base TU'!$B:$B,\"Total Operação\")/1000","v":0},{"$f":"SUMIFS('Base TU'!I:I,'Base TU'!$A:$A,$B10,'Base TU'!$B:$B,\"Total Operação\")/1000","v":0},{"$f":"SUMIFS('Base TU'!J:J,'Base TU'!$A:$A,$B10,'Base TU'!$B:$B,\"Total Operação\")/1000","v":213.88300000000001},{"$f":"SUMIFS('Base TU'!K:K,'Base TU'!$A:$A,$B10,'Base TU'!$B:$B,\"Total Operação\")/1000","v":1271.999},{"$f":"SUMIFS('Base TU'!L:L,'Base TU'!$A:$A,$B10,'Base TU'!$B:$B,\"Total Operação\")/1000","v":1588.8409999999999},{"$f":"SUMIFS('Base TU'!M:M,'Base TU'!$A:$A,$B10,'Base TU'!$B:$B,\"Total Operação\")/1000","v":1316.65},{"$f":"SUMIFS('Base TU'!N:N,'Base TU'!$A:$A,$B10,'Base TU'!$B:$B,\"Total Operação\")/1000","v":510.67},{"$f":"SUMIFS('Base TU'!O:O,'Base TU'!$A:$A,$B10,'Base TU'!$B:$B,\"Total Operação\")/1000","v":344.11200000000002},{"$f":"SUMIFS('Base TU'!P:P,'Base TU'!$A:$A,$B10,'Base TU'!$B:$B,\"Total Operação\")/1000","v":479.88600000000002},null,{"$f":"SUMIFS('Base TU'!R:R,'Base TU'!$A:$A,$B10,'Base TU'!$B:$B,\"Total Operação\")/1000","v":85.296000000000006},{"$f":"SUMIFS('Base TU'!S:S,'Base TU'!$A:$A,$B10,'Base TU'!$B:$B,\"Total Operação\")/1000","v":8.7970000000000006},{"$f":"SUMIFS('Base TU'!T:T,'Base TU'!$A:$A,$B10,'Base TU'!$B:$B,\"Total Operação\")/1000","v":0},{"$f":"SUMIFS('Base TU'!U:U,'Base TU'!$A:$A,$B10,'Base TU'!$B:$B,\"Total Operação\")/1000","v":0},{"$f":"SUMIFS('Base TU'!V:V,'Base TU'!$A:$A,$B10,'Base TU'!$B:$B,\"Total Operação\")/1000","v":7.2930000000000001},{"$f":"SUMIFS('Base TU'!W:W,'Base TU'!$A:$A,$B10,'Base TU'!$B:$B,\"Total Operação\")/1000","v":780.24599999999998},{"$f":"SUMIFS('Base TU'!X:X,'Base TU'!$A:$A,$B10,'Base TU'!$B:$B,\"Total Operação\")/1000","v":1542.625},{"$f":"SUMIFS('Base TU'!Y:Y,'Base TU'!$A:$A,$B10,'Base TU'!$B:$B,\"Total Operação\")/1000","v":1971.538},{"$f":"SUMIFS('Base TU'!Z:Z,'Base TU'!$A:$A,$B10,'Base TU'!$B:$B,\"Total Operação\")/1000","v":2109.0889999999999},{"$f":"SUMIFS('Base TU'!AA:AA,'Base TU'!$A:$A,$B10,'Base TU'!$B:$B,\"Total Operação\")/1000","v":1993.7729999999999},{"$f":"SUMIFS('Base TU'!AB:AB,'Base TU'!$A:$A,$B10,'Base TU'!$B:$B,\"Total Operação\")/1000","v":1553.7929999999999},{"$f":"SUMIFS('Base TU'!AC:AC,'Base TU'!$A:$A,$B10,'Base TU'!$B:$B,\"Total Operação\")/1000","v":1406.125},null,{"$f":"SUMIFS('Base TU'!AE:AE,'Base TU'!$A:$A,$B10,'Base TU'!$B:$B,\"Total Operação\")/1000","v":511.87099999999998},{"$f":"SUMIFS('Base TU'!AF:AF,'Base TU'!$A:$A,$B10,'Base TU'!$B:$B,\"Total Operação\")/1000","v":58.203000000000003},{"$f":"SUMIFS('Base TU'!AG:AG,'Base TU'!$A:$A,$B10,'Base TU'!$B:$B,\"Total Operação\")/1000","v":0},{"$f":"SUMIFS('Base TU'!AH:AH,'Base TU'!$A:$A,$B10,'Base TU'!$B:$B,\"Total Operação\")/1000","v":0},{"$f":"SUMIFS('Base TU'!AI:AI,'Base TU'!$A:$A,$B10,'Base TU'!$B:$B,\"Total Operação\")/1000","v":22.684000000000001},{"$f":"SUMIFS('Base TU'!AJ:AJ,'Base TU'!$A:$A,$B10,'Base TU'!$B:$B,\"Total Operação\")/1000","v":227.17699999999999},{"$f":"SUMIFS('Base TU'!AK:AK,'Base TU'!$A:$A,$B10,'Base TU'!$B:$B,\"Total Operação\")/1000","v":1437.771},{"$f":"SUMIFS('Base TU'!AL:AL,'Base TU'!$A:$A,$B10,'Base TU'!$B:$B,\"Total Operação\")/1000","v":1791.48},{"$f":"SUMIFS('Base TU'!AM:AM,'Base TU'!$A:$A,$B10,'Base TU'!$B:$B,\"Total Operação\")/1000","v":1790.3530000000001},{"$f":"SUMIFS('Base TU'!AN:AN,'Base TU'!$A:$A,$B10,'Base TU'!$B:$B,\"Total Operação\")/1000","v":1424.9639999999999},{"$f":"SUMIFS('Base TU'!AO:AO,'Base TU'!$A:$A,$B10,'Base TU'!$B:$B,\"Total Operação\")/1000","v":1820.7},{"$f":"SUMIFS('Base TU'!AP:AP,'Base TU'!$A:$A,$B10,'Base TU'!$B:$B,\"Total Operação\")/1000","v":1674.0989999999999},null,{"$f":"SUMIFS('Base TU'!AR:AR,'Base TU'!$A:$A,$B10,'Base TU'!$B:$B,\"Total Operação\")/1000","v":388.76299999999998},{"$f":"SUMIFS('Base TU'!AS:AS,'Base TU'!$A:$A,$B10,'Base TU'!$B:$B,\"Total Operação\")/1000","v":106.889},{"$f":"SUMIFS('Base TU'!AT:AT,'Base TU'!$A:$A,$B10,'Base TU'!$B:$B,\"Total Operação\")/1000","v":21.356999999999999},{"$f":"SUMIFS('Base TU'!AU:AU,'Base TU'!$A:$A,$B10,'Base TU'!$B:$B,\"Total Operação\")/1000","v":59.186},{"$f":"SUMIFS('Base TU'!AV:AV,'Base TU'!$A:$A,$B10,'Base TU'!$B:$B,\"Total Operação\")/1000","v":105.342},{"$f":"SUMIFS('Base TU'!AW:AW,'Base TU'!$A:$A,$B10,'Base TU'!$B:$B,\"Total Operação\")/1000","v":1738.048},{"$f":"SUMIFS('Base TU'!AX:AX,'Base TU'!$A:$A,$B10,'Base TU'!$B:$B,\"Total Operação\")/1000","v":2489.866},{"$f":"SUMIFS('Base TU'!AY:AY,'Base TU'!$A:$A,$B10,'Base TU'!$B:$B,\"Total Operação\")/1000","v":2524.502},{"$f":"SUMIFS('Base TU'!AZ:AZ,'Base TU'!$A:$A,$B10,'Base TU'!$B:$B,\"Total Operação\")/1000","v":2139.6},{"$f":"SUMIFS('Base TU'!BA:BA,'Base TU'!$A:$A,$B10,'Base TU'!$B:$B,\"Total Operação\")/1000","v":1938.5640000000001},{"$f":"SUMIFS('Base TU'!BB:BB,'Base TU'!$A:$A,$B10,'Base TU'!$B:$B,\"Total Operação\")/1000","v":1831.6859999999999},{"$f":"SUMIFS('Base TU'!BC:BC,'Base TU'!$A:$A,$B10,'Base TU'!$B:$B,\"Total Operação\")/1000","v":913.41700000000003},null,{"$f":"SUMIFS('Base TU'!BE:BE,'Base TU'!$A:$A,$B10,'Base TU'!$B:$B,\"Total Operação\")/1000","v":88.58},{"$f":"SUMIFS('Base TU'!BF:BF,'Base TU'!$A:$A,$B10,'Base TU'!$B:$B,\"Total Operação\")/1000","v":102.557},{"$f":"SUMIFS('Base TU'!BG:BG,'Base TU'!$A:$A,$B10,'Base TU'!$B:$B,\"Total Operação\")/1000","v":20.268999999999998},{"$f":"SUMIFS('Base TU'!BH:BH,'Base TU'!$A:$A,$B10,'Base TU'!$B:$B,\"Total Operação\")/1000","v":0},{"$f":"SUMIFS('Base TU'!BI:BI,'Base TU'!$A:$A,$B10,'Base TU'!$B:$B,\"Total Operação\")/1000","v":4.1000000000000002E-2},{"$f":"SUMIFS('Base TU'!BJ:BJ,'Base TU'!$A:$A,$B10,'Base TU'!$B:$B,\"Total Operação\")/1000","v":869.98800000000006},{"$f":"SUMIFS('Base TU'!BK:BK,'Base TU'!$A:$A,$B10,'Base TU'!$B:$B,\"Total Operação\")/1000","v":1771.9469999999999},{"$f":"SUMIFS('Base TU'!BL:BL,'Base TU'!$A:$A,$B10,'Base TU'!$B:$B,\"Total Operação\")/1000","v":1999.5540000000001},{"$f":"SUMIFS('Base TU'!BM:BM,'Base TU'!$A:$A,$B10,'Base TU'!$B:$B,\"Total Operação\")/1000","v":1911.519},{"$f":"SUMIFS('Base TU'!BN:BN,'Base TU'!$A:$A,$B10,'Base TU'!$B:$B,\"Total Operação\")/1000","v":1934.6089999999999},{"$f":"SUMIFS('Base TU'!BO:BO,'Base TU'!$A:$A,$B10,'Base TU'!$B:$B,\"Total Operação\")/1000","v":1869.337},{"$f":"SUMIFS('Base TU'!BP:BP,'Base TU'!$A:$A,$B10,'Base TU'!$B:$B,\"Total Operação\")/1000","v":1695.7439999999999},null,{"$f":"'Volume TU Norte'!BQ10+'Volume TU Sul'!BQ10","v":141.40800000000002},{"$f":"'Volume TU Norte'!BR10+'Volume TU Sul'!BR10","v":101.24299999999999},{"$f":"'Volume TU Norte'!BS10+'Volume TU Sul'!BS10","v":9.7650000000000006},{"$f":"'Volume TU Norte'!BT10+'Volume TU Sul'!BT10","v":0},{"$f":"'Volume TU Norte'!BU10+'Volume TU Sul'!BU10","v":0},{"$f":"'Volume TU Norte'!BV10+'Volume TU Sul'!BV10","v":319.69400000000002},{"$f":"'Volume TU Norte'!BW10+'Volume TU Sul'!BW10","v":1776.4659999999999},{"$f":"'Volume TU Norte'!BX10+'Volume TU Sul'!BX10","v":1342.011},{"$f":"'Volume TU Norte'!BY10+'Volume TU Sul'!BY10","v":861.572},{"$f":"'Volume TU Norte'!BZ10+'Volume TU Sul'!BZ10","v":1088.3420000000001},{"$f":"'Volume TU Norte'!CA10+'Volume TU Sul'!CA10","v":1144.566},{"$f":"'Volume TU Norte'!CB10+'Volume TU Sul'!CB10","v":1606.193},null,{"$f":"'Volume TU Norte'!CD10+'Volume TU Sul'!CD10","v":693.46400000000006},{"$f":"'Volume TU Norte'!CE10+'Volume TU Sul'!CE10","v":46.285999999999994},{"$f":"'Volume TU Norte'!CF10+'Volume TU Sul'!CF10","v":65.64},{"$f":"'Volume TU Norte'!CG10+'Volume TU Sul'!CG10","v":293.17500000000001},{"$f":"'Volume TU Norte'!CH10+'Volume TU Sul'!CH10","v":102.05500000000001},{"$f":"'Volume TU Norte'!CI10+'Volume TU Sul'!CI10","v":0},{"$f":"'Volume TU Norte'!CJ10+'Volume TU Sul'!CJ10","v":0},{"$f":"'Volume TU Norte'!CK10+'Volume TU Sul'!CK10","v":0},{"$f":"'Volume TU Norte'!CL10+'Volume TU Sul'!CL10","v":0},{"$f":"'Volume TU Norte'!CM10+'Volume TU Sul'!CM10","v":0},{"$f":"'Volume TU Norte'!CN10+'Volume TU Sul'!CN10","v":0},{"$f":"'Volume TU Norte'!CO10+'Volume TU Sul'!CO10","v":0}]
[null,"Açúcar",null,{"$f":"SUMIFS('Base TU'!E:E,'Base TU'!$A:$A,$B11,'Base TU'!$B:$B,\"Total Operação\")/1000","v":343.24200000000002},{"$f":"SUMIFS('Base TU'!F:F,'Base TU'!$A:$A,$B11,'Base TU'!$B:$B,\"Total Operação\")/1000","v":222.58500000000001},{"$f":"SUMIFS('Base TU'!G:G,'Base TU'!$A:$A,$B11,'Base TU'!$B:$B,\"Total Operação\")/1000","v":259.31900000000002},{"$f":"SUMIFS('Base TU'!H:H,'Base TU'!$A:$A,$B11,'Base TU'!$B:$B,\"Total Operação\")/1000","v":317.08699999999999},{"$f":"SUMIFS('Base TU'!I:I,'Base TU'!$A:$A,$B11,'Base TU'!$B:$B,\"Total Operação\")/1000","v":643.20699999999999},{"$f":"SUMIFS('Base TU'!J:J,'Base TU'!$A:$A,$B11,'Base TU'!$B:$B,\"Total Operação\")/1000","v":906.71199999999999},{"$f":"SUMIFS('Base TU'!K:K,'Base TU'!$A:$A,$B11,'Base TU'!$B:$B,\"Total Operação\")/1000","v":757.60699999999997},{"$f":"SUMIFS('Base TU'!L:L,'Base TU'!$A:$A,$B11,'Base TU'!$B:$B,\"Total Operação\")/1000","v":841.56399999999996},{"$f":"SUMIFS('Base TU'!M:M,'Base TU'!$A:$A,$B11,'Base TU'!$B:$B,\"Total Operação\")/1000","v":869.16},{"$f":"SUMIFS('Base TU'!N:N,'Base TU'!$A:$A,$B11,'Base TU'!$B:$B,\"Total Operação\")/1000","v":1096.123},{"$f":"SUMIFS('Base TU'!O:O,'Base TU'!$A:$A,$B11,'Base TU'!$B:$B,\"Total Operação\")/1000","v":960.16800000000001},{"$f":"SUMIFS('Base TU'!P:P,'Base TU'!$A:$A,$B11,'Base TU'!$B:$B,\"Total Operação\")/1000","v":855.66800000000001},null,{"$f":"SUMIFS('Base TU'!R:R,'Base TU'!$A:$A,$B11,'Base TU'!$B:$B,\"Total Operação\")/1000","v":426.322},{"$f":"SUMIFS('Base TU'!S:S,'Base TU'!$A:$A,$B11,'Base TU'!$B:$B,\"Total Operação\")/1000","v":173.79400000000001},{"$f":"SUMIFS('Base TU'!T:T,'Base TU'!$A:$A,$B11,'Base TU'!$B:$B,\"Total Operação\")/1000","v":156.52699999999999},{"$f":"SUMIFS('Base TU'!U:U,'Base TU'!$A:$A,$B11,'Base TU'!$B:$B,\"Total Operação\")/1000","v":329.55700000000002},{"$f":"SUMIFS('Base TU'!V:V,'Base TU'!$A:$A,$B11,'Base TU'!$B:$B,\"Total Operação\")/1000","v":818.79600000000005},{"$f":"SUMIFS('Base TU'!W:W,'Base TU'!$A:$A,$B11,'Base TU'!$B:$B,\"Total Operação\")/1000","v":636.71400000000006},{"$f":"SUMIFS('Base TU'!X:X,'Base TU'!$A:$A,$B11,'Base TU'!$B:$B,\"Total Operação\")/1000","v":584.45299999999997},{"$f":"SUMIFS('Base TU'!Y:Y,'Base TU'!$A:$A,$B11,'Base TU'!$B:$B,\"Total Operação\")/1000","v":613.09},{"$f":"SUMIFS('Base TU'!Z:Z,'Base TU'!$A:$A,$B11,'Base TU'!$B:$B,\"Total Operação\")/1000","v":630.28700000000003},{"$f":"SUMIFS('Base TU'!AA:AA,'Base TU'!$A:$A,$B11,'Base TU'!$B:$B,\"Total Operação\")/1000","v":583.24},{"$f":"SUMIFS('Base TU'!AB:AB,'Base TU'!$A:$A,$B11,'Base TU'!$B:$B,\"Total Operação\")/1000","v":567.45100000000002},{"$f":"SUMIFS('Base TU'!AC:AC,'Base TU'!$A:$A,$B11,'Base TU'!$B:$B,\"Total Operação\")/1000","v":443.73700000000002},null,{"$f":"SUMIFS('Base TU'!AE:AE,'Base TU'!$A:$A,$B11,'Base TU'!$B:$B,\"Total Operação\")/1000","v":502.69900000000001},{"$f":"SUMIFS('Base TU'!AF:AF,'Base TU'!$A:$A,$B11,'Base TU'!$B:$B,\"Total Operação\")/1000","v":297.03199999999998},{"$f":"SUMIFS('Base TU'!AG:AG,'Base TU'!$A:$A,$B11,'Base TU'!$B:$B,\"Total Operação\")/1000","v":221.357},{"$f":"SUMIFS('Base TU'!AH:AH,'Base TU'!$A:$A,$B11,'Base TU'!$B:$B,\"Total Operação\")/1000","v":254.703},{"$f":"SUMIFS('Base TU'!AI:AI,'Base TU'!$A:$A,$B11,'Base TU'!$B:$B,\"Total Operação\")/1000","v":640.70500000000004},{"$f":"SUMIFS('Base TU'!AJ:AJ,'Base TU'!$A:$A,$B11,'Base TU'!$B:$B,\"Total Operação\")/1000","v":692.89099999999996},{"$f":"SUMIFS('Base TU'!AK:AK,'Base TU'!$A:$A,$B11,'Base TU'!$B:$B,\"Total Operação\")/1000","v":483.19299999999998},{"$f":"SUMIFS('Base TU'!AL:AL,'Base TU'!$A:$A,$B11,'Base TU'!$B:$B,\"Total Operação\")/1000","v":488.12},{"$f":"SUMIFS('Base TU'!AM:AM,'Base TU'!$A:$A,$B11,'Base TU'!$B:$B,\"Total Operação\")/1000","v":525.60400000000004},{"$f":"SUMIFS('Base TU'!AN:AN,'Base TU'!$A:$A,$B11,'Base TU'!$B:$B,\"Total Operação\")/1000","v":601.84799999999996},{"$f":"SUMIFS('Base TU'!AO:AO,'Base TU'!$A:$A,$B11,'Base TU'!$B:$B,\"Total Operação\")/1000","v":340.06099999999998},{"$f":"SUMIFS('Base TU'!AP:AP,'Base TU'!$A:$A,$B11,'Base TU'!$B:$B,\"Total Operação\")/1000","v":373.69299999999998},null,{"$f":"SUMIFS('Base TU'!AR:AR,'Base TU'!$A:$A,$B11,'Base TU'!$B:$B,\"Total Operação\")/1000","v":214.29900000000001},{"$f":"SUMIFS('Base TU'!AS:AS,'Base TU'!$A:$A,$B11,'Base TU'!$B:$B,\"Total Operação\")/1000","v":124.41200000000001},{"$f":"SUMIFS('Base TU'!AT:AT,'Base TU'!$A:$A,$B11,'Base TU'!$B:$B,\"Total Operação\")/1000","v":226.78800000000001},{"$f":"SUMIFS('Base TU'!AU:AU,'Base TU'!$A:$A,$B11,'Base TU'!$B:$B,\"Total Operação\")/1000","v":394.36799999999999},{"$f":"SUMIFS('Base TU'!AV:AV,'Base TU'!$A:$A,$B11,'Base TU'!$B:$B,\"Total Operação\")/1000","v":479.4},{"$f":"SUMIFS('Base TU'!AW:AW,'Base TU'!$A:$A,$B11,'Base TU'!$B:$B,\"Total Operação\")/1000","v":380.56900000000002},{"$f":"SUMIFS('Base TU'!AX:AX,'Base TU'!$A:$A,$B11,'Base TU'!$B:$B,\"Total Operação\")/1000","v":437.48500000000001},{"$f":"SUMIFS('Base TU'!AY:AY,'Base TU'!$A:$A,$B11,'Base TU'!$B:$B,\"Total Operação\")/1000","v":351.40899999999999},{"$f":"SUMIFS('Base TU'!AZ:AZ,'Base TU'!$A:$A,$B11,'Base TU'!$B:$B,\"Total Operação\")/1000","v":381.16},{"$f":"SUMIFS('Base TU'!BA:BA,'Base TU'!$A:$A,$B11,'Base TU'!$B:$B,\"Total Operação\")/1000","v":350.45499999999998},{"$f":"SUMIFS('Base TU'!BB:BB,'Base TU'!$A:$A,$B11,'Base TU'!$B:$B,\"Total Operação\")/1000","v":398.86900000000003},{"$f":"SUMIFS('Base TU'!BC:BC,'Base TU'!$A:$A,$B11,'Base TU'!$B:$B,\"Total Operação\")/1000","v":591.68700000000001},null,{"$f":"SUMIFS('Base TU'!BE:BE,'Base TU'!$A:$A,$B11,'Base TU'!$B:$B,\"Total Operação\")/1000","v":400.38},{"$f":"SUMIFS('Base TU'!BF:BF,'Base TU'!$A:$A,$B11,'Base TU'!$B:$B,\"Total Operação\")/1000","v":266.399},{"$f":"SUMIFS('Base TU'!BG:BG,'Base TU'!$A:$A,$B11,'Base TU'!$B:$B,\"Total Operação\")/1000","v":217.00299999999999},{"$f":"SUMIFS('Base TU'!BH:BH,'Base TU'!$A:$A,$B11,'Base TU'!$B:$B,\"Total Operação\")/1000","v":360.52300000000002},{"$f":"SUMIFS('Base TU'!BI:BI,'Base TU'!$A:$A,$B11,'Base TU'!$B:$B,\"Total Operação\")/1000","v":650.20399999999995},{"$f":"SUMIFS('Base TU'!BJ:BJ,'Base TU'!$A:$A,$B11,'Base TU'!$B:$B,\"Total Operação\")/1000","v":535.26300000000003},{"$f":"SUMIFS('Base TU'!BK:BK,'Base TU'!$A:$A,$B11,'Base TU'!$B:$B,\"Total Operação\")/1000","v":496.44},{"$f":"SUMIFS('Base TU'!BL:BL,'Base TU'!$A:$A,$B11,'Base TU'!$B:$B,\"Total Operação\")/1000","v":772.58},{"$f":"SUMIFS('Base TU'!BM:BM,'Base TU'!$A:$A,$B11,'Base TU'!$B:$B,\"Total Operação\")/1000","v":1080.2809999999999},{"$f":"SUMIFS('Base TU'!BN:BN,'Base TU'!$A:$A,$B11,'Base TU'!$B:$B,\"Total Operação\")/1000","v":1204.5820000000001},{"$f":"SUMIFS('Base TU'!BO:BO,'Base TU'!$A:$A,$B11,'Base TU'!$B:$B,\"Total Operação\")/1000","v":1090.213},{"$f":"SUMIFS('Base TU'!BP:BP,'Base TU'!$A:$A,$B11,'Base TU'!$B:$B,\"Total Operação\")/1000","v":831.93499999999995},null,{"$f":"'Volume TU Norte'!BQ11+'Volume TU Sul'!BQ11","v":611.04700000000003},{"$f":"'Volume TU Norte'!BR11+'Volume TU Sul'!BR11","v":150.06},{"$f":"'Volume TU Norte'!BS11+'Volume TU Sul'!BS11","v":236.76299999999998},{"$f":"'Volume TU Norte'!BT11+'Volume TU Sul'!BT11","v":359.12799999999999},{"$f":"'Volume TU Norte'!BU11+'Volume TU Sul'!BU11","v":856.17700000000002},{"$f":"'Volume TU Norte'!BV11+'Volume TU Sul'!BV11","v":988.53899999999999},{"$f":"'Volume TU Norte'!BW11+'Volume TU Sul'!BW11","v":512.90200000000004},{"$f":"'Volume TU Norte'!BX11+'Volume TU Sul'!BX11","v":618.45900000000006},{"$f":"'Volume TU Norte'!BY11+'Volume TU Sul'!BY11","v":995.62099999999998},{"$f":"'Volume TU Norte'!BZ11+'Volume TU Sul'!BZ11","v":883.47499999999991},{"$f":"'Volume TU Norte'!CA11+'Volume TU Sul'!CA11","v":754.71199999999999},{"$f":"'Volume TU Norte'!CB11+'Volume TU Sul'!CB11","v":442.62299999999999},null,{"$f":"'Volume TU Norte'!CD11+'Volume TU Sul'!CD11","v":338.61500000000001},{"$f":"'Volume TU Norte'!CE11+'Volume TU Sul'!CE11","v":99.456999999999994},{"$f":"'Volume TU Norte'!CF11+'Volume TU Sul'!CF11","v":209.49600000000001},{"$f":"'Volume TU Norte'!CG11+'Volume TU Sul'!CG11","v":170.34800000000001},{"$f":"'Volume TU Norte'!CH11+'Volume TU Sul'!CH11","v":584.86099999999999},{"$f":"'Volume TU Norte'!CI11+'Volume TU Sul'!CI11","v":0},{"$f":"'Volume TU Norte'!CJ11+'Volume TU Sul'!CJ11","v":0},{"$f":"'Volume TU Norte'!CK11+'Volume TU Sul'!CK11","v":0},{"$f":"'Volume TU Norte'!CL11+'Volume TU Sul'!CL11","v":0},{"$f":"'Volume TU Norte'!CM11+'Volume TU Sul'!CM11","v":0},{"$f":"'Volume TU Norte'!CN11+'Volume TU Sul'!CN11","v":0},{"$f":"'Volume TU Norte'!CO11+'Volume TU Sul'!CO11","v":0}]
[null,"Fertilizantes",null,{"$f":"SUMIFS('Base TU'!E:E,'Base TU'!$A:$A,$B12,'Base TU'!$B:$B,\"Total Operação\")/1000","v":40.015999999999998},{"$f":"SUMIFS('Base TU'!F:F,'Base TU'!$A:$A,$B12,'Base TU'!$B:$B,\"Total Operação\")/1000","v":26.385000000000002},{"$f":"SUMIFS('Base TU'!G:G,'Base TU'!$A:$A,$B12,'Base TU'!$B:$B,\"Total Operação\")/1000","v":29.763999999999999},{"$f":"SUMIFS('Base TU'!H:H,'Base TU'!$A:$A,$B12,'Base TU'!$B:$B,\"Total Operação\")/1000","v":37.642000000000003},{"$f":"SUMIFS('Base TU'!I:I,'Base TU'!$A:$A,$B12,'Base TU'!$B:$B,\"Total Operação\")/1000","v":94.590999999999994},{"$f":"SUMIFS('Base TU'!J:J,'Base TU'!$A:$A,$B12,'Base TU'!$B:$B,\"Total Operação\")/1000","v":118.747},{"$f":"SUMIFS('Base TU'!K:K,'Base TU'!$A:$A,$B12,'Base TU'!$B:$B,\"Total Operação\")/1000","v":135.369},{"$f":"SUMIFS('Base TU'!L:L,'Base TU'!$A:$A,$B12,'Base TU'!$B:$B,\"Total Operação\")/1000","v":148.98500000000001},{"$f":"SUMIFS('Base TU'!M:M,'Base TU'!$A:$A,$B12,'Base TU'!$B:$B,\"Total Operação\")/1000","v":195.93199999999999},{"$f":"SUMIFS('Base TU'!N:N,'Base TU'!$A:$A,$B12,'Base TU'!$B:$B,\"Total Operação\")/1000","v":149.495},{"$f":"SUMIFS('Base TU'!O:O,'Base TU'!$A:$A,$B12,'Base TU'!$B:$B,\"Total Operação\")/1000","v":157.22999999999999},{"$f":"SUMIFS('Base TU'!P:P,'Base TU'!$A:$A,$B12,'Base TU'!$B:$B,\"Total Operação\")/1000","v":121.94},null,{"$f":"SUMIFS('Base TU'!R:R,'Base TU'!$A:$A,$B12,'Base TU'!$B:$B,\"Total Operação\")/1000","v":101.56399999999999},{"$f":"SUMIFS('Base TU'!S:S,'Base TU'!$A:$A,$B12,'Base TU'!$B:$B,\"Total Operação\")/1000","v":70.692999999999998},{"$f":"SUMIFS('Base TU'!T:T,'Base TU'!$A:$A,$B12,'Base TU'!$B:$B,\"Total Operação\")/1000","v":52.874000000000002},{"$f":"SUMIFS('Base TU'!U:U,'Base TU'!$A:$A,$B12,'Base TU'!$B:$B,\"Total Operação\")/1000","v":118.539},{"$f":"SUMIFS('Base TU'!V:V,'Base TU'!$A:$A,$B12,'Base TU'!$B:$B,\"Total Operação\")/1000","v":108.35},{"$f":"SUMIFS('Base TU'!W:W,'Base TU'!$A:$A,$B12,'Base TU'!$B:$B,\"Total Operação\")/1000","v":77.277000000000001},{"$f":"SUMIFS('Base TU'!X:X,'Base TU'!$A:$A,$B12,'Base TU'!$B:$B,\"Total Operação\")/1000","v":76.747},{"$f":"SUMIFS('Base TU'!Y:Y,'Base TU'!$A:$A,$B12,'Base TU'!$B:$B,\"Total Operação\")/1000","v":91.299000000000007},{"$f":"SUMIFS('Base TU'!Z:Z,'Base TU'!$A:$A,$B12,'Base TU'!$B:$B,\"Total Operação\")/1000","v":99.471000000000004},{"$f":"SUMIFS('Base TU'!AA:AA,'Base TU'!$A:$A,$B12,'Base TU'!$B:$B,\"Total Operação\")/1000","v":110.258},{"$f":"SUMIFS('Base TU'!AB:AB,'Base TU'!$A:$A,$B12,'Base TU'!$B:$B,\"Total Operação\")/1000","v":95.177000000000007},{"$f":"SUMIFS('Base TU'!AC:AC,'Base TU'!$A:$A,$B12,'Base TU'!$B:$B,\"Total Operação\")/1000","v":96.216999999999999},null,{"$f":"SUMIFS('Base TU'!AE:AE,'Base TU'!$A:$A,$B12,'Base TU'!$B:$B,\"Total Operação\")/1000","v":101.39400000000001},{"$f":"SUMIFS('Base TU'!AF:AF,'Base TU'!$A:$A,$B12,'Base TU'!$B:$B,\"Total Operação\")/1000","v":79.974999999999994},{"$f":"SUMIFS('Base TU'!AG:AG,'Base TU'!$A:$A,$B12,'Base TU'!$B:$B,\"Total Operação\")/1000","v":58.162999999999997},{"$f":"SUMIFS('Base TU'!AH:AH,'Base TU'!$A:$A,$B12,'Base TU'!$B:$B,\"Total Operação\")/1000","v":72.632000000000005},{"$f":"SUMIFS('Base TU'!AI:AI,'Base TU'!$A:$A,$B12,'Base TU'!$B:$B,\"Total Operação\")/1000","v":110.30200000000001},{"$f":"SUMIFS('Base TU'!AJ:AJ,'Base TU'!$A:$A,$B12,'Base TU'!$B:$B,\"Total Operação\")/1000","v":142.22499999999999},{"$f":"SUMIFS('Base TU'!AK:AK,'Base TU'!$A:$A,$B12,'Base TU'!$B:$B,\"Total Operação\")/1000","v":211.946},{"$f":"SUMIFS('Base TU'!AL:AL,'Base TU'!$A:$A,$B12,'Base TU'!$B:$B,\"Total Operação\")/1000","v":215.261},{"$f":"SUMIFS('Base TU'!AM:AM,'Base TU'!$A:$A,$B12,'Base TU'!$B:$B,\"Total Operação\")/1000","v":148.04499999999999},{"$f":"SUMIFS('Base TU'!AN:AN,'Base TU'!$A:$A,$B12,'Base TU'!$B:$B,\"Total Operação\")/1000","v":152.613},{"$f":"SUMIFS('Base TU'!AO:AO,'Base TU'!$A:$A,$B12,'Base TU'!$B:$B,\"Total Operação\")/1000","v":217.358},{"$f":"SUMIFS('Base TU'!AP:AP,'Base TU'!$A:$A,$B12,'Base TU'!$B:$B,\"Total Operação\")/1000","v":261.14299999999997},null,{"$f":"SUMIFS('Base TU'!AR:AR,'Base TU'!$A:$A,$B12,'Base TU'!$B:$B,\"Total Operação\")/1000","v":232.57499999999999},{"$f":"SUMIFS('Base TU'!AS:AS,'Base TU'!$A:$A,$B12,'Base TU'!$B:$B,\"Total Operação\")/1000","v":136.28800000000001},{"$f":"SUMIFS('Base TU'!AT:AT,'Base TU'!$A:$A,$B12,'Base TU'!$B:$B,\"Total Operação\")/1000","v":143.88900000000001},{"$f":"SUMIFS('Base TU'!AU:AU,'Base TU'!$A:$A,$B12,'Base TU'!$B:$B,\"Total Operação\")/1000","v":188.62},{"$f":"SUMIFS('Base TU'!AV:AV,'Base TU'!$A:$A,$B12,'Base TU'!$B:$B,\"Total Operação\")/1000","v":288.45},{"$f":"SUMIFS('Base TU'!AW:AW,'Base TU'!$A:$A,$B12,'Base TU'!$B:$B,\"Total Operação\")/1000","v":275.75400000000002},{"$f":"SUMIFS('Base TU'!AX:AX,'Base TU'!$A:$A,$B12,'Base TU'!$B:$B,\"Total Operação\")/1000","v":306.30700000000002},{"$f":"SUMIFS('Base TU'!AY:AY,'Base TU'!$A:$A,$B12,'Base TU'!$B:$B,\"Total Operação\")/1000","v":261.45100000000002},{"$f":"SUMIFS('Base TU'!AZ:AZ,'Base TU'!$A:$A,$B12,'Base TU'!$B:$B,\"Total Operação\")/1000","v":176.59299999999999},{"$f":"SUMIFS('Base TU'!BA:BA,'Base TU'!$A:$A,$B12,'Base TU'!$B:$B,\"Total Operação\")/1000","v":218.018},{"$f":"SUMIFS('Base TU'!BB:BB,'Base TU'!$A:$A,$B12,'Base TU'!$B:$B,\"Total Operação\")/1000","v":247.828},{"$f":"SUMIFS('Base TU'!BC:BC,'Base TU'!$A:$A,$B12,'Base TU'!$B:$B,\"Total Operação\")/1000","v":292.017},null,{"$f":"SUMIFS('Base TU'!BE:BE,'Base TU'!$A:$A,$B12,'Base TU'!$B:$B,\"Total Operação\")/1000","v":272.86500000000001},{"$f":"SUMIFS('Base TU'!BF:BF,'Base TU'!$A:$A,$B12,'Base TU'!$B:$B,\"Total Operação\")/1000","v":211.18799999999999},{"$f":"SUMIFS('Base TU'!BG:BG,'Base TU'!$A:$A,$B12,'Base TU'!$B:$B,\"Total Operação\")/1000","v":101.229},{"$f":"SUMIFS('Base TU'!BH:BH,'Base TU'!$A:$A,$B12,'Base TU'!$B:$B,\"Total Operação\")/1000","v":247.22800000000001},{"$f":"SUMIFS('Base TU'!BI:BI,'Base TU'!$A:$A,$B12,'Base TU'!$B:$B,\"Total Operação\")/1000","v":315.43700000000001},{"$f":"SUMIFS('Base TU'!BJ:BJ,'Base TU'!$A:$A,$B12,'Base TU'!$B:$B,\"Total Operação\")/1000","v":290.39},{"$f":"SUMIFS('Base TU'!BK:BK,'Base TU'!$A:$A,$B12,'Base TU'!$B:$B,\"Total Operação\")/1000","v":314.70800000000003},{"$f":"SUMIFS('Base TU'!BL:BL,'Base TU'!$A:$A,$B12,'Base TU'!$B:$B,\"Total Operação\")/1000","v":229.65600000000001},{"$f":"SUMIFS('Base TU'!BM:BM,'Base TU'!$A:$A,$B12,'Base TU'!$B:$B,\"Total Operação\")/1000","v":247.761},{"$f":"SUMIFS('Base TU'!BN:BN,'Base TU'!$A:$A,$B12,'Base TU'!$B:$B,\"Total Operação\")/1000","v":322.07100000000003},{"$f":"SUMIFS('Base TU'!BO:BO,'Base TU'!$A:$A,$B12,'Base TU'!$B:$B,\"Total Operação\")/1000","v":313.08699999999999},{"$f":"SUMIFS('Base TU'!BP:BP,'Base TU'!$A:$A,$B12,'Base TU'!$B:$B,\"Total Operação\")/1000","v":309.625},null,{"$f":"'Volume TU Norte'!BQ12+'Volume TU Sul'!BQ12","v":329.63},{"$f":"'Volume TU Norte'!BR12+'Volume TU Sul'!BR12","v":282.82600000000002},{"$f":"'Volume TU Norte'!BS12+'Volume TU Sul'!BS12","v":157.01299999999998},{"$f":"'Volume TU Norte'!BT12+'Volume TU Sul'!BT12","v":189.655},{"$f":"'Volume TU Norte'!BU12+'Volume TU Sul'!BU12","v":225.31299999999999},{"$f":"'Volume TU Norte'!BV12+'Volume TU Sul'!BV12","v":246.636},{"$f":"'Volume TU Norte'!BW12+'Volume TU Sul'!BW12","v":419.22199999999998},{"$f":"'Volume TU Norte'!BX12+'Volume TU Sul'!BX12","v":452.01099999999997},{"$f":"'Volume TU Norte'!BY12+'Volume TU Sul'!BY12","v":347.36},{"$f":"'Volume TU Norte'!BZ12+'Volume TU Sul'!BZ12","v":349.70699999999999},{"$f":"'Volume TU Norte'!CA12+'Volume TU Sul'!CA12","v":294.137},{"$f":"'Volume TU Norte'!CB12+'Volume TU Sul'!CB12","v":284.339},null,{"$f":"'Volume TU Norte'!CD12+'Volume TU Sul'!CD12","v":256.33},{"$f":"'Volume TU Norte'!CE12+'Volume TU Sul'!CE12","v":305.63},{"$f":"'Volume TU Norte'!CF12+'Volume TU Sul'!CF12","v":267.94},{"$f":"'Volume TU Norte'!CG12+'Volume TU Sul'!CG12","v":141.69999999999999},{"$f":"'Volume TU Norte'!CH12+'Volume TU Sul'!CH12","v":348.26300000000003},{"$f":"'Volume TU Norte'!CI12+'Volume TU Sul'!CI12","v":0},{"$f":"'Volume TU Norte'!CJ12+'Volume TU Sul'!CJ12","v":0},{"$f":"'Volume TU Norte'!CK12+'Volume TU Sul'!CK12","v":0},{"$f":"'Volume TU Norte'!CL12+'Volume TU Sul'!CL12","v":0},{"$f":"'Volume TU Norte'!CM12+'Volume TU Sul'!CM12","v":0},{"$f":"'Volume TU Norte'!CN12+'Volume TU Sul'!CN12","v":0},{"$f":"'Volume TU Norte'!CO12+'Volume TU Sul'!CO12","v":0}]
[null,"Trigo",null,{"$f":"SUMIFS('Base TU'!E:E,'Base TU'!$A:$A,$B13,'Base TU'!$B:$B,\"Total Operação\")/1000","v":56.14},{"$f":"SUMIFS('Base TU'!F:F,'Base TU'!$A:$A,$B13,'Base TU'!$B:$B,\"Total Operação\")/1000","v":1.9339999999999999},{"$f":"SUMIFS('Base TU'!G:G,'Base TU'!$A:$A,$B13,'Base TU'!$B:$B,\"Total Operação\")/1000","v":2.9740000000000002},{"$f":"SUMIFS('Base TU'!H:H,'Base TU'!$A:$A,$B13,'Base TU'!$B:$B,\"Total Operação\")/1000","v":0},{"$f":"SUMIFS('Base TU'!I:I,'Base TU'!$A:$A,$B13,'Base TU'!$B:$B,\"Total Operação\")/1000","v":0},{"$f":"SUMIFS('Base TU'!J:J,'Base TU'!$A:$A,$B13,'Base TU'!$B:$B,\"Total Operação\")/1000","v":0},{"$f":"SUMIFS('Base TU'!K:K,'Base TU'!$A:$A,$B13,'Base TU'!$B:$B,\"Total Operação\")/1000","v":0},{"$f":"SUMIFS('Base TU'!L:L,'Base TU'!$A:$A,$B13,'Base TU'!$B:$B,\"Total Operação\")/1000","v":0},{"$f":"SUMIFS('Base TU'!M:M,'Base TU'!$A:$A,$B13,'Base TU'!$B:$B,\"Total Operação\")/1000","v":0},{"$f":"SUMIFS('Base TU'!N:N,'Base TU'!$A:$A,$B13,'Base TU'!$B:$B,\"Total Operação\")/1000","v":0},{"$f":"SUMIFS('Base TU'!O:O,'Base TU'!$A:$A,$B13,'Base TU'!$B:$B,\"Total Operação\")/1000","v":9.1210000000000004},{"$f":"SUMIFS('Base TU'!P:P,'Base TU'!$A:$A,$B13,'Base TU'!$B:$B,\"Total Operação\")/1000","v":22.268999999999998},null,{"$f":"SUMIFS('Base TU'!R:R,'Base TU'!$A:$A,$B13,'Base TU'!$B:$B,\"Total Operação\")/1000","v":62.997999999999998},{"$f":"SUMIFS('Base TU'!S:S,'Base TU'!$A:$A,$B13,'Base TU'!$B:$B,\"Total Operação\")/1000","v":82.959000000000003},{"$f":"SUMIFS('Base TU'!T:T,'Base TU'!$A:$A,$B13,'Base TU'!$B:$B,\"Total Operação\")/1000","v":18.082000000000001},{"$f":"SUMIFS('Base TU'!U:U,'Base TU'!$A:$A,$B13,'Base TU'!$B:$B,\"Total Operação\")/1000","v":0},{"$f":"SUMIFS('Base TU'!V:V,'Base TU'!$A:$A,$B13,'Base TU'!$B:$B,\"Total Operação\")/1000","v":0},{"$f":"SUMIFS('Base TU'!W:W,'Base TU'!$A:$A,$B13,'Base TU'!$B:$B,\"Total Operação\")/1000","v":0},{"$f":"SUMIFS('Base TU'!X:X,'Base TU'!$A:$A,$B13,'Base TU'!$B:$B,\"Total Operação\")/1000","v":0},{"$f":"SUMIFS('Base TU'!Y:Y,'Base TU'!$A:$A,$B13,'Base TU'!$B:$B,\"Total Operação\")/1000","v":0},{"$f":"SUMIFS('Base TU'!Z:Z,'Base TU'!$A:$A,$B13,'Base TU'!$B:$B,\"Total Operação\")/1000","v":0},{"$f":"SUMIFS('Base TU'!AA:AA,'Base TU'!$A:$A,$B13,'Base TU'!$B:$B,\"Total Operação\")/1000","v":0},{"$f":"SUMIFS('Base TU'!AB:AB,'Base TU'!$A:$A,$B13,'Base TU'!$B:$B,\"Total Operação\")/1000","v":6.04},{"$f":"SUMIFS('Base TU'!AC:AC,'Base TU'!$A:$A,$B13,'Base TU'!$B:$B,\"Total Operação\")/1000","v":13.396000000000001},null,{"$f":"SUMIFS('Base TU'!AE:AE,'Base TU'!$A:$A,$B13,'Base TU'!$B:$B,\"Total Operação\")/1000","v":27.41},{"$f":"SUMIFS('Base TU'!AF:AF,'Base TU'!$A:$A,$B13,'Base TU'!$B:$B,\"Total Operação\")/1000","v":6.7839999999999998},{"$f":"SUMIFS('Base TU'!AG:AG,'Base TU'!$A:$A,$B13,'Base TU'!$B:$B,\"Total Operação\")/1000","v":0},{"$f":"SUMIFS('Base TU'!AH:AH,'Base TU'!$A:$A,$B13,'Base TU'!$B:$B,\"Total Operação\")/1000","v":0},{"$f":"SUMIFS('Base TU'!AI:AI,'Base TU'!$A:$A,$B13,'Base TU'!$B:$B,\"Total Operação\")/1000","v":0},{"$f":"SUMIFS('Base TU'!AJ:AJ,'Base TU'!$A:$A,$B13,'Base TU'!$B:$B,\"Total Operação\")/1000","v":0},{"$f":"SUMIFS('Base TU'!AK:AK,'Base TU'!$A:$A,$B13,'Base TU'!$B:$B,\"Total Operação\")/1000","v":0},{"$f":"SUMIFS('Base TU'!AL:AL,'Base TU'!$A:$A,$B13,'Base TU'!$B:$B,\"Total Operação\")/1000","v":0},{"$f":"SUMIFS('Base TU'!AM:AM,'Base TU'!$A:$A,$B13,'Base TU'!$B:$B,\"Total Operação\")/1000","v":0},{"$f":"SUMIFS('Base TU'!AN:AN,'Base TU'!$A:$A,$B13,'Base TU'!$B:$B,\"Total Operação\")/1000","v":0},{"$f":"SUMIFS('Base TU'!AO:AO,'Base TU'!$A:$A,$B13,'Base TU'!$B:$B,\"Total Operação\")/1000","v":57.524000000000001},{"$f":"SUMIFS('Base TU'!AP:AP,'Base TU'!$A:$A,$B13,'Base TU'!$B:$B,\"Total Operação\")/1000","v":87.164000000000001},null,{"$f":"SUMIFS('Base TU'!AR:AR,'Base TU'!$A:$A,$B13,'Base TU'!$B:$B,\"Total Operação\")/1000","v":46.884999999999998},{"$f":"SUMIFS('Base TU'!AS:AS,'Base TU'!$A:$A,$B13,'Base TU'!$B:$B,\"Total Operação\")/1000","v":5.42},{"$f":"SUMIFS('Base TU'!AT:AT,'Base TU'!$A:$A,$B13,'Base TU'!$B:$B,\"Total Operação\")/1000","v":0},{"$f":"SUMIFS('Base TU'!AU:AU,'Base TU'!$A:$A,$B13,'Base TU'!$B:$B,\"Total Operação\")/1000","v":0},{"$f":"SUMIFS('Base TU'!AV:AV,'Base TU'!$A:$A,$B13,'Base TU'!$B:$B,\"Total Operação\")/1000","v":0},{"$f":"SUMIFS('Base TU'!AW:AW,'Base TU'!$A:$A,$B13,'Base TU'!$B:$B,\"Total Operação\")/1000","v":0},{"$f":"SUMIFS('Base TU'!AX:AX,'Base TU'!$A:$A,$B13,'Base TU'!$B:$B,\"Total Operação\")/1000","v":0},{"$f":"SUMIFS('Base TU'!AY:AY,'Base TU'!$A:$A,$B13,'Base TU'!$B:$B,\"Total Operação\")/1000","v":0},{"$f":"SUMIFS('Base TU'!AZ:AZ,'Base TU'!$A:$A,$B13,'Base TU'!$B:$B,\"Total Operação\")/1000","v":0},{"$f":"SUMIFS('Base TU'!BA:BA,'Base TU'!$A:$A,$B13,'Base TU'!$B:$B,\"Total Operação\")/1000","v":0},{"$f":"SUMIFS('Base TU'!BB:BB,'Base TU'!$A:$A,$B13,'Base TU'!$B:$B,\"Total Operação\")/1000","v":7.8390000000000004},{"$f":"SUMIFS('Base TU'!BC:BC,'Base TU'!$A:$A,$B13,'Base TU'!$B:$B,\"Total Operação\")/1000","v":53.780999999999999},null,{"$f":"SUMIFS('Base TU'!BE:BE,'Base TU'!$A:$A,$B13,'Base TU'!$B:$B,\"Total Operação\")/1000","v":40.94},{"$f":"SUMIFS('Base TU'!BF:BF,'Base TU'!$A:$A,$B13,'Base TU'!$B:$B,\"Total Operação\")/1000","v":2.2730000000000001},{"$f":"SUMIFS('Base TU'!BG:BG,'Base TU'!$A:$A,$B13,'Base TU'!$B:$B,\"Total Operação\")/1000","v":0},{"$f":"SUMIFS('Base TU'!BH:BH,'Base TU'!$A:$A,$B13,'Base TU'!$B:$B,\"Total Operação\")/1000","v":0},{"$f":"SUMIFS('Base TU'!BI:BI,'Base TU'!$A:$A,$B13,'Base TU'!$B:$B,\"Total Operação\")/1000","v":0},{"$f":"SUMIFS('Base TU'!BJ:BJ,'Base TU'!$A:$A,$B13,'Base TU'!$B:$B,\"Total Operação\")/1000","v":0},{"$f":"SUMIFS('Base TU'!BK:BK,'Base TU'!$A:$A,$B13,'Base TU'!$B:$B,\"Total Operação\")/1000","v":0},{"$f":"SUMIFS('Base TU'!BL:BL,'Base TU'!$A:$A,$B13,'Base TU'!$B:$B,\"Total Operação\")/1000","v":0},{"$f":"SUMIFS('Base TU'!BM:BM,'Base TU'!$A:$A,$B13,'Base TU'!$B:$B,\"Total Operação\")/1000","v":0},{"$f":"SUMIFS('Base TU'!BN:BN,'Base TU'!$A:$A,$B13,'Base TU'!$B:$B,\"Total Operação\")/1000","v":17.013000000000002},{"$f":"SUMIFS('Base TU'!BO:BO,'Base TU'!$A:$A,$B13,'Base TU'!$B:$B,\"Total Operação\")/1000","v":106.58799999999999},{"$f":"SUMIFS('Base TU'!BP:BP,'Base TU'!$A:$A,$B13,'Base TU'!$B:$B,\"Total Operação\")/1000","v":92.584999999999994},null,{"$f":"'Volume TU Norte'!BQ13+'Volume TU Sul'!BQ13","v":4.9530000000000003},{"$f":"'Volume TU Norte'!BR13+'Volume TU Sul'!BR13","v":0},{"$f":"'Volume TU Norte'!BS13+'Volume TU Sul'!BS13","v":0},{"$f":"'Volume TU Norte'!BT13+'Volume TU Sul'!BT13","v":0},{"$f":"'Volume TU Norte'!BU13+'Volume TU Sul'!BU13","v":0},{"$f":"'Volume TU Norte'!BV13+'Volume TU Sul'!BV13","v":0},{"$f":"'Volume TU Norte'!BW13+'Volume TU Sul'!BW13","v":0},{"$f":"'Volume TU Norte'!BX13+'Volume TU Sul'!BX13","v":0},{"$f":"'Volume TU Norte'!BY13+'Volume TU Sul'!BY13","v":0},{"$f":"'Volume TU Norte'!BZ13+'Volume TU Sul'!BZ13","v":1.3839999999999999},{"$f":"'Volume TU Norte'!CA13+'Volume TU Sul'!CA13","v":111.30500000000001},{"$f":"'Volume TU Norte'!CB13+'Volume TU Sul'!CB13","v":152.08500000000001},null,{"$f":"'Volume TU Norte'!CD13+'Volume TU Sul'!CD13","v":138.03800000000001},{"$f":"'Volume TU Norte'!CE13+'Volume TU Sul'!CE13","v":172.565},{"$f":"'Volume TU Norte'!CF13+'Volume TU Sul'!CF13","v":63.165999999999997},{"$f":"'Volume TU Norte'!CG13+'Volume TU Sul'!CG13","v":8.0030000000000001},{"$f":"'Volume TU Norte'!CH13+'Volume TU Sul'!CH13","v":1.2549999999999999},{"$f":"'Volume TU Norte'!CI13+'Volume TU Sul'!CI13","v":0},{"$f":"'Volume TU Norte'!CJ13+'Volume TU Sul'!CJ13","v":0},{"$f":"'Volume TU Norte'!CK13+'Volume TU Sul'!CK13","v":0},{"$f":"'Volume TU Norte'!CL13+'Volume TU Sul'!CL13","v":0},{"$f":"'Volume TU Norte'!CM13+'Volume TU Sul'!CM13","v":0},{"$f":"'Volume TU Norte'!CN13+'Volume TU Sul'!CN13","v":0},{"$f":"'Volume TU Norte'!CO13+'Volume TU Sul'!CO13","v":0}]
[null,"Malte",null,{"$f":"SUMIFS('Base TU'!E:E,'Base TU'!$A:$A,$B14,'Base TU'!$B:$B,\"Total Operação\")/1000","v":0},{"$f":"SUMIFS('Base TU'!F:F,'Base TU'!$A:$A,$B14,'Base TU'!$B:$B,\"Total Operação\")/1000","v":0},{"$f":"SUMIFS('Base TU'!G:G,'Base TU'!$A:$A,$B14,'Base TU'!$B:$B,\"Total Operação\")/1000","v":0},{"$f":"SUMIFS('Base TU'!H:H,'Base TU'!$A:$A,$B14,'Base TU'!$B:$B,\"Total Operação\")/1000","v":0},{"$f":"SUMIFS('Base TU'!I:I,'Base TU'!$A:$A,$B14,'Base TU'!$B:$B,\"Total Operação\")/1000","v":0},{"$f":"SUMIFS('Base TU'!J:J,'Base TU'!$A:$A,$B14,'Base TU'!$B:$B,\"Total Operação\")/1000","v":0},{"$f":"SUMIFS('Base TU'!K:K,'Base TU'!$A:$A,$B14,'Base TU'!$B:$B,\"Total Operação\")/1000","v":0},{"$f":"SUMIFS('Base TU'!L:L,'Base TU'!$A:$A,$B14,'Base TU'!$B:$B,\"Total Operação\")/1000","v":0},{"$f":"SUMIFS('Base TU'!M:M,'Base TU'!$A:$A,$B14,'Base TU'!$B:$B,\"Total Operação\")/1000","v":0},{"$f":"SUMIFS('Base TU'!N:N,'Base TU'!$A:$A,$B14,'Base TU'!$B:$B,\"Total Operação\")/1000","v":2.3109999999999999},{"$f":"SUMIFS('Base TU'!O:O,'Base TU'!$A:$A,$B14,'Base TU'!$B:$B,\"Total Operação\")/1000","v":0},{"$f":"SUMIFS('Base TU'!P:P,'Base TU'!$A:$A,$B14,'Base TU'!$B:$B,\"Total Operação\")/1000","v":0},null,{"$f":"SUMIFS('Base TU'!R:R,'Base TU'!$A:$A,$B14,'Base TU'!$B:$B,\"Total Operação\")/1000","v":0},{"$f":"SUMIFS('Base TU'!S:S,'Base TU'!$A:$A,$B14,'Base TU'!$B:$B,\"Total Operação\")/1000","v":0},{"$f":"SUMIFS('Base TU'!T:T,'Base TU'!$A:$A,$B14,'Base TU'!$B:$B,\"Total Operação\")/1000","v":0},{"$f":"SUMIFS('Base TU'!U:U,'Base TU'!$A:$A,$B14,'Base TU'!$B:$B,\"Total Operação\")/1000","v":0},{"$f":"SUMIFS('Base TU'!V:V,'Base TU'!$A:$A,$B14,'Base TU'!$B:$B,\"Total Operação\")/1000","v":0},{"$f":"SUMIFS('Base TU'!W:W,'Base TU'!$A:$A,$B14,'Base TU'!$B:$B,\"Total Operação\")/1000","v":0},{"$f":"SUMIFS('Base TU'!X:X,'Base TU'!$A:$A,$B14,'Base TU'!$B:$B,\"Total Operação\")/1000","v":0},{"$f":"SUMIFS('Base TU'!Y:Y,'Base TU'!$A:$A,$B14,'Base TU'!$B:$B,\"Total Operação\")/1000","v":0},{"$f":"SUMIFS('Base TU'!Z:Z,'Base TU'!$A:$A,$B14,'Base TU'!$B:$B,\"Total Operação\")/1000","v":0},{"$f":"SUMIFS('Base TU'!AA:AA,'Base TU'!$A:$A,$B14,'Base TU'!$B:$B,\"Total Operação\")/1000","v":0},{"$f":"SUMIFS('Base TU'!AB:AB,'Base TU'!$A:$A,$B14,'Base TU'!$B:$B,\"Total Operação\")/1000","v":0},{"$f":"SUMIFS('Base TU'!AC:AC,'Base TU'!$A:$A,$B14,'Base TU'!$B:$B,\"Total Operação\")/1000","v":0},null,{"$f":"SUMIFS('Base TU'!AE:AE,'Base TU'!$A:$A,$B14,'Base TU'!$B:$B,\"Total Operação\")/1000","v":0},{"$f":"SUMIFS('Base TU'!AF:AF,'Base TU'!$A:$A,$B14,'Base TU'!$B:$B,\"Total Operação\")/1000","v":0},{"$f":"SUMIFS('Base TU'!AG:AG,'Base TU'!$A:$A,$B14,'Base TU'!$B:$B,\"Total Operação\")/1000","v":0},{"$f":"SUMIFS('Base TU'!AH:AH,'Base TU'!$A:$A,$B14,'Base TU'!$B:$B,\"Total Operação\")/1000","v":0},{"$f":"SUMIFS('Base TU'!AI:AI,'Base TU'!$A:$A,$B14,'Base TU'!$B:$B,\"Total Operação\")/1000","v":0},{"$f":"SUMIFS('Base TU'!AJ:AJ,'Base TU'!$A:$A,$B14,'Base TU'!$B:$B,\"Total Operação\")/1000","v":0},{"$f":"SUMIFS('Base TU'!AK:AK,'Base TU'!$A:$A,$B14,'Base TU'!$B:$B,\"Total Operação\")/1000","v":0},{"$f":"SUMIFS('Base TU'!AL:AL,'Base TU'!$A:$A,$B14,'Base TU'!$B:$B,\"Total Operação\")/1000","v":0},{"$f":"SUMIFS('Base TU'!AM:AM,'Base TU'!$A:$A,$B14,'Base TU'!$B:$B,\"Total Operação\")/1000","v":0},{"$f":"SUMIFS('Base TU'!AN:AN,'Base TU'!$A:$A,$B14,'Base TU'!$B:$B,\"Total Operação\")/1000","v":0},{"$f":"SUMIFS('Base TU'!AO:AO,'Base TU'!$A:$A,$B14,'Base TU'!$B:$B,\"Total Operação\")/1000","v":0},{"$f":"SUMIFS('Base TU'!AP:AP,'Base TU'!$A:$A,$B14,'Base TU'!$B:$B,\"Total Operação\")/1000","v":0},null,{"$f":"SUMIFS('Base TU'!AR:AR,'Base TU'!$A:$A,$B14,'Base TU'!$B:$B,\"Total Operação\")/1000","v":0},{"$f":"SUMIFS('Base TU'!AS:AS,'Base TU'!$A:$A,$B14,'Base TU'!$B:$B,\"Total Operação\")/1000","v":0},{"$f":"SUMIFS('Base TU'!AT:AT,'Base TU'!$A:$A,$B14,'Base TU'!$B:$B,\"Total Operação\")/1000","v":0},{"$f":"SUMIFS('Base TU'!AU:AU,'Base TU'!$A:$A,$B14,'Base TU'!$B:$B,\"Total Operação\")/1000","v":0},{"$f":"SUMIFS('Base TU'!AV:AV,'Base TU'!$A:$A,$B14,'Base TU'!$B:$B,\"Total Operação\")/1000","v":0},{"$f":"SUMIFS('Base TU'!AW:AW,'Base TU'!$A:$A,$B14,'Base TU'!$B:$B,\"Total Operação\")/1000","v":0},{"$f":"SUMIFS('Base TU'!AX:AX,'Base TU'!$A:$A,$B14,'Base TU'!$B:$B,\"Total Operação\")/1000","v":0},{"$f":"SUMIFS('Base TU'!AY:AY,'Base TU'!$A:$A,$B14,'Base TU'!$B:$B,\"Total Operação\")/1000","v":0},{"$f":"SUMIFS('Base TU'!AZ:AZ,'Base TU'!$A:$A,$B14,'Base TU'!$B:$B,\"Total Operação\")/1000","v":0},{"$f":"SUMIFS('Base TU'!BA:BA,'Base TU'!$A:$A,$B14,'Base TU'!$B:$B,\"Total Operação\")/1000","v":0},{"$f":"SUMIFS('Base TU'!BB:BB,'Base TU'!$A:$A,$B14,'Base TU'!$B:$B,\"Total Operação\")/1000","v":0},{"$f":"SUMIFS('Base TU'!BC:BC,'Base TU'!$A:$A,$B14,'Base TU'!$B:$B,\"Total Operação\")/1000","v":0},null,{"$f":"SUMIFS('Base TU'!BE:BE,'Base TU'!$A:$A,$B14,'Base TU'!$B:$B,\"Total Operação\")/1000","v":0},{"$f":"SUMIFS('Base TU'!BF:BF,'Base TU'!$A:$A,$B14,'Base TU'!$B:$B,\"Total Operação\")/1000","v":0},{"$f":"SUMIFS('Base TU'!BG:BG,'Base TU'!$A:$A,$B14,'Base TU'!$B:$B,\"Total Operação\")/1000","v":0},{"$f":"SUMIFS('Base TU'!BH:BH,'Base TU'!$A:$A,$B14,'Base TU'!$B:$B,\"Total Operação\")/1000","v":0},{"$f":"SUMIFS('Base TU'!BI:BI,'Base TU'!$A:$A,$B14,'Base TU'!$B:$B,\"Total Operação\")/1000","v":0},{"$f":"SUMIFS('Base TU'!BJ:BJ,'Base TU'!$A:$A,$B14,'Base TU'!$B:$B,\"Total Operação\")/1000","v":0},{"$f":"SUMIFS('Base TU'!BK:BK,'Base TU'!$A:$A,$B14,'Base TU'!$B:$B,\"Total Operação\")/1000","v":0},{"$f":"SUMIFS('Base TU'!BL:BL,'Base TU'!$A:$A,$B14,'Base TU'!$B:$B,\"Total Operação\")/1000","v":0},{"$f":"SUMIFS('Base TU'!BM:BM,'Base TU'!$A:$A,$B14,'Base TU'!$B:$B,\"Total Operação\")/1000","v":0},{"$f":"SUMIFS('Base TU'!BN:BN,'Base TU'!$A:$A,$B14,'Base TU'!$B:$B,\"Total Operação\")/1000","v":0},{"$f":"SUMIFS('Base TU'!BO:BO,'Base TU'!$A:$A,$B14,'Base TU'!$B:$B,\"Total Operação\")/1000","v":0},{"$f":"SUMIFS('Base TU'!BP:BP,'Base TU'!$A:$A,$B14,'Base TU'!$B:$B,\"Total Operação\")/1000","v":0},null,{"$f":"'Volume TU Norte'!BQ14+'Volume TU Sul'!BQ14","v":0},{"$f":"'Volume TU Norte'!BR14+'Volume TU Sul'!BR14","v":0},{"$f":"'Volume TU Norte'!BS14+'Volume TU Sul'!BS14","v":0},{"$f":"'Volume TU Norte'!BT14+'Volume TU Sul'!BT14","v":0},{"$f":"'Volume TU Norte'!BU14+'Volume TU Sul'!BU14","v":0},{"$f":"'Volume TU Norte'!BV14+'Volume TU Sul'!BV14","v":0},{"$f":"'Volume TU Norte'!BW14+'Volume TU Sul'!BW14","v":0},{"$f":"'Volume TU Norte'!BX14+'Volume TU Sul'!BX14","v":0},{"$f":"'Volume TU Norte'!BY14+'Volume TU Sul'!BY14","v":0},{"$f":"'Volume TU Norte'!BZ14+'Volume TU Sul'!BZ14","v":0},{"$f":"'Volume TU Norte'!CA14+'Volume TU Sul'!CA14","v":0},{"$f":"'Volume TU Norte'!CB14+'Volume TU Sul'!CB14","v":0},null,{"$f":"'Volume TU Norte'!CD14+'Volume TU Sul'!CD14","v":0},{"$f":"'Volume TU Norte'!CE14+'Volume TU Sul'!CE14","v":0},{"$f":"'Volume TU Norte'!CF14+'Volume TU Sul'!CF14","v":0},{"$f":"'Volume TU Norte'!CG14+'Volume TU Sul'!CG14","v":0},{"$f":"'Volume TU Norte'!CH14+'Volume TU Sul'!CH14","v":0},{"$f":"'Volume TU Norte'!CI14+'Volume TU Sul'!CI14","v":0},{"$f":"'Volume TU Norte'!CJ14+'Volume TU Sul'!CJ14","v":0},{"$f":"'Volume TU Norte'!CK14+'Volume TU Sul'!CK14","v":0},{"$f":"'Volume TU Norte'!CL14+'Volume TU Sul'!CL14","v":0},{"$f":"'Volume TU Norte'!CM14+'Volume TU Sul'!CM14","v":0},{"$f":"'Volume TU Norte'!CN14+'Volume TU Sul'!CN14","v":0},{"$f":"'Volume TU Norte'!CO14+'Volume TU Sul'!CO14","v":0}]
[null,"Farelo de Milho",null,{"$f":"SUMIFS('Base TU'!E:E,'Base TU'!$A:$A,$B15,'Base TU'!$B:$B,\"Total Operação\")/1000","v":0},{"$f":"SUMIFS('Base TU'!F:F,'Base TU'!$A:$A,$B15,'Base TU'!$B:$B,\"Total Operação\")/1000","v":0},{"$f":"SUMIFS('Base TU'!G:G,'Base TU'!$A:$A,$B15,'Base TU'!$B:$B,\"Total Operação\")/1000","v":0},{"$f":"SUMIFS('Base TU'!H:H,'Base TU'!$A:$A,$B15,'Base TU'!$B:$B,\"Total Operação\")/1000","v":0},{"$f":"SUMIFS('Base TU'!I:I,'Base TU'!$A:$A,$B15,'Base TU'!$B:$B,\"Total Operação\")/1000","v":0},{"$f":"SUMIFS('Base TU'!J:J,'Base TU'!$A:$A,$B15,'Base TU'!$B:$B,\"Total Operação\")/1000","v":0},{"$f":"SUMIFS('Base TU'!K:K,'Base TU'!$A:$A,$B15,'Base TU'!$B:$B,\"Total Operação\")/1000","v":0},{"$f":"SUMIFS('Base TU'!L:L,'Base TU'!$A:$A,$B15,'Base TU'!$B:$B,\"Total Operação\")/1000","v":0},{"$f":"SUMIFS('Base TU'!M:M,'Base TU'!$A:$A,$B15,'Base TU'!$B:$B,\"Total Operação\")/1000","v":0},{"$f":"SUMIFS('Base TU'!N:N,'Base TU'!$A:$A,$B15,'Base TU'!$B:$B,\"Total Operação\")/1000","v":0},{"$f":"SUMIFS('Base TU'!O:O,'Base TU'!$A:$A,$B15,'Base TU'!$B:$B,\"Total Operação\")/1000","v":0},{"$f":"SUMIFS('Base TU'!P:P,'Base TU'!$A:$A,$B15,'Base TU'!$B:$B,\"Total Operação\")/1000","v":0},null,{"$f":"SUMIFS('Base TU'!R:R,'Base TU'!$A:$A,$B15,'Base TU'!$B:$B,\"Total Operação\")/1000","v":0},{"$f":"SUMIFS('Base TU'!S:S,'Base TU'!$A:$A,$B15,'Base TU'!$B:$B,\"Total Operação\")/1000","v":0},{"$f":"SUMIFS('Base TU'!T:T,'Base TU'!$A:$A,$B15,'Base TU'!$B:$B,\"Total Operação\")/1000","v":0},{"$f":"SUMIFS('Base TU'!U:U,'Base TU'!$A:$A,$B15,'Base TU'!$B:$B,\"Total Operação\")/1000","v":0},{"$f":"SUMIFS('Base TU'!V:V,'Base TU'!$A:$A,$B15,'Base TU'!$B:$B,\"Total Operação\")/1000","v":0},{"$f":"SUMIFS('Base TU'!W:W,'Base TU'!$A:$A,$B15,'Base TU'!$B:$B,\"Total Operação\")/1000","v":0},{"$f":"SUMIFS('Base TU'!X:X,'Base TU'!$A:$A,$B15,'Base TU'!$B:$B,\"Total Operação\")/1000","v":0},{"$f":"SUMIFS('Base TU'!Y:Y,'Base TU'!$A:$A,$B15,'Base TU'!$B:$B,\"Total Operação\")/1000","v":0},{"$f":"SUMIFS('Base TU'!Z:Z,'Base TU'!$A:$A,$B15,'Base TU'!$B:$B,\"Total Operação\")/1000","v":0},{"$f":"SUMIFS('Base TU'!AA:AA,'Base TU'!$A:$A,$B15,'Base TU'!$B:$B,\"Total Operação\")/1000","v":0},{"$f":"SUMIFS('Base TU'!AB:AB,'Base TU'!$A:$A,$B15,'Base TU'!$B:$B,\"Total Operação\")/1000","v":0},{"$f":"SUMIFS('Base TU'!AC:AC,'Base TU'!$A:$A,$B15,'Base TU'!$B:$B,\"Total Operação\")/1000","v":0},null,{"$f":"SUMIFS('Base TU'!AE:AE,'Base TU'!$A:$A,$B15,'Base TU'!$B:$B,\"Total Operação\")/1000","v":0},{"$f":"SUMIFS('Base TU'!AF:AF,'Base TU'!$A:$A,$B15,'Base TU'!$B:$B,\"Total Operação\")/1000","v":0},{"$f":"SUMIFS('Base TU'!AG:AG,'Base TU'!$A:$A,$B15,'Base TU'!$B:$B,\"Total Operação\")/1000","v":0},{"$f":"SUMIFS('Base TU'!AH:AH,'Base TU'!$A:$A,$B15,'Base TU'!$B:$B,\"Total Operação\")/1000","v":0},{"$f":"SUMIFS('Base TU'!AI:AI,'Base TU'!$A:$A,$B15,'Base TU'!$B:$B,\"Total Operação\")/1000","v":0},{"$f":"SUMIFS('Base TU'!AJ:AJ,'Base TU'!$A:$A,$B15,'Base TU'!$B:$B,\"Total Operação\")/1000","v":0},{"$f":"SUMIFS('Base TU'!AK:AK,'Base TU'!$A:$A,$B15,'Base TU'!$B:$B,\"Total Operação\")/1000","v":0},{"$f":"SUMIFS('Base TU'!AL:AL,'Base TU'!$A:$A,$B15,'Base TU'!$B:$B,\"Total Operação\")/1000","v":0},{"$f":"SUMIFS('Base TU'!AM:AM,'Base TU'!$A:$A,$B15,'Base TU'!$B:$B,\"Total Operação\")/1000","v":0},{"$f":"SUMIFS('Base TU'!AN:AN,'Base TU'!$A:$A,$B15,'Base TU'!$B:$B,\"Total Operação\")/1000","v":0},{"$f":"SUMIFS('Base TU'!AO:AO,'Base TU'!$A:$A,$B15,'Base TU'!$B:$B,\"Total Operação\")/1000","v":0},{"$f":"SUMIFS('Base TU'!AP:AP,'Base TU'!$A:$A,$B15,'Base TU'!$B:$B,\"Total Operação\")/1000","v":0},null,{"$f":"SUMIFS('Base TU'!AR:AR,'Base TU'!$A:$A,$B15,'Base TU'!$B:$B,\"Total Operação\")/1000","v":0},{"$f":"SUMIFS('Base TU'!AS:AS,'Base TU'!$A:$A,$B15,'Base TU'!$B:$B,\"Total Operação\")/1000","v":0},{"$f":"SUMIFS('Base TU'!AT:AT,'Base TU'!$A:$A,$B15,'Base TU'!$B:$B,\"Total Operação\")/1000","v":0},{"$f":"SUMIFS('Base TU'!AU:AU,'Base TU'!$A:$A,$B15,'Base TU'!$B:$B,\"Total Operação\")/1000","v":0},{"$f":"SUMIFS('Base TU'!AV:AV,'Base TU'!$A:$A,$B15,'Base TU'!$B:$B,\"Total Operação\")/1000","v":0},{"$f":"SUMIFS('Base TU'!AW:AW,'Base TU'!$A:$A,$B15,'Base TU'!$B:$B,\"Total Operação\")/1000","v":0},{"$f":"SUMIFS('Base TU'!AX:AX,'Base TU'!$A:$A,$B15,'Base TU'!$B:$B,\"Total Operação\")/1000","v":0},{"$f":"SUMIFS('Base TU'!AY:AY,'Base TU'!$A:$A,$B15,'Base TU'!$B:$B,\"Total Operação\")/1000","v":0},{"$f":"SUMIFS('Base TU'!AZ:AZ,'Base TU'!$A:$A,$B15,'Base TU'!$B:$B,\"Total Operação\")/1000","v":0},{"$f":"SUMIFS('Base TU'!BA:BA,'Base TU'!$A:$A,$B15,'Base TU'!$B:$B,\"Total Operação\")/1000","v":0},{"$f":"SUMIFS('Base TU'!BB:BB,'Base TU'!$A:$A,$B15,'Base TU'!$B:$B,\"Total Operação\")/1000","v":0},{"$f":"SUMIFS('Base TU'!BC:BC,'Base TU'!$A:$A,$B15,'Base TU'!$B:$B,\"Total Operação\")/1000","v":14.885999999999999},null,{"$f":"SUMIFS('Base TU'!BE:BE,'Base TU'!$A:$A,$B15,'Base TU'!$B:$B,\"Total Operação\")/1000","v":12.996},{"$f":"SUMIFS('Base TU'!BF:BF,'Base TU'!$A:$A,$B15,'Base TU'!$B:$B,\"Total Operação\")/1000","v":0},{"$f":"SUMIFS('Base TU'!BG:BG,'Base TU'!$A:$A,$B15,'Base TU'!$B:$B,\"Total Operação\")/1000","v":0},{"$f":"SUMIFS('Base TU'!BH:BH,'Base TU'!$A:$A,$B15,'Base TU'!$B:$B,\"Total Operação\")/1000","v":0},{"$f":"SUMIFS('Base TU'!BI:BI,'Base TU'!$A:$A,$B15,'Base TU'!$B:$B,\"Total Operação\")/1000","v":0},{"$f":"SUMIFS('Base TU'!BJ:BJ,'Base TU'!$A:$A,$B15,'Base TU'!$B:$B,\"Total Operação\")/1000","v":0},{"$f":"SUMIFS('Base TU'!BK:BK,'Base TU'!$A:$A,$B15,'Base TU'!$B:$B,\"Total Operação\")/1000","v":0},{"$f":"SUMIFS('Base TU'!BL:BL,'Base TU'!$A:$A,$B15,'Base TU'!$B:$B,\"Total Operação\")/1000","v":0},{"$f":"SUMIFS('Base TU'!BM:BM,'Base TU'!$A:$A,$B15,'Base TU'!$B:$B,\"Total Operação\")/1000","v":0},{"$f":"SUMIFS('Base TU'!BN:BN,'Base TU'!$A:$A,$B15,'Base TU'!$B:$B,\"Total Operação\")/1000","v":0},{"$f":"SUMIFS('Base TU'!BO:BO,'Base TU'!$A:$A,$B15,'Base TU'!$B:$B,\"Total Operação\")/1000","v":0},{"$f":"SUMIFS('Base TU'!BP:BP,'Base TU'!$A:$A,$B15,'Base TU'!$B:$B,\"Total Operação\")/1000","v":0},null,{"$f":"'Volume TU Norte'!BQ15+'Volume TU Sul'!BQ15","v":0},{"$f":"'Volume TU Norte'!BR15+'Volume TU Sul'!BR15","v":0},{"$f":"'Volume TU Norte'!BS15+'Volume TU Sul'!BS15","v":0},{"$f":"'Volume TU Norte'!BT15+'Volume TU Sul'!BT15","v":0},{"$f":"'Volume TU Norte'!BU15+'Volume TU Sul'!BU15","v":0},{"$f":"'Volume TU Norte'!BV15+'Volume TU Sul'!BV15","v":0},{"$f":"'Volume TU Norte'!BW15+'Volume TU Sul'!BW15","v":0},{"$f":"'Volume TU Norte'!BX15+'Volume TU Sul'!BX15","v":0},{"$f":"'Volume TU Norte'!BY15+'Volume TU Sul'!BY15","v":0},{"$f":"'Volume TU Norte'!BZ15+'Volume TU Sul'!BZ15","v":0},{"$f":"'Volume TU Norte'!CA15+'Volume TU Sul'!CA15","v":0},{"$f":"'Volume TU Norte'!CB15+'Volume TU Sul'!CB15","v":0},null,{"$f":"'Volume TU Norte'!CD15+'Volume TU Sul'!CD15","v":0},{"$f":"'Volume TU Norte'!CE15+'Volume TU Sul'!CE15","v":0},{"$f":"'Volume TU Norte'!CF15+'Volume TU Sul'!CF15","v":0},{"$f":"'Volume TU Norte'!CG15+'Volume TU Sul'!CG15","v":0},{"$f":"'Volume TU Norte'!CH15+'Volume TU Sul'!CH15","v":0},{"$f":"'Volume TU Norte'!CI15+'Volume TU Sul'!CI15","v":0},{"$f":"'Volume TU Norte'!CJ15+'Volume TU Sul'!CJ15","v":0},{"$f":"'Volume TU Norte'!CK15+'Volume TU Sul'!CK15","v":0},{"$f":"'Volume TU Norte'!CL15+'Volume TU Sul'!CL15","v":0},{"$f":"'Volume TU Norte'!CM15+'Volume TU Sul'!CM15","v":0},{"$f":"'Volume TU Norte'!CN15+'Volume TU Sul'!CN15","v":0},{"$f":"'Volume TU Norte'!CO15+'Volume TU Sul'!CO15","v":0}]
[null,"Contêiner",null,{"$f":"SUMIFS('Base TU'!E:E,'Base TU'!$A:$A,$B16,'Base TU'!$B:$B,\"Total Operação\")/1000","v":140.19499999999999},{"$f":"SUMIFS('Base TU'!F:F,'Base TU'!$A:$A,$B16,'Base TU'!$B:$B,\"Total Operação\")/1000","v":164.41800000000001},{"$f":"SUMIFS('Base TU'!G:G,'Base TU'!$A:$A,$B16,'Base TU'!$B:$B,\"Total Operação\")/1000","v":177.74799999999999},{"$f":"SUMIFS('Base TU'!H:H,'Base TU'!$A:$A,$B16,'Base TU'!$B:$B,\"Total Operação\")/1000","v":166.38900000000001},{"$f":"SUMIFS('Base TU'!I:I,'Base TU'!$A:$A,$B16,'Base TU'!$B:$B,\"Total Operação\")/1000","v":169.42400000000001},{"$f":"SUMIFS('Base TU'!J:J,'Base TU'!$A:$A,$B16,'Base TU'!$B:$B,\"Total Operação\")/1000","v":172.846},{"$f":"SUMIFS('Base TU'!K:K,'Base TU'!$A:$A,$B16,'Base TU'!$B:$B,\"Total Operação\")/1000","v":165.297},{"$f":"SUMIFS('Base TU'!L:L,'Base TU'!$A:$A,$B16,'Base TU'!$B:$B,\"Total Operação\")/1000","v":157.87299999999999},{"$f":"SUMIFS('Base TU'!M:M,'Base TU'!$A:$A,$B16,'Base TU'!$B:$B,\"Total Operação\")/1000","v":147.81},{"$f":"SUMIFS('Base TU'!N:N,'Base TU'!$A:$A,$B16,'Base TU'!$B:$B,\"Total Operação\")/1000","v":153.98699999999999},{"$f":"SUMIFS('Base TU'!O:O,'Base TU'!$A:$A,$B16,'Base TU'!$B:$B,\"Total Operação\")/1000","v":147.32599999999999},{"$f":"SUMIFS('Base TU'!P:P,'Base TU'!$A:$A,$B16,'Base TU'!$B:$B,\"Total Operação\")/1000","v":126.717},null,{"$f":"SUMIFS('Base TU'!R:R,'Base TU'!$A:$A,$B16,'Base TU'!$B:$B,\"Total Operação\")/1000","v":150.226},{"$f":"SUMIFS('Base TU'!S:S,'Base TU'!$A:$A,$B16,'Base TU'!$B:$B,\"Total Operação\")/1000","v":132.31200000000001},{"$f":"SUMIFS('Base TU'!T:T,'Base TU'!$A:$A,$B16,'Base TU'!$B:$B,\"Total Operação\")/1000","v":147.85},{"$f":"SUMIFS('Base TU'!U:U,'Base TU'!$A:$A,$B16,'Base TU'!$B:$B,\"Total Operação\")/1000","v":156.88300000000001},{"$f":"SUMIFS('Base TU'!V:V,'Base TU'!$A:$A,$B16,'Base TU'!$B:$B,\"Total Operação\")/1000","v":180.30799999999999},{"$f":"SUMIFS('Base TU'!W:W,'Base TU'!$A:$A,$B16,'Base TU'!$B:$B,\"Total Operação\")/1000","v":166.727},{"$f":"SUMIFS('Base TU'!X:X,'Base TU'!$A:$A,$B16,'Base TU'!$B:$B,\"Total Operação\")/1000","v":165.137},{"$f":"SUMIFS('Base TU'!Y:Y,'Base TU'!$A:$A,$B16,'Base TU'!$B:$B,\"Total Operação\")/1000","v":183.179},{"$f":"SUMIFS('Base TU'!Z:Z,'Base TU'!$A:$A,$B16,'Base TU'!$B:$B,\"Total Operação\")/1000","v":159.23099999999999},{"$f":"SUMIFS('Base TU'!AA:AA,'Base TU'!$A:$A,$B16,'Base TU'!$B:$B,\"Total Operação\")/1000","v":163.31100000000001},{"$f":"SUMIFS('Base TU'!AB:AB,'Base TU'!$A:$A,$B16,'Base TU'!$B:$B,\"Total Operação\")/1000","v":137.26},{"$f":"SUMIFS('Base TU'!AC:AC,'Base TU'!$A:$A,$B16,'Base TU'!$B:$B,\"Total Operação\")/1000","v":131.977},null,{"$f":"SUMIFS('Base TU'!AE:AE,'Base TU'!$A:$A,$B16,'Base TU'!$B:$B,\"Total Operação\")/1000","v":89.718000000000004},{"$f":"SUMIFS('Base TU'!AF:AF,'Base TU'!$A:$A,$B16,'Base TU'!$B:$B,\"Total Operação\")/1000","v":182.69200000000001},{"$f":"SUMIFS('Base TU'!AG:AG,'Base TU'!$A:$A,$B16,'Base TU'!$B:$B,\"Total Operação\")/1000","v":178.786},{"$f":"SUMIFS('Base TU'!AH:AH,'Base TU'!$A:$A,$B16,'Base TU'!$B:$B,\"Total Operação\")/1000","v":190.065},{"$f":"SUMIFS('Base TU'!AI:AI,'Base TU'!$A:$A,$B16,'Base TU'!$B:$B,\"Total Operação\")/1000","v":156.91900000000001},{"$f":"SUMIFS('Base TU'!AJ:AJ,'Base TU'!$A:$A,$B16,'Base TU'!$B:$B,\"Total Operação\")/1000","v":175.00700000000001},{"$f":"SUMIFS('Base TU'!AK:AK,'Base TU'!$A:$A,$B16,'Base TU'!$B:$B,\"Total Operação\")/1000","v":211.27799999999999},{"$f":"SUMIFS('Base TU'!AL:AL,'Base TU'!$A:$A,$B16,'Base TU'!$B:$B,\"Total Operação\")/1000","v":223.10599999999999},{"$f":"SUMIFS('Base TU'!AM:AM,'Base TU'!$A:$A,$B16,'Base TU'!$B:$B,\"Total Operação\")/1000","v":208.607},{"$f":"SUMIFS('Base TU'!AN:AN,'Base TU'!$A:$A,$B16,'Base TU'!$B:$B,\"Total Operação\")/1000","v":207.62899999999999},{"$f":"SUMIFS('Base TU'!AO:AO,'Base TU'!$A:$A,$B16,'Base TU'!$B:$B,\"Total Operação\")/1000","v":195.32400000000001},{"$f":"SUMIFS('Base TU'!AP:AP,'Base TU'!$A:$A,$B16,'Base TU'!$B:$B,\"Total Operação\")/1000","v":196.334},null,{"$f":"SUMIFS('Base TU'!AR:AR,'Base TU'!$A:$A,$B16,'Base TU'!$B:$B,\"Total Operação\")/1000","v":187.554},{"$f":"SUMIFS('Base TU'!AS:AS,'Base TU'!$A:$A,$B16,'Base TU'!$B:$B,\"Total Operação\")/1000","v":180.19900000000001},{"$f":"SUMIFS('Base TU'!AT:AT,'Base TU'!$A:$A,$B16,'Base TU'!$B:$B,\"Total Operação\")/1000","v":228.28700000000001},{"$f":"SUMIFS('Base TU'!AU:AU,'Base TU'!$A:$A,$B16,'Base TU'!$B:$B,\"Total Operação\")/1000","v":224.428},{"$f":"SUMIFS('Base TU'!AV:AV,'Base TU'!$A:$A,$B16,'Base TU'!$B:$B,\"Total Operação\")/1000","v":229.67500000000001},{"$f":"SUMIFS('Base TU'!AW:AW,'Base TU'!$A:$A,$B16,'Base TU'!$B:$B,\"Total Operação\")/1000","v":214.065},{"$f":"SUMIFS('Base TU'!AX:AX,'Base TU'!$A:$A,$B16,'Base TU'!$B:$B,\"Total Operação\")/1000","v":245.958},{"$f":"SUMIFS('Base TU'!AY:AY,'Base TU'!$A:$A,$B16,'Base TU'!$B:$B,\"Total Operação\")/1000","v":259.33699999999999},{"$f":"SUMIFS('Base TU'!AZ:AZ,'Base TU'!$A:$A,$B16,'Base TU'!$B:$B,\"Total Operação\")/1000","v":259.73},{"$f":"SUMIFS('Base TU'!BA:BA,'Base TU'!$A:$A,$B16,'Base TU'!$B:$B,\"Total Operação\")/1000","v":246.87899999999999},{"$f":"SUMIFS('Base TU'!BB:BB,'Base TU'!$A:$A,$B16,'Base TU'!$B:$B,\"Total Operação\")/1000","v":248.91},{"$f":"SUMIFS('Base TU'!BC:BC,'Base TU'!$A:$A,$B16,'Base TU'!$B:$B,\"Total Operação\")/1000","v":235.19},null,{"$f":"SUMIFS('Base TU'!BE:BE,'Base TU'!$A:$A,$B16,'Base TU'!$B:$B,\"Total Operação\")/1000","v":230.73099999999999},{"$f":"SUMIFS('Base TU'!BF:BF,'Base TU'!$A:$A,$B16,'Base TU'!$B:$B,\"Total Operação\")/1000","v":220.654},{"$f":"SUMIFS('Base TU'!BG:BG,'Base TU'!$A:$A,$B16,'Base TU'!$B:$B,\"Total Operação\")/1000","v":205.364},{"$f":"SUMIFS('Base TU'!BH:BH,'Base TU'!$A:$A,$B16,'Base TU'!$B:$B,\"Total Operação\")/1000","v":198.601},{"$f":"SUMIFS('Base TU'!BI:BI,'Base TU'!$A:$A,$B16,'Base TU'!$B:$B,\"Total Operação\")/1000","v":191.26499999999999},{"$f":"SUMIFS('Base TU'!BJ:BJ,'Base TU'!$A:$A,$B16,'Base TU'!$B:$B,\"Total Operação\")/1000","v":247.279},{"$f":"SUMIFS('Base TU'!BK:BK,'Base TU'!$A:$A,$B16,'Base TU'!$B:$B,\"Total Operação\")/1000","v":259.38099999999997},{"$f":"SUMIFS('Base TU'!BL:BL,'Base TU'!$A:$A,$B16,'Base TU'!$B:$B,\"Total Operação\")/1000","v":249.148},{"$f":"SUMIFS('Base TU'!BM:BM,'Base TU'!$A:$A,$B16,'Base TU'!$B:$B,\"Total Operação\")/1000","v":257.89400000000001},{"$f":"SUMIFS('Base TU'!BN:BN,'Base TU'!$A:$A,$B16,'Base TU'!$B:$B,\"Total Operação\")/1000","v":251.529},{"$f":"SUMIFS('Base TU'!BO:BO,'Base TU'!$A:$A,$B16,'Base TU'!$B:$B,\"Total Operação\")/1000","v":262.50400000000002},{"$f":"SUMIFS('Base TU'!BP:BP,'Base TU'!$A:$A,$B16,'Base TU'!$B:$B,\"Total Operação\")/1000","v":241.072},null,{"$f":"'Volume TU Norte'!BQ16+'Volume TU Sul'!BQ16","v":226.125},{"$f":"'Volume TU Norte'!BR16+'Volume TU Sul'!BR16","v":230.441},{"$f":"'Volume TU Norte'!BS16+'Volume TU Sul'!BS16","v":224.83099999999999},{"$f":"'Volume TU Norte'!BT16+'Volume TU Sul'!BT16","v":262.33499999999998},{"$f":"'Volume TU Norte'!BU16+'Volume TU Sul'!BU16","v":248.245},{"$f":"'Volume TU Norte'!BV16+'Volume TU Sul'!BV16","v":254.39999999999998},{"$f":"'Volume TU Norte'!BW16+'Volume TU Sul'!BW16","v":258.29399999999998},{"$f":"'Volume TU Norte'!BX16+'Volume TU Sul'!BX16","v":269.73900000000003},{"$f":"'Volume TU Norte'!BY16+'Volume TU Sul'!BY16","v":238.69600000000003},{"$f":"'Volume TU Norte'!BZ16+'Volume TU Sul'!BZ16","v":236.39699999999999},{"$f":"'Volume TU Norte'!CA16+'Volume TU Sul'!CA16","v":236.833},{"$f":"'Volume TU Norte'!CB16+'Volume TU Sul'!CB16","v":251.774},null,{"$f":"'Volume TU Norte'!CD16+'Volume TU Sul'!CD16","v":252.93299999999999},{"$f":"'Volume TU Norte'!CE16+'Volume TU Sul'!CE16","v":272.303},{"$f":"'Volume TU Norte'!CF16+'Volume TU Sul'!CF16","v":291.51300000000003},{"$f":"'Volume TU Norte'!CG16+'Volume TU Sul'!CG16","v":287.88599999999997},{"$f":"'Volume TU Norte'!CH16+'Volume TU Sul'!CH16","v":302.95799999999997},{"$f":"'Volume TU Norte'!CI16+'Volume TU Sul'!CI16","v":0},{"$f":"'Volume TU Norte'!CJ16+'Volume TU Sul'!CJ16","v":0},{"$f":"'Volume TU Norte'!CK16+'Volume TU Sul'!CK16","v":0},{"$f":"'Volume TU Norte'!CL16+'Volume TU Sul'!CL16","v":0},{"$f":"'Volume TU Norte'!CM16+'Volume TU Sul'!CM16","v":0},{"$f":"'Volume TU Norte'!CN16+'Volume TU Sul'!CN16","v":0},{"$f":"'Volume TU Norte'!CO16+'Volume TU Sul'!CO16","v":0}]
[null,"Produtos Industriais",null,{"$f":"SUM(D18:D21)","v":740.06700000000001},{"$f":"SUM(E18:E21)","v":723.72499999999991},816.63599999999997,799.36099999999999,870.37799999999993,931.43100000000004,1003.774,1046.2640000000001,984.11599999999999,978.86300000000006,898.84699999999998,837.36799999999994,null,906.6160000000001,823.70700000000011,902.18300000000011,873.471,995.11500000000001,993.28700000000003,1059.376,1075.7040000000002,1039.1979999999999,1134.3220000000001,1024.19,1045.0639999999999,0,1018.0640000000001,1001.005,1039.749,976.00300000000004,1036.873,1136.0970000000002,1144.318,1186.066,1141.2329999999999,1169.3420000000001,1121.7750000000001,1112.1420000000001,null,1002.3799999999999,876.7829999999999,981.41000000000008,1033.3529999999998,1075.4739999999999,1130.2550000000001,1181.8910000000001,1218.1400000000001,1165.7249999999999,1190.05,1076.4379999999999,896.88699999999994,null,957.24299999999994,977.94500000000005,768.84799999999996,874.09899999999993,980.51299999999992,946.23699999999997,1091.7040000000002,1135.4659999999999,1156.402,971.702,902.89,827.1869999999999,null,{"$f":"SUM(BQ18:BQ21)","v":938.47299999999996},1012.8580000000001,1108.963,1110.4739999999999,1186.4560000000001,1104.8579999999999,1150.1519999999998,1198.5800000000002,1056.68,1089.126,992.56400000000008,981.26,null,{"$f":"SUM(CD18:CD21)","v":979.63200000000006},934.22400000000005,1130.1820000000002,1066.5219999999999,1201.163,0,0,0,0,0,0,0]
[null,"Combustível",null,{"$f":"SUMIFS('Base TU'!E:E,'Base TU'!$A:$A,$B18,'Base TU'!$B:$B,\"Total Operação\")/1000","v":403.89499999999998},{"$f":"SUMIFS('Base TU'!F:F,'Base TU'!$A:$A,$B18,'Base TU'!$B:$B,\"Total Operação\")/1000","v":431.63799999999998},{"$f":"SUMIFS('Base TU'!G:G,'Base TU'!$A:$A,$B18,'Base TU'!$B:$B,\"Total Operação\")/1000","v":472.20400000000001},{"$f":"SUMIFS('Base TU'!H:H,'Base TU'!$A:$A,$B18,'Base TU'!$B:$B,\"Total Operação\")/1000","v":441.57100000000003},{"$f":"SUMIFS('Base TU'!I:I,'Base TU'!$A:$A,$B18,'Base TU'!$B:$B,\"Total Operação\")/1000","v":448.42599999999999},{"$f":"SUMIFS('Base TU'!J:J,'Base TU'!$A:$A,$B18,'Base TU'!$B:$B,\"Total Operação\")/1000","v":485.322},{"$f":"SUMIFS('Base TU'!K:K,'Base TU'!$A:$A,$B18,'Base TU'!$B:$B,\"Total Operação\")/1000","v":485.77},{"$f":"SUMIFS('Base TU'!L:L,'Base TU'!$A:$A,$B18,'Base TU'!$B:$B,\"Total Operação\")/1000","v":504.97399999999999},{"$f":"SUMIFS('Base TU'!M:M,'Base TU'!$A:$A,$B18,'Base TU'!$B:$B,\"Total Operação\")/1000","v":506.60199999999998},{"$f":"SUMIFS('Base TU'!N:N,'Base TU'!$A:$A,$B18,'Base TU'!$B:$B,\"Total Operação\")/1000","v":510.16699999999997},{"$f":"SUMIFS('Base TU'!O:O,'Base TU'!$A:$A,$B18,'Base TU'!$B:$B,\"Total Operação\")/1000","v":451.553},{"$f":"SUMIFS('Base TU'!P:P,'Base TU'!$A:$A,$B18,'Base TU'!$B:$B,\"Total Operação\")/1000","v":416.80599999999998},null,{"$f":"SUMIFS('Base TU'!R:R,'Base TU'!$A:$A,$B18,'Base TU'!$B:$B,\"Total Operação\")/1000","v":438.423},{"$f":"SUMIFS('Base TU'!S:S,'Base TU'!$A:$A,$B18,'Base TU'!$B:$B,\"Total Operação\")/1000","v":403.00900000000001},{"$f":"SUMIFS('Base TU'!T:T,'Base TU'!$A:$A,$B18,'Base TU'!$B:$B,\"Total Operação\")/1000","v":442.32299999999998},{"$f":"SUMIFS('Base TU'!U:U,'Base TU'!$A:$A,$B18,'Base TU'!$B:$B,\"Total Operação\")/1000","v":409.399},{"$f":"SUMIFS('Base TU'!V:V,'Base TU'!$A:$A,$B18,'Base TU'!$B:$B,\"Total Operação\")/1000","v":461.798},{"$f":"SUMIFS('Base TU'!W:W,'Base TU'!$A:$A,$B18,'Base TU'!$B:$B,\"Total Operação\")/1000","v":459.98700000000002},{"$f":"SUMIFS('Base TU'!X:X,'Base TU'!$A:$A,$B18,'Base TU'!$B:$B,\"Total Operação\")/1000","v":520.245},{"$f":"SUMIFS('Base TU'!Y:Y,'Base TU'!$A:$A,$B18,'Base TU'!$B:$B,\"Total Operação\")/1000","v":534.97900000000004},{"$f":"SUMIFS('Base TU'!Z:Z,'Base TU'!$A:$A,$B18,'Base TU'!$B:$B,\"Total Operação\")/1000","v":504.548},{"$f":"SUMIFS('Base TU'!AA:AA,'Base TU'!$A:$A,$B18,'Base TU'!$B:$B,\"Total Operação\")/1000","v":567.98099999999999},{"$f":"SUMIFS('Base TU'!AB:AB,'Base TU'!$A:$A,$B18,'Base TU'!$B:$B,\"Total Operação\")/1000","v":455.34},{"$f":"SUMIFS('Base TU'!AC:AC,'Base TU'!$A:$A,$B18,'Base TU'!$B:$B,\"Total Operação\")/1000","v":441.16300000000001},null,{"$f":"SUMIFS('Base TU'!AE:AE,'Base TU'!$A:$A,$B18,'Base TU'!$B:$B,\"Total Operação\")/1000","v":432.72699999999998},{"$f":"SUMIFS('Base TU'!AF:AF,'Base TU'!$A:$A,$B18,'Base TU'!$B:$B,\"Total Operação\")/1000","v":454.74799999999999},{"$f":"SUMIFS('Base TU'!AG:AG,'Base TU'!$A:$A,$B18,'Base TU'!$B:$B,\"Total Operação\")/1000","v":482.49700000000001},{"$f":"SUMIFS('Base TU'!AH:AH,'Base TU'!$A:$A,$B18,'Base TU'!$B:$B,\"Total Operação\")/1000","v":414.91199999999998},{"$f":"SUMIFS('Base TU'!AI:AI,'Base TU'!$A:$A,$B18,'Base TU'!$B:$B,\"Total Operação\")/1000","v":420.84699999999998},{"$f":"SUMIFS('Base TU'!AJ:AJ,'Base TU'!$A:$A,$B18,'Base TU'!$B:$B,\"Total Operação\")/1000","v":501.89600000000002},{"$f":"SUMIFS('Base TU'!AK:AK,'Base TU'!$A:$A,$B18,'Base TU'!$B:$B,\"Total Operação\")/1000","v":515.88199999999995},{"$f":"SUMIFS('Base TU'!AL:AL,'Base TU'!$A:$A,$B18,'Base TU'!$B:$B,\"Total Operação\")/1000","v":488.697},{"$f":"SUMIFS('Base TU'!AM:AM,'Base TU'!$A:$A,$B18,'Base TU'!$B:$B,\"Total Operação\")/1000","v":482.38299999999998},{"$f":"SUMIFS('Base TU'!AN:AN,'Base TU'!$A:$A,$B18,'Base TU'!$B:$B,\"Total Operação\")/1000","v":465.4},{"$f":"SUMIFS('Base TU'!AO:AO,'Base TU'!$A:$A,$B18,'Base TU'!$B:$B,\"Total Operação\")/1000","v":455.72199999999998},{"$f":"SUMIFS('Base TU'!AP:AP,'Base TU'!$A:$A,$B18,'Base TU'!$B:$B,\"Total Operação\")/1000","v":456.375},null,{"$f":"SUMIFS('Base TU'!AR:AR,'Base TU'!$A:$A,$B18,'Base TU'!$B:$B,\"Total Operação\")/1000","v":457.709},{"$f":"SUMIFS('Base TU'!AS:AS,'Base TU'!$A:$A,$B18,'Base TU'!$B:$B,\"Total Operação\")/1000","v":437.43700000000001},{"$f":"SUMIFS('Base TU'!AT:AT,'Base TU'!$A:$A,$B18,'Base TU'!$B:$B,\"Total Operação\")/1000","v":455.24700000000001},{"$f":"SUMIFS('Base TU'!AU:AU,'Base TU'!$A:$A,$B18,'Base TU'!$B:$B,\"Total Operação\")/1000","v":458.75200000000001},{"$f":"SUMIFS('Base TU'!AV:AV,'Base TU'!$A:$A,$B18,'Base TU'!$B:$B,\"Total Operação\")/1000","v":483.31599999999997},{"$f":"SUMIFS('Base TU'!AW:AW,'Base TU'!$A:$A,$B18,'Base TU'!$B:$B,\"Total Operação\")/1000","v":498.33600000000001},{"$f":"SUMIFS('Base TU'!AX:AX,'Base TU'!$A:$A,$B18,'Base TU'!$B:$B,\"Total Operação\")/1000","v":522.49300000000005},{"$f":"SUMIFS('Base TU'!AY:AY,'Base TU'!$A:$A,$B18,'Base TU'!$B:$B,\"Total Operação\")/1000","v":532.35900000000004},{"$f":"SUMIFS('Base TU'!AZ:AZ,'Base TU'!$A:$A,$B18,'Base TU'!$B:$B,\"Total Operação\")/1000","v":501.47300000000001},{"$f":"SUMIFS('Base TU'!BA:BA,'Base TU'!$A:$A,$B18,'Base TU'!$B:$B,\"Total Operação\")/1000","v":525.13900000000001},{"$f":"SUMIFS('Base TU'!BB:BB,'Base TU'!$A:$A,$B18,'Base TU'!$B:$B,\"Total Operação\")/1000","v":472.61099999999999},{"$f":"SUMIFS('Base TU'!BC:BC,'Base TU'!$A:$A,$B18,'Base TU'!$B:$B,\"Total Operação\")/1000","v":447.55599999999998},null,{"$f":"SUMIFS('Base TU'!BE:BE,'Base TU'!$A:$A,$B18,'Base TU'!$B:$B,\"Total Operação\")/1000","v":461.69600000000003},{"$f":"SUMIFS('Base TU'!BF:BF,'Base TU'!$A:$A,$B18,'Base TU'!$B:$B,\"Total Operação\")/1000","v":461.952},{"$f":"SUMIFS('Base TU'!BG:BG,'Base TU'!$A:$A,$B18,'Base TU'!$B:$B,\"Total Operação\")/1000","v":322.45800000000003},{"$f":"SUMIFS('Base TU'!BH:BH,'Base TU'!$A:$A,$B18,'Base TU'!$B:$B,\"Total Operação\")/1000","v":286.74299999999999},{"$f":"SUMIFS('Base TU'!BI:BI,'Base TU'!$A:$A,$B18,'Base TU'!$B:$B,\"Total Operação\")/1000","v":410.08300000000003},{"$f":"SUMIFS('Base TU'!BJ:BJ,'Base TU'!$A:$A,$B18,'Base TU'!$B:$B,\"Total Operação\")/1000","v":409.30200000000002},{"$f":"SUMIFS('Base TU'!BK:BK,'Base TU'!$A:$A,$B18,'Base TU'!$B:$B,\"Total Operação\")/1000","v":459.79300000000001},{"$f":"SUMIFS('Base TU'!BL:BL,'Base TU'!$A:$A,$B18,'Base TU'!$B:$B,\"Total Operação\")/1000","v":467.178},{"$f":"SUMIFS('Base TU'!BM:BM,'Base TU'!$A:$A,$B18,'Base TU'!$B:$B,\"Total Operação\")/1000","v":492.08300000000003},{"$f":"SUMIFS('Base TU'!BN:BN,'Base TU'!$A:$A,$B18,'Base TU'!$B:$B,\"Total Operação\")/1000","v":520.57899999999995},{"$f":"SUMIFS('Base TU'!BO:BO,'Base TU'!$A:$A,$B18,'Base TU'!$B:$B,\"Total Operação\")/1000","v":494.29399999999998},{"$f":"SUMIFS('Base TU'!BP:BP,'Base TU'!$A:$A,$B18,'Base TU'!$B:$B,\"Total Operação\")/1000","v":458.81799999999998},null,{"$f":"'Volume TU Norte'!BQ18+'Volume TU Sul'!BQ18","v":471.74799999999999},{"$f":"'Volume TU Norte'!BR18+'Volume TU Sul'!BR18","v":480.32400000000001},{"$f":"'Volume TU Norte'!BS18+'Volume TU Sul'!BS18","v":476.45600000000002},{"$f":"'Volume TU Norte'!BT18+'Volume TU Sul'!BT18","v":466.83799999999997},{"$f":"'Volume TU Norte'!BU18+'Volume TU Sul'!BU18","v":510.74400000000003},{"$f":"'Volume TU Norte'!BV18+'Volume TU Sul'!BV18","v":497.00599999999997},{"$f":"'Volume TU Norte'!BW18+'Volume TU Sul'!BW18","v":514.83799999999997},{"$f":"'Volume TU Norte'!BX18+'Volume TU Sul'!BX18","v":533.74599999999998},{"$f":"'Volume TU Norte'!BY18+'Volume TU Sul'!BY18","v":507.57600000000002},{"$f":"'Volume TU Norte'!BZ18+'Volume TU Sul'!BZ18","v":513.89400000000001},{"$f":"'Volume TU Norte'!CA18+'Volume TU Sul'!CA18","v":480.75900000000001},{"$f":"'Volume TU Norte'!CB18+'Volume TU Sul'!CB18","v":488.14},null,{"$f":"'Volume TU Norte'!CD18+'Volume TU Sul'!CD18","v":485.41899999999998},{"$f":"'Volume TU Norte'!CE18+'Volume TU Sul'!CE18","v":485.06},{"$f":"'Volume TU Norte'!CF18+'Volume TU Sul'!CF18","v":526.35800000000006},{"$f":"'Volume TU Norte'!CG18+'Volume TU Sul'!CG18","v":505.322},{"$f":"'Volume TU Norte'!CH18+'Volume TU Sul'!CH18","v":544.226},{"$f":"'Volume TU Norte'!CI18+'Volume TU Sul'!CI18","v":0},{"$f":"'Volume TU Norte'!CJ18+'Volume TU Sul'!CJ18","v":0},{"$f":"'Volume TU Norte'!CK18+'Volume TU Sul'!CK18","v":0},{"$f":"'Volume TU Norte'!CL18+'Volume TU Sul'!CL18","v":0},{"$f":"'Volume TU Norte'!CM18+'Volume TU Sul'!CM18","v":0},{"$f":"'Volume TU Norte'!CN18+'Volume TU Sul'!CN18","v":0},{"$f":"'Volume TU Norte'!CO18+'Volume TU Sul'!CO18","v":0}]
[null,"Madeira, Papel e Celulose",null,{"$f":"SUMIFS('Base TU'!E:E,'Base TU'!$A:$A,$B19,'Base TU'!$B:$B,\"Total Operação\")/1000","v":60.374000000000002},{"$f":"SUMIFS('Base TU'!F:F,'Base TU'!$A:$A,$B19,'Base TU'!$B:$B,\"Total Operação\")/1000","v":62.96},{"$f":"SUMIFS('Base TU'!G:G,'Base TU'!$A:$A,$B19,'Base TU'!$B:$B,\"Total Operação\")/1000","v":64.436000000000007},{"$f":"SUMIFS('Base TU'!H:H,'Base TU'!$A:$A,$B19,'Base TU'!$B:$B,\"Total Operação\")/1000","v":64.503},{"$f":"SUMIFS('Base TU'!I:I,'Base TU'!$A:$A,$B19,'Base TU'!$B:$B,\"Total Operação\")/1000","v":82.876000000000005},{"$f":"SUMIFS('Base TU'!J:J,'Base TU'!$A:$A,$B19,'Base TU'!$B:$B,\"Total Operação\")/1000","v":90.808000000000007},{"$f":"SUMIFS('Base TU'!K:K,'Base TU'!$A:$A,$B19,'Base TU'!$B:$B,\"Total Operação\")/1000","v":129.744},{"$f":"SUMIFS('Base TU'!L:L,'Base TU'!$A:$A,$B19,'Base TU'!$B:$B,\"Total Operação\")/1000","v":131.49199999999999},{"$f":"SUMIFS('Base TU'!M:M,'Base TU'!$A:$A,$B19,'Base TU'!$B:$B,\"Total Operação\")/1000","v":123.536},{"$f":"SUMIFS('Base TU'!N:N,'Base TU'!$A:$A,$B19,'Base TU'!$B:$B,\"Total Operação\")/1000","v":134.66800000000001},{"$f":"SUMIFS('Base TU'!O:O,'Base TU'!$A:$A,$B19,'Base TU'!$B:$B,\"Total Operação\")/1000","v":119.172},{"$f":"SUMIFS('Base TU'!P:P,'Base TU'!$A:$A,$B19,'Base TU'!$B:$B,\"Total Operação\")/1000","v":116.38},null,{"$f":"SUMIFS('Base TU'!R:R,'Base TU'!$A:$A,$B19,'Base TU'!$B:$B,\"Total Operação\")/1000","v":121.27200000000001},{"$f":"SUMIFS('Base TU'!S:S,'Base TU'!$A:$A,$B19,'Base TU'!$B:$B,\"Total Operação\")/1000","v":78.311999999999998},{"$f":"SUMIFS('Base TU'!T:T,'Base TU'!$A:$A,$B19,'Base TU'!$B:$B,\"Total Operação\")/1000","v":109.82},{"$f":"SUMIFS('Base TU'!U:U,'Base TU'!$A:$A,$B19,'Base TU'!$B:$B,\"Total Operação\")/1000","v":123.256},{"$f":"SUMIFS('Base TU'!V:V,'Base TU'!$A:$A,$B19,'Base TU'!$B:$B,\"Total Operação\")/1000","v":143.63200000000001},{"$f":"SUMIFS('Base TU'!W:W,'Base TU'!$A:$A,$B19,'Base TU'!$B:$B,\"Total Operação\")/1000","v":136.928},{"$f":"SUMIFS('Base TU'!X:X,'Base TU'!$A:$A,$B19,'Base TU'!$B:$B,\"Total Operação\")/1000","v":138.18799999999999},{"$f":"SUMIFS('Base TU'!Y:Y,'Base TU'!$A:$A,$B19,'Base TU'!$B:$B,\"Total Operação\")/1000","v":139.476},{"$f":"SUMIFS('Base TU'!Z:Z,'Base TU'!$A:$A,$B19,'Base TU'!$B:$B,\"Total Operação\")/1000","v":147.08799999999999},{"$f":"SUMIFS('Base TU'!AA:AA,'Base TU'!$A:$A,$B19,'Base TU'!$B:$B,\"Total Operação\")/1000","v":178.596},{"$f":"SUMIFS('Base TU'!AB:AB,'Base TU'!$A:$A,$B19,'Base TU'!$B:$B,\"Total Operação\")/1000","v":203.292},{"$f":"SUMIFS('Base TU'!AC:AC,'Base TU'!$A:$A,$B19,'Base TU'!$B:$B,\"Total Operação\")/1000","v":238},null,{"$f":"SUMIFS('Base TU'!AE:AE,'Base TU'!$A:$A,$B19,'Base TU'!$B:$B,\"Total Operação\")/1000","v":218.791},{"$f":"SUMIFS('Base TU'!AF:AF,'Base TU'!$A:$A,$B19,'Base TU'!$B:$B,\"Total Operação\")/1000","v":202.26400000000001},{"$f":"SUMIFS('Base TU'!AG:AG,'Base TU'!$A:$A,$B19,'Base TU'!$B:$B,\"Total Operação\")/1000","v":180.32400000000001},{"$f":"SUMIFS('Base TU'!AH:AH,'Base TU'!$A:$A,$B19,'Base TU'!$B:$B,\"Total Operação\")/1000","v":171.28800000000001},{"$f":"SUMIFS('Base TU'!AI:AI,'Base TU'!$A:$A,$B19,'Base TU'!$B:$B,\"Total Operação\")/1000","v":189.148},{"$f":"SUMIFS('Base TU'!AJ:AJ,'Base TU'!$A:$A,$B19,'Base TU'!$B:$B,\"Total Operação\")/1000","v":257.74400000000003},{"$f":"SUMIFS('Base TU'!AK:AK,'Base TU'!$A:$A,$B19,'Base TU'!$B:$B,\"Total Operação\")/1000","v":234.74},{"$f":"SUMIFS('Base TU'!AL:AL,'Base TU'!$A:$A,$B19,'Base TU'!$B:$B,\"Total Operação\")/1000","v":300.69799999999998},{"$f":"SUMIFS('Base TU'!AM:AM,'Base TU'!$A:$A,$B19,'Base TU'!$B:$B,\"Total Operação\")/1000","v":259.93599999999998},{"$f":"SUMIFS('Base TU'!AN:AN,'Base TU'!$A:$A,$B19,'Base TU'!$B:$B,\"Total Operação\")/1000","v":292.32},{"$f":"SUMIFS('Base TU'!AO:AO,'Base TU'!$A:$A,$B19,'Base TU'!$B:$B,\"Total Operação\")/1000","v":272.892},{"$f":"SUMIFS('Base TU'!AP:AP,'Base TU'!$A:$A,$B19,'Base TU'!$B:$B,\"Total Operação\")/1000","v":284.29599999999999},null,{"$f":"SUMIFS('Base TU'!AR:AR,'Base TU'!$A:$A,$B19,'Base TU'!$B:$B,\"Total Operação\")/1000","v":261.55200000000002},{"$f":"SUMIFS('Base TU'!AS:AS,'Base TU'!$A:$A,$B19,'Base TU'!$B:$B,\"Total Operação\")/1000","v":219.11199999999999},{"$f":"SUMIFS('Base TU'!AT:AT,'Base TU'!$A:$A,$B19,'Base TU'!$B:$B,\"Total Operação\")/1000","v":267.04000000000002},{"$f":"SUMIFS('Base TU'!AU:AU,'Base TU'!$A:$A,$B19,'Base TU'!$B:$B,\"Total Operação\")/1000","v":249.30799999999999},{"$f":"SUMIFS('Base TU'!AV:AV,'Base TU'!$A:$A,$B19,'Base TU'!$B:$B,\"Total Operação\")/1000","v":254.196},{"$f":"SUMIFS('Base TU'!AW:AW,'Base TU'!$A:$A,$B19,'Base TU'!$B:$B,\"Total Operação\")/1000","v":245.80799999999999},{"$f":"SUMIFS('Base TU'!AX:AX,'Base TU'!$A:$A,$B19,'Base TU'!$B:$B,\"Total Operação\")/1000","v":229.32},{"$f":"SUMIFS('Base TU'!AY:AY,'Base TU'!$A:$A,$B19,'Base TU'!$B:$B,\"Total Operação\")/1000","v":260.012},{"$f":"SUMIFS('Base TU'!AZ:AZ,'Base TU'!$A:$A,$B19,'Base TU'!$B:$B,\"Total Operação\")/1000","v":271.52},{"$f":"SUMIFS('Base TU'!BA:BA,'Base TU'!$A:$A,$B19,'Base TU'!$B:$B,\"Total Operação\")/1000","v":293.31200000000001},{"$f":"SUMIFS('Base TU'!BB:BB,'Base TU'!$A:$A,$B19,'Base TU'!$B:$B,\"Total Operação\")/1000","v":284.94},{"$f":"SUMIFS('Base TU'!BC:BC,'Base TU'!$A:$A,$B19,'Base TU'!$B:$B,\"Total Operação\")/1000","v":288.24400000000003},null,{"$f":"SUMIFS('Base TU'!BE:BE,'Base TU'!$A:$A,$B19,'Base TU'!$B:$B,\"Total Operação\")/1000","v":277.45999999999998},{"$f":"SUMIFS('Base TU'!BF:BF,'Base TU'!$A:$A,$B19,'Base TU'!$B:$B,\"Total Operação\")/1000","v":217.452},{"$f":"SUMIFS('Base TU'!BG:BG,'Base TU'!$A:$A,$B19,'Base TU'!$B:$B,\"Total Operação\")/1000","v":218.27600000000001},{"$f":"SUMIFS('Base TU'!BH:BH,'Base TU'!$A:$A,$B19,'Base TU'!$B:$B,\"Total Operação\")/1000","v":199.66},{"$f":"SUMIFS('Base TU'!BI:BI,'Base TU'!$A:$A,$B19,'Base TU'!$B:$B,\"Total Operação\")/1000","v":261.83},{"$f":"SUMIFS('Base TU'!BJ:BJ,'Base TU'!$A:$A,$B19,'Base TU'!$B:$B,\"Total Operação\")/1000","v":257.29599999999999},{"$f":"SUMIFS('Base TU'!BK:BK,'Base TU'!$A:$A,$B19,'Base TU'!$B:$B,\"Total Operação\")/1000","v":297.38600000000002},{"$f":"SUMIFS('Base TU'!BL:BL,'Base TU'!$A:$A,$B19,'Base TU'!$B:$B,\"Total Operação\")/1000","v":304.64400000000001},{"$f":"SUMIFS('Base TU'!BM:BM,'Base TU'!$A:$A,$B19,'Base TU'!$B:$B,\"Total Operação\")/1000","v":307.79000000000002},{"$f":"SUMIFS('Base TU'!BN:BN,'Base TU'!$A:$A,$B19,'Base TU'!$B:$B,\"Total Operação\")/1000","v":302.31599999999997},{"$f":"SUMIFS('Base TU'!BO:BO,'Base TU'!$A:$A,$B19,'Base TU'!$B:$B,\"Total Operação\")/1000","v":303.03199999999998},{"$f":"SUMIFS('Base TU'!BP:BP,'Base TU'!$A:$A,$B19,'Base TU'!$B:$B,\"Total Operação\")/1000","v":188.57},null,{"$f":"'Volume TU Norte'!BQ19+'Volume TU Sul'!BQ19","v":277.14600000000002},{"$f":"'Volume TU Norte'!BR19+'Volume TU Sul'!BR19","v":272.464},{"$f":"'Volume TU Norte'!BS19+'Volume TU Sul'!BS19","v":295.072},{"$f":"'Volume TU Norte'!BT19+'Volume TU Sul'!BT19","v":288.31200000000001},{"$f":"'Volume TU Norte'!BU19+'Volume TU Sul'!BU19","v":298.50599999999997},{"$f":"'Volume TU Norte'!BV19+'Volume TU Sul'!BV19","v":273.60000000000002},{"$f":"'Volume TU Norte'!BW19+'Volume TU Sul'!BW19","v":271.67599999999999},{"$f":"'Volume TU Norte'!BX19+'Volume TU Sul'!BX19","v":321.38600000000002},{"$f":"'Volume TU Norte'!BY19+'Volume TU Sul'!BY19","v":269.28200000000004},{"$f":"'Volume TU Norte'!BZ19+'Volume TU Sul'!BZ19","v":280.38599999999997},{"$f":"'Volume TU Norte'!CA19+'Volume TU Sul'!CA19","v":262.66800000000001},{"$f":"'Volume TU Norte'!CB19+'Volume TU Sul'!CB19","v":253.072},null,{"$f":"'Volume TU Norte'!CD19+'Volume TU Sul'!CD19","v":245.43400000000003},{"$f":"'Volume TU Norte'!CE19+'Volume TU Sul'!CE19","v":211.34200000000001},{"$f":"'Volume TU Norte'!CF19+'Volume TU Sul'!CF19","v":310.00200000000001},{"$f":"'Volume TU Norte'!CG19+'Volume TU Sul'!CG19","v":277.23},{"$f":"'Volume TU Norte'!CH19+'Volume TU Sul'!CH19","v":285.27},{"$f":"'Volume TU Norte'!CI19+'Volume TU Sul'!CI19","v":0},{"$f":"'Volume TU Norte'!CJ19+'Volume TU Sul'!CJ19","v":0},{"$f":"'Volume TU Norte'!CK19+'Volume TU Sul'!CK19","v":0},{"$f":"'Volume TU Norte'!CL19+'Volume TU Sul'!CL19","v":0},{"$f":"'Volume TU Norte'!CM19+'Volume TU Sul'!CM19","v":0},{"$f":"'Volume TU Norte'!CN19+'Volume TU Sul'!CN19","v":0},{"$f":"'Volume TU Norte'!CO19+'Volume TU Sul'!CO19","v":0}]
[null,"Construção Civil",null,{"$f":"SUMIFS('Base TU'!E:E,'Base TU'!$A:$A,$B20,'Base TU'!$B:$B,\"Total Operação\")/1000","v":63.997999999999998},{"$f":"SUMIFS('Base TU'!F:F,'Base TU'!$A:$A,$B20,'Base TU'!$B:$B,\"Total Operação\")/1000","v":75.308000000000007},{"$f":"SUMIFS('Base TU'!G:G,'Base TU'!$A:$A,$B20,'Base TU'!$B:$B,\"Total Operação\")/1000","v":84.034999999999997},{"$f":"SUMIFS('Base TU'!H:H,'Base TU'!$A:$A,$B20,'Base TU'!$B:$B,\"Total Operação\")/1000","v":85.867000000000004},{"$f":"SUMIFS('Base TU'!I:I,'Base TU'!$A:$A,$B20,'Base TU'!$B:$B,\"Total Operação\")/1000","v":78.944000000000003},{"$f":"SUMIFS('Base TU'!J:J,'Base TU'!$A:$A,$B20,'Base TU'!$B:$B,\"Total Operação\")/1000","v":97.022999999999996},{"$f":"SUMIFS('Base TU'!K:K,'Base TU'!$A:$A,$B20,'Base TU'!$B:$B,\"Total Operação\")/1000","v":102.803},{"$f":"SUMIFS('Base TU'!L:L,'Base TU'!$A:$A,$B20,'Base TU'!$B:$B,\"Total Operação\")/1000","v":111.39700000000001},{"$f":"SUMIFS('Base TU'!M:M,'Base TU'!$A:$A,$B20,'Base TU'!$B:$B,\"Total Operação\")/1000","v":105.209},{"$f":"SUMIFS('Base TU'!N:N,'Base TU'!$A:$A,$B20,'Base TU'!$B:$B,\"Total Operação\")/1000","v":100.83},{"$f":"SUMIFS('Base TU'!O:O,'Base TU'!$A:$A,$B20,'Base TU'!$B:$B,\"Total Operação\")/1000","v":97.067999999999998},{"$f":"SUMIFS('Base TU'!P:P,'Base TU'!$A:$A,$B20,'Base TU'!$B:$B,\"Total Operação\")/1000","v":92.293000000000006},null,{"$f":"SUMIFS('Base TU'!R:R,'Base TU'!$A:$A,$B20,'Base TU'!$B:$B,\"Total Operação\")/1000","v":101.41200000000001},{"$f":"SUMIFS('Base TU'!S:S,'Base TU'!$A:$A,$B20,'Base TU'!$B:$B,\"Total Operação\")/1000","v":87.427000000000007},{"$f":"SUMIFS('Base TU'!T:T,'Base TU'!$A:$A,$B20,'Base TU'!$B:$B,\"Total Operação\")/1000","v":94.281999999999996},{"$f":"SUMIFS('Base TU'!U:U,'Base TU'!$A:$A,$B20,'Base TU'!$B:$B,\"Total Operação\")/1000","v":92.403000000000006},{"$f":"SUMIFS('Base TU'!V:V,'Base TU'!$A:$A,$B20,'Base TU'!$B:$B,\"Total Operação\")/1000","v":101.154},{"$f":"SUMIFS('Base TU'!W:W,'Base TU'!$A:$A,$B20,'Base TU'!$B:$B,\"Total Operação\")/1000","v":82.278999999999996},{"$f":"SUMIFS('Base TU'!X:X,'Base TU'!$A:$A,$B20,'Base TU'!$B:$B,\"Total Operação\")/1000","v":101.848},{"$f":"SUMIFS('Base TU'!Y:Y,'Base TU'!$A:$A,$B20,'Base TU'!$B:$B,\"Total Operação\")/1000","v":102.581},{"$f":"SUMIFS('Base TU'!Z:Z,'Base TU'!$A:$A,$B20,'Base TU'!$B:$B,\"Total Operação\")/1000","v":93.915999999999997},{"$f":"SUMIFS('Base TU'!AA:AA,'Base TU'!$A:$A,$B20,'Base TU'!$B:$B,\"Total Operação\")/1000","v":100.30500000000001},{"$f":"SUMIFS('Base TU'!AB:AB,'Base TU'!$A:$A,$B20,'Base TU'!$B:$B,\"Total Operação\")/1000","v":75.057000000000002},{"$f":"SUMIFS('Base TU'!AC:AC,'Base TU'!$A:$A,$B20,'Base TU'!$B:$B,\"Total Operação\")/1000","v":86.501999999999995},null,{"$f":"SUMIFS('Base TU'!AE:AE,'Base TU'!$A:$A,$B20,'Base TU'!$B:$B,\"Total Operação\")/1000","v":79.734999999999999},{"$f":"SUMIFS('Base TU'!AF:AF,'Base TU'!$A:$A,$B20,'Base TU'!$B:$B,\"Total Operação\")/1000","v":78.171999999999997},{"$f":"SUMIFS('Base TU'!AG:AG,'Base TU'!$A:$A,$B20,'Base TU'!$B:$B,\"Total Operação\")/1000","v":91.382000000000005},{"$f":"SUMIFS('Base TU'!AH:AH,'Base TU'!$A:$A,$B20,'Base TU'!$B:$B,\"Total Operação\")/1000","v":78.183999999999997},{"$f":"SUMIFS('Base TU'!AI:AI,'Base TU'!$A:$A,$B20,'Base TU'!$B:$B,\"Total Operação\")/1000","v":82.296999999999997},{"$f":"SUMIFS('Base TU'!AJ:AJ,'Base TU'!$A:$A,$B20,'Base TU'!$B:$B,\"Total Operação\")/1000","v":81.956000000000003},{"$f":"SUMIFS('Base TU'!AK:AK,'Base TU'!$A:$A,$B20,'Base TU'!$B:$B,\"Total Operação\")/1000","v":83.495000000000005},{"$f":"SUMIFS('Base TU'!AL:AL,'Base TU'!$A:$A,$B20,'Base TU'!$B:$B,\"Total Operação\")/1000","v":82.566999999999993},{"$f":"SUMIFS('Base TU'!AM:AM,'Base TU'!$A:$A,$B20,'Base TU'!$B:$B,\"Total Operação\")/1000","v":89.221999999999994},{"$f":"SUMIFS('Base TU'!AN:AN,'Base TU'!$A:$A,$B20,'Base TU'!$B:$B,\"Total Operação\")/1000","v":95.337000000000003},{"$f":"SUMIFS('Base TU'!AO:AO,'Base TU'!$A:$A,$B20,'Base TU'!$B:$B,\"Total Operação\")/1000","v":95.387},{"$f":"SUMIFS('Base TU'!AP:AP,'Base TU'!$A:$A,$B20,'Base TU'!$B:$B,\"Total Operação\")/1000","v":69.846999999999994},null,{"$f":"SUMIFS('Base TU'!AR:AR,'Base TU'!$A:$A,$B20,'Base TU'!$B:$B,\"Total Operação\")/1000","v":86.203999999999994},{"$f":"SUMIFS('Base TU'!AS:AS,'Base TU'!$A:$A,$B20,'Base TU'!$B:$B,\"Total Operação\")/1000","v":82.105999999999995},{"$f":"SUMIFS('Base TU'!AT:AT,'Base TU'!$A:$A,$B20,'Base TU'!$B:$B,\"Total Operação\")/1000","v":82.644000000000005},{"$f":"SUMIFS('Base TU'!AU:AU,'Base TU'!$A:$A,$B20,'Base TU'!$B:$B,\"Total Operação\")/1000","v":76.054000000000002},{"$f":"SUMIFS('Base TU'!AV:AV,'Base TU'!$A:$A,$B20,'Base TU'!$B:$B,\"Total Operação\")/1000","v":87.521000000000001},{"$f":"SUMIFS('Base TU'!AW:AW,'Base TU'!$A:$A,$B20,'Base TU'!$B:$B,\"Total Operação\")/1000","v":90.51},{"$f":"SUMIFS('Base TU'!AX:AX,'Base TU'!$A:$A,$B20,'Base TU'!$B:$B,\"Total Operação\")/1000","v":94.313999999999993},{"$f":"SUMIFS('Base TU'!AY:AY,'Base TU'!$A:$A,$B20,'Base TU'!$B:$B,\"Total Operação\")/1000","v":103.953},{"$f":"SUMIFS('Base TU'!AZ:AZ,'Base TU'!$A:$A,$B20,'Base TU'!$B:$B,\"Total Operação\")/1000","v":97.713999999999999},{"$f":"SUMIFS('Base TU'!BA:BA,'Base TU'!$A:$A,$B20,'Base TU'!$B:$B,\"Total Operação\")/1000","v":100.559},{"$f":"SUMIFS('Base TU'!BB:BB,'Base TU'!$A:$A,$B20,'Base TU'!$B:$B,\"Total Operação\")/1000","v":87.456000000000003},{"$f":"SUMIFS('Base TU'!BC:BC,'Base TU'!$A:$A,$B20,'Base TU'!$B:$B,\"Total Operação\")/1000","v":79.257999999999996},null,{"$f":"SUMIFS('Base TU'!BE:BE,'Base TU'!$A:$A,$B20,'Base TU'!$B:$B,\"Total Operação\")/1000","v":89.27},{"$f":"SUMIFS('Base TU'!BF:BF,'Base TU'!$A:$A,$B20,'Base TU'!$B:$B,\"Total Operação\")/1000","v":92.811000000000007},{"$f":"SUMIFS('Base TU'!BG:BG,'Base TU'!$A:$A,$B20,'Base TU'!$B:$B,\"Total Operação\")/1000","v":60.804000000000002},{"$f":"SUMIFS('Base TU'!BH:BH,'Base TU'!$A:$A,$B20,'Base TU'!$B:$B,\"Total Operação\")/1000","v":90.418999999999997},{"$f":"SUMIFS('Base TU'!BI:BI,'Base TU'!$A:$A,$B20,'Base TU'!$B:$B,\"Total Operação\")/1000","v":102.468},{"$f":"SUMIFS('Base TU'!BJ:BJ,'Base TU'!$A:$A,$B20,'Base TU'!$B:$B,\"Total Operação\")/1000","v":92.522999999999996},{"$f":"SUMIFS('Base TU'!BK:BK,'Base TU'!$A:$A,$B20,'Base TU'!$B:$B,\"Total Operação\")/1000","v":89.373000000000005},{"$f":"SUMIFS('Base TU'!BL:BL,'Base TU'!$A:$A,$B20,'Base TU'!$B:$B,\"Total Operação\")/1000","v":98.649000000000001},{"$f":"SUMIFS('Base TU'!BM:BM,'Base TU'!$A:$A,$B20,'Base TU'!$B:$B,\"Total Operação\")/1000","v":94.611000000000004},{"$f":"SUMIFS('Base TU'!BN:BN,'Base TU'!$A:$A,$B20,'Base TU'!$B:$B,\"Total Operação\")/1000","v":113.919},{"$f":"SUMIFS('Base TU'!BO:BO,'Base TU'!$A:$A,$B20,'Base TU'!$B:$B,\"Total Operação\")/1000","v":101.962},{"$f":"SUMIFS('Base TU'!BP:BP,'Base TU'!$A:$A,$B20,'Base TU'!$B:$B,\"Total Operação\")/1000","v":86.102999999999994},null,{"$f":"'Volume TU Norte'!BQ20+'Volume TU Sul'!BQ20","v":95.335999999999999},{"$f":"'Volume TU Norte'!BR20+'Volume TU Sul'!BR20","v":88.218999999999994},{"$f":"'Volume TU Norte'!BS20+'Volume TU Sul'!BS20","v":110.014},{"$f":"'Volume TU Norte'!BT20+'Volume TU Sul'!BT20","v":110.886},{"$f":"'Volume TU Norte'!BU20+'Volume TU Sul'!BU20","v":111.273},{"$f":"'Volume TU Norte'!BV20+'Volume TU Sul'!BV20","v":101.712},{"$f":"'Volume TU Norte'!BW20+'Volume TU Sul'!BW20","v":110.006},{"$f":"'Volume TU Norte'!BX20+'Volume TU Sul'!BX20","v":114.22499999999999},{"$f":"'Volume TU Norte'!BY20+'Volume TU Sul'!BY20","v":112.429},{"$f":"'Volume TU Norte'!BZ20+'Volume TU Sul'!BZ20","v":105.066},{"$f":"'Volume TU Norte'!CA20+'Volume TU Sul'!CA20","v":107.84},{"$f":"'Volume TU Norte'!CB20+'Volume TU Sul'!CB20","v":99.099000000000004},null,{"$f":"'Volume TU Norte'!CD20+'Volume TU Sul'!CD20","v":97.650999999999996},{"$f":"'Volume TU Norte'!CE20+'Volume TU Sul'!CE20","v":99.384},{"$f":"'Volume TU Norte'!CF20+'Volume TU Sul'!CF20","v":105.661},{"$f":"'Volume TU Norte'!CG20+'Volume TU Sul'!CG20","v":95.661000000000001},{"$f":"'Volume TU Norte'!CH20+'Volume TU Sul'!CH20","v":112.614},{"$f":"'Volume TU Norte'!CI20+'Volume TU Sul'!CI20","v":0},{"$f":"'Volume TU Norte'!CJ20+'Volume TU Sul'!CJ20","v":0},{"$f":"'Volume TU Norte'!CK20+'Volume TU Sul'!CK20","v":0},{"$f":"'Volume TU Norte'!CL20+'Volume TU Sul'!CL20","v":0},{"$f":"'Volume TU Norte'!CM20+'Volume TU Sul'!CM20","v":0},{"$f":"'Volume TU Norte'!CN20+'Volume TU Sul'!CN20","v":0},{"$f":"'Volume TU Norte'!CO20+'Volume TU Sul'!CO20","v":0}]
[null,"Siderúrgicos e Mineração",null,{"$f":"SUMIFS('Base TU'!E:E,'Base TU'!$A:$A,$B21,'Base TU'!$B:$B,\"Total Operação\")/1000","v":211.8},{"$f":"SUMIFS('Base TU'!F:F,'Base TU'!$A:$A,$B21,'Base TU'!$B:$B,\"Total Operação\")/1000","v":153.81899999999999},{"$f":"SUMIFS('Base TU'!G:G,'Base TU'!$A:$A,$B21,'Base TU'!$B:$B,\"Total Operação\")/1000","v":195.96100000000001},{"$f":"SUMIFS('Base TU'!H:H,'Base TU'!$A:$A,$B21,'Base TU'!$B:$B,\"Total Operação\")/1000","v":207.42},{"$f":"SUMIFS('Base TU'!I:I,'Base TU'!$A:$A,$B21,'Base TU'!$B:$B,\"Total Operação\")/1000","v":260.13200000000001},{"$f":"SUMIFS('Base TU'!J:J,'Base TU'!$A:$A,$B21,'Base TU'!$B:$B,\"Total Operação\")/1000","v":258.27800000000002},{"$f":"SUMIFS('Base TU'!K:K,'Base TU'!$A:$A,$B21,'Base TU'!$B:$B,\"Total Operação\")/1000","v":285.45699999999999},{"$f":"SUMIFS('Base TU'!L:L,'Base TU'!$A:$A,$B21,'Base TU'!$B:$B,\"Total Operação\")/1000","v":298.40100000000001},{"$f":"SUMIFS('Base TU'!M:M,'Base TU'!$A:$A,$B21,'Base TU'!$B:$B,\"Total Operação\")/1000","v":248.76900000000001},{"$f":"SUMIFS('Base TU'!N:N,'Base TU'!$A:$A,$B21,'Base TU'!$B:$B,\"Total Operação\")/1000","v":233.19800000000001},{"$f":"SUMIFS('Base TU'!O:O,'Base TU'!$A:$A,$B21,'Base TU'!$B:$B,\"Total Operação\")/1000","v":231.054},{"$f":"SUMIFS('Base TU'!P:P,'Base TU'!$A:$A,$B21,'Base TU'!$B:$B,\"Total Operação\")/1000","v":211.88900000000001},null,{"$f":"SUMIFS('Base TU'!R:R,'Base TU'!$A:$A,$B21,'Base TU'!$B:$B,\"Total Operação\")/1000","v":245.50899999999999},{"$f":"SUMIFS('Base TU'!S:S,'Base TU'!$A:$A,$B21,'Base TU'!$B:$B,\"Total Operação\")/1000","v":254.959},{"$f":"SUMIFS('Base TU'!T:T,'Base TU'!$A:$A,$B21,'Base TU'!$B:$B,\"Total Operação\")/1000","v":255.75800000000001},{"$f":"SUMIFS('Base TU'!U:U,'Base TU'!$A:$A,$B21,'Base TU'!$B:$B,\"Total Operação\")/1000","v":248.41300000000001},{"$f":"SUMIFS('Base TU'!V:V,'Base TU'!$A:$A,$B21,'Base TU'!$B:$B,\"Total Operação\")/1000","v":288.53100000000001},{"$f":"SUMIFS('Base TU'!W:W,'Base TU'!$A:$A,$B21,'Base TU'!$B:$B,\"Total Operação\")/1000","v":314.09300000000002},{"$f":"SUMIFS('Base TU'!X:X,'Base TU'!$A:$A,$B21,'Base TU'!$B:$B,\"Total Operação\")/1000","v":299.09500000000003},{"$f":"SUMIFS('Base TU'!Y:Y,'Base TU'!$A:$A,$B21,'Base TU'!$B:$B,\"Total Operação\")/1000","v":298.66800000000001},{"$f":"SUMIFS('Base TU'!Z:Z,'Base TU'!$A:$A,$B21,'Base TU'!$B:$B,\"Total Operação\")/1000","v":293.64600000000002},{"$f":"SUMIFS('Base TU'!AA:AA,'Base TU'!$A:$A,$B21,'Base TU'!$B:$B,\"Total Operação\")/1000","v":287.44},{"$f":"SUMIFS('Base TU'!AB:AB,'Base TU'!$A:$A,$B21,'Base TU'!$B:$B,\"Total Operação\")/1000","v":290.50099999999998},{"$f":"SUMIFS('Base TU'!AC:AC,'Base TU'!$A:$A,$B21,'Base TU'!$B:$B,\"Total Operação\")/1000","v":279.399},null,{"$f":"SUMIFS('Base TU'!AE:AE,'Base TU'!$A:$A,$B21,'Base TU'!$B:$B,\"Total Operação\")/1000","v":286.81099999999998},{"$f":"SUMIFS('Base TU'!AF:AF,'Base TU'!$A:$A,$B21,'Base TU'!$B:$B,\"Total Operação\")/1000","v":265.82100000000003},{"$f":"SUMIFS('Base TU'!AG:AG,'Base TU'!$A:$A,$B21,'Base TU'!$B:$B,\"Total Operação\")/1000","v":285.54599999999999},{"$f":"SUMIFS('Base TU'!AH:AH,'Base TU'!$A:$A,$B21,'Base TU'!$B:$B,\"Total Operação\")/1000","v":311.61900000000003},{"$f":"SUMIFS('Base TU'!AI:AI,'Base TU'!$A:$A,$B21,'Base TU'!$B:$B,\"Total Operação\")/1000","v":344.58100000000002},{"$f":"SUMIFS('Base TU'!AJ:AJ,'Base TU'!$A:$A,$B21,'Base TU'!$B:$B,\"Total Operação\")/1000","v":294.50099999999998},{"$f":"SUMIFS('Base TU'!AK:AK,'Base TU'!$A:$A,$B21,'Base TU'!$B:$B,\"Total Operação\")/1000","v":310.20100000000002},{"$f":"SUMIFS('Base TU'!AL:AL,'Base TU'!$A:$A,$B21,'Base TU'!$B:$B,\"Total Operação\")/1000","v":314.10399999999998},{"$f":"SUMIFS('Base TU'!AM:AM,'Base TU'!$A:$A,$B21,'Base TU'!$B:$B,\"Total Operação\")/1000","v":309.69200000000001},{"$f":"SUMIFS('Base TU'!AN:AN,'Base TU'!$A:$A,$B21,'Base TU'!$B:$B,\"Total Operação\")/1000","v":316.28500000000003},{"$f":"SUMIFS('Base TU'!AO:AO,'Base TU'!$A:$A,$B21,'Base TU'!$B:$B,\"Total Operação\")/1000","v":297.774},{"$f":"SUMIFS('Base TU'!AP:AP,'Base TU'!$A:$A,$B21,'Base TU'!$B:$B,\"Total Operação\")/1000","v":301.62400000000002},null,{"$f":"SUMIFS('Base TU'!AR:AR,'Base TU'!$A:$A,$B21,'Base TU'!$B:$B,\"Total Operação\")/1000","v":196.91499999999999},{"$f":"SUMIFS('Base TU'!AS:AS,'Base TU'!$A:$A,$B21,'Base TU'!$B:$B,\"Total Operação\")/1000","v":138.12799999999999},{"$f":"SUMIFS('Base TU'!AT:AT,'Base TU'!$A:$A,$B21,'Base TU'!$B:$B,\"Total Operação\")/1000","v":176.47900000000001},{"$f":"SUMIFS('Base TU'!AU:AU,'Base TU'!$A:$A,$B21,'Base TU'!$B:$B,\"Total Operação\")/1000","v":249.239},{"$f":"SUMIFS('Base TU'!AV:AV,'Base TU'!$A:$A,$B21,'Base TU'!$B:$B,\"Total Operação\")/1000","v":250.441},{"$f":"SUMIFS('Base TU'!AW:AW,'Base TU'!$A:$A,$B21,'Base TU'!$B:$B,\"Total Operação\")/1000","v":295.601},{"$f":"SUMIFS('Base TU'!AX:AX,'Base TU'!$A:$A,$B21,'Base TU'!$B:$B,\"Total Operação\")/1000","v":335.76400000000001},{"$f":"SUMIFS('Base TU'!AY:AY,'Base TU'!$A:$A,$B21,'Base TU'!$B:$B,\"Total Operação\")/1000","v":321.81599999999997},{"$f":"SUMIFS('Base TU'!AZ:AZ,'Base TU'!$A:$A,$B21,'Base TU'!$B:$B,\"Total Operação\")/1000","v":295.01799999999997},{"$f":"SUMIFS('Base TU'!BA:BA,'Base TU'!$A:$A,$B21,'Base TU'!$B:$B,\"Total Operação\")/1000","v":271.04000000000002},{"$f":"SUMIFS('Base TU'!BB:BB,'Base TU'!$A:$A,$B21,'Base TU'!$B:$B,\"Total Operação\")/1000","v":231.43100000000001},{"$f":"SUMIFS('Base TU'!BC:BC,'Base TU'!$A:$A,$B21,'Base TU'!$B:$B,\"Total Operação\")/1000","v":81.828999999999994},null,{"$f":"SUMIFS('Base TU'!BE:BE,'Base TU'!$A:$A,$B21,'Base TU'!$B:$B,\"Total Operação\")/1000","v":128.81700000000001},{"$f":"SUMIFS('Base TU'!BF:BF,'Base TU'!$A:$A,$B21,'Base TU'!$B:$B,\"Total Operação\")/1000","v":205.73},{"$f":"SUMIFS('Base TU'!BG:BG,'Base TU'!$A:$A,$B21,'Base TU'!$B:$B,\"Total Operação\")/1000","v":167.31},{"$f":"SUMIFS('Base TU'!BH:BH,'Base TU'!$A:$A,$B21,'Base TU'!$B:$B,\"Total Operação\")/1000","v":297.27699999999999},{"$f":"SUMIFS('Base TU'!BI:BI,'Base TU'!$A:$A,$B21,'Base TU'!$B:$B,\"Total Operação\")/1000","v":206.13200000000001},{"$f":"SUMIFS('Base TU'!BJ:BJ,'Base TU'!$A:$A,$B21,'Base TU'!$B:$B,\"Total Operação\")/1000","v":187.11600000000001},{"$f":"SUMIFS('Base TU'!BK:BK,'Base TU'!$A:$A,$B21,'Base TU'!$B:$B,\"Total Operação\")/1000","v":245.15199999999999},{"$f":"SUMIFS('Base TU'!BL:BL,'Base TU'!$A:$A,$B21,'Base TU'!$B:$B,\"Total Operação\")/1000","v":264.995},{"$f":"SUMIFS('Base TU'!BM:BM,'Base TU'!$A:$A,$B21,'Base TU'!$B:$B,\"Total Operação\")/1000","v":261.91800000000001},{"$f":"SUMIFS('Base TU'!BN:BN,'Base TU'!$A:$A,$B21,'Base TU'!$B:$B,\"Total Operação\")/1000","v":34.887999999999998},{"$f":"SUMIFS('Base TU'!BO:BO,'Base TU'!$A:$A,$B21,'Base TU'!$B:$B,\"Total Operação\")/1000","v":3.6019999999999999},{"$f":"SUMIFS('Base TU'!BP:BP,'Base TU'!$A:$A,$B21,'Base TU'!$B:$B,\"Total Operação\")/1000","v":93.695999999999998},null,{"$f":"'Volume TU Norte'!BQ21+'Volume TU Sul'!BQ21","v":94.242999999999995},{"$f":"'Volume TU Norte'!BR21+'Volume TU Sul'!BR21","v":171.851},{"$f":"'Volume TU Norte'!BS21+'Volume TU Sul'!BS21","v":227.42099999999999},{"$f":"'Volume TU Norte'!BT21+'Volume TU Sul'!BT21","v":244.43799999999999},{"$f":"'Volume TU Norte'!BU21+'Volume TU Sul'!BU21","v":265.93299999999999},{"$f":"'Volume TU Norte'!BV21+'Volume TU Sul'!BV21","v":232.54},{"$f":"'Volume TU Norte'!BW21+'Volume TU Sul'!BW21","v":253.63200000000001},{"$f":"'Volume TU Norte'!BX21+'Volume TU Sul'!BX21","v":229.22300000000001},{"$f":"'Volume TU Norte'!BY21+'Volume TU Sul'!BY21","v":167.393},{"$f":"'Volume TU Norte'!BZ21+'Volume TU Sul'!BZ21","v":189.78},{"$f":"'Volume TU Norte'!CA21+'Volume TU Sul'!CA21","v":141.297},{"$f":"'Volume TU Norte'!CB21+'Volume TU Sul'!CB21","v":140.94900000000001},null,{"$f":"'Volume TU Norte'!CD21+'Volume TU Sul'!CD21","v":151.12799999999999},{"$f":"'Volume TU Norte'!CE21+'Volume TU Sul'!CE21","v":138.43799999999999},{"$f":"'Volume TU Norte'!CF21+'Volume TU Sul'!CF21","v":188.161},{"$f":"'Volume TU Norte'!CG21+'Volume TU Sul'!CG21","v":188.309},{"$f":"'Volume TU Norte'!CH21+'Volume TU Sul'!CH21","v":259.053},{"$f":"'Volume TU Norte'!CI21+'Volume TU Sul'!CI21","v":0},{"$f":"'Volume TU Norte'!CJ21+'Volume TU Sul'!CJ21","v":0},{"$f":"'Volume TU Norte'!CK21+'Volume TU Sul'!CK21","v":0},{"$f":"'Volume TU Norte'!CL21+'Volume TU Sul'!CL21","v":0},{"$f":"'Volume TU Norte'!CM21+'Volume TU Sul'!CM21","v":0},{"$f":"'Volume TU Norte'!CN21+'Volume TU Sul'!CN21","v":0},{"$f":"'Volume TU Norte'!CO21+'Volume TU Sul'!CO21","v":0}]
[]
[null,"Operação Rumo (TU Mil)"]
[null,"Elevação",null,{"$f":"'Rumo BD'!C10/1000","v":563.94399999999996},{"$f":"'Rumo BD'!D10/1000","v":1034.725146},{"$f":"'Rumo BD'!E10/1000","v":1256.2875680000002},{"$f":"'Rumo BD'!F10/1000","v":790.29090199999996},{"$f":"'Rumo BD'!G10/1000","v":1385.839786},{"$f":"'Rumo BD'!H10/1000","v":1337.2284069999998},{"$f":"'Rumo BD'!I10/1000","v":1446.5915230000001},{"$f":"'Rumo BD'!J10/1000","v":1370.670883},{"$f":"'Rumo BD'!K10/1000","v":1335.4415190000002},{"$f":"'Rumo BD'!L10/1000","v":1002.999902},{"$f":"'Rumo BD'!M10/1000","v":991.27300100000002},{"$f":"'Rumo BD'!N10/1000","v":598.403908},null,{"$f":"'Rumo BD'!P10/1000","v":448.69178600000004},{"$f":"'Rumo BD'!Q10/1000","v":990.33767399999999},{"$f":"'Rumo BD'!R10/1000","v":1062.339528},{"$f":"'Rumo BD'!S10/1000","v":728.49934499999995},{"$f":"'Rumo BD'!T10/1000","v":1386.04321},{"$f":"'Rumo BD'!U10/1000","v":1177.1301960000001},{"$f":"'Rumo BD'!V10/1000","v":1198.89724},{"$f":"'Rumo BD'!W10/1000","v":1305.7225740000001},{"$f":"'Rumo BD'!X10/1000","v":1462.392844},{"$f":"'Rumo BD'!Y10/1000","v":1422.8486189999999},{"$f":"'Rumo BD'!Z10/1000","v":1202.030622},{"$f":"'Rumo BD'!AA10/1000","v":748.33121099999994},null,{"$f":"'Rumo BD'!AC10/1000","v":575.25229800000011},{"$f":"'Rumo BD'!AD10/1000","v":894.19707600000004},{"$f":"'Rumo BD'!AE10/1000","v":1004.462753},{"$f":"'Rumo BD'!AF10/1000","v":770.34461599999997},{"$f":"'Rumo BD'!AG10/1000","v":860.54832499999998},{"$f":"'Rumo BD'!AH10/1000","v":1041.4643060000001},{"$f":"'Rumo BD'!AI10/1000","v":1139.3327389999999},{"$f":"'Rumo BD'!AJ10/1000","v":1028.6506129999998},{"$f":"'Rumo BD'!AK10/1000","v":1300.371042},{"$f":"'Rumo BD'!AL10/1000","v":578.96342099999993},{"$f":"'Rumo BD'!AM10/1000","v":1127.2850169999999},{"$f":"'Rumo BD'!AN10/1000","v":1079.664777},null,{"$f":"'Rumo BD'!AP10/1000","v":849.24155000000007},{"$f":"'Rumo BD'!AQ10/1000","v":848.43707999999992},{"$f":"'Rumo BD'!AR10/1000","v":1122.6431399999999},{"$f":"'Rumo BD'!AS10/1000","v":820.90233000000001},{"$f":"'Rumo BD'!AT10/1000","v":683.43934000000002},{"$f":"'Rumo BD'!AU10/1000","v":1123.12553},{"$f":"'Rumo BD'!AV10/1000","v":1175.6769299999999},{"$f":"'Rumo BD'!AW10/1000","v":971.10751000000005},{"$f":"'Rumo BD'!AX10/1000","v":953.16534000000001},{"$f":"'Rumo BD'!AY10/1000","v":1148.33692},{"$f":"'Rumo BD'!AZ10/1000","v":766.63091000000009},{"$f":"'Rumo BD'!BA10/1000","v":750.42047000000002},null,{"$f":"'Rumo BD'!BC10/1000","v":593.45799},{"$f":"'Rumo BD'!BD10/1000","v":844.55329000000006},{"$f":"'Rumo BD'!BE10/1000","v":1106.75332},{"$f":"'Rumo BD'!BF10/1000","v":1257.8714399999999},{"$f":"'Rumo BD'!BG10/1000","v":1654.9123300000001},{"$f":"'Rumo BD'!BH10/1000","v":1210.7697599999999},{"$f":"'Rumo BD'!BI10/1000","v":1452.7168700000002},{"$f":"'Rumo BD'!BJ10/1000","v":1502.8918899999999},{"$f":"'Rumo BD'!BK10/1000","v":1289.8112900000001},{"$f":"'Rumo BD'!BL10/1000","v":1181.0653300000001},{"$f":"'Rumo BD'!BM10/1000","v":1208.73676},{"$f":"'Rumo BD'!BN10/1000","v":1143.1041399999999},null,{"$f":"'Rumo BD'!BP10/1000","v":644.08199999999999},{"$f":"'Rumo BD'!BQ10/1000","v":845.28908999999999},{"$f":"'Rumo BD'!BR10/1000","v":1374.48848},{"$f":"'Rumo BD'!BS10/1000","v":1178.8648700000001},{"$f":"'Rumo BD'!BT10/1000","v":1286.0656000000001},{"$f":"'Rumo BD'!BU10/1000","v":1171.8168780000001},{"$f":"'Rumo BD'!BV10/1000","v":922.17348200000004},{"$f":"'Rumo BD'!BW10/1000","v":1053.56447},{"$f":"'Rumo BD'!BX10/1000","v":1119.7368570000001},{"$f":"'Rumo BD'!BY10/1000","v":781.59292500000004},{"$f":"'Rumo BD'!BZ10/1000","v":1165.4997529999998},{"$f":"'Rumo BD'!CA10/1000","v":950.15667699999995},null,{"$f":"'Rumo BD'!CC10/1000","v":745.6966480000001},{"$f":"'Rumo BD'!CD10/1000","v":1119.7388880000001},{"$f":"'Rumo BD'!CE10/1000","v":1051.8928740000001},{"$f":"'Rumo BD'!CF10/1000","v":665.72074599999996},{"$f":"'Rumo BD'!CG10/1000","v":1178.2898660000001},{"$f":"'Rumo BD'!CH10/1000","v":0},{"$f":"'Rumo BD'!CI10/1000","v":0},{"$f":"'Rumo BD'!CJ10/1000","v":0},{"$f":"'Rumo BD'!CK10/1000","v":0},{"$f":"'Rumo BD'!CL10/1000","v":0},{"$f":"'Rumo BD'!CM10/1000","v":0},{"$f":"'Rumo BD'!CN10/1000","v":0}]
[null,"Solução Logística",null,{"$f":"'Rumo BD'!C11/1000","v":729.09867399999996},{"$f":"'Rumo BD'!D11/1000","v":1067.7981090000001},{"$f":"'Rumo BD'!E11/1000","v":886.89300000000003},{"$f":"'Rumo BD'!F11/1000","v":179.87980999999999},{"$f":"'Rumo BD'!G11/1000","v":429.34505999999999},{"$f":"'Rumo BD'!H11/1000","v":573.34385999999995},{"$f":"'Rumo BD'!I11/1000","v":466.91241899999977},{"$f":"'Rumo BD'!J11/1000","v":531.46580699999981},{"$f":"'Rumo BD'!K11/1000","v":496.56652200000002},{"$f":"'Rumo BD'!L11/1000","v":561.48228700000004},{"$f":"'Rumo BD'!M11/1000","v":420.73100800000026},{"$f":"'Rumo BD'!N11/1000","v":254.09882099999996},null,{"$f":"'Rumo BD'!P11/1000","v":213.88675000000001},{"$f":"'Rumo BD'!Q11/1000","v":340.74869999999993},{"$f":"'Rumo BD'!R11/1000","v":306.41654399999999},{"$f":"'Rumo BD'!S11/1000","v":241.59591900000007},{"$f":"'Rumo BD'!T11/1000","v":533.24844799999994},{"$f":"'Rumo BD'!U11/1000","v":538.28774500000009},{"$f":"'Rumo BD'!V11/1000","v":399.64013400000022},{"$f":"'Rumo BD'!W11/1000","v":433.39075900000006},{"$f":"'Rumo BD'!X11/1000","v":475.42910099999983},{"$f":"'Rumo BD'!Y11/1000","v":451.94466299999971},{"$f":"'Rumo BD'!Z11/1000","v":371.50363100000015},{"$f":"'Rumo BD'!AA11/1000","v":218.29270100000005},null,{"$f":"'Rumo BD'!AC11/1000","v":284.31497499999989},{"$f":"'Rumo BD'!AD11/1000","v":312.54101500000002},{"$f":"'Rumo BD'!AE11/1000","v":509.32677500000011},{"$f":"'Rumo BD'!AF11/1000","v":240.08712500000007},{"$f":"'Rumo BD'!AG11/1000","v":540.74277899999959},{"$f":"'Rumo BD'!AH11/1000","v":683.71264600000018},{"$f":"'Rumo BD'!AI11/1000","v":440.17774200000008},{"$f":"'Rumo BD'!AJ11/1000","v":337.17517199999992},{"$f":"'Rumo BD'!AK11/1000","v":457.1985699999999},{"$f":"'Rumo BD'!AL11/1000","v":356.70425999999998},{"$f":"'Rumo BD'!AM11/1000","v":262.02019400000012},{"$f":"'Rumo BD'!AN11/1000","v":250.21187899999998},null,{"$f":"'Rumo BD'!AP11/1000","v":366.34309999999999},{"$f":"'Rumo BD'!AQ11/1000","v":414.35300999999998},{"$f":"'Rumo BD'!AR11/1000","v":466.17480999999998},{"$f":"'Rumo BD'!AS11/1000","v":274.82718},{"$f":"'Rumo BD'!AT11/1000","v":427.63938999999999},{"$f":"'Rumo BD'!AU11/1000","v":383.77843999999999},{"$f":"'Rumo BD'!AV11/1000","v":266.76515999999998},{"$f":"'Rumo BD'!AW11/1000","v":366.02146000000005},{"$f":"'Rumo BD'!AX11/1000","v":365.69380999999998},{"$f":"'Rumo BD'!AY11/1000","v":353.07976000000002},{"$f":"'Rumo BD'!AZ11/1000","v":287.01044000000002},{"$f":"'Rumo BD'!BA11/1000","v":363.54597999999999},null,{"$f":"'Rumo BD'!BC11/1000","v":389.62268},{"$f":"'Rumo BD'!BD11/1000","v":440.34727000000004},{"$f":"'Rumo BD'!BE11/1000","v":316.39077000000003},{"$f":"'Rumo BD'!BF11/1000","v":472.88797},{"$f":"'Rumo BD'!BG11/1000","v":562.33517000000006},{"$f":"'Rumo BD'!BH11/1000","v":561.16909999999996},{"$f":"'Rumo BD'!BI11/1000","v":581.30233999999996},{"$f":"'Rumo BD'!BJ11/1000","v":725.88894999999991},{"$f":"'Rumo BD'!BK11/1000","v":722.61734000000001},{"$f":"'Rumo BD'!BL11/1000","v":839.41719999999998},{"$f":"'Rumo BD'!BM11/1000","v":863.48901999999998},{"$f":"'Rumo BD'!BN11/1000","v":557.85689000000002},null,{"$f":"'Rumo BD'!BP11/1000","v":441.35472999999996},{"$f":"'Rumo BD'!BQ11/1000","v":268.37684999999999},{"$f":"'Rumo BD'!BR11/1000","v":368.16843999999998},{"$f":"'Rumo BD'!BS11/1000","v":309.18083000000001},{"$f":"'Rumo BD'!BT11/1000","v":596.12175000000002},{"$f":"'Rumo BD'!BU11/1000","v":631.75253999999984},{"$f":"'Rumo BD'!BV11/1000","v":397.22642399999989},{"$f":"'Rumo BD'!BW11/1000","v":427.41404099999983},{"$f":"'Rumo BD'!BX11/1000","v":525.42056900000011},{"$f":"'Rumo BD'!BY11/1000","v":527.21682200000021},{"$f":"'Rumo BD'!BZ11/1000","v":630.47036800000024},{"$f":"'Rumo BD'!CA11/1000","v":403.60899799999993},null,{"$f":"'Rumo BD'!CC11/1000","v":427.66120900000004},{"$f":"'Rumo BD'!CD11/1000","v":386.42065599999989},{"$f":"'Rumo BD'!CE11/1000","v":422.76660400000003},{"$f":"'Rumo BD'!CF11/1000","v":119.77323500000001},{"$f":"'Rumo BD'!CG11/1000","v":530.50815599999987},{"$f":"'Rumo BD'!CH11/1000","v":0},{"$f":"'Rumo BD'!CI11/1000","v":0},{"$f":"'Rumo BD'!CJ11/1000","v":0},{"$f":"'Rumo BD'!CK11/1000","v":0},{"$f":"'Rumo BD'!CL11/1000","v":0},{"$f":"'Rumo BD'!CM11/1000","v":0},{"$f":"'Rumo BD'!CN11/1000","v":0}]

{"sheet":"Volume TU Norte","index":13,"n_rows":46,"n_cols":93,"rows_kept":46,"cut":false,"hidden":false,"merged":[[3,9,4,9],[3,10,4,10],[3,11,4,11],[3,12,4,12],[3,42,4,42],[3,38,4,38],[3,36,4,36],[3,34,4,34],[3,35,4,35],[3,40,4,40],[3,39,4,39],[3,33,4,33],[3,37,4,37],[3,44,4,44],[3,45,4,45],[3,46,4,46],[3,47,4,47],[3,1,4,1],[3,29,4,29],[3,30,4,30],[3,31,4,31],[3,32,4,32],[3,24,4,24],[3,25,4,25],[3,26,4,26],[3,27,4,27],[3,16,4,16],[3,17,4,17],[3,18,4,18],[3,19,4,19],[3,20,4,20],[3,21,4,21],[3,22,4,22],[3,23,4,23],[3,13,4,13],[3,14,4,14],[3,8,4,8],[3,3,4,3],[3,4,4,4],[3,5,4,5],[3,6,4,6],[3,7,4,7],[3,65,4,65],[3,66,4,66],[3,60,4,60],[3,61,4,61],[3,62,4,62],[3,63,4,63],[3,64,4,64],[3,55,4,55],[3,56,4,56],[3,57,4,57],[3,58,4,58],[3,59,4,59],[3,53,4,53],[3,48,4,48],[3,49,4,49],[3,50,4,50],[3,51,4,51],[3,52,4,52],[3,43,4,43],[3,78,4,78],[3,79,4,79],[3,73,4,73],[3,74,4,74],[3,75,4,75],[3,76,4,76],[3,77,4,77],[3,68,4,68],[3,69,4,69],[3,70,4,70],[3,71,4,71],[3,72,4,72],[28,7,29,7],[28,8,29,8],[28,9,29,9],[28,10,29,10],[28,11,29,11],[28,1,29,1],[28,3,29,3],[28,4,29,4],[28,5,29,5],[28,6,29,6],[28,18,29,18],[28,19,29,19],[28,20,29,20],[28,21,29,21],[28,22,29,22],[28,12,29,12],[28,13,29,13],[28,14,29,14],[28,16,29,16],[28,17,29,17],[28,29,29,29],[28,30,29,30],[28,31,29,31],[28,32,29,32],[28,33,29,33],[28,23,29,23],[28,24,29,24],[28,25,29,25],[28,26,29,26],[28,27,29,27],[28,39,29,39],[28,40,29,40],[28,42,29,42],[28,43,29,43],[28,44,29,44],[28,34,29,34],[28,35,29,35],[28,36,29,36],[28,37,29,37],[28,38,29,38],[28,50,29,50],[28,51,29,51],[28,52,29,52],[28,53,29,53],[28,55,29,55],[28,45,29,45],[28,46,29,46],[28,47,29,47],[28,48,29,48],[28,49,29,49],[28,61,29,61],[28,62,29,62],[28,63,29,63],[28,64,29,64],[28,65,29,65],[28,56,29,56],[28,57,29,57],[28,58,29,58],[28,59,29,59],[28,60,29,60],[28,77,29,77],[28,78,29,78],[28,79,29,79],[28,72,29,72],[28,73,29,73],[28,74,29,74],[28,75,29,75],[28,76,29,76],[28,66,29,66],[28,68,29,68],[28,69,29,69],[28,70,29,70],[28,71,29,71],[3,90,4,90],[3,91,4,91],[3,92,4,92],[28,81,29,81],[28,82,29,82],[28,83,29,83],[28,84,29,84],[28,85,29,85],[28,86,29,86],[28,87,29,87],[28,88,29,88],[28,89,29,89],[28,90,29,90],[28,91,29,91],[28,92,29,92],[3,81,4,81],[3,82,4,82],[3,83,4,83],[3,84,4,84],[3,85,4,85],[3,86,4,86],[3,87,4,87],[3,88,4,88],[3,89,4,89]]}
[]
[null,"Volume TU RI | Norte"]
[]
[null,null,null,"2016-01-01","2016-02-01","2016-03-01","2016-04-01","2016-05-01","2016-06-01","2016-07-01","2016-08-01","2016-09-01","2016-10-01","2016-11-01","2016-12-01",null,"2017-01-01","2017-02-01","2017-03-01","2017-04-01","2017-05-01","2017-06-01","2017-07-01","2017-08-01","2017-09-01","2017-10-01","2017-11-01","2017-12-01",null,"2018-01-01","2018-02-01","2018-03-01","2018-04-01","2018-05-01","2018-06-01","2018-07-01","2018-08-01","2018-09-01","2018-10-01","2018-11-01","2018-12-01",null,"2019-01-01","2019-02-01","2019-03-01","2019-04-01","2019-05-01","2019-06-01","2019-07-01","2019-08-01","2019-09-01","2019-10-01","2019-11-01","2019-12-01",null,"2020-01-01","2020-02-01","2020-03-01","2020-04-01","2020-05-01","2020-06-01","2020-07-01","2020-08-01","2020-09-01","2020-10-01","2020-11-01","2020-12-01",null,"2021-01-01","2021-02-01","2021-03-01","2021-04-01","2021-05-01","2021-06-01","2021-07-01","2021-08-01","2021-09-01","2021-10-01","2021-11-01","2021-12-01",null,"2022-01-01","2022-02-01","2022-03-01","2022-04-01","2022-05-01","2022-06-01","2022-07-01","2022-08-01","2022-09-01","2022-10-01","2022-11-01","2022-12-01"]
[]
[null,"Transporte Ferro (TU Mil)",null,{"$f":"SUM(D7,D17,D16)","v":1512.5},{"$f":"SUM(E7,E17,E16)","v":1600.153},1923.4350000000002,1972.2,1864.269,1649.9620000000002,1977.5539999999999,2075.8530000000001,1982.434,1606.9299999999998,1394.598,1381.5940000000001,null,1297.5729999999999,1752.7339999999997,2010.546,1959.8789999999999,2217.895,2029.4910000000002,2121.596,2257.4279999999999,2105.5060000000003,2353.317,2194.9430000000002,2136.6179999999999,null,1680.3910000000001,2143.0209999999997,2398.665,2264.991,2158.864,2509.5159999999996,2662.23,2743.605,2685.4690000000005,2491.9329999999995,2711.8889999999997,2516.7688699999999,null,2219.067,1984.367,2702.5930000000003,2539.7079999999996,2303.0320000000002,2913.556,3182.5510000000004,2954.1930000000002,2724.5099999999998,2850.9850000000001,2856.6150000000002,2229.7740000000003,null,2066.8009999999999,2777.616,1960.4570000000001,2787.5800000000004,3057.4959999999996,2866.4460000000004,3251.4569999999999,3138.4549999999999,3167.355,3329.7509999999997,3056.1970000000001,2939.3560000000007,null,{"$f":"SUM(BQ7,BQ17,BQ16)","v":1643.0909999999999},2851.0949999999998,3255.748,3292.2350000000001,3518.2700000000004,3270.0109999999995,3389.2909999999997,3020.2559999999999,2628.7040000000006,2903.942,3122.2640000000001,3103.8150000000001,null,{"$f":"SUM(CD7,CD17,CD16)","v":3010.3589999999999},3607.5519999999997,3936.5260000000003,3552.4430000000002,3752.9080000000004,0,0,0,0,0,0,0]
[null,"Produtos Agrícolas",null,{"$f":"SUM(D8:D15)","v":1271.933},{"$f":"SUM(E8:E15)","v":1362.097},{"$f":"SUM(F8:F15)","v":1665.5590000000002},{"$f":"SUM(G8:G15)","v":1730.6010000000001},{"$f":"SUM(H8:H15)","v":1610.86},{"$f":"SUM(I8:I15)","v":1377.5640000000001},{"$f":"SUM(J8:J15)","v":1706.721},{"$f":"SUM(K8:K15)","v":1793.5240000000001},{"$f":"SUM(L8:L15)","v":1688.203},{"$f":"SUM(M8:M15)","v":1305.5339999999999},{"$f":"SUM(N8:N15)","v":1132.828},{"$f":"SUM(O8:O15)","v":1131.9839999999999},null,{"$f":"SUM(Q8:Q15)","v":1029.298},{"$f":"SUM(R8:R15)","v":1516.8759999999997},{"$f":"SUM(S8:S15)","v":1752.3150000000001},{"$f":"SUM(T8:T15)","v":1705.1759999999999},{"$f":"SUM(U8:U15)","v":1928.5540000000001},{"$f":"SUM(V8:V15)","v":1739.8400000000001},{"$f":"SUM(W8:W15)","v":1839.7590000000002},{"$f":"SUM(X8:X15)","v":1954.4469999999999},{"$f":"SUM(Y8:Y15)","v":1835.8090000000002},{"$f":"SUM(Z8:Z15)","v":2006.318},{"$f":"SUM(AA8:AA15)","v":1875.143},{"$f":"SUM(AB8:AB15)","v":1816.788},null,{"$f":"SUM(AD8:AD15)","v":1400.797},{"$f":"SUM(AE8:AE15)","v":1788.675},{"$f":"SUM(AF8:AF15)","v":2015.7360000000001},{"$f":"SUM(AG8:AG15)","v":1932.3530000000001},{"$f":"SUM(AH8:AH15)","v":1806.0219999999999},{"$f":"SUM(AI8:AI15)","v":2092.3959999999997},{"$f":"SUM(AJ8:AJ15)","v":2220.127},{"$f":"SUM(AK8:AK15)","v":2291.3910000000001},{"$f":"SUM(AL8:AL15)","v":2257.5410000000002},{"$f":"SUM(AM8:AM15)","v":2070.9279999999999},{"$f":"SUM(AN8:AN15)","v":2292.8979999999997},{"$f":"SUM(AO8:AO15)","v":2096.7728699999998},null,{"$f":"SUM(AQ8:AQ15)","v":1807.3589999999999},{"$f":"SUM(AR8:AR15)","v":1634.153},{"$f":"SUM(AS8:AS15)","v":2276.2110000000002},{"$f":"SUM(AT8:AT15)","v":2124.4569999999999},{"$f":"SUM(AU8:AU15)","v":1863.884},{"$f":"SUM(AV8:AV15)","v":2486.498},{"$f":"SUM(AW8:AW15)","v":2721.88},{"$f":"SUM(AX8:AX15)","v":2490.0040000000004},{"$f":"SUM(AY8:AY15)","v":2255.3710000000001},{"$f":"SUM(AZ8:AZ15)","v":2365.893},{"$f":"SUM(BA8:BA15)","v":2392.2490000000003},{"$f":"SUM(BB8:BB15)","v":1778.0440000000001},null,{"$f":"SUM(BD8:BD15)","v":1616.4770000000001},2335.3910000000001,1561.481,2458.3500000000004,2619.6049999999996,2406.2980000000002,2754.4670000000001,2634.4609999999998,2629.8150000000001,2774.893,2498.5219999999999,2463.8450000000003,null,{"$f":"SUM(BQ8:BQ15)","v":1164.0219999999999},2379.2249999999999,2762.4779999999996,2772,2987.9150000000004,2725.7849999999999,2818.1009999999997,2397.105,2048.7870000000003,2308.1179999999999,2580.1210000000001,2537.558,null,{"$f":"SUM(CD8:CD15)","v":2460.1639999999998},3013.98,3291.7500000000005,2957.355,3115.8830000000003,0,0,0,0,0,0,0]
[null,"Soja",null,{"$f":"SUMIFS('Base TU'!E:E,'Base TU'!$A:$A,$B8,'Base TU'!$B:$B,\"NORTE\")/1000","v":73.013999999999996},{"$f":"SUMIFS('Base TU'!F:F,'Base TU'!$A:$A,$B8,'Base TU'!$B:$B,\"NORTE\")/1000","v":881.78700000000003},{"$f":"SUMIFS('Base TU'!G:G,'Base TU'!$A:$A,$B8,'Base TU'!$B:$B,\"NORTE\")/1000","v":1211.989},{"$f":"SUMIFS('Base TU'!H:H,'Base TU'!$A:$A,$B8,'Base TU'!$B:$B,\"NORTE\")/1000","v":1258.287},{"$f":"SUMIFS('Base TU'!I:I,'Base TU'!$A:$A,$B8,'Base TU'!$B:$B,\"NORTE\")/1000","v":941.61199999999997},{"$f":"SUMIFS('Base TU'!J:J,'Base TU'!$A:$A,$B8,'Base TU'!$B:$B,\"NORTE\")/1000","v":319.03699999999998},{"$f":"SUMIFS('Base TU'!K:K,'Base TU'!$A:$A,$B8,'Base TU'!$B:$B,\"NORTE\")/1000","v":27.036999999999999},{"$f":"SUMIFS('Base TU'!L:L,'Base TU'!$A:$A,$B8,'Base TU'!$B:$B,\"NORTE\")/1000","v":0},{"$f":"SUMIFS('Base TU'!M:M,'Base TU'!$A:$A,$B8,'Base TU'!$B:$B,\"NORTE\")/1000","v":0},{"$f":"SUMIFS('Base TU'!N:N,'Base TU'!$A:$A,$B8,'Base TU'!$B:$B,\"NORTE\")/1000","v":0},{"$f":"SUMIFS('Base TU'!O:O,'Base TU'!$A:$A,$B8,'Base TU'!$B:$B,\"NORTE\")/1000","v":15.911},{"$f":"SUMIFS('Base TU'!P:P,'Base TU'!$A:$A,$B8,'Base TU'!$B:$B,\"NORTE\")/1000","v":86.180999999999997},null,{"$f":"SUMIFS('Base TU'!R:R,'Base TU'!$A:$A,$B8,'Base TU'!$B:$B,\"NORTE\")/1000","v":446.45499999999998},{"$f":"SUMIFS('Base TU'!S:S,'Base TU'!$A:$A,$B8,'Base TU'!$B:$B,\"NORTE\")/1000","v":1148.2619999999999},{"$f":"SUMIFS('Base TU'!T:T,'Base TU'!$A:$A,$B8,'Base TU'!$B:$B,\"NORTE\")/1000","v":1357.143},{"$f":"SUMIFS('Base TU'!U:U,'Base TU'!$A:$A,$B8,'Base TU'!$B:$B,\"NORTE\")/1000","v":1196.2139999999999},{"$f":"SUMIFS('Base TU'!V:V,'Base TU'!$A:$A,$B8,'Base TU'!$B:$B,\"NORTE\")/1000","v":1154.559},{"$f":"SUMIFS('Base TU'!W:W,'Base TU'!$A:$A,$B8,'Base TU'!$B:$B,\"NORTE\")/1000","v":446.97899999999998},{"$f":"SUMIFS('Base TU'!X:X,'Base TU'!$A:$A,$B8,'Base TU'!$B:$B,\"NORTE\")/1000","v":101.054},{"$f":"SUMIFS('Base TU'!Y:Y,'Base TU'!$A:$A,$B8,'Base TU'!$B:$B,\"NORTE\")/1000","v":73.435000000000002},{"$f":"SUMIFS('Base TU'!Z:Z,'Base TU'!$A:$A,$B8,'Base TU'!$B:$B,\"NORTE\")/1000","v":0},{"$f":"SUMIFS('Base TU'!AA:AA,'Base TU'!$A:$A,$B8,'Base TU'!$B:$B,\"NORTE\")/1000","v":0},{"$f":"SUMIFS('Base TU'!AB:AB,'Base TU'!$A:$A,$B8,'Base TU'!$B:$B,\"NORTE\")/1000","v":0},{"$f":"SUMIFS('Base TU'!AC:AC,'Base TU'!$A:$A,$B8,'Base TU'!$B:$B,\"NORTE\")/1000","v":0},null,{"$f":"SUMIFS('Base TU'!AE:AE,'Base TU'!$A:$A,$B8,'Base TU'!$B:$B,\"NORTE\")/1000","v":422.93400000000003},{"$f":"SUMIFS('Base TU'!AF:AF,'Base TU'!$A:$A,$B8,'Base TU'!$B:$B,\"NORTE\")/1000","v":1213.539},{"$f":"SUMIFS('Base TU'!AG:AG,'Base TU'!$A:$A,$B8,'Base TU'!$B:$B,\"NORTE\")/1000","v":1474.787},{"$f":"SUMIFS('Base TU'!AH:AH,'Base TU'!$A:$A,$B8,'Base TU'!$B:$B,\"NORTE\")/1000","v":1406.1120000000001},{"$f":"SUMIFS('Base TU'!AI:AI,'Base TU'!$A:$A,$B8,'Base TU'!$B:$B,\"NORTE\")/1000","v":1083.9110000000001},{"$f":"SUMIFS('Base TU'!AJ:AJ,'Base TU'!$A:$A,$B8,'Base TU'!$B:$B,\"NORTE\")/1000","v":1092.5899999999999},{"$f":"SUMIFS('Base TU'!AK:AK,'Base TU'!$A:$A,$B8,'Base TU'!$B:$B,\"NORTE\")/1000","v":202.88399999999999},{"$f":"SUMIFS('Base TU'!AL:AL,'Base TU'!$A:$A,$B8,'Base TU'!$B:$B,\"NORTE\")/1000","v":45.655000000000001},{"$f":"SUMIFS('Base TU'!AM:AM,'Base TU'!$A:$A,$B8,'Base TU'!$B:$B,\"NORTE\")/1000","v":17.306999999999999},{"$f":"SUMIFS('Base TU'!AN:AN,'Base TU'!$A:$A,$B8,'Base TU'!$B:$B,\"NORTE\")/1000","v":15.151},{"$f":"SUMIFS('Base TU'!AO:AO,'Base TU'!$A:$A,$B8,'Base TU'!$B:$B,\"NORTE\")/1000","v":21.491},{"$f":"SUMIFS('Base TU'!AP:AP,'Base TU'!$A:$A,$B8,'Base TU'!$B:$B,\"NORTE\")/1000","v":0},null,{"$f":"SUMIFS('Base TU'!AR:AR,'Base TU'!$A:$A,$B8,'Base TU'!$B:$B,\"NORTE\")/1000","v":999.24699999999996},{"$f":"SUMIFS('Base TU'!AS:AS,'Base TU'!$A:$A,$B8,'Base TU'!$B:$B,\"NORTE\")/1000","v":1196.7},{"$f":"SUMIFS('Base TU'!AT:AT,'Base TU'!$A:$A,$B8,'Base TU'!$B:$B,\"NORTE\")/1000","v":1594.508},{"$f":"SUMIFS('Base TU'!AU:AU,'Base TU'!$A:$A,$B8,'Base TU'!$B:$B,\"NORTE\")/1000","v":1335.452},{"$f":"SUMIFS('Base TU'!AV:AV,'Base TU'!$A:$A,$B8,'Base TU'!$B:$B,\"NORTE\")/1000","v":996.26},{"$f":"SUMIFS('Base TU'!AW:AW,'Base TU'!$A:$A,$B8,'Base TU'!$B:$B,\"NORTE\")/1000","v":309.30500000000001},{"$f":"SUMIFS('Base TU'!AX:AX,'Base TU'!$A:$A,$B8,'Base TU'!$B:$B,\"NORTE\")/1000","v":125.76600000000001},{"$f":"SUMIFS('Base TU'!AY:AY,'Base TU'!$A:$A,$B8,'Base TU'!$B:$B,\"NORTE\")/1000","v":99.298000000000002},{"$f":"SUMIFS('Base TU'!AZ:AZ,'Base TU'!$A:$A,$B8,'Base TU'!$B:$B,\"NORTE\")/1000","v":85.010999999999996},{"$f":"SUMIFS('Base TU'!BA:BA,'Base TU'!$A:$A,$B8,'Base TU'!$B:$B,\"NORTE\")/1000","v":190.01300000000001},{"$f":"SUMIFS('Base TU'!BB:BB,'Base TU'!$A:$A,$B8,'Base TU'!$B:$B,\"NORTE\")/1000","v":279.84500000000003},{"$f":"SUMIFS('Base TU'!BC:BC,'Base TU'!$A:$A,$B8,'Base TU'!$B:$B,\"NORTE\")/1000","v":47.975000000000001},null,{"$f":"SUMIFS('Base TU'!BE:BE,'Base TU'!$A:$A,$B8,'Base TU'!$B:$B,\"NORTE\")/1000","v":896.93299999999999},{"$f":"SUMIFS('Base TU'!BF:BF,'Base TU'!$A:$A,$B8,'Base TU'!$B:$B,\"NORTE\")/1000","v":1633.251},{"$f":"SUMIFS('Base TU'!BG:BG,'Base TU'!$A:$A,$B8,'Base TU'!$B:$B,\"NORTE\")/1000","v":1029.2080000000001},{"$f":"SUMIFS('Base TU'!BH:BH,'Base TU'!$A:$A,$B8,'Base TU'!$B:$B,\"NORTE\")/1000","v":1664.442},{"$f":"SUMIFS('Base TU'!BI:BI,'Base TU'!$A:$A,$B8,'Base TU'!$B:$B,\"NORTE\")/1000","v":1713.201},{"$f":"SUMIFS('Base TU'!BJ:BJ,'Base TU'!$A:$A,$B8,'Base TU'!$B:$B,\"NORTE\")/1000","v":695.63199999999995},{"$f":"SUMIFS('Base TU'!BK:BK,'Base TU'!$A:$A,$B8,'Base TU'!$B:$B,\"NORTE\")/1000","v":232.61099999999999},{"$f":"SUMIFS('Base TU'!BL:BL,'Base TU'!$A:$A,$B8,'Base TU'!$B:$B,\"NORTE\")/1000","v":47.783000000000001},{"$f":"SUMIFS('Base TU'!BM:BM,'Base TU'!$A:$A,$B8,'Base TU'!$B:$B,\"NORTE\")/1000","v":47.389000000000003},{"$f":"SUMIFS('Base TU'!BN:BN,'Base TU'!$A:$A,$B8,'Base TU'!$B:$B,\"NORTE\")/1000","v":0},{"$f":"SUMIFS('Base TU'!BO:BO,'Base TU'!$A:$A,$B8,'Base TU'!$B:$B,\"NORTE\")/1000","v":0},{"$f":"SUMIFS('Base TU'!BP:BP,'Base TU'!$A:$A,$B8,'Base TU'!$B:$B,\"NORTE\")/1000","v":0},null,{"$f":"SUMIFS('Base TU'!BR:BR,'Base TU'!$A:$A,$B8,'Base TU'!$B:$B,\"NORTE\")/1000","v":196.387},{"$f":"SUMIFS('Base TU'!BS:BS,'Base TU'!$A:$A,$B8,'Base TU'!$B:$B,\"NORTE\")/1000","v":1749.519},{"$f":"SUMIFS('Base TU'!BT:BT,'Base TU'!$A:$A,$B8,'Base TU'!$B:$B,\"NORTE\")/1000","v":2134.7289999999998},{"$f":"SUMIFS('Base TU'!BU:BU,'Base TU'!$A:$A,$B8,'Base TU'!$B:$B,\"NORTE\")/1000","v":1994.6510000000001},{"$f":"SUMIFS('Base TU'!BV:BV,'Base TU'!$A:$A,$B8,'Base TU'!$B:$B,\"NORTE\")/1000","v":1957.124},{"$f":"SUMIFS('Base TU'!BW:BW,'Base TU'!$A:$A,$B8,'Base TU'!$B:$B,\"NORTE\")/1000","v":1351.8979999999999},{"$f":"SUMIFS('Base TU'!BX:BX,'Base TU'!$A:$A,$B8,'Base TU'!$B:$B,\"NORTE\")/1000","v":68.081999999999994},{"$f":"SUMIFS('Base TU'!BY:BY,'Base TU'!$A:$A,$B8,'Base TU'!$B:$B,\"NORTE\")/1000","v":63.061999999999998},{"$f":"SUMIFS('Base TU'!BZ:BZ,'Base TU'!$A:$A,$B8,'Base TU'!$B:$B,\"NORTE\")/1000","v":98.31},{"$f":"SUMIFS('Base TU'!CA:CA,'Base TU'!$A:$A,$B8,'Base TU'!$B:$B,\"NORTE\")/1000","v":220.922},{"$f":"SUMIFS('Base TU'!CB:CB,'Base TU'!$A:$A,$B8,'Base TU'!$B:$B,\"NORTE\")/1000","v":400.01600000000002},{"$f":"SUMIFS('Base TU'!CC:CC,'Base TU'!$A:$A,$B8,'Base TU'!$B:$B,\"NORTE\")/1000","v":195.411},null,{"$f":"SUMIFS('Base TU'!CE:CE,'Base TU'!$A:$A,$B8,'Base TU'!$B:$B,\"NORTE\")/1000","v":1099.992},{"$f":"SUMIFS('Base TU'!CF:CF,'Base TU'!$A:$A,$B8,'Base TU'!$B:$B,\"NORTE\")/1000","v":2278.3919999999998},{"$f":"SUMIFS('Base TU'!CG:CG,'Base TU'!$A:$A,$B8,'Base TU'!$B:$B,\"NORTE\")/1000","v":2393.5990000000002},{"$f":"SUMIFS('Base TU'!CH:CH,'Base TU'!$A:$A,$B8,'Base TU'!$B:$B,\"NORTE\")/1000","v":2092.1970000000001},{"$f":"SUMIFS('Base TU'!CI:CI,'Base TU'!$A:$A,$B8,'Base TU'!$B:$B,\"NORTE\")/1000","v":2052.5790000000002},{"$f":"SUMIFS('Base TU'!CJ:CJ,'Base TU'!$A:$A,$B8,'Base TU'!$B:$B,\"NORTE\")/1000","v":0},{"$f":"SUMIFS('Base TU'!CK:CK,'Base TU'!$A:$A,$B8,'Base TU'!$B:$B,\"NORTE\")/1000","v":0},{"$f":"SUMIFS('Base TU'!CL:CL,'Base TU'!$A:$A,$B8,'Base TU'!$B:$B,\"NORTE\")/1000","v":0},{"$f":"SUMIFS('Base TU'!CM:CM,'Base TU'!$A:$A,$B8,'Base TU'!$B:$B,\"NORTE\")/1000","v":0},{"$f":"SUMIFS('Base TU'!CN:CN,'Base TU'!$A:$A,$B8,'Base TU'!$B:$B,\"NORTE\")/1000","v":0},{"$f":"SUMIFS('Base TU'!CO:CO,'Base TU'!$A:$A,$B8,'Base TU'!$B:$B,\"NORTE\")/1000","v":0},{"$f":"SUMIFS('Base TU'!CP:CP,'Base TU'!$A:$A,$B8,'Base TU'!$B:$B,\"NORTE\")/1000","v":0}]
[null,"Farelo de Soja",null,{"$f":"SUMIFS('Base TU'!E:E,'Base TU'!$A:$A,$B9,'Base TU'!$B:$B,\"NORTE\")/1000","v":138.66499999999999},{"$f":"SUMIFS('Base TU'!F:F,'Base TU'!$A:$A,$B9,'Base TU'!$B:$B,\"NORTE\")/1000","v":248.37200000000001},{"$f":"SUMIFS('Base TU'!G:G,'Base TU'!$A:$A,$B9,'Base TU'!$B:$B,\"NORTE\")/1000","v":314.17399999999998},{"$f":"SUMIFS('Base TU'!H:H,'Base TU'!$A:$A,$B9,'Base TU'!$B:$B,\"NORTE\")/1000","v":344.702},{"$f":"SUMIFS('Base TU'!I:I,'Base TU'!$A:$A,$B9,'Base TU'!$B:$B,\"NORTE\")/1000","v":327.07299999999998},{"$f":"SUMIFS('Base TU'!J:J,'Base TU'!$A:$A,$B9,'Base TU'!$B:$B,\"NORTE\")/1000","v":294.54000000000002},{"$f":"SUMIFS('Base TU'!K:K,'Base TU'!$A:$A,$B9,'Base TU'!$B:$B,\"NORTE\")/1000","v":225.291},{"$f":"SUMIFS('Base TU'!L:L,'Base TU'!$A:$A,$B9,'Base TU'!$B:$B,\"NORTE\")/1000","v":201.26599999999999},{"$f":"SUMIFS('Base TU'!M:M,'Base TU'!$A:$A,$B9,'Base TU'!$B:$B,\"NORTE\")/1000","v":205.21},{"$f":"SUMIFS('Base TU'!N:N,'Base TU'!$A:$A,$B9,'Base TU'!$B:$B,\"NORTE\")/1000","v":236.37799999999999},{"$f":"SUMIFS('Base TU'!O:O,'Base TU'!$A:$A,$B9,'Base TU'!$B:$B,\"NORTE\")/1000","v":251.827},{"$f":"SUMIFS('Base TU'!P:P,'Base TU'!$A:$A,$B9,'Base TU'!$B:$B,\"NORTE\")/1000","v":241.71299999999999},null,{"$f":"SUMIFS('Base TU'!R:R,'Base TU'!$A:$A,$B9,'Base TU'!$B:$B,\"NORTE\")/1000","v":254.83},{"$f":"SUMIFS('Base TU'!S:S,'Base TU'!$A:$A,$B9,'Base TU'!$B:$B,\"NORTE\")/1000","v":271.25200000000001},{"$f":"SUMIFS('Base TU'!T:T,'Base TU'!$A:$A,$B9,'Base TU'!$B:$B,\"NORTE\")/1000","v":337.92899999999997},{"$f":"SUMIFS('Base TU'!U:U,'Base TU'!$A:$A,$B9,'Base TU'!$B:$B,\"NORTE\")/1000","v":376.59899999999999},{"$f":"SUMIFS('Base TU'!V:V,'Base TU'!$A:$A,$B9,'Base TU'!$B:$B,\"NORTE\")/1000","v":339.76600000000002},{"$f":"SUMIFS('Base TU'!W:W,'Base TU'!$A:$A,$B9,'Base TU'!$B:$B,\"NORTE\")/1000","v":288.49900000000002},{"$f":"SUMIFS('Base TU'!X:X,'Base TU'!$A:$A,$B9,'Base TU'!$B:$B,\"NORTE\")/1000","v":342.22800000000001},{"$f":"SUMIFS('Base TU'!Y:Y,'Base TU'!$A:$A,$B9,'Base TU'!$B:$B,\"NORTE\")/1000","v":281.327},{"$f":"SUMIFS('Base TU'!Z:Z,'Base TU'!$A:$A,$B9,'Base TU'!$B:$B,\"NORTE\")/1000","v":288.63200000000001},{"$f":"SUMIFS('Base TU'!AA:AA,'Base TU'!$A:$A,$B9,'Base TU'!$B:$B,\"NORTE\")/1000","v":356.2},{"$f":"SUMIFS('Base TU'!AB:AB,'Base TU'!$A:$A,$B9,'Base TU'!$B:$B,\"NORTE\")/1000","v":336.90100000000001},{"$f":"SUMIFS('Base TU'!AC:AC,'Base TU'!$A:$A,$B9,'Base TU'!$B:$B,\"NORTE\")/1000","v":351.15899999999999},null,{"$f":"SUMIFS('Base TU'!AE:AE,'Base TU'!$A:$A,$B9,'Base TU'!$B:$B,\"NORTE\")/1000","v":276.81099999999998},{"$f":"SUMIFS('Base TU'!AF:AF,'Base TU'!$A:$A,$B9,'Base TU'!$B:$B,\"NORTE\")/1000","v":338.18200000000002},{"$f":"SUMIFS('Base TU'!AG:AG,'Base TU'!$A:$A,$B9,'Base TU'!$B:$B,\"NORTE\")/1000","v":380.64299999999997},{"$f":"SUMIFS('Base TU'!AH:AH,'Base TU'!$A:$A,$B9,'Base TU'!$B:$B,\"NORTE\")/1000","v":410.91399999999999},{"$f":"SUMIFS('Base TU'!AI:AI,'Base TU'!$A:$A,$B9,'Base TU'!$B:$B,\"NORTE\")/1000","v":314.03199999999998},{"$f":"SUMIFS('Base TU'!AJ:AJ,'Base TU'!$A:$A,$B9,'Base TU'!$B:$B,\"NORTE\")/1000","v":361.90499999999997},{"$f":"SUMIFS('Base TU'!AK:AK,'Base TU'!$A:$A,$B9,'Base TU'!$B:$B,\"NORTE\")/1000","v":313.79899999999998},{"$f":"SUMIFS('Base TU'!AL:AL,'Base TU'!$A:$A,$B9,'Base TU'!$B:$B,\"NORTE\")/1000","v":309.70100000000002},{"$f":"SUMIFS('Base TU'!AM:AM,'Base TU'!$A:$A,$B9,'Base TU'!$B:$B,\"NORTE\")/1000","v":339.57400000000001},{"$f":"SUMIFS('Base TU'!AN:AN,'Base TU'!$A:$A,$B9,'Base TU'!$B:$B,\"NORTE\")/1000","v":308.94600000000003},{"$f":"SUMIFS('Base TU'!AO:AO,'Base TU'!$A:$A,$B9,'Base TU'!$B:$B,\"NORTE\")/1000","v":327.625},{"$f":"SUMIFS('Base TU'!AP:AP,'Base TU'!$A:$A,$B9,'Base TU'!$B:$B,\"NORTE\")/1000","v":382.68986999999998},null,{"$f":"SUMIFS('Base TU'!AR:AR,'Base TU'!$A:$A,$B9,'Base TU'!$B:$B,\"NORTE\")/1000","v":301.233},{"$f":"SUMIFS('Base TU'!AS:AS,'Base TU'!$A:$A,$B9,'Base TU'!$B:$B,\"NORTE\")/1000","v":288.05900000000003},{"$f":"SUMIFS('Base TU'!AT:AT,'Base TU'!$A:$A,$B9,'Base TU'!$B:$B,\"NORTE\")/1000","v":399.56599999999997},{"$f":"SUMIFS('Base TU'!AU:AU,'Base TU'!$A:$A,$B9,'Base TU'!$B:$B,\"NORTE\")/1000","v":394.77100000000002},{"$f":"SUMIFS('Base TU'!AV:AV,'Base TU'!$A:$A,$B9,'Base TU'!$B:$B,\"NORTE\")/1000","v":373.017},{"$f":"SUMIFS('Base TU'!AW:AW,'Base TU'!$A:$A,$B9,'Base TU'!$B:$B,\"NORTE\")/1000","v":382.77199999999999},{"$f":"SUMIFS('Base TU'!AX:AX,'Base TU'!$A:$A,$B9,'Base TU'!$B:$B,\"NORTE\")/1000","v":366.67700000000002},{"$f":"SUMIFS('Base TU'!AY:AY,'Base TU'!$A:$A,$B9,'Base TU'!$B:$B,\"NORTE\")/1000","v":311.84800000000001},{"$f":"SUMIFS('Base TU'!AZ:AZ,'Base TU'!$A:$A,$B9,'Base TU'!$B:$B,\"NORTE\")/1000","v":332.05},{"$f":"SUMIFS('Base TU'!BA:BA,'Base TU'!$A:$A,$B9,'Base TU'!$B:$B,\"NORTE\")/1000","v":355.964},{"$f":"SUMIFS('Base TU'!BB:BB,'Base TU'!$A:$A,$B9,'Base TU'!$B:$B,\"NORTE\")/1000","v":410.59899999999999},{"$f":"SUMIFS('Base TU'!BC:BC,'Base TU'!$A:$A,$B9,'Base TU'!$B:$B,\"NORTE\")/1000","v":353.76299999999998},null,{"$f":"SUMIFS('Base TU'!BE:BE,'Base TU'!$A:$A,$B9,'Base TU'!$B:$B,\"NORTE\")/1000","v":258.548},{"$f":"SUMIFS('Base TU'!BF:BF,'Base TU'!$A:$A,$B9,'Base TU'!$B:$B,\"NORTE\")/1000","v":357.15300000000002},{"$f":"SUMIFS('Base TU'!BG:BG,'Base TU'!$A:$A,$B9,'Base TU'!$B:$B,\"NORTE\")/1000","v":337.66699999999997},{"$f":"SUMIFS('Base TU'!BH:BH,'Base TU'!$A:$A,$B9,'Base TU'!$B:$B,\"NORTE\")/1000","v":441.61200000000002},{"$f":"SUMIFS('Base TU'!BI:BI,'Base TU'!$A:$A,$B9,'Base TU'!$B:$B,\"NORTE\")/1000","v":390.45},{"$f":"SUMIFS('Base TU'!BJ:BJ,'Base TU'!$A:$A,$B9,'Base TU'!$B:$B,\"NORTE\")/1000","v":411.49},{"$f":"SUMIFS('Base TU'!BK:BK,'Base TU'!$A:$A,$B9,'Base TU'!$B:$B,\"NORTE\")/1000","v":417.49},{"$f":"SUMIFS('Base TU'!BL:BL,'Base TU'!$A:$A,$B9,'Base TU'!$B:$B,\"NORTE\")/1000","v":402.11500000000001},{"$f":"SUMIFS('Base TU'!BM:BM,'Base TU'!$A:$A,$B9,'Base TU'!$B:$B,\"NORTE\")/1000","v":368.12900000000002},{"$f":"SUMIFS('Base TU'!BN:BN,'Base TU'!$A:$A,$B9,'Base TU'!$B:$B,\"NORTE\")/1000","v":410.44099999999997},{"$f":"SUMIFS('Base TU'!BO:BO,'Base TU'!$A:$A,$B9,'Base TU'!$B:$B,\"NORTE\")/1000","v":354.10199999999998},{"$f":"SUMIFS('Base TU'!BP:BP,'Base TU'!$A:$A,$B9,'Base TU'!$B:$B,\"NORTE\")/1000","v":403.69},null,{"$f":"SUMIFS('Base TU'!BR:BR,'Base TU'!$A:$A,$B9,'Base TU'!$B:$B,\"NORTE\")/1000","v":264.32799999999997},{"$f":"SUMIFS('Base TU'!BS:BS,'Base TU'!$A:$A,$B9,'Base TU'!$B:$B,\"NORTE\")/1000","v":363.904},{"$f":"SUMIFS('Base TU'!BT:BT,'Base TU'!$A:$A,$B9,'Base TU'!$B:$B,\"NORTE\")/1000","v":403.452},{"$f":"SUMIFS('Base TU'!BU:BU,'Base TU'!$A:$A,$B9,'Base TU'!$B:$B,\"NORTE\")/1000","v":450.71499999999997},{"$f":"SUMIFS('Base TU'!BV:BV,'Base TU'!$A:$A,$B9,'Base TU'!$B:$B,\"NORTE\")/1000","v":426.79599999999999},{"$f":"SUMIFS('Base TU'!BW:BW,'Base TU'!$A:$A,$B9,'Base TU'!$B:$B,\"NORTE\")/1000","v":467.85},{"$f":"SUMIFS('Base TU'!BX:BX,'Base TU'!$A:$A,$B9,'Base TU'!$B:$B,\"NORTE\")/1000","v":497.98200000000003},{"$f":"SUMIFS('Base TU'!BY:BY,'Base TU'!$A:$A,$B9,'Base TU'!$B:$B,\"NORTE\")/1000","v":428.97899999999998},{"$f":"SUMIFS('Base TU'!BZ:BZ,'Base TU'!$A:$A,$B9,'Base TU'!$B:$B,\"NORTE\")/1000","v":392.71499999999997},{"$f":"SUMIFS('Base TU'!CA:CA,'Base TU'!$A:$A,$B9,'Base TU'!$B:$B,\"NORTE\")/1000","v":332.79},{"$f":"SUMIFS('Base TU'!CB:CB,'Base TU'!$A:$A,$B9,'Base TU'!$B:$B,\"NORTE\")/1000","v":460.88200000000001},{"$f":"SUMIFS('Base TU'!CC:CC,'Base TU'!$A:$A,$B9,'Base TU'!$B:$B,\"NORTE\")/1000","v":461.44499999999999},null,{"$f":"SUMIFS('Base TU'!CE:CE,'Base TU'!$A:$A,$B9,'Base TU'!$B:$B,\"NORTE\")/1000","v":385.79},{"$f":"SUMIFS('Base TU'!CF:CF,'Base TU'!$A:$A,$B9,'Base TU'!$B:$B,\"NORTE\")/1000","v":431.714},{"$f":"SUMIFS('Base TU'!CG:CG,'Base TU'!$A:$A,$B9,'Base TU'!$B:$B,\"NORTE\")/1000","v":538.01599999999996},{"$f":"SUMIFS('Base TU'!CH:CH,'Base TU'!$A:$A,$B9,'Base TU'!$B:$B,\"NORTE\")/1000","v":570.77},{"$f":"SUMIFS('Base TU'!CI:CI,'Base TU'!$A:$A,$B9,'Base TU'!$B:$B,\"NORTE\")/1000","v":528.76099999999997},{"$f":"SUMIFS('Base TU'!CJ:CJ,'Base TU'!$A:$A,$B9,'Base TU'!$B:$B,\"NORTE\")/1000","v":0},{"$f":"SUMIFS('Base TU'!CK:CK,'Base TU'!$A:$A,$B9,'Base TU'!$B:$B,\"NORTE\")/1000","v":0},{"$f":"SUMIFS('Base TU'!CL:CL,'Base TU'!$A:$A,$B9,'Base TU'!$B:$B,\"NORTE\")/1000","v":0},{"$f":"SUMIFS('Base TU'!CM:CM,'Base TU'!$A:$A,$B9,'Base TU'!$B:$B,\"NORTE\")/1000","v":0},{"$f":"SUMIFS('Base TU'!CN:CN,'Base TU'!$A:$A,$B9,'Base TU'!$B:$B,\"NORTE\")/1000","v":0},{"$f":"SUMIFS('Base TU'!CO:CO,'Base TU'!$A:$A,$B9,'Base TU'!$B:$B,\"NORTE\")/1000","v":0},{"$f":"SUMIFS('Base TU'!CP:CP,'Base TU'!$A:$A,$B9,'Base TU'!$B:$B,\"NORTE\")/1000","v":0}]
[null,"Milho",null,{"$f":"SUMIFS('Base TU'!E:E,'Base TU'!$A:$A,$B10,'Base TU'!$B:$B,\"NORTE\")/1000","v":901.14},{"$f":"SUMIFS('Base TU'!F:F,'Base TU'!$A:$A,$B10,'Base TU'!$B:$B,\"NORTE\")/1000","v":51.329000000000001},{"$f":"SUMIFS('Base TU'!G:G,'Base TU'!$A:$A,$B10,'Base TU'!$B:$B,\"NORTE\")/1000","v":0.13100000000000001},{"$f":"SUMIFS('Base TU'!H:H,'Base TU'!$A:$A,$B10,'Base TU'!$B:$B,\"NORTE\")/1000","v":0},{"$f":"SUMIFS('Base TU'!I:I,'Base TU'!$A:$A,$B10,'Base TU'!$B:$B,\"NORTE\")/1000","v":0},{"$f":"SUMIFS('Base TU'!J:J,'Base TU'!$A:$A,$B10,'Base TU'!$B:$B,\"NORTE\")/1000","v":213.47900000000001},{"$f":"SUMIFS('Base TU'!K:K,'Base TU'!$A:$A,$B10,'Base TU'!$B:$B,\"NORTE\")/1000","v":1159.751},{"$f":"SUMIFS('Base TU'!L:L,'Base TU'!$A:$A,$B10,'Base TU'!$B:$B,\"NORTE\")/1000","v":1276.682},{"$f":"SUMIFS('Base TU'!M:M,'Base TU'!$A:$A,$B10,'Base TU'!$B:$B,\"NORTE\")/1000","v":1143.481},{"$f":"SUMIFS('Base TU'!N:N,'Base TU'!$A:$A,$B10,'Base TU'!$B:$B,\"NORTE\")/1000","v":425.577},{"$f":"SUMIFS('Base TU'!O:O,'Base TU'!$A:$A,$B10,'Base TU'!$B:$B,\"NORTE\")/1000","v":299.06400000000002},{"$f":"SUMIFS('Base TU'!P:P,'Base TU'!$A:$A,$B10,'Base TU'!$B:$B,\"NORTE\")/1000","v":431.08199999999999},null,{"$f":"SUMIFS('Base TU'!R:R,'Base TU'!$A:$A,$B10,'Base TU'!$B:$B,\"NORTE\")/1000","v":63.752000000000002},{"$f":"SUMIFS('Base TU'!S:S,'Base TU'!$A:$A,$B10,'Base TU'!$B:$B,\"NORTE\")/1000","v":0.185},{"$f":"SUMIFS('Base TU'!T:T,'Base TU'!$A:$A,$B10,'Base TU'!$B:$B,\"NORTE\")/1000","v":0},{"$f":"SUMIFS('Base TU'!U:U,'Base TU'!$A:$A,$B10,'Base TU'!$B:$B,\"NORTE\")/1000","v":0},{"$f":"SUMIFS('Base TU'!V:V,'Base TU'!$A:$A,$B10,'Base TU'!$B:$B,\"NORTE\")/1000","v":7.24},{"$f":"SUMIFS('Base TU'!W:W,'Base TU'!$A:$A,$B10,'Base TU'!$B:$B,\"NORTE\")/1000","v":761.55600000000004},{"$f":"SUMIFS('Base TU'!X:X,'Base TU'!$A:$A,$B10,'Base TU'!$B:$B,\"NORTE\")/1000","v":1283.0920000000001},{"$f":"SUMIFS('Base TU'!Y:Y,'Base TU'!$A:$A,$B10,'Base TU'!$B:$B,\"NORTE\")/1000","v":1455.549},{"$f":"SUMIFS('Base TU'!Z:Z,'Base TU'!$A:$A,$B10,'Base TU'!$B:$B,\"NORTE\")/1000","v":1391.249},{"$f":"SUMIFS('Base TU'!AA:AA,'Base TU'!$A:$A,$B10,'Base TU'!$B:$B,\"NORTE\")/1000","v":1494.28},{"$f":"SUMIFS('Base TU'!AB:AB,'Base TU'!$A:$A,$B10,'Base TU'!$B:$B,\"NORTE\")/1000","v":1379.3489999999999},{"$f":"SUMIFS('Base TU'!AC:AC,'Base TU'!$A:$A,$B10,'Base TU'!$B:$B,\"NORTE\")/1000","v":1251.2049999999999},null,{"$f":"SUMIFS('Base TU'!AE:AE,'Base TU'!$A:$A,$B10,'Base TU'!$B:$B,\"NORTE\")/1000","v":294.06900000000002},{"$f":"SUMIFS('Base TU'!AF:AF,'Base TU'!$A:$A,$B10,'Base TU'!$B:$B,\"NORTE\")/1000","v":40.662999999999997},{"$f":"SUMIFS('Base TU'!AG:AG,'Base TU'!$A:$A,$B10,'Base TU'!$B:$B,\"NORTE\")/1000","v":0},{"$f":"SUMIFS('Base TU'!AH:AH,'Base TU'!$A:$A,$B10,'Base TU'!$B:$B,\"NORTE\")/1000","v":0},{"$f":"SUMIFS('Base TU'!AI:AI,'Base TU'!$A:$A,$B10,'Base TU'!$B:$B,\"NORTE\")/1000","v":22.06},{"$f":"SUMIFS('Base TU'!AJ:AJ,'Base TU'!$A:$A,$B10,'Base TU'!$B:$B,\"NORTE\")/1000","v":227.17699999999999},{"$f":"SUMIFS('Base TU'!AK:AK,'Base TU'!$A:$A,$B10,'Base TU'!$B:$B,\"NORTE\")/1000","v":1432.7719999999999},{"$f":"SUMIFS('Base TU'!AL:AL,'Base TU'!$A:$A,$B10,'Base TU'!$B:$B,\"NORTE\")/1000","v":1687.615},{"$f":"SUMIFS('Base TU'!AM:AM,'Base TU'!$A:$A,$B10,'Base TU'!$B:$B,\"NORTE\")/1000","v":1645.201},{"$f":"SUMIFS('Base TU'!AN:AN,'Base TU'!$A:$A,$B10,'Base TU'!$B:$B,\"NORTE\")/1000","v":1407.075},{"$f":"SUMIFS('Base TU'!AO:AO,'Base TU'!$A:$A,$B10,'Base TU'!$B:$B,\"NORTE\")/1000","v":1689.643},{"$f":"SUMIFS('Base TU'!AP:AP,'Base TU'!$A:$A,$B10,'Base TU'!$B:$B,\"NORTE\")/1000","v":1428.011},null,{"$f":"SUMIFS('Base TU'!AR:AR,'Base TU'!$A:$A,$B10,'Base TU'!$B:$B,\"NORTE\")/1000","v":234.74600000000001},{"$f":"SUMIFS('Base TU'!AS:AS,'Base TU'!$A:$A,$B10,'Base TU'!$B:$B,\"NORTE\")/1000","v":0},{"$f":"SUMIFS('Base TU'!AT:AT,'Base TU'!$A:$A,$B10,'Base TU'!$B:$B,\"NORTE\")/1000","v":0},{"$f":"SUMIFS('Base TU'!AU:AU,'Base TU'!$A:$A,$B10,'Base TU'!$B:$B,\"NORTE\")/1000","v":0},{"$f":"SUMIFS('Base TU'!AV:AV,'Base TU'!$A:$A,$B10,'Base TU'!$B:$B,\"NORTE\")/1000","v":44.665999999999997},{"$f":"SUMIFS('Base TU'!AW:AW,'Base TU'!$A:$A,$B10,'Base TU'!$B:$B,\"NORTE\")/1000","v":1479.97},{"$f":"SUMIFS('Base TU'!AX:AX,'Base TU'!$A:$A,$B10,'Base TU'!$B:$B,\"NORTE\")/1000","v":1912.6420000000001},{"$f":"SUMIFS('Base TU'!AY:AY,'Base TU'!$A:$A,$B10,'Base TU'!$B:$B,\"NORTE\")/1000","v":1818.8589999999999},{"$f":"SUMIFS('Base TU'!AZ:AZ,'Base TU'!$A:$A,$B10,'Base TU'!$B:$B,\"NORTE\")/1000","v":1619.625},{"$f":"SUMIFS('Base TU'!BA:BA,'Base TU'!$A:$A,$B10,'Base TU'!$B:$B,\"NORTE\")/1000","v":1554.4290000000001},{"$f":"SUMIFS('Base TU'!BB:BB,'Base TU'!$A:$A,$B10,'Base TU'!$B:$B,\"NORTE\")/1000","v":1439.8040000000001},{"$f":"SUMIFS('Base TU'!BC:BC,'Base TU'!$A:$A,$B10,'Base TU'!$B:$B,\"NORTE\")/1000","v":674.40200000000004},null,{"$f":"SUMIFS('Base TU'!BE:BE,'Base TU'!$A:$A,$B10,'Base TU'!$B:$B,\"NORTE\")/1000","v":1.2230000000000001},{"$f":"SUMIFS('Base TU'!BF:BF,'Base TU'!$A:$A,$B10,'Base TU'!$B:$B,\"NORTE\")/1000","v":0},{"$f":"SUMIFS('Base TU'!BG:BG,'Base TU'!$A:$A,$B10,'Base TU'!$B:$B,\"NORTE\")/1000","v":0},{"$f":"SUMIFS('Base TU'!BH:BH,'Base TU'!$A:$A,$B10,'Base TU'!$B:$B,\"NORTE\")/1000","v":0},{"$f":"SUMIFS('Base TU'!BI:BI,'Base TU'!$A:$A,$B10,'Base TU'!$B:$B,\"NORTE\")/1000","v":0},{"$f":"SUMIFS('Base TU'!BJ:BJ,'Base TU'!$A:$A,$B10,'Base TU'!$B:$B,\"NORTE\")/1000","v":869.98800000000006},{"$f":"SUMIFS('Base TU'!BK:BK,'Base TU'!$A:$A,$B10,'Base TU'!$B:$B,\"NORTE\")/1000","v":1694.89},{"$f":"SUMIFS('Base TU'!BL:BL,'Base TU'!$A:$A,$B10,'Base TU'!$B:$B,\"NORTE\")/1000","v":1617.5719999999999},{"$f":"SUMIFS('Base TU'!BM:BM,'Base TU'!$A:$A,$B10,'Base TU'!$B:$B,\"NORTE\")/1000","v":1449.172},{"$f":"SUMIFS('Base TU'!BN:BN,'Base TU'!$A:$A,$B10,'Base TU'!$B:$B,\"NORTE\")/1000","v":1392.27},{"$f":"SUMIFS('Base TU'!BO:BO,'Base TU'!$A:$A,$B10,'Base TU'!$B:$B,\"NORTE\")/1000","v":1266.441},{"$f":"SUMIFS('Base TU'!BP:BP,'Base TU'!$A:$A,$B10,'Base TU'!$B:$B,\"NORTE\")/1000","v":1338.2139999999999},null,{"$f":"SUMIFS('Base TU'!BR:BR,'Base TU'!$A:$A,$B10,'Base TU'!$B:$B,\"NORTE\")/1000","v":31.013999999999999},{"$f":"SUMIFS('Base TU'!BS:BS,'Base TU'!$A:$A,$B10,'Base TU'!$B:$B,\"NORTE\")/1000","v":-2.9420000000000002},{"$f":"SUMIFS('Base TU'!BT:BT,'Base TU'!$A:$A,$B10,'Base TU'!$B:$B,\"NORTE\")/1000","v":0},{"$f":"SUMIFS('Base TU'!BU:BU,'Base TU'!$A:$A,$B10,'Base TU'!$B:$B,\"NORTE\")/1000","v":0},{"$f":"SUMIFS('Base TU'!BV:BV,'Base TU'!$A:$A,$B10,'Base TU'!$B:$B,\"NORTE\")/1000","v":0},{"$f":"SUMIFS('Base TU'!BW:BW,'Base TU'!$A:$A,$B10,'Base TU'!$B:$B,\"NORTE\")/1000","v":319.36799999999999},{"$f":"SUMIFS('Base TU'!BX:BX,'Base TU'!$A:$A,$B10,'Base TU'!$B:$B,\"NORTE\")/1000","v":1776.4659999999999},{"$f":"SUMIFS('Base TU'!BY:BY,'Base TU'!$A:$A,$B10,'Base TU'!$B:$B,\"NORTE\")/1000","v":1298.8150000000001},{"$f":"SUMIFS('Base TU'!BZ:BZ,'Base TU'!$A:$A,$B10,'Base TU'!$B:$B,\"NORTE\")/1000","v":837.66600000000005},{"$f":"SUMIFS('Base TU'!CA:CA,'Base TU'!$A:$A,$B10,'Base TU'!$B:$B,\"NORTE\")/1000","v":1052.1410000000001},{"$f":"SUMIFS('Base TU'!CB:CB,'Base TU'!$A:$A,$B10,'Base TU'!$B:$B,\"NORTE\")/1000","v":1088.77},{"$f":"SUMIFS('Base TU'!CC:CC,'Base TU'!$A:$A,$B10,'Base TU'!$B:$B,\"NORTE\")/1000","v":1431.443},null,{"$f":"SUMIFS('Base TU'!CE:CE,'Base TU'!$A:$A,$B10,'Base TU'!$B:$B,\"NORTE\")/1000","v":600.49900000000002},{"$f":"SUMIFS('Base TU'!CF:CF,'Base TU'!$A:$A,$B10,'Base TU'!$B:$B,\"NORTE\")/1000","v":46.034999999999997},{"$f":"SUMIFS('Base TU'!CG:CG,'Base TU'!$A:$A,$B10,'Base TU'!$B:$B,\"NORTE\")/1000","v":0},{"$f":"SUMIFS('Base TU'!CH:CH,'Base TU'!$A:$A,$B10,'Base TU'!$B:$B,\"NORTE\")/1000","v":140.739},{"$f":"SUMIFS('Base TU'!CI:CI,'Base TU'!$A:$A,$B10,'Base TU'!$B:$B,\"NORTE\")/1000","v":49.036000000000001},{"$f":"SUMIFS('Base TU'!CJ:CJ,'Base TU'!$A:$A,$B10,'Base TU'!$B:$B,\"NORTE\")/1000","v":0},{"$f":"SUMIFS('Base TU'!CK:CK,'Base TU'!$A:$A,$B10,'Base TU'!$B:$B,\"NORTE\")/1000","v":0},{"$f":"SUMIFS('Base TU'!CL:CL,'Base TU'!$A:$A,$B10,'Base TU'!$B:$B,\"NORTE\")/1000","v":0},{"$f":"SUMIFS('Base TU'!CM:CM,'Base TU'!$A:$A,$B10,'Base TU'!$B:$B,\"NORTE\")/1000","v":0},{"$f":"SUMIFS('Base TU'!CN:CN,'Base TU'!$A:$A,$B10,'Base TU'!$B:$B,\"NORTE\")/1000","v":0},{"$f":"SUMIFS('Base TU'!CO:CO,'Base TU'!$A:$A,$B10,'Base TU'!$B:$B,\"NORTE\")/1000","v":0},{"$f":"SUMIFS('Base TU'!CP:CP,'Base TU'!$A:$A,$B10,'Base TU'!$B:$B,\"NORTE\")/1000","v":0}]
[null,"Açúcar",null,{"$f":"SUMIFS('Base TU'!E:E,'Base TU'!$A:$A,$B11,'Base TU'!$B:$B,\"NORTE\")/1000","v":159.114},{"$f":"SUMIFS('Base TU'!F:F,'Base TU'!$A:$A,$B11,'Base TU'!$B:$B,\"NORTE\")/1000","v":180.60900000000001},{"$f":"SUMIFS('Base TU'!G:G,'Base TU'!$A:$A,$B11,'Base TU'!$B:$B,\"NORTE\")/1000","v":139.26499999999999},{"$f":"SUMIFS('Base TU'!H:H,'Base TU'!$A:$A,$B11,'Base TU'!$B:$B,\"NORTE\")/1000","v":127.61199999999999},{"$f":"SUMIFS('Base TU'!I:I,'Base TU'!$A:$A,$B11,'Base TU'!$B:$B,\"NORTE\")/1000","v":342.17500000000001},{"$f":"SUMIFS('Base TU'!J:J,'Base TU'!$A:$A,$B11,'Base TU'!$B:$B,\"NORTE\")/1000","v":550.50800000000004},{"$f":"SUMIFS('Base TU'!K:K,'Base TU'!$A:$A,$B11,'Base TU'!$B:$B,\"NORTE\")/1000","v":294.642},{"$f":"SUMIFS('Base TU'!L:L,'Base TU'!$A:$A,$B11,'Base TU'!$B:$B,\"NORTE\")/1000","v":315.57600000000002},{"$f":"SUMIFS('Base TU'!M:M,'Base TU'!$A:$A,$B11,'Base TU'!$B:$B,\"NORTE\")/1000","v":339.512},{"$f":"SUMIFS('Base TU'!N:N,'Base TU'!$A:$A,$B11,'Base TU'!$B:$B,\"NORTE\")/1000","v":643.57899999999995},{"$f":"SUMIFS('Base TU'!O:O,'Base TU'!$A:$A,$B11,'Base TU'!$B:$B,\"NORTE\")/1000","v":566.02599999999995},{"$f":"SUMIFS('Base TU'!P:P,'Base TU'!$A:$A,$B11,'Base TU'!$B:$B,\"NORTE\")/1000","v":373.00799999999998},null,{"$f":"SUMIFS('Base TU'!R:R,'Base TU'!$A:$A,$B11,'Base TU'!$B:$B,\"NORTE\")/1000","v":264.26100000000002},{"$f":"SUMIFS('Base TU'!S:S,'Base TU'!$A:$A,$B11,'Base TU'!$B:$B,\"NORTE\")/1000","v":97.177000000000007},{"$f":"SUMIFS('Base TU'!T:T,'Base TU'!$A:$A,$B11,'Base TU'!$B:$B,\"NORTE\")/1000","v":57.243000000000002},{"$f":"SUMIFS('Base TU'!U:U,'Base TU'!$A:$A,$B11,'Base TU'!$B:$B,\"NORTE\")/1000","v":132.363},{"$f":"SUMIFS('Base TU'!V:V,'Base TU'!$A:$A,$B11,'Base TU'!$B:$B,\"NORTE\")/1000","v":426.98899999999998},{"$f":"SUMIFS('Base TU'!W:W,'Base TU'!$A:$A,$B11,'Base TU'!$B:$B,\"NORTE\")/1000","v":242.80600000000001},{"$f":"SUMIFS('Base TU'!X:X,'Base TU'!$A:$A,$B11,'Base TU'!$B:$B,\"NORTE\")/1000","v":113.38500000000001},{"$f":"SUMIFS('Base TU'!Y:Y,'Base TU'!$A:$A,$B11,'Base TU'!$B:$B,\"NORTE\")/1000","v":144.136},{"$f":"SUMIFS('Base TU'!Z:Z,'Base TU'!$A:$A,$B11,'Base TU'!$B:$B,\"NORTE\")/1000","v":155.928},{"$f":"SUMIFS('Base TU'!AA:AA,'Base TU'!$A:$A,$B11,'Base TU'!$B:$B,\"NORTE\")/1000","v":155.83799999999999},{"$f":"SUMIFS('Base TU'!AB:AB,'Base TU'!$A:$A,$B11,'Base TU'!$B:$B,\"NORTE\")/1000","v":158.893},{"$f":"SUMIFS('Base TU'!AC:AC,'Base TU'!$A:$A,$B11,'Base TU'!$B:$B,\"NORTE\")/1000","v":214.42400000000001},null,{"$f":"SUMIFS('Base TU'!AE:AE,'Base TU'!$A:$A,$B11,'Base TU'!$B:$B,\"NORTE\")/1000","v":406.983},{"$f":"SUMIFS('Base TU'!AF:AF,'Base TU'!$A:$A,$B11,'Base TU'!$B:$B,\"NORTE\")/1000","v":196.291},{"$f":"SUMIFS('Base TU'!AG:AG,'Base TU'!$A:$A,$B11,'Base TU'!$B:$B,\"NORTE\")/1000","v":160.30600000000001},{"$f":"SUMIFS('Base TU'!AH:AH,'Base TU'!$A:$A,$B11,'Base TU'!$B:$B,\"NORTE\")/1000","v":113.837},{"$f":"SUMIFS('Base TU'!AI:AI,'Base TU'!$A:$A,$B11,'Base TU'!$B:$B,\"NORTE\")/1000","v":346.88099999999997},{"$f":"SUMIFS('Base TU'!AJ:AJ,'Base TU'!$A:$A,$B11,'Base TU'!$B:$B,\"NORTE\")/1000","v":363.892},{"$f":"SUMIFS('Base TU'!AK:AK,'Base TU'!$A:$A,$B11,'Base TU'!$B:$B,\"NORTE\")/1000","v":159.52000000000001},{"$f":"SUMIFS('Base TU'!AL:AL,'Base TU'!$A:$A,$B11,'Base TU'!$B:$B,\"NORTE\")/1000","v":139.393},{"$f":"SUMIFS('Base TU'!AM:AM,'Base TU'!$A:$A,$B11,'Base TU'!$B:$B,\"NORTE\")/1000","v":202.911},{"$f":"SUMIFS('Base TU'!AN:AN,'Base TU'!$A:$A,$B11,'Base TU'!$B:$B,\"NORTE\")/1000","v":269.31400000000002},{"$f":"SUMIFS('Base TU'!AO:AO,'Base TU'!$A:$A,$B11,'Base TU'!$B:$B,\"NORTE\")/1000","v":150.131},{"$f":"SUMIFS('Base TU'!AP:AP,'Base TU'!$A:$A,$B11,'Base TU'!$B:$B,\"NORTE\")/1000","v":120.01900000000001},null,{"$f":"SUMIFS('Base TU'!AR:AR,'Base TU'!$A:$A,$B11,'Base TU'!$B:$B,\"NORTE\")/1000","v":164.75399999999999},{"$f":"SUMIFS('Base TU'!AS:AS,'Base TU'!$A:$A,$B11,'Base TU'!$B:$B,\"NORTE\")/1000","v":74.713999999999999},{"$f":"SUMIFS('Base TU'!AT:AT,'Base TU'!$A:$A,$B11,'Base TU'!$B:$B,\"NORTE\")/1000","v":182.71700000000001},{"$f":"SUMIFS('Base TU'!AU:AU,'Base TU'!$A:$A,$B11,'Base TU'!$B:$B,\"NORTE\")/1000","v":263.26799999999997},{"$f":"SUMIFS('Base TU'!AV:AV,'Base TU'!$A:$A,$B11,'Base TU'!$B:$B,\"NORTE\")/1000","v":265.24200000000002},{"$f":"SUMIFS('Base TU'!AW:AW,'Base TU'!$A:$A,$B11,'Base TU'!$B:$B,\"NORTE\")/1000","v":138.80099999999999},{"$f":"SUMIFS('Base TU'!AX:AX,'Base TU'!$A:$A,$B11,'Base TU'!$B:$B,\"NORTE\")/1000","v":114.18899999999999},{"$f":"SUMIFS('Base TU'!AY:AY,'Base TU'!$A:$A,$B11,'Base TU'!$B:$B,\"NORTE\")/1000","v":98.405000000000001},{"$f":"SUMIFS('Base TU'!AZ:AZ,'Base TU'!$A:$A,$B11,'Base TU'!$B:$B,\"NORTE\")/1000","v":154.178},{"$f":"SUMIFS('Base TU'!BA:BA,'Base TU'!$A:$A,$B11,'Base TU'!$B:$B,\"NORTE\")/1000","v":129.01900000000001},{"$f":"SUMIFS('Base TU'!BB:BB,'Base TU'!$A:$A,$B11,'Base TU'!$B:$B,\"NORTE\")/1000","v":95.748000000000005},{"$f":"SUMIFS('Base TU'!BC:BC,'Base TU'!$A:$A,$B11,'Base TU'!$B:$B,\"NORTE\")/1000","v":459.06},null,{"$f":"SUMIFS('Base TU'!BE:BE,'Base TU'!$A:$A,$B11,'Base TU'!$B:$B,\"NORTE\")/1000","v":263.83800000000002},{"$f":"SUMIFS('Base TU'!BF:BF,'Base TU'!$A:$A,$B11,'Base TU'!$B:$B,\"NORTE\")/1000","v":194.41399999999999},{"$f":"SUMIFS('Base TU'!BG:BG,'Base TU'!$A:$A,$B11,'Base TU'!$B:$B,\"NORTE\")/1000","v":122.806},{"$f":"SUMIFS('Base TU'!BH:BH,'Base TU'!$A:$A,$B11,'Base TU'!$B:$B,\"NORTE\")/1000","v":173.78399999999999},{"$f":"SUMIFS('Base TU'!BI:BI,'Base TU'!$A:$A,$B11,'Base TU'!$B:$B,\"NORTE\")/1000","v":278.25599999999997},{"$f":"SUMIFS('Base TU'!BJ:BJ,'Base TU'!$A:$A,$B11,'Base TU'!$B:$B,\"NORTE\")/1000","v":207.346},{"$f":"SUMIFS('Base TU'!BK:BK,'Base TU'!$A:$A,$B11,'Base TU'!$B:$B,\"NORTE\")/1000","v":171.83},{"$f":"SUMIFS('Base TU'!BL:BL,'Base TU'!$A:$A,$B11,'Base TU'!$B:$B,\"NORTE\")/1000","v":406.858},{"$f":"SUMIFS('Base TU'!BM:BM,'Base TU'!$A:$A,$B11,'Base TU'!$B:$B,\"NORTE\")/1000","v":587.31700000000001},{"$f":"SUMIFS('Base TU'!BN:BN,'Base TU'!$A:$A,$B11,'Base TU'!$B:$B,\"NORTE\")/1000","v":717.88499999999999},{"$f":"SUMIFS('Base TU'!BO:BO,'Base TU'!$A:$A,$B11,'Base TU'!$B:$B,\"NORTE\")/1000","v":631.24699999999996},{"$f":"SUMIFS('Base TU'!BP:BP,'Base TU'!$A:$A,$B11,'Base TU'!$B:$B,\"NORTE\")/1000","v":473.92700000000002},null,{"$f":"SUMIFS('Base TU'!BR:BR,'Base TU'!$A:$A,$B11,'Base TU'!$B:$B,\"NORTE\")/1000","v":412.83},{"$f":"SUMIFS('Base TU'!BS:BS,'Base TU'!$A:$A,$B11,'Base TU'!$B:$B,\"NORTE\")/1000","v":45.569000000000003},{"$f":"SUMIFS('Base TU'!BT:BT,'Base TU'!$A:$A,$B11,'Base TU'!$B:$B,\"NORTE\")/1000","v":77.191999999999993},{"$f":"SUMIFS('Base TU'!BU:BU,'Base TU'!$A:$A,$B11,'Base TU'!$B:$B,\"NORTE\")/1000","v":175.53399999999999},{"$f":"SUMIFS('Base TU'!BV:BV,'Base TU'!$A:$A,$B11,'Base TU'!$B:$B,\"NORTE\")/1000","v":444.666},{"$f":"SUMIFS('Base TU'!BW:BW,'Base TU'!$A:$A,$B11,'Base TU'!$B:$B,\"NORTE\")/1000","v":430.41500000000002},{"$f":"SUMIFS('Base TU'!BX:BX,'Base TU'!$A:$A,$B11,'Base TU'!$B:$B,\"NORTE\")/1000","v":149.17099999999999},{"$f":"SUMIFS('Base TU'!BY:BY,'Base TU'!$A:$A,$B11,'Base TU'!$B:$B,\"NORTE\")/1000","v":290.17099999999999},{"$f":"SUMIFS('Base TU'!BZ:BZ,'Base TU'!$A:$A,$B11,'Base TU'!$B:$B,\"NORTE\")/1000","v":482.62400000000002},{"$f":"SUMIFS('Base TU'!CA:CA,'Base TU'!$A:$A,$B11,'Base TU'!$B:$B,\"NORTE\")/1000","v":440.94099999999997},{"$f":"SUMIFS('Base TU'!CB:CB,'Base TU'!$A:$A,$B11,'Base TU'!$B:$B,\"NORTE\")/1000","v":412.32400000000001},{"$f":"SUMIFS('Base TU'!CC:CC,'Base TU'!$A:$A,$B11,'Base TU'!$B:$B,\"NORTE\")/1000","v":227.87},null,{"$f":"SUMIFS('Base TU'!CE:CE,'Base TU'!$A:$A,$B11,'Base TU'!$B:$B,\"NORTE\")/1000","v":194.02799999999999},{"$f":"SUMIFS('Base TU'!CF:CF,'Base TU'!$A:$A,$B11,'Base TU'!$B:$B,\"NORTE\")/1000","v":29.097000000000001},{"$f":"SUMIFS('Base TU'!CG:CG,'Base TU'!$A:$A,$B11,'Base TU'!$B:$B,\"NORTE\")/1000","v":146.15},{"$f":"SUMIFS('Base TU'!CH:CH,'Base TU'!$A:$A,$B11,'Base TU'!$B:$B,\"NORTE\")/1000","v":57.756},{"$f":"SUMIFS('Base TU'!CI:CI,'Base TU'!$A:$A,$B11,'Base TU'!$B:$B,\"NORTE\")/1000","v":209.899},{"$f":"SUMIFS('Base TU'!CJ:CJ,'Base TU'!$A:$A,$B11,'Base TU'!$B:$B,\"NORTE\")/1000","v":0},{"$f":"SUMIFS('Base TU'!CK:CK,'Base TU'!$A:$A,$B11,'Base TU'!$B:$B,\"NORTE\")/1000","v":0},{"$f":"SUMIFS('Base TU'!CL:CL,'Base TU'!$A:$A,$B11,'Base TU'!$B:$B,\"NORTE\")/1000","v":0},{"$f":"SUMIFS('Base TU'!CM:CM,'Base TU'!$A:$A,$B11,'Base TU'!$B:$B,\"NORTE\")/1000","v":0},{"$f":"SUMIFS('Base TU'!CN:CN,'Base TU'!$A:$A,$B11,'Base TU'!$B:$B,\"NORTE\")/1000","v":0},{"$f":"SUMIFS('Base TU'!CO:CO,'Base TU'!$A:$A,$B11,'Base TU'!$B:$B,\"NORTE\")/1000","v":0},{"$f":"SUMIFS('Base TU'!CP:CP,'Base TU'!$A:$A,$B11,'Base TU'!$B:$B,\"NORTE\")/1000","v":0}]
[null,"Fertilizantes",null,{"$f":"SUMIFS('Base TU'!E:E,'Base TU'!$A:$A,$B12,'Base TU'!$B:$B,\"NORTE\")/1000","v":0},{"$f":"SUMIFS('Base TU'!F:F,'Base TU'!$A:$A,$B12,'Base TU'!$B:$B,\"NORTE\")/1000","v":0},{"$f":"SUMIFS('Base TU'!G:G,'Base TU'!$A:$A,$B12,'Base TU'!$B:$B,\"NORTE\")/1000","v":0},{"$f":"SUMIFS('Base TU'!H:H,'Base TU'!$A:$A,$B12,'Base TU'!$B:$B,\"NORTE\")/1000","v":0},{"$f":"SUMIFS('Base TU'!I:I,'Base TU'!$A:$A,$B12,'Base TU'!$B:$B,\"NORTE\")/1000","v":0},{"$f":"SUMIFS('Base TU'!J:J,'Base TU'!$A:$A,$B12,'Base TU'!$B:$B,\"NORTE\")/1000","v":0},{"$f":"SUMIFS('Base TU'!K:K,'Base TU'!$A:$A,$B12,'Base TU'!$B:$B,\"NORTE\")/1000","v":0},{"$f":"SUMIFS('Base TU'!L:L,'Base TU'!$A:$A,$B12,'Base TU'!$B:$B,\"NORTE\")/1000","v":0},{"$f":"SUMIFS('Base TU'!M:M,'Base TU'!$A:$A,$B12,'Base TU'!$B:$B,\"NORTE\")/1000","v":0},{"$f":"SUMIFS('Base TU'!N:N,'Base TU'!$A:$A,$B12,'Base TU'!$B:$B,\"NORTE\")/1000","v":0},{"$f":"SUMIFS('Base TU'!O:O,'Base TU'!$A:$A,$B12,'Base TU'!$B:$B,\"NORTE\")/1000","v":0},{"$f":"SUMIFS('Base TU'!P:P,'Base TU'!$A:$A,$B12,'Base TU'!$B:$B,\"NORTE\")/1000","v":0},null,{"$f":"SUMIFS('Base TU'!R:R,'Base TU'!$A:$A,$B12,'Base TU'!$B:$B,\"NORTE\")/1000","v":0},{"$f":"SUMIFS('Base TU'!S:S,'Base TU'!$A:$A,$B12,'Base TU'!$B:$B,\"NORTE\")/1000","v":0},{"$f":"SUMIFS('Base TU'!T:T,'Base TU'!$A:$A,$B12,'Base TU'!$B:$B,\"NORTE\")/1000","v":0},{"$f":"SUMIFS('Base TU'!U:U,'Base TU'!$A:$A,$B12,'Base TU'!$B:$B,\"NORTE\")/1000","v":0},{"$f":"SUMIFS('Base TU'!V:V,'Base TU'!$A:$A,$B12,'Base TU'!$B:$B,\"NORTE\")/1000","v":0},{"$f":"SUMIFS('Base TU'!W:W,'Base TU'!$A:$A,$B12,'Base TU'!$B:$B,\"NORTE\")/1000","v":0},{"$f":"SUMIFS('Base TU'!X:X,'Base TU'!$A:$A,$B12,'Base TU'!$B:$B,\"NORTE\")/1000","v":0},{"$f":"SUMIFS('Base TU'!Y:Y,'Base TU'!$A:$A,$B12,'Base TU'!$B:$B,\"NORTE\")/1000","v":0},{"$f":"SUMIFS('Base TU'!Z:Z,'Base TU'!$A:$A,$B12,'Base TU'!$B:$B,\"NORTE\")/1000","v":0},{"$f":"SUMIFS('Base TU'!AA:AA,'Base TU'!$A:$A,$B12,'Base TU'!$B:$B,\"NORTE\")/1000","v":0},{"$f":"SUMIFS('Base TU'!AB:AB,'Base TU'!$A:$A,$B12,'Base TU'!$B:$B,\"NORTE\")/1000","v":0},{"$f":"SUMIFS('Base TU'!AC:AC,'Base TU'!$A:$A,$B12,'Base TU'!$B:$B,\"NORTE\")/1000","v":0},null,{"$f":"SUMIFS('Base TU'!AE:AE,'Base TU'!$A:$A,$B12,'Base TU'!$B:$B,\"NORTE\")/1000","v":0},{"$f":"SUMIFS('Base TU'!AF:AF,'Base TU'!$A:$A,$B12,'Base TU'!$B:$B,\"NORTE\")/1000","v":0},{"$f":"SUMIFS('Base TU'!AG:AG,'Base TU'!$A:$A,$B12,'Base TU'!$B:$B,\"NORTE\")/1000","v":0},{"$f":"SUMIFS('Base TU'!AH:AH,'Base TU'!$A:$A,$B12,'Base TU'!$B:$B,\"NORTE\")/1000","v":1.49},{"$f":"SUMIFS('Base TU'!AI:AI,'Base TU'!$A:$A,$B12,'Base TU'!$B:$B,\"NORTE\")/1000","v":39.137999999999998},{"$f":"SUMIFS('Base TU'!AJ:AJ,'Base TU'!$A:$A,$B12,'Base TU'!$B:$B,\"NORTE\")/1000","v":46.832000000000001},{"$f":"SUMIFS('Base TU'!AK:AK,'Base TU'!$A:$A,$B12,'Base TU'!$B:$B,\"NORTE\")/1000","v":111.152},{"$f":"SUMIFS('Base TU'!AL:AL,'Base TU'!$A:$A,$B12,'Base TU'!$B:$B,\"NORTE\")/1000","v":109.027},{"$f":"SUMIFS('Base TU'!AM:AM,'Base TU'!$A:$A,$B12,'Base TU'!$B:$B,\"NORTE\")/1000","v":52.548000000000002},{"$f":"SUMIFS('Base TU'!AN:AN,'Base TU'!$A:$A,$B12,'Base TU'!$B:$B,\"NORTE\")/1000","v":70.441999999999993},{"$f":"SUMIFS('Base TU'!AO:AO,'Base TU'!$A:$A,$B12,'Base TU'!$B:$B,\"NORTE\")/1000","v":104.008},{"$f":"SUMIFS('Base TU'!AP:AP,'Base TU'!$A:$A,$B12,'Base TU'!$B:$B,\"NORTE\")/1000","v":166.053},null,{"$f":"SUMIFS('Base TU'!AR:AR,'Base TU'!$A:$A,$B12,'Base TU'!$B:$B,\"NORTE\")/1000","v":107.379},{"$f":"SUMIFS('Base TU'!AS:AS,'Base TU'!$A:$A,$B12,'Base TU'!$B:$B,\"NORTE\")/1000","v":74.680000000000007},{"$f":"SUMIFS('Base TU'!AT:AT,'Base TU'!$A:$A,$B12,'Base TU'!$B:$B,\"NORTE\")/1000","v":99.42},{"$f":"SUMIFS('Base TU'!AU:AU,'Base TU'!$A:$A,$B12,'Base TU'!$B:$B,\"NORTE\")/1000","v":130.96600000000001},{"$f":"SUMIFS('Base TU'!AV:AV,'Base TU'!$A:$A,$B12,'Base TU'!$B:$B,\"NORTE\")/1000","v":184.69900000000001},{"$f":"SUMIFS('Base TU'!AW:AW,'Base TU'!$A:$A,$B12,'Base TU'!$B:$B,\"NORTE\")/1000","v":175.65},{"$f":"SUMIFS('Base TU'!AX:AX,'Base TU'!$A:$A,$B12,'Base TU'!$B:$B,\"NORTE\")/1000","v":202.60599999999999},{"$f":"SUMIFS('Base TU'!AY:AY,'Base TU'!$A:$A,$B12,'Base TU'!$B:$B,\"NORTE\")/1000","v":161.59399999999999},{"$f":"SUMIFS('Base TU'!AZ:AZ,'Base TU'!$A:$A,$B12,'Base TU'!$B:$B,\"NORTE\")/1000","v":64.507000000000005},{"$f":"SUMIFS('Base TU'!BA:BA,'Base TU'!$A:$A,$B12,'Base TU'!$B:$B,\"NORTE\")/1000","v":136.46799999999999},{"$f":"SUMIFS('Base TU'!BB:BB,'Base TU'!$A:$A,$B12,'Base TU'!$B:$B,\"NORTE\")/1000","v":166.25299999999999},{"$f":"SUMIFS('Base TU'!BC:BC,'Base TU'!$A:$A,$B12,'Base TU'!$B:$B,\"NORTE\")/1000","v":227.958},null,{"$f":"SUMIFS('Base TU'!BE:BE,'Base TU'!$A:$A,$B12,'Base TU'!$B:$B,\"NORTE\")/1000","v":182.93899999999999},{"$f":"SUMIFS('Base TU'!BF:BF,'Base TU'!$A:$A,$B12,'Base TU'!$B:$B,\"NORTE\")/1000","v":150.57300000000001},{"$f":"SUMIFS('Base TU'!BG:BG,'Base TU'!$A:$A,$B12,'Base TU'!$B:$B,\"NORTE\")/1000","v":71.8},{"$f":"SUMIFS('Base TU'!BH:BH,'Base TU'!$A:$A,$B12,'Base TU'!$B:$B,\"NORTE\")/1000","v":178.512},{"$f":"SUMIFS('Base TU'!BI:BI,'Base TU'!$A:$A,$B12,'Base TU'!$B:$B,\"NORTE\")/1000","v":237.69800000000001},{"$f":"SUMIFS('Base TU'!BJ:BJ,'Base TU'!$A:$A,$B12,'Base TU'!$B:$B,\"NORTE\")/1000","v":221.84200000000001},{"$f":"SUMIFS('Base TU'!BK:BK,'Base TU'!$A:$A,$B12,'Base TU'!$B:$B,\"NORTE\")/1000","v":237.64599999999999},{"$f":"SUMIFS('Base TU'!BL:BL,'Base TU'!$A:$A,$B12,'Base TU'!$B:$B,\"NORTE\")/1000","v":160.13300000000001},{"$f":"SUMIFS('Base TU'!BM:BM,'Base TU'!$A:$A,$B12,'Base TU'!$B:$B,\"NORTE\")/1000","v":177.80799999999999},{"$f":"SUMIFS('Base TU'!BN:BN,'Base TU'!$A:$A,$B12,'Base TU'!$B:$B,\"NORTE\")/1000","v":254.297},{"$f":"SUMIFS('Base TU'!BO:BO,'Base TU'!$A:$A,$B12,'Base TU'!$B:$B,\"NORTE\")/1000","v":246.732},{"$f":"SUMIFS('Base TU'!BP:BP,'Base TU'!$A:$A,$B12,'Base TU'!$B:$B,\"NORTE\")/1000","v":248.01400000000001},null,{"$f":"SUMIFS('Base TU'!BR:BR,'Base TU'!$A:$A,$B12,'Base TU'!$B:$B,\"NORTE\")/1000","v":259.46300000000002},{"$f":"SUMIFS('Base TU'!BS:BS,'Base TU'!$A:$A,$B12,'Base TU'!$B:$B,\"NORTE\")/1000","v":223.17500000000001},{"$f":"SUMIFS('Base TU'!BT:BT,'Base TU'!$A:$A,$B12,'Base TU'!$B:$B,\"NORTE\")/1000","v":147.10499999999999},{"$f":"SUMIFS('Base TU'!BU:BU,'Base TU'!$A:$A,$B12,'Base TU'!$B:$B,\"NORTE\")/1000","v":151.1},{"$f":"SUMIFS('Base TU'!BV:BV,'Base TU'!$A:$A,$B12,'Base TU'!$B:$B,\"NORTE\")/1000","v":159.32900000000001},{"$f":"SUMIFS('Base TU'!BW:BW,'Base TU'!$A:$A,$B12,'Base TU'!$B:$B,\"NORTE\")/1000","v":156.25399999999999},{"$f":"SUMIFS('Base TU'!BX:BX,'Base TU'!$A:$A,$B12,'Base TU'!$B:$B,\"NORTE\")/1000","v":326.39999999999998},{"$f":"SUMIFS('Base TU'!BY:BY,'Base TU'!$A:$A,$B12,'Base TU'!$B:$B,\"NORTE\")/1000","v":316.07799999999997},{"$f":"SUMIFS('Base TU'!BZ:BZ,'Base TU'!$A:$A,$B12,'Base TU'!$B:$B,\"NORTE\")/1000","v":237.47200000000001},{"$f":"SUMIFS('Base TU'!CA:CA,'Base TU'!$A:$A,$B12,'Base TU'!$B:$B,\"NORTE\")/1000","v":261.32400000000001},{"$f":"SUMIFS('Base TU'!CB:CB,'Base TU'!$A:$A,$B12,'Base TU'!$B:$B,\"NORTE\")/1000","v":218.12899999999999},{"$f":"SUMIFS('Base TU'!CC:CC,'Base TU'!$A:$A,$B12,'Base TU'!$B:$B,\"NORTE\")/1000","v":221.38900000000001},null,{"$f":"SUMIFS('Base TU'!CE:CE,'Base TU'!$A:$A,$B12,'Base TU'!$B:$B,\"NORTE\")/1000","v":179.85499999999999},{"$f":"SUMIFS('Base TU'!CF:CF,'Base TU'!$A:$A,$B12,'Base TU'!$B:$B,\"NORTE\")/1000","v":228.74199999999999},{"$f":"SUMIFS('Base TU'!CG:CG,'Base TU'!$A:$A,$B12,'Base TU'!$B:$B,\"NORTE\")/1000","v":213.98500000000001},{"$f":"SUMIFS('Base TU'!CH:CH,'Base TU'!$A:$A,$B12,'Base TU'!$B:$B,\"NORTE\")/1000","v":95.893000000000001},{"$f":"SUMIFS('Base TU'!CI:CI,'Base TU'!$A:$A,$B12,'Base TU'!$B:$B,\"NORTE\")/1000","v":275.608},{"$f":"SUMIFS('Base TU'!CJ:CJ,'Base TU'!$A:$A,$B12,'Base TU'!$B:$B,\"NORTE\")/1000","v":0},{"$f":"SUMIFS('Base TU'!CK:CK,'Base TU'!$A:$A,$B12,'Base TU'!$B:$B,\"NORTE\")/1000","v":0},{"$f":"SUMIFS('Base TU'!CL:CL,'Base TU'!$A:$A,$B12,'Base TU'!$B:$B,\"NORTE\")/1000","v":0},{"$f":"SUMIFS('Base TU'!CM:CM,'Base TU'!$A:$A,$B12,'Base TU'!$B:$B,\"NORTE\")/1000","v":0},{"$f":"SUMIFS('Base TU'!CN:CN,'Base TU'!$A:$A,$B12,'Base TU'!$B:$B,\"NORTE\")/1000","v":0},{"$f":"SUMIFS('Base TU'!CO:CO,'Base TU'!$A:$A,$B12,'Base TU'!$B:$B,\"NORTE\")/1000","v":0},{"$f":"SUMIFS('Base TU'!CP:CP,'Base TU'!$A:$A,$B12,'Base TU'!$B:$B,\"NORTE\")/1000","v":0}]
[null,"Trigo",null,{"$f":"SUMIFS('Base TU'!E:E,'Base TU'!$A:$A,$B13,'Base TU'!$B:$B,\"NORTE\")/1000","v":0},{"$f":"SUMIFS('Base TU'!F:F,'Base TU'!$A:$A,$B13,'Base TU'!$B:$B,\"NORTE\")/1000","v":0},{"$f":"SUMIFS('Base TU'!G:G,'Base TU'!$A:$A,$B13,'Base TU'!$B:$B,\"NORTE\")/1000","v":0},{"$f":"SUMIFS('Base TU'!H:H,'Base TU'!$A:$A,$B13,'Base TU'!$B:$B,\"NORTE\")/1000","v":0},{"$f":"SUMIFS('Base TU'!I:I,'Base TU'!$A:$A,$B13,'Base TU'!$B:$B,\"NORTE\")/1000","v":0},{"$f":"SUMIFS('Base TU'!J:J,'Base TU'!$A:$A,$B13,'Base TU'!$B:$B,\"NORTE\")/1000","v":0},{"$f":"SUMIFS('Base TU'!K:K,'Base TU'!$A:$A,$B13,'Base TU'!$B:$B,\"NORTE\")/1000","v":0},{"$f":"SUMIFS('Base TU'!L:L,'Base TU'!$A:$A,$B13,'Base TU'!$B:$B,\"NORTE\")/1000","v":0},{"$f":"SUMIFS('Base TU'!M:M,'Base TU'!$A:$A,$B13,'Base TU'!$B:$B,\"NORTE\")/1000","v":0},{"$f":"SUMIFS('Base TU'!N:N,'Base TU'!$A:$A,$B13,'Base TU'!$B:$B,\"NORTE\")/1000","v":0},{"$f":"SUMIFS('Base TU'!O:O,'Base TU'!$A:$A,$B13,'Base TU'!$B:$B,\"NORTE\")/1000","v":0},{"$f":"SUMIFS('Base TU'!P:P,'Base TU'!$A:$A,$B13,'Base TU'!$B:$B,\"NORTE\")/1000","v":0},null,{"$f":"SUMIFS('Base TU'!R:R,'Base TU'!$A:$A,$B13,'Base TU'!$B:$B,\"NORTE\")/1000","v":0},{"$f":"SUMIFS('Base TU'!S:S,'Base TU'!$A:$A,$B13,'Base TU'!$B:$B,\"NORTE\")/1000","v":0},{"$f":"SUMIFS('Base TU'!T:T,'Base TU'!$A:$A,$B13,'Base TU'!$B:$B,\"NORTE\")/1000","v":0},{"$f":"SUMIFS('Base TU'!U:U,'Base TU'!$A:$A,$B13,'Base TU'!$B:$B,\"NORTE\")/1000","v":0},{"$f":"SUMIFS('Base TU'!V:V,'Base TU'!$A:$A,$B13,'Base TU'!$B:$B,\"NORTE\")/1000","v":0},{"$f":"SUMIFS('Base TU'!W:W,'Base TU'!$A:$A,$B13,'Base TU'!$B:$B,\"NORTE\")/1000","v":0},{"$f":"SUMIFS('Base TU'!X:X,'Base TU'!$A:$A,$B13,'Base TU'!$B:$B,\"NORTE\")/1000","v":0},{"$f":"SUMIFS('Base TU'!Y:Y,'Base TU'!$A:$A,$B13,'Base TU'!$B:$B,\"NORTE\")/1000","v":0},{"$f":"SUMIFS('Base TU'!Z:Z,'Base TU'!$A:$A,$B13,'Base TU'!$B:$B,\"NORTE\")/1000","v":0},{"$f":"SUMIFS('Base TU'!AA:AA,'Base TU'!$A:$A,$B13,'Base TU'!$B:$B,\"NORTE\")/1000","v":0},{"$f":"SUMIFS('Base TU'!AB:AB,'Base TU'!$A:$A,$B13,'Base TU'!$B:$B,\"NORTE\")/1000","v":0},{"$f":"SUMIFS('Base TU'!AC:AC,'Base TU'!$A:$A,$B13,'Base TU'!$B:$B,\"NORTE\")/1000","v":0},null,{"$f":"SUMIFS('Base TU'!AE:AE,'Base TU'!$A:$A,$B13,'Base TU'!$B:$B,\"NORTE\")/1000","v":0},{"$f":"SUMIFS('Base TU'!AF:AF,'Base TU'!$A:$A,$B13,'Base TU'!$B:$B,\"NORTE\")/1000","v":0},{"$f":"SUMIFS('Base TU'!AG:AG,'Base TU'!$A:$A,$B13,'Base TU'!$B:$B,\"NORTE\")/1000","v":0},{"$f":"SUMIFS('Base TU'!AH:AH,'Base TU'!$A:$A,$B13,'Base TU'!$B:$B,\"NORTE\")/1000","v":0},{"$f":"SUMIFS('Base TU'!AI:AI,'Base TU'!$A:$A,$B13,'Base TU'!$B:$B,\"NORTE\")/1000","v":0},{"$f":"SUMIFS('Base TU'!AJ:AJ,'Base TU'!$A:$A,$B13,'Base TU'!$B:$B,\"NORTE\")/1000","v":0},{"$f":"SUMIFS('Base TU'!AK:AK,'Base TU'!$A:$A,$B13,'Base TU'!$B:$B,\"NORTE\")/1000","v":0},{"$f":"SUMIFS('Base TU'!AL:AL,'Base TU'!$A:$A,$B13,'Base TU'!$B:$B,\"NORTE\")/1000","v":0},{"$f":"SUMIFS('Base TU'!AM:AM,'Base TU'!$A:$A,$B13,'Base TU'!$B:$B,\"NORTE\")/1000","v":0},{"$f":"SUMIFS('Base TU'!AN:AN,'Base TU'!$A:$A,$B13,'Base TU'!$B:$B,\"NORTE\")/1000","v":0},{"$f":"SUMIFS('Base TU'!AO:AO,'Base TU'!$A:$A,$B13,'Base TU'!$B:$B,\"NORTE\")/1000","v":0},{"$f":"SUMIFS('Base TU'!AP:AP,'Base TU'!$A:$A,$B13,'Base TU'!$B:$B,\"NORTE\")/1000","v":0},null,{"$f":"SUMIFS('Base TU'!AR:AR,'Base TU'!$A:$A,$B13,'Base TU'!$B:$B,\"NORTE\")/1000","v":0},{"$f":"SUMIFS('Base TU'!AS:AS,'Base TU'!$A:$A,$B13,'Base TU'!$B:$B,\"NORTE\")/1000","v":0},{"$f":"SUMIFS('Base TU'!AT:AT,'Base TU'!$A:$A,$B13,'Base TU'!$B:$B,\"NORTE\")/1000","v":0},{"$f":"SUMIFS('Base TU'!AU:AU,'Base TU'!$A:$A,$B13,'Base TU'!$B:$B,\"NORTE\")/1000","v":0},{"$f":"SUMIFS('Base TU'!AV:AV,'Base TU'!$A:$A,$B13,'Base TU'!$B:$B,\"NORTE\")/1000","v":0},{"$f":"SUMIFS('Base TU'!AW:AW,'Base TU'!$A:$A,$B13,'Base TU'!$B:$B,\"NORTE\")/1000","v":0},{"$f":"SUMIFS('Base TU'!AX:AX,'Base TU'!$A:$A,$B13,'Base TU'!$B:$B,\"NORTE\")/1000","v":0},{"$f":"SUMIFS('Base TU'!AY:AY,'Base TU'!$A:$A,$B13,'Base TU'!$B:$B,\"NORTE\")/1000","v":0},{"$f":"SUMIFS('Base TU'!AZ:AZ,'Base TU'!$A:$A,$B13,'Base TU'!$B:$B,\"NORTE\")/1000","v":0},{"$f":"SUMIFS('Base TU'!BA:BA,'Base TU'!$A:$A,$B13,'Base TU'!$B:$B,\"NORTE\")/1000","v":0},{"$f":"SUMIFS('Base TU'!BB:BB,'Base TU'!$A:$A,$B13,'Base TU'!$B:$B,\"NORTE\")/1000","v":0},{"$f":"SUMIFS('Base TU'!BC:BC,'Base TU'!$A:$A,$B13,'Base TU'!$B:$B,\"NORTE\")/1000","v":0},null,{"$f":"SUMIFS('Base TU'!BE:BE,'Base TU'!$A:$A,$B13,'Base TU'!$B:$B,\"NORTE\")/1000","v":0},{"$f":"SUMIFS('Base TU'!BF:BF,'Base TU'!$A:$A,$B13,'Base TU'!$B:$B,\"NORTE\")/1000","v":0},{"$f":"SUMIFS('Base TU'!BG:BG,'Base TU'!$A:$A,$B13,'Base TU'!$B:$B,\"NORTE\")/1000","v":0},{"$f":"SUMIFS('Base TU'!BH:BH,'Base TU'!$A:$A,$B13,'Base TU'!$B:$B,\"NORTE\")/1000","v":0},{"$f":"SUMIFS('Base TU'!BI:BI,'Base TU'!$A:$A,$B13,'Base TU'!$B:$B,\"NORTE\")/1000","v":0},{"$f":"SUMIFS('Base TU'!BJ:BJ,'Base TU'!$A:$A,$B13,'Base TU'!$B:$B,\"NORTE\")/1000","v":0},{"$f":"SUMIFS('Base TU'!BK:BK,'Base TU'!$A:$A,$B13,'Base TU'!$B:$B,\"NORTE\")/1000","v":0},{"$f":"SUMIFS('Base TU'!BL:BL,'Base TU'!$A:$A,$B13,'Base TU'!$B:$B,\"NORTE\")/1000","v":0},{"$f":"SUMIFS('Base TU'!BM:BM,'Base TU'!$A:$A,$B13,'Base TU'!$B:$B,\"NORTE\")/1000","v":0},{"$f":"SUMIFS('Base TU'!BN:BN,'Base TU'!$A:$A,$B13,'Base TU'!$B:$B,\"NORTE\")/1000","v":0},{"$f":"SUMIFS('Base TU'!BO:BO,'Base TU'!$A:$A,$B13,'Base TU'!$B:$B,\"NORTE\")/1000","v":0},{"$f":"SUMIFS('Base TU'!BP:BP,'Base TU'!$A:$A,$B13,'Base TU'!$B:$B,\"NORTE\")/1000","v":0},null,{"$f":"SUMIFS('Base TU'!BR:BR,'Base TU'!$A:$A,$B13,'Base TU'!$B:$B,\"NORTE\")/1000","v":0},{"$f":"SUMIFS('Base TU'!BS:BS,'Base TU'!$A:$A,$B13,'Base TU'!$B:$B,\"NORTE\")/1000","v":0},{"$f":"SUMIFS('Base TU'!BT:BT,'Base TU'!$A:$A,$B13,'Base TU'!$B:$B,\"NORTE\")/1000","v":0},{"$f":"SUMIFS('Base TU'!BU:BU,'Base TU'!$A:$A,$B13,'Base TU'!$B:$B,\"NORTE\")/1000","v":0},{"$f":"SUMIFS('Base TU'!BV:BV,'Base TU'!$A:$A,$B13,'Base TU'!$B:$B,\"NORTE\")/1000","v":0},{"$f":"SUMIFS('Base TU'!BW:BW,'Base TU'!$A:$A,$B13,'Base TU'!$B:$B,\"NORTE\")/1000","v":0},{"$f":"SUMIFS('Base TU'!BX:BX,'Base TU'!$A:$A,$B13,'Base TU'!$B:$B,\"NORTE\")/1000","v":0},{"$f":"SUMIFS('Base TU'!BY:BY,'Base TU'!$A:$A,$B13,'Base TU'!$B:$B,\"NORTE\")/1000","v":0},{"$f":"SUMIFS('Base TU'!BZ:BZ,'Base TU'!$A:$A,$B13,'Base TU'!$B:$B,\"NORTE\")/1000","v":0},{"$f":"SUMIFS('Base TU'!CA:CA,'Base TU'!$A:$A,$B13,'Base TU'!$B:$B,\"NORTE\")/1000","v":0},{"$f":"SUMIFS('Base TU'!CB:CB,'Base TU'!$A:$A,$B13,'Base TU'!$B:$B,\"NORTE\")/1000","v":0},{"$f":"SUMIFS('Base TU'!CC:CC,'Base TU'!$A:$A,$B13,'Base TU'!$B:$B,\"NORTE\")/1000","v":0},null,{"$f":"SUMIFS('Base TU'!CE:CE,'Base TU'!$A:$A,$B13,'Base TU'!$B:$B,\"NORTE\")/1000","v":0},{"$f":"SUMIFS('Base TU'!CF:CF,'Base TU'!$A:$A,$B13,'Base TU'!$B:$B,\"NORTE\")/1000","v":0},{"$f":"SUMIFS('Base TU'!CG:CG,'Base TU'!$A:$A,$B13,'Base TU'!$B:$B,\"NORTE\")/1000","v":0},{"$f":"SUMIFS('Base TU'!CH:CH,'Base TU'!$A:$A,$B13,'Base TU'!$B:$B,\"NORTE\")/1000","v":0},{"$f":"SUMIFS('Base TU'!CI:CI,'Base TU'!$A:$A,$B13,'Base TU'!$B:$B,\"NORTE\")/1000","v":0},{"$f":"SUMIFS('Base TU'!CJ:CJ,'Base TU'!$A:$A,$B13,'Base TU'!$B:$B,\"NORTE\")/1000","v":0},{"$f":"SUMIFS('Base TU'!CK:CK,'Base TU'!$A:$A,$B13,'Base TU'!$B:$B,\"NORTE\")/1000","v":0},{"$f":"SUMIFS('Base TU'!CL:CL,'Base TU'!$A:$A,$B13,'Base TU'!$B:$B,\"NORTE\")/1000","v":0},{"$f":"SUMIFS('Base TU'!CM:CM,'Base TU'!$A:$A,$B13,'Base TU'!$B:$B,\"NORTE\")/1000","v":0},{"$f":"SUMIFS('Base TU'!CN:CN,'Base TU'!$A:$A,$B13,'Base TU'!$B:$B,\"NORTE\")/1000","v":0},{"$f":"SUMIFS('Base TU'!CO:CO,'Base TU'!$A:$A,$B13,'Base TU'!$B:$B,\"NORTE\")/1000","v":0},{"$f":"SUMIFS('Base TU'!CP:CP,'Base TU'!$A:$A,$B13,'Base TU'!$B:$B,\"NORTE\")/1000","v":0}]
[null,"Malte",null,{"$f":"SUMIFS('Base TU'!E:E,'Base TU'!$A:$A,$B14,'Base TU'!$B:$B,\"NORTE\")/1000","v":0},{"$f":"SUMIFS('Base TU'!F:F,'Base TU'!$A:$A,$B14,'Base TU'!$B:$B,\"NORTE\")/1000","v":0},{"$f":"SUMIFS('Base TU'!G:G,'Base TU'!$A:$A,$B14,'Base TU'!$B:$B,\"NORTE\")/1000","v":0},{"$f":"SUMIFS('Base TU'!H:H,'Base TU'!$A:$A,$B14,'Base TU'!$B:$B,\"NORTE\")/1000","v":0},{"$f":"SUMIFS('Base TU'!I:I,'Base TU'!$A:$A,$B14,'Base TU'!$B:$B,\"NORTE\")/1000","v":0},{"$f":"SUMIFS('Base TU'!J:J,'Base TU'!$A:$A,$B14,'Base TU'!$B:$B,\"NORTE\")/1000","v":0},{"$f":"SUMIFS('Base TU'!K:K,'Base TU'!$A:$A,$B14,'Base TU'!$B:$B,\"NORTE\")/1000","v":0},{"$f":"SUMIFS('Base TU'!L:L,'Base TU'!$A:$A,$B14,'Base TU'!$B:$B,\"NORTE\")/1000","v":0},{"$f":"SUMIFS('Base TU'!M:M,'Base TU'!$A:$A,$B14,'Base TU'!$B:$B,\"NORTE\")/1000","v":0},{"$f":"SUMIFS('Base TU'!N:N,'Base TU'!$A:$A,$B14,'Base TU'!$B:$B,\"NORTE\")/1000","v":0},{"$f":"SUMIFS('Base TU'!O:O,'Base TU'!$A:$A,$B14,'Base TU'!$B:$B,\"NORTE\")/1000","v":0},{"$f":"SUMIFS('Base TU'!P:P,'Base TU'!$A:$A,$B14,'Base TU'!$B:$B,\"NORTE\")/1000","v":0},null,{"$f":"SUMIFS('Base TU'!R:R,'Base TU'!$A:$A,$B14,'Base TU'!$B:$B,\"NORTE\")/1000","v":0},{"$f":"SUMIFS('Base TU'!S:S,'Base TU'!$A:$A,$B14,'Base TU'!$B:$B,\"NORTE\")/1000","v":0},{"$f":"SUMIFS('Base TU'!T:T,'Base TU'!$A:$A,$B14,'Base TU'!$B:$B,\"NORTE\")/1000","v":0},{"$f":"SUMIFS('Base TU'!U:U,'Base TU'!$A:$A,$B14,'Base TU'!$B:$B,\"NORTE\")/1000","v":0},{"$f":"SUMIFS('Base TU'!V:V,'Base TU'!$A:$A,$B14,'Base TU'!$B:$B,\"NORTE\")/1000","v":0},{"$f":"SUMIFS('Base TU'!W:W,'Base TU'!$A:$A,$B14,'Base TU'!$B:$B,\"NORTE\")/1000","v":0},{"$f":"SUMIFS('Base TU'!X:X,'Base TU'!$A:$A,$B14,'Base TU'!$B:$B,\"NORTE\")/1000","v":0},{"$f":"SUMIFS('Base TU'!Y:Y,'Base TU'!$A:$A,$B14,'Base TU'!$B:$B,\"NORTE\")/1000","v":0},{"$f":"SUMIFS('Base TU'!Z:Z,'Base TU'!$A:$A,$B14,'Base TU'!$B:$B,\"NORTE\")/1000","v":0},{"$f":"SUMIFS('Base TU'!AA:AA,'Base TU'!$A:$A,$B14,'Base TU'!$B:$B,\"NORTE\")/1000","v":0},{"$f":"SUMIFS('Base TU'!AB:AB,'Base TU'!$A:$A,$B14,'Base TU'!$B:$B,\"NORTE\")/1000","v":0},{"$f":"SUMIFS('Base TU'!AC:AC,'Base TU'!$A:$A,$B14,'Base TU'!$B:$B,\"NORTE\")/1000","v":0},null,{"$f":"SUMIFS('Base TU'!AE:AE,'Base TU'!$A:$A,$B14,'Base TU'!$B:$B,\"NORTE\")/1000","v":0},{"$f":"SUMIFS('Base TU'!AF:AF,'Base TU'!$A:$A,$B14,'Base TU'!$B:$B,\"NORTE\")/1000","v":0},{"$f":"SUMIFS('Base TU'!AG:AG,'Base TU'!$A:$A,$B14,'Base TU'!$B:$B,\"NORTE\")/1000","v":0},{"$f":"SUMIFS('Base TU'!AH:AH,'Base TU'!$A:$A,$B14,'Base TU'!$B:$B,\"NORTE\")/1000","v":0},{"$f":"SUMIFS('Base TU'!AI:AI,'Base TU'!$A:$A,$B14,'Base TU'!$B:$B,\"NORTE\")/1000","v":0},{"$f":"SUMIFS('Base TU'!AJ:AJ,'Base TU'!$A:$A,$B14,'Base TU'!$B:$B,\"NORTE\")/1000","v":0},{"$f":"SUMIFS('Base TU'!AK:AK,'Base TU'!$A:$A,$B14,'Base TU'!$B:$B,\"NORTE\")/1000","v":0},{"$f":"SUMIFS('Base TU'!AL:AL,'Base TU'!$A:$A,$B14,'Base TU'!$B:$B,\"NORTE\")/1000","v":0},{"$f":"SUMIFS('Base TU'!AM:AM,'Base TU'!$A:$A,$B14,'Base TU'!$B:$B,\"NORTE\")/1000","v":0},{"$f":"SUMIFS('Base TU'!AN:AN,'Base TU'!$A:$A,$B14,'Base TU'!$B:$B,\"NORTE\")/1000","v":0},{"$f":"SUMIFS('Base TU'!AO:AO,'Base TU'!$A:$A,$B14,'Base TU'!$B:$B,\"NORTE\")/1000","v":0},{"$f":"SUMIFS('Base TU'!AP:AP,'Base TU'!$A:$A,$B14,'Base TU'!$B:$B,\"NORTE\")/1000","v":0},null,{"$f":"SUMIFS('Base TU'!AR:AR,'Base TU'!$A:$A,$B14,'Base TU'!$B:$B,\"NORTE\")/1000","v":0},{"$f":"SUMIFS('Base TU'!AS:AS,'Base TU'!$A:$A,$B14,'Base TU'!$B:$B,\"NORTE\")/1000","v":0},{"$f":"SUMIFS('Base TU'!AT:AT,'Base TU'!$A:$A,$B14,'Base TU'!$B:$B,\"NORTE\")/1000","v":0},{"$f":"SUMIFS('Base TU'!AU:AU,'Base TU'!$A:$A,$B14,'Base TU'!$B:$B,\"NORTE\")/1000","v":0},{"$f":"SUMIFS('Base TU'!AV:AV,'Base TU'!$A:$A,$B14,'Base TU'!$B:$B,\"NORTE\")/1000","v":0},{"$f":"SUMIFS('Base TU'!AW:AW,'Base TU'!$A:$A,$B14,'Base TU'!$B:$B,\"NORTE\")/1000","v":0},{"$f":"SUMIFS('Base TU'!AX:AX,'Base TU'!$A:$A,$B14,'Base TU'!$B:$B,\"NORTE\")/1000","v":0},{"$f":"SUMIFS('Base TU'!AY:AY,'Base TU'!$A:$A,$B14,'Base TU'!$B:$B,\"NORTE\")/1000","v":0},{"$f":"SUMIFS('Base TU'!AZ:AZ,'Base TU'!$A:$A,$B14,'Base TU'!$B:$B,\"NORTE\")/1000","v":0},{"$f":"SUMIFS('Base TU'!BA:BA,'Base TU'!$A:$A,$B14,'Base TU'!$B:$B,\"NORTE\")/1000","v":0},{"$f":"SUMIFS('Base TU'!BB:BB,'Base TU'!$A:$A,$B14,'Base TU'!$B:$B,\"NORTE\")/1000","v":0},{"$f":"SUMIFS('Base TU'!BC:BC,'Base TU'!$A:$A,$B14,'Base TU'!$B:$B,\"NORTE\")/1000","v":0},null,{"$f":"SUMIFS('Base TU'!BE:BE,'Base TU'!$A:$A,$B14,'Base TU'!$B:$B,\"NORTE\")/1000","v":0},{"$f":"SUMIFS('Base TU'!BF:BF,'Base TU'!$A:$A,$B14,'Base TU'!$B:$B,\"NORTE\")/1000","v":0},{"$f":"SUMIFS('Base TU'!BG:BG,'Base TU'!$A:$A,$B14,'Base TU'!$B:$B,\"NORTE\")/1000","v":0},{"$f":"SUMIFS('Base TU'!BH:BH,'Base TU'!$A:$A,$B14,'Base TU'!$B:$B,\"NORTE\")/1000","v":0},{"$f":"SUMIFS('Base TU'!BI:BI,'Base TU'!$A:$A,$B14,'Base TU'!$B:$B,\"NORTE\")/1000","v":0},{"$f":"SUMIFS('Base TU'!BJ:BJ,'Base TU'!$A:$A,$B14,'Base TU'!$B:$B,\"NORTE\")/1000","v":0},{"$f":"SUMIFS('Base TU'!BK:BK,'Base TU'!$A:$A,$B14,'Base TU'!$B:$B,\"NORTE\")/1000","v":0},{"$f":"SUMIFS('Base TU'!BL:BL,'Base TU'!$A:$A,$B14,'Base TU'!$B:$B,\"NORTE\")/1000","v":0},{"$f":"SUMIFS('Base TU'!BM:BM,'Base TU'!$A:$A,$B14,'Base TU'!$B:$B,\"NORTE\")/1000","v":0},{"$f":"SUMIFS('Base TU'!BN:BN,'Base TU'!$A:$A,$B14,'Base TU'!$B:$B,\"NORTE\")/1000","v":0},{"$f":"SUMIFS('Base TU'!BO:BO,'Base TU'!$A:$A,$B14,'Base TU'!$B:$B,\"NORTE\")/1000","v":0},{"$f":"SUMIFS('Base TU'!BP:BP,'Base TU'!$A:$A,$B14,'Base TU'!$B:$B,\"NORTE\")/1000","v":0},null,{"$f":"SUMIFS('Base TU'!BR:BR,'Base TU'!$A:$A,$B14,'Base TU'!$B:$B,\"NORTE\")/1000","v":0},{"$f":"SUMIFS('Base TU'!BS:BS,'Base TU'!$A:$A,$B14,'Base TU'!$B:$B,\"NORTE\")/1000","v":0},{"$f":"SUMIFS('Base TU'!BT:BT,'Base TU'!$A:$A,$B14,'Base TU'!$B:$B,\"NORTE\")/1000","v":0},{"$f":"SUMIFS('Base TU'!BU:BU,'Base TU'!$A:$A,$B14,'Base TU'!$B:$B,\"NORTE\")/1000","v":0},{"$f":"SUMIFS('Base TU'!BV:BV,'Base TU'!$A:$A,$B14,'Base TU'!$B:$B,\"NORTE\")/1000","v":0},{"$f":"SUMIFS('Base TU'!BW:BW,'Base TU'!$A:$A,$B14,'Base TU'!$B:$B,\"NORTE\")/1000","v":0},{"$f":"SUMIFS('Base TU'!BX:BX,'Base TU'!$A:$A,$B14,'Base TU'!$B:$B,\"NORTE\")/1000","v":0},{"$f":"SUMIFS('Base TU'!BY:BY,'Base TU'!$A:$A,$B14,'Base TU'!$B:$B,\"NORTE\")/1000","v":0},{"$f":"SUMIFS('Base TU'!BZ:BZ,'Base TU'!$A:$A,$B14,'Base TU'!$B:$B,\"NORTE\")/1000","v":0},{"$f":"SUMIFS('Base TU'!CA:CA,'Base TU'!$A:$A,$B14,'Base TU'!$B:$B,\"NORTE\")/1000","v":0},{"$f":"SUMIFS('Base TU'!CB:CB,'Base TU'!$A:$A,$B14,'Base TU'!$B:$B,\"NORTE\")/1000","v":0},{"$f":"SUMIFS('Base TU'!CC:CC,'Base TU'!$A:$A,$B14,'Base TU'!$B:$B,\"NORTE\")/1000","v":0},null,{"$f":"SUMIFS('Base TU'!CE:CE,'Base TU'!$A:$A,$B14,'Base TU'!$B:$B,\"NORTE\")/1000","v":0},{"$f":"SUMIFS('Base TU'!CF:CF,'Base TU'!$A:$A,$B14,'Base TU'!$B:$B,\"NORTE\")/1000","v":0},{"$f":"SUMIFS('Base TU'!CG:CG,'Base TU'!$A:$A,$B14,'Base TU'!$B:$B,\"NORTE\")/1000","v":0},{"$f":"SUMIFS('Base TU'!CH:CH,'Base TU'!$A:$A,$B14,'Base TU'!$B:$B,\"NORTE\")/1000","v":0},{"$f":"SUMIFS('Base TU'!CI:CI,'Base TU'!$A:$A,$B14,'Base TU'!$B:$B,\"NORTE\")/1000","v":0},{"$f":"SUMIFS('Base TU'!CJ:CJ,'Base TU'!$A:$A,$B14,'Base TU'!$B:$B,\"NORTE\")/1000","v":0},{"$f":"SUMIFS('Base TU'!CK:CK,'Base TU'!$A:$A,$B14,'Base TU'!$B:$B,\"NORTE\")/1000","v":0},{"$f":"SUMIFS('Base TU'!CL:CL,'Base TU'!$A:$A,$B14,'Base TU'!$B:$B,\"NORTE\")/1000","v":0},{"$f":"SUMIFS('Base TU'!CM:CM,'Base TU'!$A:$A,$B14,'Base TU'!$B:$B,\"NORTE\")/1000","v":0},{"$f":"SUMIFS('Base TU'!CN:CN,'Base TU'!$A:$A,$B14,'Base TU'!$B:$B,\"NORTE\")/1000","v":0},{"$f":"SUMIFS('Base TU'!CO:CO,'Base TU'!$A:$A,$B14,'Base TU'!$B:$B,\"NORTE\")/1000","v":0},{"$f":"SUMIFS('Base TU'!CP:CP,'Base TU'!$A:$A,$B14,'Base TU'!$B:$B,\"NORTE\")/1000","v":0}]
[null,"Farelo de Milho",null,{"$f":"SUMIFS('Base TU'!E:E,'Base TU'!$A:$A,$B15,'Base TU'!$B:$B,\"NORTE\")/1000","v":0},{"$f":"SUMIFS('Base TU'!F:F,'Base TU'!$A:$A,$B15,'Base TU'!$B:$B,\"NORTE\")/1000","v":0},{"$f":"SUMIFS('Base TU'!G:G,'Base TU'!$A:$A,$B15,'Base TU'!$B:$B,\"NORTE\")/1000","v":0},{"$f":"SUMIFS('Base TU'!H:H,'Base TU'!$A:$A,$B15,'Base TU'!$B:$B,\"NORTE\")/1000","v":0},{"$f":"SUMIFS('Base TU'!I:I,'Base TU'!$A:$A,$B15,'Base TU'!$B:$B,\"NORTE\")/1000","v":0},{"$f":"SUMIFS('Base TU'!J:J,'Base TU'!$A:$A,$B15,'Base TU'!$B:$B,\"NORTE\")/1000","v":0},{"$f":"SUMIFS('Base TU'!K:K,'Base TU'!$A:$A,$B15,'Base TU'!$B:$B,\"NORTE\")/1000","v":0},{"$f":"SUMIFS('Base TU'!L:L,'Base TU'!$A:$A,$B15,'Base TU'!$B:$B,\"NORTE\")/1000","v":0},{"$f":"SUMIFS('Base TU'!M:M,'Base TU'!$A:$A,$B15,'Base TU'!$B:$B,\"NORTE\")/1000","v":0},{"$f":"SUMIFS('Base TU'!N:N,'Base TU'!$A:$A,$B15,'Base TU'!$B:$B,\"NORTE\")/1000","v":0},{"$f":"SUMIFS('Base TU'!O:O,'Base TU'!$A:$A,$B15,'Base TU'!$B:$B,\"NORTE\")/1000","v":0},{"$f":"SUMIFS('Base TU'!P:P,'Base TU'!$A:$A,$B15,'Base TU'!$B:$B,\"NORTE\")/1000","v":0},null,{"$f":"SUMIFS('Base TU'!R:R,'Base TU'!$A:$A,$B15,'Base TU'!$B:$B,\"NORTE\")/1000","v":0},{"$f":"SUMIFS('Base TU'!S:S,'Base TU'!$A:$A,$B15,'Base TU'!$B:$B,\"NORTE\")/1000","v":0},{"$f":"SUMIFS('Base TU'!T:T,'Base TU'!$A:$A,$B15,'Base TU'!$B:$B,\"NORTE\")/1000","v":0},{"$f":"SUMIFS('Base TU'!U:U,'Base TU'!$A:$A,$B15,'Base TU'!$B:$B,\"NORTE\")/1000","v":0},{"$f":"SUMIFS('Base TU'!V:V,'Base TU'!$A:$A,$B15,'Base TU'!$B:$B,\"NORTE\")/1000","v":0},{"$f":"SUMIFS('Base TU'!W:W,'Base TU'!$A:$A,$B15,'Base TU'!$B:$B,\"NORTE\")/1000","v":0},{"$f":"SUMIFS('Base TU'!X:X,'Base TU'!$A:$A,$B15,'Base TU'!$B:$B,\"NORTE\")/1000","v":0},{"$f":"SUMIFS('Base TU'!Y:Y,'Base TU'!$A:$A,$B15,'Base TU'!$B:$B,\"NORTE\")/1000","v":0},{"$f":"SUMIFS('Base TU'!Z:Z,'Base TU'!$A:$A,$B15,'Base TU'!$B:$B,\"NORTE\")/1000","v":0},{"$f":"SUMIFS('Base TU'!AA:AA,'Base TU'!$A:$A,$B15,'Base TU'!$B:$B,\"NORTE\")/1000","v":0},{"$f":"SUMIFS('Base TU'!AB:AB,'Base TU'!$A:$A,$B15,'Base TU'!$B:$B,\"NORTE\")/1000","v":0},{"$f":"SUMIFS('Base TU'!AC:AC,'Base TU'!$A:$A,$B15,'Base TU'!$B:$B,\"NORTE\")/1000","v":0},null,{"$f":"SUMIFS('Base TU'!AE:AE,'Base TU'!$A:$A,$B15,'Base TU'!$B:$B,\"NORTE\")/1000","v":0},{"$f":"SUMIFS('Base TU'!AF:AF,'Base TU'!$A:$A,$B15,'Base TU'!$B:$B,\"NORTE\")/1000","v":0},{"$f":"SUMIFS('Base TU'!AG:AG,'Base TU'!$A:$A,$B15,'Base TU'!$B:$B,\"NORTE\")/1000","v":0},{"$f":"SUMIFS('Base TU'!AH:AH,'Base TU'!$A:$A,$B15,'Base TU'!$B:$B,\"NORTE\")/1000","v":0},{"$f":"SUMIFS('Base TU'!AI:AI,'Base TU'!$A:$A,$B15,'Base TU'!$B:$B,\"NORTE\")/1000","v":0},{"$f":"SUMIFS('Base TU'!AJ:AJ,'Base TU'!$A:$A,$B15,'Base TU'!$B:$B,\"NORTE\")/1000","v":0},{"$f":"SUMIFS('Base TU'!AK:AK,'Base TU'!$A:$A,$B15,'Base TU'!$B:$B,\"NORTE\")/1000","v":0},{"$f":"SUMIFS('Base TU'!AL:AL,'Base TU'!$A:$A,$B15,'Base TU'!$B:$B,\"NORTE\")/1000","v":0},{"$f":"SUMIFS('Base TU'!AM:AM,'Base TU'!$A:$A,$B15,'Base TU'!$B:$B,\"NORTE\")/1000","v":0},{"$f":"SUMIFS('Base TU'!AN:AN,'Base TU'!$A:$A,$B15,'Base TU'!$B:$B,\"NORTE\")/1000","v":0},{"$f":"SUMIFS('Base TU'!AO:AO,'Base TU'!$A:$A,$B15,'Base TU'!$B:$B,\"NORTE\")/1000","v":0},{"$f":"SUMIFS('Base TU'!AP:AP,'Base TU'!$A:$A,$B15,'Base TU'!$B:$B,\"NORTE\")/1000","v":0},null,{"$f":"SUMIFS('Base TU'!AR:AR,'Base TU'!$A:$A,$B15,'Base TU'!$B:$B,\"NORTE\")/1000","v":0},{"$f":"SUMIFS('Base TU'!AS:AS,'Base TU'!$A:$A,$B15,'Base TU'!$B:$B,\"NORTE\")/1000","v":0},{"$f":"SUMIFS('Base TU'!AT:AT,'Base TU'!$A:$A,$B15,'Base TU'!$B:$B,\"NORTE\")/1000","v":0},{"$f":"SUMIFS('Base TU'!AU:AU,'Base TU'!$A:$A,$B15,'Base TU'!$B:$B,\"NORTE\")/1000","v":0},{"$f":"SUMIFS('Base TU'!AV:AV,'Base TU'!$A:$A,$B15,'Base TU'!$B:$B,\"NORTE\")/1000","v":0},{"$f":"SUMIFS('Base TU'!AW:AW,'Base TU'!$A:$A,$B15,'Base TU'!$B:$B,\"NORTE\")/1000","v":0},{"$f":"SUMIFS('Base TU'!AX:AX,'Base TU'!$A:$A,$B15,'Base TU'!$B:$B,\"NORTE\")/1000","v":0},{"$f":"SUMIFS('Base TU'!AY:AY,'Base TU'!$A:$A,$B15,'Base TU'!$B:$B,\"NORTE\")/1000","v":0},{"$f":"SUMIFS('Base TU'!AZ:AZ,'Base TU'!$A:$A,$B15,'Base TU'!$B:$B,\"NORTE\")/1000","v":0},{"$f":"SUMIFS('Base TU'!BA:BA,'Base TU'!$A:$A,$B15,'Base TU'!$B:$B,\"NORTE\")/1000","v":0},{"$f":"SUMIFS('Base TU'!BB:BB,'Base TU'!$A:$A,$B15,'Base TU'!$B:$B,\"NORTE\")/1000","v":0},{"$f":"SUMIFS('Base TU'!BC:BC,'Base TU'!$A:$A,$B15,'Base TU'!$B:$B,\"NORTE\")/1000","v":14.885999999999999},null,{"$f":"SUMIFS('Base TU'!BE:BE,'Base TU'!$A:$A,$B15,'Base TU'!$B:$B,\"NORTE\")/1000","v":12.996},{"$f":"SUMIFS('Base TU'!BF:BF,'Base TU'!$A:$A,$B15,'Base TU'!$B:$B,\"NORTE\")/1000","v":0},{"$f":"SUMIFS('Base TU'!BG:BG,'Base TU'!$A:$A,$B15,'Base TU'!$B:$B,\"NORTE\")/1000","v":0},{"$f":"SUMIFS('Base TU'!BH:BH,'Base TU'!$A:$A,$B15,'Base TU'!$B:$B,\"NORTE\")/1000","v":0},{"$f":"SUMIFS('Base TU'!BI:BI,'Base TU'!$A:$A,$B15,'Base TU'!$B:$B,\"NORTE\")/1000","v":0},{"$f":"SUMIFS('Base TU'!BJ:BJ,'Base TU'!$A:$A,$B15,'Base TU'!$B:$B,\"NORTE\")/1000","v":0},{"$f":"SUMIFS('Base TU'!BK:BK,'Base TU'!$A:$A,$B15,'Base TU'!$B:$B,\"NORTE\")/1000","v":0},{"$f":"SUMIFS('Base TU'!BL:BL,'Base TU'!$A:$A,$B15,'Base TU'!$B:$B,\"NORTE\")/1000","v":0},{"$f":"SUMIFS('Base TU'!BM:BM,'Base TU'!$A:$A,$B15,'Base TU'!$B:$B,\"NORTE\")/1000","v":0},{"$f":"SUMIFS('Base TU'!BN:BN,'Base TU'!$A:$A,$B15,'Base TU'!$B:$B,\"NORTE\")/1000","v":0},{"$f":"SUMIFS('Base TU'!BO:BO,'Base TU'!$A:$A,$B15,'Base TU'!$B:$B,\"NORTE\")/1000","v":0},{"$f":"SUMIFS('Base TU'!BP:BP,'Base TU'!$A:$A,$B15,'Base TU'!$B:$B,\"NORTE\")/1000","v":0},null,{"$f":"SUMIFS('Base TU'!BR:BR,'Base TU'!$A:$A,$B15,'Base TU'!$B:$B,\"NORTE\")/1000","v":0},{"$f":"SUMIFS('Base TU'!BS:BS,'Base TU'!$A:$A,$B15,'Base TU'!$B:$B,\"NORTE\")/1000","v":0},{"$f":"SUMIFS('Base TU'!BT:BT,'Base TU'!$A:$A,$B15,'Base TU'!$B:$B,\"NORTE\")/1000","v":0},{"$f":"SUMIFS('Base TU'!BU:BU,'Base TU'!$A:$A,$B15,'Base TU'!$B:$B,\"NORTE\")/1000","v":0},{"$f":"SUMIFS('Base TU'!BV:BV,'Base TU'!$A:$A,$B15,'Base TU'!$B:$B,\"NORTE\")/1000","v":0},{"$f":"SUMIFS('Base TU'!BW:BW,'Base TU'!$A:$A,$B15,'Base TU'!$B:$B,\"NORTE\")/1000","v":0},{"$f":"SUMIFS('Base TU'!BX:BX,'Base TU'!$A:$A,$B15,'Base TU'!$B:$B,\"NORTE\")/1000","v":0},{"$f":"SUMIFS('Base TU'!BY:BY,'Base TU'!$A:$A,$B15,'Base TU'!$B:$B,\"NORTE\")/1000","v":0},{"$f":"SUMIFS('Base TU'!BZ:BZ,'Base TU'!$A:$A,$B15,'Base TU'!$B:$B,\"NORTE\")/1000","v":0},{"$f":"SUMIFS('Base TU'!CA:CA,'Base TU'!$A:$A,$B15,'Base TU'!$B:$B,\"NORTE\")/1000","v":0},{"$f":"SUMIFS('Base TU'!CB:CB,'Base TU'!$A:$A,$B15,'Base TU'!$B:$B,\"NORTE\")/1000","v":0},{"$f":"SUMIFS('Base TU'!CC:CC,'Base TU'!$A:$A,$B15,'Base TU'!$B:$B,\"NORTE\")/1000","v":0},null,{"$f":"SUMIFS('Base TU'!CE:CE,'Base TU'!$A:$A,$B15,'Base TU'!$B:$B,\"NORTE\")/1000","v":0},{"$f":"SUMIFS('Base TU'!CF:CF,'Base TU'!$A:$A,$B15,'Base TU'!$B:$B,\"NORTE\")/1000","v":0},{"$f":"SUMIFS('Base TU'!CG:CG,'Base TU'!$A:$A,$B15,'Base TU'!$B:$B,\"NORTE\")/1000","v":0},{"$f":"SUMIFS('Base TU'!CH:CH,'Base TU'!$A:$A,$B15,'Base TU'!$B:$B,\"NORTE\")/1000","v":0},{"$f":"SUMIFS('Base TU'!CI:CI,'Base TU'!$A:$A,$B15,'Base TU'!$B:$B,\"NORTE\")/1000","v":0},{"$f":"SUMIFS('Base TU'!CJ:CJ,'Base TU'!$A:$A,$B15,'Base TU'!$B:$B,\"NORTE\")/1000","v":0},{"$f":"SUMIFS('Base TU'!CK:CK,'Base TU'!$A:$A,$B15,'Base TU'!$B:$B,\"NORTE\")/1000","v":0},{"$f":"SUMIFS('Base TU'!CL:CL,'Base TU'!$A:$A,$B15,'Base TU'!$B:$B,\"NORTE\")/1000","v":0},{"$f":"SUMIFS('Base TU'!CM:CM,'Base TU'!$A:$A,$B15,'Base TU'!$B:$B,\"NORTE\")/1000","v":0},{"$f":"SUMIFS('Base TU'!CN:CN,'Base TU'!$A:$A,$B15,'Base TU'!$B:$B,\"NORTE\")/1000","v":0},{"$f":"SUMIFS('Base TU'!CO:CO,'Base TU'!$A:$A,$B15,'Base TU'!$B:$B,\"NORTE\")/1000","v":0},{"$f":"SUMIFS('Base TU'!CP:CP,'Base TU'!$A:$A,$B15,'Base TU'!$B:$B,\"NORTE\")/1000","v":0}]
[null,"Contêiner",null,{"$f":"SUMIFS('Base TU'!E:E,'Base TU'!$A:$A,$B16,'Base TU'!$B:$B,\"NORTE\")/1000","v":66.911000000000001},{"$f":"SUMIFS('Base TU'!F:F,'Base TU'!$A:$A,$B16,'Base TU'!$B:$B,\"NORTE\")/1000","v":71.227999999999994},{"$f":"SUMIFS('Base TU'!G:G,'Base TU'!$A:$A,$B16,'Base TU'!$B:$B,\"NORTE\")/1000","v":78.105000000000004},{"$f":"SUMIFS('Base TU'!H:H,'Base TU'!$A:$A,$B16,'Base TU'!$B:$B,\"NORTE\")/1000","v":68.8},{"$f":"SUMIFS('Base TU'!I:I,'Base TU'!$A:$A,$B16,'Base TU'!$B:$B,\"NORTE\")/1000","v":76.7},{"$f":"SUMIFS('Base TU'!J:J,'Base TU'!$A:$A,$B16,'Base TU'!$B:$B,\"NORTE\")/1000","v":79.313000000000002},{"$f":"SUMIFS('Base TU'!K:K,'Base TU'!$A:$A,$B16,'Base TU'!$B:$B,\"NORTE\")/1000","v":85.311000000000007},{"$f":"SUMIFS('Base TU'!L:L,'Base TU'!$A:$A,$B16,'Base TU'!$B:$B,\"NORTE\")/1000","v":79.212999999999994},{"$f":"SUMIFS('Base TU'!M:M,'Base TU'!$A:$A,$B16,'Base TU'!$B:$B,\"NORTE\")/1000","v":71.25},{"$f":"SUMIFS('Base TU'!N:N,'Base TU'!$A:$A,$B16,'Base TU'!$B:$B,\"NORTE\")/1000","v":79.876999999999995},{"$f":"SUMIFS('Base TU'!O:O,'Base TU'!$A:$A,$B16,'Base TU'!$B:$B,\"NORTE\")/1000","v":79.796000000000006},{"$f":"SUMIFS('Base TU'!P:P,'Base TU'!$A:$A,$B16,'Base TU'!$B:$B,\"NORTE\")/1000","v":65.534000000000006},null,{"$f":"SUMIFS('Base TU'!R:R,'Base TU'!$A:$A,$B16,'Base TU'!$B:$B,\"NORTE\")/1000","v":77.206000000000003},{"$f":"SUMIFS('Base TU'!S:S,'Base TU'!$A:$A,$B16,'Base TU'!$B:$B,\"NORTE\")/1000","v":62.500999999999998},{"$f":"SUMIFS('Base TU'!T:T,'Base TU'!$A:$A,$B16,'Base TU'!$B:$B,\"NORTE\")/1000","v":70.144999999999996},{"$f":"SUMIFS('Base TU'!U:U,'Base TU'!$A:$A,$B16,'Base TU'!$B:$B,\"NORTE\")/1000","v":86.667000000000002},{"$f":"SUMIFS('Base TU'!V:V,'Base TU'!$A:$A,$B16,'Base TU'!$B:$B,\"NORTE\")/1000","v":101.449},{"$f":"SUMIFS('Base TU'!W:W,'Base TU'!$A:$A,$B16,'Base TU'!$B:$B,\"NORTE\")/1000","v":91},{"$f":"SUMIFS('Base TU'!X:X,'Base TU'!$A:$A,$B16,'Base TU'!$B:$B,\"NORTE\")/1000","v":90.524000000000001},{"$f":"SUMIFS('Base TU'!Y:Y,'Base TU'!$A:$A,$B16,'Base TU'!$B:$B,\"NORTE\")/1000","v":102.53400000000001},{"$f":"SUMIFS('Base TU'!Z:Z,'Base TU'!$A:$A,$B16,'Base TU'!$B:$B,\"NORTE\")/1000","v":94.613},{"$f":"SUMIFS('Base TU'!AA:AA,'Base TU'!$A:$A,$B16,'Base TU'!$B:$B,\"NORTE\")/1000","v":99.242000000000004},{"$f":"SUMIFS('Base TU'!AB:AB,'Base TU'!$A:$A,$B16,'Base TU'!$B:$B,\"NORTE\")/1000","v":85.444999999999993},{"$f":"SUMIFS('Base TU'!AC:AC,'Base TU'!$A:$A,$B16,'Base TU'!$B:$B,\"NORTE\")/1000","v":69.837000000000003},null,{"$f":"SUMIFS('Base TU'!AE:AE,'Base TU'!$A:$A,$B16,'Base TU'!$B:$B,\"NORTE\")/1000","v":35.055999999999997},{"$f":"SUMIFS('Base TU'!AF:AF,'Base TU'!$A:$A,$B16,'Base TU'!$B:$B,\"NORTE\")/1000","v":111.01900000000001},{"$f":"SUMIFS('Base TU'!AG:AG,'Base TU'!$A:$A,$B16,'Base TU'!$B:$B,\"NORTE\")/1000","v":101.471},{"$f":"SUMIFS('Base TU'!AH:AH,'Base TU'!$A:$A,$B16,'Base TU'!$B:$B,\"NORTE\")/1000","v":104.069},{"$f":"SUMIFS('Base TU'!AI:AI,'Base TU'!$A:$A,$B16,'Base TU'!$B:$B,\"NORTE\")/1000","v":85.316999999999993},{"$f":"SUMIFS('Base TU'!AJ:AJ,'Base TU'!$A:$A,$B16,'Base TU'!$B:$B,\"NORTE\")/1000","v":88.084999999999994},{"$f":"SUMIFS('Base TU'!AK:AK,'Base TU'!$A:$A,$B16,'Base TU'!$B:$B,\"NORTE\")/1000","v":117.664},{"$f":"SUMIFS('Base TU'!AL:AL,'Base TU'!$A:$A,$B16,'Base TU'!$B:$B,\"NORTE\")/1000","v":124.431},{"$f":"SUMIFS('Base TU'!AM:AM,'Base TU'!$A:$A,$B16,'Base TU'!$B:$B,\"NORTE\")/1000","v":109.664},{"$f":"SUMIFS('Base TU'!AN:AN,'Base TU'!$A:$A,$B16,'Base TU'!$B:$B,\"NORTE\")/1000","v":103.292},{"$f":"SUMIFS('Base TU'!AO:AO,'Base TU'!$A:$A,$B16,'Base TU'!$B:$B,\"NORTE\")/1000","v":96.879000000000005},{"$f":"SUMIFS('Base TU'!AP:AP,'Base TU'!$A:$A,$B16,'Base TU'!$B:$B,\"NORTE\")/1000","v":99.54},null,{"$f":"SUMIFS('Base TU'!AR:AR,'Base TU'!$A:$A,$B16,'Base TU'!$B:$B,\"NORTE\")/1000","v":96.914000000000001},{"$f":"SUMIFS('Base TU'!AS:AS,'Base TU'!$A:$A,$B16,'Base TU'!$B:$B,\"NORTE\")/1000","v":89.436999999999998},{"$f":"SUMIFS('Base TU'!AT:AT,'Base TU'!$A:$A,$B16,'Base TU'!$B:$B,\"NORTE\")/1000","v":127.261},{"$f":"SUMIFS('Base TU'!AU:AU,'Base TU'!$A:$A,$B16,'Base TU'!$B:$B,\"NORTE\")/1000","v":122.676},{"$f":"SUMIFS('Base TU'!AV:AV,'Base TU'!$A:$A,$B16,'Base TU'!$B:$B,\"NORTE\")/1000","v":123.248},{"$f":"SUMIFS('Base TU'!AW:AW,'Base TU'!$A:$A,$B16,'Base TU'!$B:$B,\"NORTE\")/1000","v":109.444},{"$f":"SUMIFS('Base TU'!AX:AX,'Base TU'!$A:$A,$B16,'Base TU'!$B:$B,\"NORTE\")/1000","v":131.84700000000001},{"$f":"SUMIFS('Base TU'!AY:AY,'Base TU'!$A:$A,$B16,'Base TU'!$B:$B,\"NORTE\")/1000","v":140.161},{"$f":"SUMIFS('Base TU'!AZ:AZ,'Base TU'!$A:$A,$B16,'Base TU'!$B:$B,\"NORTE\")/1000","v":134.77600000000001},{"$f":"SUMIFS('Base TU'!BA:BA,'Base TU'!$A:$A,$B16,'Base TU'!$B:$B,\"NORTE\")/1000","v":132.64699999999999},{"$f":"SUMIFS('Base TU'!BB:BB,'Base TU'!$A:$A,$B16,'Base TU'!$B:$B,\"NORTE\")/1000","v":138.01300000000001},{"$f":"SUMIFS('Base TU'!BC:BC,'Base TU'!$A:$A,$B16,'Base TU'!$B:$B,\"NORTE\")/1000","v":131.57900000000001},null,{"$f":"SUMIFS('Base TU'!BE:BE,'Base TU'!$A:$A,$B16,'Base TU'!$B:$B,\"NORTE\")/1000","v":117.087},{"$f":"SUMIFS('Base TU'!BF:BF,'Base TU'!$A:$A,$B16,'Base TU'!$B:$B,\"NORTE\")/1000","v":107.946},{"$f":"SUMIFS('Base TU'!BG:BG,'Base TU'!$A:$A,$B16,'Base TU'!$B:$B,\"NORTE\")/1000","v":109.28},{"$f":"SUMIFS('Base TU'!BH:BH,'Base TU'!$A:$A,$B16,'Base TU'!$B:$B,\"NORTE\")/1000","v":80.242000000000004},{"$f":"SUMIFS('Base TU'!BI:BI,'Base TU'!$A:$A,$B16,'Base TU'!$B:$B,\"NORTE\")/1000","v":71.525000000000006},{"$f":"SUMIFS('Base TU'!BJ:BJ,'Base TU'!$A:$A,$B16,'Base TU'!$B:$B,\"NORTE\")/1000","v":117.378},{"$f":"SUMIFS('Base TU'!BK:BK,'Base TU'!$A:$A,$B16,'Base TU'!$B:$B,\"NORTE\")/1000","v":125.06399999999999},{"$f":"SUMIFS('Base TU'!BL:BL,'Base TU'!$A:$A,$B16,'Base TU'!$B:$B,\"NORTE\")/1000","v":123.70399999999999},{"$f":"SUMIFS('Base TU'!BM:BM,'Base TU'!$A:$A,$B16,'Base TU'!$B:$B,\"NORTE\")/1000","v":130.72200000000001},{"$f":"SUMIFS('Base TU'!BN:BN,'Base TU'!$A:$A,$B16,'Base TU'!$B:$B,\"NORTE\")/1000","v":127.553},{"$f":"SUMIFS('Base TU'!BO:BO,'Base TU'!$A:$A,$B16,'Base TU'!$B:$B,\"NORTE\")/1000","v":142.40600000000001},{"$f":"SUMIFS('Base TU'!BP:BP,'Base TU'!$A:$A,$B16,'Base TU'!$B:$B,\"NORTE\")/1000","v":134.876},null,{"$f":"SUMIFS('Base TU'!BR:BR,'Base TU'!$A:$A,$B16,'Base TU'!$B:$B,\"NORTE\")/1000","v":115.55200000000001},{"$f":"SUMIFS('Base TU'!BS:BS,'Base TU'!$A:$A,$B16,'Base TU'!$B:$B,\"NORTE\")/1000","v":105.97},{"$f":"SUMIFS('Base TU'!BT:BT,'Base TU'!$A:$A,$B16,'Base TU'!$B:$B,\"NORTE\")/1000","v":109.34699999999999},{"$f":"SUMIFS('Base TU'!BU:BU,'Base TU'!$A:$A,$B16,'Base TU'!$B:$B,\"NORTE\")/1000","v":137.08699999999999},{"$f":"SUMIFS('Base TU'!BV:BV,'Base TU'!$A:$A,$B16,'Base TU'!$B:$B,\"NORTE\")/1000","v":129.78399999999999},{"$f":"SUMIFS('Base TU'!BW:BW,'Base TU'!$A:$A,$B16,'Base TU'!$B:$B,\"NORTE\")/1000","v":145.624},{"$f":"SUMIFS('Base TU'!BX:BX,'Base TU'!$A:$A,$B16,'Base TU'!$B:$B,\"NORTE\")/1000","v":147.65299999999999},{"$f":"SUMIFS('Base TU'!BY:BY,'Base TU'!$A:$A,$B16,'Base TU'!$B:$B,\"NORTE\")/1000","v":170.227},{"$f":"SUMIFS('Base TU'!BZ:BZ,'Base TU'!$A:$A,$B16,'Base TU'!$B:$B,\"NORTE\")/1000","v":151.44300000000001},{"$f":"SUMIFS('Base TU'!CA:CA,'Base TU'!$A:$A,$B16,'Base TU'!$B:$B,\"NORTE\")/1000","v":144.08000000000001},{"$f":"SUMIFS('Base TU'!CB:CB,'Base TU'!$A:$A,$B16,'Base TU'!$B:$B,\"NORTE\")/1000","v":138.501},{"$f":"SUMIFS('Base TU'!CC:CC,'Base TU'!$A:$A,$B16,'Base TU'!$B:$B,\"NORTE\")/1000","v":153.38900000000001},null,{"$f":"SUMIFS('Base TU'!CE:CE,'Base TU'!$A:$A,$B16,'Base TU'!$B:$B,\"NORTE\")/1000","v":127.402},{"$f":"SUMIFS('Base TU'!CF:CF,'Base TU'!$A:$A,$B16,'Base TU'!$B:$B,\"NORTE\")/1000","v":143.00800000000001},{"$f":"SUMIFS('Base TU'!CG:CG,'Base TU'!$A:$A,$B16,'Base TU'!$B:$B,\"NORTE\")/1000","v":156.55799999999999},{"$f":"SUMIFS('Base TU'!CH:CH,'Base TU'!$A:$A,$B16,'Base TU'!$B:$B,\"NORTE\")/1000","v":147.452},{"$f":"SUMIFS('Base TU'!CI:CI,'Base TU'!$A:$A,$B16,'Base TU'!$B:$B,\"NORTE\")/1000","v":152.41999999999999},{"$f":"SUMIFS('Base TU'!CJ:CJ,'Base TU'!$A:$A,$B16,'Base TU'!$B:$B,\"NORTE\")/1000","v":0},{"$f":"SUMIFS('Base TU'!CK:CK,'Base TU'!$A:$A,$B16,'Base TU'!$B:$B,\"NORTE\")/1000","v":0},{"$f":"SUMIFS('Base TU'!CL:CL,'Base TU'!$A:$A,$B16,'Base TU'!$B:$B,\"NORTE\")/1000","v":0},{"$f":"SUMIFS('Base TU'!CM:CM,'Base TU'!$A:$A,$B16,'Base TU'!$B:$B,\"NORTE\")/1000","v":0},{"$f":"SUMIFS('Base TU'!CN:CN,'Base TU'!$A:$A,$B16,'Base TU'!$B:$B,\"NORTE\")/1000","v":0},{"$f":"SUMIFS('Base TU'!CO:CO,'Base TU'!$A:$A,$B16,'Base TU'!$B:$B,\"NORTE\")/1000","v":0},{"$f":"SUMIFS('Base TU'!CP:CP,'Base TU'!$A:$A,$B16,'Base TU'!$B:$B,\"NORTE\")/1000","v":0}]
[null,"Produtos Industriais",null,{"$f":"SUM(D18:D21)","v":173.65600000000001},{"$f":"SUM(E18:E21)","v":166.828},179.77099999999999,172.79899999999998,176.709,193.08500000000001,185.52199999999999,203.11600000000001,222.98099999999999,221.51900000000001,181.97399999999999,184.07599999999999,null,191.06899999999999,173.357,188.08600000000001,168.036,187.892,198.65100000000001,191.31299999999999,200.447,175.084,247.75700000000001,234.35499999999999,249.99299999999999,null,244.53800000000001,243.327,281.45799999999997,228.56899999999999,267.52499999999998,329.03499999999997,324.43899999999996,327.78300000000002,318.26400000000001,317.71299999999997,322.11199999999997,320.45600000000002,null,314.79399999999998,260.77699999999999,299.12099999999998,292.57499999999999,315.89999999999998,317.61400000000003,328.82400000000001,324.02800000000002,334.363,352.44500000000005,326.35299999999995,320.15099999999995,null,333.23699999999997,334.279,289.69600000000003,248.988,366.36599999999999,342.77,371.92600000000004,380.28999999999996,406.81799999999998,427.30500000000001,415.26900000000001,340.63499999999999,null,{"$f":"SUM(BQ18:BQ21)","v":363.517},365.9,383.923,383.14800000000002,400.57100000000003,398.60199999999998,423.53700000000003,452.92399999999998,428.47400000000005,451.74400000000003,403.642,412.86799999999999,null,{"$f":"SUM(CD18:CD21)","v":422.79300000000001},450.56400000000002,488.21800000000002,447.63599999999997,484.60500000000002,0,0,0,0,0,0,0]
[null,"Combustível",null,{"$f":"SUMIFS('Base TU'!E:E,'Base TU'!$A:$A,$B18,'Base TU'!$B:$B,\"NORTE\")/1000","v":158.60400000000001},{"$f":"SUMIFS('Base TU'!F:F,'Base TU'!$A:$A,$B18,'Base TU'!$B:$B,\"NORTE\")/1000","v":150.756},{"$f":"SUMIFS('Base TU'!G:G,'Base TU'!$A:$A,$B18,'Base TU'!$B:$B,\"NORTE\")/1000","v":178.14},{"$f":"SUMIFS('Base TU'!H:H,'Base TU'!$A:$A,$B18,'Base TU'!$B:$B,\"NORTE\")/1000","v":172.03899999999999},{"$f":"SUMIFS('Base TU'!I:I,'Base TU'!$A:$A,$B18,'Base TU'!$B:$B,\"NORTE\")/1000","v":176.709},{"$f":"SUMIFS('Base TU'!J:J,'Base TU'!$A:$A,$B18,'Base TU'!$B:$B,\"NORTE\")/1000","v":193.08500000000001},{"$f":"SUMIFS('Base TU'!K:K,'Base TU'!$A:$A,$B18,'Base TU'!$B:$B,\"NORTE\")/1000","v":185.52199999999999},{"$f":"SUMIFS('Base TU'!L:L,'Base TU'!$A:$A,$B18,'Base TU'!$B:$B,\"NORTE\")/1000","v":203.11600000000001},{"$f":"SUMIFS('Base TU'!M:M,'Base TU'!$A:$A,$B18,'Base TU'!$B:$B,\"NORTE\")/1000","v":222.98099999999999},{"$f":"SUMIFS('Base TU'!N:N,'Base TU'!$A:$A,$B18,'Base TU'!$B:$B,\"NORTE\")/1000","v":221.51900000000001},{"$f":"SUMIFS('Base TU'!O:O,'Base TU'!$A:$A,$B18,'Base TU'!$B:$B,\"NORTE\")/1000","v":181.97399999999999},{"$f":"SUMIFS('Base TU'!P:P,'Base TU'!$A:$A,$B18,'Base TU'!$B:$B,\"NORTE\")/1000","v":184.07599999999999},null,{"$f":"SUMIFS('Base TU'!R:R,'Base TU'!$A:$A,$B18,'Base TU'!$B:$B,\"NORTE\")/1000","v":191.06899999999999},{"$f":"SUMIFS('Base TU'!S:S,'Base TU'!$A:$A,$B18,'Base TU'!$B:$B,\"NORTE\")/1000","v":173.357},{"$f":"SUMIFS('Base TU'!T:T,'Base TU'!$A:$A,$B18,'Base TU'!$B:$B,\"NORTE\")/1000","v":188.08600000000001},{"$f":"SUMIFS('Base TU'!U:U,'Base TU'!$A:$A,$B18,'Base TU'!$B:$B,\"NORTE\")/1000","v":168.036},{"$f":"SUMIFS('Base TU'!V:V,'Base TU'!$A:$A,$B18,'Base TU'!$B:$B,\"NORTE\")/1000","v":187.892},{"$f":"SUMIFS('Base TU'!W:W,'Base TU'!$A:$A,$B18,'Base TU'!$B:$B,\"NORTE\")/1000","v":198.65100000000001},{"$f":"SUMIFS('Base TU'!X:X,'Base TU'!$A:$A,$B18,'Base TU'!$B:$B,\"NORTE\")/1000","v":191.31299999999999},{"$f":"SUMIFS('Base TU'!Y:Y,'Base TU'!$A:$A,$B18,'Base TU'!$B:$B,\"NORTE\")/1000","v":200.447},{"$f":"SUMIFS('Base TU'!Z:Z,'Base TU'!$A:$A,$B18,'Base TU'!$B:$B,\"NORTE\")/1000","v":175.084},{"$f":"SUMIFS('Base TU'!AA:AA,'Base TU'!$A:$A,$B18,'Base TU'!$B:$B,\"NORTE\")/1000","v":216.517},{"$f":"SUMIFS('Base TU'!AB:AB,'Base TU'!$A:$A,$B18,'Base TU'!$B:$B,\"NORTE\")/1000","v":165.09899999999999},{"$f":"SUMIFS('Base TU'!AC:AC,'Base TU'!$A:$A,$B18,'Base TU'!$B:$B,\"NORTE\")/1000","v":165.07300000000001},null,{"$f":"SUMIFS('Base TU'!AE:AE,'Base TU'!$A:$A,$B18,'Base TU'!$B:$B,\"NORTE\")/1000","v":169.298},{"$f":"SUMIFS('Base TU'!AF:AF,'Base TU'!$A:$A,$B18,'Base TU'!$B:$B,\"NORTE\")/1000","v":168.43899999999999},{"$f":"SUMIFS('Base TU'!AG:AG,'Base TU'!$A:$A,$B18,'Base TU'!$B:$B,\"NORTE\")/1000","v":177.26599999999999},{"$f":"SUMIFS('Base TU'!AH:AH,'Base TU'!$A:$A,$B18,'Base TU'!$B:$B,\"NORTE\")/1000","v":158.87299999999999},{"$f":"SUMIFS('Base TU'!AI:AI,'Base TU'!$A:$A,$B18,'Base TU'!$B:$B,\"NORTE\")/1000","v":175.565},{"$f":"SUMIFS('Base TU'!AJ:AJ,'Base TU'!$A:$A,$B18,'Base TU'!$B:$B,\"NORTE\")/1000","v":225.63499999999999},{"$f":"SUMIFS('Base TU'!AK:AK,'Base TU'!$A:$A,$B18,'Base TU'!$B:$B,\"NORTE\")/1000","v":220.863},{"$f":"SUMIFS('Base TU'!AL:AL,'Base TU'!$A:$A,$B18,'Base TU'!$B:$B,\"NORTE\")/1000","v":198.423},{"$f":"SUMIFS('Base TU'!AM:AM,'Base TU'!$A:$A,$B18,'Base TU'!$B:$B,\"NORTE\")/1000","v":200.34399999999999},{"$f":"SUMIFS('Base TU'!AN:AN,'Base TU'!$A:$A,$B18,'Base TU'!$B:$B,\"NORTE\")/1000","v":185.36099999999999},{"$f":"SUMIFS('Base TU'!AO:AO,'Base TU'!$A:$A,$B18,'Base TU'!$B:$B,\"NORTE\")/1000","v":189.76},{"$f":"SUMIFS('Base TU'!AP:AP,'Base TU'!$A:$A,$B18,'Base TU'!$B:$B,\"NORTE\")/1000","v":186.52},null,{"$f":"SUMIFS('Base TU'!AR:AR,'Base TU'!$A:$A,$B18,'Base TU'!$B:$B,\"NORTE\")/1000","v":185.96199999999999},{"$f":"SUMIFS('Base TU'!AS:AS,'Base TU'!$A:$A,$B18,'Base TU'!$B:$B,\"NORTE\")/1000","v":164.94499999999999},{"$f":"SUMIFS('Base TU'!AT:AT,'Base TU'!$A:$A,$B18,'Base TU'!$B:$B,\"NORTE\")/1000","v":167.82499999999999},{"$f":"SUMIFS('Base TU'!AU:AU,'Base TU'!$A:$A,$B18,'Base TU'!$B:$B,\"NORTE\")/1000","v":153.18299999999999},{"$f":"SUMIFS('Base TU'!AV:AV,'Base TU'!$A:$A,$B18,'Base TU'!$B:$B,\"NORTE\")/1000","v":181.34800000000001},{"$f":"SUMIFS('Base TU'!AW:AW,'Base TU'!$A:$A,$B18,'Base TU'!$B:$B,\"NORTE\")/1000","v":196.08600000000001},{"$f":"SUMIFS('Base TU'!AX:AX,'Base TU'!$A:$A,$B18,'Base TU'!$B:$B,\"NORTE\")/1000","v":200.87200000000001},{"$f":"SUMIFS('Base TU'!AY:AY,'Base TU'!$A:$A,$B18,'Base TU'!$B:$B,\"NORTE\")/1000","v":202.32400000000001},{"$f":"SUMIFS('Base TU'!AZ:AZ,'Base TU'!$A:$A,$B18,'Base TU'!$B:$B,\"NORTE\")/1000","v":195.58699999999999},{"$f":"SUMIFS('Base TU'!BA:BA,'Base TU'!$A:$A,$B18,'Base TU'!$B:$B,\"NORTE\")/1000","v":199.85300000000001},{"$f":"SUMIFS('Base TU'!BB:BB,'Base TU'!$A:$A,$B18,'Base TU'!$B:$B,\"NORTE\")/1000","v":183.61699999999999},{"$f":"SUMIFS('Base TU'!BC:BC,'Base TU'!$A:$A,$B18,'Base TU'!$B:$B,\"NORTE\")/1000","v":167.29499999999999},null,{"$f":"SUMIFS('Base TU'!BE:BE,'Base TU'!$A:$A,$B18,'Base TU'!$B:$B,\"NORTE\")/1000","v":180.90899999999999},{"$f":"SUMIFS('Base TU'!BF:BF,'Base TU'!$A:$A,$B18,'Base TU'!$B:$B,\"NORTE\")/1000","v":185.29499999999999},{"$f":"SUMIFS('Base TU'!BG:BG,'Base TU'!$A:$A,$B18,'Base TU'!$B:$B,\"NORTE\")/1000","v":150.38200000000001},{"$f":"SUMIFS('Base TU'!BH:BH,'Base TU'!$A:$A,$B18,'Base TU'!$B:$B,\"NORTE\")/1000","v":85.757999999999996},{"$f":"SUMIFS('Base TU'!BI:BI,'Base TU'!$A:$A,$B18,'Base TU'!$B:$B,\"NORTE\")/1000","v":184.536},{"$f":"SUMIFS('Base TU'!BJ:BJ,'Base TU'!$A:$A,$B18,'Base TU'!$B:$B,\"NORTE\")/1000","v":162.72200000000001},{"$f":"SUMIFS('Base TU'!BK:BK,'Base TU'!$A:$A,$B18,'Base TU'!$B:$B,\"NORTE\")/1000","v":200.02},{"$f":"SUMIFS('Base TU'!BL:BL,'Base TU'!$A:$A,$B18,'Base TU'!$B:$B,\"NORTE\")/1000","v":210.41200000000001},{"$f":"SUMIFS('Base TU'!BM:BM,'Base TU'!$A:$A,$B18,'Base TU'!$B:$B,\"NORTE\")/1000","v":229.96799999999999},{"$f":"SUMIFS('Base TU'!BN:BN,'Base TU'!$A:$A,$B18,'Base TU'!$B:$B,\"NORTE\")/1000","v":243.87700000000001},{"$f":"SUMIFS('Base TU'!BO:BO,'Base TU'!$A:$A,$B18,'Base TU'!$B:$B,\"NORTE\")/1000","v":226.04900000000001},{"$f":"SUMIFS('Base TU'!BP:BP,'Base TU'!$A:$A,$B18,'Base TU'!$B:$B,\"NORTE\")/1000","v":216.727},null,{"$f":"SUMIFS('Base TU'!BR:BR,'Base TU'!$A:$A,$B18,'Base TU'!$B:$B,\"NORTE\")/1000","v":211.875},{"$f":"SUMIFS('Base TU'!BS:BS,'Base TU'!$A:$A,$B18,'Base TU'!$B:$B,\"NORTE\")/1000","v":213.536},{"$f":"SUMIFS('Base TU'!BT:BT,'Base TU'!$A:$A,$B18,'Base TU'!$B:$B,\"NORTE\")/1000","v":204.279},{"$f":"SUMIFS('Base TU'!BU:BU,'Base TU'!$A:$A,$B18,'Base TU'!$B:$B,\"NORTE\")/1000","v":219.184},{"$f":"SUMIFS('Base TU'!BV:BV,'Base TU'!$A:$A,$B18,'Base TU'!$B:$B,\"NORTE\")/1000","v":228.79300000000001},{"$f":"SUMIFS('Base TU'!BW:BW,'Base TU'!$A:$A,$B18,'Base TU'!$B:$B,\"NORTE\")/1000","v":239.71},{"$f":"SUMIFS('Base TU'!BX:BX,'Base TU'!$A:$A,$B18,'Base TU'!$B:$B,\"NORTE\")/1000","v":247.369},{"$f":"SUMIFS('Base TU'!BY:BY,'Base TU'!$A:$A,$B18,'Base TU'!$B:$B,\"NORTE\")/1000","v":253.886},{"$f":"SUMIFS('Base TU'!BZ:BZ,'Base TU'!$A:$A,$B18,'Base TU'!$B:$B,\"NORTE\")/1000","v":244.58},{"$f":"SUMIFS('Base TU'!CA:CA,'Base TU'!$A:$A,$B18,'Base TU'!$B:$B,\"NORTE\")/1000","v":253.846},{"$f":"SUMIFS('Base TU'!CB:CB,'Base TU'!$A:$A,$B18,'Base TU'!$B:$B,\"NORTE\")/1000","v":219.03},{"$f":"SUMIFS('Base TU'!CC:CC,'Base TU'!$A:$A,$B18,'Base TU'!$B:$B,\"NORTE\")/1000","v":235.18},null,{"$f":"SUMIFS('Base TU'!CE:CE,'Base TU'!$A:$A,$B18,'Base TU'!$B:$B,\"NORTE\")/1000","v":244.857},{"$f":"SUMIFS('Base TU'!CF:CF,'Base TU'!$A:$A,$B18,'Base TU'!$B:$B,\"NORTE\")/1000","v":256.18200000000002},{"$f":"SUMIFS('Base TU'!CG:CG,'Base TU'!$A:$A,$B18,'Base TU'!$B:$B,\"NORTE\")/1000","v":255.27},{"$f":"SUMIFS('Base TU'!CH:CH,'Base TU'!$A:$A,$B18,'Base TU'!$B:$B,\"NORTE\")/1000","v":243.238},{"$f":"SUMIFS('Base TU'!CI:CI,'Base TU'!$A:$A,$B18,'Base TU'!$B:$B,\"NORTE\")/1000","v":268.58300000000003},{"$f":"SUMIFS('Base TU'!CJ:CJ,'Base TU'!$A:$A,$B18,'Base TU'!$B:$B,\"NORTE\")/1000","v":0},{"$f":"SUMIFS('Base TU'!CK:CK,'Base TU'!$A:$A,$B18,'Base TU'!$B:$B,\"NORTE\")/1000","v":0},{"$f":"SUMIFS('Base TU'!CL:CL,'Base TU'!$A:$A,$B18,'Base TU'!$B:$B,\"NORTE\")/1000","v":0},{"$f":"SUMIFS('Base TU'!CM:CM,'Base TU'!$A:$A,$B18,'Base TU'!$B:$B,\"NORTE\")/1000","v":0},{"$f":"SUMIFS('Base TU'!CN:CN,'Base TU'!$A:$A,$B18,'Base TU'!$B:$B,\"NORTE\")/1000","v":0},{"$f":"SUMIFS('Base TU'!CO:CO,'Base TU'!$A:$A,$B18,'Base TU'!$B:$B,\"NORTE\")/1000","v":0},{"$f":"SUMIFS('Base TU'!CP:CP,'Base TU'!$A:$A,$B18,'Base TU'!$B:$B,\"NORTE\")/1000","v":0}]
[null,"Madeira, Papel e Celulose",null,{"$f":"SUMIFS('Base TU'!E:E,'Base TU'!$A:$A,$B19,'Base TU'!$B:$B,\"NORTE\")/1000","v":15.052},{"$f":"SUMIFS('Base TU'!F:F,'Base TU'!$A:$A,$B19,'Base TU'!$B:$B,\"NORTE\")/1000","v":15.132},{"$f":"SUMIFS('Base TU'!G:G,'Base TU'!$A:$A,$B19,'Base TU'!$B:$B,\"NORTE\")/1000","v":0},{"$f":"SUMIFS('Base TU'!H:H,'Base TU'!$A:$A,$B19,'Base TU'!$B:$B,\"NORTE\")/1000","v":0},{"$f":"SUMIFS('Base TU'!I:I,'Base TU'!$A:$A,$B19,'Base TU'!$B:$B,\"NORTE\")/1000","v":0},{"$f":"SUMIFS('Base TU'!J:J,'Base TU'!$A:$A,$B19,'Base TU'!$B:$B,\"NORTE\")/1000","v":0},{"$f":"SUMIFS('Base TU'!K:K,'Base TU'!$A:$A,$B19,'Base TU'!$B:$B,\"NORTE\")/1000","v":0},{"$f":"SUMIFS('Base TU'!L:L,'Base TU'!$A:$A,$B19,'Base TU'!$B:$B,\"NORTE\")/1000","v":0},{"$f":"SUMIFS('Base TU'!M:M,'Base TU'!$A:$A,$B19,'Base TU'!$B:$B,\"NORTE\")/1000","v":0},{"$f":"SUMIFS('Base TU'!N:N,'Base TU'!$A:$A,$B19,'Base TU'!$B:$B,\"NORTE\")/1000","v":0},{"$f":"SUMIFS('Base TU'!O:O,'Base TU'!$A:$A,$B19,'Base TU'!$B:$B,\"NORTE\")/1000","v":0},{"$f":"SUMIFS('Base TU'!P:P,'Base TU'!$A:$A,$B19,'Base TU'!$B:$B,\"NORTE\")/1000","v":0},null,{"$f":"SUMIFS('Base TU'!R:R,'Base TU'!$A:$A,$B19,'Base TU'!$B:$B,\"NORTE\")/1000","v":0},{"$f":"SUMIFS('Base TU'!S:S,'Base TU'!$A:$A,$B19,'Base TU'!$B:$B,\"NORTE\")/1000","v":0},{"$f":"SUMIFS('Base TU'!T:T,'Base TU'!$A:$A,$B19,'Base TU'!$B:$B,\"NORTE\")/1000","v":0},{"$f":"SUMIFS('Base TU'!U:U,'Base TU'!$A:$A,$B19,'Base TU'!$B:$B,\"NORTE\")/1000","v":0},{"$f":"SUMIFS('Base TU'!V:V,'Base TU'!$A:$A,$B19,'Base TU'!$B:$B,\"NORTE\")/1000","v":0},{"$f":"SUMIFS('Base TU'!W:W,'Base TU'!$A:$A,$B19,'Base TU'!$B:$B,\"NORTE\")/1000","v":0},{"$f":"SUMIFS('Base TU'!X:X,'Base TU'!$A:$A,$B19,'Base TU'!$B:$B,\"NORTE\")/1000","v":0},{"$f":"SUMIFS('Base TU'!Y:Y,'Base TU'!$A:$A,$B19,'Base TU'!$B:$B,\"NORTE\")/1000","v":0},{"$f":"SUMIFS('Base TU'!Z:Z,'Base TU'!$A:$A,$B19,'Base TU'!$B:$B,\"NORTE\")/1000","v":0},{"$f":"SUMIFS('Base TU'!AA:AA,'Base TU'!$A:$A,$B19,'Base TU'!$B:$B,\"NORTE\")/1000","v":31.24},{"$f":"SUMIFS('Base TU'!AB:AB,'Base TU'!$A:$A,$B19,'Base TU'!$B:$B,\"NORTE\")/1000","v":69.256},{"$f":"SUMIFS('Base TU'!AC:AC,'Base TU'!$A:$A,$B19,'Base TU'!$B:$B,\"NORTE\")/1000","v":84.92},null,{"$f":"SUMIFS('Base TU'!AE:AE,'Base TU'!$A:$A,$B19,'Base TU'!$B:$B,\"NORTE\")/1000","v":75.239999999999995},{"$f":"SUMIFS('Base TU'!AF:AF,'Base TU'!$A:$A,$B19,'Base TU'!$B:$B,\"NORTE\")/1000","v":74.888000000000005},{"$f":"SUMIFS('Base TU'!AG:AG,'Base TU'!$A:$A,$B19,'Base TU'!$B:$B,\"NORTE\")/1000","v":104.19199999999999},{"$f":"SUMIFS('Base TU'!AH:AH,'Base TU'!$A:$A,$B19,'Base TU'!$B:$B,\"NORTE\")/1000","v":69.695999999999998},{"$f":"SUMIFS('Base TU'!AI:AI,'Base TU'!$A:$A,$B19,'Base TU'!$B:$B,\"NORTE\")/1000","v":91.96},{"$f":"SUMIFS('Base TU'!AJ:AJ,'Base TU'!$A:$A,$B19,'Base TU'!$B:$B,\"NORTE\")/1000","v":103.4},{"$f":"SUMIFS('Base TU'!AK:AK,'Base TU'!$A:$A,$B19,'Base TU'!$B:$B,\"NORTE\")/1000","v":103.57599999999999},{"$f":"SUMIFS('Base TU'!AL:AL,'Base TU'!$A:$A,$B19,'Base TU'!$B:$B,\"NORTE\")/1000","v":129.36000000000001},{"$f":"SUMIFS('Base TU'!AM:AM,'Base TU'!$A:$A,$B19,'Base TU'!$B:$B,\"NORTE\")/1000","v":117.92},{"$f":"SUMIFS('Base TU'!AN:AN,'Base TU'!$A:$A,$B19,'Base TU'!$B:$B,\"NORTE\")/1000","v":132.352},{"$f":"SUMIFS('Base TU'!AO:AO,'Base TU'!$A:$A,$B19,'Base TU'!$B:$B,\"NORTE\")/1000","v":132.352},{"$f":"SUMIFS('Base TU'!AP:AP,'Base TU'!$A:$A,$B19,'Base TU'!$B:$B,\"NORTE\")/1000","v":133.93600000000001},null,{"$f":"SUMIFS('Base TU'!AR:AR,'Base TU'!$A:$A,$B19,'Base TU'!$B:$B,\"NORTE\")/1000","v":128.83199999999999},{"$f":"SUMIFS('Base TU'!AS:AS,'Base TU'!$A:$A,$B19,'Base TU'!$B:$B,\"NORTE\")/1000","v":95.831999999999994},{"$f":"SUMIFS('Base TU'!AT:AT,'Base TU'!$A:$A,$B19,'Base TU'!$B:$B,\"NORTE\")/1000","v":131.29599999999999},{"$f":"SUMIFS('Base TU'!AU:AU,'Base TU'!$A:$A,$B19,'Base TU'!$B:$B,\"NORTE\")/1000","v":139.392},{"$f":"SUMIFS('Base TU'!AV:AV,'Base TU'!$A:$A,$B19,'Base TU'!$B:$B,\"NORTE\")/1000","v":134.55199999999999},{"$f":"SUMIFS('Base TU'!AW:AW,'Base TU'!$A:$A,$B19,'Base TU'!$B:$B,\"NORTE\")/1000","v":121.52800000000001},{"$f":"SUMIFS('Base TU'!AX:AX,'Base TU'!$A:$A,$B19,'Base TU'!$B:$B,\"NORTE\")/1000","v":127.952},{"$f":"SUMIFS('Base TU'!AY:AY,'Base TU'!$A:$A,$B19,'Base TU'!$B:$B,\"NORTE\")/1000","v":121.70399999999999},{"$f":"SUMIFS('Base TU'!AZ:AZ,'Base TU'!$A:$A,$B19,'Base TU'!$B:$B,\"NORTE\")/1000","v":138.77600000000001},{"$f":"SUMIFS('Base TU'!BA:BA,'Base TU'!$A:$A,$B19,'Base TU'!$B:$B,\"NORTE\")/1000","v":152.59200000000001},{"$f":"SUMIFS('Base TU'!BB:BB,'Base TU'!$A:$A,$B19,'Base TU'!$B:$B,\"NORTE\")/1000","v":142.73599999999999},{"$f":"SUMIFS('Base TU'!BC:BC,'Base TU'!$A:$A,$B19,'Base TU'!$B:$B,\"NORTE\")/1000","v":152.85599999999999},null,{"$f":"SUMIFS('Base TU'!BE:BE,'Base TU'!$A:$A,$B19,'Base TU'!$B:$B,\"NORTE\")/1000","v":152.328},{"$f":"SUMIFS('Base TU'!BF:BF,'Base TU'!$A:$A,$B19,'Base TU'!$B:$B,\"NORTE\")/1000","v":148.98400000000001},{"$f":"SUMIFS('Base TU'!BG:BG,'Base TU'!$A:$A,$B19,'Base TU'!$B:$B,\"NORTE\")/1000","v":139.31399999999999},{"$f":"SUMIFS('Base TU'!BH:BH,'Base TU'!$A:$A,$B19,'Base TU'!$B:$B,\"NORTE\")/1000","v":163.22999999999999},{"$f":"SUMIFS('Base TU'!BI:BI,'Base TU'!$A:$A,$B19,'Base TU'!$B:$B,\"NORTE\")/1000","v":181.83},{"$f":"SUMIFS('Base TU'!BJ:BJ,'Base TU'!$A:$A,$B19,'Base TU'!$B:$B,\"NORTE\")/1000","v":180.048},{"$f":"SUMIFS('Base TU'!BK:BK,'Base TU'!$A:$A,$B19,'Base TU'!$B:$B,\"NORTE\")/1000","v":171.90600000000001},{"$f":"SUMIFS('Base TU'!BL:BL,'Base TU'!$A:$A,$B19,'Base TU'!$B:$B,\"NORTE\")/1000","v":169.87799999999999},{"$f":"SUMIFS('Base TU'!BM:BM,'Base TU'!$A:$A,$B19,'Base TU'!$B:$B,\"NORTE\")/1000","v":176.85},{"$f":"SUMIFS('Base TU'!BN:BN,'Base TU'!$A:$A,$B19,'Base TU'!$B:$B,\"NORTE\")/1000","v":183.428},{"$f":"SUMIFS('Base TU'!BO:BO,'Base TU'!$A:$A,$B19,'Base TU'!$B:$B,\"NORTE\")/1000","v":189.22},{"$f":"SUMIFS('Base TU'!BP:BP,'Base TU'!$A:$A,$B19,'Base TU'!$B:$B,\"NORTE\")/1000","v":123.908},null,{"$f":"SUMIFS('Base TU'!BR:BR,'Base TU'!$A:$A,$B19,'Base TU'!$B:$B,\"NORTE\")/1000","v":151.642},{"$f":"SUMIFS('Base TU'!BS:BS,'Base TU'!$A:$A,$B19,'Base TU'!$B:$B,\"NORTE\")/1000","v":152.364},{"$f":"SUMIFS('Base TU'!BT:BT,'Base TU'!$A:$A,$B19,'Base TU'!$B:$B,\"NORTE\")/1000","v":179.64400000000001},{"$f":"SUMIFS('Base TU'!BU:BU,'Base TU'!$A:$A,$B19,'Base TU'!$B:$B,\"NORTE\")/1000","v":163.964},{"$f":"SUMIFS('Base TU'!BV:BV,'Base TU'!$A:$A,$B19,'Base TU'!$B:$B,\"NORTE\")/1000","v":171.77799999999999},{"$f":"SUMIFS('Base TU'!BW:BW,'Base TU'!$A:$A,$B19,'Base TU'!$B:$B,\"NORTE\")/1000","v":158.892},{"$f":"SUMIFS('Base TU'!BX:BX,'Base TU'!$A:$A,$B19,'Base TU'!$B:$B,\"NORTE\")/1000","v":176.16800000000001},{"$f":"SUMIFS('Base TU'!BY:BY,'Base TU'!$A:$A,$B19,'Base TU'!$B:$B,\"NORTE\")/1000","v":199.03800000000001},{"$f":"SUMIFS('Base TU'!BZ:BZ,'Base TU'!$A:$A,$B19,'Base TU'!$B:$B,\"NORTE\")/1000","v":183.89400000000001},{"$f":"SUMIFS('Base TU'!CA:CA,'Base TU'!$A:$A,$B19,'Base TU'!$B:$B,\"NORTE\")/1000","v":197.898},{"$f":"SUMIFS('Base TU'!CB:CB,'Base TU'!$A:$A,$B19,'Base TU'!$B:$B,\"NORTE\")/1000","v":184.61199999999999},{"$f":"SUMIFS('Base TU'!CC:CC,'Base TU'!$A:$A,$B19,'Base TU'!$B:$B,\"NORTE\")/1000","v":177.68799999999999},null,{"$f":"SUMIFS('Base TU'!CE:CE,'Base TU'!$A:$A,$B19,'Base TU'!$B:$B,\"NORTE\")/1000","v":177.93600000000001},{"$f":"SUMIFS('Base TU'!CF:CF,'Base TU'!$A:$A,$B19,'Base TU'!$B:$B,\"NORTE\")/1000","v":194.38200000000001},{"$f":"SUMIFS('Base TU'!CG:CG,'Base TU'!$A:$A,$B19,'Base TU'!$B:$B,\"NORTE\")/1000","v":232.94800000000001},{"$f":"SUMIFS('Base TU'!CH:CH,'Base TU'!$A:$A,$B19,'Base TU'!$B:$B,\"NORTE\")/1000","v":204.398},{"$f":"SUMIFS('Base TU'!CI:CI,'Base TU'!$A:$A,$B19,'Base TU'!$B:$B,\"NORTE\")/1000","v":216.02199999999999},{"$f":"SUMIFS('Base TU'!CJ:CJ,'Base TU'!$A:$A,$B19,'Base TU'!$B:$B,\"NORTE\")/1000","v":0},{"$f":"SUMIFS('Base TU'!CK:CK,'Base TU'!$A:$A,$B19,'Base TU'!$B:$B,\"NORTE\")/1000","v":0},{"$f":"SUMIFS('Base TU'!CL:CL,'Base TU'!$A:$A,$B19,'Base TU'!$B:$B,\"NORTE\")/1000","v":0},{"$f":"SUMIFS('Base TU'!CM:CM,'Base TU'!$A:$A,$B19,'Base TU'!$B:$B,\"NORTE\")/1000","v":0},{"$f":"SUMIFS('Base TU'!CN:CN,'Base TU'!$A:$A,$B19,'Base TU'!$B:$B,\"NORTE\")/1000","v":0},{"$f":"SUMIFS('Base TU'!CO:CO,'Base TU'!$A:$A,$B19,'Base TU'!$B:$B,\"NORTE\")/1000","v":0},{"$f":"SUMIFS('Base TU'!CP:CP,'Base TU'!$A:$A,$B19,'Base TU'!$B:$B,\"NORTE\")/1000","v":0}]
[null,"Construção Civil",null,{"$f":"SUMIFS('Base TU'!E:E,'Base TU'!$A:$A,$B20,'Base TU'!$B:$B,\"NORTE\")/1000","v":0},{"$f":"SUMIFS('Base TU'!F:F,'Base TU'!$A:$A,$B20,'Base TU'!$B:$B,\"NORTE\")/1000","v":0},{"$f":"SUMIFS('Base TU'!G:G,'Base TU'!$A:$A,$B20,'Base TU'!$B:$B,\"NORTE\")/1000","v":0},{"$f":"SUMIFS('Base TU'!H:H,'Base TU'!$A:$A,$B20,'Base TU'!$B:$B,\"NORTE\")/1000","v":0},{"$f":"SUMIFS('Base TU'!I:I,'Base TU'!$A:$A,$B20,'Base TU'!$B:$B,\"NORTE\")/1000","v":0},{"$f":"SUMIFS('Base TU'!J:J,'Base TU'!$A:$A,$B20,'Base TU'!$B:$B,\"NORTE\")/1000","v":0},{"$f":"SUMIFS('Base TU'!K:K,'Base TU'!$A:$A,$B20,'Base TU'!$B:$B,\"NORTE\")/1000","v":0},{"$f":"SUMIFS('Base TU'!L:L,'Base TU'!$A:$A,$B20,'Base TU'!$B:$B,\"NORTE\")/1000","v":0},{"$f":"SUMIFS('Base TU'!M:M,'Base TU'!$A:$A,$B20,'Base TU'!$B:$B,\"NORTE\")/1000","v":0},{"$f":"SUMIFS('Base TU'!N:N,'Base TU'!$A:$A,$B20,'Base TU'!$B:$B,\"NORTE\")/1000","v":0},{"$f":"SUMIFS('Base TU'!O:O,'Base TU'!$A:$A,$B20,'Base TU'!$B:$B,\"NORTE\")/1000","v":0},{"$f":"SUMIFS('Base TU'!P:P,'Base TU'!$A:$A,$B20,'Base TU'!$B:$B,\"NORTE\")/1000","v":0},null,{"$f":"SUMIFS('Base TU'!R:R,'Base TU'!$A:$A,$B20,'Base TU'!$B:$B,\"NORTE\")/1000","v":0},{"$f":"SUMIFS('Base TU'!S:S,'Base TU'!$A:$A,$B20,'Base TU'!$B:$B,\"NORTE\")/1000","v":0},{"$f":"SUMIFS('Base TU'!T:T,'Base TU'!$A:$A,$B20,'Base TU'!$B:$B,\"NORTE\")/1000","v":0},{"$f":"SUMIFS('Base TU'!U:U,'Base TU'!$A:$A,$B20,'Base TU'!$B:$B,\"NORTE\")/1000","v":0},{"$f":"SUMIFS('Base TU'!V:V,'Base TU'!$A:$A,$B20,'Base TU'!$B:$B,\"NORTE\")/1000","v":0},{"$f":"SUMIFS('Base TU'!W:W,'Base TU'!$A:$A,$B20,'Base TU'!$B:$B,\"NORTE\")/1000","v":0},{"$f":"SUMIFS('Base TU'!X:X,'Base TU'!$A:$A,$B20,'Base TU'!$B:$B,\"NORTE\")/1000","v":0},{"$f":"SUMIFS('Base TU'!Y:Y,'Base TU'!$A:$A,$B20,'Base TU'!$B:$B,\"NORTE\")/1000","v":0},{"$f":"SUMIFS('Base TU'!Z:Z,'Base TU'!$A:$A,$B20,'Base TU'!$B:$B,\"NORTE\")/1000","v":0},{"$f":"SUMIFS('Base TU'!AA:AA,'Base TU'!$A:$A,$B20,'Base TU'!$B:$B,\"NORTE\")/1000","v":0},{"$f":"SUMIFS('Base TU'!AB:AB,'Base TU'!$A:$A,$B20,'Base TU'!$B:$B,\"NORTE\")/1000","v":0},{"$f":"SUMIFS('Base TU'!AC:AC,'Base TU'!$A:$A,$B20,'Base TU'!$B:$B,\"NORTE\")/1000","v":0},null,{"$f":"SUMIFS('Base TU'!AE:AE,'Base TU'!$A:$A,$B20,'Base TU'!$B:$B,\"NORTE\")/1000","v":0},{"$f":"SUMIFS('Base TU'!AF:AF,'Base TU'!$A:$A,$B20,'Base TU'!$B:$B,\"NORTE\")/1000","v":0},{"$f":"SUMIFS('Base TU'!AG:AG,'Base TU'!$A:$A,$B20,'Base TU'!$B:$B,\"NORTE\")/1000","v":0},{"$f":"SUMIFS('Base TU'!AH:AH,'Base TU'!$A:$A,$B20,'Base TU'!$B:$B,\"NORTE\")/1000","v":0},{"$f":"SUMIFS('Base TU'!AI:AI,'Base TU'!$A:$A,$B20,'Base TU'!$B:$B,\"NORTE\")/1000","v":0},{"$f":"SUMIFS('Base TU'!AJ:AJ,'Base TU'!$A:$A,$B20,'Base TU'!$B:$B,\"NORTE\")/1000","v":0},{"$f":"SUMIFS('Base TU'!AK:AK,'Base TU'!$A:$A,$B20,'Base TU'!$B:$B,\"NORTE\")/1000","v":0},{"$f":"SUMIFS('Base TU'!AL:AL,'Base TU'!$A:$A,$B20,'Base TU'!$B:$B,\"NORTE\")/1000","v":0},{"$f":"SUMIFS('Base TU'!AM:AM,'Base TU'!$A:$A,$B20,'Base TU'!$B:$B,\"NORTE\")/1000","v":0},{"$f":"SUMIFS('Base TU'!AN:AN,'Base TU'!$A:$A,$B20,'Base TU'!$B:$B,\"NORTE\")/1000","v":0},{"$f":"SUMIFS('Base TU'!AO:AO,'Base TU'!$A:$A,$B20,'Base TU'!$B:$B,\"NORTE\")/1000","v":0},{"$f":"SUMIFS('Base TU'!AP:AP,'Base TU'!$A:$A,$B20,'Base TU'!$B:$B,\"NORTE\")/1000","v":0},null,{"$f":"SUMIFS('Base TU'!AR:AR,'Base TU'!$A:$A,$B20,'Base TU'!$B:$B,\"NORTE\")/1000","v":0},{"$f":"SUMIFS('Base TU'!AS:AS,'Base TU'!$A:$A,$B20,'Base TU'!$B:$B,\"NORTE\")/1000","v":0},{"$f":"SUMIFS('Base TU'!AT:AT,'Base TU'!$A:$A,$B20,'Base TU'!$B:$B,\"NORTE\")/1000","v":0},{"$f":"SUMIFS('Base TU'!AU:AU,'Base TU'!$A:$A,$B20,'Base TU'!$B:$B,\"NORTE\")/1000","v":0},{"$f":"SUMIFS('Base TU'!AV:AV,'Base TU'!$A:$A,$B20,'Base TU'!$B:$B,\"NORTE\")/1000","v":0},{"$f":"SUMIFS('Base TU'!AW:AW,'Base TU'!$A:$A,$B20,'Base TU'!$B:$B,\"NORTE\")/1000","v":0},{"$f":"SUMIFS('Base TU'!AX:AX,'Base TU'!$A:$A,$B20,'Base TU'!$B:$B,\"NORTE\")/1000","v":0},{"$f":"SUMIFS('Base TU'!AY:AY,'Base TU'!$A:$A,$B20,'Base TU'!$B:$B,\"NORTE\")/1000","v":0},{"$f":"SUMIFS('Base TU'!AZ:AZ,'Base TU'!$A:$A,$B20,'Base TU'!$B:$B,\"NORTE\")/1000","v":0},{"$f":"SUMIFS('Base TU'!BA:BA,'Base TU'!$A:$A,$B20,'Base TU'!$B:$B,\"NORTE\")/1000","v":0},{"$f":"SUMIFS('Base TU'!BB:BB,'Base TU'!$A:$A,$B20,'Base TU'!$B:$B,\"NORTE\")/1000","v":0},{"$f":"SUMIFS('Base TU'!BC:BC,'Base TU'!$A:$A,$B20,'Base TU'!$B:$B,\"NORTE\")/1000","v":0},null,{"$f":"SUMIFS('Base TU'!BE:BE,'Base TU'!$A:$A,$B20,'Base TU'!$B:$B,\"NORTE\")/1000","v":0},{"$f":"SUMIFS('Base TU'!BF:BF,'Base TU'!$A:$A,$B20,'Base TU'!$B:$B,\"NORTE\")/1000","v":0},{"$f":"SUMIFS('Base TU'!BG:BG,'Base TU'!$A:$A,$B20,'Base TU'!$B:$B,\"NORTE\")/1000","v":0},{"$f":"SUMIFS('Base TU'!BH:BH,'Base TU'!$A:$A,$B20,'Base TU'!$B:$B,\"NORTE\")/1000","v":0},{"$f":"SUMIFS('Base TU'!BI:BI,'Base TU'!$A:$A,$B20,'Base TU'!$B:$B,\"NORTE\")/1000","v":0},{"$f":"SUMIFS('Base TU'!BJ:BJ,'Base TU'!$A:$A,$B20,'Base TU'!$B:$B,\"NORTE\")/1000","v":0},{"$f":"SUMIFS('Base TU'!BK:BK,'Base TU'!$A:$A,$B20,'Base TU'!$B:$B,\"NORTE\")/1000","v":0},{"$f":"SUMIFS('Base TU'!BL:BL,'Base TU'!$A:$A,$B20,'Base TU'!$B:$B,\"NORTE\")/1000","v":0},{"$f":"SUMIFS('Base TU'!BM:BM,'Base TU'!$A:$A,$B20,'Base TU'!$B:$B,\"NORTE\")/1000","v":0},{"$f":"SUMIFS('Base TU'!BN:BN,'Base TU'!$A:$A,$B20,'Base TU'!$B:$B,\"NORTE\")/1000","v":0},{"$f":"SUMIFS('Base TU'!BO:BO,'Base TU'!$A:$A,$B20,'Base TU'!$B:$B,\"NORTE\")/1000","v":0},{"$f":"SUMIFS('Base TU'!BP:BP,'Base TU'!$A:$A,$B20,'Base TU'!$B:$B,\"NORTE\")/1000","v":0},null,{"$f":"SUMIFS('Base TU'!BR:BR,'Base TU'!$A:$A,$B20,'Base TU'!$B:$B,\"NORTE\")/1000","v":0},{"$f":"SUMIFS('Base TU'!BS:BS,'Base TU'!$A:$A,$B20,'Base TU'!$B:$B,\"NORTE\")/1000","v":0},{"$f":"SUMIFS('Base TU'!BT:BT,'Base TU'!$A:$A,$B20,'Base TU'!$B:$B,\"NORTE\")/1000","v":0},{"$f":"SUMIFS('Base TU'!BU:BU,'Base TU'!$A:$A,$B20,'Base TU'!$B:$B,\"NORTE\")/1000","v":0},{"$f":"SUMIFS('Base TU'!BV:BV,'Base TU'!$A:$A,$B20,'Base TU'!$B:$B,\"NORTE\")/1000","v":0},{"$f":"SUMIFS('Base TU'!BW:BW,'Base TU'!$A:$A,$B20,'Base TU'!$B:$B,\"NORTE\")/1000","v":0},{"$f":"SUMIFS('Base TU'!BX:BX,'Base TU'!$A:$A,$B20,'Base TU'!$B:$B,\"NORTE\")/1000","v":0},{"$f":"SUMIFS('Base TU'!BY:BY,'Base TU'!$A:$A,$B20,'Base TU'!$B:$B,\"NORTE\")/1000","v":0},{"$f":"SUMIFS('Base TU'!BZ:BZ,'Base TU'!$A:$A,$B20,'Base TU'!$B:$B,\"NORTE\")/1000","v":0},{"$f":"SUMIFS('Base TU'!CA:CA,'Base TU'!$A:$A,$B20,'Base TU'!$B:$B,\"NORTE\")/1000","v":0},{"$f":"SUMIFS('Base TU'!CB:CB,'Base TU'!$A:$A,$B20,'Base TU'!$B:$B,\"NORTE\")/1000","v":0},{"$f":"SUMIFS('Base TU'!CC:CC,'Base TU'!$A:$A,$B20,'Base TU'!$B:$B,\"NORTE\")/1000","v":0},null,{"$f":"SUMIFS('Base TU'!CE:CE,'Base TU'!$A:$A,$B20,'Base TU'!$B:$B,\"NORTE\")/1000","v":0},{"$f":"SUMIFS('Base TU'!CF:CF,'Base TU'!$A:$A,$B20,'Base TU'!$B:$B,\"NORTE\")/1000","v":0},{"$f":"SUMIFS('Base TU'!CG:CG,'Base TU'!$A:$A,$B20,'Base TU'!$B:$B,\"NORTE\")/1000","v":0},{"$f":"SUMIFS('Base TU'!CH:CH,'Base TU'!$A:$A,$B20,'Base TU'!$B:$B,\"NORTE\")/1000","v":0},{"$f":"SUMIFS('Base TU'!CI:CI,'Base TU'!$A:$A,$B20,'Base TU'!$B:$B,\"NORTE\")/1000","v":0},{"$f":"SUMIFS('Base TU'!CJ:CJ,'Base TU'!$A:$A,$B20,'Base TU'!$B:$B,\"NORTE\")/1000","v":0},{"$f":"SUMIFS('Base TU'!CK:CK,'Base TU'!$A:$A,$B20,'Base TU'!$B:$B,\"NORTE\")/1000","v":0},{"$f":"SUMIFS('Base TU'!CL:CL,'Base TU'!$A:$A,$B20,'Base TU'!$B:$B,\"NORTE\")/1000","v":0},{"$f":"SUMIFS('Base TU'!CM:CM,'Base TU'!$A:$A,$B20,'Base TU'!$B:$B,\"NORTE\")/1000","v":0},{"$f":"SUMIFS('Base TU'!CN:CN,'Base TU'!$A:$A,$B20,'Base TU'!$B:$B,\"NORTE\")/1000","v":0},{"$f":"SUMIFS('Base TU'!CO:CO,'Base TU'!$A:$A,$B20,'Base TU'!$B:$B,\"NORTE\")/1000","v":0},{"$f":"SUMIFS('Base TU'!CP:CP,'Base TU'!$A:$A,$B20,'Base TU'!$B:$B,\"NORTE\")/1000","v":0}]
[null,"Siderúrgicos e Mineração",null,{"$f":"SUMIFS('Base TU'!E:E,'Base TU'!$A:$A,$B21,'Base TU'!$B:$B,\"NORTE\")/1000","v":0},{"$f":"SUMIFS('Base TU'!F:F,'Base TU'!$A:$A,$B21,'Base TU'!$B:$B,\"NORTE\")/1000","v":0.94},{"$f":"SUMIFS('Base TU'!G:G,'Base TU'!$A:$A,$B21,'Base TU'!$B:$B,\"NORTE\")/1000","v":1.631},{"$f":"SUMIFS('Base TU'!H:H,'Base TU'!$A:$A,$B21,'Base TU'!$B:$B,\"NORTE\")/1000","v":0.76},{"$f":"SUMIFS('Base TU'!I:I,'Base TU'!$A:$A,$B21,'Base TU'!$B:$B,\"NORTE\")/1000","v":0},{"$f":"SUMIFS('Base TU'!J:J,'Base TU'!$A:$A,$B21,'Base TU'!$B:$B,\"NORTE\")/1000","v":0},{"$f":"SUMIFS('Base TU'!K:K,'Base TU'!$A:$A,$B21,'Base TU'!$B:$B,\"NORTE\")/1000","v":0},{"$f":"SUMIFS('Base TU'!L:L,'Base TU'!$A:$A,$B21,'Base TU'!$B:$B,\"NORTE\")/1000","v":0},{"$f":"SUMIFS('Base TU'!M:M,'Base TU'!$A:$A,$B21,'Base TU'!$B:$B,\"NORTE\")/1000","v":0},{"$f":"SUMIFS('Base TU'!N:N,'Base TU'!$A:$A,$B21,'Base TU'!$B:$B,\"NORTE\")/1000","v":0},{"$f":"SUMIFS('Base TU'!O:O,'Base TU'!$A:$A,$B21,'Base TU'!$B:$B,\"NORTE\")/1000","v":0},{"$f":"SUMIFS('Base TU'!P:P,'Base TU'!$A:$A,$B21,'Base TU'!$B:$B,\"NORTE\")/1000","v":0},null,{"$f":"SUMIFS('Base TU'!R:R,'Base TU'!$A:$A,$B21,'Base TU'!$B:$B,\"NORTE\")/1000","v":0},{"$f":"SUMIFS('Base TU'!S:S,'Base TU'!$A:$A,$B21,'Base TU'!$B:$B,\"NORTE\")/1000","v":0},{"$f":"SUMIFS('Base TU'!T:T,'Base TU'!$A:$A,$B21,'Base TU'!$B:$B,\"NORTE\")/1000","v":0},{"$f":"SUMIFS('Base TU'!U:U,'Base TU'!$A:$A,$B21,'Base TU'!$B:$B,\"NORTE\")/1000","v":0},{"$f":"SUMIFS('Base TU'!V:V,'Base TU'!$A:$A,$B21,'Base TU'!$B:$B,\"NORTE\")/1000","v":0},{"$f":"SUMIFS('Base TU'!W:W,'Base TU'!$A:$A,$B21,'Base TU'!$B:$B,\"NORTE\")/1000","v":0},{"$f":"SUMIFS('Base TU'!X:X,'Base TU'!$A:$A,$B21,'Base TU'!$B:$B,\"NORTE\")/1000","v":0},{"$f":"SUMIFS('Base TU'!Y:Y,'Base TU'!$A:$A,$B21,'Base TU'!$B:$B,\"NORTE\")/1000","v":0},{"$f":"SUMIFS('Base TU'!Z:Z,'Base TU'!$A:$A,$B21,'Base TU'!$B:$B,\"NORTE\")/1000","v":0},{"$f":"SUMIFS('Base TU'!AA:AA,'Base TU'!$A:$A,$B21,'Base TU'!$B:$B,\"NORTE\")/1000","v":0},{"$f":"SUMIFS('Base TU'!AB:AB,'Base TU'!$A:$A,$B21,'Base TU'!$B:$B,\"NORTE\")/1000","v":0},{"$f":"SUMIFS('Base TU'!AC:AC,'Base TU'!$A:$A,$B21,'Base TU'!$B:$B,\"NORTE\")/1000","v":0},null,{"$f":"SUMIFS('Base TU'!AE:AE,'Base TU'!$A:$A,$B21,'Base TU'!$B:$B,\"NORTE\")/1000","v":0},{"$f":"SUMIFS('Base TU'!AF:AF,'Base TU'!$A:$A,$B21,'Base TU'!$B:$B,\"NORTE\")/1000","v":0},{"$f":"SUMIFS('Base TU'!AG:AG,'Base TU'!$A:$A,$B21,'Base TU'!$B:$B,\"NORTE\")/1000","v":0},{"$f":"SUMIFS('Base TU'!AH:AH,'Base TU'!$A:$A,$B21,'Base TU'!$B:$B,\"NORTE\")/1000","v":0},{"$f":"SUMIFS('Base TU'!AI:AI,'Base TU'!$A:$A,$B21,'Base TU'!$B:$B,\"NORTE\")/1000","v":0},{"$f":"SUMIFS('Base TU'!AJ:AJ,'Base TU'!$A:$A,$B21,'Base TU'!$B:$B,\"NORTE\")/1000","v":0},{"$f":"SUMIFS('Base TU'!AK:AK,'Base TU'!$A:$A,$B21,'Base TU'!$B:$B,\"NORTE\")/1000","v":0},{"$f":"SUMIFS('Base TU'!AL:AL,'Base TU'!$A:$A,$B21,'Base TU'!$B:$B,\"NORTE\")/1000","v":0},{"$f":"SUMIFS('Base TU'!AM:AM,'Base TU'!$A:$A,$B21,'Base TU'!$B:$B,\"NORTE\")/1000","v":0},{"$f":"SUMIFS('Base TU'!AN:AN,'Base TU'!$A:$A,$B21,'Base TU'!$B:$B,\"NORTE\")/1000","v":0},{"$f":"SUMIFS('Base TU'!AO:AO,'Base TU'!$A:$A,$B21,'Base TU'!$B:$B,\"NORTE\")/1000","v":0},{"$f":"SUMIFS('Base TU'!AP:AP,'Base TU'!$A:$A,$B21,'Base TU'!$B:$B,\"NORTE\")/1000","v":0},null,{"$f":"SUMIFS('Base TU'!AR:AR,'Base TU'!$A:$A,$B21,'Base TU'!$B:$B,\"NORTE\")/1000","v":0},{"$f":"SUMIFS('Base TU'!AS:AS,'Base TU'!$A:$A,$B21,'Base TU'!$B:$B,\"NORTE\")/1000","v":0},{"$f":"SUMIFS('Base TU'!AT:AT,'Base TU'!$A:$A,$B21,'Base TU'!$B:$B,\"NORTE\")/1000","v":0},{"$f":"SUMIFS('Base TU'!AU:AU,'Base TU'!$A:$A,$B21,'Base TU'!$B:$B,\"NORTE\")/1000","v":0},{"$f":"SUMIFS('Base TU'!AV:AV,'Base TU'!$A:$A,$B21,'Base TU'!$B:$B,\"NORTE\")/1000","v":0},{"$f":"SUMIFS('Base TU'!AW:AW,'Base TU'!$A:$A,$B21,'Base TU'!$B:$B,\"NORTE\")/1000","v":0},{"$f":"SUMIFS('Base TU'!AX:AX,'Base TU'!$A:$A,$B21,'Base TU'!$B:$B,\"NORTE\")/1000","v":0},{"$f":"SUMIFS('Base TU'!AY:AY,'Base TU'!$A:$A,$B21,'Base TU'!$B:$B,\"NORTE\")/1000","v":0},{"$f":"SUMIFS('Base TU'!AZ:AZ,'Base TU'!$A:$A,$B21,'Base TU'!$B:$B,\"NORTE\")/1000","v":0},{"$f":"SUMIFS('Base TU'!BA:BA,'Base TU'!$A:$A,$B21,'Base TU'!$B:$B,\"NORTE\")/1000","v":0},{"$f":"SUMIFS('Base TU'!BB:BB,'Base TU'!$A:$A,$B21,'Base TU'!$B:$B,\"NORTE\")/1000","v":0},{"$f":"SUMIFS('Base TU'!BC:BC,'Base TU'!$A:$A,$B21,'Base TU'!$B:$B,\"NORTE\")/1000","v":0},null,{"$f":"SUMIFS('Base TU'!BE:BE,'Base TU'!$A:$A,$B21,'Base TU'!$B:$B,\"NORTE\")/1000","v":0},{"$f":"SUMIFS('Base TU'!BF:BF,'Base TU'!$A:$A,$B21,'Base TU'!$B:$B,\"NORTE\")/1000","v":0},{"$f":"SUMIFS('Base TU'!BG:BG,'Base TU'!$A:$A,$B21,'Base TU'!$B:$B,\"NORTE\")/1000","v":0},{"$f":"SUMIFS('Base TU'!BH:BH,'Base TU'!$A:$A,$B21,'Base TU'!$B:$B,\"NORTE\")/1000","v":0},{"$f":"SUMIFS('Base TU'!BI:BI,'Base TU'!$A:$A,$B21,'Base TU'!$B:$B,\"NORTE\")/1000","v":0},{"$f":"SUMIFS('Base TU'!BJ:BJ,'Base TU'!$A:$A,$B21,'Base TU'!$B:$B,\"NORTE\")/1000","v":0},{"$f":"SUMIFS('Base TU'!BK:BK,'Base TU'!$A:$A,$B21,'Base TU'!$B:$B,\"NORTE\")/1000","v":0},{"$f":"SUMIFS('Base TU'!BL:BL,'Base TU'!$A:$A,$B21,'Base TU'!$B:$B,\"NORTE\")/1000","v":0},{"$f":"SUMIFS('Base TU'!BM:BM,'Base TU'!$A:$A,$B21,'Base TU'!$B:$B,\"NORTE\")/1000","v":0},{"$f":"SUMIFS('Base TU'!BN:BN,'Base TU'!$A:$A,$B21,'Base TU'!$B:$B,\"NORTE\")/1000","v":0},{"$f":"SUMIFS('Base TU'!BO:BO,'Base TU'!$A:$A,$B21,'Base TU'!$B:$B,\"NORTE\")/1000","v":0},{"$f":"SUMIFS('Base TU'!BP:BP,'Base TU'!$A:$A,$B21,'Base TU'!$B:$B,\"NORTE\")/1000","v":0},null,{"$f":"SUMIFS('Base TU'!BR:BR,'Base TU'!$A:$A,$B21,'Base TU'!$B:$B,\"NORTE\")/1000","v":0},{"$f":"SUMIFS('Base TU'!BS:BS,'Base TU'!$A:$A,$B21,'Base TU'!$B:$B,\"NORTE\")/1000","v":0},{"$f":"SUMIFS('Base TU'!BT:BT,'Base TU'!$A:$A,$B21,'Base TU'!$B:$B,\"NORTE\")/1000","v":0},{"$f":"SUMIFS('Base TU'!BU:BU,'Base TU'!$A:$A,$B21,'Base TU'!$B:$B,\"NORTE\")/1000","v":0},{"$f":"SUMIFS('Base TU'!BV:BV,'Base TU'!$A:$A,$B21,'Base TU'!$B:$B,\"NORTE\")/1000","v":0},{"$f":"SUMIFS('Base TU'!BW:BW,'Base TU'!$A:$A,$B21,'Base TU'!$B:$B,\"NORTE\")/1000","v":0},{"$f":"SUMIFS('Base TU'!BX:BX,'Base TU'!$A:$A,$B21,'Base TU'!$B:$B,\"NORTE\")/1000","v":0},{"$f":"SUMIFS('Base TU'!BY:BY,'Base TU'!$A:$A,$B21,'Base TU'!$B:$B,\"NORTE\")/1000","v":0},{"$f":"SUMIFS('Base TU'!BZ:BZ,'Base TU'!$A:$A,$B21,'Base TU'!$B:$B,\"NORTE\")/1000","v":0},{"$f":"SUMIFS('Base TU'!CA:CA,'Base TU'!$A:$A,$B21,'Base TU'!$B:$B,\"NORTE\")/1000","v":0},{"$f":"SUMIFS('Base TU'!CB:CB,'Base TU'!$A:$A,$B21,'Base TU'!$B:$B,\"NORTE\")/1000","v":0},{"$f":"SUMIFS('Base TU'!CC:CC,'Base TU'!$A:$A,$B21,'Base TU'!$B:$B,\"NORTE\")/1000","v":0},null,{"$f":"SUMIFS('Base TU'!CE:CE,'Base TU'!$A:$A,$B21,'Base TU'!$B:$B,\"NORTE\")/1000","v":0},{"$f":"SUMIFS('Base TU'!CF:CF,'Base TU'!$A:$A,$B21,'Base TU'!$B:$B,\"NORTE\")/1000","v":0},{"$f":"SUMIFS('Base TU'!CG:CG,'Base TU'!$A:$A,$B21,'Base TU'!$B:$B,\"NORTE\")/1000","v":0},{"$f":"SUMIFS('Base TU'!CH:CH,'Base TU'!$A:$A,$B21,'Base TU'!$B:$B,\"NORTE\")/1000","v":0},{"$f":"SUMIFS('Base TU'!CI:CI,'Base TU'!$A:$A,$B21,'Base TU'!$B:$B,\"NORTE\")/1000","v":0},{"$f":"SUMIFS('Base TU'!CJ:CJ,'Base TU'!$A:$A,$B21,'Base TU'!$B:$B,\"NORTE\")/1000","v":0},{"$f":"SUMIFS('Base TU'!CK:CK,'Base TU'!$A:$A,$B21,'Base TU'!$B:$B,\"NORTE\")/1000","v":0},{"$f":"SUMIFS('Base TU'!CL:CL,'Base TU'!$A:$A,$B21,'Base TU'!$B:$B,\"NORTE\")/1000","v":0},{"$f":"SUMIFS('Base TU'!CM:CM,'Base TU'!$A:$A,$B21,'Base TU'!$B:$B,\"NORTE\")/1000","v":0},{"$f":"SUMIFS('Base TU'!CN:CN,'Base TU'!$A:$A,$B21,'Base TU'!$B:$B,\"NORTE\")/1000","v":0},{"$f":"SUMIFS('Base TU'!CO:CO,'Base TU'!$A:$A,$B21,'Base TU'!$B:$B,\"NORTE\")/1000","v":0},{"$f":"SUMIFS('Base TU'!CP:CP,'Base TU'!$A:$A,$B21,'Base TU'!$B:$B,\"NORTE\")/1000","v":0}]
[]
[null,"Operação Rumo (TU Mil)"]
[null,"Elevação",null,{"$f":"'Rumo BD'!C10/1000","v":563.94399999999996},{"$f":"'Rumo BD'!D10/1000","v":1034.725146},{"$f":"'Rumo BD'!E10/1000","v":1256.2875680000002},{"$f":"'Rumo BD'!F10/1000","v":790.29090199999996},{"$f":"'Rumo BD'!G10/1000","v":1385.839786},{"$f":"'Rumo BD'!H10/1000","v":1337.2284069999998},{"$f":"'Rumo BD'!I10/1000","v":1446.5915230000001},{"$f":"'Rumo BD'!J10/1000","v":1370.670883},{"$f":"'Rumo BD'!K10/1000","v":1335.4415190000002},{"$f":"'Rumo BD'!L10/1000","v":1002.999902},{"$f":"'Rumo BD'!M10/1000","v":991.27300100000002},{"$f":"'Rumo BD'!N10/1000","v":598.403908},null,{"$f":"'Rumo BD'!P10/1000","v":448.69178600000004},{"$f":"'Rumo BD'!Q10/1000","v":990.33767399999999},{"$f":"'Rumo BD'!R10/1000","v":1062.339528},{"$f":"'Rumo BD'!S10/1000","v":728.49934499999995},{"$f":"'Rumo BD'!T10/1000","v":1386.04321},{"$f":"'Rumo BD'!U10/1000","v":1177.1301960000001},{"$f":"'Rumo BD'!V10/1000","v":1198.89724},{"$f":"'Rumo BD'!W10/1000","v":1305.7225740000001},{"$f":"'Rumo BD'!X10/1000","v":1462.392844},{"$f":"'Rumo BD'!Y10/1000","v":1422.8486189999999},{"$f":"'Rumo BD'!Z10/1000","v":1202.030622},{"$f":"'Rumo BD'!AA10/1000","v":748.33121099999994},null,{"$f":"'Rumo BD'!AC10/1000","v":575.25229800000011},{"$f":"'Rumo BD'!AD10/1000","v":894.19707600000004},{"$f":"'Rumo BD'!AE10/1000","v":1004.462753},{"$f":"'Rumo BD'!AF10/1000","v":770.34461599999997},{"$f":"'Rumo BD'!AG10/1000","v":860.54832499999998},{"$f":"'Rumo BD'!AH10/1000","v":1041.4643060000001},{"$f":"'Rumo BD'!AI10/1000","v":1139.3327389999999},{"$f":"'Rumo BD'!AJ10/1000","v":1028.6506129999998},{"$f":"'Rumo BD'!AK10/1000","v":1300.371042},{"$f":"'Rumo BD'!AL10/1000","v":578.96342099999993},{"$f":"'Rumo BD'!AM10/1000","v":1127.2850169999999},{"$f":"'Rumo BD'!AN10/1000","v":1079.664777},null,{"$f":"'Rumo BD'!AP10/1000","v":849.24155000000007},{"$f":"'Rumo BD'!AQ10/1000","v":848.43707999999992},{"$f":"'Rumo BD'!AR10/1000","v":1122.6431399999999},{"$f":"'Rumo BD'!AS10/1000","v":820.90233000000001},{"$f":"'Rumo BD'!AT10/1000","v":683.43934000000002},{"$f":"'Rumo BD'!AU10/1000","v":1123.12553},{"$f":"'Rumo BD'!AV10/1000","v":1175.6769299999999},{"$f":"'Rumo BD'!AW10/1000","v":971.10751000000005},{"$f":"'Rumo BD'!AX10/1000","v":953.16534000000001},{"$f":"'Rumo BD'!AY10/1000","v":1148.33692},{"$f":"'Rumo BD'!AZ10/1000","v":766.63091000000009},{"$f":"'Rumo BD'!BA10/1000","v":750.42047000000002},null,{"$f":"'Rumo BD'!BC10/1000","v":593.45799},{"$f":"'Rumo BD'!BD10/1000","v":844.55329000000006},{"$f":"'Rumo BD'!BE10/1000","v":1106.75332},{"$f":"'Rumo BD'!BF10/1000","v":1257.8714399999999},{"$f":"'Rumo BD'!BG10/1000","v":1654.9123300000001},{"$f":"'Rumo BD'!BH10/1000","v":1210.7697599999999},{"$f":"'Rumo BD'!BI10/1000","v":1452.7168700000002},{"$f":"'Rumo BD'!BJ10/1000","v":1502.8918899999999},{"$f":"'Rumo BD'!BK10/1000","v":1289.8112900000001},{"$f":"'Rumo BD'!BL10/1000","v":1181.0653300000001},{"$f":"'Rumo BD'!BM10/1000","v":1208.73676},{"$f":"'Rumo BD'!BN10/1000","v":1143.1041399999999},null,{"$f":"'Rumo BD'!BP10/1000","v":644.08199999999999},{"$f":"'Rumo BD'!BQ10/1000","v":845.28908999999999},{"$f":"'Rumo BD'!BR10/1000","v":1374.48848},{"$f":"'Rumo BD'!BS10/1000","v":1178.8648700000001},{"$f":"'Rumo BD'!BT10/1000","v":1286.0656000000001},{"$f":"'Rumo BD'!BU10/1000","v":1171.8168780000001},{"$f":"'Rumo BD'!BV10/1000","v":922.17348200000004},{"$f":"'Rumo BD'!BW10/1000","v":1053.56447},{"$f":"'Rumo BD'!BX10/1000","v":1119.7368570000001},{"$f":"'Rumo BD'!BY10/1000","v":781.59292500000004},{"$f":"'Rumo BD'!BZ10/1000","v":1165.4997529999998},{"$f":"'Rumo BD'!CA10/1000","v":950.15667699999995},null,{"$f":"'Rumo BD'!CC10/1000","v":745.6966480000001},{"$f":"'Rumo BD'!CD10/1000","v":1119.7388880000001},{"$f":"'Rumo BD'!CE10/1000","v":1051.8928740000001},{"$f":"'Rumo BD'!CF10/1000","v":665.72074599999996},{"$f":"'Rumo BD'!CG10/1000","v":1178.2898660000001},{"$f":"'Rumo BD'!CH10/1000","v":0},{"$f":"'Rumo BD'!CI10/1000","v":0},{"$f":"'Rumo BD'!CJ10/1000","v":0},{"$f":"'Rumo BD'!CK10/1000","v":0},{"$f":"'Rumo BD'!CL10/1000","v":0},{"$f":"'Rumo BD'!CM10/1000","v":0},{"$f":"'Rumo BD'!CN10/1000","v":0}]
[null,"Solução Logística",null,{"$f":"'Rumo BD'!C11/1000","v":729.09867399999996},{"$f":"'Rumo BD'!D11/1000","v":1067.7981090000001},{"$f":"'Rumo BD'!E11/1000","v":886.89300000000003},{"$f":"'Rumo BD'!F11/1000","v":179.87980999999999},{"$f":"'Rumo BD'!G11/1000","v":429.34505999999999},{"$f":"'Rumo BD'!H11/1000","v":573.34385999999995},{"$f":"'Rumo BD'!I11/1000","v":466.91241899999977},{"$f":"'Rumo BD'!J11/1000","v":531.46580699999981},{"$f":"'Rumo BD'!K11/1000","v":496.56652200000002},{"$f":"'Rumo BD'!L11/1000","v":561.48228700000004},{"$f":"'Rumo BD'!M11/1000","v":420.73100800000026},{"$f":"'Rumo BD'!N11/1000","v":254.09882099999996},null,{"$f":"'Rumo BD'!P11/1000","v":213.88675000000001},{"$f":"'Rumo BD'!Q11/1000","v":340.74869999999993},{"$f":"'Rumo BD'!R11/1000","v":306.41654399999999},{"$f":"'Rumo BD'!S11/1000","v":241.59591900000007},{"$f":"'Rumo BD'!T11/1000","v":533.24844799999994},{"$f":"'Rumo BD'!U11/1000","v":538.28774500000009},{"$f":"'Rumo BD'!V11/1000","v":399.64013400000022},{"$f":"'Rumo BD'!W11/1000","v":433.39075900000006},{"$f":"'Rumo BD'!X11/1000","v":475.42910099999983},{"$f":"'Rumo BD'!Y11/1000","v":451.94466299999971},{"$f":"'Rumo BD'!Z11/1000","v":371.50363100000015},{"$f":"'Rumo BD'!AA11/1000","v":218.29270100000005},null,{"$f":"'Rumo BD'!AC11/1000","v":284.31497499999989},{"$f":"'Rumo BD'!AD11/1000","v":312.54101500000002},{"$f":"'Rumo BD'!AE11/1000","v":509.32677500000011},{"$f":"'Rumo BD'!AF11/1000","v":240.08712500000007},{"$f":"'Rumo BD'!AG11/1000","v":540.74277899999959},{"$f":"'Rumo BD'!AH11/1000","v":683.71264600000018},{"$f":"'Rumo BD'!AI11/1000","v":440.17774200000008},{"$f":"'Rumo BD'!AJ11/1000","v":337.17517199999992},{"$f":"'Rumo BD'!AK11/1000","v":457.1985699999999},{"$f":"'Rumo BD'!AL11/1000","v":356.70425999999998},{"$f":"'Rumo BD'!AM11/1000","v":262.02019400000012},{"$f":"'Rumo BD'!AN11/1000","v":250.21187899999998},null,{"$f":"'Rumo BD'!AP11/1000","v":366.34309999999999},{"$f":"'Rumo BD'!AQ11/1000","v":414.35300999999998},{"$f":"'Rumo BD'!AR11/1000","v":466.17480999999998},{"$f":"'Rumo BD'!AS11/1000","v":274.82718},{"$f":"'Rumo BD'!AT11/1000","v":427.63938999999999},{"$f":"'Rumo BD'!AU11/1000","v":383.77843999999999},{"$f":"'Rumo BD'!AV11/1000","v":266.76515999999998},{"$f":"'Rumo BD'!AW11/1000","v":366.02146000000005},{"$f":"'Rumo BD'!AX11/1000","v":365.69380999999998},{"$f":"'Rumo BD'!AY11/1000","v":353.07976000000002},{"$f":"'Rumo BD'!AZ11/1000","v":287.01044000000002},{"$f":"'Rumo BD'!BA11/1000","v":363.54597999999999},null,{"$f":"'Rumo BD'!BC11/1000","v":389.62268},{"$f":"'Rumo BD'!BD11/1000","v":440.34727000000004},{"$f":"'Rumo BD'!BE11/1000","v":316.39077000000003},{"$f":"'Rumo BD'!BF11/1000","v":472.88797},{"$f":"'Rumo BD'!BG11/1000","v":562.33517000000006},{"$f":"'Rumo BD'!BH11/1000","v":561.16909999999996},{"$f":"'Rumo BD'!BI11/1000","v":581.30233999999996},{"$f":"'Rumo BD'!BJ11/1000","v":725.88894999999991},{"$f":"'Rumo BD'!BK11/1000","v":722.61734000000001},{"$f":"'Rumo BD'!BL11/1000","v":839.41719999999998},{"$f":"'Rumo BD'!BM11/1000","v":863.48901999999998},{"$f":"'Rumo BD'!BN11/1000","v":557.85689000000002},null,{"$f":"'Rumo BD'!BP11/1000","v":441.35472999999996},{"$f":"'Rumo BD'!BQ11/1000","v":268.37684999999999},{"$f":"'Rumo BD'!BR11/1000","v":368.16843999999998},{"$f":"'Rumo BD'!BS11/1000","v":309.18083000000001},{"$f":"'Rumo BD'!BT11/1000","v":596.12175000000002},{"$f":"'Rumo BD'!BU11/1000","v":631.75253999999984},{"$f":"'Rumo BD'!BV11/1000","v":397.22642399999989},{"$f":"'Rumo BD'!BW11/1000","v":427.41404099999983},{"$f":"'Rumo BD'!BX11/1000","v":525.42056900000011},{"$f":"'Rumo BD'!BY11/1000","v":527.21682200000021},{"$f":"'Rumo BD'!BZ11/1000","v":630.47036800000024},{"$f":"'Rumo BD'!CA11/1000","v":403.60899799999993},null,{"$f":"'Rumo BD'!CC11/1000","v":427.66120900000004},{"$f":"'Rumo BD'!CD11/1000","v":386.42065599999989},{"$f":"'Rumo BD'!CE11/1000","v":422.76660400000003},{"$f":"'Rumo BD'!CF11/1000","v":119.77323500000001},{"$f":"'Rumo BD'!CG11/1000","v":530.50815599999987},{"$f":"'Rumo BD'!CH11/1000","v":0},{"$f":"'Rumo BD'!CI11/1000","v":0},{"$f":"'Rumo BD'!CJ11/1000","v":0},{"$f":"'Rumo BD'!CK11/1000","v":0},{"$f":"'Rumo BD'!CL11/1000","v":0},{"$f":"'Rumo BD'!CM11/1000","v":0},{"$f":"'Rumo BD'!CN11/1000","v":0}]
[]
[null,"Central (Já compõe o valor acima divulgado)"]
[]
[null,null,null,"2016-01-01","2016-02-01","2016-03-01","2016-04-01","2016-05-01","2016-06-01","2016-07-01","2016-08-01","2016-09-01","2016-10-01","2016-11-01","2016-12-01",null,"2017-01-01","2017-02-01","2017-03-01","2017-04-01","2017-05-01","2017-06-01","2017-07-01","2017-08-01","2017-09-01","2017-10-01","2017-11-01","2017-12-01",null,"2018-01-01","2018-02-01","2018-03-01","2018-04-01","2018-05-01","2018-06-01","2018-07-01","2018-08-01","2018-09-01","2018-10-01","2018-11-01","2018-12-01",null,"2019-01-01","2019-02-01","2019-03-01","2019-04-01","2019-05-01","2019-06-01","2019-07-01","2019-08-01","2019-09-01","2019-10-01","2019-11-01","2019-12-01",null,"2020-01-01","2020-02-01","2020-03-01","2020-04-01","2020-05-01","2020-06-01","2020-07-01","2020-08-01","2020-09-01","2020-10-01","2020-11-01","2020-12-01",null,"2021-01-01","2021-02-01","2021-03-01","2021-04-01","2021-05-01","2021-06-01","2021-07-01","2021-08-01","2021-09-01","2021-10-01","2021-11-01","2021-12-01",null,"2022-01-01","2022-02-01","2022-03-01","2022-04-01","2022-05-01","2022-06-01","2022-07-01","2022-08-01","2022-09-01","2022-10-01","2022-11-01","2022-12-01"]
[]
[null,"Transporte Ferro (TU Mil)",null,0,0,0,0,0,0,0,0,0,0,0,0,null,0,0,0,0,0,0,0,0,0,0,0,0,null,0,0,0,0,0,0,0,0,0,0,0,0,null,0,0,0,0,0,0,0,0,0,0,0,0,null,0,0,0,0,0,0,0,0,0,0,0,0,null,0,79.855999999999995,253.863,445.54300000000001,{"$f":"BU32","v":339.08199999999999},{"$f":"BV32","v":414.66900000000004},{"$f":"BW32","v":375.20699999999999},{"$f":"BX32","v":443.08100000000002},{"$f":"BY32","v":275.25299999999999},{"$f":"BZ32","v":260.39699999999999},{"$f":"CA32","v":215.37700000000001},{"$f":"CB32","v":355.565},null,{"$f":"SUM(CD32,CD42,CD41)","v":261.2},714.63699999999994,796.36099999999999,{"$f":"SUM(CG32,CG42,CG41)","v":626.84900000000005},671.80200000000002,0,0,0,0,0,0,0]
[null,"Produtos Agrícolas",null,0,0,0,0,0,0,0,0,0,0,0,0,null,0,0,0,0,0,0,0,0,0,0,0,0,null,0,0,0,0,0,0,0,0,0,0,0,0,null,0,0,0,0,0,0,0,0,0,0,0,0,null,0,0,0,0,0,0,0,0,0,0,0,0,null,0,79.855999999999995,253.863,445.54300000000001,{"$f":"BU33","v":339.08199999999999},{"$f":"SUM(BV33:BV35)","v":414.66900000000004},{"$f":"SUM(BW33:BW35)","v":375.20699999999999},{"$f":"SUM(BX33:BX35)","v":443.08100000000002},{"$f":"SUM(BY33:BY35)","v":275.25299999999999},{"$f":"SUM(BZ33:BZ35)","v":260.39699999999999},{"$f":"SUM(CA33:CA35)","v":215.37700000000001},{"$f":"SUM(CB33:CB35)","v":355.565},null,{"$f":"SUM(CD33:CD40)","v":261.2},714.63699999999994,796.36099999999999,{"$f":"SUM(CG33:CG40)","v":626.84900000000005},671.80200000000002,0,0,0,0,0,0,0]
[null,"Soja",null,0,0,0,0,0,0,0,0,0,0,0,0,null,0,0,0,0,0,0,0,0,0,0,0,0,null,0,0,0,0,0,0,0,0,0,0,0,0,null,0,0,0,0,0,0,0,0,0,0,0,0,null,0,0,0,0,0,0,0,0,0,0,0,0,null,0,79.855999999999995,253.863,445.54300000000001,{"$f":"339082/10^3","v":339.08199999999999},{"$f":"372694/10^3","v":372.69400000000002},58.710999999999999,36.665999999999997,20.378,68.893000000000001,89.055000000000007,76.241,null,115.68899999999999,677.47699999999998,735.56,544.05600000000004,552.44600000000003,0,0,0,0,0,0,0]
[null,"Farelo de Soja",null,0,0,0,0,0,0,0,0,0,0,0,0,null,0,0,0,0,0,0,0,0,0,0,0,0,null,0,0,0,0,0,0,0,0,0,0,0,0,null,0,0,0,0,0,0,0,0,0,0,0,0,null,0,0,0,0,0,0,0,0,0,0,0,0,null,0,0,0,0,0,0,42.258000000000003,79.596000000000004,50.484999999999999,50.171999999999997,77.042000000000002,62.621000000000002,null,7.1719999999999997,33.274000000000001,60.801000000000002,82.793000000000006,81.438000000000002,0,0,0,0,0,0,0]
[null,"Milho",null,0,0,0,0,0,0,0,0,0,0,0,0,null,0,0,0,0,0,0,0,0,0,0,0,0,null,0,0,0,0,0,0,0,0,0,0,0,0,null,0,0,0,0,0,0,0,0,0,0,0,0,null,0,0,0,0,0,0,0,0,0,0,0,0,null,0,0,0,0,0,{"$f":"41975/10^3","v":41.975000000000001},274.238,326.81900000000002,204.39,141.33199999999999,49.28,216.703,1000,138.339,3.8860000000000001,0,0,0,0,0,0,0,0,0,0]
[null,"Açúcar",null,0,0,0,0,0,0,0,0,0,0,0,0,null,0,0,0,0,0,0,0,0,0,0,0,0,null,0,0,0,0,0,0,0,0,0,0,0,0,null,0,0,0,0,0,0,0,0,0,0,0,0,null,0,0,0,0,0,0,0,0,0,0,0,0,null,0,0,0,0,0,0,0,0,0,0,0,0,null,0,0,0,0,0,0,0,0,0,0,0,0]
[null,"Fertilizantes",null,0,0,0,0,0,0,0,0,0,0,0,0,null,0,0,0,0,0,0,0,0,0,0,0,0,null,0,0,0,0,0,0,0,0,0,0,0,0,null,0,0,0,0,0,0,0,0,0,0,0,0,null,0,0,0,0,0,0,0,0,0,0,0,0,null,0,0,0,0,0,0,0,0,0,0,0,0,null,0,0,0,0,37.917999999999999,0,0,0,0,0,0,0]
[null,"Trigo",null,0,0,0,0,0,0,0,0,0,0,0,0,null,0,0,0,0,0,0,0,0,0,0,0,0,null,0,0,0,0,0,0,0,0,0,0,0,0,null,0,0,0,0,0,0,0,0,0,0,0,0,null,0,0,0,0,0,0,0,0,0,0,0,0,null,0,0,0,0,0,0,0,0,0,0,0,0,null,0,0,0,0,0,0,0,0,0,0,0,0]
[null,"Malte",null,0,0,0,0,0,0,0,0,0,0,0,0,null,0,0,0,0,0,0,0,0,0,0,0,0,null,0,0,0,0,0,0,0,0,0,0,0,0,null,0,0,0,0,0,0,0,0,0,0,0,0,null,0,0,0,0,0,0,0,0,0,0,0,0,null,0,0,0,0,0,0,0,0,0,0,0,0,null,0,0,0,0,0,0,0,0,0,0,0,0]
[null,"Farelo de Milho",null,0,0,0,0,0,0,0,0,0,0,0,0,null,0,0,0,0,0,0,0,0,0,0,0,0,null,0,0,0,0,0,0,0,0,0,0,0,0,null,0,0,0,0,0,0,0,0,0,0,0,0,null,0,0,0,0,0,0,0,0,0,0,0,0,null,0,0,0,0,0,0,0,0,0,0,0,0,null,0,0,0,0,0,0,0,0,0,0,0,0]
[null,"Contêiner",null,0,0,0,0,0,0,0,0,0,0,0,0,null,0,0,0,0,0,0,0,0,0,0,0,0,null,0,0,0,0,0,0,0,0,0,0,0,0,null,0,0,0,0,0,0,0,0,0,0,0,0,null,0,0,0,0,0,0,0,0,0,0,0,0,null,0,0,0,0,0,0,0,0,0,0,0,0,null,0,0,0,0,0,0,0,0,0,0,0,0]
[null,"Produtos Industriais",null,0,0,0,0,0,0,0,0,0,0,0,0,null,0,0,0,0,0,0,0,0,0,0,0,0,null,0,0,0,0,0,0,0,0,0,0,0,0,null,0,0,0,0,0,0,0,0,0,0,0,0,null,0,0,0,0,0,0,0,0,0,0,0,0,null,0,0,0,0,0,0,0,0,0,0,0,0,null,0,0,0,0,0,0,0,0,0,0,0,0]
[null,"Combustível",null,0,0,0,0,0,0,0,0,0,0,0,0,null,0,0,0,0,0,0,0,0,0,0,0,0,null,0,0,0,0,0,0,0,0,0,0,0,0,null,0,0,0,0,0,0,0,0,0,0,0,0,null,0,0,0,0,0,0,0,0,0,0,0,0,null,0,0,0,0,0,0,0,0,0,0,0,0,null,0,0,0,0,0,0,0,0,0,0,0,0]
[null,"Madeira, Papel e Celulose",null,0,0,0,0,0,0,0,0,0,0,0,0,null,0,0,0,0,0,0,0,0,0,0,0,0,null,0,0,0,0,0,0,0,0,0,0,0,0,null,0,0,0,0,0,0,0,0,0,0,0,0,null,0,0,0,0,0,0,0,0,0,0,0,0,null,0,0,0,0,0,0,0,0,0,0,0,0,null,0,0,0,0,0,0,0,0,0,0,0,0]
[null,"Construção Civil",null,0,0,0,0,0,0,0,0,0,0,0,0,null,0,0,0,0,0,0,0,0,0,0,0,0,null,0,0,0,0,0,0,0,0,0,0,0,0,null,0,0,0,0,0,0,0,0,0,0,0,0,null,0,0,0,0,0,0,0,0,0,0,0,0,null,0,0,0,0,0,0,0,0,0,0,0,0,null,0,0,0,0,0,0,0,0,0,0,0,0]
[null,"Siderúrgicos e Mineração",null,0,0,0,0,0,0,0,0,0,0,0,0,null,0,0,0,0,0,0,0,0,0,0,0,0,null,0,0,0,0,0,0,0,0,0,0,0,0,null,0,0,0,0,0,0,0,0,0,0,0,0,null,0,0,0,0,0,0,0,0,0,0,0,0,null,0,0,0,0,0,0,0,0,0,0,0,0,null,0,0,0,0,0,0,0,0,0,0,0,0]

{"sheet":"Volume TU Sul","index":14,"n_rows":21,"n_cols":93,"rows_kept":21,"cut":false,"hidden":false,"merged":[[3,27,4,27],[3,29,4,29],[3,26,4,26],[3,1,4,1],[3,16,4,16],[3,17,4,17],[3,18,4,18],[3,19,4,19],[3,20,4,20],[3,21,4,21],[3,22,4,22],[3,23,4,23],[3,24,4,24],[3,25,4,25],[3,3,4,3],[3,4,4,4],[3,43,4,43],[3,44,4,44],[3,45,4,45],[3,42,4,42],[3,40,4,40],[3,39,4,39],[3,30,4,30],[3,31,4,31],[3,32,4,32],[3,38,4,38],[3,36,4,36],[3,34,4,34],[3,35,4,35],[3,33,4,33],[3,37,4,37],[3,51,4,51],[3,52,4,52],[3,53,4,53],[3,46,4,46],[3,47,4,47],[3,48,4,48],[3,49,4,49],[3,50,4,50],[3,5,4,5],[3,6,4,6],[3,7,4,7],[3,8,4,8],[3,9,4,9],[3,10,4,10],[3,11,4,11],[3,12,4,12],[3,13,4,13],[3,14,4,14],[3,55,4,55],[3,56,4,56],[3,57,4,57],[3,58,4,58],[3,59,4,59],[3,65,4,65],[3,66,4,66],[3,60,4,60],[3,61,4,61],[3,62,4,62],[3,63,4,63],[3,64,4,64],[3,68,4,68],[3,69,4,69],[3,70,4,70],[3,71,4,71],[3,72,4,72],[3,78,4,78],[3,79,4,79],[3,73,4,73],[3,74,4,74],[3,75,4,75],[3,76,4,76],[3,77,4,77],[3,81,4,81],[3,82,4,82],[3,83,4,83],[3,84,4,84],[3,85,4,85],[3,91,4,91],[3,92,4,92],[3,86,4,86],[3,87,4,87],[3,88,4,88],[3,89,4,89],[3,90,4,90]]}
[]
[null,"Volume TU RI | Sul"]
[]
[null,null,null,"2016-01-01","2016-02-01","2016-03-01","2016-04-01","2016-05-01","2016-06-01","2016-07-01","2016-08-01","2016-09-01","2016-10-01","2016-11-01","2016-12-01",null,"2017-01-01","2017-02-01","2017-03-01","2017-04-01","2017-05-01","2017-06-01","2017-07-01","2017-08-01","2017-09-01","2017-10-01","2017-11-01","2017-12-01",null,"2018-01-01","2018-02-01","2018-03-01","2018-04-01","2018-05-01","2018-06-01","2018-07-01","2018-08-01","2018-09-01","2018-10-01","2018-11-01","2018-12-01",null,"2019-01-01","2019-02-01","2019-03-01","2019-04-01","2019-05-01","2019-06-01","2019-07-01","2019-08-01","2019-09-01","2019-10-01","2019-11-01","2019-12-01",null,"2020-01-01","2020-02-01","2020-03-01","2020-04-01","2020-05-01","2020-06-01","2020-07-01","2020-08-01","2020-09-01","2020-10-01","2020-11-01","2020-12-01",null,"2021-01-01","2021-02-01","2021-03-01","2021-04-01","2021-05-01","2021-06-01","2021-07-01","2021-08-01","2021-09-01","2021-10-01","2021-11-01","2021-12-01",null,"2022-01-01","2022-02-01","2022-03-01","2022-04-01","2022-05-01","2022-06-01","2022-07-01","2022-08-01","2022-09-01","2022-10-01","2022-11-01","2022-12-01"]
[]
[null,"Transporte Ferro (TU Mil)",null,{"$f":"SUM(D7,D17,D16)","v":1396.6950000000002},{"$f":"SUM(E7,E17,E16)","v":1518.5250000000001},1862.9189999999999,1880.5070000000001,1994.539,2012.2830000000001,2125.2169999999996,2218.087,1986.59,1755.1960000000001,1596.414,1551.373,null,1367.73,1613.0170000000001,1993.2880000000002,2016.154,2254.7009999999996,2214.7269999999999,2493.3509999999997,2546.8739999999998,2523.183,2360.181,2123.2069999999999,1972.7280000000001,0,1731.1879999999999,1812.5710000000001,2206.9829999999997,2256.5,2311.7060000000001,2409.0190000000002,2487.9270000000001,2590.4070000000002,2420.5130000000004,2447.8839999999996,2242.3200000000002,2062.7019999999998,null,1720.4050000000002,1932.3700000000001,2146.7199999999998,1996.0029999999999,2040.25,2290.5140000000001,2609.596,2617.2549999999997,2397.3070000000002,2495.7339999999999,2349.66,1617.2749999999999,null,1361.1690000000001,1661.2110000000002,1766.8020000000004,2136.4369999999999,2418.4249999999997,2210.3489999999997,2415.4549999999999,2483.855,2402.2419999999997,2122.7190000000001,2001.183,1605.6879999999999,null,{"$f":"SUM(BQ7,BQ17,BQ16)","v":1158.1500000000001},1336.796,2332.8200000000002,2398.4270000000001,2572.4329999999995,2347.6889999999999,2413.7840000000001,2107.337,2093.9960000000001,1993.163,1831.1930000000002,1831.2990000000002,null,{"$f":"SUM(CD7,CD17,CD16)","v":1522.4389999999999},1620.431,2063.3389999999999,1620.624,1746.0819999999999,0,0,0,0,0,0,0]
[null,"Produtos Agrícolas",null,{"$f":"SUM(D8:D14)","v":757},868.43799999999999,1126.4109999999998,1156.356,1208.146,1180.4040000000002,1226.9789999999998,1296.279,1148.895,923.74200000000008,812.01099999999997,836.89800000000014,null,{"$f":"SUM(Q8:Q14)","v":579.16300000000001},892.85599999999999,1201.4860000000003,1240.5029999999999,1368.6189999999999,1344.364,1550.675,1590.972,1594.451,1409.547,1281.5569999999998,1115.5170000000001,0,903,983.21999999999991,1371.377,1423.07,1470.7560000000001,1515.0350000000001,1574.434,1633.4490000000001,1498.6010000000001,1491.9179999999999,1344.212,1174.222,null,942.17900000000009,1225.6020000000001,1363.405,1153.473,1174.249,1373.2520000000002,1642.4180000000001,1603.9669999999999,1440.991,1543.8969999999999,1488.6780000000001,936.92799999999988,null,623.51900000000001,904.83699999999999,1191.5660000000003,1392.9670000000001,1684.538,1476.981,1561.3599999999997,1603.2349999999999,1525.4859999999999,1454.346,1393.4639999999999,1012.9399999999999,null,{"$f":"SUM(BQ8:BQ14)","v":472.62099999999998},565.36699999999996,1492.296,1545.8530000000001,1668.0869999999998,1532.6570000000002,1576.5280000000002,1262.1689999999999,1378.5369999999998,1263.4640000000002,1143.9390000000001,1164.5220000000002,null,{"$f":"SUM(CD8:CD14)","v":840.06900000000007},1007.4759999999999,1286.42,861.30400000000009,878.98599999999999,0,0,0,0,0,0,0]
[null,"Soja",null,{"$f":"SUMIFS('Base TU'!E:E,'Base TU'!$A:$A,$B8,'Base TU'!$B:$B,\"SUL\")/1000","v":69.731999999999999},{"$f":"SUMIFS('Base TU'!F:F,'Base TU'!$A:$A,$B8,'Base TU'!$B:$B,\"SUL\")/1000","v":646.77599999999995},{"$f":"SUMIFS('Base TU'!G:G,'Base TU'!$A:$A,$B8,'Base TU'!$B:$B,\"SUL\")/1000","v":895.51900000000001},{"$f":"SUMIFS('Base TU'!H:H,'Base TU'!$A:$A,$B8,'Base TU'!$B:$B,\"SUL\")/1000","v":839.27200000000005},{"$f":"SUMIFS('Base TU'!I:I,'Base TU'!$A:$A,$B8,'Base TU'!$B:$B,\"SUL\")/1000","v":738.94299999999998},{"$f":"SUMIFS('Base TU'!J:J,'Base TU'!$A:$A,$B8,'Base TU'!$B:$B,\"SUL\")/1000","v":622.24800000000005},{"$f":"SUMIFS('Base TU'!K:K,'Base TU'!$A:$A,$B8,'Base TU'!$B:$B,\"SUL\")/1000","v":444.28399999999999},{"$f":"SUMIFS('Base TU'!L:L,'Base TU'!$A:$A,$B8,'Base TU'!$B:$B,\"SUL\")/1000","v":259.01400000000001},{"$f":"SUMIFS('Base TU'!M:M,'Base TU'!$A:$A,$B8,'Base TU'!$B:$B,\"SUL\")/1000","v":178.351},{"$f":"SUMIFS('Base TU'!N:N,'Base TU'!$A:$A,$B8,'Base TU'!$B:$B,\"SUL\")/1000","v":131.99100000000001},{"$f":"SUMIFS('Base TU'!O:O,'Base TU'!$A:$A,$B8,'Base TU'!$B:$B,\"SUL\")/1000","v":90.745000000000005},{"$f":"SUMIFS('Base TU'!P:P,'Base TU'!$A:$A,$B8,'Base TU'!$B:$B,\"SUL\")/1000","v":79.602999999999994},null,{"$f":"SUMIFS('Base TU'!R:R,'Base TU'!$A:$A,$B8,'Base TU'!$B:$B,\"SUL\")/1000","v":162.96899999999999},{"$f":"SUMIFS('Base TU'!S:S,'Base TU'!$A:$A,$B8,'Base TU'!$B:$B,\"SUL\")/1000","v":586.97400000000005},{"$f":"SUMIFS('Base TU'!T:T,'Base TU'!$A:$A,$B8,'Base TU'!$B:$B,\"SUL\")/1000","v":952.32799999999997},{"$f":"SUMIFS('Base TU'!U:U,'Base TU'!$A:$A,$B8,'Base TU'!$B:$B,\"SUL\")/1000","v":834.745},{"$f":"SUMIFS('Base TU'!V:V,'Base TU'!$A:$A,$B8,'Base TU'!$B:$B,\"SUL\")/1000","v":786.56799999999998},{"$f":"SUMIFS('Base TU'!W:W,'Base TU'!$A:$A,$B8,'Base TU'!$B:$B,\"SUL\")/1000","v":784.94799999999998},{"$f":"SUMIFS('Base TU'!X:X,'Base TU'!$A:$A,$B8,'Base TU'!$B:$B,\"SUL\")/1000","v":668.79300000000001},{"$f":"SUMIFS('Base TU'!Y:Y,'Base TU'!$A:$A,$B8,'Base TU'!$B:$B,\"SUL\")/1000","v":458.416},{"$f":"SUMIFS('Base TU'!Z:Z,'Base TU'!$A:$A,$B8,'Base TU'!$B:$B,\"SUL\")/1000","v":248.45099999999999},{"$f":"SUMIFS('Base TU'!AA:AA,'Base TU'!$A:$A,$B8,'Base TU'!$B:$B,\"SUL\")/1000","v":307.33100000000002},{"$f":"SUMIFS('Base TU'!AB:AB,'Base TU'!$A:$A,$B8,'Base TU'!$B:$B,\"SUL\")/1000","v":519.91099999999994},{"$f":"SUMIFS('Base TU'!AC:AC,'Base TU'!$A:$A,$B8,'Base TU'!$B:$B,\"SUL\")/1000","v":544.00300000000004},null,{"$f":"SUMIFS('Base TU'!AE:AE,'Base TU'!$A:$A,$B8,'Base TU'!$B:$B,\"SUL\")/1000","v":365.697},{"$f":"SUMIFS('Base TU'!AF:AF,'Base TU'!$A:$A,$B8,'Base TU'!$B:$B,\"SUL\")/1000","v":704.17399999999998},{"$f":"SUMIFS('Base TU'!AG:AG,'Base TU'!$A:$A,$B8,'Base TU'!$B:$B,\"SUL\")/1000","v":1166.6669999999999},{"$f":"SUMIFS('Base TU'!AH:AH,'Base TU'!$A:$A,$B8,'Base TU'!$B:$B,\"SUL\")/1000","v":1111.5029999999999},{"$f":"SUMIFS('Base TU'!AI:AI,'Base TU'!$A:$A,$B8,'Base TU'!$B:$B,\"SUL\")/1000","v":997.01199999999994},{"$f":"SUMIFS('Base TU'!AJ:AJ,'Base TU'!$A:$A,$B8,'Base TU'!$B:$B,\"SUL\")/1000","v":988.33600000000001},{"$f":"SUMIFS('Base TU'!AK:AK,'Base TU'!$A:$A,$B8,'Base TU'!$B:$B,\"SUL\")/1000","v":1032.713},{"$f":"SUMIFS('Base TU'!AL:AL,'Base TU'!$A:$A,$B8,'Base TU'!$B:$B,\"SUL\")/1000","v":972.81700000000001},{"$f":"SUMIFS('Base TU'!AM:AM,'Base TU'!$A:$A,$B8,'Base TU'!$B:$B,\"SUL\")/1000","v":838.91499999999996},{"$f":"SUMIFS('Base TU'!AN:AN,'Base TU'!$A:$A,$B8,'Base TU'!$B:$B,\"SUL\")/1000","v":993.90300000000002},{"$f":"SUMIFS('Base TU'!AO:AO,'Base TU'!$A:$A,$B8,'Base TU'!$B:$B,\"SUL\")/1000","v":747.48299999999995},{"$f":"SUMIFS('Base TU'!AP:AP,'Base TU'!$A:$A,$B8,'Base TU'!$B:$B,\"SUL\")/1000","v":375.79399999999998},null,{"$f":"SUMIFS('Base TU'!AR:AR,'Base TU'!$A:$A,$B8,'Base TU'!$B:$B,\"SUL\")/1000","v":474.19600000000003},{"$f":"SUMIFS('Base TU'!AS:AS,'Base TU'!$A:$A,$B8,'Base TU'!$B:$B,\"SUL\")/1000","v":897.02200000000005},{"$f":"SUMIFS('Base TU'!AT:AT,'Base TU'!$A:$A,$B8,'Base TU'!$B:$B,\"SUL\")/1000","v":1131.4280000000001},{"$f":"SUMIFS('Base TU'!AU:AU,'Base TU'!$A:$A,$B8,'Base TU'!$B:$B,\"SUL\")/1000","v":779.00300000000004},{"$f":"SUMIFS('Base TU'!AV:AV,'Base TU'!$A:$A,$B8,'Base TU'!$B:$B,\"SUL\")/1000","v":680.23599999999999},{"$f":"SUMIFS('Base TU'!AW:AW,'Base TU'!$A:$A,$B8,'Base TU'!$B:$B,\"SUL\")/1000","v":605.44100000000003},{"$f":"SUMIFS('Base TU'!AX:AX,'Base TU'!$A:$A,$B8,'Base TU'!$B:$B,\"SUL\")/1000","v":485.56900000000002},{"$f":"SUMIFS('Base TU'!AY:AY,'Base TU'!$A:$A,$B8,'Base TU'!$B:$B,\"SUL\")/1000","v":456.19499999999999},{"$f":"SUMIFS('Base TU'!AZ:AZ,'Base TU'!$A:$A,$B8,'Base TU'!$B:$B,\"SUL\")/1000","v":450.524},{"$f":"SUMIFS('Base TU'!BA:BA,'Base TU'!$A:$A,$B8,'Base TU'!$B:$B,\"SUL\")/1000","v":720.33100000000002},{"$f":"SUMIFS('Base TU'!BB:BB,'Base TU'!$A:$A,$B8,'Base TU'!$B:$B,\"SUL\")/1000","v":577.98599999999999},{"$f":"SUMIFS('Base TU'!BC:BC,'Base TU'!$A:$A,$B8,'Base TU'!$B:$B,\"SUL\")/1000","v":328.66199999999998},null,{"$f":"SUMIFS('Base TU'!BE:BE,'Base TU'!$A:$A,$B8,'Base TU'!$B:$B,\"SUL\")/1000","v":165.15100000000001},{"$f":"SUMIFS('Base TU'!BF:BF,'Base TU'!$A:$A,$B8,'Base TU'!$B:$B,\"SUL\")/1000","v":570.79},{"$f":"SUMIFS('Base TU'!BG:BG,'Base TU'!$A:$A,$B8,'Base TU'!$B:$B,\"SUL\")/1000","v":907.65499999999997},{"$f":"SUMIFS('Base TU'!BH:BH,'Base TU'!$A:$A,$B8,'Base TU'!$B:$B,\"SUL\")/1000","v":1040.0070000000001},{"$f":"SUMIFS('Base TU'!BI:BI,'Base TU'!$A:$A,$B8,'Base TU'!$B:$B,\"SUL\")/1000","v":1084.384},{"$f":"SUMIFS('Base TU'!BJ:BJ,'Base TU'!$A:$A,$B8,'Base TU'!$B:$B,\"SUL\")/1000","v":955.51099999999997},{"$f":"SUMIFS('Base TU'!BK:BK,'Base TU'!$A:$A,$B8,'Base TU'!$B:$B,\"SUL\")/1000","v":928.53499999999997},{"$f":"SUMIFS('Base TU'!BL:BL,'Base TU'!$A:$A,$B8,'Base TU'!$B:$B,\"SUL\")/1000","v":654},{"$f":"SUMIFS('Base TU'!BM:BM,'Base TU'!$A:$A,$B8,'Base TU'!$B:$B,\"SUL\")/1000","v":349.77199999999999},{"$f":"SUMIFS('Base TU'!BN:BN,'Base TU'!$A:$A,$B8,'Base TU'!$B:$B,\"SUL\")/1000","v":201.99799999999999},{"$f":"SUMIFS('Base TU'!BO:BO,'Base TU'!$A:$A,$B8,'Base TU'!$B:$B,\"SUL\")/1000","v":62.343000000000004},{"$f":"SUMIFS('Base TU'!BP:BP,'Base TU'!$A:$A,$B8,'Base TU'!$B:$B,\"SUL\")/1000","v":58.633000000000003},null,{"$f":"SUMIFS('Base TU'!BR:BR,'Base TU'!$A:$A,$B8,'Base TU'!$B:$B,\"SUL\")/1000","v":18.341999999999999},{"$f":"SUMIFS('Base TU'!BS:BS,'Base TU'!$A:$A,$B8,'Base TU'!$B:$B,\"SUL\")/1000","v":241.91499999999999},{"$f":"SUMIFS('Base TU'!BT:BT,'Base TU'!$A:$A,$B8,'Base TU'!$B:$B,\"SUL\")/1000","v":1186.9770000000001},{"$f":"SUMIFS('Base TU'!BU:BU,'Base TU'!$A:$A,$B8,'Base TU'!$B:$B,\"SUL\")/1000","v":1171.24},{"$f":"SUMIFS('Base TU'!BV:BV,'Base TU'!$A:$A,$B8,'Base TU'!$B:$B,\"SUL\")/1000","v":1035.136},{"$f":"SUMIFS('Base TU'!BW:BW,'Base TU'!$A:$A,$B8,'Base TU'!$B:$B,\"SUL\")/1000","v":722.96400000000006},{"$f":"SUMIFS('Base TU'!BX:BX,'Base TU'!$A:$A,$B8,'Base TU'!$B:$B,\"SUL\")/1000","v":971.86300000000006},{"$f":"SUMIFS('Base TU'!BY:BY,'Base TU'!$A:$A,$B8,'Base TU'!$B:$B,\"SUL\")/1000","v":596.11099999999999},{"$f":"SUMIFS('Base TU'!BZ:BZ,'Base TU'!$A:$A,$B8,'Base TU'!$B:$B,\"SUL\")/1000","v":564.048},{"$f":"SUMIFS('Base TU'!CA:CA,'Base TU'!$A:$A,$B8,'Base TU'!$B:$B,\"SUL\")/1000","v":523.91399999999999},{"$f":"SUMIFS('Base TU'!CB:CB,'Base TU'!$A:$A,$B8,'Base TU'!$B:$B,\"SUL\")/1000","v":432.76299999999998},{"$f":"SUMIFS('Base TU'!CC:CC,'Base TU'!$A:$A,$B8,'Base TU'!$B:$B,\"SUL\")/1000","v":442.87900000000002},null,{"$f":"SUMIFS('Base TU'!CE:CE,'Base TU'!$A:$A,$B8,'Base TU'!$B:$B,\"SUL\")/1000","v":289.93299999999999},{"$f":"SUMIFS('Base TU'!CF:CF,'Base TU'!$A:$A,$B8,'Base TU'!$B:$B,\"SUL\")/1000","v":588.52099999999996},{"$f":"SUMIFS('Base TU'!CG:CG,'Base TU'!$A:$A,$B8,'Base TU'!$B:$B,\"SUL\")/1000","v":872.58699999999999},{"$f":"SUMIFS('Base TU'!CH:CH,'Base TU'!$A:$A,$B8,'Base TU'!$B:$B,\"SUL\")/1000","v":375.733},{"$f":"SUMIFS('Base TU'!CI:CI,'Base TU'!$A:$A,$B8,'Base TU'!$B:$B,\"SUL\")/1000","v":220.09800000000001},{"$f":"SUMIFS('Base TU'!CJ:CJ,'Base TU'!$A:$A,$B8,'Base TU'!$B:$B,\"SUL\")/1000","v":0},{"$f":"SUMIFS('Base TU'!CK:CK,'Base TU'!$A:$A,$B8,'Base TU'!$B:$B,\"SUL\")/1000","v":0},{"$f":"SUMIFS('Base TU'!CL:CL,'Base TU'!$A:$A,$B8,'Base TU'!$B:$B,\"SUL\")/1000","v":0},{"$f":"SUMIFS('Base TU'!CM:CM,'Base TU'!$A:$A,$B8,'Base TU'!$B:$B,\"SUL\")/1000","v":0},{"$f":"SUMIFS('Base TU'!CN:CN,'Base TU'!$A:$A,$B8,'Base TU'!$B:$B,\"SUL\")/1000","v":0},{"$f":"SUMIFS('Base TU'!CO:CO,'Base TU'!$A:$A,$B8,'Base TU'!$B:$B,\"SUL\")/1000","v":0},{"$f":"SUMIFS('Base TU'!CP:CP,'Base TU'!$A:$A,$B8,'Base TU'!$B:$B,\"SUL\")/1000","v":0}]
[null,"Farelo de Soja",null,{"$f":"SUMIFS('Base TU'!E:E,'Base TU'!$A:$A,$B9,'Base TU'!$B:$B,\"SUL\")/1000","v":62.401000000000003},{"$f":"SUMIFS('Base TU'!F:F,'Base TU'!$A:$A,$B9,'Base TU'!$B:$B,\"SUL\")/1000","v":61.786999999999999},{"$f":"SUMIFS('Base TU'!G:G,'Base TU'!$A:$A,$B9,'Base TU'!$B:$B,\"SUL\")/1000","v":76.549000000000007},{"$f":"SUMIFS('Base TU'!H:H,'Base TU'!$A:$A,$B9,'Base TU'!$B:$B,\"SUL\")/1000","v":89.966999999999999},{"$f":"SUMIFS('Base TU'!I:I,'Base TU'!$A:$A,$B9,'Base TU'!$B:$B,\"SUL\")/1000","v":73.58},{"$f":"SUMIFS('Base TU'!J:J,'Base TU'!$A:$A,$B9,'Base TU'!$B:$B,\"SUL\")/1000","v":82.801000000000002},{"$f":"SUMIFS('Base TU'!K:K,'Base TU'!$A:$A,$B9,'Base TU'!$B:$B,\"SUL\")/1000","v":72.113},{"$f":"SUMIFS('Base TU'!L:L,'Base TU'!$A:$A,$B9,'Base TU'!$B:$B,\"SUL\")/1000","v":50.133000000000003},{"$f":"SUMIFS('Base TU'!M:M,'Base TU'!$A:$A,$B9,'Base TU'!$B:$B,\"SUL\")/1000","v":71.795000000000002},{"$f":"SUMIFS('Base TU'!N:N,'Base TU'!$A:$A,$B9,'Base TU'!$B:$B,\"SUL\")/1000","v":102.30800000000001},{"$f":"SUMIFS('Base TU'!O:O,'Base TU'!$A:$A,$B9,'Base TU'!$B:$B,\"SUL\")/1000","v":115.72499999999999},{"$f":"SUMIFS('Base TU'!P:P,'Base TU'!$A:$A,$B9,'Base TU'!$B:$B,\"SUL\")/1000","v":81.622},null,{"$f":"SUMIFS('Base TU'!R:R,'Base TU'!$A:$A,$B9,'Base TU'!$B:$B,\"SUL\")/1000","v":68.027000000000001},{"$f":"SUMIFS('Base TU'!S:S,'Base TU'!$A:$A,$B9,'Base TU'!$B:$B,\"SUL\")/1000","v":67.001000000000005},{"$f":"SUMIFS('Base TU'!T:T,'Base TU'!$A:$A,$B9,'Base TU'!$B:$B,\"SUL\")/1000","v":78.918000000000006},{"$f":"SUMIFS('Base TU'!U:U,'Base TU'!$A:$A,$B9,'Base TU'!$B:$B,\"SUL\")/1000","v":90.025000000000006},{"$f":"SUMIFS('Base TU'!V:V,'Base TU'!$A:$A,$B9,'Base TU'!$B:$B,\"SUL\")/1000","v":81.840999999999994},{"$f":"SUMIFS('Base TU'!W:W,'Base TU'!$A:$A,$B9,'Base TU'!$B:$B,\"SUL\")/1000","v":69.540999999999997},{"$f":"SUMIFS('Base TU'!X:X,'Base TU'!$A:$A,$B9,'Base TU'!$B:$B,\"SUL\")/1000","v":74.534000000000006},{"$f":"SUMIFS('Base TU'!Y:Y,'Base TU'!$A:$A,$B9,'Base TU'!$B:$B,\"SUL\")/1000","v":56.314},{"$f":"SUMIFS('Base TU'!Z:Z,'Base TU'!$A:$A,$B9,'Base TU'!$B:$B,\"SUL\")/1000","v":54.33},{"$f":"SUMIFS('Base TU'!AA:AA,'Base TU'!$A:$A,$B9,'Base TU'!$B:$B,\"SUL\")/1000","v":65.063000000000002},{"$f":"SUMIFS('Base TU'!AB:AB,'Base TU'!$A:$A,$B9,'Base TU'!$B:$B,\"SUL\")/1000","v":77.427000000000007},{"$f":"SUMIFS('Base TU'!AC:AC,'Base TU'!$A:$A,$B9,'Base TU'!$B:$B,\"SUL\")/1000","v":77.668000000000006},null,{"$f":"SUMIFS('Base TU'!AE:AE,'Base TU'!$A:$A,$B9,'Base TU'!$B:$B,\"SUL\")/1000","v":94.980999999999995},{"$f":"SUMIFS('Base TU'!AF:AF,'Base TU'!$A:$A,$B9,'Base TU'!$B:$B,\"SUL\")/1000","v":74.006},{"$f":"SUMIFS('Base TU'!AG:AG,'Base TU'!$A:$A,$B9,'Base TU'!$B:$B,\"SUL\")/1000","v":85.495999999999995},{"$f":"SUMIFS('Base TU'!AH:AH,'Base TU'!$A:$A,$B9,'Base TU'!$B:$B,\"SUL\")/1000","v":99.558999999999997},{"$f":"SUMIFS('Base TU'!AI:AI,'Base TU'!$A:$A,$B9,'Base TU'!$B:$B,\"SUL\")/1000","v":108.13200000000001},{"$f":"SUMIFS('Base TU'!AJ:AJ,'Base TU'!$A:$A,$B9,'Base TU'!$B:$B,\"SUL\")/1000","v":102.307},{"$f":"SUMIFS('Base TU'!AK:AK,'Base TU'!$A:$A,$B9,'Base TU'!$B:$B,\"SUL\")/1000","v":112.255},{"$f":"SUMIFS('Base TU'!AL:AL,'Base TU'!$A:$A,$B9,'Base TU'!$B:$B,\"SUL\")/1000","v":101.806},{"$f":"SUMIFS('Base TU'!AM:AM,'Base TU'!$A:$A,$B9,'Base TU'!$B:$B,\"SUL\")/1000","v":96.343999999999994},{"$f":"SUMIFS('Base TU'!AN:AN,'Base TU'!$A:$A,$B9,'Base TU'!$B:$B,\"SUL\")/1000","v":65.421000000000006},{"$f":"SUMIFS('Base TU'!AO:AO,'Base TU'!$A:$A,$B9,'Base TU'!$B:$B,\"SUL\")/1000","v":104.86799999999999},{"$f":"SUMIFS('Base TU'!AP:AP,'Base TU'!$A:$A,$B9,'Base TU'!$B:$B,\"SUL\")/1000","v":116.41200000000001},null,{"$f":"SUMIFS('Base TU'!AR:AR,'Base TU'!$A:$A,$B9,'Base TU'!$B:$B,\"SUL\")/1000","v":92.34},{"$f":"SUMIFS('Base TU'!AS:AS,'Base TU'!$A:$A,$B9,'Base TU'!$B:$B,\"SUL\")/1000","v":104.965},{"$f":"SUMIFS('Base TU'!AT:AT,'Base TU'!$A:$A,$B9,'Base TU'!$B:$B,\"SUL\")/1000","v":122.08},{"$f":"SUMIFS('Base TU'!AU:AU,'Base TU'!$A:$A,$B9,'Base TU'!$B:$B,\"SUL\")/1000","v":126.53},{"$f":"SUMIFS('Base TU'!AV:AV,'Base TU'!$A:$A,$B9,'Base TU'!$B:$B,\"SUL\")/1000","v":115.428},{"$f":"SUMIFS('Base TU'!AW:AW,'Base TU'!$A:$A,$B9,'Base TU'!$B:$B,\"SUL\")/1000","v":167.86099999999999},{"$f":"SUMIFS('Base TU'!AX:AX,'Base TU'!$A:$A,$B9,'Base TU'!$B:$B,\"SUL\")/1000","v":152.62799999999999},{"$f":"SUMIFS('Base TU'!AY:AY,'Base TU'!$A:$A,$B9,'Base TU'!$B:$B,\"SUL\")/1000","v":89.268000000000001},{"$f":"SUMIFS('Base TU'!AZ:AZ,'Base TU'!$A:$A,$B9,'Base TU'!$B:$B,\"SUL\")/1000","v":131.42400000000001},{"$f":"SUMIFS('Base TU'!BA:BA,'Base TU'!$A:$A,$B9,'Base TU'!$B:$B,\"SUL\")/1000","v":136.44499999999999},{"$f":"SUMIFS('Base TU'!BB:BB,'Base TU'!$A:$A,$B9,'Base TU'!$B:$B,\"SUL\")/1000","v":126.27500000000001},{"$f":"SUMIFS('Base TU'!BC:BC,'Base TU'!$A:$A,$B9,'Base TU'!$B:$B,\"SUL\")/1000","v":118.78400000000001},null,{"$f":"SUMIFS('Base TU'!BE:BE,'Base TU'!$A:$A,$B9,'Base TU'!$B:$B,\"SUL\")/1000","v":103.60299999999999},{"$f":"SUMIFS('Base TU'!BF:BF,'Base TU'!$A:$A,$B9,'Base TU'!$B:$B,\"SUL\")/1000","v":96.617000000000004},{"$f":"SUMIFS('Base TU'!BG:BG,'Base TU'!$A:$A,$B9,'Base TU'!$B:$B,\"SUL\")/1000","v":140.01599999999999},{"$f":"SUMIFS('Base TU'!BH:BH,'Base TU'!$A:$A,$B9,'Base TU'!$B:$B,\"SUL\")/1000","v":97.504999999999995},{"$f":"SUMIFS('Base TU'!BI:BI,'Base TU'!$A:$A,$B9,'Base TU'!$B:$B,\"SUL\")/1000","v":150.42599999999999},{"$f":"SUMIFS('Base TU'!BJ:BJ,'Base TU'!$A:$A,$B9,'Base TU'!$B:$B,\"SUL\")/1000","v":125.005},{"$f":"SUMIFS('Base TU'!BK:BK,'Base TU'!$A:$A,$B9,'Base TU'!$B:$B,\"SUL\")/1000","v":154.096},{"$f":"SUMIFS('Base TU'!BL:BL,'Base TU'!$A:$A,$B9,'Base TU'!$B:$B,\"SUL\")/1000","v":132.00800000000001},{"$f":"SUMIFS('Base TU'!BM:BM,'Base TU'!$A:$A,$B9,'Base TU'!$B:$B,\"SUL\")/1000","v":150.44999999999999},{"$f":"SUMIFS('Base TU'!BN:BN,'Base TU'!$A:$A,$B9,'Base TU'!$B:$B,\"SUL\")/1000","v":138.52500000000001},{"$f":"SUMIFS('Base TU'!BO:BO,'Base TU'!$A:$A,$B9,'Base TU'!$B:$B,\"SUL\")/1000","v":96.316000000000003},{"$f":"SUMIFS('Base TU'!BP:BP,'Base TU'!$A:$A,$B9,'Base TU'!$B:$B,\"SUL\")/1000","v":84.572999999999993},null,{"$f":"SUMIFS('Base TU'!BR:BR,'Base TU'!$A:$A,$B9,'Base TU'!$B:$B,\"SUL\")/1000","v":70.548000000000002},{"$f":"SUMIFS('Base TU'!BS:BS,'Base TU'!$A:$A,$B9,'Base TU'!$B:$B,\"SUL\")/1000","v":55.125},{"$f":"SUMIFS('Base TU'!BT:BT,'Base TU'!$A:$A,$B9,'Base TU'!$B:$B,\"SUL\")/1000","v":126.075},{"$f":"SUMIFS('Base TU'!BU:BU,'Base TU'!$A:$A,$B9,'Base TU'!$B:$B,\"SUL\")/1000","v":152.464},{"$f":"SUMIFS('Base TU'!BV:BV,'Base TU'!$A:$A,$B9,'Base TU'!$B:$B,\"SUL\")/1000","v":155.45599999999999},{"$f":"SUMIFS('Base TU'!BW:BW,'Base TU'!$A:$A,$B9,'Base TU'!$B:$B,\"SUL\")/1000","v":160.86099999999999},{"$f":"SUMIFS('Base TU'!BX:BX,'Base TU'!$A:$A,$B9,'Base TU'!$B:$B,\"SUL\")/1000","v":148.11199999999999},{"$f":"SUMIFS('Base TU'!BY:BY,'Base TU'!$A:$A,$B9,'Base TU'!$B:$B,\"SUL\")/1000","v":158.64099999999999},{"$f":"SUMIFS('Base TU'!BZ:BZ,'Base TU'!$A:$A,$B9,'Base TU'!$B:$B,\"SUL\")/1000","v":167.69800000000001},{"$f":"SUMIFS('Base TU'!CA:CA,'Base TU'!$A:$A,$B9,'Base TU'!$B:$B,\"SUL\")/1000","v":171.048},{"$f":"SUMIFS('Base TU'!CB:CB,'Base TU'!$A:$A,$B9,'Base TU'!$B:$B,\"SUL\")/1000","v":125.679},{"$f":"SUMIFS('Base TU'!CC:CC,'Base TU'!$A:$A,$B9,'Base TU'!$B:$B,\"SUL\")/1000","v":117.105},null,{"$f":"SUMIFS('Base TU'!CE:CE,'Base TU'!$A:$A,$B9,'Base TU'!$B:$B,\"SUL\")/1000","v":98.070999999999998},{"$f":"SUMIFS('Base TU'!CF:CF,'Base TU'!$A:$A,$B9,'Base TU'!$B:$B,\"SUL\")/1000","v":98.891000000000005},{"$f":"SUMIFS('Base TU'!CG:CG,'Base TU'!$A:$A,$B9,'Base TU'!$B:$B,\"SUL\")/1000","v":167.726},{"$f":"SUMIFS('Base TU'!CH:CH,'Base TU'!$A:$A,$B9,'Base TU'!$B:$B,\"SUL\")/1000","v":166.733},{"$f":"SUMIFS('Base TU'!CI:CI,'Base TU'!$A:$A,$B9,'Base TU'!$B:$B,\"SUL\")/1000","v":156.99700000000001},{"$f":"SUMIFS('Base TU'!CJ:CJ,'Base TU'!$A:$A,$B9,'Base TU'!$B:$B,\"SUL\")/1000","v":0},{"$f":"SUMIFS('Base TU'!CK:CK,'Base TU'!$A:$A,$B9,'Base TU'!$B:$B,\"SUL\")/1000","v":0},{"$f":"SUMIFS('Base TU'!CL:CL,'Base TU'!$A:$A,$B9,'Base TU'!$B:$B,\"SUL\")/1000","v":0},{"$f":"SUMIFS('Base TU'!CM:CM,'Base TU'!$A:$A,$B9,'Base TU'!$B:$B,\"SUL\")/1000","v":0},{"$f":"SUMIFS('Base TU'!CN:CN,'Base TU'!$A:$A,$B9,'Base TU'!$B:$B,\"SUL\")/1000","v":0},{"$f":"SUMIFS('Base TU'!CO:CO,'Base TU'!$A:$A,$B9,'Base TU'!$B:$B,\"SUL\")/1000","v":0},{"$f":"SUMIFS('Base TU'!CP:CP,'Base TU'!$A:$A,$B9,'Base TU'!$B:$B,\"SUL\")/1000","v":0}]
[null,"Milho",null,{"$f":"SUMIFS('Base TU'!E:E,'Base TU'!$A:$A,$B10,'Base TU'!$B:$B,\"SUL\")/1000","v":344.58300000000003},{"$f":"SUMIFS('Base TU'!F:F,'Base TU'!$A:$A,$B10,'Base TU'!$B:$B,\"SUL\")/1000","v":89.58},{"$f":"SUMIFS('Base TU'!G:G,'Base TU'!$A:$A,$B10,'Base TU'!$B:$B,\"SUL\")/1000","v":1.5509999999999999},{"$f":"SUMIFS('Base TU'!H:H,'Base TU'!$A:$A,$B10,'Base TU'!$B:$B,\"SUL\")/1000","v":0},{"$f":"SUMIFS('Base TU'!I:I,'Base TU'!$A:$A,$B10,'Base TU'!$B:$B,\"SUL\")/1000","v":0},{"$f":"SUMIFS('Base TU'!J:J,'Base TU'!$A:$A,$B10,'Base TU'!$B:$B,\"SUL\")/1000","v":0.40400000000000003},{"$f":"SUMIFS('Base TU'!K:K,'Base TU'!$A:$A,$B10,'Base TU'!$B:$B,\"SUL\")/1000","v":112.248},{"$f":"SUMIFS('Base TU'!L:L,'Base TU'!$A:$A,$B10,'Base TU'!$B:$B,\"SUL\")/1000","v":312.15899999999999},{"$f":"SUMIFS('Base TU'!M:M,'Base TU'!$A:$A,$B10,'Base TU'!$B:$B,\"SUL\")/1000","v":173.16900000000001},{"$f":"SUMIFS('Base TU'!N:N,'Base TU'!$A:$A,$B10,'Base TU'!$B:$B,\"SUL\")/1000","v":85.093000000000004},{"$f":"SUMIFS('Base TU'!O:O,'Base TU'!$A:$A,$B10,'Base TU'!$B:$B,\"SUL\")/1000","v":45.048000000000002},{"$f":"SUMIFS('Base TU'!P:P,'Base TU'!$A:$A,$B10,'Base TU'!$B:$B,\"SUL\")/1000","v":48.804000000000002},null,{"$f":"SUMIFS('Base TU'!R:R,'Base TU'!$A:$A,$B10,'Base TU'!$B:$B,\"SUL\")/1000","v":21.544},{"$f":"SUMIFS('Base TU'!S:S,'Base TU'!$A:$A,$B10,'Base TU'!$B:$B,\"SUL\")/1000","v":8.6120000000000001},{"$f":"SUMIFS('Base TU'!T:T,'Base TU'!$A:$A,$B10,'Base TU'!$B:$B,\"SUL\")/1000","v":0},{"$f":"SUMIFS('Base TU'!U:U,'Base TU'!$A:$A,$B10,'Base TU'!$B:$B,\"SUL\")/1000","v":0},{"$f":"SUMIFS('Base TU'!V:V,'Base TU'!$A:$A,$B10,'Base TU'!$B:$B,\"SUL\")/1000","v":5.2999999999999999E-2},{"$f":"SUMIFS('Base TU'!W:W,'Base TU'!$A:$A,$B10,'Base TU'!$B:$B,\"SUL\")/1000","v":18.690000000000001},{"$f":"SUMIFS('Base TU'!X:X,'Base TU'!$A:$A,$B10,'Base TU'!$B:$B,\"SUL\")/1000","v":259.53300000000002},{"$f":"SUMIFS('Base TU'!Y:Y,'Base TU'!$A:$A,$B10,'Base TU'!$B:$B,\"SUL\")/1000","v":515.98900000000003},{"$f":"SUMIFS('Base TU'!Z:Z,'Base TU'!$A:$A,$B10,'Base TU'!$B:$B,\"SUL\")/1000","v":717.84},{"$f":"SUMIFS('Base TU'!AA:AA,'Base TU'!$A:$A,$B10,'Base TU'!$B:$B,\"SUL\")/1000","v":499.49299999999999},{"$f":"SUMIFS('Base TU'!AB:AB,'Base TU'!$A:$A,$B10,'Base TU'!$B:$B,\"SUL\")/1000","v":174.44399999999999},{"$f":"SUMIFS('Base TU'!AC:AC,'Base TU'!$A:$A,$B10,'Base TU'!$B:$B,\"SUL\")/1000","v":154.91999999999999},null,{"$f":"SUMIFS('Base TU'!AE:AE,'Base TU'!$A:$A,$B10,'Base TU'!$B:$B,\"SUL\")/1000","v":217.80199999999999},{"$f":"SUMIFS('Base TU'!AF:AF,'Base TU'!$A:$A,$B10,'Base TU'!$B:$B,\"SUL\")/1000","v":17.54},{"$f":"SUMIFS('Base TU'!AG:AG,'Base TU'!$A:$A,$B10,'Base TU'!$B:$B,\"SUL\")/1000","v":0},{"$f":"SUMIFS('Base TU'!AH:AH,'Base TU'!$A:$A,$B10,'Base TU'!$B:$B,\"SUL\")/1000","v":0},{"$f":"SUMIFS('Base TU'!AI:AI,'Base TU'!$A:$A,$B10,'Base TU'!$B:$B,\"SUL\")/1000","v":0.624},{"$f":"SUMIFS('Base TU'!AJ:AJ,'Base TU'!$A:$A,$B10,'Base TU'!$B:$B,\"SUL\")/1000","v":0},{"$f":"SUMIFS('Base TU'!AK:AK,'Base TU'!$A:$A,$B10,'Base TU'!$B:$B,\"SUL\")/1000","v":4.9989999999999997},{"$f":"SUMIFS('Base TU'!AL:AL,'Base TU'!$A:$A,$B10,'Base TU'!$B:$B,\"SUL\")/1000","v":103.86499999999999},{"$f":"SUMIFS('Base TU'!AM:AM,'Base TU'!$A:$A,$B10,'Base TU'!$B:$B,\"SUL\")/1000","v":145.15199999999999},{"$f":"SUMIFS('Base TU'!AN:AN,'Base TU'!$A:$A,$B10,'Base TU'!$B:$B,\"SUL\")/1000","v":17.888999999999999},{"$f":"SUMIFS('Base TU'!AO:AO,'Base TU'!$A:$A,$B10,'Base TU'!$B:$B,\"SUL\")/1000","v":131.05699999999999},{"$f":"SUMIFS('Base TU'!AP:AP,'Base TU'!$A:$A,$B10,'Base TU'!$B:$B,\"SUL\")/1000","v":246.08799999999999},null,{"$f":"SUMIFS('Base TU'!AR:AR,'Base TU'!$A:$A,$B10,'Base TU'!$B:$B,\"SUL\")/1000","v":154.017},{"$f":"SUMIFS('Base TU'!AS:AS,'Base TU'!$A:$A,$B10,'Base TU'!$B:$B,\"SUL\")/1000","v":106.889},{"$f":"SUMIFS('Base TU'!AT:AT,'Base TU'!$A:$A,$B10,'Base TU'!$B:$B,\"SUL\")/1000","v":21.356999999999999},{"$f":"SUMIFS('Base TU'!AU:AU,'Base TU'!$A:$A,$B10,'Base TU'!$B:$B,\"SUL\")/1000","v":59.186},{"$f":"SUMIFS('Base TU'!AV:AV,'Base TU'!$A:$A,$B10,'Base TU'!$B:$B,\"SUL\")/1000","v":60.676000000000002},{"$f":"SUMIFS('Base TU'!AW:AW,'Base TU'!$A:$A,$B10,'Base TU'!$B:$B,\"SUL\")/1000","v":258.07799999999997},{"$f":"SUMIFS('Base TU'!AX:AX,'Base TU'!$A:$A,$B10,'Base TU'!$B:$B,\"SUL\")/1000","v":577.22400000000005},{"$f":"SUMIFS('Base TU'!AY:AY,'Base TU'!$A:$A,$B10,'Base TU'!$B:$B,\"SUL\")/1000","v":705.64300000000003},{"$f":"SUMIFS('Base TU'!AZ:AZ,'Base TU'!$A:$A,$B10,'Base TU'!$B:$B,\"SUL\")/1000","v":519.97500000000002},{"$f":"SUMIFS('Base TU'!BA:BA,'Base TU'!$A:$A,$B10,'Base TU'!$B:$B,\"SUL\")/1000","v":384.13499999999999},{"$f":"SUMIFS('Base TU'!BB:BB,'Base TU'!$A:$A,$B10,'Base TU'!$B:$B,\"SUL\")/1000","v":391.88200000000001},{"$f":"SUMIFS('Base TU'!BC:BC,'Base TU'!$A:$A,$B10,'Base TU'!$B:$B,\"SUL\")/1000","v":239.01499999999999},null,{"$f":"SUMIFS('Base TU'!BE:BE,'Base TU'!$A:$A,$B10,'Base TU'!$B:$B,\"SUL\")/1000","v":87.356999999999999},{"$f":"SUMIFS('Base TU'!BF:BF,'Base TU'!$A:$A,$B10,'Base TU'!$B:$B,\"SUL\")/1000","v":102.557},{"$f":"SUMIFS('Base TU'!BG:BG,'Base TU'!$A:$A,$B10,'Base TU'!$B:$B,\"SUL\")/1000","v":20.268999999999998},{"$f":"SUMIFS('Base TU'!BH:BH,'Base TU'!$A:$A,$B10,'Base TU'!$B:$B,\"SUL\")/1000","v":0},{"$f":"SUMIFS('Base TU'!BI:BI,'Base TU'!$A:$A,$B10,'Base TU'!$B:$B,\"SUL\")/1000","v":4.1000000000000002E-2},{"$f":"SUMIFS('Base TU'!BJ:BJ,'Base TU'!$A:$A,$B10,'Base TU'!$B:$B,\"SUL\")/1000","v":0},{"$f":"SUMIFS('Base TU'!BK:BK,'Base TU'!$A:$A,$B10,'Base TU'!$B:$B,\"SUL\")/1000","v":77.057000000000002},{"$f":"SUMIFS('Base TU'!BL:BL,'Base TU'!$A:$A,$B10,'Base TU'!$B:$B,\"SUL\")/1000","v":381.98200000000003},{"$f":"SUMIFS('Base TU'!BM:BM,'Base TU'!$A:$A,$B10,'Base TU'!$B:$B,\"SUL\")/1000","v":462.34699999999998},{"$f":"SUMIFS('Base TU'!BN:BN,'Base TU'!$A:$A,$B10,'Base TU'!$B:$B,\"SUL\")/1000","v":542.33900000000006},{"$f":"SUMIFS('Base TU'!BO:BO,'Base TU'!$A:$A,$B10,'Base TU'!$B:$B,\"SUL\")/1000","v":602.89599999999996},{"$f":"SUMIFS('Base TU'!BP:BP,'Base TU'!$A:$A,$B10,'Base TU'!$B:$B,\"SUL\")/1000","v":357.53},null,{"$f":"SUMIFS('Base TU'!BR:BR,'Base TU'!$A:$A,$B10,'Base TU'!$B:$B,\"SUL\")/1000","v":110.39400000000001},{"$f":"SUMIFS('Base TU'!BS:BS,'Base TU'!$A:$A,$B10,'Base TU'!$B:$B,\"SUL\")/1000","v":104.185},{"$f":"SUMIFS('Base TU'!BT:BT,'Base TU'!$A:$A,$B10,'Base TU'!$B:$B,\"SUL\")/1000","v":9.7650000000000006},{"$f":"SUMIFS('Base TU'!BU:BU,'Base TU'!$A:$A,$B10,'Base TU'!$B:$B,\"SUL\")/1000","v":0},{"$f":"SUMIFS('Base TU'!BV:BV,'Base TU'!$A:$A,$B10,'Base TU'!$B:$B,\"SUL\")/1000","v":0},{"$f":"SUMIFS('Base TU'!BW:BW,'Base TU'!$A:$A,$B10,'Base TU'!$B:$B,\"SUL\")/1000","v":0.32600000000000001},{"$f":"SUMIFS('Base TU'!BX:BX,'Base TU'!$A:$A,$B10,'Base TU'!$B:$B,\"SUL\")/1000","v":0},{"$f":"SUMIFS('Base TU'!BY:BY,'Base TU'!$A:$A,$B10,'Base TU'!$B:$B,\"SUL\")/1000","v":43.195999999999998},{"$f":"SUMIFS('Base TU'!BZ:BZ,'Base TU'!$A:$A,$B10,'Base TU'!$B:$B,\"SUL\")/1000","v":23.905999999999999},{"$f":"SUMIFS('Base TU'!CA:CA,'Base TU'!$A:$A,$B10,'Base TU'!$B:$B,\"SUL\")/1000","v":36.201000000000001},{"$f":"SUMIFS('Base TU'!CB:CB,'Base TU'!$A:$A,$B10,'Base TU'!$B:$B,\"SUL\")/1000","v":55.795999999999999},{"$f":"SUMIFS('Base TU'!CC:CC,'Base TU'!$A:$A,$B10,'Base TU'!$B:$B,\"SUL\")/1000","v":174.75},null,{"$f":"SUMIFS('Base TU'!CE:CE,'Base TU'!$A:$A,$B10,'Base TU'!$B:$B,\"SUL\")/1000","v":92.965000000000003},{"$f":"SUMIFS('Base TU'!CF:CF,'Base TU'!$A:$A,$B10,'Base TU'!$B:$B,\"SUL\")/1000","v":0.251},{"$f":"SUMIFS('Base TU'!CG:CG,'Base TU'!$A:$A,$B10,'Base TU'!$B:$B,\"SUL\")/1000","v":65.64},{"$f":"SUMIFS('Base TU'!CH:CH,'Base TU'!$A:$A,$B10,'Base TU'!$B:$B,\"SUL\")/1000","v":152.43600000000001},{"$f":"SUMIFS('Base TU'!CI:CI,'Base TU'!$A:$A,$B10,'Base TU'!$B:$B,\"SUL\")/1000","v":53.018999999999998},{"$f":"SUMIFS('Base TU'!CJ:CJ,'Base TU'!$A:$A,$B10,'Base TU'!$B:$B,\"SUL\")/1000","v":0},{"$f":"SUMIFS('Base TU'!CK:CK,'Base TU'!$A:$A,$B10,'Base TU'!$B:$B,\"SUL\")/1000","v":0},{"$f":"SUMIFS('Base TU'!CL:CL,'Base TU'!$A:$A,$B10,'Base TU'!$B:$B,\"SUL\")/1000","v":0},{"$f":"SUMIFS('Base TU'!CM:CM,'Base TU'!$A:$A,$B10,'Base TU'!$B:$B,\"SUL\")/1000","v":0},{"$f":"SUMIFS('Base TU'!CN:CN,'Base TU'!$A:$A,$B10,'Base TU'!$B:$B,\"SUL\")/1000","v":0},{"$f":"SUMIFS('Base TU'!CO:CO,'Base TU'!$A:$A,$B10,'Base TU'!$B:$B,\"SUL\")/1000","v":0},{"$f":"SUMIFS('Base TU'!CP:CP,'Base TU'!$A:$A,$B10,'Base TU'!$B:$B,\"SUL\")/1000","v":0}]
[null,"Açúcar",null,{"$f":"SUMIFS('Base TU'!E:E,'Base TU'!$A:$A,$B11,'Base TU'!$B:$B,\"SUL\")/1000","v":184.12799999999999},{"$f":"SUMIFS('Base TU'!F:F,'Base TU'!$A:$A,$B11,'Base TU'!$B:$B,\"SUL\")/1000","v":41.975999999999999},{"$f":"SUMIFS('Base TU'!G:G,'Base TU'!$A:$A,$B11,'Base TU'!$B:$B,\"SUL\")/1000","v":120.054},{"$f":"SUMIFS('Base TU'!H:H,'Base TU'!$A:$A,$B11,'Base TU'!$B:$B,\"SUL\")/1000","v":189.47499999999999},{"$f":"SUMIFS('Base TU'!I:I,'Base TU'!$A:$A,$B11,'Base TU'!$B:$B,\"SUL\")/1000","v":301.03199999999998},{"$f":"SUMIFS('Base TU'!J:J,'Base TU'!$A:$A,$B11,'Base TU'!$B:$B,\"SUL\")/1000","v":356.20400000000001},{"$f":"SUMIFS('Base TU'!K:K,'Base TU'!$A:$A,$B11,'Base TU'!$B:$B,\"SUL\")/1000","v":462.96499999999997},{"$f":"SUMIFS('Base TU'!L:L,'Base TU'!$A:$A,$B11,'Base TU'!$B:$B,\"SUL\")/1000","v":525.98800000000006},{"$f":"SUMIFS('Base TU'!M:M,'Base TU'!$A:$A,$B11,'Base TU'!$B:$B,\"SUL\")/1000","v":529.64800000000002},{"$f":"SUMIFS('Base TU'!N:N,'Base TU'!$A:$A,$B11,'Base TU'!$B:$B,\"SUL\")/1000","v":452.54399999999998},{"$f":"SUMIFS('Base TU'!O:O,'Base TU'!$A:$A,$B11,'Base TU'!$B:$B,\"SUL\")/1000","v":394.142},{"$f":"SUMIFS('Base TU'!P:P,'Base TU'!$A:$A,$B11,'Base TU'!$B:$B,\"SUL\")/1000","v":482.66},null,{"$f":"SUMIFS('Base TU'!R:R,'Base TU'!$A:$A,$B11,'Base TU'!$B:$B,\"SUL\")/1000","v":162.06100000000001},{"$f":"SUMIFS('Base TU'!S:S,'Base TU'!$A:$A,$B11,'Base TU'!$B:$B,\"SUL\")/1000","v":76.617000000000004},{"$f":"SUMIFS('Base TU'!T:T,'Base TU'!$A:$A,$B11,'Base TU'!$B:$B,\"SUL\")/1000","v":99.284000000000006},{"$f":"SUMIFS('Base TU'!U:U,'Base TU'!$A:$A,$B11,'Base TU'!$B:$B,\"SUL\")/1000","v":197.19399999999999},{"$f":"SUMIFS('Base TU'!V:V,'Base TU'!$A:$A,$B11,'Base TU'!$B:$B,\"SUL\")/1000","v":391.80700000000002},{"$f":"SUMIFS('Base TU'!W:W,'Base TU'!$A:$A,$B11,'Base TU'!$B:$B,\"SUL\")/1000","v":393.90800000000002},{"$f":"SUMIFS('Base TU'!X:X,'Base TU'!$A:$A,$B11,'Base TU'!$B:$B,\"SUL\")/1000","v":471.06799999999998},{"$f":"SUMIFS('Base TU'!Y:Y,'Base TU'!$A:$A,$B11,'Base TU'!$B:$B,\"SUL\")/1000","v":468.95400000000001},{"$f":"SUMIFS('Base TU'!Z:Z,'Base TU'!$A:$A,$B11,'Base TU'!$B:$B,\"SUL\")/1000","v":474.35899999999998},{"$f":"SUMIFS('Base TU'!AA:AA,'Base TU'!$A:$A,$B11,'Base TU'!$B:$B,\"SUL\")/1000","v":427.40199999999999},{"$f":"SUMIFS('Base TU'!AB:AB,'Base TU'!$A:$A,$B11,'Base TU'!$B:$B,\"SUL\")/1000","v":408.55799999999999},{"$f":"SUMIFS('Base TU'!AC:AC,'Base TU'!$A:$A,$B11,'Base TU'!$B:$B,\"SUL\")/1000","v":229.31299999999999},null,{"$f":"SUMIFS('Base TU'!AE:AE,'Base TU'!$A:$A,$B11,'Base TU'!$B:$B,\"SUL\")/1000","v":95.715999999999994},{"$f":"SUMIFS('Base TU'!AF:AF,'Base TU'!$A:$A,$B11,'Base TU'!$B:$B,\"SUL\")/1000","v":100.741},{"$f":"SUMIFS('Base TU'!AG:AG,'Base TU'!$A:$A,$B11,'Base TU'!$B:$B,\"SUL\")/1000","v":61.051000000000002},{"$f":"SUMIFS('Base TU'!AH:AH,'Base TU'!$A:$A,$B11,'Base TU'!$B:$B,\"SUL\")/1000","v":140.86600000000001},{"$f":"SUMIFS('Base TU'!AI:AI,'Base TU'!$A:$A,$B11,'Base TU'!$B:$B,\"SUL\")/1000","v":293.82400000000001},{"$f":"SUMIFS('Base TU'!AJ:AJ,'Base TU'!$A:$A,$B11,'Base TU'!$B:$B,\"SUL\")/1000","v":328.99900000000002},{"$f":"SUMIFS('Base TU'!AK:AK,'Base TU'!$A:$A,$B11,'Base TU'!$B:$B,\"SUL\")/1000","v":323.673},{"$f":"SUMIFS('Base TU'!AL:AL,'Base TU'!$A:$A,$B11,'Base TU'!$B:$B,\"SUL\")/1000","v":348.72699999999998},{"$f":"SUMIFS('Base TU'!AM:AM,'Base TU'!$A:$A,$B11,'Base TU'!$B:$B,\"SUL\")/1000","v":322.69299999999998},{"$f":"SUMIFS('Base TU'!AN:AN,'Base TU'!$A:$A,$B11,'Base TU'!$B:$B,\"SUL\")/1000","v":332.53399999999999},{"$f":"SUMIFS('Base TU'!AO:AO,'Base TU'!$A:$A,$B11,'Base TU'!$B:$B,\"SUL\")/1000","v":189.93},{"$f":"SUMIFS('Base TU'!AP:AP,'Base TU'!$A:$A,$B11,'Base TU'!$B:$B,\"SUL\")/1000","v":253.67400000000001},null,{"$f":"SUMIFS('Base TU'!AR:AR,'Base TU'!$A:$A,$B11,'Base TU'!$B:$B,\"SUL\")/1000","v":49.545000000000002},{"$f":"SUMIFS('Base TU'!AS:AS,'Base TU'!$A:$A,$B11,'Base TU'!$B:$B,\"SUL\")/1000","v":49.698},{"$f":"SUMIFS('Base TU'!AT:AT,'Base TU'!$A:$A,$B11,'Base TU'!$B:$B,\"SUL\")/1000","v":44.070999999999998},{"$f":"SUMIFS('Base TU'!AU:AU,'Base TU'!$A:$A,$B11,'Base TU'!$B:$B,\"SUL\")/1000","v":131.1},{"$f":"SUMIFS('Base TU'!AV:AV,'Base TU'!$A:$A,$B11,'Base TU'!$B:$B,\"SUL\")/1000","v":214.15799999999999},{"$f":"SUMIFS('Base TU'!AW:AW,'Base TU'!$A:$A,$B11,'Base TU'!$B:$B,\"SUL\")/1000","v":241.768},{"$f":"SUMIFS('Base TU'!AX:AX,'Base TU'!$A:$A,$B11,'Base TU'!$B:$B,\"SUL\")/1000","v":323.29599999999999},{"$f":"SUMIFS('Base TU'!AY:AY,'Base TU'!$A:$A,$B11,'Base TU'!$B:$B,\"SUL\")/1000","v":253.00399999999999},{"$f":"SUMIFS('Base TU'!AZ:AZ,'Base TU'!$A:$A,$B11,'Base TU'!$B:$B,\"SUL\")/1000","v":226.982},{"$f":"SUMIFS('Base TU'!BA:BA,'Base TU'!$A:$A,$B11,'Base TU'!$B:$B,\"SUL\")/1000","v":221.43600000000001},{"$f":"SUMIFS('Base TU'!BB:BB,'Base TU'!$A:$A,$B11,'Base TU'!$B:$B,\"SUL\")/1000","v":303.12099999999998},{"$f":"SUMIFS('Base TU'!BC:BC,'Base TU'!$A:$A,$B11,'Base TU'!$B:$B,\"SUL\")/1000","v":132.62700000000001},null,{"$f":"SUMIFS('Base TU'!BE:BE,'Base TU'!$A:$A,$B11,'Base TU'!$B:$B,\"SUL\")/1000","v":136.542},{"$f":"SUMIFS('Base TU'!BF:BF,'Base TU'!$A:$A,$B11,'Base TU'!$B:$B,\"SUL\")/1000","v":71.984999999999999},{"$f":"SUMIFS('Base TU'!BG:BG,'Base TU'!$A:$A,$B11,'Base TU'!$B:$B,\"SUL\")/1000","v":94.197000000000003},{"$f":"SUMIFS('Base TU'!BH:BH,'Base TU'!$A:$A,$B11,'Base TU'!$B:$B,\"SUL\")/1000","v":186.739},{"$f":"SUMIFS('Base TU'!BI:BI,'Base TU'!$A:$A,$B11,'Base TU'!$B:$B,\"SUL\")/1000","v":371.94799999999998},{"$f":"SUMIFS('Base TU'!BJ:BJ,'Base TU'!$A:$A,$B11,'Base TU'!$B:$B,\"SUL\")/1000","v":327.91699999999997},{"$f":"SUMIFS('Base TU'!BK:BK,'Base TU'!$A:$A,$B11,'Base TU'!$B:$B,\"SUL\")/1000","v":324.61},{"$f":"SUMIFS('Base TU'!BL:BL,'Base TU'!$A:$A,$B11,'Base TU'!$B:$B,\"SUL\")/1000","v":365.72199999999998},{"$f":"SUMIFS('Base TU'!BM:BM,'Base TU'!$A:$A,$B11,'Base TU'!$B:$B,\"SUL\")/1000","v":492.964},{"$f":"SUMIFS('Base TU'!BN:BN,'Base TU'!$A:$A,$B11,'Base TU'!$B:$B,\"SUL\")/1000","v":486.697},{"$f":"SUMIFS('Base TU'!BO:BO,'Base TU'!$A:$A,$B11,'Base TU'!$B:$B,\"SUL\")/1000","v":458.96600000000001},{"$f":"SUMIFS('Base TU'!BP:BP,'Base TU'!$A:$A,$B11,'Base TU'!$B:$B,\"SUL\")/1000","v":358.00799999999998},null,{"$f":"SUMIFS('Base TU'!BR:BR,'Base TU'!$A:$A,$B11,'Base TU'!$B:$B,\"SUL\")/1000","v":198.21700000000001},{"$f":"SUMIFS('Base TU'!BS:BS,'Base TU'!$A:$A,$B11,'Base TU'!$B:$B,\"SUL\")/1000","v":104.491},{"$f":"SUMIFS('Base TU'!BT:BT,'Base TU'!$A:$A,$B11,'Base TU'!$B:$B,\"SUL\")/1000","v":159.571},{"$f":"SUMIFS('Base TU'!BU:BU,'Base TU'!$A:$A,$B11,'Base TU'!$B:$B,\"SUL\")/1000","v":183.59399999999999},{"$f":"SUMIFS('Base TU'!BV:BV,'Base TU'!$A:$A,$B11,'Base TU'!$B:$B,\"SUL\")/1000","v":411.51100000000002},{"$f":"SUMIFS('Base TU'!BW:BW,'Base TU'!$A:$A,$B11,'Base TU'!$B:$B,\"SUL\")/1000","v":558.12400000000002},{"$f":"SUMIFS('Base TU'!BX:BX,'Base TU'!$A:$A,$B11,'Base TU'!$B:$B,\"SUL\")/1000","v":363.73099999999999},{"$f":"SUMIFS('Base TU'!BY:BY,'Base TU'!$A:$A,$B11,'Base TU'!$B:$B,\"SUL\")/1000","v":328.28800000000001},{"$f":"SUMIFS('Base TU'!BZ:BZ,'Base TU'!$A:$A,$B11,'Base TU'!$B:$B,\"SUL\")/1000","v":512.99699999999996},{"$f":"SUMIFS('Base TU'!CA:CA,'Base TU'!$A:$A,$B11,'Base TU'!$B:$B,\"SUL\")/1000","v":442.53399999999999},{"$f":"SUMIFS('Base TU'!CB:CB,'Base TU'!$A:$A,$B11,'Base TU'!$B:$B,\"SUL\")/1000","v":342.38799999999998},{"$f":"SUMIFS('Base TU'!CC:CC,'Base TU'!$A:$A,$B11,'Base TU'!$B:$B,\"SUL\")/1000","v":214.75299999999999},null,{"$f":"SUMIFS('Base TU'!CE:CE,'Base TU'!$A:$A,$B11,'Base TU'!$B:$B,\"SUL\")/1000","v":144.58699999999999},{"$f":"SUMIFS('Base TU'!CF:CF,'Base TU'!$A:$A,$B11,'Base TU'!$B:$B,\"SUL\")/1000","v":70.36},{"$f":"SUMIFS('Base TU'!CG:CG,'Base TU'!$A:$A,$B11,'Base TU'!$B:$B,\"SUL\")/1000","v":63.345999999999997},{"$f":"SUMIFS('Base TU'!CH:CH,'Base TU'!$A:$A,$B11,'Base TU'!$B:$B,\"SUL\")/1000","v":112.592},{"$f":"SUMIFS('Base TU'!CI:CI,'Base TU'!$A:$A,$B11,'Base TU'!$B:$B,\"SUL\")/1000","v":374.96199999999999},{"$f":"SUMIFS('Base TU'!CJ:CJ,'Base TU'!$A:$A,$B11,'Base TU'!$B:$B,\"SUL\")/1000","v":0},{"$f":"SUMIFS('Base TU'!CK:CK,'Base TU'!$A:$A,$B11,'Base TU'!$B:$B,\"SUL\")/1000","v":0},{"$f":"SUMIFS('Base TU'!CL:CL,'Base TU'!$A:$A,$B11,'Base TU'!$B:$B,\"SUL\")/1000","v":0},{"$f":"SUMIFS('Base TU'!CM:CM,'Base TU'!$A:$A,$B11,'Base TU'!$B:$B,\"SUL\")/1000","v":0},{"$f":"SUMIFS('Base TU'!CN:CN,'Base TU'!$A:$A,$B11,'Base TU'!$B:$B,\"SUL\")/1000","v":0},{"$f":"SUMIFS('Base TU'!CO:CO,'Base TU'!$A:$A,$B11,'Base TU'!$B:$B,\"SUL\")/1000","v":0},{"$f":"SUMIFS('Base TU'!CP:CP,'Base TU'!$A:$A,$B11,'Base TU'!$B:$B,\"SUL\")/1000","v":0}]
[null,"Fertilizantes",null,{"$f":"SUMIFS('Base TU'!E:E,'Base TU'!$A:$A,$B12,'Base TU'!$B:$B,\"SUL\")/1000","v":40.015999999999998},{"$f":"SUMIFS('Base TU'!F:F,'Base TU'!$A:$A,$B12,'Base TU'!$B:$B,\"SUL\")/1000","v":26.385000000000002},{"$f":"SUMIFS('Base TU'!G:G,'Base TU'!$A:$A,$B12,'Base TU'!$B:$B,\"SUL\")/1000","v":29.763999999999999},{"$f":"SUMIFS('Base TU'!H:H,'Base TU'!$A:$A,$B12,'Base TU'!$B:$B,\"SUL\")/1000","v":37.642000000000003},{"$f":"SUMIFS('Base TU'!I:I,'Base TU'!$A:$A,$B12,'Base TU'!$B:$B,\"SUL\")/1000","v":94.590999999999994},{"$f":"SUMIFS('Base TU'!J:J,'Base TU'!$A:$A,$B12,'Base TU'!$B:$B,\"SUL\")/1000","v":118.747},{"$f":"SUMIFS('Base TU'!K:K,'Base TU'!$A:$A,$B12,'Base TU'!$B:$B,\"SUL\")/1000","v":135.369},{"$f":"SUMIFS('Base TU'!L:L,'Base TU'!$A:$A,$B12,'Base TU'!$B:$B,\"SUL\")/1000","v":148.98500000000001},{"$f":"SUMIFS('Base TU'!M:M,'Base TU'!$A:$A,$B12,'Base TU'!$B:$B,\"SUL\")/1000","v":195.93199999999999},{"$f":"SUMIFS('Base TU'!N:N,'Base TU'!$A:$A,$B12,'Base TU'!$B:$B,\"SUL\")/1000","v":149.495},{"$f":"SUMIFS('Base TU'!O:O,'Base TU'!$A:$A,$B12,'Base TU'!$B:$B,\"SUL\")/1000","v":157.22999999999999},{"$f":"SUMIFS('Base TU'!P:P,'Base TU'!$A:$A,$B12,'Base TU'!$B:$B,\"SUL\")/1000","v":121.94},null,{"$f":"SUMIFS('Base TU'!R:R,'Base TU'!$A:$A,$B12,'Base TU'!$B:$B,\"SUL\")/1000","v":101.56399999999999},{"$f":"SUMIFS('Base TU'!S:S,'Base TU'!$A:$A,$B12,'Base TU'!$B:$B,\"SUL\")/1000","v":70.692999999999998},{"$f":"SUMIFS('Base TU'!T:T,'Base TU'!$A:$A,$B12,'Base TU'!$B:$B,\"SUL\")/1000","v":52.874000000000002},{"$f":"SUMIFS('Base TU'!U:U,'Base TU'!$A:$A,$B12,'Base TU'!$B:$B,\"SUL\")/1000","v":118.539},{"$f":"SUMIFS('Base TU'!V:V,'Base TU'!$A:$A,$B12,'Base TU'!$B:$B,\"SUL\")/1000","v":108.35},{"$f":"SUMIFS('Base TU'!W:W,'Base TU'!$A:$A,$B12,'Base TU'!$B:$B,\"SUL\")/1000","v":77.277000000000001},{"$f":"SUMIFS('Base TU'!X:X,'Base TU'!$A:$A,$B12,'Base TU'!$B:$B,\"SUL\")/1000","v":76.747},{"$f":"SUMIFS('Base TU'!Y:Y,'Base TU'!$A:$A,$B12,'Base TU'!$B:$B,\"SUL\")/1000","v":91.299000000000007},{"$f":"SUMIFS('Base TU'!Z:Z,'Base TU'!$A:$A,$B12,'Base TU'!$B:$B,\"SUL\")/1000","v":99.471000000000004},{"$f":"SUMIFS('Base TU'!AA:AA,'Base TU'!$A:$A,$B12,'Base TU'!$B:$B,\"SUL\")/1000","v":110.258},{"$f":"SUMIFS('Base TU'!AB:AB,'Base TU'!$A:$A,$B12,'Base TU'!$B:$B,\"SUL\")/1000","v":95.177000000000007},{"$f":"SUMIFS('Base TU'!AC:AC,'Base TU'!$A:$A,$B12,'Base TU'!$B:$B,\"SUL\")/1000","v":96.216999999999999},null,{"$f":"SUMIFS('Base TU'!AE:AE,'Base TU'!$A:$A,$B12,'Base TU'!$B:$B,\"SUL\")/1000","v":101.39400000000001},{"$f":"SUMIFS('Base TU'!AF:AF,'Base TU'!$A:$A,$B12,'Base TU'!$B:$B,\"SUL\")/1000","v":79.974999999999994},{"$f":"SUMIFS('Base TU'!AG:AG,'Base TU'!$A:$A,$B12,'Base TU'!$B:$B,\"SUL\")/1000","v":58.162999999999997},{"$f":"SUMIFS('Base TU'!AH:AH,'Base TU'!$A:$A,$B12,'Base TU'!$B:$B,\"SUL\")/1000","v":71.141999999999996},{"$f":"SUMIFS('Base TU'!AI:AI,'Base TU'!$A:$A,$B12,'Base TU'!$B:$B,\"SUL\")/1000","v":71.164000000000001},{"$f":"SUMIFS('Base TU'!AJ:AJ,'Base TU'!$A:$A,$B12,'Base TU'!$B:$B,\"SUL\")/1000","v":95.393000000000001},{"$f":"SUMIFS('Base TU'!AK:AK,'Base TU'!$A:$A,$B12,'Base TU'!$B:$B,\"SUL\")/1000","v":100.794},{"$f":"SUMIFS('Base TU'!AL:AL,'Base TU'!$A:$A,$B12,'Base TU'!$B:$B,\"SUL\")/1000","v":106.23399999999999},{"$f":"SUMIFS('Base TU'!AM:AM,'Base TU'!$A:$A,$B12,'Base TU'!$B:$B,\"SUL\")/1000","v":95.497},{"$f":"SUMIFS('Base TU'!AN:AN,'Base TU'!$A:$A,$B12,'Base TU'!$B:$B,\"SUL\")/1000","v":82.171000000000006},{"$f":"SUMIFS('Base TU'!AO:AO,'Base TU'!$A:$A,$B12,'Base TU'!$B:$B,\"SUL\")/1000","v":113.35},{"$f":"SUMIFS('Base TU'!AP:AP,'Base TU'!$A:$A,$B12,'Base TU'!$B:$B,\"SUL\")/1000","v":95.09},null,{"$f":"SUMIFS('Base TU'!AR:AR,'Base TU'!$A:$A,$B12,'Base TU'!$B:$B,\"SUL\")/1000","v":125.196},{"$f":"SUMIFS('Base TU'!AS:AS,'Base TU'!$A:$A,$B12,'Base TU'!$B:$B,\"SUL\")/1000","v":61.607999999999997},{"$f":"SUMIFS('Base TU'!AT:AT,'Base TU'!$A:$A,$B12,'Base TU'!$B:$B,\"SUL\")/1000","v":44.469000000000001},{"$f":"SUMIFS('Base TU'!AU:AU,'Base TU'!$A:$A,$B12,'Base TU'!$B:$B,\"SUL\")/1000","v":57.654000000000003},{"$f":"SUMIFS('Base TU'!AV:AV,'Base TU'!$A:$A,$B12,'Base TU'!$B:$B,\"SUL\")/1000","v":103.751},{"$f":"SUMIFS('Base TU'!AW:AW,'Base TU'!$A:$A,$B12,'Base TU'!$B:$B,\"SUL\")/1000","v":100.104},{"$f":"SUMIFS('Base TU'!AX:AX,'Base TU'!$A:$A,$B12,'Base TU'!$B:$B,\"SUL\")/1000","v":103.70099999999999},{"$f":"SUMIFS('Base TU'!AY:AY,'Base TU'!$A:$A,$B12,'Base TU'!$B:$B,\"SUL\")/1000","v":99.856999999999999},{"$f":"SUMIFS('Base TU'!AZ:AZ,'Base TU'!$A:$A,$B12,'Base TU'!$B:$B,\"SUL\")/1000","v":112.086},{"$f":"SUMIFS('Base TU'!BA:BA,'Base TU'!$A:$A,$B12,'Base TU'!$B:$B,\"SUL\")/1000","v":81.55},{"$f":"SUMIFS('Base TU'!BB:BB,'Base TU'!$A:$A,$B12,'Base TU'!$B:$B,\"SUL\")/1000","v":81.575000000000003},{"$f":"SUMIFS('Base TU'!BC:BC,'Base TU'!$A:$A,$B12,'Base TU'!$B:$B,\"SUL\")/1000","v":64.058999999999997},null,{"$f":"SUMIFS('Base TU'!BE:BE,'Base TU'!$A:$A,$B12,'Base TU'!$B:$B,\"SUL\")/1000","v":89.926000000000002},{"$f":"SUMIFS('Base TU'!BF:BF,'Base TU'!$A:$A,$B12,'Base TU'!$B:$B,\"SUL\")/1000","v":60.615000000000002},{"$f":"SUMIFS('Base TU'!BG:BG,'Base TU'!$A:$A,$B12,'Base TU'!$B:$B,\"SUL\")/1000","v":29.428999999999998},{"$f":"SUMIFS('Base TU'!BH:BH,'Base TU'!$A:$A,$B12,'Base TU'!$B:$B,\"SUL\")/1000","v":68.715999999999994},{"$f":"SUMIFS('Base TU'!BI:BI,'Base TU'!$A:$A,$B12,'Base TU'!$B:$B,\"SUL\")/1000","v":77.739000000000004},{"$f":"SUMIFS('Base TU'!BJ:BJ,'Base TU'!$A:$A,$B12,'Base TU'!$B:$B,\"SUL\")/1000","v":68.548000000000002},{"$f":"SUMIFS('Base TU'!BK:BK,'Base TU'!$A:$A,$B12,'Base TU'!$B:$B,\"SUL\")/1000","v":77.061999999999998},{"$f":"SUMIFS('Base TU'!BL:BL,'Base TU'!$A:$A,$B12,'Base TU'!$B:$B,\"SUL\")/1000","v":69.522999999999996},{"$f":"SUMIFS('Base TU'!BM:BM,'Base TU'!$A:$A,$B12,'Base TU'!$B:$B,\"SUL\")/1000","v":69.953000000000003},{"$f":"SUMIFS('Base TU'!BN:BN,'Base TU'!$A:$A,$B12,'Base TU'!$B:$B,\"SUL\")/1000","v":67.774000000000001},{"$f":"SUMIFS('Base TU'!BO:BO,'Base TU'!$A:$A,$B12,'Base TU'!$B:$B,\"SUL\")/1000","v":66.355000000000004},{"$f":"SUMIFS('Base TU'!BP:BP,'Base TU'!$A:$A,$B12,'Base TU'!$B:$B,\"SUL\")/1000","v":61.610999999999997},null,{"$f":"SUMIFS('Base TU'!BR:BR,'Base TU'!$A:$A,$B12,'Base TU'!$B:$B,\"SUL\")/1000","v":70.167000000000002},{"$f":"SUMIFS('Base TU'!BS:BS,'Base TU'!$A:$A,$B12,'Base TU'!$B:$B,\"SUL\")/1000","v":59.651000000000003},{"$f":"SUMIFS('Base TU'!BT:BT,'Base TU'!$A:$A,$B12,'Base TU'!$B:$B,\"SUL\")/1000","v":9.9079999999999995},{"$f":"SUMIFS('Base TU'!BU:BU,'Base TU'!$A:$A,$B12,'Base TU'!$B:$B,\"SUL\")/1000","v":38.555},{"$f":"SUMIFS('Base TU'!BV:BV,'Base TU'!$A:$A,$B12,'Base TU'!$B:$B,\"SUL\")/1000","v":65.983999999999995},{"$f":"SUMIFS('Base TU'!BW:BW,'Base TU'!$A:$A,$B12,'Base TU'!$B:$B,\"SUL\")/1000","v":90.382000000000005},{"$f":"SUMIFS('Base TU'!BX:BX,'Base TU'!$A:$A,$B12,'Base TU'!$B:$B,\"SUL\")/1000","v":92.822000000000003},{"$f":"SUMIFS('Base TU'!BY:BY,'Base TU'!$A:$A,$B12,'Base TU'!$B:$B,\"SUL\")/1000","v":135.93299999999999},{"$f":"SUMIFS('Base TU'!BZ:BZ,'Base TU'!$A:$A,$B12,'Base TU'!$B:$B,\"SUL\")/1000","v":109.88800000000001},{"$f":"SUMIFS('Base TU'!CA:CA,'Base TU'!$A:$A,$B12,'Base TU'!$B:$B,\"SUL\")/1000","v":88.382999999999996},{"$f":"SUMIFS('Base TU'!CB:CB,'Base TU'!$A:$A,$B12,'Base TU'!$B:$B,\"SUL\")/1000","v":76.007999999999996},{"$f":"SUMIFS('Base TU'!CC:CC,'Base TU'!$A:$A,$B12,'Base TU'!$B:$B,\"SUL\")/1000","v":62.95},null,{"$f":"SUMIFS('Base TU'!CE:CE,'Base TU'!$A:$A,$B12,'Base TU'!$B:$B,\"SUL\")/1000","v":76.474999999999994},{"$f":"SUMIFS('Base TU'!CF:CF,'Base TU'!$A:$A,$B12,'Base TU'!$B:$B,\"SUL\")/1000","v":76.888000000000005},{"$f":"SUMIFS('Base TU'!CG:CG,'Base TU'!$A:$A,$B12,'Base TU'!$B:$B,\"SUL\")/1000","v":53.954999999999998},{"$f":"SUMIFS('Base TU'!CH:CH,'Base TU'!$A:$A,$B12,'Base TU'!$B:$B,\"SUL\")/1000","v":45.807000000000002},{"$f":"SUMIFS('Base TU'!CI:CI,'Base TU'!$A:$A,$B12,'Base TU'!$B:$B,\"SUL\")/1000","v":72.655000000000001},{"$f":"SUMIFS('Base TU'!CJ:CJ,'Base TU'!$A:$A,$B12,'Base TU'!$B:$B,\"SUL\")/1000","v":0},{"$f":"SUMIFS('Base TU'!CK:CK,'Base TU'!$A:$A,$B12,'Base TU'!$B:$B,\"SUL\")/1000","v":0},{"$f":"SUMIFS('Base TU'!CL:CL,'Base TU'!$A:$A,$B12,'Base TU'!$B:$B,\"SUL\")/1000","v":0},{"$f":"SUMIFS('Base TU'!CM:CM,'Base TU'!$A:$A,$B12,'Base TU'!$B:$B,\"SUL\")/1000","v":0},{"$f":"SUMIFS('Base TU'!CN:CN,'Base TU'!$A:$A,$B12,'Base TU'!$B:$B,\"SUL\")/1000","v":0},{"$f":"SUMIFS('Base TU'!CO:CO,'Base TU'!$A:$A,$B12,'Base TU'!$B:$B,\"SUL\")/1000","v":0},{"$f":"SUMIFS('Base TU'!CP:CP,'Base TU'!$A:$A,$B12,'Base TU'!$B:$B,\"SUL\")/1000","v":0}]
[null,"Trigo",null,{"$f":"SUMIFS('Base TU'!E:E,'Base TU'!$A:$A,$B13,'Base TU'!$B:$B,\"SUL\")/1000","v":56.14},{"$f":"SUMIFS('Base TU'!F:F,'Base TU'!$A:$A,$B13,'Base TU'!$B:$B,\"SUL\")/1000","v":1.9339999999999999},{"$f":"SUMIFS('Base TU'!G:G,'Base TU'!$A:$A,$B13,'Base TU'!$B:$B,\"SUL\")/1000","v":2.9740000000000002},{"$f":"SUMIFS('Base TU'!H:H,'Base TU'!$A:$A,$B13,'Base TU'!$B:$B,\"SUL\")/1000","v":0},{"$f":"SUMIFS('Base TU'!I:I,'Base TU'!$A:$A,$B13,'Base TU'!$B:$B,\"SUL\")/1000","v":0},{"$f":"SUMIFS('Base TU'!J:J,'Base TU'!$A:$A,$B13,'Base TU'!$B:$B,\"SUL\")/1000","v":0},{"$f":"SUMIFS('Base TU'!K:K,'Base TU'!$A:$A,$B13,'Base TU'!$B:$B,\"SUL\")/1000","v":0},{"$f":"SUMIFS('Base TU'!L:L,'Base TU'!$A:$A,$B13,'Base TU'!$B:$B,\"SUL\")/1000","v":0},{"$f":"SUMIFS('Base TU'!M:M,'Base TU'!$A:$A,$B13,'Base TU'!$B:$B,\"SUL\")/1000","v":0},{"$f":"SUMIFS('Base TU'!N:N,'Base TU'!$A:$A,$B13,'Base TU'!$B:$B,\"SUL\")/1000","v":0},{"$f":"SUMIFS('Base TU'!O:O,'Base TU'!$A:$A,$B13,'Base TU'!$B:$B,\"SUL\")/1000","v":9.1210000000000004},{"$f":"SUMIFS('Base TU'!P:P,'Base TU'!$A:$A,$B13,'Base TU'!$B:$B,\"SUL\")/1000","v":22.268999999999998},null,{"$f":"SUMIFS('Base TU'!R:R,'Base TU'!$A:$A,$B13,'Base TU'!$B:$B,\"SUL\")/1000","v":62.997999999999998},{"$f":"SUMIFS('Base TU'!S:S,'Base TU'!$A:$A,$B13,'Base TU'!$B:$B,\"SUL\")/1000","v":82.959000000000003},{"$f":"SUMIFS('Base TU'!T:T,'Base TU'!$A:$A,$B13,'Base TU'!$B:$B,\"SUL\")/1000","v":18.082000000000001},{"$f":"SUMIFS('Base TU'!U:U,'Base TU'!$A:$A,$B13,'Base TU'!$B:$B,\"SUL\")/1000","v":0},{"$f":"SUMIFS('Base TU'!V:V,'Base TU'!$A:$A,$B13,'Base TU'!$B:$B,\"SUL\")/1000","v":0},{"$f":"SUMIFS('Base TU'!W:W,'Base TU'!$A:$A,$B13,'Base TU'!$B:$B,\"SUL\")/1000","v":0},{"$f":"SUMIFS('Base TU'!X:X,'Base TU'!$A:$A,$B13,'Base TU'!$B:$B,\"SUL\")/1000","v":0},{"$f":"SUMIFS('Base TU'!Y:Y,'Base TU'!$A:$A,$B13,'Base TU'!$B:$B,\"SUL\")/1000","v":0},{"$f":"SUMIFS('Base TU'!Z:Z,'Base TU'!$A:$A,$B13,'Base TU'!$B:$B,\"SUL\")/1000","v":0},{"$f":"SUMIFS('Base TU'!AA:AA,'Base TU'!$A:$A,$B13,'Base TU'!$B:$B,\"SUL\")/1000","v":0},{"$f":"SUMIFS('Base TU'!AB:AB,'Base TU'!$A:$A,$B13,'Base TU'!$B:$B,\"SUL\")/1000","v":6.04},{"$f":"SUMIFS('Base TU'!AC:AC,'Base TU'!$A:$A,$B13,'Base TU'!$B:$B,\"SUL\")/1000","v":13.396000000000001},null,{"$f":"SUMIFS('Base TU'!AE:AE,'Base TU'!$A:$A,$B13,'Base TU'!$B:$B,\"SUL\")/1000","v":27.41},{"$f":"SUMIFS('Base TU'!AF:AF,'Base TU'!$A:$A,$B13,'Base TU'!$B:$B,\"SUL\")/1000","v":6.7839999999999998},{"$f":"SUMIFS('Base TU'!AG:AG,'Base TU'!$A:$A,$B13,'Base TU'!$B:$B,\"SUL\")/1000","v":0},{"$f":"SUMIFS('Base TU'!AH:AH,'Base TU'!$A:$A,$B13,'Base TU'!$B:$B,\"SUL\")/1000","v":0},{"$f":"SUMIFS('Base TU'!AI:AI,'Base TU'!$A:$A,$B13,'Base TU'!$B:$B,\"SUL\")/1000","v":0},{"$f":"SUMIFS('Base TU'!AJ:AJ,'Base TU'!$A:$A,$B13,'Base TU'!$B:$B,\"SUL\")/1000","v":0},{"$f":"SUMIFS('Base TU'!AK:AK,'Base TU'!$A:$A,$B13,'Base TU'!$B:$B,\"SUL\")/1000","v":0},{"$f":"SUMIFS('Base TU'!AL:AL,'Base TU'!$A:$A,$B13,'Base TU'!$B:$B,\"SUL\")/1000","v":0},{"$f":"SUMIFS('Base TU'!AM:AM,'Base TU'!$A:$A,$B13,'Base TU'!$B:$B,\"SUL\")/1000","v":0},{"$f":"SUMIFS('Base TU'!AN:AN,'Base TU'!$A:$A,$B13,'Base TU'!$B:$B,\"SUL\")/1000","v":0},{"$f":"SUMIFS('Base TU'!AO:AO,'Base TU'!$A:$A,$B13,'Base TU'!$B:$B,\"SUL\")/1000","v":57.524000000000001},{"$f":"SUMIFS('Base TU'!AP:AP,'Base TU'!$A:$A,$B13,'Base TU'!$B:$B,\"SUL\")/1000","v":87.164000000000001},null,{"$f":"SUMIFS('Base TU'!AR:AR,'Base TU'!$A:$A,$B13,'Base TU'!$B:$B,\"SUL\")/1000","v":46.884999999999998},{"$f":"SUMIFS('Base TU'!AS:AS,'Base TU'!$A:$A,$B13,'Base TU'!$B:$B,\"SUL\")/1000","v":5.42},{"$f":"SUMIFS('Base TU'!AT:AT,'Base TU'!$A:$A,$B13,'Base TU'!$B:$B,\"SUL\")/1000","v":0},{"$f":"SUMIFS('Base TU'!AU:AU,'Base TU'!$A:$A,$B13,'Base TU'!$B:$B,\"SUL\")/1000","v":0},{"$f":"SUMIFS('Base TU'!AV:AV,'Base TU'!$A:$A,$B13,'Base TU'!$B:$B,\"SUL\")/1000","v":0},{"$f":"SUMIFS('Base TU'!AW:AW,'Base TU'!$A:$A,$B13,'Base TU'!$B:$B,\"SUL\")/1000","v":0},{"$f":"SUMIFS('Base TU'!AX:AX,'Base TU'!$A:$A,$B13,'Base TU'!$B:$B,\"SUL\")/1000","v":0},{"$f":"SUMIFS('Base TU'!AY:AY,'Base TU'!$A:$A,$B13,'Base TU'!$B:$B,\"SUL\")/1000","v":0},{"$f":"SUMIFS('Base TU'!AZ:AZ,'Base TU'!$A:$A,$B13,'Base TU'!$B:$B,\"SUL\")/1000","v":0},{"$f":"SUMIFS('Base TU'!BA:BA,'Base TU'!$A:$A,$B13,'Base TU'!$B:$B,\"SUL\")/1000","v":0},{"$f":"SUMIFS('Base TU'!BB:BB,'Base TU'!$A:$A,$B13,'Base TU'!$B:$B,\"SUL\")/1000","v":7.8390000000000004},{"$f":"SUMIFS('Base TU'!BC:BC,'Base TU'!$A:$A,$B13,'Base TU'!$B:$B,\"SUL\")/1000","v":53.780999999999999},null,{"$f":"SUMIFS('Base TU'!BE:BE,'Base TU'!$A:$A,$B13,'Base TU'!$B:$B,\"SUL\")/1000","v":40.94},{"$f":"SUMIFS('Base TU'!BF:BF,'Base TU'!$A:$A,$B13,'Base TU'!$B:$B,\"SUL\")/1000","v":2.2730000000000001},{"$f":"SUMIFS('Base TU'!BG:BG,'Base TU'!$A:$A,$B13,'Base TU'!$B:$B,\"SUL\")/1000","v":0},{"$f":"SUMIFS('Base TU'!BH:BH,'Base TU'!$A:$A,$B13,'Base TU'!$B:$B,\"Total Operação\")/1000","v":0},{"$f":"SUMIFS('Base TU'!BI:BI,'Base TU'!$A:$A,$B13,'Base TU'!$B:$B,\"SUL\")/1000","v":0},{"$f":"SUMIFS('Base TU'!BJ:BJ,'Base TU'!$A:$A,$B13,'Base TU'!$B:$B,\"SUL\")/1000","v":0},{"$f":"SUMIFS('Base TU'!BK:BK,'Base TU'!$A:$A,$B13,'Base TU'!$B:$B,\"SUL\")/1000","v":0},{"$f":"SUMIFS('Base TU'!BL:BL,'Base TU'!$A:$A,$B13,'Base TU'!$B:$B,\"SUL\")/1000","v":0},{"$f":"SUMIFS('Base TU'!BM:BM,'Base TU'!$A:$A,$B13,'Base TU'!$B:$B,\"SUL\")/1000","v":0},{"$f":"SUMIFS('Base TU'!BN:BN,'Base TU'!$A:$A,$B13,'Base TU'!$B:$B,\"SUL\")/1000","v":17.013000000000002},{"$f":"SUMIFS('Base TU'!BO:BO,'Base TU'!$A:$A,$B13,'Base TU'!$B:$B,\"SUL\")/1000","v":106.58799999999999},{"$f":"SUMIFS('Base TU'!BP:BP,'Base TU'!$A:$A,$B13,'Base TU'!$B:$B,\"SUL\")/1000","v":92.584999999999994},null,{"$f":"SUMIFS('Base TU'!BR:BR,'Base TU'!$A:$A,$B13,'Base TU'!$B:$B,\"SUL\")/1000","v":4.9530000000000003},{"$f":"SUMIFS('Base TU'!BS:BS,'Base TU'!$A:$A,$B13,'Base TU'!$B:$B,\"SUL\")/1000","v":0},{"$f":"SUMIFS('Base TU'!BT:BT,'Base TU'!$A:$A,$B13,'Base TU'!$B:$B,\"SUL\")/1000","v":0},{"$f":"SUMIFS('Base TU'!BU:BU,'Base TU'!$A:$A,$B13,'Base TU'!$B:$B,\"Total Operação\")/1000","v":0},{"$f":"SUMIFS('Base TU'!BV:BV,'Base TU'!$A:$A,$B13,'Base TU'!$B:$B,\"SUL\")/1000","v":0},{"$f":"SUMIFS('Base TU'!BW:BW,'Base TU'!$A:$A,$B13,'Base TU'!$B:$B,\"SUL\")/1000","v":0},{"$f":"SUMIFS('Base TU'!BX:BX,'Base TU'!$A:$A,$B13,'Base TU'!$B:$B,\"SUL\")/1000","v":0},{"$f":"SUMIFS('Base TU'!BY:BY,'Base TU'!$A:$A,$B13,'Base TU'!$B:$B,\"SUL\")/1000","v":0},{"$f":"SUMIFS('Base TU'!BZ:BZ,'Base TU'!$A:$A,$B13,'Base TU'!$B:$B,\"SUL\")/1000","v":0},{"$f":"SUMIFS('Base TU'!CA:CA,'Base TU'!$A:$A,$B13,'Base TU'!$B:$B,\"SUL\")/1000","v":1.3839999999999999},{"$f":"SUMIFS('Base TU'!CB:CB,'Base TU'!$A:$A,$B13,'Base TU'!$B:$B,\"SUL\")/1000","v":111.30500000000001},{"$f":"SUMIFS('Base TU'!CC:CC,'Base TU'!$A:$A,$B13,'Base TU'!$B:$B,\"SUL\")/1000","v":152.08500000000001},null,{"$f":"SUMIFS('Base TU'!CE:CE,'Base TU'!$A:$A,$B13,'Base TU'!$B:$B,\"SUL\")/1000","v":138.03800000000001},{"$f":"SUMIFS('Base TU'!CF:CF,'Base TU'!$A:$A,$B13,'Base TU'!$B:$B,\"SUL\")/1000","v":172.565},{"$f":"SUMIFS('Base TU'!CG:CG,'Base TU'!$A:$A,$B13,'Base TU'!$B:$B,\"SUL\")/1000","v":63.165999999999997},{"$f":"SUMIFS('Base TU'!CH:CH,'Base TU'!$A:$A,$B13,'Base TU'!$B:$B,\"Total Operação\")/1000","v":8.0030000000000001},{"$f":"SUMIFS('Base TU'!CI:CI,'Base TU'!$A:$A,$B13,'Base TU'!$B:$B,\"SUL\")/1000","v":1.2549999999999999},{"$f":"SUMIFS('Base TU'!CJ:CJ,'Base TU'!$A:$A,$B13,'Base TU'!$B:$B,\"SUL\")/1000","v":0},{"$f":"SUMIFS('Base TU'!CK:CK,'Base TU'!$A:$A,$B13,'Base TU'!$B:$B,\"SUL\")/1000","v":0},{"$f":"SUMIFS('Base TU'!CL:CL,'Base TU'!$A:$A,$B13,'Base TU'!$B:$B,\"SUL\")/1000","v":0},{"$f":"SUMIFS('Base TU'!CM:CM,'Base TU'!$A:$A,$B13,'Base TU'!$B:$B,\"SUL\")/1000","v":0},{"$f":"SUMIFS('Base TU'!CN:CN,'Base TU'!$A:$A,$B13,'Base TU'!$B:$B,\"SUL\")/1000","v":0},{"$f":"SUMIFS('Base TU'!CO:CO,'Base TU'!$A:$A,$B13,'Base TU'!$B:$B,\"SUL\")/1000","v":0},{"$f":"SUMIFS('Base TU'!CP:CP,'Base TU'!$A:$A,$B13,'Base TU'!$B:$B,\"SUL\")/1000","v":0}]
[null,"Malte",null,{"$f":"SUMIFS('Base TU'!E:E,'Base TU'!$A:$A,$B14,'Base TU'!$B:$B,\"SUL\")/1000","v":0},{"$f":"SUMIFS('Base TU'!F:F,'Base TU'!$A:$A,$B14,'Base TU'!$B:$B,\"SUL\")/1000","v":0},{"$f":"SUMIFS('Base TU'!G:G,'Base TU'!$A:$A,$B14,'Base TU'!$B:$B,\"SUL\")/1000","v":0},{"$f":"SUMIFS('Base TU'!H:H,'Base TU'!$A:$A,$B14,'Base TU'!$B:$B,\"SUL\")/1000","v":0},{"$f":"SUMIFS('Base TU'!I:I,'Base TU'!$A:$A,$B14,'Base TU'!$B:$B,\"SUL\")/1000","v":0},{"$f":"SUMIFS('Base TU'!J:J,'Base TU'!$A:$A,$B14,'Base TU'!$B:$B,\"SUL\")/1000","v":0},{"$f":"SUMIFS('Base TU'!K:K,'Base TU'!$A:$A,$B14,'Base TU'!$B:$B,\"SUL\")/1000","v":0},{"$f":"SUMIFS('Base TU'!L:L,'Base TU'!$A:$A,$B14,'Base TU'!$B:$B,\"SUL\")/1000","v":0},{"$f":"SUMIFS('Base TU'!M:M,'Base TU'!$A:$A,$B14,'Base TU'!$B:$B,\"SUL\")/1000","v":0},{"$f":"SUMIFS('Base TU'!N:N,'Base TU'!$A:$A,$B14,'Base TU'!$B:$B,\"SUL\")/1000","v":2.3109999999999999},{"$f":"SUMIFS('Base TU'!O:O,'Base TU'!$A:$A,$B14,'Base TU'!$B:$B,\"SUL\")/1000","v":0},{"$f":"SUMIFS('Base TU'!P:P,'Base TU'!$A:$A,$B14,'Base TU'!$B:$B,\"SUL\")/1000","v":0},null,{"$f":"SUMIFS('Base TU'!R:R,'Base TU'!$A:$A,$B14,'Base TU'!$B:$B,\"SUL\")/1000","v":0},{"$f":"SUMIFS('Base TU'!S:S,'Base TU'!$A:$A,$B14,'Base TU'!$B:$B,\"SUL\")/1000","v":0},{"$f":"SUMIFS('Base TU'!T:T,'Base TU'!$A:$A,$B14,'Base TU'!$B:$B,\"SUL\")/1000","v":0},{"$f":"SUMIFS('Base TU'!U:U,'Base TU'!$A:$A,$B14,'Base TU'!$B:$B,\"SUL\")/1000","v":0},{"$f":"SUMIFS('Base TU'!V:V,'Base TU'!$A:$A,$B14,'Base TU'!$B:$B,\"SUL\")/1000","v":0},{"$f":"SUMIFS('Base TU'!W:W,'Base TU'!$A:$A,$B14,'Base TU'!$B:$B,\"SUL\")/1000","v":0},{"$f":"SUMIFS('Base TU'!X:X,'Base TU'!$A:$A,$B14,'Base TU'!$B:$B,\"SUL\")/1000","v":0},{"$f":"SUMIFS('Base TU'!Y:Y,'Base TU'!$A:$A,$B14,'Base TU'!$B:$B,\"SUL\")/1000","v":0},{"$f":"SUMIFS('Base TU'!Z:Z,'Base TU'!$A:$A,$B14,'Base TU'!$B:$B,\"SUL\")/1000","v":0},{"$f":"SUMIFS('Base TU'!AA:AA,'Base TU'!$A:$A,$B14,'Base TU'!$B:$B,\"SUL\")/1000","v":0},{"$f":"SUMIFS('Base TU'!AB:AB,'Base TU'!$A:$A,$B14,'Base TU'!$B:$B,\"SUL\")/1000","v":0},{"$f":"SUMIFS('Base TU'!AC:AC,'Base TU'!$A:$A,$B14,'Base TU'!$B:$B,\"SUL\")/1000","v":0},null,{"$f":"SUMIFS('Base TU'!AE:AE,'Base TU'!$A:$A,$B14,'Base TU'!$B:$B,\"SUL\")/1000","v":0},{"$f":"SUMIFS('Base TU'!AF:AF,'Base TU'!$A:$A,$B14,'Base TU'!$B:$B,\"SUL\")/1000","v":0},{"$f":"SUMIFS('Base TU'!AG:AG,'Base TU'!$A:$A,$B14,'Base TU'!$B:$B,\"SUL\")/1000","v":0},{"$f":"SUMIFS('Base TU'!AH:AH,'Base TU'!$A:$A,$B14,'Base TU'!$B:$B,\"SUL\")/1000","v":0},{"$f":"SUMIFS('Base TU'!AI:AI,'Base TU'!$A:$A,$B14,'Base TU'!$B:$B,\"SUL\")/1000","v":0},{"$f":"SUMIFS('Base TU'!AJ:AJ,'Base TU'!$A:$A,$B14,'Base TU'!$B:$B,\"SUL\")/1000","v":0},{"$f":"SUMIFS('Base TU'!AK:AK,'Base TU'!$A:$A,$B14,'Base TU'!$B:$B,\"SUL\")/1000","v":0},{"$f":"SUMIFS('Base TU'!AL:AL,'Base TU'!$A:$A,$B14,'Base TU'!$B:$B,\"SUL\")/1000","v":0},{"$f":"SUMIFS('Base TU'!AM:AM,'Base TU'!$A:$A,$B14,'Base TU'!$B:$B,\"SUL\")/1000","v":0},{"$f":"SUMIFS('Base TU'!AN:AN,'Base TU'!$A:$A,$B14,'Base TU'!$B:$B,\"SUL\")/1000","v":0},{"$f":"SUMIFS('Base TU'!AO:AO,'Base TU'!$A:$A,$B14,'Base TU'!$B:$B,\"SUL\")/1000","v":0},{"$f":"SUMIFS('Base TU'!AP:AP,'Base TU'!$A:$A,$B14,'Base TU'!$B:$B,\"SUL\")/1000","v":0},null,{"$f":"SUMIFS('Base TU'!AR:AR,'Base TU'!$A:$A,$B14,'Base TU'!$B:$B,\"SUL\")/1000","v":0},{"$f":"SUMIFS('Base TU'!AS:AS,'Base TU'!$A:$A,$B14,'Base TU'!$B:$B,\"SUL\")/1000","v":0},{"$f":"SUMIFS('Base TU'!AT:AT,'Base TU'!$A:$A,$B14,'Base TU'!$B:$B,\"SUL\")/1000","v":0},{"$f":"SUMIFS('Base TU'!AU:AU,'Base TU'!$A:$A,$B14,'Base TU'!$B:$B,\"SUL\")/1000","v":0},{"$f":"SUMIFS('Base TU'!AV:AV,'Base TU'!$A:$A,$B14,'Base TU'!$B:$B,\"SUL\")/1000","v":0},{"$f":"SUMIFS('Base TU'!AW:AW,'Base TU'!$A:$A,$B14,'Base TU'!$B:$B,\"SUL\")/1000","v":0},{"$f":"SUMIFS('Base TU'!AX:AX,'Base TU'!$A:$A,$B14,'Base TU'!$B:$B,\"SUL\")/1000","v":0},{"$f":"SUMIFS('Base TU'!AY:AY,'Base TU'!$A:$A,$B14,'Base TU'!$B:$B,\"SUL\")/1000","v":0},{"$f":"SUMIFS('Base TU'!AZ:AZ,'Base TU'!$A:$A,$B14,'Base TU'!$B:$B,\"SUL\")/1000","v":0},{"$f":"SUMIFS('Base TU'!BA:BA,'Base TU'!$A:$A,$B14,'Base TU'!$B:$B,\"SUL\")/1000","v":0},{"$f":"SUMIFS('Base TU'!BB:BB,'Base TU'!$A:$A,$B14,'Base TU'!$B:$B,\"SUL\")/1000","v":0},{"$f":"SUMIFS('Base TU'!BC:BC,'Base TU'!$A:$A,$B14,'Base TU'!$B:$B,\"SUL\")/1000","v":0},null,{"$f":"SUMIFS('Base TU'!BE:BE,'Base TU'!$A:$A,$B14,'Base TU'!$B:$B,\"SUL\")/1000","v":0},{"$f":"SUMIFS('Base TU'!BF:BF,'Base TU'!$A:$A,$B14,'Base TU'!$B:$B,\"SUL\")/1000","v":0},{"$f":"SUMIFS('Base TU'!BG:BG,'Base TU'!$A:$A,$B14,'Base TU'!$B:$B,\"SUL\")/1000","v":0},{"$f":"SUMIFS('Base TU'!BH:BH,'Base TU'!$A:$A,$B14,'Base TU'!$B:$B,\"Total Operação\")/1000","v":0},{"$f":"SUMIFS('Base TU'!BI:BI,'Base TU'!$A:$A,$B14,'Base TU'!$B:$B,\"SUL\")/1000","v":0},{"$f":"SUMIFS('Base TU'!BJ:BJ,'Base TU'!$A:$A,$B14,'Base TU'!$B:$B,\"SUL\")/1000","v":0},{"$f":"SUMIFS('Base TU'!BK:BK,'Base TU'!$A:$A,$B14,'Base TU'!$B:$B,\"SUL\")/1000","v":0},{"$f":"SUMIFS('Base TU'!BL:BL,'Base TU'!$A:$A,$B14,'Base TU'!$B:$B,\"SUL\")/1000","v":0},{"$f":"SUMIFS('Base TU'!BM:BM,'Base TU'!$A:$A,$B14,'Base TU'!$B:$B,\"SUL\")/1000","v":0},{"$f":"SUMIFS('Base TU'!BN:BN,'Base TU'!$A:$A,$B14,'Base TU'!$B:$B,\"SUL\")/1000","v":0},{"$f":"SUMIFS('Base TU'!BO:BO,'Base TU'!$A:$A,$B14,'Base TU'!$B:$B,\"SUL\")/1000","v":0},{"$f":"SUMIFS('Base TU'!BP:BP,'Base TU'!$A:$A,$B14,'Base TU'!$B:$B,\"SUL\")/1000","v":0},null,{"$f":"SUMIFS('Base TU'!BR:BR,'Base TU'!$A:$A,$B14,'Base TU'!$B:$B,\"SUL\")/1000","v":0},{"$f":"SUMIFS('Base TU'!BS:BS,'Base TU'!$A:$A,$B14,'Base TU'!$B:$B,\"SUL\")/1000","v":0},{"$f":"SUMIFS('Base TU'!BT:BT,'Base TU'!$A:$A,$B14,'Base TU'!$B:$B,\"SUL\")/1000","v":0},{"$f":"SUMIFS('Base TU'!BU:BU,'Base TU'!$A:$A,$B14,'Base TU'!$B:$B,\"Total Operação\")/1000","v":0},{"$f":"SUMIFS('Base TU'!BV:BV,'Base TU'!$A:$A,$B14,'Base TU'!$B:$B,\"SUL\")/1000","v":0},{"$f":"SUMIFS('Base TU'!BW:BW,'Base TU'!$A:$A,$B14,'Base TU'!$B:$B,\"SUL\")/1000","v":0},{"$f":"SUMIFS('Base TU'!BX:BX,'Base TU'!$A:$A,$B14,'Base TU'!$B:$B,\"SUL\")/1000","v":0},{"$f":"SUMIFS('Base TU'!BY:BY,'Base TU'!$A:$A,$B14,'Base TU'!$B:$B,\"SUL\")/1000","v":0},{"$f":"SUMIFS('Base TU'!BZ:BZ,'Base TU'!$A:$A,$B14,'Base TU'!$B:$B,\"SUL\")/1000","v":0},{"$f":"SUMIFS('Base TU'!CA:CA,'Base TU'!$A:$A,$B14,'Base TU'!$B:$B,\"SUL\")/1000","v":0},{"$f":"SUMIFS('Base TU'!CB:CB,'Base TU'!$A:$A,$B14,'Base TU'!$B:$B,\"SUL\")/1000","v":0},{"$f":"SUMIFS('Base TU'!CC:CC,'Base TU'!$A:$A,$B14,'Base TU'!$B:$B,\"SUL\")/1000","v":0},null,{"$f":"SUMIFS('Base TU'!CE:CE,'Base TU'!$A:$A,$B14,'Base TU'!$B:$B,\"SUL\")/1000","v":0},{"$f":"SUMIFS('Base TU'!CF:CF,'Base TU'!$A:$A,$B14,'Base TU'!$B:$B,\"SUL\")/1000","v":0},{"$f":"SUMIFS('Base TU'!CG:CG,'Base TU'!$A:$A,$B14,'Base TU'!$B:$B,\"SUL\")/1000","v":0},{"$f":"SUMIFS('Base TU'!CH:CH,'Base TU'!$A:$A,$B14,'Base TU'!$B:$B,\"Total Operação\")/1000","v":0},{"$f":"SUMIFS('Base TU'!CI:CI,'Base TU'!$A:$A,$B14,'Base TU'!$B:$B,\"SUL\")/1000","v":0},{"$f":"SUMIFS('Base TU'!CJ:CJ,'Base TU'!$A:$A,$B14,'Base TU'!$B:$B,\"SUL\")/1000","v":0},{"$f":"SUMIFS('Base TU'!CK:CK,'Base TU'!$A:$A,$B14,'Base TU'!$B:$B,\"SUL\")/1000","v":0},{"$f":"SUMIFS('Base TU'!CL:CL,'Base TU'!$A:$A,$B14,'Base TU'!$B:$B,\"SUL\")/1000","v":0},{"$f":"SUMIFS('Base TU'!CM:CM,'Base TU'!$A:$A,$B14,'Base TU'!$B:$B,\"SUL\")/1000","v":0},{"$f":"SUMIFS('Base TU'!CN:CN,'Base TU'!$A:$A,$B14,'Base TU'!$B:$B,\"SUL\")/1000","v":0},{"$f":"SUMIFS('Base TU'!CO:CO,'Base TU'!$A:$A,$B14,'Base TU'!$B:$B,\"SUL\")/1000","v":0},{"$f":"SUMIFS('Base TU'!CP:CP,'Base TU'!$A:$A,$B14,'Base TU'!$B:$B,\"SUL\")/1000","v":0}]
[null,"Farelo de Milho",null,{"$f":"SUMIFS('Base TU'!E:E,'Base TU'!$A:$A,$B15,'Base TU'!$B:$B,\"SUL\")/1000","v":0},{"$f":"SUMIFS('Base TU'!F:F,'Base TU'!$A:$A,$B15,'Base TU'!$B:$B,\"SUL\")/1000","v":0},{"$f":"SUMIFS('Base TU'!G:G,'Base TU'!$A:$A,$B15,'Base TU'!$B:$B,\"SUL\")/1000","v":0},{"$f":"SUMIFS('Base TU'!H:H,'Base TU'!$A:$A,$B15,'Base TU'!$B:$B,\"SUL\")/1000","v":0},{"$f":"SUMIFS('Base TU'!I:I,'Base TU'!$A:$A,$B15,'Base TU'!$B:$B,\"SUL\")/1000","v":0},{"$f":"SUMIFS('Base TU'!J:J,'Base TU'!$A:$A,$B15,'Base TU'!$B:$B,\"SUL\")/1000","v":0},{"$f":"SUMIFS('Base TU'!K:K,'Base TU'!$A:$A,$B15,'Base TU'!$B:$B,\"SUL\")/1000","v":0},{"$f":"SUMIFS('Base TU'!L:L,'Base TU'!$A:$A,$B15,'Base TU'!$B:$B,\"SUL\")/1000","v":0},{"$f":"SUMIFS('Base TU'!M:M,'Base TU'!$A:$A,$B15,'Base TU'!$B:$B,\"SUL\")/1000","v":0},{"$f":"SUMIFS('Base TU'!N:N,'Base TU'!$A:$A,$B15,'Base TU'!$B:$B,\"SUL\")/1000","v":0},{"$f":"SUMIFS('Base TU'!O:O,'Base TU'!$A:$A,$B15,'Base TU'!$B:$B,\"SUL\")/1000","v":0},{"$f":"SUMIFS('Base TU'!P:P,'Base TU'!$A:$A,$B15,'Base TU'!$B:$B,\"SUL\")/1000","v":0},null,{"$f":"SUMIFS('Base TU'!R:R,'Base TU'!$A:$A,$B15,'Base TU'!$B:$B,\"SUL\")/1000","v":0},{"$f":"SUMIFS('Base TU'!S:S,'Base TU'!$A:$A,$B15,'Base TU'!$B:$B,\"SUL\")/1000","v":0},{"$f":"SUMIFS('Base TU'!T:T,'Base TU'!$A:$A,$B15,'Base TU'!$B:$B,\"SUL\")/1000","v":0},{"$f":"SUMIFS('Base TU'!U:U,'Base TU'!$A:$A,$B15,'Base TU'!$B:$B,\"SUL\")/1000","v":0},{"$f":"SUMIFS('Base TU'!V:V,'Base TU'!$A:$A,$B15,'Base TU'!$B:$B,\"SUL\")/1000","v":0},{"$f":"SUMIFS('Base TU'!W:W,'Base TU'!$A:$A,$B15,'Base TU'!$B:$B,\"SUL\")/1000","v":0},{"$f":"SUMIFS('Base TU'!X:X,'Base TU'!$A:$A,$B15,'Base TU'!$B:$B,\"SUL\")/1000","v":0},{"$f":"SUMIFS('Base TU'!Y:Y,'Base TU'!$A:$A,$B15,'Base TU'!$B:$B,\"SUL\")/1000","v":0},{"$f":"SUMIFS('Base TU'!Z:Z,'Base TU'!$A:$A,$B15,'Base TU'!$B:$B,\"SUL\")/1000","v":0},{"$f":"SUMIFS('Base TU'!AA:AA,'Base TU'!$A:$A,$B15,'Base TU'!$B:$B,\"SUL\")/1000","v":0},{"$f":"SUMIFS('Base TU'!AB:AB,'Base TU'!$A:$A,$B15,'Base TU'!$B:$B,\"SUL\")/1000","v":0},{"$f":"SUMIFS('Base TU'!AC:AC,'Base TU'!$A:$A,$B15,'Base TU'!$B:$B,\"SUL\")/1000","v":0},null,{"$f":"SUMIFS('Base TU'!AE:AE,'Base TU'!$A:$A,$B15,'Base TU'!$B:$B,\"SUL\")/1000","v":0},{"$f":"SUMIFS('Base TU'!AF:AF,'Base TU'!$A:$A,$B15,'Base TU'!$B:$B,\"SUL\")/1000","v":0},{"$f":"SUMIFS('Base TU'!AG:AG,'Base TU'!$A:$A,$B15,'Base TU'!$B:$B,\"SUL\")/1000","v":0},{"$f":"SUMIFS('Base TU'!AH:AH,'Base TU'!$A:$A,$B15,'Base TU'!$B:$B,\"SUL\")/1000","v":0},{"$f":"SUMIFS('Base TU'!AI:AI,'Base TU'!$A:$A,$B15,'Base TU'!$B:$B,\"SUL\")/1000","v":0},{"$f":"SUMIFS('Base TU'!AJ:AJ,'Base TU'!$A:$A,$B15,'Base TU'!$B:$B,\"SUL\")/1000","v":0},{"$f":"SUMIFS('Base TU'!AK:AK,'Base TU'!$A:$A,$B15,'Base TU'!$B:$B,\"SUL\")/1000","v":0},{"$f":"SUMIFS('Base TU'!AL:AL,'Base TU'!$A:$A,$B15,'Base TU'!$B:$B,\"SUL\")/1000","v":0},{"$f":"SUMIFS('Base TU'!AM:AM,'Base TU'!$A:$A,$B15,'Base TU'!$B:$B,\"SUL\")/1000","v":0},{"$f":"SUMIFS('Base TU'!AN:AN,'Base TU'!$A:$A,$B15,'Base TU'!$B:$B,\"SUL\")/1000","v":0},{"$f":"SUMIFS('Base TU'!AO:AO,'Base TU'!$A:$A,$B15,'Base TU'!$B:$B,\"SUL\")/1000","v":0},{"$f":"SUMIFS('Base TU'!AP:AP,'Base TU'!$A:$A,$B15,'Base TU'!$B:$B,\"SUL\")/1000","v":0},null,{"$f":"SUMIFS('Base TU'!AR:AR,'Base TU'!$A:$A,$B15,'Base TU'!$B:$B,\"SUL\")/1000","v":0},{"$f":"SUMIFS('Base TU'!AS:AS,'Base TU'!$A:$A,$B15,'Base TU'!$B:$B,\"SUL\")/1000","v":0},{"$f":"SUMIFS('Base TU'!AT:AT,'Base TU'!$A:$A,$B15,'Base TU'!$B:$B,\"SUL\")/1000","v":0},{"$f":"SUMIFS('Base TU'!AU:AU,'Base TU'!$A:$A,$B15,'Base TU'!$B:$B,\"SUL\")/1000","v":0},{"$f":"SUMIFS('Base TU'!AV:AV,'Base TU'!$A:$A,$B15,'Base TU'!$B:$B,\"SUL\")/1000","v":0},{"$f":"SUMIFS('Base TU'!AW:AW,'Base TU'!$A:$A,$B15,'Base TU'!$B:$B,\"SUL\")/1000","v":0},{"$f":"SUMIFS('Base TU'!AX:AX,'Base TU'!$A:$A,$B15,'Base TU'!$B:$B,\"SUL\")/1000","v":0},{"$f":"SUMIFS('Base TU'!AY:AY,'Base TU'!$A:$A,$B15,'Base TU'!$B:$B,\"SUL\")/1000","v":0},{"$f":"SUMIFS('Base TU'!AZ:AZ,'Base TU'!$A:$A,$B15,'Base TU'!$B:$B,\"SUL\")/1000","v":0},{"$f":"SUMIFS('Base TU'!BA:BA,'Base TU'!$A:$A,$B15,'Base TU'!$B:$B,\"SUL\")/1000","v":0},{"$f":"SUMIFS('Base TU'!BB:BB,'Base TU'!$A:$A,$B15,'Base TU'!$B:$B,\"SUL\")/1000","v":0},{"$f":"SUMIFS('Base TU'!BC:BC,'Base TU'!$A:$A,$B15,'Base TU'!$B:$B,\"SUL\")/1000","v":0},null,{"$f":"SUMIFS('Base TU'!BE:BE,'Base TU'!$A:$A,$B15,'Base TU'!$B:$B,\"SUL\")/1000","v":0},{"$f":"SUMIFS('Base TU'!BF:BF,'Base TU'!$A:$A,$B15,'Base TU'!$B:$B,\"SUL\")/1000","v":0},{"$f":"SUMIFS('Base TU'!BG:BG,'Base TU'!$A:$A,$B15,'Base TU'!$B:$B,\"SUL\")/1000","v":0},{"$f":"SUMIFS('Base TU'!BH:BH,'Base TU'!$A:$A,$B15,'Base TU'!$B:$B,\"Total Operação\")/1000","v":0},{"$f":"SUMIFS('Base TU'!BI:BI,'Base TU'!$A:$A,$B15,'Base TU'!$B:$B,\"SUL\")/1000","v":0},{"$f":"SUMIFS('Base TU'!BJ:BJ,'Base TU'!$A:$A,$B15,'Base TU'!$B:$B,\"SUL\")/1000","v":0},{"$f":"SUMIFS('Base TU'!BK:BK,'Base TU'!$A:$A,$B15,'Base TU'!$B:$B,\"SUL\")/1000","v":0},{"$f":"SUMIFS('Base TU'!BL:BL,'Base TU'!$A:$A,$B15,'Base TU'!$B:$B,\"SUL\")/1000","v":0},{"$f":"SUMIFS('Base TU'!BM:BM,'Base TU'!$A:$A,$B15,'Base TU'!$B:$B,\"SUL\")/1000","v":0},{"$f":"SUMIFS('Base TU'!BN:BN,'Base TU'!$A:$A,$B15,'Base TU'!$B:$B,\"SUL\")/1000","v":0},{"$f":"SUMIFS('Base TU'!BO:BO,'Base TU'!$A:$A,$B15,'Base TU'!$B:$B,\"SUL\")/1000","v":0},{"$f":"SUMIFS('Base TU'!BP:BP,'Base TU'!$A:$A,$B15,'Base TU'!$B:$B,\"SUL\")/1000","v":0},null,{"$f":"SUMIFS('Base TU'!BR:BR,'Base TU'!$A:$A,$B15,'Base TU'!$B:$B,\"SUL\")/1000","v":0},{"$f":"SUMIFS('Base TU'!BS:BS,'Base TU'!$A:$A,$B15,'Base TU'!$B:$B,\"SUL\")/1000","v":0},{"$f":"SUMIFS('Base TU'!BT:BT,'Base TU'!$A:$A,$B15,'Base TU'!$B:$B,\"SUL\")/1000","v":0},{"$f":"SUMIFS('Base TU'!BU:BU,'Base TU'!$A:$A,$B15,'Base TU'!$B:$B,\"Total Operação\")/1000","v":0},{"$f":"SUMIFS('Base TU'!BV:BV,'Base TU'!$A:$A,$B15,'Base TU'!$B:$B,\"SUL\")/1000","v":0},{"$f":"SUMIFS('Base TU'!BW:BW,'Base TU'!$A:$A,$B15,'Base TU'!$B:$B,\"SUL\")/1000","v":0},{"$f":"SUMIFS('Base TU'!BX:BX,'Base TU'!$A:$A,$B15,'Base TU'!$B:$B,\"SUL\")/1000","v":0},{"$f":"SUMIFS('Base TU'!BY:BY,'Base TU'!$A:$A,$B15,'Base TU'!$B:$B,\"SUL\")/1000","v":0},{"$f":"SUMIFS('Base TU'!BZ:BZ,'Base TU'!$A:$A,$B15,'Base TU'!$B:$B,\"SUL\")/1000","v":0},{"$f":"SUMIFS('Base TU'!CA:CA,'Base TU'!$A:$A,$B15,'Base TU'!$B:$B,\"SUL\")/1000","v":0},{"$f":"SUMIFS('Base TU'!CB:CB,'Base TU'!$A:$A,$B15,'Base TU'!$B:$B,\"SUL\")/1000","v":0},{"$f":"SUMIFS('Base TU'!CC:CC,'Base TU'!$A:$A,$B15,'Base TU'!$B:$B,\"SUL\")/1000","v":0},null,{"$f":"SUMIFS('Base TU'!CE:CE,'Base TU'!$A:$A,$B15,'Base TU'!$B:$B,\"SUL\")/1000","v":0},{"$f":"SUMIFS('Base TU'!CF:CF,'Base TU'!$A:$A,$B15,'Base TU'!$B:$B,\"SUL\")/1000","v":0},{"$f":"SUMIFS('Base TU'!CG:CG,'Base TU'!$A:$A,$B15,'Base TU'!$B:$B,\"SUL\")/1000","v":0},{"$f":"SUMIFS('Base TU'!CH:CH,'Base TU'!$A:$A,$B15,'Base TU'!$B:$B,\"Total Operação\")/1000","v":0},{"$f":"SUMIFS('Base TU'!CI:CI,'Base TU'!$A:$A,$B15,'Base TU'!$B:$B,\"SUL\")/1000","v":0},{"$f":"SUMIFS('Base TU'!CJ:CJ,'Base TU'!$A:$A,$B15,'Base TU'!$B:$B,\"SUL\")/1000","v":0},{"$f":"SUMIFS('Base TU'!CK:CK,'Base TU'!$A:$A,$B15,'Base TU'!$B:$B,\"SUL\")/1000","v":0},{"$f":"SUMIFS('Base TU'!CL:CL,'Base TU'!$A:$A,$B15,'Base TU'!$B:$B,\"SUL\")/1000","v":0},{"$f":"SUMIFS('Base TU'!CM:CM,'Base TU'!$A:$A,$B15,'Base TU'!$B:$B,\"SUL\")/1000","v":0},{"$f":"SUMIFS('Base TU'!CN:CN,'Base TU'!$A:$A,$B15,'Base TU'!$B:$B,\"SUL\")/1000","v":0},{"$f":"SUMIFS('Base TU'!CO:CO,'Base TU'!$A:$A,$B15,'Base TU'!$B:$B,\"SUL\")/1000","v":0},{"$f":"SUMIFS('Base TU'!CP:CP,'Base TU'!$A:$A,$B15,'Base TU'!$B:$B,\"SUL\")/1000","v":0}]
[null,"Contêiner",null,{"$f":"SUMIFS('Base TU'!E:E,'Base TU'!$A:$A,$B16,'Base TU'!$B:$B,\"SUL\")/1000","v":73.284000000000006},{"$f":"SUMIFS('Base TU'!F:F,'Base TU'!$A:$A,$B16,'Base TU'!$B:$B,\"SUL\")/1000","v":93.19},{"$f":"SUMIFS('Base TU'!G:G,'Base TU'!$A:$A,$B16,'Base TU'!$B:$B,\"SUL\")/1000","v":99.643000000000001},{"$f":"SUMIFS('Base TU'!H:H,'Base TU'!$A:$A,$B16,'Base TU'!$B:$B,\"SUL\")/1000","v":97.588999999999999},{"$f":"SUMIFS('Base TU'!I:I,'Base TU'!$A:$A,$B16,'Base TU'!$B:$B,\"SUL\")/1000","v":92.724000000000004},{"$f":"SUMIFS('Base TU'!J:J,'Base TU'!$A:$A,$B16,'Base TU'!$B:$B,\"SUL\")/1000","v":93.533000000000001},{"$f":"SUMIFS('Base TU'!K:K,'Base TU'!$A:$A,$B16,'Base TU'!$B:$B,\"SUL\")/1000","v":79.986000000000004},{"$f":"SUMIFS('Base TU'!L:L,'Base TU'!$A:$A,$B16,'Base TU'!$B:$B,\"SUL\")/1000","v":78.66},{"$f":"SUMIFS('Base TU'!M:M,'Base TU'!$A:$A,$B16,'Base TU'!$B:$B,\"SUL\")/1000","v":76.56},{"$f":"SUMIFS('Base TU'!N:N,'Base TU'!$A:$A,$B16,'Base TU'!$B:$B,\"SUL\")/1000","v":74.11},{"$f":"SUMIFS('Base TU'!O:O,'Base TU'!$A:$A,$B16,'Base TU'!$B:$B,\"SUL\")/1000","v":67.53},{"$f":"SUMIFS('Base TU'!P:P,'Base TU'!$A:$A,$B16,'Base TU'!$B:$B,\"SUL\")/1000","v":61.183},null,{"$f":"SUMIFS('Base TU'!R:R,'Base TU'!$A:$A,$B16,'Base TU'!$B:$B,\"SUL\")/1000","v":73.02},{"$f":"SUMIFS('Base TU'!S:S,'Base TU'!$A:$A,$B16,'Base TU'!$B:$B,\"SUL\")/1000","v":69.811000000000007},{"$f":"SUMIFS('Base TU'!T:T,'Base TU'!$A:$A,$B16,'Base TU'!$B:$B,\"SUL\")/1000","v":77.704999999999998},{"$f":"SUMIFS('Base TU'!U:U,'Base TU'!$A:$A,$B16,'Base TU'!$B:$B,\"SUL\")/1000","v":70.215999999999994},{"$f":"SUMIFS('Base TU'!V:V,'Base TU'!$A:$A,$B16,'Base TU'!$B:$B,\"SUL\")/1000","v":78.858999999999995},{"$f":"SUMIFS('Base TU'!W:W,'Base TU'!$A:$A,$B16,'Base TU'!$B:$B,\"SUL\")/1000","v":75.727000000000004},{"$f":"SUMIFS('Base TU'!X:X,'Base TU'!$A:$A,$B16,'Base TU'!$B:$B,\"SUL\")/1000","v":74.613},{"$f":"SUMIFS('Base TU'!Y:Y,'Base TU'!$A:$A,$B16,'Base TU'!$B:$B,\"SUL\")/1000","v":80.644999999999996},{"$f":"SUMIFS('Base TU'!Z:Z,'Base TU'!$A:$A,$B16,'Base TU'!$B:$B,\"SUL\")/1000","v":64.617999999999995},{"$f":"SUMIFS('Base TU'!AA:AA,'Base TU'!$A:$A,$B16,'Base TU'!$B:$B,\"SUL\")/1000","v":64.069000000000003},{"$f":"SUMIFS('Base TU'!AB:AB,'Base TU'!$A:$A,$B16,'Base TU'!$B:$B,\"SUL\")/1000","v":51.814999999999998},{"$f":"SUMIFS('Base TU'!AC:AC,'Base TU'!$A:$A,$B16,'Base TU'!$B:$B,\"SUL\")/1000","v":62.14},null,{"$f":"SUMIFS('Base TU'!AE:AE,'Base TU'!$A:$A,$B16,'Base TU'!$B:$B,\"SUL\")/1000","v":54.661999999999999},{"$f":"SUMIFS('Base TU'!AF:AF,'Base TU'!$A:$A,$B16,'Base TU'!$B:$B,\"SUL\")/1000","v":71.673000000000002},{"$f":"SUMIFS('Base TU'!AG:AG,'Base TU'!$A:$A,$B16,'Base TU'!$B:$B,\"SUL\")/1000","v":77.314999999999998},{"$f":"SUMIFS('Base TU'!AH:AH,'Base TU'!$A:$A,$B16,'Base TU'!$B:$B,\"SUL\")/1000","v":85.995999999999995},{"$f":"SUMIFS('Base TU'!AI:AI,'Base TU'!$A:$A,$B16,'Base TU'!$B:$B,\"SUL\")/1000","v":71.602000000000004},{"$f":"SUMIFS('Base TU'!AJ:AJ,'Base TU'!$A:$A,$B16,'Base TU'!$B:$B,\"SUL\")/1000","v":86.921999999999997},{"$f":"SUMIFS('Base TU'!AK:AK,'Base TU'!$A:$A,$B16,'Base TU'!$B:$B,\"SUL\")/1000","v":93.614000000000004},{"$f":"SUMIFS('Base TU'!AL:AL,'Base TU'!$A:$A,$B16,'Base TU'!$B:$B,\"SUL\")/1000","v":98.674999999999997},{"$f":"SUMIFS('Base TU'!AM:AM,'Base TU'!$A:$A,$B16,'Base TU'!$B:$B,\"SUL\")/1000","v":98.942999999999998},{"$f":"SUMIFS('Base TU'!AN:AN,'Base TU'!$A:$A,$B16,'Base TU'!$B:$B,\"SUL\")/1000","v":104.337},{"$f":"SUMIFS('Base TU'!AO:AO,'Base TU'!$A:$A,$B16,'Base TU'!$B:$B,\"SUL\")/1000","v":98.444999999999993},{"$f":"SUMIFS('Base TU'!AP:AP,'Base TU'!$A:$A,$B16,'Base TU'!$B:$B,\"SUL\")/1000","v":96.793999999999997},null,{"$f":"SUMIFS('Base TU'!AR:AR,'Base TU'!$A:$A,$B16,'Base TU'!$B:$B,\"SUL\")/1000","v":90.64},{"$f":"SUMIFS('Base TU'!AS:AS,'Base TU'!$A:$A,$B16,'Base TU'!$B:$B,\"SUL\")/1000","v":90.762},{"$f":"SUMIFS('Base TU'!AT:AT,'Base TU'!$A:$A,$B16,'Base TU'!$B:$B,\"SUL\")/1000","v":101.026},{"$f":"SUMIFS('Base TU'!AU:AU,'Base TU'!$A:$A,$B16,'Base TU'!$B:$B,\"SUL\")/1000","v":101.752},{"$f":"SUMIFS('Base TU'!AV:AV,'Base TU'!$A:$A,$B16,'Base TU'!$B:$B,\"SUL\")/1000","v":106.42700000000001},{"$f":"SUMIFS('Base TU'!AW:AW,'Base TU'!$A:$A,$B16,'Base TU'!$B:$B,\"SUL\")/1000","v":104.621},{"$f":"SUMIFS('Base TU'!AX:AX,'Base TU'!$A:$A,$B16,'Base TU'!$B:$B,\"SUL\")/1000","v":114.111},{"$f":"SUMIFS('Base TU'!AY:AY,'Base TU'!$A:$A,$B16,'Base TU'!$B:$B,\"SUL\")/1000","v":119.176},{"$f":"SUMIFS('Base TU'!AZ:AZ,'Base TU'!$A:$A,$B16,'Base TU'!$B:$B,\"SUL\")/1000","v":124.95399999999999},{"$f":"SUMIFS('Base TU'!BA:BA,'Base TU'!$A:$A,$B16,'Base TU'!$B:$B,\"SUL\")/1000","v":114.232},{"$f":"SUMIFS('Base TU'!BB:BB,'Base TU'!$A:$A,$B16,'Base TU'!$B:$B,\"SUL\")/1000","v":110.89700000000001},{"$f":"SUMIFS('Base TU'!BC:BC,'Base TU'!$A:$A,$B16,'Base TU'!$B:$B,\"SUL\")/1000","v":103.611},null,{"$f":"SUMIFS('Base TU'!BE:BE,'Base TU'!$A:$A,$B16,'Base TU'!$B:$B,\"SUL\")/1000","v":113.64400000000001},{"$f":"SUMIFS('Base TU'!BF:BF,'Base TU'!$A:$A,$B16,'Base TU'!$B:$B,\"SUL\")/1000","v":112.708},{"$f":"SUMIFS('Base TU'!BG:BG,'Base TU'!$A:$A,$B16,'Base TU'!$B:$B,\"SUL\")/1000","v":96.084000000000003},{"$f":"SUMIFS('Base TU'!BH:BH,'Base TU'!$A:$A,$B16,'Base TU'!$B:$B,\"SUL\")/1000","v":118.35899999999999},{"$f":"SUMIFS('Base TU'!BI:BI,'Base TU'!$A:$A,$B16,'Base TU'!$B:$B,\"SUL\")/1000","v":119.74},{"$f":"SUMIFS('Base TU'!BJ:BJ,'Base TU'!$A:$A,$B16,'Base TU'!$B:$B,\"SUL\")/1000","v":129.90100000000001},{"$f":"SUMIFS('Base TU'!BK:BK,'Base TU'!$A:$A,$B16,'Base TU'!$B:$B,\"SUL\")/1000","v":134.31700000000001},{"$f":"SUMIFS('Base TU'!BL:BL,'Base TU'!$A:$A,$B16,'Base TU'!$B:$B,\"SUL\")/1000","v":125.444},{"$f":"SUMIFS('Base TU'!BM:BM,'Base TU'!$A:$A,$B16,'Base TU'!$B:$B,\"SUL\")/1000","v":127.172},{"$f":"SUMIFS('Base TU'!BN:BN,'Base TU'!$A:$A,$B16,'Base TU'!$B:$B,\"SUL\")/1000","v":123.976},{"$f":"SUMIFS('Base TU'!BO:BO,'Base TU'!$A:$A,$B16,'Base TU'!$B:$B,\"SUL\")/1000","v":120.098},{"$f":"SUMIFS('Base TU'!BP:BP,'Base TU'!$A:$A,$B16,'Base TU'!$B:$B,\"SUL\")/1000","v":106.196},null,{"$f":"SUMIFS('Base TU'!BR:BR,'Base TU'!$A:$A,$B16,'Base TU'!$B:$B,\"SUL\")/1000","v":110.57299999999999},{"$f":"SUMIFS('Base TU'!BS:BS,'Base TU'!$A:$A,$B16,'Base TU'!$B:$B,\"SUL\")/1000","v":124.471},{"$f":"SUMIFS('Base TU'!BT:BT,'Base TU'!$A:$A,$B16,'Base TU'!$B:$B,\"SUL\")/1000","v":115.48399999999999},{"$f":"SUMIFS('Base TU'!BU:BU,'Base TU'!$A:$A,$B16,'Base TU'!$B:$B,\"SUL\")/1000","v":125.248},{"$f":"SUMIFS('Base TU'!BV:BV,'Base TU'!$A:$A,$B16,'Base TU'!$B:$B,\"SUL\")/1000","v":118.461},{"$f":"SUMIFS('Base TU'!BW:BW,'Base TU'!$A:$A,$B16,'Base TU'!$B:$B,\"SUL\")/1000","v":108.776},{"$f":"SUMIFS('Base TU'!BX:BX,'Base TU'!$A:$A,$B16,'Base TU'!$B:$B,\"SUL\")/1000","v":110.64100000000001},{"$f":"SUMIFS('Base TU'!BY:BY,'Base TU'!$A:$A,$B16,'Base TU'!$B:$B,\"SUL\")/1000","v":99.512},{"$f":"SUMIFS('Base TU'!BZ:BZ,'Base TU'!$A:$A,$B16,'Base TU'!$B:$B,\"SUL\")/1000","v":87.253},{"$f":"SUMIFS('Base TU'!CA:CA,'Base TU'!$A:$A,$B16,'Base TU'!$B:$B,\"SUL\")/1000","v":92.316999999999993},{"$f":"SUMIFS('Base TU'!CB:CB,'Base TU'!$A:$A,$B16,'Base TU'!$B:$B,\"SUL\")/1000","v":98.331999999999994},{"$f":"SUMIFS('Base TU'!CC:CC,'Base TU'!$A:$A,$B16,'Base TU'!$B:$B,\"SUL\")/1000","v":98.385000000000005},null,{"$f":"SUMIFS('Base TU'!CE:CE,'Base TU'!$A:$A,$B16,'Base TU'!$B:$B,\"SUL\")/1000","v":125.53100000000001},{"$f":"SUMIFS('Base TU'!CF:CF,'Base TU'!$A:$A,$B16,'Base TU'!$B:$B,\"SUL\")/1000","v":129.29499999999999},{"$f":"SUMIFS('Base TU'!CG:CG,'Base TU'!$A:$A,$B16,'Base TU'!$B:$B,\"SUL\")/1000","v":134.95500000000001},{"$f":"SUMIFS('Base TU'!CH:CH,'Base TU'!$A:$A,$B16,'Base TU'!$B:$B,\"SUL\")/1000","v":140.434},{"$f":"SUMIFS('Base TU'!CI:CI,'Base TU'!$A:$A,$B16,'Base TU'!$B:$B,\"SUL\")/1000","v":150.53800000000001},{"$f":"SUMIFS('Base TU'!CJ:CJ,'Base TU'!$A:$A,$B16,'Base TU'!$B:$B,\"SUL\")/1000","v":0},{"$f":"SUMIFS('Base TU'!CK:CK,'Base TU'!$A:$A,$B16,'Base TU'!$B:$B,\"SUL\")/1000","v":0},{"$f":"SUMIFS('Base TU'!CL:CL,'Base TU'!$A:$A,$B16,'Base TU'!$B:$B,\"SUL\")/1000","v":0},{"$f":"SUMIFS('Base TU'!CM:CM,'Base TU'!$A:$A,$B16,'Base TU'!$B:$B,\"SUL\")/1000","v":0},{"$f":"SUMIFS('Base TU'!CN:CN,'Base TU'!$A:$A,$B16,'Base TU'!$B:$B,\"SUL\")/1000","v":0},{"$f":"SUMIFS('Base TU'!CO:CO,'Base TU'!$A:$A,$B16,'Base TU'!$B:$B,\"SUL\")/1000","v":0},{"$f":"SUMIFS('Base TU'!CP:CP,'Base TU'!$A:$A,$B16,'Base TU'!$B:$B,\"SUL\")/1000","v":0}]
[null,"Produtos Industriais",null,{"$f":"SUM(D18:D21)","v":566.41100000000006},{"$f":"SUM(E18:E21)","v":556.89700000000005},636.86500000000001,626.56200000000001,693.66899999999998,738.346,818.25199999999995,843.14800000000014,761.13499999999999,757.34400000000005,716.87299999999993,653.29200000000003,null,715.54700000000003,650.35,714.09699999999998,705.43500000000006,807.22299999999996,794.63599999999997,868.06299999999999,875.25699999999995,864.11400000000003,886.56500000000005,789.83500000000004,795.07099999999991,0,773.52599999999995,757.67800000000011,758.29099999999994,747.43399999999997,769.34800000000007,807.06200000000001,819.87900000000002,858.2829999999999,822.96899999999994,851.62899999999991,799.66300000000001,791.68600000000004,null,687.58600000000001,616.00600000000009,682.2890000000001,740.77800000000002,759.57400000000007,812.64099999999996,853.06700000000001,894.11200000000008,831.36200000000008,837.60500000000002,750.08500000000004,576.73599999999999,null,624.00599999999997,643.66600000000005,479.15199999999999,625.11099999999999,614.14700000000005,603.46699999999998,719.77800000000002,755.17600000000004,749.58400000000006,544.39700000000005,487.62099999999998,486.55200000000002,null,{"$f":"SUM(BQ18:BQ21)","v":574.95600000000002},646.95800000000008,725.04,727.32600000000002,785.88499999999999,706.25599999999997,726.61500000000001,745.65599999999995,628.20600000000002,637.38199999999995,588.92200000000003,568.39200000000005,null,{"$f":"SUM(CD18:CD21)","v":556.83899999999994},483.65999999999997,641.96400000000006,618.88599999999997,716.55799999999999,0,0,0,0,0,0,0]
[null,"Combustível",null,{"$f":"SUMIFS('Base TU'!E:E,'Base TU'!$A:$A,$B18,'Base TU'!$B:$B,\"SUL\")/1000","v":245.291},{"$f":"SUMIFS('Base TU'!F:F,'Base TU'!$A:$A,$B18,'Base TU'!$B:$B,\"SUL\")/1000","v":280.88200000000001},{"$f":"SUMIFS('Base TU'!G:G,'Base TU'!$A:$A,$B18,'Base TU'!$B:$B,\"SUL\")/1000","v":294.06400000000002},{"$f":"SUMIFS('Base TU'!H:H,'Base TU'!$A:$A,$B18,'Base TU'!$B:$B,\"SUL\")/1000","v":269.53199999999998},{"$f":"SUMIFS('Base TU'!I:I,'Base TU'!$A:$A,$B18,'Base TU'!$B:$B,\"SUL\")/1000","v":271.71699999999998},{"$f":"SUMIFS('Base TU'!J:J,'Base TU'!$A:$A,$B18,'Base TU'!$B:$B,\"SUL\")/1000","v":292.23700000000002},{"$f":"SUMIFS('Base TU'!K:K,'Base TU'!$A:$A,$B18,'Base TU'!$B:$B,\"SUL\")/1000","v":300.24799999999999},{"$f":"SUMIFS('Base TU'!L:L,'Base TU'!$A:$A,$B18,'Base TU'!$B:$B,\"SUL\")/1000","v":301.858},{"$f":"SUMIFS('Base TU'!M:M,'Base TU'!$A:$A,$B18,'Base TU'!$B:$B,\"SUL\")/1000","v":283.62099999999998},{"$f":"SUMIFS('Base TU'!N:N,'Base TU'!$A:$A,$B18,'Base TU'!$B:$B,\"SUL\")/1000","v":288.64800000000002},{"$f":"SUMIFS('Base TU'!O:O,'Base TU'!$A:$A,$B18,'Base TU'!$B:$B,\"SUL\")/1000","v":269.57900000000001},{"$f":"SUMIFS('Base TU'!P:P,'Base TU'!$A:$A,$B18,'Base TU'!$B:$B,\"SUL\")/1000","v":232.73},null,{"$f":"SUMIFS('Base TU'!R:R,'Base TU'!$A:$A,$B18,'Base TU'!$B:$B,\"SUL\")/1000","v":247.35400000000001},{"$f":"SUMIFS('Base TU'!S:S,'Base TU'!$A:$A,$B18,'Base TU'!$B:$B,\"SUL\")/1000","v":229.65199999999999},{"$f":"SUMIFS('Base TU'!T:T,'Base TU'!$A:$A,$B18,'Base TU'!$B:$B,\"SUL\")/1000","v":254.23699999999999},{"$f":"SUMIFS('Base TU'!U:U,'Base TU'!$A:$A,$B18,'Base TU'!$B:$B,\"SUL\")/1000","v":241.363},{"$f":"SUMIFS('Base TU'!V:V,'Base TU'!$A:$A,$B18,'Base TU'!$B:$B,\"SUL\")/1000","v":273.90600000000001},{"$f":"SUMIFS('Base TU'!W:W,'Base TU'!$A:$A,$B18,'Base TU'!$B:$B,\"SUL\")/1000","v":261.33600000000001},{"$f":"SUMIFS('Base TU'!X:X,'Base TU'!$A:$A,$B18,'Base TU'!$B:$B,\"SUL\")/1000","v":328.93200000000002},{"$f":"SUMIFS('Base TU'!Y:Y,'Base TU'!$A:$A,$B18,'Base TU'!$B:$B,\"SUL\")/1000","v":334.53199999999998},{"$f":"SUMIFS('Base TU'!Z:Z,'Base TU'!$A:$A,$B18,'Base TU'!$B:$B,\"SUL\")/1000","v":329.464},{"$f":"SUMIFS('Base TU'!AA:AA,'Base TU'!$A:$A,$B18,'Base TU'!$B:$B,\"SUL\")/1000","v":351.464},{"$f":"SUMIFS('Base TU'!AB:AB,'Base TU'!$A:$A,$B18,'Base TU'!$B:$B,\"SUL\")/1000","v":290.24099999999999},{"$f":"SUMIFS('Base TU'!AC:AC,'Base TU'!$A:$A,$B18,'Base TU'!$B:$B,\"SUL\")/1000","v":276.08999999999997},null,{"$f":"SUMIFS('Base TU'!AE:AE,'Base TU'!$A:$A,$B18,'Base TU'!$B:$B,\"SUL\")/1000","v":263.42899999999997},{"$f":"SUMIFS('Base TU'!AF:AF,'Base TU'!$A:$A,$B18,'Base TU'!$B:$B,\"SUL\")/1000","v":286.30900000000003},{"$f":"SUMIFS('Base TU'!AG:AG,'Base TU'!$A:$A,$B18,'Base TU'!$B:$B,\"SUL\")/1000","v":305.23099999999999},{"$f":"SUMIFS('Base TU'!AH:AH,'Base TU'!$A:$A,$B18,'Base TU'!$B:$B,\"SUL\")/1000","v":256.03899999999999},{"$f":"SUMIFS('Base TU'!AI:AI,'Base TU'!$A:$A,$B18,'Base TU'!$B:$B,\"SUL\")/1000","v":245.28200000000001},{"$f":"SUMIFS('Base TU'!AJ:AJ,'Base TU'!$A:$A,$B18,'Base TU'!$B:$B,\"SUL\")/1000","v":276.26100000000002},{"$f":"SUMIFS('Base TU'!AK:AK,'Base TU'!$A:$A,$B18,'Base TU'!$B:$B,\"SUL\")/1000","v":295.01900000000001},{"$f":"SUMIFS('Base TU'!AL:AL,'Base TU'!$A:$A,$B18,'Base TU'!$B:$B,\"SUL\")/1000","v":290.274},{"$f":"SUMIFS('Base TU'!AM:AM,'Base TU'!$A:$A,$B18,'Base TU'!$B:$B,\"SUL\")/1000","v":282.03899999999999},{"$f":"SUMIFS('Base TU'!AN:AN,'Base TU'!$A:$A,$B18,'Base TU'!$B:$B,\"SUL\")/1000","v":280.03899999999999},{"$f":"SUMIFS('Base TU'!AO:AO,'Base TU'!$A:$A,$B18,'Base TU'!$B:$B,\"SUL\")/1000","v":265.96199999999999},{"$f":"SUMIFS('Base TU'!AP:AP,'Base TU'!$A:$A,$B18,'Base TU'!$B:$B,\"SUL\")/1000","v":269.85500000000002},null,{"$f":"SUMIFS('Base TU'!AR:AR,'Base TU'!$A:$A,$B18,'Base TU'!$B:$B,\"SUL\")/1000","v":271.74700000000001},{"$f":"SUMIFS('Base TU'!AS:AS,'Base TU'!$A:$A,$B18,'Base TU'!$B:$B,\"SUL\")/1000","v":272.49200000000002},{"$f":"SUMIFS('Base TU'!AT:AT,'Base TU'!$A:$A,$B18,'Base TU'!$B:$B,\"SUL\")/1000","v":287.42200000000003},{"$f":"SUMIFS('Base TU'!AU:AU,'Base TU'!$A:$A,$B18,'Base TU'!$B:$B,\"SUL\")/1000","v":305.56900000000002},{"$f":"SUMIFS('Base TU'!AV:AV,'Base TU'!$A:$A,$B18,'Base TU'!$B:$B,\"SUL\")/1000","v":301.96800000000002},{"$f":"SUMIFS('Base TU'!AW:AW,'Base TU'!$A:$A,$B18,'Base TU'!$B:$B,\"SUL\")/1000","v":302.25},{"$f":"SUMIFS('Base TU'!AX:AX,'Base TU'!$A:$A,$B18,'Base TU'!$B:$B,\"SUL\")/1000","v":321.62099999999998},{"$f":"SUMIFS('Base TU'!AY:AY,'Base TU'!$A:$A,$B18,'Base TU'!$B:$B,\"SUL\")/1000","v":330.03500000000003},{"$f":"SUMIFS('Base TU'!AZ:AZ,'Base TU'!$A:$A,$B18,'Base TU'!$B:$B,\"SUL\")/1000","v":305.88600000000002},{"$f":"SUMIFS('Base TU'!BA:BA,'Base TU'!$A:$A,$B18,'Base TU'!$B:$B,\"SUL\")/1000","v":325.286},{"$f":"SUMIFS('Base TU'!BB:BB,'Base TU'!$A:$A,$B18,'Base TU'!$B:$B,\"SUL\")/1000","v":288.99400000000003},{"$f":"SUMIFS('Base TU'!BC:BC,'Base TU'!$A:$A,$B18,'Base TU'!$B:$B,\"SUL\")/1000","v":280.26100000000002},null,{"$f":"SUMIFS('Base TU'!BE:BE,'Base TU'!$A:$A,$B18,'Base TU'!$B:$B,\"SUL\")/1000","v":280.78699999999998},{"$f":"SUMIFS('Base TU'!BF:BF,'Base TU'!$A:$A,$B18,'Base TU'!$B:$B,\"SUL\")/1000","v":276.65699999999998},{"$f":"SUMIFS('Base TU'!BG:BG,'Base TU'!$A:$A,$B18,'Base TU'!$B:$B,\"SUL\")/1000","v":172.07599999999999},{"$f":"SUMIFS('Base TU'!BH:BH,'Base TU'!$A:$A,$B18,'Base TU'!$B:$B,\"SUL\")/1000","v":200.98500000000001},{"$f":"SUMIFS('Base TU'!BI:BI,'Base TU'!$A:$A,$B18,'Base TU'!$B:$B,\"SUL\")/1000","v":225.547},{"$f":"SUMIFS('Base TU'!BJ:BJ,'Base TU'!$A:$A,$B18,'Base TU'!$B:$B,\"SUL\")/1000","v":246.58},{"$f":"SUMIFS('Base TU'!BK:BK,'Base TU'!$A:$A,$B18,'Base TU'!$B:$B,\"SUL\")/1000","v":259.77300000000002},{"$f":"SUMIFS('Base TU'!BL:BL,'Base TU'!$A:$A,$B18,'Base TU'!$B:$B,\"SUL\")/1000","v":256.76600000000002},{"$f":"SUMIFS('Base TU'!BM:BM,'Base TU'!$A:$A,$B18,'Base TU'!$B:$B,\"SUL\")/1000","v":262.11500000000001},{"$f":"SUMIFS('Base TU'!BN:BN,'Base TU'!$A:$A,$B18,'Base TU'!$B:$B,\"SUL\")/1000","v":276.702},{"$f":"SUMIFS('Base TU'!BO:BO,'Base TU'!$A:$A,$B18,'Base TU'!$B:$B,\"SUL\")/1000","v":268.245},{"$f":"SUMIFS('Base TU'!BP:BP,'Base TU'!$A:$A,$B18,'Base TU'!$B:$B,\"SUL\")/1000","v":242.09100000000001},null,{"$f":"SUMIFS('Base TU'!BR:BR,'Base TU'!$A:$A,$B18,'Base TU'!$B:$B,\"SUL\")/1000","v":259.87299999999999},{"$f":"SUMIFS('Base TU'!BS:BS,'Base TU'!$A:$A,$B18,'Base TU'!$B:$B,\"SUL\")/1000","v":266.78800000000001},{"$f":"SUMIFS('Base TU'!BT:BT,'Base TU'!$A:$A,$B18,'Base TU'!$B:$B,\"SUL\")/1000","v":272.17700000000002},{"$f":"SUMIFS('Base TU'!BU:BU,'Base TU'!$A:$A,$B18,'Base TU'!$B:$B,\"SUL\")/1000","v":247.654},{"$f":"SUMIFS('Base TU'!BV:BV,'Base TU'!$A:$A,$B18,'Base TU'!$B:$B,\"SUL\")/1000","v":281.95100000000002},{"$f":"SUMIFS('Base TU'!BW:BW,'Base TU'!$A:$A,$B18,'Base TU'!$B:$B,\"SUL\")/1000","v":257.29599999999999},{"$f":"SUMIFS('Base TU'!BX:BX,'Base TU'!$A:$A,$B18,'Base TU'!$B:$B,\"SUL\")/1000","v":267.46899999999999},{"$f":"SUMIFS('Base TU'!BY:BY,'Base TU'!$A:$A,$B18,'Base TU'!$B:$B,\"SUL\")/1000","v":279.86},{"$f":"SUMIFS('Base TU'!BZ:BZ,'Base TU'!$A:$A,$B18,'Base TU'!$B:$B,\"SUL\")/1000","v":262.99599999999998},{"$f":"SUMIFS('Base TU'!CA:CA,'Base TU'!$A:$A,$B18,'Base TU'!$B:$B,\"SUL\")/1000","v":260.048},{"$f":"SUMIFS('Base TU'!CB:CB,'Base TU'!$A:$A,$B18,'Base TU'!$B:$B,\"SUL\")/1000","v":261.72899999999998},{"$f":"SUMIFS('Base TU'!CC:CC,'Base TU'!$A:$A,$B18,'Base TU'!$B:$B,\"SUL\")/1000","v":252.96},null,{"$f":"SUMIFS('Base TU'!CE:CE,'Base TU'!$A:$A,$B18,'Base TU'!$B:$B,\"SUL\")/1000","v":240.56200000000001},{"$f":"SUMIFS('Base TU'!CF:CF,'Base TU'!$A:$A,$B18,'Base TU'!$B:$B,\"SUL\")/1000","v":228.87799999999999},{"$f":"SUMIFS('Base TU'!CG:CG,'Base TU'!$A:$A,$B18,'Base TU'!$B:$B,\"SUL\")/1000","v":271.08800000000002},{"$f":"SUMIFS('Base TU'!CH:CH,'Base TU'!$A:$A,$B18,'Base TU'!$B:$B,\"SUL\")/1000","v":262.084},{"$f":"SUMIFS('Base TU'!CI:CI,'Base TU'!$A:$A,$B18,'Base TU'!$B:$B,\"SUL\")/1000","v":275.64299999999997},{"$f":"SUMIFS('Base TU'!CJ:CJ,'Base TU'!$A:$A,$B18,'Base TU'!$B:$B,\"SUL\")/1000","v":0},{"$f":"SUMIFS('Base TU'!CK:CK,'Base TU'!$A:$A,$B18,'Base TU'!$B:$B,\"SUL\")/1000","v":0},{"$f":"SUMIFS('Base TU'!CL:CL,'Base TU'!$A:$A,$B18,'Base TU'!$B:$B,\"SUL\")/1000","v":0},{"$f":"SUMIFS('Base TU'!CM:CM,'Base TU'!$A:$A,$B18,'Base TU'!$B:$B,\"SUL\")/1000","v":0},{"$f":"SUMIFS('Base TU'!CN:CN,'Base TU'!$A:$A,$B18,'Base TU'!$B:$B,\"SUL\")/1000","v":0},{"$f":"SUMIFS('Base TU'!CO:CO,'Base TU'!$A:$A,$B18,'Base TU'!$B:$B,\"SUL\")/1000","v":0},{"$f":"SUMIFS('Base TU'!CP:CP,'Base TU'!$A:$A,$B18,'Base TU'!$B:$B,\"SUL\")/1000","v":0}]
[null,"Madeira, Papel e Celulose",null,{"$f":"SUMIFS('Base TU'!E:E,'Base TU'!$A:$A,$B19,'Base TU'!$B:$B,\"SUL\")/1000","v":45.322000000000003},{"$f":"SUMIFS('Base TU'!F:F,'Base TU'!$A:$A,$B19,'Base TU'!$B:$B,\"SUL\")/1000","v":47.828000000000003},{"$f":"SUMIFS('Base TU'!G:G,'Base TU'!$A:$A,$B19,'Base TU'!$B:$B,\"SUL\")/1000","v":64.436000000000007},{"$f":"SUMIFS('Base TU'!H:H,'Base TU'!$A:$A,$B19,'Base TU'!$B:$B,\"SUL\")/1000","v":64.503},{"$f":"SUMIFS('Base TU'!I:I,'Base TU'!$A:$A,$B19,'Base TU'!$B:$B,\"SUL\")/1000","v":82.876000000000005},{"$f":"SUMIFS('Base TU'!J:J,'Base TU'!$A:$A,$B19,'Base TU'!$B:$B,\"SUL\")/1000","v":90.808000000000007},{"$f":"SUMIFS('Base TU'!K:K,'Base TU'!$A:$A,$B19,'Base TU'!$B:$B,\"SUL\")/1000","v":129.744},{"$f":"SUMIFS('Base TU'!L:L,'Base TU'!$A:$A,$B19,'Base TU'!$B:$B,\"SUL\")/1000","v":131.49199999999999},{"$f":"SUMIFS('Base TU'!M:M,'Base TU'!$A:$A,$B19,'Base TU'!$B:$B,\"SUL\")/1000","v":123.536},{"$f":"SUMIFS('Base TU'!N:N,'Base TU'!$A:$A,$B19,'Base TU'!$B:$B,\"SUL\")/1000","v":134.66800000000001},{"$f":"SUMIFS('Base TU'!O:O,'Base TU'!$A:$A,$B19,'Base TU'!$B:$B,\"SUL\")/1000","v":119.172},{"$f":"SUMIFS('Base TU'!P:P,'Base TU'!$A:$A,$B19,'Base TU'!$B:$B,\"SUL\")/1000","v":116.38},null,{"$f":"SUMIFS('Base TU'!R:R,'Base TU'!$A:$A,$B19,'Base TU'!$B:$B,\"SUL\")/1000","v":121.27200000000001},{"$f":"SUMIFS('Base TU'!S:S,'Base TU'!$A:$A,$B19,'Base TU'!$B:$B,\"SUL\")/1000","v":78.311999999999998},{"$f":"SUMIFS('Base TU'!T:T,'Base TU'!$A:$A,$B19,'Base TU'!$B:$B,\"SUL\")/1000","v":109.82},{"$f":"SUMIFS('Base TU'!U:U,'Base TU'!$A:$A,$B19,'Base TU'!$B:$B,\"SUL\")/1000","v":123.256},{"$f":"SUMIFS('Base TU'!V:V,'Base TU'!$A:$A,$B19,'Base TU'!$B:$B,\"SUL\")/1000","v":143.63200000000001},{"$f":"SUMIFS('Base TU'!W:W,'Base TU'!$A:$A,$B19,'Base TU'!$B:$B,\"SUL\")/1000","v":136.928},{"$f":"SUMIFS('Base TU'!X:X,'Base TU'!$A:$A,$B19,'Base TU'!$B:$B,\"SUL\")/1000","v":138.18799999999999},{"$f":"SUMIFS('Base TU'!Y:Y,'Base TU'!$A:$A,$B19,'Base TU'!$B:$B,\"SUL\")/1000","v":139.476},{"$f":"SUMIFS('Base TU'!Z:Z,'Base TU'!$A:$A,$B19,'Base TU'!$B:$B,\"SUL\")/1000","v":147.08799999999999},{"$f":"SUMIFS('Base TU'!AA:AA,'Base TU'!$A:$A,$B19,'Base TU'!$B:$B,\"SUL\")/1000","v":147.35599999999999},{"$f":"SUMIFS('Base TU'!AB:AB,'Base TU'!$A:$A,$B19,'Base TU'!$B:$B,\"SUL\")/1000","v":134.036},{"$f":"SUMIFS('Base TU'!AC:AC,'Base TU'!$A:$A,$B19,'Base TU'!$B:$B,\"SUL\")/1000","v":153.08000000000001},null,{"$f":"SUMIFS('Base TU'!AE:AE,'Base TU'!$A:$A,$B19,'Base TU'!$B:$B,\"SUL\")/1000","v":143.55099999999999},{"$f":"SUMIFS('Base TU'!AF:AF,'Base TU'!$A:$A,$B19,'Base TU'!$B:$B,\"SUL\")/1000","v":127.376},{"$f":"SUMIFS('Base TU'!AG:AG,'Base TU'!$A:$A,$B19,'Base TU'!$B:$B,\"SUL\")/1000","v":76.132000000000005},{"$f":"SUMIFS('Base TU'!AH:AH,'Base TU'!$A:$A,$B19,'Base TU'!$B:$B,\"SUL\")/1000","v":101.592},{"$f":"SUMIFS('Base TU'!AI:AI,'Base TU'!$A:$A,$B19,'Base TU'!$B:$B,\"SUL\")/1000","v":97.188000000000002},{"$f":"SUMIFS('Base TU'!AJ:AJ,'Base TU'!$A:$A,$B19,'Base TU'!$B:$B,\"SUL\")/1000","v":154.34399999999999},{"$f":"SUMIFS('Base TU'!AK:AK,'Base TU'!$A:$A,$B19,'Base TU'!$B:$B,\"SUL\")/1000","v":131.16399999999999},{"$f":"SUMIFS('Base TU'!AL:AL,'Base TU'!$A:$A,$B19,'Base TU'!$B:$B,\"SUL\")/1000","v":171.33799999999999},{"$f":"SUMIFS('Base TU'!AM:AM,'Base TU'!$A:$A,$B19,'Base TU'!$B:$B,\"SUL\")/1000","v":142.01599999999999},{"$f":"SUMIFS('Base TU'!AN:AN,'Base TU'!$A:$A,$B19,'Base TU'!$B:$B,\"SUL\")/1000","v":159.96799999999999},{"$f":"SUMIFS('Base TU'!AO:AO,'Base TU'!$A:$A,$B19,'Base TU'!$B:$B,\"SUL\")/1000","v":140.54},{"$f":"SUMIFS('Base TU'!AP:AP,'Base TU'!$A:$A,$B19,'Base TU'!$B:$B,\"SUL\")/1000","v":150.36000000000001},null,{"$f":"SUMIFS('Base TU'!AR:AR,'Base TU'!$A:$A,$B19,'Base TU'!$B:$B,\"SUL\")/1000","v":132.72},{"$f":"SUMIFS('Base TU'!AS:AS,'Base TU'!$A:$A,$B19,'Base TU'!$B:$B,\"SUL\")/1000","v":123.28},{"$f":"SUMIFS('Base TU'!AT:AT,'Base TU'!$A:$A,$B19,'Base TU'!$B:$B,\"SUL\")/1000","v":135.744},{"$f":"SUMIFS('Base TU'!AU:AU,'Base TU'!$A:$A,$B19,'Base TU'!$B:$B,\"SUL\")/1000","v":109.916},{"$f":"SUMIFS('Base TU'!AV:AV,'Base TU'!$A:$A,$B19,'Base TU'!$B:$B,\"SUL\")/1000","v":119.64400000000001},{"$f":"SUMIFS('Base TU'!AW:AW,'Base TU'!$A:$A,$B19,'Base TU'!$B:$B,\"SUL\")/1000","v":124.28},{"$f":"SUMIFS('Base TU'!AX:AX,'Base TU'!$A:$A,$B19,'Base TU'!$B:$B,\"SUL\")/1000","v":101.36799999999999},{"$f":"SUMIFS('Base TU'!AY:AY,'Base TU'!$A:$A,$B19,'Base TU'!$B:$B,\"SUL\")/1000","v":138.30799999999999},{"$f":"SUMIFS('Base TU'!AZ:AZ,'Base TU'!$A:$A,$B19,'Base TU'!$B:$B,\"SUL\")/1000","v":132.744},{"$f":"SUMIFS('Base TU'!BA:BA,'Base TU'!$A:$A,$B19,'Base TU'!$B:$B,\"SUL\")/1000","v":140.72},{"$f":"SUMIFS('Base TU'!BB:BB,'Base TU'!$A:$A,$B19,'Base TU'!$B:$B,\"SUL\")/1000","v":142.20400000000001},{"$f":"SUMIFS('Base TU'!BC:BC,'Base TU'!$A:$A,$B19,'Base TU'!$B:$B,\"SUL\")/1000","v":135.38800000000001},null,{"$f":"SUMIFS('Base TU'!BE:BE,'Base TU'!$A:$A,$B19,'Base TU'!$B:$B,\"SUL\")/1000","v":125.13200000000001},{"$f":"SUMIFS('Base TU'!BF:BF,'Base TU'!$A:$A,$B19,'Base TU'!$B:$B,\"SUL\")/1000","v":68.468000000000004},{"$f":"SUMIFS('Base TU'!BG:BG,'Base TU'!$A:$A,$B19,'Base TU'!$B:$B,\"SUL\")/1000","v":78.962000000000003},{"$f":"SUMIFS('Base TU'!BH:BH,'Base TU'!$A:$A,$B19,'Base TU'!$B:$B,\"SUL\")/1000","v":36.43},{"$f":"SUMIFS('Base TU'!BI:BI,'Base TU'!$A:$A,$B19,'Base TU'!$B:$B,\"SUL\")/1000","v":80},{"$f":"SUMIFS('Base TU'!BJ:BJ,'Base TU'!$A:$A,$B19,'Base TU'!$B:$B,\"SUL\")/1000","v":77.248000000000005},{"$f":"SUMIFS('Base TU'!BK:BK,'Base TU'!$A:$A,$B19,'Base TU'!$B:$B,\"SUL\")/1000","v":125.48},{"$f":"SUMIFS('Base TU'!BL:BL,'Base TU'!$A:$A,$B19,'Base TU'!$B:$B,\"SUL\")/1000","v":134.76599999999999},{"$f":"SUMIFS('Base TU'!BM:BM,'Base TU'!$A:$A,$B19,'Base TU'!$B:$B,\"SUL\")/1000","v":130.94},{"$f":"SUMIFS('Base TU'!BN:BN,'Base TU'!$A:$A,$B19,'Base TU'!$B:$B,\"SUL\")/1000","v":118.88800000000001},{"$f":"SUMIFS('Base TU'!BO:BO,'Base TU'!$A:$A,$B19,'Base TU'!$B:$B,\"SUL\")/1000","v":113.812},{"$f":"SUMIFS('Base TU'!BP:BP,'Base TU'!$A:$A,$B19,'Base TU'!$B:$B,\"SUL\")/1000","v":64.662000000000006},null,{"$f":"SUMIFS('Base TU'!BR:BR,'Base TU'!$A:$A,$B19,'Base TU'!$B:$B,\"SUL\")/1000","v":125.504},{"$f":"SUMIFS('Base TU'!BS:BS,'Base TU'!$A:$A,$B19,'Base TU'!$B:$B,\"SUL\")/1000","v":120.1},{"$f":"SUMIFS('Base TU'!BT:BT,'Base TU'!$A:$A,$B19,'Base TU'!$B:$B,\"SUL\")/1000","v":115.428},{"$f":"SUMIFS('Base TU'!BU:BU,'Base TU'!$A:$A,$B19,'Base TU'!$B:$B,\"SUL\")/1000","v":124.348},{"$f":"SUMIFS('Base TU'!BV:BV,'Base TU'!$A:$A,$B19,'Base TU'!$B:$B,\"SUL\")/1000","v":126.72799999999999},{"$f":"SUMIFS('Base TU'!BW:BW,'Base TU'!$A:$A,$B19,'Base TU'!$B:$B,\"SUL\")/1000","v":114.708},{"$f":"SUMIFS('Base TU'!BX:BX,'Base TU'!$A:$A,$B19,'Base TU'!$B:$B,\"SUL\")/1000","v":95.507999999999996},{"$f":"SUMIFS('Base TU'!BY:BY,'Base TU'!$A:$A,$B19,'Base TU'!$B:$B,\"SUL\")/1000","v":122.348},{"$f":"SUMIFS('Base TU'!BZ:BZ,'Base TU'!$A:$A,$B19,'Base TU'!$B:$B,\"SUL\")/1000","v":85.388000000000005},{"$f":"SUMIFS('Base TU'!CA:CA,'Base TU'!$A:$A,$B19,'Base TU'!$B:$B,\"SUL\")/1000","v":82.488},{"$f":"SUMIFS('Base TU'!CB:CB,'Base TU'!$A:$A,$B19,'Base TU'!$B:$B,\"SUL\")/1000","v":78.055999999999997},{"$f":"SUMIFS('Base TU'!CC:CC,'Base TU'!$A:$A,$B19,'Base TU'!$B:$B,\"SUL\")/1000","v":75.384},null,{"$f":"SUMIFS('Base TU'!CE:CE,'Base TU'!$A:$A,$B19,'Base TU'!$B:$B,\"SUL\")/1000","v":67.498000000000005},{"$f":"SUMIFS('Base TU'!CF:CF,'Base TU'!$A:$A,$B19,'Base TU'!$B:$B,\"SUL\")/1000","v":16.96},{"$f":"SUMIFS('Base TU'!CG:CG,'Base TU'!$A:$A,$B19,'Base TU'!$B:$B,\"SUL\")/1000","v":77.054000000000002},{"$f":"SUMIFS('Base TU'!CH:CH,'Base TU'!$A:$A,$B19,'Base TU'!$B:$B,\"SUL\")/1000","v":72.831999999999994},{"$f":"SUMIFS('Base TU'!CI:CI,'Base TU'!$A:$A,$B19,'Base TU'!$B:$B,\"SUL\")/1000","v":69.248000000000005},{"$f":"SUMIFS('Base TU'!CJ:CJ,'Base TU'!$A:$A,$B19,'Base TU'!$B:$B,\"SUL\")/1000","v":0},{"$f":"SUMIFS('Base TU'!CK:CK,'Base TU'!$A:$A,$B19,'Base TU'!$B:$B,\"SUL\")/1000","v":0},{"$f":"SUMIFS('Base TU'!CL:CL,'Base TU'!$A:$A,$B19,'Base TU'!$B:$B,\"SUL\")/1000","v":0},{"$f":"SUMIFS('Base TU'!CM:CM,'Base TU'!$A:$A,$B19,'Base TU'!$B:$B,\"SUL\")/1000","v":0},{"$f":"SUMIFS('Base TU'!CN:CN,'Base TU'!$A:$A,$B19,'Base TU'!$B:$B,\"SUL\")/1000","v":0},{"$f":"SUMIFS('Base TU'!CO:CO,'Base TU'!$A:$A,$B19,'Base TU'!$B:$B,\"SUL\")/1000","v":0},{"$f":"SUMIFS('Base TU'!CP:CP,'Base TU'!$A:$A,$B19,'Base TU'!$B:$B,\"SUL\")/1000","v":0}]
[null,"Construção Civil",null,{"$f":"SUMIFS('Base TU'!E:E,'Base TU'!$A:$A,$B20,'Base TU'!$B:$B,\"SUL\")/1000","v":63.997999999999998},{"$f":"SUMIFS('Base TU'!F:F,'Base TU'!$A:$A,$B20,'Base TU'!$B:$B,\"SUL\")/1000","v":75.308000000000007},{"$f":"SUMIFS('Base TU'!G:G,'Base TU'!$A:$A,$B20,'Base TU'!$B:$B,\"SUL\")/1000","v":84.034999999999997},{"$f":"SUMIFS('Base TU'!H:H,'Base TU'!$A:$A,$B20,'Base TU'!$B:$B,\"SUL\")/1000","v":85.867000000000004},{"$f":"SUMIFS('Base TU'!I:I,'Base TU'!$A:$A,$B20,'Base TU'!$B:$B,\"SUL\")/1000","v":78.944000000000003},{"$f":"SUMIFS('Base TU'!J:J,'Base TU'!$A:$A,$B20,'Base TU'!$B:$B,\"SUL\")/1000","v":97.022999999999996},{"$f":"SUMIFS('Base TU'!K:K,'Base TU'!$A:$A,$B20,'Base TU'!$B:$B,\"SUL\")/1000","v":102.803},{"$f":"SUMIFS('Base TU'!L:L,'Base TU'!$A:$A,$B20,'Base TU'!$B:$B,\"SUL\")/1000","v":111.39700000000001},{"$f":"SUMIFS('Base TU'!M:M,'Base TU'!$A:$A,$B20,'Base TU'!$B:$B,\"SUL\")/1000","v":105.209},{"$f":"SUMIFS('Base TU'!N:N,'Base TU'!$A:$A,$B20,'Base TU'!$B:$B,\"SUL\")/1000","v":100.83},{"$f":"SUMIFS('Base TU'!O:O,'Base TU'!$A:$A,$B20,'Base TU'!$B:$B,\"SUL\")/1000","v":97.067999999999998},{"$f":"SUMIFS('Base TU'!P:P,'Base TU'!$A:$A,$B20,'Base TU'!$B:$B,\"SUL\")/1000","v":92.293000000000006},null,{"$f":"SUMIFS('Base TU'!R:R,'Base TU'!$A:$A,$B20,'Base TU'!$B:$B,\"SUL\")/1000","v":101.41200000000001},{"$f":"SUMIFS('Base TU'!S:S,'Base TU'!$A:$A,$B20,'Base TU'!$B:$B,\"SUL\")/1000","v":87.427000000000007},{"$f":"SUMIFS('Base TU'!T:T,'Base TU'!$A:$A,$B20,'Base TU'!$B:$B,\"SUL\")/1000","v":94.281999999999996},{"$f":"SUMIFS('Base TU'!U:U,'Base TU'!$A:$A,$B20,'Base TU'!$B:$B,\"SUL\")/1000","v":92.403000000000006},{"$f":"SUMIFS('Base TU'!V:V,'Base TU'!$A:$A,$B20,'Base TU'!$B:$B,\"SUL\")/1000","v":101.154},{"$f":"SUMIFS('Base TU'!W:W,'Base TU'!$A:$A,$B20,'Base TU'!$B:$B,\"SUL\")/1000","v":82.278999999999996},{"$f":"SUMIFS('Base TU'!X:X,'Base TU'!$A:$A,$B20,'Base TU'!$B:$B,\"SUL\")/1000","v":101.848},{"$f":"SUMIFS('Base TU'!Y:Y,'Base TU'!$A:$A,$B20,'Base TU'!$B:$B,\"SUL\")/1000","v":102.581},{"$f":"SUMIFS('Base TU'!Z:Z,'Base TU'!$A:$A,$B20,'Base TU'!$B:$B,\"SUL\")/1000","v":93.915999999999997},{"$f":"SUMIFS('Base TU'!AA:AA,'Base TU'!$A:$A,$B20,'Base TU'!$B:$B,\"SUL\")/1000","v":100.30500000000001},{"$f":"SUMIFS('Base TU'!AB:AB,'Base TU'!$A:$A,$B20,'Base TU'!$B:$B,\"SUL\")/1000","v":75.057000000000002},{"$f":"SUMIFS('Base TU'!AC:AC,'Base TU'!$A:$A,$B20,'Base TU'!$B:$B,\"SUL\")/1000","v":86.501999999999995},null,{"$f":"SUMIFS('Base TU'!AE:AE,'Base TU'!$A:$A,$B20,'Base TU'!$B:$B,\"SUL\")/1000","v":79.734999999999999},{"$f":"SUMIFS('Base TU'!AF:AF,'Base TU'!$A:$A,$B20,'Base TU'!$B:$B,\"SUL\")/1000","v":78.171999999999997},{"$f":"SUMIFS('Base TU'!AG:AG,'Base TU'!$A:$A,$B20,'Base TU'!$B:$B,\"SUL\")/1000","v":91.382000000000005},{"$f":"SUMIFS('Base TU'!AH:AH,'Base TU'!$A:$A,$B20,'Base TU'!$B:$B,\"SUL\")/1000","v":78.183999999999997},{"$f":"SUMIFS('Base TU'!AI:AI,'Base TU'!$A:$A,$B20,'Base TU'!$B:$B,\"SUL\")/1000","v":82.296999999999997},{"$f":"SUMIFS('Base TU'!AJ:AJ,'Base TU'!$A:$A,$B20,'Base TU'!$B:$B,\"SUL\")/1000","v":81.956000000000003},{"$f":"SUMIFS('Base TU'!AK:AK,'Base TU'!$A:$A,$B20,'Base TU'!$B:$B,\"SUL\")/1000","v":83.495000000000005},{"$f":"SUMIFS('Base TU'!AL:AL,'Base TU'!$A:$A,$B20,'Base TU'!$B:$B,\"SUL\")/1000","v":82.566999999999993},{"$f":"SUMIFS('Base TU'!AM:AM,'Base TU'!$A:$A,$B20,'Base TU'!$B:$B,\"SUL\")/1000","v":89.221999999999994},{"$f":"SUMIFS('Base TU'!AN:AN,'Base TU'!$A:$A,$B20,'Base TU'!$B:$B,\"SUL\")/1000","v":95.337000000000003},{"$f":"SUMIFS('Base TU'!AO:AO,'Base TU'!$A:$A,$B20,'Base TU'!$B:$B,\"SUL\")/1000","v":95.387},{"$f":"SUMIFS('Base TU'!AP:AP,'Base TU'!$A:$A,$B20,'Base TU'!$B:$B,\"SUL\")/1000","v":69.846999999999994},null,{"$f":"SUMIFS('Base TU'!AR:AR,'Base TU'!$A:$A,$B20,'Base TU'!$B:$B,\"SUL\")/1000","v":86.203999999999994},{"$f":"SUMIFS('Base TU'!AS:AS,'Base TU'!$A:$A,$B20,'Base TU'!$B:$B,\"SUL\")/1000","v":82.105999999999995},{"$f":"SUMIFS('Base TU'!AT:AT,'Base TU'!$A:$A,$B20,'Base TU'!$B:$B,\"SUL\")/1000","v":82.644000000000005},{"$f":"SUMIFS('Base TU'!AU:AU,'Base TU'!$A:$A,$B20,'Base TU'!$B:$B,\"SUL\")/1000","v":76.054000000000002},{"$f":"SUMIFS('Base TU'!AV:AV,'Base TU'!$A:$A,$B20,'Base TU'!$B:$B,\"SUL\")/1000","v":87.521000000000001},{"$f":"SUMIFS('Base TU'!AW:AW,'Base TU'!$A:$A,$B20,'Base TU'!$B:$B,\"SUL\")/1000","v":90.51},{"$f":"SUMIFS('Base TU'!AX:AX,'Base TU'!$A:$A,$B20,'Base TU'!$B:$B,\"SUL\")/1000","v":94.313999999999993},{"$f":"SUMIFS('Base TU'!AY:AY,'Base TU'!$A:$A,$B20,'Base TU'!$B:$B,\"SUL\")/1000","v":103.953},{"$f":"SUMIFS('Base TU'!AZ:AZ,'Base TU'!$A:$A,$B20,'Base TU'!$B:$B,\"SUL\")/1000","v":97.713999999999999},{"$f":"SUMIFS('Base TU'!BA:BA,'Base TU'!$A:$A,$B20,'Base TU'!$B:$B,\"SUL\")/1000","v":100.559},{"$f":"SUMIFS('Base TU'!BB:BB,'Base TU'!$A:$A,$B20,'Base TU'!$B:$B,\"SUL\")/1000","v":87.456000000000003},{"$f":"SUMIFS('Base TU'!BC:BC,'Base TU'!$A:$A,$B20,'Base TU'!$B:$B,\"SUL\")/1000","v":79.257999999999996},null,{"$f":"SUMIFS('Base TU'!BE:BE,'Base TU'!$A:$A,$B20,'Base TU'!$B:$B,\"SUL\")/1000","v":89.27},{"$f":"SUMIFS('Base TU'!BF:BF,'Base TU'!$A:$A,$B20,'Base TU'!$B:$B,\"SUL\")/1000","v":92.811000000000007},{"$f":"SUMIFS('Base TU'!BG:BG,'Base TU'!$A:$A,$B20,'Base TU'!$B:$B,\"SUL\")/1000","v":60.804000000000002},{"$f":"SUMIFS('Base TU'!BH:BH,'Base TU'!$A:$A,$B20,'Base TU'!$B:$B,\"SUL\")/1000","v":90.418999999999997},{"$f":"SUMIFS('Base TU'!BI:BI,'Base TU'!$A:$A,$B20,'Base TU'!$B:$B,\"SUL\")/1000","v":102.468},{"$f":"SUMIFS('Base TU'!BJ:BJ,'Base TU'!$A:$A,$B20,'Base TU'!$B:$B,\"SUL\")/1000","v":92.522999999999996},{"$f":"SUMIFS('Base TU'!BK:BK,'Base TU'!$A:$A,$B20,'Base TU'!$B:$B,\"SUL\")/1000","v":89.373000000000005},{"$f":"SUMIFS('Base TU'!BL:BL,'Base TU'!$A:$A,$B20,'Base TU'!$B:$B,\"SUL\")/1000","v":98.649000000000001},{"$f":"SUMIFS('Base TU'!BM:BM,'Base TU'!$A:$A,$B20,'Base TU'!$B:$B,\"SUL\")/1000","v":94.611000000000004},{"$f":"SUMIFS('Base TU'!BN:BN,'Base TU'!$A:$A,$B20,'Base TU'!$B:$B,\"SUL\")/1000","v":113.919},{"$f":"SUMIFS('Base TU'!BO:BO,'Base TU'!$A:$A,$B20,'Base TU'!$B:$B,\"SUL\")/1000","v":101.962},{"$f":"SUMIFS('Base TU'!BP:BP,'Base TU'!$A:$A,$B20,'Base TU'!$B:$B,\"SUL\")/1000","v":86.102999999999994},null,{"$f":"SUMIFS('Base TU'!BR:BR,'Base TU'!$A:$A,$B20,'Base TU'!$B:$B,\"SUL\")/1000","v":95.335999999999999},{"$f":"SUMIFS('Base TU'!BS:BS,'Base TU'!$A:$A,$B20,'Base TU'!$B:$B,\"SUL\")/1000","v":88.218999999999994},{"$f":"SUMIFS('Base TU'!BT:BT,'Base TU'!$A:$A,$B20,'Base TU'!$B:$B,\"SUL\")/1000","v":110.014},{"$f":"SUMIFS('Base TU'!BU:BU,'Base TU'!$A:$A,$B20,'Base TU'!$B:$B,\"SUL\")/1000","v":110.886},{"$f":"SUMIFS('Base TU'!BV:BV,'Base TU'!$A:$A,$B20,'Base TU'!$B:$B,\"SUL\")/1000","v":111.273},{"$f":"SUMIFS('Base TU'!BW:BW,'Base TU'!$A:$A,$B20,'Base TU'!$B:$B,\"SUL\")/1000","v":101.712},{"$f":"SUMIFS('Base TU'!BX:BX,'Base TU'!$A:$A,$B20,'Base TU'!$B:$B,\"SUL\")/1000","v":110.006},{"$f":"SUMIFS('Base TU'!BY:BY,'Base TU'!$A:$A,$B20,'Base TU'!$B:$B,\"SUL\")/1000","v":114.22499999999999},{"$f":"SUMIFS('Base TU'!BZ:BZ,'Base TU'!$A:$A,$B20,'Base TU'!$B:$B,\"SUL\")/1000","v":112.429},{"$f":"SUMIFS('Base TU'!CA:CA,'Base TU'!$A:$A,$B20,'Base TU'!$B:$B,\"SUL\")/1000","v":105.066},{"$f":"SUMIFS('Base TU'!CB:CB,'Base TU'!$A:$A,$B20,'Base TU'!$B:$B,\"SUL\")/1000","v":107.84},{"$f":"SUMIFS('Base TU'!CC:CC,'Base TU'!$A:$A,$B20,'Base TU'!$B:$B,\"SUL\")/1000","v":99.099000000000004},null,{"$f":"SUMIFS('Base TU'!CE:CE,'Base TU'!$A:$A,$B20,'Base TU'!$B:$B,\"SUL\")/1000","v":97.650999999999996},{"$f":"SUMIFS('Base TU'!CF:CF,'Base TU'!$A:$A,$B20,'Base TU'!$B:$B,\"SUL\")/1000","v":99.384},{"$f":"SUMIFS('Base TU'!CG:CG,'Base TU'!$A:$A,$B20,'Base TU'!$B:$B,\"SUL\")/1000","v":105.661},{"$f":"SUMIFS('Base TU'!CH:CH,'Base TU'!$A:$A,$B20,'Base TU'!$B:$B,\"SUL\")/1000","v":95.661000000000001},{"$f":"SUMIFS('Base TU'!CI:CI,'Base TU'!$A:$A,$B20,'Base TU'!$B:$B,\"SUL\")/1000","v":112.614},{"$f":"SUMIFS('Base TU'!CJ:CJ,'Base TU'!$A:$A,$B20,'Base TU'!$B:$B,\"SUL\")/1000","v":0},{"$f":"SUMIFS('Base TU'!CK:CK,'Base TU'!$A:$A,$B20,'Base TU'!$B:$B,\"SUL\")/1000","v":0},{"$f":"SUMIFS('Base TU'!CL:CL,'Base TU'!$A:$A,$B20,'Base TU'!$B:$B,\"SUL\")/1000","v":0},{"$f":"SUMIFS('Base TU'!CM:CM,'Base TU'!$A:$A,$B20,'Base TU'!$B:$B,\"SUL\")/1000","v":0},{"$f":"SUMIFS('Base TU'!CN:CN,'Base TU'!$A:$A,$B20,'Base TU'!$B:$B,\"SUL\")/1000","v":0},{"$f":"SUMIFS('Base TU'!CO:CO,'Base TU'!$A:$A,$B20,'Base TU'!$B:$B,\"SUL\")/1000","v":0},{"$f":"SUMIFS('Base TU'!CP:CP,'Base TU'!$A:$A,$B20,'Base TU'!$B:$B,\"SUL\")/1000","v":0}]
[null,"Siderúrgicos e Mineração",null,{"$f":"SUMIFS('Base TU'!E:E,'Base TU'!$A:$A,$B21,'Base TU'!$B:$B,\"SUL\")/1000","v":211.8},{"$f":"SUMIFS('Base TU'!F:F,'Base TU'!$A:$A,$B21,'Base TU'!$B:$B,\"SUL\")/1000","v":152.87899999999999},{"$f":"SUMIFS('Base TU'!G:G,'Base TU'!$A:$A,$B21,'Base TU'!$B:$B,\"SUL\")/1000","v":194.33},{"$f":"SUMIFS('Base TU'!H:H,'Base TU'!$A:$A,$B21,'Base TU'!$B:$B,\"SUL\")/1000","v":206.66},{"$f":"SUMIFS('Base TU'!I:I,'Base TU'!$A:$A,$B21,'Base TU'!$B:$B,\"SUL\")/1000","v":260.13200000000001},{"$f":"SUMIFS('Base TU'!J:J,'Base TU'!$A:$A,$B21,'Base TU'!$B:$B,\"SUL\")/1000","v":258.27800000000002},{"$f":"SUMIFS('Base TU'!K:K,'Base TU'!$A:$A,$B21,'Base TU'!$B:$B,\"SUL\")/1000","v":285.45699999999999},{"$f":"SUMIFS('Base TU'!L:L,'Base TU'!$A:$A,$B21,'Base TU'!$B:$B,\"SUL\")/1000","v":298.40100000000001},{"$f":"SUMIFS('Base TU'!M:M,'Base TU'!$A:$A,$B21,'Base TU'!$B:$B,\"SUL\")/1000","v":248.76900000000001},{"$f":"SUMIFS('Base TU'!N:N,'Base TU'!$A:$A,$B21,'Base TU'!$B:$B,\"SUL\")/1000","v":233.19800000000001},{"$f":"SUMIFS('Base TU'!O:O,'Base TU'!$A:$A,$B21,'Base TU'!$B:$B,\"SUL\")/1000","v":231.054},{"$f":"SUMIFS('Base TU'!P:P,'Base TU'!$A:$A,$B21,'Base TU'!$B:$B,\"SUL\")/1000","v":211.88900000000001},null,{"$f":"SUMIFS('Base TU'!R:R,'Base TU'!$A:$A,$B21,'Base TU'!$B:$B,\"SUL\")/1000","v":245.50899999999999},{"$f":"SUMIFS('Base TU'!S:S,'Base TU'!$A:$A,$B21,'Base TU'!$B:$B,\"SUL\")/1000","v":254.959},{"$f":"SUMIFS('Base TU'!T:T,'Base TU'!$A:$A,$B21,'Base TU'!$B:$B,\"SUL\")/1000","v":255.75800000000001},{"$f":"SUMIFS('Base TU'!U:U,'Base TU'!$A:$A,$B21,'Base TU'!$B:$B,\"SUL\")/1000","v":248.41300000000001},{"$f":"SUMIFS('Base TU'!V:V,'Base TU'!$A:$A,$B21,'Base TU'!$B:$B,\"SUL\")/1000","v":288.53100000000001},{"$f":"SUMIFS('Base TU'!W:W,'Base TU'!$A:$A,$B21,'Base TU'!$B:$B,\"SUL\")/1000","v":314.09300000000002},{"$f":"SUMIFS('Base TU'!X:X,'Base TU'!$A:$A,$B21,'Base TU'!$B:$B,\"SUL\")/1000","v":299.09500000000003},{"$f":"SUMIFS('Base TU'!Y:Y,'Base TU'!$A:$A,$B21,'Base TU'!$B:$B,\"SUL\")/1000","v":298.66800000000001},{"$f":"SUMIFS('Base TU'!Z:Z,'Base TU'!$A:$A,$B21,'Base TU'!$B:$B,\"SUL\")/1000","v":293.64600000000002},{"$f":"SUMIFS('Base TU'!AA:AA,'Base TU'!$A:$A,$B21,'Base TU'!$B:$B,\"SUL\")/1000","v":287.44},{"$f":"SUMIFS('Base TU'!AB:AB,'Base TU'!$A:$A,$B21,'Base TU'!$B:$B,\"SUL\")/1000","v":290.50099999999998},{"$f":"SUMIFS('Base TU'!AC:AC,'Base TU'!$A:$A,$B21,'Base TU'!$B:$B,\"SUL\")/1000","v":279.399},null,{"$f":"SUMIFS('Base TU'!AE:AE,'Base TU'!$A:$A,$B21,'Base TU'!$B:$B,\"SUL\")/1000","v":286.81099999999998},{"$f":"SUMIFS('Base TU'!AF:AF,'Base TU'!$A:$A,$B21,'Base TU'!$B:$B,\"SUL\")/1000","v":265.82100000000003},{"$f":"SUMIFS('Base TU'!AG:AG,'Base TU'!$A:$A,$B21,'Base TU'!$B:$B,\"SUL\")/1000","v":285.54599999999999},{"$f":"SUMIFS('Base TU'!AH:AH,'Base TU'!$A:$A,$B21,'Base TU'!$B:$B,\"SUL\")/1000","v":311.61900000000003},{"$f":"SUMIFS('Base TU'!AI:AI,'Base TU'!$A:$A,$B21,'Base TU'!$B:$B,\"SUL\")/1000","v":344.58100000000002},{"$f":"SUMIFS('Base TU'!AJ:AJ,'Base TU'!$A:$A,$B21,'Base TU'!$B:$B,\"SUL\")/1000","v":294.50099999999998},{"$f":"SUMIFS('Base TU'!AK:AK,'Base TU'!$A:$A,$B21,'Base TU'!$B:$B,\"SUL\")/1000","v":310.20100000000002},{"$f":"SUMIFS('Base TU'!AL:AL,'Base TU'!$A:$A,$B21,'Base TU'!$B:$B,\"SUL\")/1000","v":314.10399999999998},{"$f":"SUMIFS('Base TU'!AM:AM,'Base TU'!$A:$A,$B21,'Base TU'!$B:$B,\"SUL\")/1000","v":309.69200000000001},{"$f":"SUMIFS('Base TU'!AN:AN,'Base TU'!$A:$A,$B21,'Base TU'!$B:$B,\"SUL\")/1000","v":316.28500000000003},{"$f":"SUMIFS('Base TU'!AO:AO,'Base TU'!$A:$A,$B21,'Base TU'!$B:$B,\"SUL\")/1000","v":297.774},{"$f":"SUMIFS('Base TU'!AP:AP,'Base TU'!$A:$A,$B21,'Base TU'!$B:$B,\"SUL\")/1000","v":301.62400000000002},null,{"$f":"SUMIFS('Base TU'!AR:AR,'Base TU'!$A:$A,$B21,'Base TU'!$B:$B,\"SUL\")/1000","v":196.91499999999999},{"$f":"SUMIFS('Base TU'!AS:AS,'Base TU'!$A:$A,$B21,'Base TU'!$B:$B,\"SUL\")/1000","v":138.12799999999999},{"$f":"SUMIFS('Base TU'!AT:AT,'Base TU'!$A:$A,$B21,'Base TU'!$B:$B,\"SUL\")/1000","v":176.47900000000001},{"$f":"SUMIFS('Base TU'!AU:AU,'Base TU'!$A:$A,$B21,'Base TU'!$B:$B,\"SUL\")/1000","v":249.239},{"$f":"SUMIFS('Base TU'!AV:AV,'Base TU'!$A:$A,$B21,'Base TU'!$B:$B,\"SUL\")/1000","v":250.441},{"$f":"SUMIFS('Base TU'!AW:AW,'Base TU'!$A:$A,$B21,'Base TU'!$B:$B,\"SUL\")/1000","v":295.601},{"$f":"SUMIFS('Base TU'!AX:AX,'Base TU'!$A:$A,$B21,'Base TU'!$B:$B,\"SUL\")/1000","v":335.76400000000001},{"$f":"SUMIFS('Base TU'!AY:AY,'Base TU'!$A:$A,$B21,'Base TU'!$B:$B,\"SUL\")/1000","v":321.81599999999997},{"$f":"SUMIFS('Base TU'!AZ:AZ,'Base TU'!$A:$A,$B21,'Base TU'!$B:$B,\"SUL\")/1000","v":295.01799999999997},{"$f":"SUMIFS('Base TU'!BA:BA,'Base TU'!$A:$A,$B21,'Base TU'!$B:$B,\"SUL\")/1000","v":271.04000000000002},{"$f":"SUMIFS('Base TU'!BB:BB,'Base TU'!$A:$A,$B21,'Base TU'!$B:$B,\"SUL\")/1000","v":231.43100000000001},{"$f":"SUMIFS('Base TU'!BC:BC,'Base TU'!$A:$A,$B21,'Base TU'!$B:$B,\"SUL\")/1000","v":81.828999999999994},null,{"$f":"SUMIFS('Base TU'!BE:BE,'Base TU'!$A:$A,$B21,'Base TU'!$B:$B,\"SUL\")/1000","v":128.81700000000001},{"$f":"SUMIFS('Base TU'!BF:BF,'Base TU'!$A:$A,$B21,'Base TU'!$B:$B,\"SUL\")/1000","v":205.73},{"$f":"SUMIFS('Base TU'!BG:BG,'Base TU'!$A:$A,$B21,'Base TU'!$B:$B,\"SUL\")/1000","v":167.31},{"$f":"SUMIFS('Base TU'!BH:BH,'Base TU'!$A:$A,$B21,'Base TU'!$B:$B,\"SUL\")/1000","v":297.27699999999999},{"$f":"SUMIFS('Base TU'!BI:BI,'Base TU'!$A:$A,$B21,'Base TU'!$B:$B,\"SUL\")/1000","v":206.13200000000001},{"$f":"SUMIFS('Base TU'!BJ:BJ,'Base TU'!$A:$A,$B21,'Base TU'!$B:$B,\"SUL\")/1000","v":187.11600000000001},{"$f":"SUMIFS('Base TU'!BK:BK,'Base TU'!$A:$A,$B21,'Base TU'!$B:$B,\"SUL\")/1000","v":245.15199999999999},{"$f":"SUMIFS('Base TU'!BL:BL,'Base TU'!$A:$A,$B21,'Base TU'!$B:$B,\"SUL\")/1000","v":264.995},{"$f":"SUMIFS('Base TU'!BM:BM,'Base TU'!$A:$A,$B21,'Base TU'!$B:$B,\"SUL\")/1000","v":261.91800000000001},{"$f":"SUMIFS('Base TU'!BN:BN,'Base TU'!$A:$A,$B21,'Base TU'!$B:$B,\"SUL\")/1000","v":34.887999999999998},{"$f":"SUMIFS('Base TU'!BO:BO,'Base TU'!$A:$A,$B21,'Base TU'!$B:$B,\"SUL\")/1000","v":3.6019999999999999},{"$f":"SUMIFS('Base TU'!BP:BP,'Base TU'!$A:$A,$B21,'Base TU'!$B:$B,\"SUL\")/1000","v":93.695999999999998},null,{"$f":"SUMIFS('Base TU'!BR:BR,'Base TU'!$A:$A,$B21,'Base TU'!$B:$B,\"SUL\")/1000","v":94.242999999999995},{"$f":"SUMIFS('Base TU'!BS:BS,'Base TU'!$A:$A,$B21,'Base TU'!$B:$B,\"SUL\")/1000","v":171.851},{"$f":"SUMIFS('Base TU'!BT:BT,'Base TU'!$A:$A,$B21,'Base TU'!$B:$B,\"SUL\")/1000","v":227.42099999999999},{"$f":"SUMIFS('Base TU'!BU:BU,'Base TU'!$A:$A,$B21,'Base TU'!$B:$B,\"SUL\")/1000","v":244.43799999999999},{"$f":"SUMIFS('Base TU'!BV:BV,'Base TU'!$A:$A,$B21,'Base TU'!$B:$B,\"SUL\")/1000","v":265.93299999999999},{"$f":"SUMIFS('Base TU'!BW:BW,'Base TU'!$A:$A,$B21,'Base TU'!$B:$B,\"SUL\")/1000","v":232.54},{"$f":"SUMIFS('Base TU'!BX:BX,'Base TU'!$A:$A,$B21,'Base TU'!$B:$B,\"SUL\")/1000","v":253.63200000000001},{"$f":"SUMIFS('Base TU'!BY:BY,'Base TU'!$A:$A,$B21,'Base TU'!$B:$B,\"SUL\")/1000","v":229.22300000000001},{"$f":"SUMIFS('Base TU'!BZ:BZ,'Base TU'!$A:$A,$B21,'Base TU'!$B:$B,\"SUL\")/1000","v":167.393},{"$f":"SUMIFS('Base TU'!CA:CA,'Base TU'!$A:$A,$B21,'Base TU'!$B:$B,\"SUL\")/1000","v":189.78},{"$f":"SUMIFS('Base TU'!CB:CB,'Base TU'!$A:$A,$B21,'Base TU'!$B:$B,\"SUL\")/1000","v":141.297},{"$f":"SUMIFS('Base TU'!CC:CC,'Base TU'!$A:$A,$B21,'Base TU'!$B:$B,\"SUL\")/1000","v":140.94900000000001},null,{"$f":"SUMIFS('Base TU'!CE:CE,'Base TU'!$A:$A,$B21,'Base TU'!$B:$B,\"SUL\")/1000","v":151.12799999999999},{"$f":"SUMIFS('Base TU'!CF:CF,'Base TU'!$A:$A,$B21,'Base TU'!$B:$B,\"SUL\")/1000","v":138.43799999999999},{"$f":"SUMIFS('Base TU'!CG:CG,'Base TU'!$A:$A,$B21,'Base TU'!$B:$B,\"SUL\")/1000","v":188.161},{"$f":"SUMIFS('Base TU'!CH:CH,'Base TU'!$A:$A,$B21,'Base TU'!$B:$B,\"SUL\")/1000","v":188.309},{"$f":"SUMIFS('Base TU'!CI:CI,'Base TU'!$A:$A,$B21,'Base TU'!$B:$B,\"SUL\")/1000","v":259.053},{"$f":"SUMIFS('Base TU'!CJ:CJ,'Base TU'!$A:$A,$B21,'Base TU'!$B:$B,\"SUL\")/1000","v":0},{"$f":"SUMIFS('Base TU'!CK:CK,'Base TU'!$A:$A,$B21,'Base TU'!$B:$B,\"SUL\")/1000","v":0},{"$f":"SUMIFS('Base TU'!CL:CL,'Base TU'!$A:$A,$B21,'Base TU'!$B:$B,\"SUL\")/1000","v":0},{"$f":"SUMIFS('Base TU'!CM:CM,'Base TU'!$A:$A,$B21,'Base TU'!$B:$B,\"SUL\")/1000","v":0},{"$f":"SUMIFS('Base TU'!CN:CN,'Base TU'!$A:$A,$B21,'Base TU'!$B:$B,\"SUL\")/1000","v":0},{"$f":"SUMIFS('Base TU'!CO:CO,'Base TU'!$A:$A,$B21,'Base TU'!$B:$B,\"SUL\")/1000","v":0},{"$f":"SUMIFS('Base TU'!CP:CP,'Base TU'!$A:$A,$B21,'Base TU'!$B:$B,\"SUL\")/1000","v":0}]

{"sheet":"Volume RTK Consolidated","index":15,"n_rows":21,"n_cols":93,"rows_kept":21,"cut":false,"hidden":false,"merged":[[3,64,4,64],[3,65,4,65],[3,66,4,66],[3,55,4,55],[3,56,4,56],[3,57,4,57],[3,58,4,58],[3,62,4,62],[3,63,4,63],[3,60,4,60],[3,61,4,61],[3,44,4,44],[3,45,4,45],[3,59,4,59],[3,47,4,47],[3,48,4,48],[3,49,4,49],[3,50,4,50],[3,51,4,51],[3,52,4,52],[3,53,4,53],[3,46,4,46],[3,43,4,43],[3,29,4,29],[3,30,4,30],[3,31,4,31],[3,32,4,32],[3,34,4,34],[3,35,4,35],[3,36,4,36],[3,37,4,37],[3,38,4,38],[3,39,4,39],[3,40,4,40],[3,42,4,42],[3,18,4,18],[3,19,4,19],[3,33,4,33],[3,21,4,21],[3,22,4,22],[3,23,4,23],[3,24,4,24],[3,25,4,25],[3,26,4,26],[3,27,4,27],[3,20,4,20],[3,13,4,13],[3,14,4,14],[3,16,4,16],[3,17,4,17],[3,7,4,7],[3,8,4,8],[3,9,4,9],[3,10,4,10],[3,11,4,11],[3,12,4,12],[3,1,4,1],[3,3,4,3],[3,4,4,4],[3,5,4,5],[3,6,4,6],[3,68,4,68],[3,69,4,69],[3,70,4,70],[3,71,4,71],[3,72,4,72],[3,78,4,78],[3,79,4,79],[3,73,4,73],[3,74,4,74],[3,75,4,75],[3,76,4,76],[3,77,4,77],[3,81,4,81],[3,82,4,82],[3,83,4,83],[3,84,4,84],[3,85,4,85],[3,91,4,91],[3,92,4,92],[3,86,4,86],[3,87,4,87],[3,88,4,88],[3,89,4,89],[3,90,4,90]]}
[]
[null,"Volume RTK | Consolidated"]
[]
[null,null,null,"2016-01-01","feb/17","2016-03-01","apr/16","may/16","2016-06-01","2016-07-01","aug/16","sep/16","oct/16","2016-11-01","dec/16",null,"2017-01-01","feb/17","2017-03-01","apr/17","may/17","2017-06-01","2017-07-01","aug/17","sep/17","oct/17","2017-11-01","dec/17",null,"2018-01-01","feb/18","2018-03-01","apr/18","may/18","2018-06-01","2018-07-01","aug/18","sep/18","oct/18","2018-11-01","dec/18",null,"jan/19","feb/19","mar/19","apr/19","may/19","jun/19","jul/19","aug/19","sep/19","oct/19","nov/19","dec/19",null,"2020-01-01","feb/20","2020-03-01","apr/20","may/20","2020-06-01","2020-07-01","aug/20","sep/20","oct/20","2020-11-01","dec/20",null,"2021-01-01","2021-02-01","2021-03-01","2021-04-01","2021-05-01","2021-06-01","2021-07-01","2021-08-01","2021-09-01","2021-10-01","2021-11-01","2021-12-01",null,"2022-01-01","2022-02-01","2022-03-01","2022-04-01","2022-05-01","2022-06-01","2022-07-01","2022-08-01","2022-09-01","2022-10-01","2022-11-01","2022-12-01"]
[]
[null,"Transported (Mln RTK)",null,{"$f":"SUM(D7,D17,D16)","v":2935.8599029999991},3206.2155520000001,3934.2631489999999,4019.4272839999999,3717.579416,3098.3034620000003,3991.9284500000003,4101.1319949999997,3805.2286880000001,2657.9685990000003,2333.3365960000001,2468.0316909999997,null,{"$f":"SUM(Q7,Q17,Q16)","v":2400.6942469999999},3457.3250860000007,4163.1793470000002,3979.0120759999995,4230.4603820000002,4104.771401,4584.2389279999989,4833.1142220000002,4584.3635639999993,4796.7371350000003,4404.5180429999991,4149.1197069999998,null,{"$f":"SUM(AD7,AD17,AD16)","v":3024.6195510000002},4076.4014460000003,4726.1801729999997,4577.6541800000005,4138.350614,4748.781097,5299.3391269999993,5546.4863599999999,5284.9077980000002,4891.2030350000005,5224.8522310000008,4827.0799549899994,null,{"$f":"SUM(AQ7,AQ17,AQ16)","v":4113.877853},4077.8309120000004,5114.0605230000001,4578.3831599999994,4283.034713,5554.7065419999999,6176.6652399999984,5846.9450660000002,5353.3006539999997,5592.9501549999995,5573.1795940000011,3831.2252659999999,null,{"$f":"SUM(BD7,BD17,BD16)","v":3567.7968209999999},4909.2470689999991,3820.4317839999999,5230.1966229999998,5744.285903,5442.0927699999993,6156.971912,5782.0325899999989,5607.9348499999996,5735.3959800000002,5388.7100379999993,5073.315544,null,{"$f":"SUM(BQ7,BQ17,BQ16)","v":2703.5929409999999},{"$f":"SUM(BR7,BR17,BR16)","v":5048.8969619999998},{"$f":"SUM(BS7,BS17,BS16)","v":6120.8241239999998},{"$f":"SUM(BT7,BT17,BT16)","v":5970.7711710000012},{"$f":"SUM(BU7,BU17,BU16)","v":6233.8562339999989},{"$f":"SUM(BV7,BV17,BV16)","v":5700.1971669999994},{"$f":"SUM(BW7,BW17,BW16)","v":6337.0711529999999},{"$f":"SUM(BX7,BX17,BX16)","v":5355.6567809999988},{"$f":"SUM(BY7,BY17,BY16)","v":4673.9381309999999},{"$f":"SUM(BZ7,BZ17,BZ16)","v":5046.4612029999998},{"$f":"SUM(CA7,CA17,CA16)","v":5392.3851489999997},{"$f":"SUM(CB7,CB17,CB16)","v":5443.9548179999992},null,{"$f":"SUM(CD7,CD17,CD16)","v":5210.9097519999996},6170.8907930000005,6725.7361219999993,6012.6303489999991,6235.0344340000001,0,0,0,0,0,0,0]
[null,"Agricultural Products",null,{"$f":"SUM(D8:D15)","v":2399.1321619999994},2630.1413670000002,3306.699302,3415.3080909999999,3079.9228069999999,2429.236347,3291.5507510000002,3399.2012669999999,3107.3674730000002,1961.2938940000001,1709.1714220000001,1881.2327099999998,null,{"$f":"SUM(Q8:Q15)","v":1765.8429649999998},2909.5752220000004,3544.4318509999998,3388.2480999999998,3542.2883710000001,3416.6564320000002,3833.9702679999996,4056.125759,3864.8566719999994,3982.2893320000003,3698.0536749999997,3436.7903729999998,null,{"$f":"SUM(AD8:AD15)","v":2371.259247},3296.3459110000003,3930.8774170000002,3847.7566160000001,3429.0013069999995,3883.4537560000003,4388.8786599999994,4601.7311319999999,4376.6666740000001,3989.1657180000002,4366.8188250000003,3968.1036999899998,null,{"$f":"SUM(AQ8:AQ15)","v":3267.6626490000003},3309.9938980000002,4242.7224850000002,3739.0375179999996,3398.2012110000001,4672.8211410000004,5223.6102599999986,4856.410637,4383.4815069999995,4611.0663530000002,4657.3388800000012,2970.3097669999997,null,{"$f":"SUM(BD8:BD15)","v":2694.404837},4083.3392359999993,3090.6636189999999,4589.8081590000002,4936.9692230000001,4589.564899,5208.3583769999996,4830.9814809999998,4590.2796209999997,4689.8363610000006,4354.1079959999997,4171.5787549999995,null,{"$f":"SUM(BQ8:BQ15)","v":1763.3508300000001},{"$f":"SUM(BR8:BR15)","v":4115.4070400000001},{"$f":"SUM(BS8:BS15)","v":5139.4032999999999},{"$f":"SUM(BT8:BT15)","v":4961.7171190000008},{"$f":"SUM(BU8:BU15)","v":5185.4987519999995},{"$f":"SUM(BV8:BV15)","v":4663.8321589999996},{"$f":"SUM(BW8:BW15)","v":5269.8357649999998},{"$f":"SUM(BX8:BX15)","v":4222.3585189999994},{"$f":"SUM(BY8:BY15)","v":3627.3486329999996},{"$f":"SUM(BZ8:BZ15)","v":3990.8890229999997},{"$f":"SUM(CA8:CA15)","v":4413.8843619999998},{"$f":"SUM(CB8:CB15)","v":4446.8601589999998},null,{"$f":"SUM(CD8:CD15)","v":4223.2446030000001},5166.4634890000007,5610.620559,4966.475985,5100.4858100000001,0,0,0,0,0,0,0]
[null,"Soybean",null,{"$f":"'Volume RTK North'!D8+'Volume RTK South'!D8","v":169.62053900000001},{"$f":"'Volume RTK North'!E8+'Volume RTK South'!E8","v":1911.1475579999999},{"$f":"'Volume RTK North'!F8+'Volume RTK South'!F8","v":2616.1029749999998},{"$f":"'Volume RTK North'!G8+'Volume RTK South'!G8","v":2649.878494},{"$f":"'Volume RTK North'!H8+'Volume RTK South'!H8","v":2055.7222339999998},{"$f":"'Volume RTK North'!I8+'Volume RTK South'!I8","v":947.54224599999998},{"$f":"'Volume RTK North'!J8+'Volume RTK South'!J8","v":361.05799500000001},{"$f":"'Volume RTK North'!K8+'Volume RTK South'!K8","v":182.78065100000001},{"$f":"'Volume RTK North'!L8+'Volume RTK South'!L8","v":130.11925199999999},{"$f":"'Volume RTK North'!M8+'Volume RTK South'!M8","v":95.372065000000006},{"$f":"'Volume RTK North'!N8+'Volume RTK South'!N8","v":86.039562000000004},{"$f":"'Volume RTK North'!O8+'Volume RTK South'!O8","v":175.43123600000001},null,{"$f":"'Volume RTK North'!Q8+'Volume RTK South'!Q8","v":851.44972099999995},{"$f":"'Volume RTK North'!R8+'Volume RTK South'!R8","v":2272.319356},{"$f":"'Volume RTK North'!S8+'Volume RTK South'!S8","v":2878.502645},{"$f":"'Volume RTK North'!T8+'Volume RTK South'!T8","v":2514.9683219999997},{"$f":"'Volume RTK North'!U8+'Volume RTK South'!U8","v":2413.0258960000001},{"$f":"'Volume RTK North'!V8+'Volume RTK South'!V8","v":1272.4665500000001},{"$f":"'Volume RTK North'!W8+'Volume RTK South'!W8","v":619.45914999999991},{"$f":"'Volume RTK North'!X8+'Volume RTK South'!X8","v":447.99955199999999},{"$f":"'Volume RTK North'!Y8+'Volume RTK South'!Y8","v":178.126689},{"$f":"'Volume RTK North'!Z8+'Volume RTK South'!Z8","v":208.222522},{"$f":"'Volume RTK North'!AA8+'Volume RTK South'!AA8","v":364.80664300000001},{"$f":"'Volume RTK North'!AB8+'Volume RTK South'!AB8","v":398.06726200000003},null,{"$f":"'Volume RTK North'!AD8+'Volume RTK South'!AD8","v":934.13200199999994},{"$f":"'Volume RTK North'!AE8+'Volume RTK South'!AE8","v":2459.6752190000002},{"$f":"'Volume RTK North'!AF8+'Volume RTK South'!AF8","v":3176.9322240000001},{"$f":"'Volume RTK North'!AG8+'Volume RTK South'!AG8","v":3000.9347459999999},{"$f":"'Volume RTK North'!AH8+'Volume RTK South'!AH8","v":2370.9591909999999},{"$f":"'Volume RTK North'!AI8+'Volume RTK South'!AI8","v":2397.7762889999999},{"$f":"'Volume RTK North'!AJ8+'Volume RTK South'!AJ8","v":965.91916400000002},{"$f":"'Volume RTK North'!AK8+'Volume RTK South'!AK8","v":734.69754999999998},{"$f":"'Volume RTK North'!AL8+'Volume RTK South'!AL8","v":612.75609500000007},{"$f":"'Volume RTK North'!AM8+'Volume RTK South'!AM8","v":691.1591830000001},{"$f":"'Volume RTK North'!AN8+'Volume RTK South'!AN8","v":537.88782000000003},{"$f":"'Volume RTK North'!AO8+'Volume RTK South'!AO8","v":255.257497},null,{"$f":"'Volume RTK North'!AQ8+'Volume RTK South'!AQ8","v":1942.1827910000002},{"$f":"'Volume RTK North'!AR8+'Volume RTK South'!AR8","v":2532.9592590000002},{"$f":"'Volume RTK North'!AS8+'Volume RTK South'!AS8","v":3268.2451529999998},{"$f":"'Volume RTK North'!AT8+'Volume RTK South'!AT8","v":2598.366622},{"$f":"'Volume RTK North'!AU8+'Volume RTK South'!AU8","v":2021.1266760000001},{"$f":"'Volume RTK North'!AV8+'Volume RTK South'!AV8","v":852.43902800000001},{"$f":"'Volume RTK North'!AW8+'Volume RTK South'!AW8","v":484.97769},{"$f":"'Volume RTK North'!AX8+'Volume RTK South'!AX8","v":453.43381999999997},{"$f":"'Volume RTK North'!AY8+'Volume RTK South'!AY8","v":433.34607699999998},{"$f":"'Volume RTK North'!AZ8+'Volume RTK South'!AZ8","v":739.71218799999997},{"$f":"'Volume RTK North'!BA8+'Volume RTK South'!BA8","v":819.29821200000004},{"$f":"'Volume RTK North'!BB8+'Volume RTK South'!BB8","v":299.03800200000001},null,{"$f":"'Volume RTK North'!BD8+'Volume RTK South'!BD8","v":1585.000395},{"$f":"'Volume RTK North'!BE8+'Volume RTK South'!BE8","v":2995.1420249999996},{"$f":"'Volume RTK North'!BF8+'Volume RTK South'!BF8","v":2230.278953},{"$f":"'Volume RTK North'!BG8+'Volume RTK South'!BG8","v":3336.9885670000003},{"$f":"'Volume RTK North'!BH8+'Volume RTK South'!BH8","v":3426.042813},{"$f":"'Volume RTK North'!BI8+'Volume RTK South'!BI8","v":1734.5160249999999},{"$f":"'Volume RTK North'!BJ8+'Volume RTK South'!BJ8","v":1014.458214},{"$f":"'Volume RTK North'!BK8+'Volume RTK South'!BK8","v":530.45997},{"$f":"'Volume RTK North'!BL8+'Volume RTK South'!BL8","v":327.51763400000004},{"$f":"'Volume RTK North'!BM8+'Volume RTK South'!BM8","v":149.427977},{"$f":"'Volume RTK North'!BN8+'Volume RTK South'!BN8","v":69.608677999999998},{"$f":"'Volume RTK North'!BO8+'Volume RTK South'!BO8","v":53.633718000000002},null,{"$f":"'Volume RTK North'!BQ8+'Volume RTK South'!BQ8","v":334.67782700000004},{"$f":"'Volume RTK North'!BR8+'Volume RTK South'!BR8","v":2940.564429},{"$f":"'Volume RTK North'!BS8+'Volume RTK South'!BS8","v":4036.109657},{"$f":"'Volume RTK North'!BT8+'Volume RTK South'!BT8","v":3669.5863390000004},{"$f":"'Volume RTK North'!BU8+'Volume RTK South'!BU8","v":3589.3174990000002},{"$f":"'Volume RTK North'!BV8+'Volume RTK South'!BV8","v":2394.0341549999998},{"$f":"'Volume RTK North'!BW8+'Volume RTK South'!BW8","v":729.00322599999993},{"$f":"'Volume RTK North'!BX8+'Volume RTK South'!BX8","v":507.03884600000004},{"$f":"'Volume RTK North'!BY8+'Volume RTK South'!BY8","v":546.57156799999996},{"$f":"'Volume RTK North'!BZ8+'Volume RTK South'!BZ8","v":678.86003400000004},{"$f":"'Volume RTK North'!CA8+'Volume RTK South'!CA8","v":892.35074399999996},{"$f":"'Volume RTK North'!CB8+'Volume RTK South'!CB8","v":574.27778000000001},null,{"$f":"'Volume RTK North'!CD8+'Volume RTK South'!CD8","v":1955.022219},{"$f":"'Volume RTK North'!CE8+'Volume RTK South'!CE8","v":3750.2323200000001},{"$f":"'Volume RTK North'!CF8+'Volume RTK South'!CF8","v":4092.7933760000001},{"$f":"'Volume RTK North'!CG8+'Volume RTK South'!CG8","v":3374.0357290000002},{"$f":"'Volume RTK North'!CH8+'Volume RTK South'!CH8","v":3224.8021519999998},{"$f":"'Volume RTK North'!CI8+'Volume RTK South'!CI8","v":0},{"$f":"'Volume RTK North'!CJ8+'Volume RTK South'!CJ8","v":0},{"$f":"'Volume RTK North'!CK8+'Volume RTK South'!CK8","v":0},{"$f":"'Volume RTK North'!CL8+'Volume RTK South'!CL8","v":0},{"$f":"'Volume RTK North'!CM8+'Volume RTK South'!CM8","v":0},{"$f":"'Volume RTK North'!CN8+'Volume RTK South'!CN8","v":0},{"$f":"'Volume RTK North'!CO8+'Volume RTK South'!CO8","v":0}]
[null,"Soybean meal",null,{"$f":"'Volume RTK North'!D9+'Volume RTK South'!D9","v":216.26351600000001},{"$f":"'Volume RTK North'!E9+'Volume RTK South'!E9","v":395.03700500000002},{"$f":"'Volume RTK North'!F9+'Volume RTK South'!F9","v":487.85619700000001},{"$f":"'Volume RTK North'!G9+'Volume RTK South'!G9","v":535.26649299999997},{"$f":"'Volume RTK North'!H9+'Volume RTK South'!H9","v":526.415615},{"$f":"'Volume RTK North'!I9+'Volume RTK South'!I9","v":472.96597700000001},{"$f":"'Volume RTK North'!J9+'Volume RTK South'!J9","v":354.22674899999998},{"$f":"'Volume RTK North'!K9+'Volume RTK South'!K9","v":316.308402},{"$f":"'Volume RTK North'!L9+'Volume RTK South'!L9","v":322.78646500000002},{"$f":"'Volume RTK North'!M9+'Volume RTK South'!M9","v":377.761324},{"$f":"'Volume RTK North'!N9+'Volume RTK South'!N9","v":438.98752899999999},{"$f":"'Volume RTK North'!O9+'Volume RTK South'!O9","v":404.86467299999998},null,{"$f":"'Volume RTK North'!Q9+'Volume RTK South'!Q9","v":402.66225500000002},{"$f":"'Volume RTK North'!R9+'Volume RTK South'!R9","v":407.24751400000002},{"$f":"'Volume RTK North'!S9+'Volume RTK South'!S9","v":517.98906099999999},{"$f":"'Volume RTK North'!T9+'Volume RTK South'!T9","v":588.47038999999995},{"$f":"'Volume RTK North'!U9+'Volume RTK South'!U9","v":519.95525399999997},{"$f":"'Volume RTK North'!V9+'Volume RTK South'!V9","v":437.873199},{"$f":"'Volume RTK North'!W9+'Volume RTK South'!W9","v":520.80395099999998},{"$f":"'Volume RTK North'!X9+'Volume RTK South'!X9","v":428.81667199999998},{"$f":"'Volume RTK North'!Y9+'Volume RTK South'!Y9","v":434.41904599999998},{"$f":"'Volume RTK North'!Z9+'Volume RTK South'!Z9","v":529.76868999999999},{"$f":"'Volume RTK North'!AA9+'Volume RTK South'!AA9","v":506.08288199999998},{"$f":"'Volume RTK North'!AB9+'Volume RTK South'!AB9","v":529.05604299999993},null,{"$f":"'Volume RTK North'!AD9+'Volume RTK South'!AD9","v":446.26511599999998},{"$f":"'Volume RTK North'!AE9+'Volume RTK South'!AE9","v":515.19917800000007},{"$f":"'Volume RTK North'!AF9+'Volume RTK South'!AF9","v":578.46220200000005},{"$f":"'Volume RTK North'!AG9+'Volume RTK South'!AG9","v":632.17424999999992},{"$f":"'Volume RTK North'!AH9+'Volume RTK South'!AH9","v":499.67931599999997},{"$f":"'Volume RTK North'!AI9+'Volume RTK South'!AI9","v":584.67244099999994},{"$f":"'Volume RTK North'!AJ9+'Volume RTK South'!AJ9","v":509.672392},{"$f":"'Volume RTK North'!AK9+'Volume RTK South'!AK9","v":486.21389099999999},{"$f":"'Volume RTK North'!AL9+'Volume RTK South'!AL9","v":524.42046400000004},{"$f":"'Volume RTK North'!AM9+'Volume RTK South'!AM9","v":475.60856999999999},{"$f":"'Volume RTK North'!AN9+'Volume RTK South'!AN9","v":515.80616099999997},{"$f":"'Volume RTK North'!AO9+'Volume RTK South'!AO9","v":603.39547999000001},null,{"$f":"'Volume RTK North'!AQ9+'Volume RTK South'!AQ9","v":461.21155999999996},{"$f":"'Volume RTK North'!AR9+'Volume RTK South'!AR9","v":446.22970900000001},{"$f":"'Volume RTK North'!AS9+'Volume RTK South'!AS9","v":622.22288100000003},{"$f":"'Volume RTK North'!AT9+'Volume RTK South'!AT9","v":631.90065200000004},{"$f":"'Volume RTK North'!AU9+'Volume RTK South'!AU9","v":579.33901800000001},{"$f":"'Volume RTK North'!AV9+'Volume RTK South'!AV9","v":629.96867399999996},{"$f":"'Volume RTK North'!AW9+'Volume RTK South'!AW9","v":597.87030299999992},{"$f":"'Volume RTK North'!AX9+'Volume RTK South'!AX9","v":494.52903199999997},{"$f":"'Volume RTK North'!AY9+'Volume RTK South'!AY9","v":542.620092},{"$f":"'Volume RTK North'!AZ9+'Volume RTK South'!AZ9","v":593.32155399999999},{"$f":"'Volume RTK North'!BA9+'Volume RTK South'!BA9","v":664.73641800000007},{"$f":"'Volume RTK North'!BB9+'Volume RTK South'!BB9","v":597.08485999999994},null,{"$f":"'Volume RTK North'!BD9+'Volume RTK South'!BD9","v":402.38085100000001},{"$f":"'Volume RTK North'!BE9+'Volume RTK South'!BE9","v":540.97648300000003},{"$f":"'Volume RTK North'!BF9+'Volume RTK South'!BF9","v":561.96058399999993},{"$f":"'Volume RTK North'!BG9+'Volume RTK South'!BG9","v":663.53443799999991},{"$f":"'Volume RTK North'!BH9+'Volume RTK South'!BH9","v":631.76501800000005},{"$f":"'Volume RTK North'!BI9+'Volume RTK South'!BI9","v":649.35974299999998},{"$f":"'Volume RTK North'!BJ9+'Volume RTK South'!BJ9","v":707.36651200000006},{"$f":"'Volume RTK North'!BK9+'Volume RTK South'!BK9","v":710.34897100000001},{"$f":"'Volume RTK North'!BL9+'Volume RTK South'!BL9","v":661.59083900000007},{"$f":"'Volume RTK North'!BM9+'Volume RTK South'!BM9","v":712.14167599999996},{"$f":"'Volume RTK North'!BN9+'Volume RTK South'!BN9","v":614.37646899999993},{"$f":"'Volume RTK North'!BO9+'Volume RTK South'!BO9","v":674.16906200000005},null,{"$f":"'Volume RTK North'!BQ9+'Volume RTK South'!BQ9","v":444.99060800000001},{"$f":"'Volume RTK North'!BR9+'Volume RTK South'!BR9","v":602.94755800000007},{"$f":"'Volume RTK North'!BS9+'Volume RTK South'!BS9","v":704.47478000000001},{"$f":"'Volume RTK North'!BT9+'Volume RTK South'!BT9","v":786.66857100000004},{"$f":"'Volume RTK North'!BU9+'Volume RTK South'!BU9","v":755.98611399999993},{"$f":"'Volume RTK North'!BV9+'Volume RTK South'!BV9","v":826.85876399999995},{"$f":"'Volume RTK North'!BW9+'Volume RTK South'!BW9","v":840.95848000000001},{"$f":"'Volume RTK North'!BX9+'Volume RTK South'!BX9","v":744.79268200000001},{"$f":"'Volume RTK North'!BY9+'Volume RTK South'!BY9","v":687.93884299999991},{"$f":"'Volume RTK North'!BZ9+'Volume RTK South'!BZ9","v":587.36470399999996},{"$f":"'Volume RTK North'!CA9+'Volume RTK South'!CA9","v":766.37192400000004},{"$f":"'Volume RTK North'!CB9+'Volume RTK South'!CB9","v":762.449794},null,{"$f":"'Volume RTK North'!CD9+'Volume RTK South'!CD9","v":660.24957499999994},{"$f":"'Volume RTK North'!CE9+'Volume RTK South'!CE9","v":723.76701700000001},{"$f":"'Volume RTK North'!CF9+'Volume RTK South'!CF9","v":921.80847400000005},{"$f":"'Volume RTK North'!CG9+'Volume RTK South'!CG9","v":968.32940199999996},{"$f":"'Volume RTK North'!CH9+'Volume RTK South'!CH9","v":889.11814600000002},{"$f":"'Volume RTK North'!CI9+'Volume RTK South'!CI9","v":0},{"$f":"'Volume RTK North'!CJ9+'Volume RTK South'!CJ9","v":0},{"$f":"'Volume RTK North'!CK9+'Volume RTK South'!CK9","v":0},{"$f":"'Volume RTK North'!CL9+'Volume RTK South'!CL9","v":0},{"$f":"'Volume RTK North'!CM9+'Volume RTK South'!CM9","v":0},{"$f":"'Volume RTK North'!CN9+'Volume RTK South'!CN9","v":0},{"$f":"'Volume RTK North'!CO9+'Volume RTK South'!CO9","v":0}]
[null,"Corn",null,{"$f":"'Volume RTK North'!D10+'Volume RTK South'!D10","v":1708.5253399999999},{"$f":"'Volume RTK North'!E10+'Volume RTK South'!E10","v":147.13315},{"$f":"'Volume RTK North'!F10+'Volume RTK South'!F10","v":1.4444429999999999},{"$f":"'Volume RTK North'!G10+'Volume RTK South'!G10","v":0},{"$f":"'Volume RTK North'!H10+'Volume RTK South'!H10","v":0},{"$f":"'Volume RTK North'!I10+'Volume RTK South'!I10","v":343.22599500000001},{"$f":"'Volume RTK North'!J10+'Volume RTK South'!J10","v":1978.4570480000002},{"$f":"'Volume RTK North'!K10+'Volume RTK South'!K10","v":2230.6509569999998},{"$f":"'Volume RTK North'!L10+'Volume RTK South'!L10","v":1944.8390009999998},{"$f":"'Volume RTK North'!M10+'Volume RTK South'!M10","v":705.93716900000004},{"$f":"'Volume RTK North'!N10+'Volume RTK South'!N10","v":482.40183500000001},{"$f":"'Volume RTK North'!O10+'Volume RTK South'!O10","v":672.78239299999996},null,{"$f":"'Volume RTK North'!Q10+'Volume RTK South'!Q10","v":113.381199},{"$f":"'Volume RTK North'!R10+'Volume RTK South'!R10","v":6.8058079999999999},{"$f":"'Volume RTK North'!S10+'Volume RTK South'!S10","v":0},{"$f":"'Volume RTK North'!T10+'Volume RTK South'!T10","v":0},{"$f":"'Volume RTK North'!U10+'Volume RTK South'!U10","v":8.6108010000000004},{"$f":"'Volume RTK North'!V10+'Volume RTK South'!V10","v":1234.8126540000001},{"$f":"'Volume RTK North'!W10+'Volume RTK South'!W10","v":2256.6577749999997},{"$f":"'Volume RTK North'!X10+'Volume RTK South'!X10","v":2716.6200590000003},{"$f":"'Volume RTK North'!Y10+'Volume RTK South'!Y10","v":2771.58122},{"$f":"'Volume RTK North'!Z10+'Volume RTK South'!Z10","v":2787.873497},{"$f":"'Volume RTK North'!AA10+'Volume RTK South'!AA10","v":2379.4008269999999},{"$f":"'Volume RTK North'!AB10+'Volume RTK South'!AB10","v":2139.0831269999999},null,{"$f":"'Volume RTK North'!AD10+'Volume RTK South'!AD10","v":609.522875},{"$f":"'Volume RTK North'!AE10+'Volume RTK South'!AE10","v":73.753831000000005},{"$f":"'Volume RTK North'!AF10+'Volume RTK South'!AF10","v":0},{"$f":"'Volume RTK North'!AG10+'Volume RTK South'!AG10","v":0},{"$f":"'Volume RTK North'!AH10+'Volume RTK South'!AH10","v":33.737178},{"$f":"'Volume RTK North'!AI10+'Volume RTK South'!AI10","v":327.83418499999999},{"$f":"'Volume RTK North'!AJ10+'Volume RTK South'!AJ10","v":2341.4123610000001},{"$f":"'Volume RTK North'!AK10+'Volume RTK South'!AK10","v":2803.5282269999998},{"$f":"'Volume RTK North'!AL10+'Volume RTK South'!AL10","v":2731.4375569999997},{"$f":"'Volume RTK North'!AM10+'Volume RTK South'!AM10","v":2248.7981380000001},{"$f":"'Volume RTK North'!AN10+'Volume RTK South'!AN10","v":2798.0980220000001},{"$f":"'Volume RTK North'!AO10+'Volume RTK South'!AO10","v":2464.9139299999997},null,{"$f":"'Volume RTK North'!AQ10+'Volume RTK South'!AQ10","v":415.34414500000003},{"$f":"'Volume RTK North'!AR10+'Volume RTK South'!AR10","v":74.140707000000006},{"$f":"'Volume RTK North'!AS10+'Volume RTK South'!AS10","v":15.008298},{"$f":"'Volume RTK North'!AT10+'Volume RTK South'!AT10","v":34.903503000000001},{"$f":"'Volume RTK North'!AU10+'Volume RTK South'!AU10","v":111.762523},{"$f":"'Volume RTK North'!AV10+'Volume RTK South'!AV10","v":2575.9046579999999},{"$f":"'Volume RTK North'!AW10+'Volume RTK South'!AW10","v":3444.6614289999998},{"$f":"'Volume RTK North'!AX10+'Volume RTK South'!AX10","v":3342.4637790000002},{"$f":"'Volume RTK North'!AY10+'Volume RTK South'!AY10","v":2963.3850929999999},{"$f":"'Volume RTK North'!AZ10+'Volume RTK South'!AZ10","v":2757.6521639999996},{"$f":"'Volume RTK North'!BA10+'Volume RTK South'!BA10","v":2568.9127830000002},{"$f":"'Volume RTK North'!BB10+'Volume RTK South'!BB10","v":1241.6888319999998},null,{"$f":"'Volume RTK North'!BD10+'Volume RTK South'!BD10","v":60.46875},{"$f":"'Volume RTK North'!BE10+'Volume RTK South'!BE10","v":73.095562000000001},{"$f":"'Volume RTK North'!BF10+'Volume RTK South'!BF10","v":14.966994},{"$f":"'Volume RTK North'!BG10+'Volume RTK South'!BG10","v":0},{"$f":"'Volume RTK North'!BH10+'Volume RTK South'!BH10","v":3.0471000000000002E-2},{"$f":"'Volume RTK North'!BI10+'Volume RTK South'!BI10","v":1431.483015},{"$f":"'Volume RTK North'!BJ10+'Volume RTK South'!BJ10","v":2707.269495},{"$f":"'Volume RTK North'!BK10+'Volume RTK South'!BK10","v":2787.6122889999997},{"$f":"'Volume RTK North'!BL10+'Volume RTK South'!BL10","v":2601.258773},{"$f":"'Volume RTK North'!BM10+'Volume RTK South'!BM10","v":2608.0810799999999},{"$f":"'Volume RTK North'!BN10+'Volume RTK South'!BN10","v":2469.4026359999998},{"$f":"'Volume RTK North'!BO10+'Volume RTK South'!BO10","v":2419.7877570000001},null,{"$f":"'Volume RTK North'!BQ10+'Volume RTK South'!BQ10","v":124.970308},{"$f":"'Volume RTK North'!BR10+'Volume RTK South'!BR10","v":73.279588000000004},{"$f":"'Volume RTK North'!BS10+'Volume RTK South'!BS10","v":6.9764609999999996},{"$f":"'Volume RTK North'!BT10+'Volume RTK South'!BT10","v":0},{"$f":"'Volume RTK North'!BU10+'Volume RTK South'!BU10","v":0},{"$f":"'Volume RTK North'!BV10+'Volume RTK South'!BV10","v":507.61684000000002},{"$f":"'Volume RTK North'!BW10+'Volume RTK South'!BW10","v":2759.0410959999999},{"$f":"'Volume RTK North'!BX10+'Volume RTK South'!BX10","v":1944.8646039999999},{"$f":"'Volume RTK North'!BY10+'Volume RTK South'!BY10","v":1287.8696149999998},{"$f":"'Volume RTK North'!BZ10+'Volume RTK South'!BZ10","v":1691.445213},{"$f":"'Volume RTK North'!CA10+'Volume RTK South'!CA10","v":1802.04357},{"$f":"'Volume RTK North'!CB10+'Volume RTK South'!CB10","v":2340.5207599999999},null,{"$f":"'Volume RTK North'!CD10+'Volume RTK South'!CD10","v":963.64978000000008},{"$f":"'Volume RTK North'!CE10+'Volume RTK South'!CE10","v":68.267674999999997},{"$f":"'Volume RTK North'!CF10+'Volume RTK South'!CF10","v":46.083472999999998},{"$f":"'Volume RTK North'!CG10+'Volume RTK South'!CG10","v":320.263102},{"$f":"'Volume RTK North'!CH10+'Volume RTK South'!CH10","v":108.10596799999999},{"$f":"'Volume RTK North'!CI10+'Volume RTK South'!CI10","v":0},{"$f":"'Volume RTK North'!CJ10+'Volume RTK South'!CJ10","v":0},{"$f":"'Volume RTK North'!CK10+'Volume RTK South'!CK10","v":0},{"$f":"'Volume RTK North'!CL10+'Volume RTK South'!CL10","v":0},{"$f":"'Volume RTK North'!CM10+'Volume RTK South'!CM10","v":0},{"$f":"'Volume RTK North'!CN10+'Volume RTK South'!CN10","v":0},{"$f":"'Volume RTK North'!CO10+'Volume RTK South'!CO10","v":0}]
[null,"Sugar",null,{"$f":"'Volume RTK North'!D11+'Volume RTK South'!D11","v":234.45612699999998},{"$f":"'Volume RTK North'!E11+'Volume RTK South'!E11","v":157.457807},{"$f":"'Volume RTK North'!F11+'Volume RTK South'!F11","v":178.380923},{"$f":"'Volume RTK North'!G11+'Volume RTK South'!G11","v":207.666213},{"$f":"'Volume RTK North'!H11+'Volume RTK South'!H11","v":435.86198899999999},{"$f":"'Volume RTK North'!I11+'Volume RTK South'!I11","v":586.08299099999999},{"$f":"'Volume RTK North'!J11+'Volume RTK South'!J11","v":506.29377799999997},{"$f":"'Volume RTK North'!K11+'Volume RTK South'!K11","v":574.42666499999996},{"$f":"'Volume RTK North'!L11+'Volume RTK South'!L11","v":585.80212000000006},{"$f":"'Volume RTK North'!M11+'Volume RTK South'!M11","v":682.56985400000008},{"$f":"'Volume RTK North'!N11+'Volume RTK South'!N11","v":588.72278299999994},{"$f":"'Volume RTK North'!O11+'Volume RTK South'!O11","v":535.00260300000002},null,{"$f":"'Volume RTK North'!Q11+'Volume RTK South'!Q11","v":282.02767900000003},{"$f":"'Volume RTK North'!R11+'Volume RTK South'!R11","v":118.95804099999999},{"$f":"'Volume RTK North'!S11+'Volume RTK South'!S11","v":104.33481999999999},{"$f":"'Volume RTK North'!T11+'Volume RTK South'!T11","v":214.854646},{"$f":"'Volume RTK North'!U11+'Volume RTK South'!U11","v":531.04533199999992},{"$f":"'Volume RTK North'!V11+'Volume RTK South'!V11","v":422.40993100000003},{"$f":"'Volume RTK North'!W11+'Volume RTK South'!W11","v":385.76944000000003},{"$f":"'Volume RTK North'!X11+'Volume RTK South'!X11","v":407.30095599999999},{"$f":"'Volume RTK North'!Y11+'Volume RTK South'!Y11","v":420.54707599999995},{"$f":"'Volume RTK North'!Z11+'Volume RTK South'!Z11","v":385.73089800000002},{"$f":"'Volume RTK North'!AA11+'Volume RTK South'!AA11","v":379.15147200000001},{"$f":"'Volume RTK North'!AB11+'Volume RTK South'!AB11","v":301.82092999999998},null,{"$f":"'Volume RTK North'!AD11+'Volume RTK South'!AD11","v":294.65521999999999},{"$f":"'Volume RTK North'!AE11+'Volume RTK South'!AE11","v":193.81917799999999},{"$f":"'Volume RTK North'!AF11+'Volume RTK South'!AF11","v":140.573881},{"$f":"'Volume RTK North'!AG11+'Volume RTK South'!AG11","v":165.99626899999998},{"$f":"'Volume RTK North'!AH11+'Volume RTK South'!AH11","v":412.85533299999997},{"$f":"'Volume RTK North'!AI11+'Volume RTK South'!AI11","v":435.27574900000002},{"$f":"'Volume RTK North'!AJ11+'Volume RTK South'!AJ11","v":322.824073},{"$f":"'Volume RTK North'!AK11+'Volume RTK South'!AK11","v":326.51097500000003},{"$f":"'Volume RTK North'!AL11+'Volume RTK South'!AL11","v":356.32162600000004},{"$f":"'Volume RTK North'!AM11+'Volume RTK South'!AM11","v":400.66425800000002},{"$f":"'Volume RTK North'!AN11+'Volume RTK South'!AN11","v":229.23934},{"$f":"'Volume RTK North'!AO11+'Volume RTK South'!AO11","v":250.45360599999998},null,{"$f":"'Volume RTK North'!AQ11+'Volume RTK South'!AQ11","v":154.011202},{"$f":"'Volume RTK North'!AR11+'Volume RTK South'!AR11","v":86.190191999999996},{"$f":"'Volume RTK North'!AS11+'Volume RTK South'!AS11","v":142.31992099999999},{"$f":"'Volume RTK North'!AT11+'Volume RTK South'!AT11","v":225.74797799999999},{"$f":"'Volume RTK North'!AU11+'Volume RTK South'!AU11","v":317.02488100000005},{"$f":"'Volume RTK North'!AV11+'Volume RTK South'!AV11","v":262.38109599999996},{"$f":"'Volume RTK North'!AW11+'Volume RTK South'!AW11","v":295.55798000000004},{"$f":"'Volume RTK North'!AX11+'Volume RTK South'!AX11","v":238.205073},{"$f":"'Volume RTK North'!AY11+'Volume RTK South'!AY11","v":262.97824100000003},{"$f":"'Volume RTK North'!AZ11+'Volume RTK South'!AZ11","v":239.16172299999999},{"$f":"'Volume RTK North'!BA11+'Volume RTK South'!BA11","v":267.34636399999999},{"$f":"'Volume RTK North'!BB11+'Volume RTK South'!BB11","v":356.17253400000004},null,{"$f":"'Volume RTK North'!BD11+'Volume RTK South'!BD11","v":237.73846399999999},{"$f":"'Volume RTK North'!BE11+'Volume RTK South'!BE11","v":175.34279700000002},{"$f":"'Volume RTK North'!BF11+'Volume RTK South'!BF11","v":147.83055400000001},{"$f":"'Volume RTK North'!BG11+'Volume RTK South'!BG11","v":249.28712999999999},{"$f":"'Volume RTK North'!BH11+'Volume RTK South'!BH11","v":436.87468699999999},{"$f":"'Volume RTK North'!BI11+'Volume RTK South'!BI11","v":365.36444800000004},{"$f":"'Volume RTK North'!BJ11+'Volume RTK South'!BJ11","v":337.39315699999997},{"$f":"'Volume RTK North'!BK11+'Volume RTK South'!BK11","v":494.16551600000003},{"$f":"'Volume RTK North'!BL11+'Volume RTK South'!BL11","v":664.78082599999993},{"$f":"'Volume RTK North'!BM11+'Volume RTK South'!BM11","v":735.31807900000001},{"$f":"'Volume RTK North'!BN11+'Volume RTK South'!BN11","v":660.15419500000007},{"$f":"'Volume RTK North'!BO11+'Volume RTK South'!BO11","v":506.31174799999997},null,{"$f":"'Volume RTK North'!BQ11+'Volume RTK South'!BQ11","v":369.38857300000001},{"$f":"'Volume RTK North'!BR11+'Volume RTK South'!BR11","v":87.318869000000007},{"$f":"'Volume RTK North'!BS11+'Volume RTK South'!BS11","v":143.54877500000001},{"$f":"'Volume RTK North'!BT11+'Volume RTK South'!BT11","v":233.17973699999999},{"$f":"'Volume RTK North'!BU11+'Volume RTK South'!BU11","v":544.24410499999999},{"$f":"'Volume RTK North'!BV11+'Volume RTK South'!BV11","v":621.57745199999999},{"$f":"'Volume RTK North'!BW11+'Volume RTK South'!BW11","v":340.38910399999997},{"$f":"'Volume RTK North'!BX11+'Volume RTK South'!BX11","v":416.021704},{"$f":"'Volume RTK North'!BY11+'Volume RTK South'!BY11","v":643.31923899999992},{"$f":"'Volume RTK North'!BZ11+'Volume RTK South'!BZ11","v":538.25472400000001},{"$f":"'Volume RTK North'!CA11+'Volume RTK South'!CA11","v":468.24196499999999},{"$f":"'Volume RTK North'!CB11+'Volume RTK South'!CB11","v":262.16018200000002},null,{"$f":"'Volume RTK North'!CD11+'Volume RTK South'!CD11","v":201.50828999999999},{"$f":"'Volume RTK North'!CE11+'Volume RTK South'!CE11","v":65.138875999999996},{"$f":"'Volume RTK North'!CF11+'Volume RTK South'!CF11","v":114.729904},{"$f":"'Volume RTK North'!CG11+'Volume RTK South'!CG11","v":112.160448},{"$f":"'Volume RTK North'!CH11+'Volume RTK South'!CH11","v":393.59693400000003},{"$f":"'Volume RTK North'!CI11+'Volume RTK South'!CI11","v":0},{"$f":"'Volume RTK North'!CJ11+'Volume RTK South'!CJ11","v":0},{"$f":"'Volume RTK North'!CK11+'Volume RTK South'!CK11","v":0},{"$f":"'Volume RTK North'!CL11+'Volume RTK South'!CL11","v":0},{"$f":"'Volume RTK North'!CM11+'Volume RTK South'!CM11","v":0},{"$f":"'Volume RTK North'!CN11+'Volume RTK South'!CN11","v":0},{"$f":"'Volume RTK North'!CO11+'Volume RTK South'!CO11","v":0}]
[null,"Fertilizers",null,{"$f":"'Volume RTK North'!D12+'Volume RTK South'!D12","v":28.277885999999999},{"$f":"'Volume RTK North'!E12+'Volume RTK South'!E12","v":17.986273000000001},{"$f":"'Volume RTK North'!F12+'Volume RTK South'!F12","v":20.430346},{"$f":"'Volume RTK North'!G12+'Volume RTK South'!G12","v":22.496891000000002},{"$f":"'Volume RTK North'!H12+'Volume RTK South'!H12","v":61.922969000000002},{"$f":"'Volume RTK North'!I12+'Volume RTK South'!I12","v":79.419138000000004},{"$f":"'Volume RTK North'!J12+'Volume RTK South'!J12","v":91.515180999999998},{"$f":"'Volume RTK North'!K12+'Volume RTK South'!K12","v":95.034592000000004},{"$f":"'Volume RTK North'!L12+'Volume RTK South'!L12","v":123.820635},{"$f":"'Volume RTK North'!M12+'Volume RTK South'!M12","v":98.535258999999996},{"$f":"'Volume RTK North'!N12+'Volume RTK South'!N12","v":98.943488000000002},{"$f":"'Volume RTK North'!O12+'Volume RTK South'!O12","v":76.556442000000004},null,{"$f":"'Volume RTK North'!Q12+'Volume RTK South'!Q12","v":67.081149999999994},{"$f":"'Volume RTK North'!R12+'Volume RTK South'!R12","v":37.347427000000003},{"$f":"'Volume RTK North'!S12+'Volume RTK South'!S12","v":30.187373999999998},{"$f":"'Volume RTK North'!T12+'Volume RTK South'!T12","v":69.954741999999996},{"$f":"'Volume RTK North'!U12+'Volume RTK South'!U12","v":69.651088000000001},{"$f":"'Volume RTK North'!V12+'Volume RTK South'!V12","v":49.094098000000002},{"$f":"'Volume RTK North'!W12+'Volume RTK South'!W12","v":51.279952000000002},{"$f":"'Volume RTK North'!X12+'Volume RTK South'!X12","v":55.38852},{"$f":"'Volume RTK North'!Y12+'Volume RTK South'!Y12","v":60.182640999999997},{"$f":"'Volume RTK North'!Z12+'Volume RTK South'!Z12","v":70.693725000000001},{"$f":"'Volume RTK North'!AA12+'Volume RTK South'!AA12","v":63.823445999999997},{"$f":"'Volume RTK North'!AB12+'Volume RTK South'!AB12","v":58.969529999999999},null,{"$f":"'Volume RTK North'!AD12+'Volume RTK South'!AD12","v":67.919033999999996},{"$f":"'Volume RTK North'!AE12+'Volume RTK South'!AE12","v":48.889296000000002},{"$f":"'Volume RTK North'!AF12+'Volume RTK South'!AF12","v":34.909109999999998},{"$f":"'Volume RTK North'!AG12+'Volume RTK South'!AG12","v":48.651350999999998},{"$f":"'Volume RTK North'!AH12+'Volume RTK South'!AH12","v":111.77028899999999},{"$f":"'Volume RTK North'!AI12+'Volume RTK South'!AI12","v":137.89509200000001},{"$f":"'Volume RTK North'!AJ12+'Volume RTK South'!AJ12","v":249.05067000000003},{"$f":"'Volume RTK North'!AK12+'Volume RTK South'!AK12","v":250.78048899999999},{"$f":"'Volume RTK North'!AL12+'Volume RTK South'!AL12","v":151.730932},{"$f":"'Volume RTK North'!AM12+'Volume RTK South'!AM12","v":172.93556899999999},{"$f":"'Volume RTK North'!AN12+'Volume RTK South'!AN12","v":249.32306199999999},{"$f":"'Volume RTK North'!AO12+'Volume RTK South'!AO12","v":337.74815699999999},null,{"$f":"'Volume RTK North'!AQ12+'Volume RTK South'!AQ12","v":264.33585700000003},{"$f":"'Volume RTK North'!AR12+'Volume RTK South'!AR12","v":166.74120099999999},{"$f":"'Volume RTK North'!AS12+'Volume RTK South'!AS12","v":194.926232},{"$f":"'Volume RTK North'!AT12+'Volume RTK South'!AT12","v":248.118763},{"$f":"'Volume RTK North'!AU12+'Volume RTK South'!AU12","v":368.94811300000003},{"$f":"'Volume RTK North'!AV12+'Volume RTK South'!AV12","v":352.12768499999999},{"$f":"'Volume RTK North'!AW12+'Volume RTK South'!AW12","v":400.54285799999997},{"$f":"'Volume RTK North'!AX12+'Volume RTK South'!AX12","v":327.77893299999999},{"$f":"'Volume RTK North'!AY12+'Volume RTK South'!AY12","v":181.15200399999998},{"$f":"'Volume RTK North'!AZ12+'Volume RTK South'!AZ12","v":281.21872400000001},{"$f":"'Volume RTK North'!BA12+'Volume RTK South'!BA12","v":331.25701299999997},{"$f":"'Volume RTK North'!BB12+'Volume RTK South'!BB12","v":419.96638799999999},null,{"$f":"'Volume RTK North'!BD12+'Volume RTK South'!BD12","v":367.050116},{"$f":"'Volume RTK North'!BE12+'Volume RTK South'!BE12","v":296.982213},{"$f":"'Volume RTK North'!BF12+'Volume RTK South'!BF12","v":135.62653399999999},{"$f":"'Volume RTK North'!BG12+'Volume RTK South'!BG12","v":339.99802399999999},{"$f":"'Volume RTK North'!BH12+'Volume RTK South'!BH12","v":442.25623399999995},{"$f":"'Volume RTK North'!BI12+'Volume RTK South'!BI12","v":408.84166800000003},{"$f":"'Volume RTK North'!BJ12+'Volume RTK South'!BJ12","v":441.87099899999998},{"$f":"'Volume RTK North'!BK12+'Volume RTK South'!BK12","v":308.39473499999997},{"$f":"'Volume RTK North'!BL12+'Volume RTK South'!BL12","v":335.13154900000001},{"$f":"'Volume RTK North'!BM12+'Volume RTK South'!BM12","v":472.40617600000002},{"$f":"'Volume RTK North'!BN12+'Volume RTK South'!BN12","v":464.46574500000003},{"$f":"'Volume RTK North'!BO12+'Volume RTK South'!BO12","v":451.50585000000001},null,{"$f":"'Volume RTK North'!BQ12+'Volume RTK South'!BQ12","v":485.66634299999998},{"$f":"'Volume RTK North'!BR12+'Volume RTK South'!BR12","v":411.29659600000002},{"$f":"'Volume RTK North'!BS12+'Volume RTK South'!BS12","v":248.29362700000001},{"$f":"'Volume RTK North'!BT12+'Volume RTK South'!BT12","v":272.28247199999998},{"$f":"'Volume RTK North'!BU12+'Volume RTK South'!BU12","v":295.95103399999999},{"$f":"'Volume RTK North'!BV12+'Volume RTK South'!BV12","v":313.74494800000002},{"$f":"'Volume RTK North'!BW12+'Volume RTK South'!BW12","v":600.44385899999997},{"$f":"'Volume RTK North'!BX12+'Volume RTK South'!BX12","v":609.64068299999997},{"$f":"'Volume RTK North'!BY12+'Volume RTK South'!BY12","v":461.64936799999998},{"$f":"'Volume RTK North'!BZ12+'Volume RTK South'!BZ12","v":493.86874399999999},{"$f":"'Volume RTK North'!CA12+'Volume RTK South'!CA12","v":411.021704},{"$f":"'Volume RTK North'!CB12+'Volume RTK South'!CB12","v":404.43747599999995},null,{"$f":"'Volume RTK North'!CD12+'Volume RTK South'!CD12","v":344.794062},{"$f":"'Volume RTK North'!CE12+'Volume RTK South'!CE12","v":436.28184699999997},{"$f":"'Volume RTK North'!CF12+'Volume RTK South'!CF12","v":389.61136899999997},{"$f":"'Volume RTK North'!CG12+'Volume RTK South'!CG12","v":185.731561},{"$f":"'Volume RTK North'!CH12+'Volume RTK South'!CH12","v":483.93591600000002},{"$f":"'Volume RTK North'!CI12+'Volume RTK South'!CI12","v":0},{"$f":"'Volume RTK North'!CJ12+'Volume RTK South'!CJ12","v":0},{"$f":"'Volume RTK North'!CK12+'Volume RTK South'!CK12","v":0},{"$f":"'Volume RTK North'!CL12+'Volume RTK South'!CL12","v":0},{"$f":"'Volume RTK North'!CM12+'Volume RTK South'!CM12","v":0},{"$f":"'Volume RTK North'!CN12+'Volume RTK South'!CN12","v":0},{"$f":"'Volume RTK North'!CO12+'Volume RTK South'!CO12","v":0}]
[null,"Wheat",null,{"$f":"'Volume RTK North'!D13+'Volume RTK South'!D13","v":41.988754},{"$f":"'Volume RTK North'!E13+'Volume RTK South'!E13","v":1.3795740000000001},{"$f":"'Volume RTK North'!F13+'Volume RTK South'!F13","v":2.4844179999999998},{"$f":"'Volume RTK North'!G13+'Volume RTK South'!G13","v":0},{"$f":"'Volume RTK North'!H13+'Volume RTK South'!H13","v":0},{"$f":"'Volume RTK North'!I13+'Volume RTK South'!I13","v":0},{"$f":"'Volume RTK North'!J13+'Volume RTK South'!J13","v":0},{"$f":"'Volume RTK North'!K13+'Volume RTK South'!K13","v":0},{"$f":"'Volume RTK North'!L13+'Volume RTK South'!L13","v":0},{"$f":"'Volume RTK North'!M13+'Volume RTK South'!M13","v":0},{"$f":"'Volume RTK North'!N13+'Volume RTK South'!N13","v":14.076225000000001},{"$f":"'Volume RTK North'!O13+'Volume RTK South'!O13","v":16.595362999999999},null,{"$f":"'Volume RTK North'!Q13+'Volume RTK South'!Q13","v":49.240960999999999},{"$f":"'Volume RTK North'!R13+'Volume RTK South'!R13","v":66.897075999999998},{"$f":"'Volume RTK North'!S13+'Volume RTK South'!S13","v":13.417951},{"$f":"'Volume RTK North'!T13+'Volume RTK South'!T13","v":0},{"$f":"'Volume RTK North'!U13+'Volume RTK South'!U13","v":0},{"$f":"'Volume RTK North'!V13+'Volume RTK South'!V13","v":0},{"$f":"'Volume RTK North'!W13+'Volume RTK South'!W13","v":0},{"$f":"'Volume RTK North'!X13+'Volume RTK South'!X13","v":0},{"$f":"'Volume RTK North'!Y13+'Volume RTK South'!Y13","v":0},{"$f":"'Volume RTK North'!Z13+'Volume RTK South'!Z13","v":0},{"$f":"'Volume RTK North'!AA13+'Volume RTK South'!AA13","v":4.788405},{"$f":"'Volume RTK North'!AB13+'Volume RTK South'!AB13","v":9.7934809999999999},null,{"$f":"'Volume RTK North'!AD13+'Volume RTK South'!AD13","v":18.765000000000001},{"$f":"'Volume RTK North'!AE13+'Volume RTK South'!AE13","v":5.0092090000000002},{"$f":"'Volume RTK North'!AF13+'Volume RTK South'!AF13","v":0},{"$f":"'Volume RTK North'!AG13+'Volume RTK South'!AG13","v":0},{"$f":"'Volume RTK North'!AH13+'Volume RTK South'!AH13","v":0},{"$f":"'Volume RTK North'!AI13+'Volume RTK South'!AI13","v":0},{"$f":"'Volume RTK North'!AJ13+'Volume RTK South'!AJ13","v":0},{"$f":"'Volume RTK North'!AK13+'Volume RTK South'!AK13","v":0},{"$f":"'Volume RTK North'!AL13+'Volume RTK South'!AL13","v":0},{"$f":"'Volume RTK North'!AM13+'Volume RTK South'!AM13","v":0},{"$f":"'Volume RTK North'!AN13+'Volume RTK South'!AN13","v":36.464419999999997},{"$f":"'Volume RTK North'!AO13+'Volume RTK South'!AO13","v":56.335030000000003},null,{"$f":"'Volume RTK North'!AQ13+'Volume RTK South'!AQ13","v":30.577093999999999},{"$f":"'Volume RTK North'!AR13+'Volume RTK South'!AR13","v":3.7328299999999999},{"$f":"'Volume RTK North'!AS13+'Volume RTK South'!AS13","v":0},{"$f":"'Volume RTK North'!AT13+'Volume RTK South'!AT13","v":0},{"$f":"'Volume RTK North'!AU13+'Volume RTK South'!AU13","v":0},{"$f":"'Volume RTK North'!AV13+'Volume RTK South'!AV13","v":0},{"$f":"'Volume RTK North'!AW13+'Volume RTK South'!AW13","v":0},{"$f":"'Volume RTK North'!AX13+'Volume RTK South'!AX13","v":0},{"$f":"'Volume RTK North'!AY13+'Volume RTK South'!AY13","v":0},{"$f":"'Volume RTK North'!AZ13+'Volume RTK South'!AZ13","v":0},{"$f":"'Volume RTK North'!BA13+'Volume RTK South'!BA13","v":5.7880900000000004},{"$f":"'Volume RTK North'!BB13+'Volume RTK South'!BB13","v":35.620631000000003},null,{"$f":"'Volume RTK North'!BD13+'Volume RTK South'!BD13","v":23.660722},{"$f":"'Volume RTK North'!BE13+'Volume RTK South'!BE13","v":1.8001560000000001},{"$f":"'Volume RTK North'!BF13+'Volume RTK South'!BF13","v":0},{"$f":"'Volume RTK North'!BG13+'Volume RTK South'!BG13","v":0},{"$f":"'Volume RTK North'!BH13+'Volume RTK South'!BH13","v":0},{"$f":"'Volume RTK North'!BI13+'Volume RTK South'!BI13","v":0},{"$f":"'Volume RTK North'!BJ13+'Volume RTK South'!BJ13","v":0},{"$f":"'Volume RTK North'!BK13+'Volume RTK South'!BK13","v":0},{"$f":"'Volume RTK North'!BL13+'Volume RTK South'!BL13","v":0},{"$f":"'Volume RTK North'!BM13+'Volume RTK South'!BM13","v":12.461373},{"$f":"'Volume RTK North'!BN13+'Volume RTK South'!BN13","v":76.100273000000001},{"$f":"'Volume RTK North'!BO13+'Volume RTK South'!BO13","v":66.17062},null,{"$f":"'Volume RTK North'!BQ13+'Volume RTK South'!BQ13","v":3.6571709999999999},{"$f":"'Volume RTK North'!BR13+'Volume RTK South'!BR13","v":0},{"$f":"'Volume RTK North'!BS13+'Volume RTK South'!BS13","v":0},{"$f":"'Volume RTK North'!BT13+'Volume RTK South'!BT13","v":0},{"$f":"'Volume RTK North'!BU13+'Volume RTK South'!BU13","v":0},{"$f":"'Volume RTK North'!BV13+'Volume RTK South'!BV13","v":0},{"$f":"'Volume RTK North'!BW13+'Volume RTK South'!BW13","v":0},{"$f":"'Volume RTK North'!BX13+'Volume RTK South'!BX13","v":0},{"$f":"'Volume RTK North'!BY13+'Volume RTK South'!BY13","v":0},{"$f":"'Volume RTK North'!BZ13+'Volume RTK South'!BZ13","v":1.095604},{"$f":"'Volume RTK North'!CA13+'Volume RTK South'!CA13","v":73.854455000000002},{"$f":"'Volume RTK North'!CB13+'Volume RTK South'!CB13","v":103.014167},null,{"$f":"'Volume RTK North'!CD13+'Volume RTK South'!CD13","v":98.020677000000006},{"$f":"'Volume RTK North'!CE13+'Volume RTK South'!CE13","v":122.77575400000001},{"$f":"'Volume RTK North'!CF13+'Volume RTK South'!CF13","v":45.593963000000002},{"$f":"'Volume RTK North'!CG13+'Volume RTK South'!CG13","v":5.955743},{"$f":"'Volume RTK North'!CH13+'Volume RTK South'!CH13","v":0.92669400000000002},{"$f":"'Volume RTK North'!CI13+'Volume RTK South'!CI13","v":0},{"$f":"'Volume RTK North'!CJ13+'Volume RTK South'!CJ13","v":0},{"$f":"'Volume RTK North'!CK13+'Volume RTK South'!CK13","v":0},{"$f":"'Volume RTK North'!CL13+'Volume RTK South'!CL13","v":0},{"$f":"'Volume RTK North'!CM13+'Volume RTK South'!CM13","v":0},{"$f":"'Volume RTK North'!CN13+'Volume RTK South'!CN13","v":0},{"$f":"'Volume RTK North'!CO13+'Volume RTK South'!CO13","v":0}]
[null,"Malt",null,{"$f":"'Volume RTK North'!D14+'Volume RTK South'!D14","v":0},{"$f":"'Volume RTK North'!E14+'Volume RTK South'!E14","v":0},{"$f":"'Volume RTK North'!F14+'Volume RTK South'!F14","v":0},{"$f":"'Volume RTK North'!G14+'Volume RTK South'!G14","v":0},{"$f":"'Volume RTK North'!H14+'Volume RTK South'!H14","v":0},{"$f":"'Volume RTK North'!I14+'Volume RTK South'!I14","v":0},{"$f":"'Volume RTK North'!J14+'Volume RTK South'!J14","v":0},{"$f":"'Volume RTK North'!K14+'Volume RTK South'!K14","v":0},{"$f":"'Volume RTK North'!L14+'Volume RTK South'!L14","v":0},{"$f":"'Volume RTK North'!M14+'Volume RTK South'!M14","v":1.118223},{"$f":"'Volume RTK North'!N14+'Volume RTK South'!N14","v":0},{"$f":"'Volume RTK North'!O14+'Volume RTK South'!O14","v":0},null,{"$f":"'Volume RTK North'!Q14+'Volume RTK South'!Q14","v":0},{"$f":"'Volume RTK North'!R14+'Volume RTK South'!R14","v":0},{"$f":"'Volume RTK North'!S14+'Volume RTK South'!S14","v":0},{"$f":"'Volume RTK North'!T14+'Volume RTK South'!T14","v":0},{"$f":"'Volume RTK North'!U14+'Volume RTK South'!U14","v":0},{"$f":"'Volume RTK North'!V14+'Volume RTK South'!V14","v":0},{"$f":"'Volume RTK North'!W14+'Volume RTK South'!W14","v":0},{"$f":"'Volume RTK North'!X14+'Volume RTK South'!X14","v":0},{"$f":"'Volume RTK North'!Y14+'Volume RTK South'!Y14","v":0},{"$f":"'Volume RTK North'!Z14+'Volume RTK South'!Z14","v":0},{"$f":"'Volume RTK North'!AA14+'Volume RTK South'!AA14","v":0},{"$f":"'Volume RTK North'!AB14+'Volume RTK South'!AB14","v":0},null,{"$f":"'Volume RTK North'!AD14+'Volume RTK South'!AD14","v":0},{"$f":"'Volume RTK North'!AE14+'Volume RTK South'!AE14","v":0},{"$f":"'Volume RTK North'!AF14+'Volume RTK South'!AF14","v":0},{"$f":"'Volume RTK North'!AG14+'Volume RTK South'!AG14","v":0},{"$f":"'Volume RTK North'!AH14+'Volume RTK South'!AH14","v":0},{"$f":"'Volume RTK North'!AI14+'Volume RTK South'!AI14","v":0},{"$f":"'Volume RTK North'!AJ14+'Volume RTK South'!AJ14","v":0},{"$f":"'Volume RTK North'!AK14+'Volume RTK South'!AK14","v":0},{"$f":"'Volume RTK North'!AL14+'Volume RTK South'!AL14","v":0},{"$f":"'Volume RTK North'!AM14+'Volume RTK South'!AM14","v":0},{"$f":"'Volume RTK North'!AN14+'Volume RTK South'!AN14","v":0},{"$f":"'Volume RTK North'!AO14+'Volume RTK South'!AO14","v":0},null,{"$f":"'Volume RTK North'!AQ14+'Volume RTK South'!AQ14","v":0},{"$f":"'Volume RTK North'!AR14+'Volume RTK South'!AR14","v":0},{"$f":"'Volume RTK North'!AS14+'Volume RTK South'!AS14","v":0},{"$f":"'Volume RTK North'!AT14+'Volume RTK South'!AT14","v":0},{"$f":"'Volume RTK North'!AU14+'Volume RTK South'!AU14","v":0},{"$f":"'Volume RTK North'!AV14+'Volume RTK South'!AV14","v":0},{"$f":"'Volume RTK North'!AW14+'Volume RTK South'!AW14","v":0},{"$f":"'Volume RTK North'!AX14+'Volume RTK South'!AX14","v":0},{"$f":"'Volume RTK North'!AY14+'Volume RTK South'!AY14","v":0},{"$f":"'Volume RTK North'!AZ14+'Volume RTK South'!AZ14","v":0},{"$f":"'Volume RTK North'!BA14+'Volume RTK South'!BA14","v":0},{"$f":"'Volume RTK North'!BB14+'Volume RTK South'!BB14","v":0},null,{"$f":"'Volume RTK North'!BD14+'Volume RTK South'!BD14","v":0},{"$f":"'Volume RTK North'!BE14+'Volume RTK South'!BE14","v":0},{"$f":"'Volume RTK North'!BF14+'Volume RTK South'!BF14","v":0},{"$f":"'Volume RTK North'!BG14+'Volume RTK South'!BG14","v":0},{"$f":"'Volume RTK North'!BH14+'Volume RTK South'!BH14","v":0},{"$f":"'Volume RTK North'!BI14+'Volume RTK South'!BI14","v":0},{"$f":"'Volume RTK North'!BJ14+'Volume RTK South'!BJ14","v":0},{"$f":"'Volume RTK North'!BK14+'Volume RTK South'!BK14","v":0},{"$f":"'Volume RTK North'!BL14+'Volume RTK South'!BL14","v":0},{"$f":"'Volume RTK North'!BM14+'Volume RTK South'!BM14","v":0},{"$f":"'Volume RTK North'!BN14+'Volume RTK South'!BN14","v":0},{"$f":"'Volume RTK North'!BO14+'Volume RTK South'!BO14","v":0},null,{"$f":"'Volume RTK North'!BQ14+'Volume RTK South'!BQ14","v":0},{"$f":"'Volume RTK North'!BR14+'Volume RTK South'!BR14","v":0},{"$f":"'Volume RTK North'!BS14+'Volume RTK South'!BS14","v":0},{"$f":"'Volume RTK North'!BT14+'Volume RTK South'!BT14","v":0},{"$f":"'Volume RTK North'!BU14+'Volume RTK South'!BU14","v":0},{"$f":"'Volume RTK North'!BV14+'Volume RTK South'!BV14","v":0},{"$f":"'Volume RTK North'!BW14+'Volume RTK South'!BW14","v":0},{"$f":"'Volume RTK North'!BX14+'Volume RTK South'!BX14","v":0},{"$f":"'Volume RTK North'!BY14+'Volume RTK South'!BY14","v":0},{"$f":"'Volume RTK North'!BZ14+'Volume RTK South'!BZ14","v":0},{"$f":"'Volume RTK North'!CA14+'Volume RTK South'!CA14","v":0},{"$f":"'Volume RTK North'!CB14+'Volume RTK South'!CB14","v":0},null,{"$f":"'Volume RTK North'!CD14+'Volume RTK South'!CD14","v":0},{"$f":"'Volume RTK North'!CE14+'Volume RTK South'!CE14","v":0},{"$f":"'Volume RTK North'!CF14+'Volume RTK South'!CF14","v":0},{"$f":"'Volume RTK North'!CG14+'Volume RTK South'!CG14","v":0},{"$f":"'Volume RTK North'!CH14+'Volume RTK South'!CH14","v":0},{"$f":"'Volume RTK North'!CI14+'Volume RTK South'!CI14","v":0},{"$f":"'Volume RTK North'!CJ14+'Volume RTK South'!CJ14","v":0},{"$f":"'Volume RTK North'!CK14+'Volume RTK South'!CK14","v":0},{"$f":"'Volume RTK North'!CL14+'Volume RTK South'!CL14","v":0},{"$f":"'Volume RTK North'!CM14+'Volume RTK South'!CM14","v":0},{"$f":"'Volume RTK North'!CN14+'Volume RTK South'!CN14","v":0},{"$f":"'Volume RTK North'!CO14+'Volume RTK South'!CO14","v":0}]
[null,"Corn meal",null,{"$f":"'Volume RTK North'!D15+'Volume RTK South'!D15","v":0},{"$f":"'Volume RTK North'!E15+'Volume RTK South'!E15","v":0},{"$f":"'Volume RTK North'!F15+'Volume RTK South'!F15","v":0},{"$f":"'Volume RTK North'!G15+'Volume RTK South'!G15","v":0},{"$f":"'Volume RTK North'!H15+'Volume RTK South'!H15","v":0},{"$f":"'Volume RTK North'!I15+'Volume RTK South'!I15","v":0},{"$f":"'Volume RTK North'!J15+'Volume RTK South'!J15","v":0},{"$f":"'Volume RTK North'!K15+'Volume RTK South'!K15","v":0},{"$f":"'Volume RTK North'!L15+'Volume RTK South'!L15","v":0},{"$f":"'Volume RTK North'!M15+'Volume RTK South'!M15","v":0},{"$f":"'Volume RTK North'!N15+'Volume RTK South'!N15","v":0},{"$f":"'Volume RTK North'!O15+'Volume RTK South'!O15","v":0},null,{"$f":"'Volume RTK North'!Q15+'Volume RTK South'!Q15","v":0},{"$f":"'Volume RTK North'!R15+'Volume RTK South'!R15","v":0},{"$f":"'Volume RTK North'!S15+'Volume RTK South'!S15","v":0},{"$f":"'Volume RTK North'!T15+'Volume RTK South'!T15","v":0},{"$f":"'Volume RTK North'!U15+'Volume RTK South'!U15","v":0},{"$f":"'Volume RTK North'!V15+'Volume RTK South'!V15","v":0},{"$f":"'Volume RTK North'!W15+'Volume RTK South'!W15","v":0},{"$f":"'Volume RTK North'!X15+'Volume RTK South'!X15","v":0},{"$f":"'Volume RTK North'!Y15+'Volume RTK South'!Y15","v":0},{"$f":"'Volume RTK North'!Z15+'Volume RTK South'!Z15","v":0},{"$f":"'Volume RTK North'!AA15+'Volume RTK South'!AA15","v":0},{"$f":"'Volume RTK North'!AB15+'Volume RTK South'!AB15","v":0},null,{"$f":"'Volume RTK North'!AD15+'Volume RTK South'!AD15","v":0},{"$f":"'Volume RTK North'!AE15+'Volume RTK South'!AE15","v":0},{"$f":"'Volume RTK North'!AF15+'Volume RTK South'!AF15","v":0},{"$f":"'Volume RTK North'!AG15+'Volume RTK South'!AG15","v":0},{"$f":"'Volume RTK North'!AH15+'Volume RTK South'!AH15","v":0},{"$f":"'Volume RTK North'!AI15+'Volume RTK South'!AI15","v":0},{"$f":"'Volume RTK North'!AJ15+'Volume RTK South'!AJ15","v":0},{"$f":"'Volume RTK North'!AK15+'Volume RTK South'!AK15","v":0},{"$f":"'Volume RTK North'!AL15+'Volume RTK South'!AL15","v":0},{"$f":"'Volume RTK North'!AM15+'Volume RTK South'!AM15","v":0},{"$f":"'Volume RTK North'!AN15+'Volume RTK South'!AN15","v":0},{"$f":"'Volume RTK North'!AO15+'Volume RTK South'!AO15","v":0},null,{"$f":"'Volume RTK North'!AQ15+'Volume RTK South'!AQ15","v":0},{"$f":"'Volume RTK North'!AR15+'Volume RTK South'!AR15","v":0},{"$f":"'Volume RTK North'!AS15+'Volume RTK South'!AS15","v":0},{"$f":"'Volume RTK North'!AT15+'Volume RTK South'!AT15","v":0},{"$f":"'Volume RTK North'!AU15+'Volume RTK South'!AU15","v":0},{"$f":"'Volume RTK North'!AV15+'Volume RTK South'!AV15","v":0},{"$f":"'Volume RTK North'!AW15+'Volume RTK South'!AW15","v":0},{"$f":"'Volume RTK North'!AX15+'Volume RTK South'!AX15","v":0},{"$f":"'Volume RTK North'!AY15+'Volume RTK South'!AY15","v":0},{"$f":"'Volume RTK North'!AZ15+'Volume RTK South'!AZ15","v":0},{"$f":"'Volume RTK North'!BA15+'Volume RTK South'!BA15","v":0},{"$f":"'Volume RTK North'!BB15+'Volume RTK South'!BB15","v":20.738520000000001},null,{"$f":"'Volume RTK North'!BD15+'Volume RTK South'!BD15","v":18.105539},{"$f":"'Volume RTK North'!BE15+'Volume RTK South'!BE15","v":0},{"$f":"'Volume RTK North'!BF15+'Volume RTK South'!BF15","v":0},{"$f":"'Volume RTK North'!BG15+'Volume RTK South'!BG15","v":0},{"$f":"'Volume RTK North'!BH15+'Volume RTK South'!BH15","v":0},{"$f":"'Volume RTK North'!BI15+'Volume RTK South'!BI15","v":0},{"$f":"'Volume RTK North'!BJ15+'Volume RTK South'!BJ15","v":0},{"$f":"'Volume RTK North'!BK15+'Volume RTK South'!BK15","v":0},{"$f":"'Volume RTK North'!BL15+'Volume RTK South'!BL15","v":0},{"$f":"'Volume RTK North'!BM15+'Volume RTK South'!BM15","v":0},{"$f":"'Volume RTK North'!BN15+'Volume RTK South'!BN15","v":0},{"$f":"'Volume RTK North'!BO15+'Volume RTK South'!BO15","v":0},null,{"$f":"'Volume RTK North'!BQ15+'Volume RTK South'!BQ15","v":0},{"$f":"'Volume RTK North'!BR15+'Volume RTK South'!BR15","v":0},{"$f":"'Volume RTK North'!BS15+'Volume RTK South'!BS15","v":0},{"$f":"'Volume RTK North'!BT15+'Volume RTK South'!BT15","v":0},{"$f":"'Volume RTK North'!BU15+'Volume RTK South'!BU15","v":0},{"$f":"'Volume RTK North'!BV15+'Volume RTK South'!BV15","v":0},{"$f":"'Volume RTK North'!BW15+'Volume RTK South'!BW15","v":0},{"$f":"'Volume RTK North'!BX15+'Volume RTK South'!BX15","v":0},{"$f":"'Volume RTK North'!BY15+'Volume RTK South'!BY15","v":0},{"$f":"'Volume RTK North'!BZ15+'Volume RTK South'!BZ15","v":0},{"$f":"'Volume RTK North'!CA15+'Volume RTK South'!CA15","v":0},{"$f":"'Volume RTK North'!CB15+'Volume RTK South'!CB15","v":0},null,{"$f":"'Volume RTK North'!CD15+'Volume RTK South'!CD15","v":0},{"$f":"'Volume RTK North'!CE15+'Volume RTK South'!CE15","v":0},{"$f":"'Volume RTK North'!CF15+'Volume RTK South'!CF15","v":0},{"$f":"'Volume RTK North'!CG15+'Volume RTK South'!CG15","v":0},{"$f":"'Volume RTK North'!CH15+'Volume RTK South'!CH15","v":0},{"$f":"'Volume RTK North'!CI15+'Volume RTK South'!CI15","v":0},{"$f":"'Volume RTK North'!CJ15+'Volume RTK South'!CJ15","v":0},{"$f":"'Volume RTK North'!CK15+'Volume RTK South'!CK15","v":0},{"$f":"'Volume RTK North'!CL15+'Volume RTK South'!CL15","v":0},{"$f":"'Volume RTK North'!CM15+'Volume RTK South'!CM15","v":0},{"$f":"'Volume RTK North'!CN15+'Volume RTK South'!CN15","v":0},{"$f":"'Volume RTK North'!CO15+'Volume RTK South'!CO15","v":0}]
[null,"Containers",null,{"$f":"'Volume RTK North'!D16+'Volume RTK South'!D16","v":130.967792},{"$f":"'Volume RTK North'!E16+'Volume RTK South'!E16","v":148.67437899999999},{"$f":"'Volume RTK North'!F16+'Volume RTK South'!F16","v":165.83138600000001},{"$f":"'Volume RTK North'!G16+'Volume RTK South'!G16","v":156.251329},{"$f":"'Volume RTK North'!H16+'Volume RTK South'!H16","v":155.73593499999998},{"$f":"'Volume RTK North'!I16+'Volume RTK South'!I16","v":145.13212000000001},{"$f":"'Volume RTK North'!J16+'Volume RTK South'!J16","v":137.973975},{"$f":"'Volume RTK North'!K16+'Volume RTK South'!K16","v":123.861135},{"$f":"'Volume RTK North'!L16+'Volume RTK South'!L16","v":117.61641800000001},{"$f":"'Volume RTK North'!M16+'Volume RTK South'!M16","v":122.481666},{"$f":"'Volume RTK North'!N16+'Volume RTK South'!N16","v":123.08285000000001},{"$f":"'Volume RTK North'!O16+'Volume RTK South'!O16","v":110.763047},null,{"$f":"'Volume RTK North'!Q16+'Volume RTK South'!Q16","v":130.92851999999999},{"$f":"'Volume RTK North'!R16+'Volume RTK South'!R16","v":102.66399200000001},{"$f":"'Volume RTK North'!S16+'Volume RTK South'!S16","v":114.83493900000001},{"$f":"'Volume RTK North'!T16+'Volume RTK South'!T16","v":127.973428},{"$f":"'Volume RTK North'!U16+'Volume RTK South'!U16","v":157.62689900000001},{"$f":"'Volume RTK North'!V16+'Volume RTK South'!V16","v":166.33850899999999},{"$f":"'Volume RTK North'!W16+'Volume RTK South'!W16","v":168.29987200000002},{"$f":"'Volume RTK North'!X16+'Volume RTK South'!X16","v":190.253514},{"$f":"'Volume RTK North'!Y16+'Volume RTK South'!Y16","v":165.76872},{"$f":"'Volume RTK North'!Z16+'Volume RTK South'!Z16","v":169.785212},{"$f":"'Volume RTK North'!AA16+'Volume RTK South'!AA16","v":139.96673200000001},{"$f":"'Volume RTK North'!AB16+'Volume RTK South'!AB16","v":130.18180599999999},null,{"$f":"'Volume RTK North'!AD16+'Volume RTK South'!AD16","v":73.832041000000004},{"$f":"'Volume RTK North'!AE16+'Volume RTK South'!AE16","v":203.24272100000002},{"$f":"'Volume RTK North'!AF16+'Volume RTK South'!AF16","v":201.001869},{"$f":"'Volume RTK North'!AG16+'Volume RTK South'!AG16","v":211.05626999999998},{"$f":"'Volume RTK North'!AH16+'Volume RTK South'!AH16","v":167.60248200000001},{"$f":"'Volume RTK North'!AI16+'Volume RTK South'!AI16","v":179.18171599999999},{"$f":"'Volume RTK North'!AJ16+'Volume RTK South'!AJ16","v":228.942881},{"$f":"'Volume RTK North'!AK16+'Volume RTK South'!AK16","v":234.10743000000002},{"$f":"'Volume RTK North'!AL16+'Volume RTK South'!AL16","v":214.03690500000002},{"$f":"'Volume RTK North'!AM16+'Volume RTK South'!AM16","v":203.000901},{"$f":"'Volume RTK North'!AN16+'Volume RTK South'!AN16","v":191.951165},{"$f":"'Volume RTK North'!AO16+'Volume RTK South'!AO16","v":197.46974399999999},null,{"$f":"'Volume RTK North'!AQ16+'Volume RTK South'!AQ16","v":184.37900500000001},{"$f":"'Volume RTK North'!AR16+'Volume RTK South'!AR16","v":170.01694700000002},{"$f":"'Volume RTK North'!AS16+'Volume RTK South'!AS16","v":236.75034099999999},{"$f":"'Volume RTK North'!AT16+'Volume RTK South'!AT16","v":231.422933},{"$f":"'Volume RTK North'!AU16+'Volume RTK South'!AU16","v":228.74962600000001},{"$f":"'Volume RTK North'!AV16+'Volume RTK South'!AV16","v":208.66352699999999},{"$f":"'Volume RTK North'!AW16+'Volume RTK South'!AW16","v":240.80342000000002},{"$f":"'Volume RTK North'!AX16+'Volume RTK South'!AX16","v":259.77802399999996},{"$f":"'Volume RTK North'!AY16+'Volume RTK South'!AY16","v":257.76329600000003},{"$f":"'Volume RTK North'!AZ16+'Volume RTK South'!AZ16","v":243.62838400000001},{"$f":"'Volume RTK North'!BA16+'Volume RTK South'!BA16","v":261.91399799999999},{"$f":"'Volume RTK North'!BB16+'Volume RTK South'!BB16","v":242.428133},null,{"$f":"'Volume RTK North'!BD16+'Volume RTK South'!BD16","v":228.10707199999999},{"$f":"'Volume RTK North'!BE16+'Volume RTK South'!BE16","v":226.05254100000002},{"$f":"'Volume RTK North'!BF16+'Volume RTK South'!BF16","v":232.81847499999998},{"$f":"'Volume RTK North'!BG16+'Volume RTK South'!BG16","v":199.00543199999998},{"$f":"'Volume RTK North'!BH16+'Volume RTK South'!BH16","v":189.00292000000002},{"$f":"'Volume RTK North'!BI16+'Volume RTK South'!BI16","v":252.88504899999998},{"$f":"'Volume RTK North'!BJ16+'Volume RTK South'!BJ16","v":265.49753700000002},{"$f":"'Volume RTK North'!BK16+'Volume RTK South'!BK16","v":257.95027600000003},{"$f":"'Volume RTK North'!BL16+'Volume RTK South'!BL16","v":272.91652099999999},{"$f":"'Volume RTK North'!BM16+'Volume RTK South'!BM16","v":272.50305500000002},{"$f":"'Volume RTK North'!BN16+'Volume RTK South'!BN16","v":291.26242500000001},{"$f":"'Volume RTK North'!BO16+'Volume RTK South'!BO16","v":268.49725799999999},null,{"$f":"'Volume RTK North'!BQ16+'Volume RTK South'!BQ16","v":244.131778},{"$f":"'Volume RTK North'!BR16+'Volume RTK South'!BR16","v":241.92994200000001},{"$f":"'Volume RTK North'!BS16+'Volume RTK South'!BS16","v":241.43195700000001},{"$f":"'Volume RTK North'!BT16+'Volume RTK South'!BT16","v":284.64637699999997},{"$f":"'Volume RTK North'!BU16+'Volume RTK South'!BU16","v":276.34361699999999},{"$f":"'Volume RTK North'!BV16+'Volume RTK South'!BV16","v":289.85902500000003},{"$f":"'Volume RTK North'!BW16+'Volume RTK South'!BW16","v":296.14324199999999},{"$f":"'Volume RTK North'!BX16+'Volume RTK South'!BX16","v":320.650825},{"$f":"'Volume RTK North'!BY16+'Volume RTK South'!BY16","v":282.42852800000003},{"$f":"'Volume RTK North'!BZ16+'Volume RTK South'!BZ16","v":271.11487},{"$f":"'Volume RTK North'!CA16+'Volume RTK South'!CA16","v":269.72634399999998},{"$f":"'Volume RTK North'!CB16+'Volume RTK South'!CB16","v":291.047506},null,{"$f":"'Volume RTK North'!CD16+'Volume RTK South'!CD16","v":266.84599500000002},{"$f":"'Volume RTK North'!CE16+'Volume RTK South'!CE16","v":295.39642600000002},{"$f":"'Volume RTK North'!CF16+'Volume RTK South'!CF16","v":317.14686499999999},{"$f":"'Volume RTK North'!CG16+'Volume RTK South'!CG16","v":305.382677},{"$f":"'Volume RTK North'!CH16+'Volume RTK South'!CH16","v":316.23259300000001},{"$f":"'Volume RTK North'!CI16+'Volume RTK South'!CI16","v":0},{"$f":"'Volume RTK North'!CJ16+'Volume RTK South'!CJ16","v":0},{"$f":"'Volume RTK North'!CK16+'Volume RTK South'!CK16","v":0},{"$f":"'Volume RTK North'!CL16+'Volume RTK South'!CL16","v":0},{"$f":"'Volume RTK North'!CM16+'Volume RTK South'!CM16","v":0},{"$f":"'Volume RTK North'!CN16+'Volume RTK South'!CN16","v":0},{"$f":"'Volume RTK North'!CO16+'Volume RTK South'!CO16","v":0}]
[null,"Industrial Products",null,{"$f":"SUM(D18:D21)","v":405.75994899999995},427.39980600000001,461.732461,447.86786400000005,481.92067400000008,523.93499499999996,562.40372400000001,578.06959299999994,580.24479699999995,574.193039,501.08232400000003,476.035934,null,{"$f":"SUM(Q18:Q21)","v":503.92276200000003},445.08587199999999,503.91255699999994,462.79054799999994,530.54511200000002,521.77646000000004,581.96878800000002,586.73494900000003,553.73817199999996,644.66259100000002,566.49763600000006,582.14752799999997,null,{"$f":"SUM(AD18:AD21)","v":579.52826300000004},576.812814,594.30088699999999,518.84129400000006,541.74682499999994,686.14562499999988,681.51758599999994,710.64779800000008,694.20421899999997,699.03641599999992,666.08224100000007,661.50651099999993,null,{"$f":"SUM(AQ18:AQ21)","v":661.83619900000008},597.82006699999999,634.58769699999993,607.92270900000005,656.08387600000003,673.22187399999996,712.25155999999993,730.75640500000009,712.05585099999996,738.25541799999996,653.92671599999994,618.48736600000007,null,{"$f":"SUM(BD18:BD21)","v":645.28491199999996},599.85529199999996,496.94969000000003,441.38303200000001,618.31375999999989,599.64282200000002,683.11599799999999,693.10083299999997,744.73870799999997,773.05656399999998,743.33961699999998,633.23953100000006,null,{"$f":"SUM(BQ18:BQ21)","v":696.11033300000008},{"$f":"SUM(BR18:BR21)","v":691.55998000000011},{"$f":"SUM(BS18:BS21)","v":739.98886700000014},{"$f":"SUM(BT18:BT21)","v":724.40767500000004},{"$f":"SUM(BU18:BU21)","v":772.01386500000001},{"$f":"SUM(BV18:BV21)","v":746.50598300000001},{"$f":"SUM(BW18:BW21)","v":771.09214600000007},{"$f":"SUM(BX18:BX21)","v":812.64743700000008},{"$f":"SUM(BY18:BY21)","v":764.16097000000002},{"$f":"SUM(BZ18:BZ21)","v":784.45731000000001},{"$f":"SUM(CA18:CA21)","v":708.77444300000002},{"$f":"SUM(CB18:CB21)","v":706.04715299999998},null,{"$f":"SUM(CD18:CD21)","v":720.81915400000003},709.03087799999992,797.96869800000002,740.77168699999993,818.31603100000007,0,0,0,0,0,0,0]
[null,"Fuels",null,{"$f":"'Volume RTK North'!D18+'Volume RTK South'!D18","v":304.52819199999999},{"$f":"'Volume RTK North'!E18+'Volume RTK South'!E18","v":313.67363999999998},{"$f":"'Volume RTK North'!F18+'Volume RTK South'!F18","v":344.90845300000001},{"$f":"'Volume RTK North'!G18+'Volume RTK South'!G18","v":326.61296600000003},{"$f":"'Volume RTK North'!H18+'Volume RTK South'!H18","v":352.50188500000002},{"$f":"'Volume RTK North'!I18+'Volume RTK South'!I18","v":383.09212300000002},{"$f":"'Volume RTK North'!J18+'Volume RTK South'!J18","v":390.00318400000003},{"$f":"'Volume RTK North'!K18+'Volume RTK South'!K18","v":402.93736799999999},{"$f":"'Volume RTK North'!L18+'Volume RTK South'!L18","v":418.99125100000003},{"$f":"'Volume RTK North'!M18+'Volume RTK South'!M18","v":410.54898300000002},{"$f":"'Volume RTK North'!N18+'Volume RTK South'!N18","v":346.34845100000001},{"$f":"'Volume RTK North'!O18+'Volume RTK South'!O18","v":335.85117200000002},null,{"$f":"'Volume RTK North'!Q18+'Volume RTK South'!Q18","v":359.972756},{"$f":"'Volume RTK North'!R18+'Volume RTK South'!R18","v":333.18139300000001},{"$f":"'Volume RTK North'!S18+'Volume RTK South'!S18","v":354.09324700000002},{"$f":"'Volume RTK North'!T18+'Volume RTK South'!T18","v":310.52348999999998},{"$f":"'Volume RTK North'!U18+'Volume RTK South'!U18","v":351.23970400000002},{"$f":"'Volume RTK North'!V18+'Volume RTK South'!V18","v":359.25178800000003},{"$f":"'Volume RTK North'!W18+'Volume RTK South'!W18","v":405.10714000000002},{"$f":"'Volume RTK North'!X18+'Volume RTK South'!X18","v":405.437501},{"$f":"'Volume RTK North'!Y18+'Volume RTK South'!Y18","v":373.22959100000003},{"$f":"'Volume RTK North'!Z18+'Volume RTK South'!Z18","v":435.92045000000002},{"$f":"'Volume RTK North'!AA18+'Volume RTK South'!AA18","v":343.30442800000003},{"$f":"'Volume RTK North'!AB18+'Volume RTK South'!AB18","v":333.03288099999997},null,{"$f":"'Volume RTK North'!AD18+'Volume RTK South'!AD18","v":343.26751899999999},{"$f":"'Volume RTK North'!AE18+'Volume RTK South'!AE18","v":358.307727},{"$f":"'Volume RTK North'!AF18+'Volume RTK South'!AF18","v":366.14099799999997},{"$f":"'Volume RTK North'!AG18+'Volume RTK South'!AG18","v":317.02023600000001},{"$f":"'Volume RTK North'!AH18+'Volume RTK South'!AH18","v":323.02858900000001},{"$f":"'Volume RTK North'!AI18+'Volume RTK South'!AI18","v":419.61775899999998},{"$f":"'Volume RTK North'!AJ18+'Volume RTK South'!AJ18","v":424.87210500000003},{"$f":"'Volume RTK North'!AK18+'Volume RTK South'!AK18","v":414.19682499999999},{"$f":"'Volume RTK North'!AL18+'Volume RTK South'!AL18","v":420.47837400000003},{"$f":"'Volume RTK North'!AM18+'Volume RTK South'!AM18","v":395.86320699999999},{"$f":"'Volume RTK North'!AN18+'Volume RTK South'!AN18","v":375.87934000000001},{"$f":"'Volume RTK North'!AO18+'Volume RTK South'!AO18","v":381.11847499999999},null,{"$f":"'Volume RTK North'!AQ18+'Volume RTK South'!AQ18","v":385.14574600000003},{"$f":"'Volume RTK North'!AR18+'Volume RTK South'!AR18","v":368.10520700000001},{"$f":"'Volume RTK North'!AS18+'Volume RTK South'!AS18","v":364.21156399999995},{"$f":"'Volume RTK North'!AT18+'Volume RTK South'!AT18","v":347.685044},{"$f":"'Volume RTK North'!AU18+'Volume RTK South'!AU18","v":383.32874800000002},{"$f":"'Volume RTK North'!AV18+'Volume RTK South'!AV18","v":396.56389799999999},{"$f":"'Volume RTK North'!AW18+'Volume RTK South'!AW18","v":438.70598199999995},{"$f":"'Volume RTK North'!AX18+'Volume RTK South'!AX18","v":443.07127500000001},{"$f":"'Volume RTK North'!AY18+'Volume RTK South'!AY18","v":422.16513500000002},{"$f":"'Volume RTK North'!AZ18+'Volume RTK South'!AZ18","v":427.61664199999996},{"$f":"'Volume RTK North'!BA18+'Volume RTK South'!BA18","v":370.226675},{"$f":"'Volume RTK North'!BB18+'Volume RTK South'!BB18","v":341.523799},null,{"$f":"'Volume RTK North'!BD18+'Volume RTK South'!BD18","v":357.43398000000002},{"$f":"'Volume RTK North'!BE18+'Volume RTK South'!BE18","v":358.49185199999999},{"$f":"'Volume RTK North'!BF18+'Volume RTK South'!BF18","v":276.22320300000001},{"$f":"'Volume RTK North'!BG18+'Volume RTK South'!BG18","v":202.531893},{"$f":"'Volume RTK North'!BH18+'Volume RTK South'!BH18","v":342.91432299999997},{"$f":"'Volume RTK North'!BI18+'Volume RTK South'!BI18","v":335.57100200000002},{"$f":"'Volume RTK North'!BJ18+'Volume RTK South'!BJ18","v":386.149519},{"$f":"'Volume RTK North'!BK18+'Volume RTK South'!BK18","v":384.69130199999995},{"$f":"'Volume RTK North'!BL18+'Volume RTK South'!BL18","v":428.047414},{"$f":"'Volume RTK North'!BM18+'Volume RTK South'!BM18","v":456.42952500000001},{"$f":"'Volume RTK North'!BN18+'Volume RTK South'!BN18","v":428.881688},{"$f":"'Volume RTK North'!BO18+'Volume RTK South'!BO18","v":409.908275},null,{"$f":"'Volume RTK North'!BQ18+'Volume RTK South'!BQ18","v":413.44762200000002},{"$f":"'Volume RTK North'!BR18+'Volume RTK South'!BR18","v":415.11905200000001},{"$f":"'Volume RTK North'!BS18+'Volume RTK South'!BS18","v":419.05749400000002},{"$f":"'Volume RTK North'!BT18+'Volume RTK South'!BT18","v":410.49949700000002},{"$f":"'Volume RTK North'!BU18+'Volume RTK South'!BU18","v":446.94871899999998},{"$f":"'Volume RTK North'!BV18+'Volume RTK South'!BV18","v":448.64236099999999},{"$f":"'Volume RTK North'!BW18+'Volume RTK South'!BW18","v":465.192453},{"$f":"'Volume RTK North'!BX18+'Volume RTK South'!BX18","v":478.22362400000003},{"$f":"'Volume RTK North'!BY18+'Volume RTK South'!BY18","v":470.94239499999998},{"$f":"'Volume RTK North'!BZ18+'Volume RTK South'!BZ18","v":478.70425299999999},{"$f":"'Volume RTK North'!CA18+'Volume RTK South'!CA18","v":418.27844800000003},{"$f":"'Volume RTK North'!CB18+'Volume RTK South'!CB18","v":433.33377999999999},null,{"$f":"'Volume RTK North'!CD18+'Volume RTK South'!CD18","v":454.96072300000003},{"$f":"'Volume RTK North'!CE18+'Volume RTK South'!CE18","v":458.14508699999999},{"$f":"'Volume RTK North'!CF18+'Volume RTK South'!CF18","v":471.89820999999995},{"$f":"'Volume RTK North'!CG18+'Volume RTK South'!CG18","v":453.68554499999999},{"$f":"'Volume RTK North'!CH18+'Volume RTK South'!CH18","v":512.95974699999999},{"$f":"'Volume RTK North'!CI18+'Volume RTK South'!CI18","v":0},{"$f":"'Volume RTK North'!CJ18+'Volume RTK South'!CJ18","v":0},{"$f":"'Volume RTK North'!CK18+'Volume RTK South'!CK18","v":0},{"$f":"'Volume RTK North'!CL18+'Volume RTK South'!CL18","v":0},{"$f":"'Volume RTK North'!CM18+'Volume RTK South'!CM18","v":0},{"$f":"'Volume RTK North'!CN18+'Volume RTK South'!CN18","v":0},{"$f":"'Volume RTK North'!CO18+'Volume RTK South'!CO18","v":0}]
[null,"Wood, pulp and paper",null,{"$f":"'Volume RTK North'!D19+'Volume RTK South'!D19","v":53.103093999999999},{"$f":"'Volume RTK North'!E19+'Volume RTK South'!E19","v":54.916126999999996},{"$f":"'Volume RTK North'!F19+'Volume RTK South'!F19","v":53.520448999999999},{"$f":"'Volume RTK North'!G19+'Volume RTK South'!G19","v":56.006704999999997},{"$f":"'Volume RTK North'!H19+'Volume RTK South'!H19","v":68.264671000000007},{"$f":"'Volume RTK North'!I19+'Volume RTK South'!I19","v":68.705703999999997},{"$f":"'Volume RTK North'!J19+'Volume RTK South'!J19","v":90.784820999999994},{"$f":"'Volume RTK North'!K19+'Volume RTK South'!K19","v":89.140709000000001},{"$f":"'Volume RTK North'!L19+'Volume RTK South'!L19","v":82.280722999999995},{"$f":"'Volume RTK North'!M19+'Volume RTK South'!M19","v":86.509163999999998},{"$f":"'Volume RTK North'!N19+'Volume RTK South'!N19","v":81.662906000000007},{"$f":"'Volume RTK North'!O19+'Volume RTK South'!O19","v":71.449663999999999},null,{"$f":"'Volume RTK North'!Q19+'Volume RTK South'!Q19","v":66.679985000000002},{"$f":"'Volume RTK North'!R19+'Volume RTK South'!R19","v":42.680686999999999},{"$f":"'Volume RTK North'!S19+'Volume RTK South'!S19","v":74.238529999999997},{"$f":"'Volume RTK North'!T19+'Volume RTK South'!T19","v":78.450040000000001},{"$f":"'Volume RTK North'!U19+'Volume RTK South'!U19","v":92.155349000000001},{"$f":"'Volume RTK North'!V19+'Volume RTK South'!V19","v":89.135938999999993},{"$f":"'Volume RTK North'!W19+'Volume RTK South'!W19","v":90.885902999999999},{"$f":"'Volume RTK North'!X19+'Volume RTK South'!X19","v":95.005221000000006},{"$f":"'Volume RTK North'!Y19+'Volume RTK South'!Y19","v":96.33475},{"$f":"'Volume RTK North'!Z19+'Volume RTK South'!Z19","v":121.526374},{"$f":"'Volume RTK North'!AA19+'Volume RTK South'!AA19","v":150.15562199999999},{"$f":"'Volume RTK North'!AB19+'Volume RTK South'!AB19","v":173.271929},null,{"$f":"'Volume RTK North'!AD19+'Volume RTK South'!AD19","v":162.08110499999998},{"$f":"'Volume RTK North'!AE19+'Volume RTK South'!AE19","v":153.46985599999999},{"$f":"'Volume RTK North'!AF19+'Volume RTK South'!AF19","v":151.655644},{"$f":"'Volume RTK North'!AG19+'Volume RTK South'!AG19","v":130.45853099999999},{"$f":"'Volume RTK North'!AH19+'Volume RTK South'!AH19","v":140.73136299999999},{"$f":"'Volume RTK North'!AI19+'Volume RTK South'!AI19","v":190.28760600000001},{"$f":"'Volume RTK North'!AJ19+'Volume RTK South'!AJ19","v":179.95953399999999},{"$f":"'Volume RTK North'!AK19+'Volume RTK South'!AK19","v":223.792225},{"$f":"'Volume RTK North'!AL19+'Volume RTK South'!AL19","v":199.13561799999999},{"$f":"'Volume RTK North'!AM19+'Volume RTK South'!AM19","v":221.55706599999999},{"$f":"'Volume RTK North'!AN19+'Volume RTK South'!AN19","v":209.92206400000001},{"$f":"'Volume RTK North'!AO19+'Volume RTK South'!AO19","v":215.90257800000001},null,{"$f":"'Volume RTK North'!AQ19+'Volume RTK South'!AQ19","v":205.204474},{"$f":"'Volume RTK North'!AR19+'Volume RTK South'!AR19","v":162.20054500000001},{"$f":"'Volume RTK North'!AS19+'Volume RTK South'!AS19","v":204.809718},{"$f":"'Volume RTK North'!AT19+'Volume RTK South'!AT19","v":198.715056},{"$f":"'Volume RTK North'!AU19+'Volume RTK South'!AU19","v":199.98194599999999},{"$f":"'Volume RTK North'!AV19+'Volume RTK South'!AV19","v":194.433325},{"$f":"'Volume RTK North'!AW19+'Volume RTK South'!AW19","v":192.61517599999999},{"$f":"'Volume RTK North'!AX19+'Volume RTK South'!AX19","v":200.06072499999999},{"$f":"'Volume RTK North'!AY19+'Volume RTK South'!AY19","v":211.58550300000002},{"$f":"'Volume RTK North'!AZ19+'Volume RTK South'!AZ19","v":227.075549},{"$f":"'Volume RTK North'!BA19+'Volume RTK South'!BA19","v":218.87440700000002},{"$f":"'Volume RTK North'!BB19+'Volume RTK South'!BB19","v":225.428674},null,{"$f":"'Volume RTK North'!BD19+'Volume RTK South'!BD19","v":221.46524199999999},{"$f":"'Volume RTK North'!BE19+'Volume RTK South'!BE19","v":175.57527899999999},{"$f":"'Volume RTK North'!BF19+'Volume RTK South'!BF19","v":162.755064},{"$f":"'Volume RTK North'!BG19+'Volume RTK South'!BG19","v":165.610028},{"$f":"'Volume RTK North'!BH19+'Volume RTK South'!BH19","v":201.26526700000002},{"$f":"'Volume RTK North'!BI19+'Volume RTK South'!BI19","v":198.20855},{"$f":"'Volume RTK North'!BJ19+'Volume RTK South'!BJ19","v":229.47214600000001},{"$f":"'Volume RTK North'!BK19+'Volume RTK South'!BK19","v":236.64035100000001},{"$f":"'Volume RTK North'!BL19+'Volume RTK South'!BL19","v":246.48908},{"$f":"'Volume RTK North'!BM19+'Volume RTK South'!BM19","v":244.84748300000001},{"$f":"'Volume RTK North'!BN19+'Volume RTK South'!BN19","v":247.891368},{"$f":"'Volume RTK North'!BO19+'Volume RTK South'!BO19","v":158.18536699999999},null,{"$f":"'Volume RTK North'!BQ19+'Volume RTK South'!BQ19","v":215.921055},{"$f":"'Volume RTK North'!BR19+'Volume RTK South'!BR19","v":212.10178100000002},{"$f":"'Volume RTK North'!BS19+'Volume RTK South'!BS19","v":236.64879400000001},{"$f":"'Volume RTK North'!BT19+'Volume RTK South'!BT19","v":230.59133300000002},{"$f":"'Volume RTK North'!BU19+'Volume RTK South'!BU19","v":237.40611100000001},{"$f":"'Volume RTK North'!BV19+'Volume RTK South'!BV19","v":216.30669699999999},{"$f":"'Volume RTK North'!BW19+'Volume RTK South'!BW19","v":219.19501},{"$f":"'Volume RTK North'!BX19+'Volume RTK South'!BX19","v":255.04660799999999},{"$f":"'Volume RTK North'!BY19+'Volume RTK South'!BY19","v":216.50873999999999},{"$f":"'Volume RTK North'!BZ19+'Volume RTK South'!BZ19","v":225.371813},{"$f":"'Volume RTK North'!CA19+'Volume RTK South'!CA19","v":209.93016},{"$f":"'Volume RTK North'!CB19+'Volume RTK South'!CB19","v":199.13039199999997},null,{"$f":"'Volume RTK North'!CD19+'Volume RTK South'!CD19","v":193.00985500000002},{"$f":"'Volume RTK North'!CE19+'Volume RTK South'!CE19","v":183.30443199999999},{"$f":"'Volume RTK North'!CF19+'Volume RTK South'!CF19","v":245.907736},{"$f":"'Volume RTK North'!CG19+'Volume RTK South'!CG19","v":218.18424300000001},{"$f":"'Volume RTK North'!CH19+'Volume RTK South'!CH19","v":227.01930599999997},{"$f":"'Volume RTK North'!CI19+'Volume RTK South'!CI19","v":0},{"$f":"'Volume RTK North'!CJ19+'Volume RTK South'!CJ19","v":0},{"$f":"'Volume RTK North'!CK19+'Volume RTK South'!CK19","v":0},{"$f":"'Volume RTK North'!CL19+'Volume RTK South'!CL19","v":0},{"$f":"'Volume RTK North'!CM19+'Volume RTK South'!CM19","v":0},{"$f":"'Volume RTK North'!CN19+'Volume RTK South'!CN19","v":0},{"$f":"'Volume RTK North'!CO19+'Volume RTK South'!CO19","v":0}]
[null,"Construction",null,{"$f":"'Volume RTK North'!D20+'Volume RTK South'!D20","v":36.146979999999999},{"$f":"'Volume RTK North'!E20+'Volume RTK South'!E20","v":45.827058999999998},{"$f":"'Volume RTK North'!F20+'Volume RTK South'!F20","v":51.114310000000003},{"$f":"'Volume RTK North'!G20+'Volume RTK South'!G20","v":52.249645000000001},{"$f":"'Volume RTK North'!H20+'Volume RTK South'!H20","v":49.190775000000002},{"$f":"'Volume RTK North'!I20+'Volume RTK South'!I20","v":60.071762},{"$f":"'Volume RTK North'!J20+'Volume RTK South'!J20","v":64.777552},{"$f":"'Volume RTK North'!K20+'Volume RTK South'!K20","v":69.127803999999998},{"$f":"'Volume RTK North'!L20+'Volume RTK South'!L20","v":65.878789999999995},{"$f":"'Volume RTK North'!M20+'Volume RTK South'!M20","v":61.566234999999999},{"$f":"'Volume RTK North'!N20+'Volume RTK South'!N20","v":61.028593000000001},{"$f":"'Volume RTK North'!O20+'Volume RTK South'!O20","v":57.386997999999998},null,{"$f":"'Volume RTK North'!Q20+'Volume RTK South'!Q20","v":65.66601},{"$f":"'Volume RTK North'!R20+'Volume RTK South'!R20","v":55.575082000000002},{"$f":"'Volume RTK North'!S20+'Volume RTK South'!S20","v":59.600560999999999},{"$f":"'Volume RTK North'!T20+'Volume RTK South'!T20","v":56.194758},{"$f":"'Volume RTK North'!U20+'Volume RTK South'!U20","v":65.604108999999994},{"$f":"'Volume RTK North'!V20+'Volume RTK South'!V20","v":50.665117000000002},{"$f":"'Volume RTK North'!W20+'Volume RTK South'!W20","v":63.763026000000004},{"$f":"'Volume RTK North'!X20+'Volume RTK South'!X20","v":62.402293999999998},{"$f":"'Volume RTK North'!Y20+'Volume RTK South'!Y20","v":60.580528999999999},{"$f":"'Volume RTK North'!Z20+'Volume RTK South'!Z20","v":64.152682999999996},{"$f":"'Volume RTK North'!AA20+'Volume RTK South'!AA20","v":51.531522000000002},{"$f":"'Volume RTK North'!AB20+'Volume RTK South'!AB20","v":55.288829},null,{"$f":"'Volume RTK North'!AD20+'Volume RTK South'!AD20","v":52.730674999999998},{"$f":"'Volume RTK North'!AE20+'Volume RTK South'!AE20","v":48.090178999999999},{"$f":"'Volume RTK North'!AF20+'Volume RTK South'!AF20","v":56.033644000000002},{"$f":"'Volume RTK North'!AG20+'Volume RTK South'!AG20","v":50.322405000000003},{"$f":"'Volume RTK North'!AH20+'Volume RTK South'!AH20","v":51.599339000000001},{"$f":"'Volume RTK North'!AI20+'Volume RTK South'!AI20","v":52.036932},{"$f":"'Volume RTK North'!AJ20+'Volume RTK South'!AJ20","v":49.466149999999999},{"$f":"'Volume RTK North'!AK20+'Volume RTK South'!AK20","v":46.488675999999998},{"$f":"'Volume RTK North'!AL20+'Volume RTK South'!AL20","v":54.157528999999997},{"$f":"'Volume RTK North'!AM20+'Volume RTK South'!AM20","v":61.839779},{"$f":"'Volume RTK North'!AN20+'Volume RTK South'!AN20","v":59.668979999999998},{"$f":"'Volume RTK North'!AO20+'Volume RTK South'!AO20","v":42.025801999999999},null,{"$f":"'Volume RTK North'!AQ20+'Volume RTK South'!AQ20","v":54.429172000000001},{"$f":"'Volume RTK North'!AR20+'Volume RTK South'!AR20","v":51.728222000000002},{"$f":"'Volume RTK North'!AS20+'Volume RTK South'!AS20","v":53.895175000000002},{"$f":"'Volume RTK North'!AT20+'Volume RTK South'!AT20","v":43.234752999999998},{"$f":"'Volume RTK North'!AU20+'Volume RTK South'!AU20","v":52.935913999999997},{"$f":"'Volume RTK North'!AV20+'Volume RTK South'!AV20","v":57.029544999999999},{"$f":"'Volume RTK North'!AW20+'Volume RTK South'!AW20","v":56.869478000000001},{"$f":"'Volume RTK North'!AX20+'Volume RTK South'!AX20","v":62.587448999999999},{"$f":"'Volume RTK North'!AY20+'Volume RTK South'!AY20","v":56.165497999999999},{"$f":"'Volume RTK North'!AZ20+'Volume RTK South'!AZ20","v":59.440604},{"$f":"'Volume RTK North'!BA20+'Volume RTK South'!BA20","v":48.727550999999998},{"$f":"'Volume RTK North'!BB20+'Volume RTK South'!BB20","v":47.119295999999999},null,{"$f":"'Volume RTK North'!BD20+'Volume RTK South'!BD20","v":52.785445000000003},{"$f":"'Volume RTK North'!BE20+'Volume RTK South'!BE20","v":55.624032},{"$f":"'Volume RTK North'!BF20+'Volume RTK South'!BF20","v":40.774196000000003},{"$f":"'Volume RTK North'!BG20+'Volume RTK South'!BG20","v":52.201680000000003},{"$f":"'Volume RTK North'!BH20+'Volume RTK South'!BH20","v":63.436933000000003},{"$f":"'Volume RTK North'!BI20+'Volume RTK South'!BI20","v":54.593823},{"$f":"'Volume RTK North'!BJ20+'Volume RTK South'!BJ20","v":51.830165999999998},{"$f":"'Volume RTK North'!BK20+'Volume RTK South'!BK20","v":58.609205000000003},{"$f":"'Volume RTK North'!BL20+'Volume RTK South'!BL20","v":56.657111999999998},{"$f":"'Volume RTK North'!BM20+'Volume RTK South'!BM20","v":70.559619999999995},{"$f":"'Volume RTK North'!BN20+'Volume RTK South'!BN20","v":61.878512999999998},{"$f":"'Volume RTK North'!BO20+'Volume RTK South'!BO20","v":54.786934000000002},null,{"$f":"'Volume RTK North'!BQ20+'Volume RTK South'!BQ20","v":57.909204000000003},{"$f":"'Volume RTK North'!BR20+'Volume RTK South'!BR20","v":54.774956000000003},{"$f":"'Volume RTK North'!BS20+'Volume RTK South'!BS20","v":66.333736000000002},{"$f":"'Volume RTK North'!BT20+'Volume RTK South'!BT20","v":66.221830999999995},{"$f":"'Volume RTK North'!BU20+'Volume RTK South'!BU20","v":65.085325999999995},{"$f":"'Volume RTK North'!BV20+'Volume RTK South'!BV20","v":62.460762000000003},{"$f":"'Volume RTK North'!BW20+'Volume RTK South'!BW20","v":66.431854999999999},{"$f":"'Volume RTK North'!BX20+'Volume RTK South'!BX20","v":68.781409999999994},{"$f":"'Volume RTK North'!BY20+'Volume RTK South'!BY20","v":69.288462999999993},{"$f":"'Volume RTK North'!BZ20+'Volume RTK South'!BZ20","v":65.171104},{"$f":"'Volume RTK North'!CA20+'Volume RTK South'!CA20","v":64.980664000000004},{"$f":"'Volume RTK North'!CB20+'Volume RTK South'!CB20","v":58.487743999999999},null,{"$f":"'Volume RTK North'!CD20+'Volume RTK South'!CD20","v":58.495223000000003},{"$f":"'Volume RTK North'!CE20+'Volume RTK South'!CE20","v":61.188867999999999},{"$f":"'Volume RTK North'!CF20+'Volume RTK South'!CF20","v":62.708154999999998},{"$f":"'Volume RTK North'!CG20+'Volume RTK South'!CG20","v":57.831187},{"$f":"'Volume RTK North'!CH20+'Volume RTK South'!CH20","v":66.374943999999999},{"$f":"'Volume RTK North'!CI20+'Volume RTK South'!CI20","v":0},{"$f":"'Volume RTK North'!CJ20+'Volume RTK South'!CJ20","v":0},{"$f":"'Volume RTK North'!CK20+'Volume RTK South'!CK20","v":0},{"$f":"'Volume RTK North'!CL20+'Volume RTK South'!CL20","v":0},{"$f":"'Volume RTK North'!CM20+'Volume RTK South'!CM20","v":0},{"$f":"'Volume RTK North'!CN20+'Volume RTK South'!CN20","v":0},{"$f":"'Volume RTK North'!CO20+'Volume RTK South'!CO20","v":0}]
[null,"Steel and mining",null,{"$f":"'Volume RTK North'!D21+'Volume RTK South'!D21","v":11.981683},{"$f":"'Volume RTK North'!E21+'Volume RTK South'!E21","v":12.982980000000001},{"$f":"'Volume RTK North'!F21+'Volume RTK South'!F21","v":12.189249},{"$f":"'Volume RTK North'!G21+'Volume RTK South'!G21","v":12.998548},{"$f":"'Volume RTK North'!H21+'Volume RTK South'!H21","v":11.963343},{"$f":"'Volume RTK North'!I21+'Volume RTK South'!I21","v":12.065405999999999},{"$f":"'Volume RTK North'!J21+'Volume RTK South'!J21","v":16.838166999999999},{"$f":"'Volume RTK North'!K21+'Volume RTK South'!K21","v":16.863712},{"$f":"'Volume RTK North'!L21+'Volume RTK South'!L21","v":13.094033},{"$f":"'Volume RTK North'!M21+'Volume RTK South'!M21","v":15.568657},{"$f":"'Volume RTK North'!N21+'Volume RTK South'!N21","v":12.042374000000001},{"$f":"'Volume RTK North'!O21+'Volume RTK South'!O21","v":11.348100000000001},null,{"$f":"'Volume RTK North'!Q21+'Volume RTK South'!Q21","v":11.604011},{"$f":"'Volume RTK North'!R21+'Volume RTK South'!R21","v":13.648709999999999},{"$f":"'Volume RTK North'!S21+'Volume RTK South'!S21","v":15.980219},{"$f":"'Volume RTK North'!T21+'Volume RTK South'!T21","v":17.622260000000001},{"$f":"'Volume RTK North'!U21+'Volume RTK South'!U21","v":21.545950000000001},{"$f":"'Volume RTK North'!V21+'Volume RTK South'!V21","v":22.723616},{"$f":"'Volume RTK North'!W21+'Volume RTK South'!W21","v":22.212719},{"$f":"'Volume RTK North'!X21+'Volume RTK South'!X21","v":23.889932999999999},{"$f":"'Volume RTK North'!Y21+'Volume RTK South'!Y21","v":23.593302000000001},{"$f":"'Volume RTK North'!Z21+'Volume RTK South'!Z21","v":23.063084},{"$f":"'Volume RTK North'!AA21+'Volume RTK South'!AA21","v":21.506063999999999},{"$f":"'Volume RTK North'!AB21+'Volume RTK South'!AB21","v":20.553889000000002},null,{"$f":"'Volume RTK North'!AD21+'Volume RTK South'!AD21","v":21.448964},{"$f":"'Volume RTK North'!AE21+'Volume RTK South'!AE21","v":16.945052},{"$f":"'Volume RTK North'!AF21+'Volume RTK South'!AF21","v":20.470600999999998},{"$f":"'Volume RTK North'!AG21+'Volume RTK South'!AG21","v":21.040122},{"$f":"'Volume RTK North'!AH21+'Volume RTK South'!AH21","v":26.387533999999999},{"$f":"'Volume RTK North'!AI21+'Volume RTK South'!AI21","v":24.203327999999999},{"$f":"'Volume RTK North'!AJ21+'Volume RTK South'!AJ21","v":27.219797},{"$f":"'Volume RTK North'!AK21+'Volume RTK South'!AK21","v":26.170072000000001},{"$f":"'Volume RTK North'!AL21+'Volume RTK South'!AL21","v":20.432697999999998},{"$f":"'Volume RTK North'!AM21+'Volume RTK South'!AM21","v":19.776364000000001},{"$f":"'Volume RTK North'!AN21+'Volume RTK South'!AN21","v":20.611857000000001},{"$f":"'Volume RTK North'!AO21+'Volume RTK South'!AO21","v":22.459655999999999},null,{"$f":"'Volume RTK North'!AQ21+'Volume RTK South'!AQ21","v":17.056806999999999},{"$f":"'Volume RTK North'!AR21+'Volume RTK South'!AR21","v":15.786092999999999},{"$f":"'Volume RTK North'!AS21+'Volume RTK South'!AS21","v":11.671239999999999},{"$f":"'Volume RTK North'!AT21+'Volume RTK South'!AT21","v":18.287856000000001},{"$f":"'Volume RTK North'!AU21+'Volume RTK South'!AU21","v":19.837268000000002},{"$f":"'Volume RTK North'!AV21+'Volume RTK South'!AV21","v":25.195105999999999},{"$f":"'Volume RTK North'!AW21+'Volume RTK South'!AW21","v":24.060924},{"$f":"'Volume RTK North'!AX21+'Volume RTK South'!AX21","v":25.036956},{"$f":"'Volume RTK North'!AY21+'Volume RTK South'!AY21","v":22.139714999999999},{"$f":"'Volume RTK North'!AZ21+'Volume RTK South'!AZ21","v":24.122623000000001},{"$f":"'Volume RTK North'!BA21+'Volume RTK South'!BA21","v":16.098082999999999},{"$f":"'Volume RTK North'!BB21+'Volume RTK South'!BB21","v":4.415597},null,{"$f":"'Volume RTK North'!BD21+'Volume RTK South'!BD21","v":13.600244999999999},{"$f":"'Volume RTK North'!BE21+'Volume RTK South'!BE21","v":10.164129000000001},{"$f":"'Volume RTK North'!BF21+'Volume RTK South'!BF21","v":17.197227000000002},{"$f":"'Volume RTK North'!BG21+'Volume RTK South'!BG21","v":21.039431},{"$f":"'Volume RTK North'!BH21+'Volume RTK South'!BH21","v":10.697236999999999},{"$f":"'Volume RTK North'!BI21+'Volume RTK South'!BI21","v":11.269447},{"$f":"'Volume RTK North'!BJ21+'Volume RTK South'!BJ21","v":15.664167000000001},{"$f":"'Volume RTK North'!BK21+'Volume RTK South'!BK21","v":13.159974999999999},{"$f":"'Volume RTK North'!BL21+'Volume RTK South'!BL21","v":13.545102},{"$f":"'Volume RTK North'!BM21+'Volume RTK South'!BM21","v":1.2199359999999999},{"$f":"'Volume RTK North'!BN21+'Volume RTK South'!BN21","v":4.6880480000000002},{"$f":"'Volume RTK North'!BO21+'Volume RTK South'!BO21","v":10.358955},null,{"$f":"'Volume RTK North'!BQ21+'Volume RTK South'!BQ21","v":8.832452},{"$f":"'Volume RTK North'!BR21+'Volume RTK South'!BR21","v":9.5641909999999992},{"$f":"'Volume RTK North'!BS21+'Volume RTK South'!BS21","v":17.948843},{"$f":"'Volume RTK North'!BT21+'Volume RTK South'!BT21","v":17.095013999999999},{"$f":"'Volume RTK North'!BU21+'Volume RTK South'!BU21","v":22.573709000000001},{"$f":"'Volume RTK North'!BV21+'Volume RTK South'!BV21","v":19.096163000000001},{"$f":"'Volume RTK North'!BW21+'Volume RTK South'!BW21","v":20.272828000000001},{"$f":"'Volume RTK North'!BX21+'Volume RTK South'!BX21","v":10.595795000000001},{"$f":"'Volume RTK North'!BY21+'Volume RTK South'!BY21","v":7.4213719999999999},{"$f":"'Volume RTK North'!BZ21+'Volume RTK South'!BZ21","v":15.210140000000001},{"$f":"'Volume RTK North'!CA21+'Volume RTK South'!CA21","v":15.585171000000001},{"$f":"'Volume RTK North'!CB21+'Volume RTK South'!CB21","v":15.095236999999999},null,{"$f":"'Volume RTK North'!CD21+'Volume RTK South'!CD21","v":14.353353},{"$f":"'Volume RTK North'!CE21+'Volume RTK South'!CE21","v":6.3924909999999997},{"$f":"'Volume RTK North'!CF21+'Volume RTK South'!CF21","v":17.454597},{"$f":"'Volume RTK North'!CG21+'Volume RTK South'!CG21","v":11.070712},{"$f":"'Volume RTK North'!CH21+'Volume RTK South'!CH21","v":11.962033999999999},{"$f":"'Volume RTK North'!CI21+'Volume RTK South'!CI21","v":0},{"$f":"'Volume RTK North'!CJ21+'Volume RTK South'!CJ21","v":0},{"$f":"'Volume RTK North'!CK21+'Volume RTK South'!CK21","v":0},{"$f":"'Volume RTK North'!CL21+'Volume RTK South'!CL21","v":0},{"$f":"'Volume RTK North'!CM21+'Volume RTK South'!CM21","v":0},{"$f":"'Volume RTK North'!CN21+'Volume RTK South'!CN21","v":0},{"$f":"'Volume RTK North'!CO21+'Volume RTK South'!CO21","v":0}]

{"sheet":"Volume RTK North","index":16,"n_rows":42,"n_cols":93,"rows_kept":42,"cut":false,"hidden":false,"merged":[[3,64,4,64],[3,65,4,65],[3,66,4,66],[3,55,4,55],[3,56,4,56],[3,57,4,57],[3,58,4,58],[3,62,4,62],[3,63,4,63],[3,60,4,60],[3,61,4,61],[3,44,4,44],[3,45,4,45],[3,59,4,59],[3,47,4,47],[3,48,4,48],[3,49,4,49],[3,50,4,50],[3,51,4,51],[3,52,4,52],[3,53,4,53],[3,46,4,46],[3,43,4,43],[3,29,4,29],[3,30,4,30],[3,31,4,31],[3,32,4,32],[3,34,4,34],[3,35,4,35],[3,36,4,36],[3,37,4,37],[3,38,4,38],[3,39,4,39],[3,40,4,40],[3,42,4,42],[3,18,4,18],[3,19,4,19],[3,33,4,33],[3,21,4,21],[3,22,4,22],[3,23,4,23],[3,24,4,24],[3,25,4,25],[3,26,4,26],[3,27,4,27],[3,20,4,20],[3,1,4,1],[3,3,4,3],[3,4,4,4],[3,5,4,5],[3,6,4,6],[3,13,4,13],[3,14,4,14],[3,16,4,16],[3,17,4,17],[3,7,4,7],[3,8,4,8],[3,9,4,9],[3,10,4,10],[3,11,4,11],[3,12,4,12],[24,79,25,79],[3,78,4,78],[3,79,4,79],[3,73,4,73],[3,74,4,74],[3,75,4,75],[3,76,4,76],[3,77,4,77],[3,68,4,68],[3,69,4,69],[3,70,4,70],[3,71,4,71],[3,72,4,72],[24,70,25,70],[24,71,25,71],[24,72,25,72],[24,73,25,73],[24,74,25,74],[24,75,25,75],[24,76,25,76],[24,77,25,77],[24,78,25,78],[24,60,25,60],[24,61,25,61],[24,62,25,62],[24,63,25,63],[24,64,25,64],[24,65,25,65],[24,66,25,66],[24,68,25,68],[24,69,25,69],[24,50,25,50],[24,51,25,51],[24,52,25,52],[24,53,25,53],[24,55,25,55],[24,56,25,56],[24,57,25,57],[24,58,25,58],[24,59,25,59],[24,40,25,40],[24,42,25,42],[24,43,25,43],[24,44,25,44],[24,45,25,45],[24,46,25,46],[24,47,25,47],[24,48,25,48],[24,49,25,49],[24,31,25,31],[24,32,25,32],[24,33,25,33],[24,34,25,34],[24,35,25,35],[24,36,25,36],[24,37,25,37],[24,38,25,38],[24,39,25,39],[24,21,25,21],[24,22,25,22],[24,23,25,23],[24,24,25,24],[24,25,25,25],[24,26,25,26],[24,27,25,27],[24,29,25,29],[24,30,25,30],[24,11,25,11],[24,12,25,12],[24,13,25,13],[24,14,25,14],[24,16,25,16],[24,17,25,17],[24,18,25,18],[24,19,25,19],[24,20,25,20],[24,1,25,1],[24,3,25,3],[24,4,25,4],[24,5,25,5],[24,6,25,6],[24,7,25,7],[24,8,25,8],[24,9,25,9],[24,10,25,10],[3,90,4,90],[3,91,4,91],[3,92,4,92],[24,81,25,81],[24,82,25,82],[24,83,25,83],[24,84,25,84],[24,85,25,85],[24,86,25,86],[24,87,25,87],[24,88,25,88],[24,89,25,89],[24,90,25,90],[24,91,25,91],[24,92,25,92],[3,81,4,81],[3,82,4,82],[3,83,4,83],[3,84,4,84],[3,85,4,85],[3,86,4,86],[3,87,4,87],[3,88,4,88],[3,89,4,89]]}
[]
[null,"Volume RTK | North"]
[]
[null,null,null,"2016-01-01","feb/17","2016-03-01","apr/16","may/16","2016-06-01","2016-07-01","aug/16","sep/16","oct/16","2016-11-01","dec/16",null,"2017-01-01","feb/17","2017-03-01","apr/17","may/17","2017-06-01","2017-07-01","aug/17","sep/17","oct/17","2017-11-01","dec/17",null,"2018-01-01","feb/18","2018-03-01","apr/18","may/18","2018-06-01","2018-07-01","aug/18","sep/18","oct/18","2018-11-01","dec/18",null,"jan/19","feb/19","mar/19","apr/19","may/19","jun/19","jul/19","aug/19","sep/19","oct/19","nov/19","dec/19",null,"2020-01-01","feb/20","2020-03-01","apr/20","may/20","2020-06-01","2020-07-01","aug/20","sep/20","oct/20","2020-11-01","dec/20",null,"2021-01-01","2021-02-01","2021-03-01","2021-04-01","2021-05-01","2021-06-01","2021-07-01","2021-08-01","2021-09-01","2021-10-01","2021-11-01","2021-12-01",null,"2022-01-01","2022-02-01","2022-03-01","2022-04-01","2022-05-01","2022-06-01","2022-07-01","2022-08-01","2022-09-01","2022-10-01","2022-11-01","2022-12-01"]
[]
[null,"Transported (Mln RTK)",null,{"$f":"SUM(D7,D17,D16)","v":2153.2597410000003},2290.617166,2830.8926889999998,2912.7818650000004,2566.6193739999999,1933.4013459999999,2753.6571640000002,2806.2672159999997,2648.8908249999999,1654.204729,1444.230409,1604.0769079999998,null,{"$f":"SUM(Q7,Q17,Q16)","v":1690.3732889999999},2584.2935419999999,3009.7357240000001,2840.6555800000001,2943.3247959999999,2864.6879039999999,3147.1161349999993,3349.9960609999998,3112.0614660000006,3444.5590069999998,3200.1285750000002,3032.5401810000003,null,{"$f":"SUM(AD7,AD17,AD16)","v":2087.322682},3069.7362420000004,3470.7769099999996,3296.2378039999999,2854.7567249999997,3366.1068649999997,3870.4532640000002,4043.3095069999995,3866.4661539999997,3480.6124499999996,3949.6267570000005,3684.7206339899994,null,{"$f":"SUM(AQ7,AQ17,AQ16)","v":3120.2743340000002},2913.6432100000002,3840.4992560000005,3471.8644850000001,3130.5428929999998,4266.6862169999995,4665.4515289999999,4317.7268060000006,3948.703438,4132.442121,4209.9676259999997,2875.5360449999998,null,{"$f":"SUM(BD7,BD17,BD16)","v":2814.419793},4001.24118,2764.8310059999999,4040.1705120000001,4331.1768350000002,4152.1604009999992,4750.059679,4337.3507689999997,4220.2480500000001,4380.91032,4057.7655119999999,4077.6237440000004,null,{"$f":"SUM(BQ7,BQ17,BQ16)","v":2026.076151},{"$f":"SUM(BR7,BR17,BR16)","v":4303.6174999999994},{"$f":"SUM(BS7,BS17,BS16)","v":4736.9821140000004},{"$f":"SUM(BT7,BT17,BT16)","v":4581.6942910000007},{"$f":"SUM(BU7,BU17,BU16)","v":4745.6318409999994},{"$f":"SUM(BV7,BV17,BV16)","v":4341.1215350000002},{"$f":"SUM(BW7,BW17,BW16)","v":4937.0636049999994},{"$f":"SUM(BX7,BX17,BX16)","v":4139.0592900000001},{"$f":"SUM(BY7,BY17,BY16)","v":3430.124249},{"$f":"SUM(BZ7,BZ17,BZ16)","v":3886.1437140000003},{"$f":"SUM(CA7,CA17,CA16)","v":4319.0610620000007},{"$f":"SUM(CB7,CB17,CB16)","v":4366.5922460000002},null,{"$f":"SUM(CD7,CD17,CD16)","v":4334.7224060000008},5209.228521,5518.7613189999993,5113.5974070000002,5302.2181080000009,0,0,0,0,0,0,0]
[null,"Agricultural Products",null,{"$f":"SUM(D8:D15)","v":1895.6128650000001},2030.7339099999999,2548.8154669999999,2646.3661580000003,2282.2718319999999,1644.342169,2464.0009909999999,2513.9683169999998,2344.033199,1349.895853,1179.3272919999999,1340.5976609999998,null,{"$f":"SUM(Q8:Q15)","v":1386.617534},2320.6683210000001,2734.2613999999999,2578.1866230000001,2640.1428129999999,2527.191699,2805.2040259999994,2991.072866,2794.4698780000003,3048.8224869999999,2855.4784100000002,2686.0054720000003,null,{"$f":"SUM(AD8:AD15)","v":1790.1399739999999},2641.3770780000004,3018.4941289999997,2905.66005,2464.1723969999998,2891.4166769999997,3351.5748130000002,3524.1956939999995,3373.6437779999997,3001.0604079999998,3482.2305630000005,3213.4202609899994,null,{"$f":"SUM(AQ8:AQ15)","v":2654.061897},2514.2137149999999,3353.4530600000003,3007.9293259999999,2648.7715370000001,3797.5421349999997,4147.181799,3796.2378060000005,3422.7870830000002,3597.4223739999998,3683.1564020000001,2370.3783119999998,null,{"$f":"SUM(BD8:BD15)","v":2310.3390509999999},3496.572357,2284.4553980000001,3679.4593380000001,3840.7134749999996,3622.5879119999995,4175.9010779999999,3769.7763519999999,3598.045161,3735.3033970000001,3409.8297439999997,3513.2462210000003,null,{"$f":"SUM(BQ8:BQ15)","v":1463.018513},{"$f":"SUM(BR8:BR15)","v":3745.6380429999999},{"$f":"SUM(BS8:BS15)","v":4160.5433380000004},{"$f":"SUM(BT8:BT15)","v":3963.9989990000004},{"$f":"SUM(BU8:BU15)","v":4113.1144770000001},{"$f":"SUM(BV8:BV15)","v":3686.0285719999997},{"$f":"SUM(BW8:BW15)","v":4250.9786619999995},{"$f":"SUM(BX8:BX15)","v":3393.441906},{"$f":"SUM(BY8:BY15)","v":2736.190736},{"$f":"SUM(BZ8:BZ15)","v":3181.0016480000004},{"$f":"SUM(CA8:CA15)","v":3678.9714340000005},{"$f":"SUM(CB8:CB15)","v":3687.0346450000002},null,{"$f":"SUM(CD8:CD15)","v":3674.1279160000004},4498.2170120000001,4756.6581179999994,4402.0620370000006,4543.4167180000004,0,0,0,0,0,0,0]
[null,"Soybean",null,120.222678,1448.88618,1997.122848,2066.705168,1550.4311319999999,513.51546599999995,44.264498000000003,0,0,0,22.267163,120.153471,null,736.99816799999996,1866.6842819999999,2207.9027209999999,1937.3872249999999,1866.7562680000001,726.641436,156.56585899999999,121.00682500000001,0,0,0,0,null,694.83746799999994,1964.1760220000001,2375.602179,2240.421112,1693.7376409999999,1727.7406129999999,259.04943500000002,69.389781999999997,20.492066000000001,17.93694,25.441582,0,null,1619.3273810000001,1925.7506040000001,2504.528491,2071.9616820000001,1560.8728940000001,448.37685099999999,157.90087399999999,149.31093200000001,121.168504,262.36950300000001,434.61930100000001,72.888115999999997,null,{"$f":"SUMIFS('RTK Base'!BE:BE,'RTK Base'!$A:$A,$B8,'RTK Base'!$B:$B,\"North\")/1000000","v":1472.7739730000001},{"$f":"SUMIFS('RTK Base'!BF:BF,'RTK Base'!$A:$A,$B8,'RTK Base'!$B:$B,\"North\")/1000000","v":2608.6007289999998},{"$f":"SUMIFS('RTK Base'!BG:BG,'RTK Base'!$A:$A,$B8,'RTK Base'!$B:$B,\"North\")/1000000","v":1592.4453189999999},{"$f":"SUMIFS('RTK Base'!BH:BH,'RTK Base'!$A:$A,$B8,'RTK Base'!$B:$B,\"North\")/1000000","v":2621.7298230000001},{"$f":"SUMIFS('RTK Base'!BI:BI,'RTK Base'!$A:$A,$B8,'RTK Base'!$B:$B,\"North\")/1000000","v":2686.5821769999998},{"$f":"SUMIFS('RTK Base'!BJ:BJ,'RTK Base'!$A:$A,$B8,'RTK Base'!$B:$B,\"North\")/1000000","v":1073.3422129999999},{"$f":"SUMIFS('RTK Base'!BK:BK,'RTK Base'!$A:$A,$B8,'RTK Base'!$B:$B,\"North\")/1000000","v":362.05814900000001},{"$f":"SUMIFS('RTK Base'!BL:BL,'RTK Base'!$A:$A,$B8,'RTK Base'!$B:$B,\"North\")/1000000","v":72.098883000000001},{"$f":"SUMIFS('RTK Base'!BM:BM,'RTK Base'!$A:$A,$B8,'RTK Base'!$B:$B,\"North\")/1000000","v":77.838616000000002},{"$f":"SUMIFS('RTK Base'!BN:BN,'RTK Base'!$A:$A,$B8,'RTK Base'!$B:$B,\"North\")/1000000","v":0},{"$f":"SUMIFS('RTK Base'!BO:BO,'RTK Base'!$A:$A,$B8,'RTK Base'!$B:$B,\"North\")/1000000","v":0},{"$f":"SUMIFS('RTK Base'!BP:BP,'RTK Base'!$A:$A,$B8,'RTK Base'!$B:$B,\"North\")/1000000","v":0},null,{"$f":"SUMIFS('RTK Base'!BR:BR,'RTK Base'!$A:$A,$B8,'RTK Base'!$B:$B,\"North\")/1000000","v":322.16367200000002},{"$f":"SUMIFS('RTK Base'!BS:BS,'RTK Base'!$A:$A,$B8,'RTK Base'!$B:$B,\"North\")/1000000","v":2775.015668},{"$f":"SUMIFS('RTK Base'!BT:BT,'RTK Base'!$A:$A,$B8,'RTK Base'!$B:$B,\"North\")/1000000","v":3227.2043079999999},{"$f":"SUMIFS('RTK Base'!BU:BU,'RTK Base'!$A:$A,$B8,'RTK Base'!$B:$B,\"North\")/1000000","v":2882.1276910000001},{"$f":"SUMIFS('RTK Base'!BV:BV,'RTK Base'!$A:$A,$B8,'RTK Base'!$B:$B,\"North\")/1000000","v":2890.0633210000001},{"$f":"SUMIFS('RTK Base'!BW:BW,'RTK Base'!$A:$A,$B8,'RTK Base'!$B:$B,\"North\")/1000000","v":1899.8511189999999},{"$f":"SUMIFS('RTK Base'!BX:BX,'RTK Base'!$A:$A,$B8,'RTK Base'!$B:$B,\"North\")/1000000","v":63.713625999999998},{"$f":"SUMIFS('RTK Base'!BY:BY,'RTK Base'!$A:$A,$B8,'RTK Base'!$B:$B,\"North\")/1000000","v":76.159352999999996},{"$f":"SUMIFS('RTK Base'!BZ:BZ,'RTK Base'!$A:$A,$B8,'RTK Base'!$B:$B,\"North\")/1000000","v":147.90524500000001},{"$f":"SUMIFS('RTK Base'!CA:CA,'RTK Base'!$A:$A,$B8,'RTK Base'!$B:$B,\"North\")/1000000","v":318.39351499999998},{"$f":"SUMIFS('RTK Base'!CB:CB,'RTK Base'!$A:$A,$B8,'RTK Base'!$B:$B,\"North\")/1000000","v":592.16409899999996},{"$f":"SUMIFS('RTK Base'!CC:CC,'RTK Base'!$A:$A,$B8,'RTK Base'!$B:$B,\"North\")/1000000","v":262.52390000000003},null,{"$f":"SUMIFS('RTK Base'!CE:CE,'RTK Base'!$A:$A,$B8,'RTK Base'!$B:$B,\"North\")/1000000","v":1746.149042},{"$f":"SUMIFS('RTK Base'!CF:CF,'RTK Base'!$A:$A,$B8,'RTK Base'!$B:$B,\"North\")/1000000","v":3349.3983109999999},{"$f":"SUMIFS('RTK Base'!CG:CG,'RTK Base'!$A:$A,$B8,'RTK Base'!$B:$B,\"North\")/1000000","v":3485.3568319999999},{"$f":"SUMIFS('RTK Base'!CH:CH,'RTK Base'!$A:$A,$B8,'RTK Base'!$B:$B,\"North\")/1000000","v":3103.5758850000002},{"$f":"SUMIFS('RTK Base'!CI:CI,'RTK Base'!$A:$A,$B8,'RTK Base'!$B:$B,\"North\")/1000000","v":3058.0843759999998},{"$f":"SUMIFS('RTK Base'!CJ:CJ,'RTK Base'!$A:$A,$B8,'RTK Base'!$B:$B,\"North\")/1000000","v":0},{"$f":"SUMIFS('RTK Base'!CK:CK,'RTK Base'!$A:$A,$B8,'RTK Base'!$B:$B,\"North\")/1000000","v":0},{"$f":"SUMIFS('RTK Base'!CL:CL,'RTK Base'!$A:$A,$B8,'RTK Base'!$B:$B,\"North\")/1000000","v":0},{"$f":"SUMIFS('RTK Base'!CM:CM,'RTK Base'!$A:$A,$B8,'RTK Base'!$B:$B,\"North\")/1000000","v":0},{"$f":"SUMIFS('RTK Base'!CN:CN,'RTK Base'!$A:$A,$B8,'RTK Base'!$B:$B,\"North\")/1000000","v":0},{"$f":"SUMIFS('RTK Base'!CO:CO,'RTK Base'!$A:$A,$B8,'RTK Base'!$B:$B,\"North\")/1000000","v":0},{"$f":"SUMIFS('RTK Base'!CP:CP,'RTK Base'!$A:$A,$B8,'RTK Base'!$B:$B,\"North\")/1000000","v":0}]
[null,"Soybean meal",null,193.67837700000001,367.78302000000002,448.91655200000002,492.66715499999998,489.18813399999999,430.94542300000001,318.436351,287.09571599999998,288.84446700000001,336.43077199999999,393.09178400000002,375.92939699999999,null,376.93612200000001,383.87628000000001,484.93361399999998,552.17882899999995,485.31778300000002,407.73084899999998,487.18129499999998,403.70753999999999,408.60479099999998,506.95539500000001,479.734531,501.41182099999997,null,411.59783399999998,487.85880200000003,541.37876900000003,587.36857999999995,448.93208499999997,535.74023799999998,454.51641499999999,440.809483,483.76709099999999,441.058649,462.54900600000002,547.27042499000004,null,423.33864199999999,410.19902200000001,570.30151499999999,578.44816500000002,529.77073700000005,548.13636899999995,520.45323299999995,445.08103299999999,474.59848199999999,510.82764300000002,590.55514000000005,543.42499999999995,null,{"$f":"SUMIFS('RTK Base'!BE:BE,'RTK Base'!$A:$A,$B9,'RTK Base'!$B:$B,\"North\")/1000000","v":363.276025},{"$f":"SUMIFS('RTK Base'!BF:BF,'RTK Base'!$A:$A,$B9,'RTK Base'!$B:$B,\"North\")/1000000","v":509.02979099999999},{"$f":"SUMIFS('RTK Base'!BG:BG,'RTK Base'!$A:$A,$B9,'RTK Base'!$B:$B,\"North\")/1000000","v":486.27729799999997},{"$f":"SUMIFS('RTK Base'!BH:BH,'RTK Base'!$A:$A,$B9,'RTK Base'!$B:$B,\"North\")/1000000","v":631.97957799999995},{"$f":"SUMIFS('RTK Base'!BI:BI,'RTK Base'!$A:$A,$B9,'RTK Base'!$B:$B,\"North\")/1000000","v":560.63737400000002},{"$f":"SUMIFS('RTK Base'!BJ:BJ,'RTK Base'!$A:$A,$B9,'RTK Base'!$B:$B,\"North\")/1000000","v":593.68731200000002},{"$f":"SUMIFS('RTK Base'!BK:BK,'RTK Base'!$A:$A,$B9,'RTK Base'!$B:$B,\"North\")/1000000","v":634.41839900000002},{"$f":"SUMIFS('RTK Base'!BL:BL,'RTK Base'!$A:$A,$B9,'RTK Base'!$B:$B,\"North\")/1000000","v":648.87883999999997},{"$f":"SUMIFS('RTK Base'!BM:BM,'RTK Base'!$A:$A,$B9,'RTK Base'!$B:$B,\"North\")/1000000","v":589.67825100000005},{"$f":"SUMIFS('RTK Base'!BN:BN,'RTK Base'!$A:$A,$B9,'RTK Base'!$B:$B,\"North\")/1000000","v":650.993694},{"$f":"SUMIFS('RTK Base'!BO:BO,'RTK Base'!$A:$A,$B9,'RTK Base'!$B:$B,\"North\")/1000000","v":569.98105999999996},{"$f":"SUMIFS('RTK Base'!BP:BP,'RTK Base'!$A:$A,$B9,'RTK Base'!$B:$B,\"North\")/1000000","v":647.32175700000005},null,{"$f":"SUMIFS('RTK Base'!BR:BR,'RTK Base'!$A:$A,$B9,'RTK Base'!$B:$B,\"North\")/1000000","v":420.956546},{"$f":"SUMIFS('RTK Base'!BS:BS,'RTK Base'!$A:$A,$B9,'RTK Base'!$B:$B,\"North\")/1000000","v":585.14380900000003},{"$f":"SUMIFS('RTK Base'!BT:BT,'RTK Base'!$A:$A,$B9,'RTK Base'!$B:$B,\"North\")/1000000","v":646.23433399999999},{"$f":"SUMIFS('RTK Base'!BU:BU,'RTK Base'!$A:$A,$B9,'RTK Base'!$B:$B,\"North\")/1000000","v":714.94617900000003},{"$f":"SUMIFS('RTK Base'!BV:BV,'RTK Base'!$A:$A,$B9,'RTK Base'!$B:$B,\"North\")/1000000","v":681.84155599999997},{"$f":"SUMIFS('RTK Base'!BW:BW,'RTK Base'!$A:$A,$B9,'RTK Base'!$B:$B,\"North\")/1000000","v":749.918903},{"$f":"SUMIFS('RTK Base'!BX:BX,'RTK Base'!$A:$A,$B9,'RTK Base'!$B:$B,\"North\")/1000000","v":776.80190900000002},{"$f":"SUMIFS('RTK Base'!BY:BY,'RTK Base'!$A:$A,$B9,'RTK Base'!$B:$B,\"North\")/1000000","v":668.29266700000005},{"$f":"SUMIFS('RTK Base'!BZ:BZ,'RTK Base'!$A:$A,$B9,'RTK Base'!$B:$B,\"North\")/1000000","v":606.38820799999996},{"$f":"SUMIFS('RTK Base'!CA:CA,'RTK Base'!$A:$A,$B9,'RTK Base'!$B:$B,\"North\")/1000000","v":504.97827000000001},{"$f":"SUMIFS('RTK Base'!CB:CB,'RTK Base'!$A:$A,$B9,'RTK Base'!$B:$B,\"North\")/1000000","v":709.67113300000005},{"$f":"SUMIFS('RTK Base'!CC:CC,'RTK Base'!$A:$A,$B9,'RTK Base'!$B:$B,\"North\")/1000000","v":712.10637299999996},null,{"$f":"SUMIFS('RTK Base'!CE:CE,'RTK Base'!$A:$A,$B9,'RTK Base'!$B:$B,\"North\")/1000000","v":616.91170399999999},{"$f":"SUMIFS('RTK Base'!CF:CF,'RTK Base'!$A:$A,$B9,'RTK Base'!$B:$B,\"North\")/1000000","v":681.60546199999999},{"$f":"SUMIFS('RTK Base'!CG:CG,'RTK Base'!$A:$A,$B9,'RTK Base'!$B:$B,\"North\")/1000000","v":842.747164},{"$f":"SUMIFS('RTK Base'!CH:CH,'RTK Base'!$A:$A,$B9,'RTK Base'!$B:$B,\"North\")/1000000","v":888.10849399999995},{"$f":"SUMIFS('RTK Base'!CI:CI,'RTK Base'!$A:$A,$B9,'RTK Base'!$B:$B,\"North\")/1000000","v":818.31585500000006},{"$f":"SUMIFS('RTK Base'!CJ:CJ,'RTK Base'!$A:$A,$B9,'RTK Base'!$B:$B,\"North\")/1000000","v":0},{"$f":"SUMIFS('RTK Base'!CK:CK,'RTK Base'!$A:$A,$B9,'RTK Base'!$B:$B,\"North\")/1000000","v":0},{"$f":"SUMIFS('RTK Base'!CL:CL,'RTK Base'!$A:$A,$B9,'RTK Base'!$B:$B,\"North\")/1000000","v":0},{"$f":"SUMIFS('RTK Base'!CM:CM,'RTK Base'!$A:$A,$B9,'RTK Base'!$B:$B,\"North\")/1000000","v":0},{"$f":"SUMIFS('RTK Base'!CN:CN,'RTK Base'!$A:$A,$B9,'RTK Base'!$B:$B,\"North\")/1000000","v":0},{"$f":"SUMIFS('RTK Base'!CO:CO,'RTK Base'!$A:$A,$B9,'RTK Base'!$B:$B,\"North\")/1000000","v":0},{"$f":"SUMIFS('RTK Base'!CP:CP,'RTK Base'!$A:$A,$B9,'RTK Base'!$B:$B,\"North\")/1000000","v":0}]
[null,"Corn",null,1467.549536,83.340509999999995,0.21591099999999999,0,0,342.91962100000001,1895.2586470000001,1995.592447,1814.4541569999999,625.91037900000003,433.792284,620.78963699999997,null,95.217815999999999,0.23617299999999999,0,0,8.5709850000000003,1222.6267740000001,2076.8791879999999,2358.8345250000002,2268.9066379999999,2429.8285780000001,2258.73524,2030.575034,null,449.72612600000002,60.345404000000002,0,0,33.263967000000001,327.83418499999999,2338.2847780000002,2729.3089599999998,2633.3167319999998,2236.974232,2714.7458790000001,2303.3990549999999,null,311.41548299999999,0,0,0,73.686267000000001,2404.1801599999999,3047.9433779999999,2859.489239,2603.795059,2501.5744679999998,2312.3222190000001,1085.7637139999999,null,{"$f":"SUMIFS('RTK Base'!BE:BE,'RTK Base'!$A:$A,$B10,'RTK Base'!$B:$B,\"North\")/1000000","v":2.2024180000000002},{"$f":"SUMIFS('RTK Base'!BF:BF,'RTK Base'!$A:$A,$B10,'RTK Base'!$B:$B,\"North\")/1000000","v":0},{"$f":"SUMIFS('RTK Base'!BG:BG,'RTK Base'!$A:$A,$B10,'RTK Base'!$B:$B,\"North\")/1000000","v":0},{"$f":"SUMIFS('RTK Base'!BH:BH,'RTK Base'!$A:$A,$B10,'RTK Base'!$B:$B,\"North\")/1000000","v":0},{"$f":"SUMIFS('RTK Base'!BI:BI,'RTK Base'!$A:$A,$B10,'RTK Base'!$B:$B,\"North\")/1000000","v":0},{"$f":"SUMIFS('RTK Base'!BJ:BJ,'RTK Base'!$A:$A,$B10,'RTK Base'!$B:$B,\"North\")/1000000","v":1431.483015},{"$f":"SUMIFS('RTK Base'!BK:BK,'RTK Base'!$A:$A,$B10,'RTK Base'!$B:$B,\"North\")/1000000","v":2655.9033220000001},{"$f":"SUMIFS('RTK Base'!BL:BL,'RTK Base'!$A:$A,$B10,'RTK Base'!$B:$B,\"North\")/1000000","v":2522.5619609999999},{"$f":"SUMIFS('RTK Base'!BM:BM,'RTK Base'!$A:$A,$B10,'RTK Base'!$B:$B,\"North\")/1000000","v":2287.604691},{"$f":"SUMIFS('RTK Base'!BN:BN,'RTK Base'!$A:$A,$B10,'RTK Base'!$B:$B,\"North\")/1000000","v":2236.4918280000002},{"$f":"SUMIFS('RTK Base'!BO:BO,'RTK Base'!$A:$A,$B10,'RTK Base'!$B:$B,\"North\")/1000000","v":2062.6302559999999},{"$f":"SUMIFS('RTK Base'!BP:BP,'RTK Base'!$A:$A,$B10,'RTK Base'!$B:$B,\"North\")/1000000","v":2178.3438249999999},null,{"$f":"SUMIFS('RTK Base'!BR:BR,'RTK Base'!$A:$A,$B10,'RTK Base'!$B:$B,\"North\")/1000000","v":46.987065999999999},{"$f":"SUMIFS('RTK Base'!BS:BS,'RTK Base'!$A:$A,$B10,'RTK Base'!$B:$B,\"North\")/1000000","v":-4.101496},{"$f":"SUMIFS('RTK Base'!BT:BT,'RTK Base'!$A:$A,$B10,'RTK Base'!$B:$B,\"North\")/1000000","v":0},{"$f":"SUMIFS('RTK Base'!BU:BU,'RTK Base'!$A:$A,$B10,'RTK Base'!$B:$B,\"North\")/1000000","v":0},{"$f":"SUMIFS('RTK Base'!BV:BV,'RTK Base'!$A:$A,$B10,'RTK Base'!$B:$B,\"North\")/1000000","v":0},{"$f":"SUMIFS('RTK Base'!BW:BW,'RTK Base'!$A:$A,$B10,'RTK Base'!$B:$B,\"North\")/1000000","v":507.41074200000003},{"$f":"SUMIFS('RTK Base'!BX:BX,'RTK Base'!$A:$A,$B10,'RTK Base'!$B:$B,\"North\")/1000000","v":2759.0410959999999},{"$f":"SUMIFS('RTK Base'!BY:BY,'RTK Base'!$A:$A,$B10,'RTK Base'!$B:$B,\"North\")/1000000","v":1917.279679},{"$f":"SUMIFS('RTK Base'!BZ:BZ,'RTK Base'!$A:$A,$B10,'RTK Base'!$B:$B,\"North\")/1000000","v":1271.0834179999999},{"$f":"SUMIFS('RTK Base'!CA:CA,'RTK Base'!$A:$A,$B10,'RTK Base'!$B:$B,\"North\")/1000000","v":1665.927635},{"$f":"SUMIFS('RTK Base'!CB:CB,'RTK Base'!$A:$A,$B10,'RTK Base'!$B:$B,\"North\")/1000000","v":1765.2158910000001},{"$f":"SUMIFS('RTK Base'!CC:CC,'RTK Base'!$A:$A,$B10,'RTK Base'!$B:$B,\"North\")/1000000","v":2219.495246},null,{"$f":"SUMIFS('RTK Base'!CE:CE,'RTK Base'!$A:$A,$B10,'RTK Base'!$B:$B,\"North\")/1000000","v":902.48845100000005},{"$f":"SUMIFS('RTK Base'!CF:CF,'RTK Base'!$A:$A,$B10,'RTK Base'!$B:$B,\"North\")/1000000","v":68.266851000000003},{"$f":"SUMIFS('RTK Base'!CG:CG,'RTK Base'!$A:$A,$B10,'RTK Base'!$B:$B,\"North\")/1000000","v":0},{"$f":"SUMIFS('RTK Base'!CH:CH,'RTK Base'!$A:$A,$B10,'RTK Base'!$B:$B,\"North\")/1000000","v":212.22315800000001},{"$f":"SUMIFS('RTK Base'!CI:CI,'RTK Base'!$A:$A,$B10,'RTK Base'!$B:$B,\"North\")/1000000","v":74.181370999999999},{"$f":"SUMIFS('RTK Base'!CJ:CJ,'RTK Base'!$A:$A,$B10,'RTK Base'!$B:$B,\"North\")/1000000","v":0},{"$f":"SUMIFS('RTK Base'!CK:CK,'RTK Base'!$A:$A,$B10,'RTK Base'!$B:$B,\"North\")/1000000","v":0},{"$f":"SUMIFS('RTK Base'!CL:CL,'RTK Base'!$A:$A,$B10,'RTK Base'!$B:$B,\"North\")/1000000","v":0},{"$f":"SUMIFS('RTK Base'!CM:CM,'RTK Base'!$A:$A,$B10,'RTK Base'!$B:$B,\"North\")/1000000","v":0},{"$f":"SUMIFS('RTK Base'!CN:CN,'RTK Base'!$A:$A,$B10,'RTK Base'!$B:$B,\"North\")/1000000","v":0},{"$f":"SUMIFS('RTK Base'!CO:CO,'RTK Base'!$A:$A,$B10,'RTK Base'!$B:$B,\"North\")/1000000","v":0},{"$f":"SUMIFS('RTK Base'!CP:CP,'RTK Base'!$A:$A,$B10,'RTK Base'!$B:$B,\"North\")/1000000","v":0}]
[null,"Sugar",null,114.162274,130.7242,102.56015600000001,86.993835000000004,242.65256600000001,356.961659,206.041495,231.28015400000001,240.73457500000001,387.55470200000002,330.176061,223.725156,null,177.465428,69.871585999999994,41.425064999999996,88.620569000000003,279.49777699999999,170.19264000000001,84.577684000000005,107.523976,116.958449,112.03851400000001,117.008639,154.01861700000001,null,233.97854599999999,128.99684999999999,101.513181,75.403311000000002,223.43597,224.783423,115.66020399999999,104.16202699999999,149.05705800000001,188.45478499999999,107.391594,88.027102999999997,null,122.351917,54.639006000000002,114.065594,140.667081,178.61028300000001,106.232936,85.466035000000005,75.016852,116.453372,96.988007999999994,70.955100999999999,270.75035300000002,null,{"$f":"SUMIFS('RTK Base'!BE:BE,'RTK Base'!$A:$A,$B11,'RTK Base'!$B:$B,\"North\")/1000000","v":151.52940899999999},{"$f":"SUMIFS('RTK Base'!BF:BF,'RTK Base'!$A:$A,$B11,'RTK Base'!$B:$B,\"North\")/1000000","v":130.16320300000001},{"$f":"SUMIFS('RTK Base'!BG:BG,'RTK Base'!$A:$A,$B11,'RTK Base'!$B:$B,\"North\")/1000000","v":87.833973999999998},{"$f":"SUMIFS('RTK Base'!BH:BH,'RTK Base'!$A:$A,$B11,'RTK Base'!$B:$B,\"North\")/1000000","v":130.07638800000001},{"$f":"SUMIFS('RTK Base'!BI:BI,'RTK Base'!$A:$A,$B11,'RTK Base'!$B:$B,\"North\")/1000000","v":200.06483399999999},{"$f":"SUMIFS('RTK Base'!BJ:BJ,'RTK Base'!$A:$A,$B11,'RTK Base'!$B:$B,\"North\")/1000000","v":157.707584},{"$f":"SUMIFS('RTK Base'!BK:BK,'RTK Base'!$A:$A,$B11,'RTK Base'!$B:$B,\"North\")/1000000","v":130.56483700000001},{"$f":"SUMIFS('RTK Base'!BL:BL,'RTK Base'!$A:$A,$B11,'RTK Base'!$B:$B,\"North\")/1000000","v":261.94402200000002},{"$f":"SUMIFS('RTK Base'!BM:BM,'RTK Base'!$A:$A,$B11,'RTK Base'!$B:$B,\"North\")/1000000","v":352.608901},{"$f":"SUMIFS('RTK Base'!BN:BN,'RTK Base'!$A:$A,$B11,'RTK Base'!$B:$B,\"North\")/1000000","v":427.832381},{"$f":"SUMIFS('RTK Base'!BO:BO,'RTK Base'!$A:$A,$B11,'RTK Base'!$B:$B,\"North\")/1000000","v":369.85554999999999},{"$f":"SUMIFS('RTK Base'!BP:BP,'RTK Base'!$A:$A,$B11,'RTK Base'!$B:$B,\"North\")/1000000","v":278.473344},null,{"$f":"SUMIFS('RTK Base'!BR:BR,'RTK Base'!$A:$A,$B11,'RTK Base'!$B:$B,\"North\")/1000000","v":245.05044699999999},{"$f":"SUMIFS('RTK Base'!BS:BS,'RTK Base'!$A:$A,$B11,'RTK Base'!$B:$B,\"North\")/1000000","v":21.477309000000002},{"$f":"SUMIFS('RTK Base'!BT:BT,'RTK Base'!$A:$A,$B11,'RTK Base'!$B:$B,\"North\")/1000000","v":44.867139000000002},{"$f":"SUMIFS('RTK Base'!BU:BU,'RTK Base'!$A:$A,$B11,'RTK Base'!$B:$B,\"North\")/1000000","v":118.036126},{"$f":"SUMIFS('RTK Base'!BV:BV,'RTK Base'!$A:$A,$B11,'RTK Base'!$B:$B,\"North\")/1000000","v":284.83216199999998},{"$f":"SUMIFS('RTK Base'!BW:BW,'RTK Base'!$A:$A,$B11,'RTK Base'!$B:$B,\"North\")/1000000","v":271.31037600000002},{"$f":"SUMIFS('RTK Base'!BX:BX,'RTK Base'!$A:$A,$B11,'RTK Base'!$B:$B,\"North\")/1000000","v":112.45396},{"$f":"SUMIFS('RTK Base'!BY:BY,'RTK Base'!$A:$A,$B11,'RTK Base'!$B:$B,\"North\")/1000000","v":209.378479},{"$f":"SUMIFS('RTK Base'!BZ:BZ,'RTK Base'!$A:$A,$B11,'RTK Base'!$B:$B,\"North\")/1000000","v":318.88784299999998},{"$f":"SUMIFS('RTK Base'!CA:CA,'RTK Base'!$A:$A,$B11,'RTK Base'!$B:$B,\"North\")/1000000","v":260.253693},{"$f":"SUMIFS('RTK Base'!CB:CB,'RTK Base'!$A:$A,$B11,'RTK Base'!$B:$B,\"North\")/1000000","v":252.157826},{"$f":"SUMIFS('RTK Base'!CC:CC,'RTK Base'!$A:$A,$B11,'RTK Base'!$B:$B,\"North\")/1000000","v":128.26299900000001},null,{"$f":"SUMIFS('RTK Base'!CE:CE,'RTK Base'!$A:$A,$B11,'RTK Base'!$B:$B,\"North\")/1000000","v":111.891079},{"$f":"SUMIFS('RTK Base'!CF:CF,'RTK Base'!$A:$A,$B11,'RTK Base'!$B:$B,\"North\")/1000000","v":21.725376000000001},{"$f":"SUMIFS('RTK Base'!CG:CG,'RTK Base'!$A:$A,$B11,'RTK Base'!$B:$B,\"North\")/1000000","v":74.732006999999996},{"$f":"SUMIFS('RTK Base'!CH:CH,'RTK Base'!$A:$A,$B11,'RTK Base'!$B:$B,\"North\")/1000000","v":42.339317999999999},{"$f":"SUMIFS('RTK Base'!CI:CI,'RTK Base'!$A:$A,$B11,'RTK Base'!$B:$B,\"North\")/1000000","v":157.84815800000001},{"$f":"SUMIFS('RTK Base'!CJ:CJ,'RTK Base'!$A:$A,$B11,'RTK Base'!$B:$B,\"North\")/1000000","v":0},{"$f":"SUMIFS('RTK Base'!CK:CK,'RTK Base'!$A:$A,$B11,'RTK Base'!$B:$B,\"North\")/1000000","v":0},{"$f":"SUMIFS('RTK Base'!CL:CL,'RTK Base'!$A:$A,$B11,'RTK Base'!$B:$B,\"North\")/1000000","v":0},{"$f":"SUMIFS('RTK Base'!CM:CM,'RTK Base'!$A:$A,$B11,'RTK Base'!$B:$B,\"North\")/1000000","v":0},{"$f":"SUMIFS('RTK Base'!CN:CN,'RTK Base'!$A:$A,$B11,'RTK Base'!$B:$B,\"North\")/1000000","v":0},{"$f":"SUMIFS('RTK Base'!CO:CO,'RTK Base'!$A:$A,$B11,'RTK Base'!$B:$B,\"North\")/1000000","v":0},{"$f":"SUMIFS('RTK Base'!CP:CP,'RTK Base'!$A:$A,$B11,'RTK Base'!$B:$B,\"North\")/1000000","v":0}]
[null,"Fertilizers",null,0,0,0,0,0,0,0,0,0,0,0,0,null,0,0,0,0,0,0,0,0,0,0,0,0,null,0,0,0,2.467047,64.802734000000001,75.318218000000002,184.06398100000001,180.525442,87.010830999999996,116.635802,172.10250199999999,274.72367800000001,null,177.62847400000001,123.625083,164.55745999999999,216.85239799999999,305.83135600000003,290.61581899999999,335.41827899999998,267.33974999999998,106.771666,225.66275200000001,274.70464099999998,376.81260900000001,null,{"$f":"SUMIFS('RTK Base'!BE:BE,'RTK Base'!$A:$A,$B12,'RTK Base'!$B:$B,\"North\")/1000000","v":302.45168699999999},{"$f":"SUMIFS('RTK Base'!BF:BF,'RTK Base'!$A:$A,$B12,'RTK Base'!$B:$B,\"North\")/1000000","v":248.77863400000001},{"$f":"SUMIFS('RTK Base'!BG:BG,'RTK Base'!$A:$A,$B12,'RTK Base'!$B:$B,\"North\")/1000000","v":117.89880700000001},{"$f":"SUMIFS('RTK Base'!BH:BH,'RTK Base'!$A:$A,$B12,'RTK Base'!$B:$B,\"North\")/1000000","v":295.67354899999998},{"$f":"SUMIFS('RTK Base'!BI:BI,'RTK Base'!$A:$A,$B12,'RTK Base'!$B:$B,\"North\")/1000000","v":393.42908999999997},{"$f":"SUMIFS('RTK Base'!BJ:BJ,'RTK Base'!$A:$A,$B12,'RTK Base'!$B:$B,\"North\")/1000000","v":366.36778800000002},{"$f":"SUMIFS('RTK Base'!BK:BK,'RTK Base'!$A:$A,$B12,'RTK Base'!$B:$B,\"North\")/1000000","v":392.95637099999999},{"$f":"SUMIFS('RTK Base'!BL:BL,'RTK Base'!$A:$A,$B12,'RTK Base'!$B:$B,\"North\")/1000000","v":264.29264599999999},{"$f":"SUMIFS('RTK Base'!BM:BM,'RTK Base'!$A:$A,$B12,'RTK Base'!$B:$B,\"North\")/1000000","v":290.31470200000001},{"$f":"SUMIFS('RTK Base'!BN:BN,'RTK Base'!$A:$A,$B12,'RTK Base'!$B:$B,\"North\")/1000000","v":419.98549400000002},{"$f":"SUMIFS('RTK Base'!BO:BO,'RTK Base'!$A:$A,$B12,'RTK Base'!$B:$B,\"North\")/1000000","v":407.36287800000002},{"$f":"SUMIFS('RTK Base'!BP:BP,'RTK Base'!$A:$A,$B12,'RTK Base'!$B:$B,\"North\")/1000000","v":409.10729500000002},null,{"$f":"SUMIFS('RTK Base'!BR:BR,'RTK Base'!$A:$A,$B12,'RTK Base'!$B:$B,\"North\")/1000000","v":427.86078199999997},{"$f":"SUMIFS('RTK Base'!BS:BS,'RTK Base'!$A:$A,$B12,'RTK Base'!$B:$B,\"North\")/1000000","v":368.10275300000001},{"$f":"SUMIFS('RTK Base'!BT:BT,'RTK Base'!$A:$A,$B12,'RTK Base'!$B:$B,\"North\")/1000000","v":242.23755700000001},{"$f":"SUMIFS('RTK Base'!BU:BU,'RTK Base'!$A:$A,$B12,'RTK Base'!$B:$B,\"North\")/1000000","v":248.889003},{"$f":"SUMIFS('RTK Base'!BV:BV,'RTK Base'!$A:$A,$B12,'RTK Base'!$B:$B,\"North\")/1000000","v":256.37743799999998},{"$f":"SUMIFS('RTK Base'!BW:BW,'RTK Base'!$A:$A,$B12,'RTK Base'!$B:$B,\"North\")/1000000","v":257.53743200000002},{"$f":"SUMIFS('RTK Base'!BX:BX,'RTK Base'!$A:$A,$B12,'RTK Base'!$B:$B,\"North\")/1000000","v":538.96807100000001},{"$f":"SUMIFS('RTK Base'!BY:BY,'RTK Base'!$A:$A,$B12,'RTK Base'!$B:$B,\"North\")/1000000","v":522.331728},{"$f":"SUMIFS('RTK Base'!BZ:BZ,'RTK Base'!$A:$A,$B12,'RTK Base'!$B:$B,\"North\")/1000000","v":391.92602199999999},{"$f":"SUMIFS('RTK Base'!CA:CA,'RTK Base'!$A:$A,$B12,'RTK Base'!$B:$B,\"North\")/1000000","v":431.44853499999999},{"$f":"SUMIFS('RTK Base'!CB:CB,'RTK Base'!$A:$A,$B12,'RTK Base'!$B:$B,\"North\")/1000000","v":359.76248500000003},{"$f":"SUMIFS('RTK Base'!CC:CC,'RTK Base'!$A:$A,$B12,'RTK Base'!$B:$B,\"North\")/1000000","v":364.64612699999998},null,{"$f":"SUMIFS('RTK Base'!CE:CE,'RTK Base'!$A:$A,$B12,'RTK Base'!$B:$B,\"North\")/1000000","v":296.68763999999999},{"$f":"SUMIFS('RTK Base'!CF:CF,'RTK Base'!$A:$A,$B12,'RTK Base'!$B:$B,\"North\")/1000000","v":377.22101199999997},{"$f":"SUMIFS('RTK Base'!CG:CG,'RTK Base'!$A:$A,$B12,'RTK Base'!$B:$B,\"North\")/1000000","v":353.822115},{"$f":"SUMIFS('RTK Base'!CH:CH,'RTK Base'!$A:$A,$B12,'RTK Base'!$B:$B,\"North\")/1000000","v":155.81518199999999},{"$f":"SUMIFS('RTK Base'!CI:CI,'RTK Base'!$A:$A,$B12,'RTK Base'!$B:$B,\"North\")/1000000","v":434.98695800000002},{"$f":"SUMIFS('RTK Base'!CJ:CJ,'RTK Base'!$A:$A,$B12,'RTK Base'!$B:$B,\"North\")/1000000","v":0},{"$f":"SUMIFS('RTK Base'!CK:CK,'RTK Base'!$A:$A,$B12,'RTK Base'!$B:$B,\"North\")/1000000","v":0},{"$f":"SUMIFS('RTK Base'!CL:CL,'RTK Base'!$A:$A,$B12,'RTK Base'!$B:$B,\"North\")/1000000","v":0},{"$f":"SUMIFS('RTK Base'!CM:CM,'RTK Base'!$A:$A,$B12,'RTK Base'!$B:$B,\"North\")/1000000","v":0},{"$f":"SUMIFS('RTK Base'!CN:CN,'RTK Base'!$A:$A,$B12,'RTK Base'!$B:$B,\"North\")/1000000","v":0},{"$f":"SUMIFS('RTK Base'!CO:CO,'RTK Base'!$A:$A,$B12,'RTK Base'!$B:$B,\"North\")/1000000","v":0},{"$f":"SUMIFS('RTK Base'!CP:CP,'RTK Base'!$A:$A,$B12,'RTK Base'!$B:$B,\"North\")/1000000","v":0}]
[null,"Wheat",null,0,0,0,0,0,0,0,0,0,0,0,0,null,0,0,0,0,0,0,0,0,0,0,0,0,null,0,0,0,0,0,0,0,0,0,0,0,0,null,0,0,0,0,0,0,0,0,0,0,0,0,null,{"$f":"SUMIFS('RTK Base'!BE:BE,'RTK Base'!$A:$A,$B13,'RTK Base'!$B:$B,\"North\")/1000000","v":0},{"$f":"SUMIFS('RTK Base'!BF:BF,'RTK Base'!$A:$A,$B13,'RTK Base'!$B:$B,\"North\")/1000000","v":0},{"$f":"SUMIFS('RTK Base'!BG:BG,'RTK Base'!$A:$A,$B13,'RTK Base'!$B:$B,\"North\")/1000000","v":0},{"$f":"SUMIFS('RTK Base'!BH:BH,'RTK Base'!$A:$A,$B13,'RTK Base'!$B:$B,\"North\")/1000000","v":0},{"$f":"SUMIFS('RTK Base'!BI:BI,'RTK Base'!$A:$A,$B13,'RTK Base'!$B:$B,\"North\")/1000000","v":0},{"$f":"SUMIFS('RTK Base'!BJ:BJ,'RTK Base'!$A:$A,$B13,'RTK Base'!$B:$B,\"North\")/1000000","v":0},{"$f":"SUMIFS('RTK Base'!BK:BK,'RTK Base'!$A:$A,$B13,'RTK Base'!$B:$B,\"North\")/1000000","v":0},{"$f":"SUMIFS('RTK Base'!BL:BL,'RTK Base'!$A:$A,$B13,'RTK Base'!$B:$B,\"North\")/1000000","v":0},{"$f":"SUMIFS('RTK Base'!BM:BM,'RTK Base'!$A:$A,$B13,'RTK Base'!$B:$B,\"North\")/1000000","v":0},{"$f":"SUMIFS('RTK Base'!BN:BN,'RTK Base'!$A:$A,$B13,'RTK Base'!$B:$B,\"North\")/1000000","v":0},{"$f":"SUMIFS('RTK Base'!BO:BO,'RTK Base'!$A:$A,$B13,'RTK Base'!$B:$B,\"North\")/1000000","v":0},{"$f":"SUMIFS('RTK Base'!BP:BP,'RTK Base'!$A:$A,$B13,'RTK Base'!$B:$B,\"North\")/1000000","v":0},null,{"$f":"SUMIFS('RTK Base'!BR:BR,'RTK Base'!$A:$A,$B13,'RTK Base'!$B:$B,\"North\")/1000000","v":0},{"$f":"SUMIFS('RTK Base'!BS:BS,'RTK Base'!$A:$A,$B13,'RTK Base'!$B:$B,\"North\")/1000000","v":0},{"$f":"SUMIFS('RTK Base'!BT:BT,'RTK Base'!$A:$A,$B13,'RTK Base'!$B:$B,\"North\")/1000000","v":0},{"$f":"SUMIFS('RTK Base'!BU:BU,'RTK Base'!$A:$A,$B13,'RTK Base'!$B:$B,\"North\")/1000000","v":0},{"$f":"SUMIFS('RTK Base'!BV:BV,'RTK Base'!$A:$A,$B13,'RTK Base'!$B:$B,\"North\")/1000000","v":0},{"$f":"SUMIFS('RTK Base'!BW:BW,'RTK Base'!$A:$A,$B13,'RTK Base'!$B:$B,\"North\")/1000000","v":0},{"$f":"SUMIFS('RTK Base'!BX:BX,'RTK Base'!$A:$A,$B13,'RTK Base'!$B:$B,\"North\")/1000000","v":0},{"$f":"SUMIFS('RTK Base'!BY:BY,'RTK Base'!$A:$A,$B13,'RTK Base'!$B:$B,\"North\")/1000000","v":0},{"$f":"SUMIFS('RTK Base'!BZ:BZ,'RTK Base'!$A:$A,$B13,'RTK Base'!$B:$B,\"North\")/1000000","v":0},{"$f":"SUMIFS('RTK Base'!CA:CA,'RTK Base'!$A:$A,$B13,'RTK Base'!$B:$B,\"North\")/1000000","v":0},{"$f":"SUMIFS('RTK Base'!CB:CB,'RTK Base'!$A:$A,$B13,'RTK Base'!$B:$B,\"North\")/1000000","v":0},{"$f":"SUMIFS('RTK Base'!CC:CC,'RTK Base'!$A:$A,$B13,'RTK Base'!$B:$B,\"North\")/1000000","v":0},null,{"$f":"SUMIFS('RTK Base'!CE:CE,'RTK Base'!$A:$A,$B13,'RTK Base'!$B:$B,\"North\")/1000000","v":0},{"$f":"SUMIFS('RTK Base'!CF:CF,'RTK Base'!$A:$A,$B13,'RTK Base'!$B:$B,\"North\")/1000000","v":0},{"$f":"SUMIFS('RTK Base'!CG:CG,'RTK Base'!$A:$A,$B13,'RTK Base'!$B:$B,\"North\")/1000000","v":0},{"$f":"SUMIFS('RTK Base'!CH:CH,'RTK Base'!$A:$A,$B13,'RTK Base'!$B:$B,\"North\")/1000000","v":0},{"$f":"SUMIFS('RTK Base'!CI:CI,'RTK Base'!$A:$A,$B13,'RTK Base'!$B:$B,\"North\")/1000000","v":0},{"$f":"SUMIFS('RTK Base'!CJ:CJ,'RTK Base'!$A:$A,$B13,'RTK Base'!$B:$B,\"North\")/1000000","v":0},{"$f":"SUMIFS('RTK Base'!CK:CK,'RTK Base'!$A:$A,$B13,'RTK Base'!$B:$B,\"North\")/1000000","v":0},{"$f":"SUMIFS('RTK Base'!CL:CL,'RTK Base'!$A:$A,$B13,'RTK Base'!$B:$B,\"North\")/1000000","v":0},{"$f":"SUMIFS('RTK Base'!CM:CM,'RTK Base'!$A:$A,$B13,'RTK Base'!$B:$B,\"North\")/1000000","v":0},{"$f":"SUMIFS('RTK Base'!CN:CN,'RTK Base'!$A:$A,$B13,'RTK Base'!$B:$B,\"North\")/1000000","v":0},{"$f":"SUMIFS('RTK Base'!CO:CO,'RTK Base'!$A:$A,$B13,'RTK Base'!$B:$B,\"North\")/1000000","v":0},{"$f":"SUMIFS('RTK Base'!CP:CP,'RTK Base'!$A:$A,$B13,'RTK Base'!$B:$B,\"North\")/1000000","v":0}]
[null,"Malt",null,0,0,0,0,0,0,0,0,0,0,0,0,null,0,0,0,0,0,0,0,0,0,0,0,0,null,0,0,0,0,0,0,0,0,0,0,0,0,null,0,0,0,0,0,0,0,0,0,0,0,0,null,{"$f":"SUMIFS('RTK Base'!BE:BE,'RTK Base'!$A:$A,$B14,'RTK Base'!$B:$B,\"North\")/1000000","v":0},{"$f":"SUMIFS('RTK Base'!BF:BF,'RTK Base'!$A:$A,$B14,'RTK Base'!$B:$B,\"North\")/1000000","v":0},{"$f":"SUMIFS('RTK Base'!BG:BG,'RTK Base'!$A:$A,$B14,'RTK Base'!$B:$B,\"North\")/1000000","v":0},{"$f":"SUMIFS('RTK Base'!BH:BH,'RTK Base'!$A:$A,$B14,'RTK Base'!$B:$B,\"North\")/1000000","v":0},{"$f":"SUMIFS('RTK Base'!BI:BI,'RTK Base'!$A:$A,$B14,'RTK Base'!$B:$B,\"North\")/1000000","v":0},{"$f":"SUMIFS('RTK Base'!BJ:BJ,'RTK Base'!$A:$A,$B14,'RTK Base'!$B:$B,\"North\")/1000000","v":0},{"$f":"SUMIFS('RTK Base'!BK:BK,'RTK Base'!$A:$A,$B14,'RTK Base'!$B:$B,\"North\")/1000000","v":0},{"$f":"SUMIFS('RTK Base'!BL:BL,'RTK Base'!$A:$A,$B14,'RTK Base'!$B:$B,\"North\")/1000000","v":0},{"$f":"SUMIFS('RTK Base'!BM:BM,'RTK Base'!$A:$A,$B14,'RTK Base'!$B:$B,\"North\")/1000000","v":0},{"$f":"SUMIFS('RTK Base'!BN:BN,'RTK Base'!$A:$A,$B14,'RTK Base'!$B:$B,\"North\")/1000000","v":0},{"$f":"SUMIFS('RTK Base'!BO:BO,'RTK Base'!$A:$A,$B14,'RTK Base'!$B:$B,\"North\")/1000000","v":0},{"$f":"SUMIFS('RTK Base'!BP:BP,'RTK Base'!$A:$A,$B14,'RTK Base'!$B:$B,\"North\")/1000000","v":0},null,{"$f":"SUMIFS('RTK Base'!BR:BR,'RTK Base'!$A:$A,$B14,'RTK Base'!$B:$B,\"North\")/1000000","v":0},{"$f":"SUMIFS('RTK Base'!BS:BS,'RTK Base'!$A:$A,$B14,'RTK Base'!$B:$B,\"North\")/1000000","v":0},{"$f":"SUMIFS('RTK Base'!BT:BT,'RTK Base'!$A:$A,$B14,'RTK Base'!$B:$B,\"North\")/1000000","v":0},{"$f":"SUMIFS('RTK Base'!BU:BU,'RTK Base'!$A:$A,$B14,'RTK Base'!$B:$B,\"North\")/1000000","v":0},{"$f":"SUMIFS('RTK Base'!BV:BV,'RTK Base'!$A:$A,$B14,'RTK Base'!$B:$B,\"North\")/1000000","v":0},{"$f":"SUMIFS('RTK Base'!BW:BW,'RTK Base'!$A:$A,$B14,'RTK Base'!$B:$B,\"North\")/1000000","v":0},{"$f":"SUMIFS('RTK Base'!BX:BX,'RTK Base'!$A:$A,$B14,'RTK Base'!$B:$B,\"North\")/1000000","v":0},{"$f":"SUMIFS('RTK Base'!BY:BY,'RTK Base'!$A:$A,$B14,'RTK Base'!$B:$B,\"North\")/1000000","v":0},{"$f":"SUMIFS('RTK Base'!BZ:BZ,'RTK Base'!$A:$A,$B14,'RTK Base'!$B:$B,\"North\")/1000000","v":0},{"$f":"SUMIFS('RTK Base'!CA:CA,'RTK Base'!$A:$A,$B14,'RTK Base'!$B:$B,\"North\")/1000000","v":0},{"$f":"SUMIFS('RTK Base'!CB:CB,'RTK Base'!$A:$A,$B14,'RTK Base'!$B:$B,\"North\")/1000000","v":0},{"$f":"SUMIFS('RTK Base'!CC:CC,'RTK Base'!$A:$A,$B14,'RTK Base'!$B:$B,\"North\")/1000000","v":0},null,{"$f":"SUMIFS('RTK Base'!CE:CE,'RTK Base'!$A:$A,$B14,'RTK Base'!$B:$B,\"North\")/1000000","v":0},{"$f":"SUMIFS('RTK Base'!CF:CF,'RTK Base'!$A:$A,$B14,'RTK Base'!$B:$B,\"North\")/1000000","v":0},{"$f":"SUMIFS('RTK Base'!CG:CG,'RTK Base'!$A:$A,$B14,'RTK Base'!$B:$B,\"North\")/1000000","v":0},{"$f":"SUMIFS('RTK Base'!CH:CH,'RTK Base'!$A:$A,$B14,'RTK Base'!$B:$B,\"North\")/1000000","v":0},{"$f":"SUMIFS('RTK Base'!CI:CI,'RTK Base'!$A:$A,$B14,'RTK Base'!$B:$B,\"North\")/1000000","v":0},{"$f":"SUMIFS('RTK Base'!CJ:CJ,'RTK Base'!$A:$A,$B14,'RTK Base'!$B:$B,\"North\")/1000000","v":0},{"$f":"SUMIFS('RTK Base'!CK:CK,'RTK Base'!$A:$A,$B14,'RTK Base'!$B:$B,\"North\")/1000000","v":0},{"$f":"SUMIFS('RTK Base'!CL:CL,'RTK Base'!$A:$A,$B14,'RTK Base'!$B:$B,\"North\")/1000000","v":0},{"$f":"SUMIFS('RTK Base'!CM:CM,'RTK Base'!$A:$A,$B14,'RTK Base'!$B:$B,\"North\")/1000000","v":0},{"$f":"SUMIFS('RTK Base'!CN:CN,'RTK Base'!$A:$A,$B14,'RTK Base'!$B:$B,\"North\")/1000000","v":0},{"$f":"SUMIFS('RTK Base'!CO:CO,'RTK Base'!$A:$A,$B14,'RTK Base'!$B:$B,\"North\")/1000000","v":0},{"$f":"SUMIFS('RTK Base'!CP:CP,'RTK Base'!$A:$A,$B14,'RTK Base'!$B:$B,\"North\")/1000000","v":0}]
[null,"Corn meal",null,0,0,0,0,0,0,0,0,0,0,0,0,null,0,0,0,0,0,0,0,0,0,0,0,0,null,0,0,0,0,0,0,0,0,0,0,0,0,null,0,0,0,0,0,0,0,0,0,0,0,20.738520000000001,null,{"$f":"SUMIFS('RTK Base'!BE:BE,'RTK Base'!$A:$A,$B15,'RTK Base'!$B:$B,\"North\")/1000000","v":18.105539},{"$f":"SUMIFS('RTK Base'!BF:BF,'RTK Base'!$A:$A,$B15,'RTK Base'!$B:$B,\"North\")/1000000","v":0},{"$f":"SUMIFS('RTK Base'!BG:BG,'RTK Base'!$A:$A,$B15,'RTK Base'!$B:$B,\"North\")/1000000","v":0},{"$f":"SUMIFS('RTK Base'!BH:BH,'RTK Base'!$A:$A,$B15,'RTK Base'!$B:$B,\"North\")/1000000","v":0},{"$f":"SUMIFS('RTK Base'!BI:BI,'RTK Base'!$A:$A,$B15,'RTK Base'!$B:$B,\"North\")/1000000","v":0},{"$f":"SUMIFS('RTK Base'!BJ:BJ,'RTK Base'!$A:$A,$B15,'RTK Base'!$B:$B,\"North\")/1000000","v":0},{"$f":"SUMIFS('RTK Base'!BK:BK,'RTK Base'!$A:$A,$B15,'RTK Base'!$B:$B,\"North\")/1000000","v":0},{"$f":"SUMIFS('RTK Base'!BL:BL,'RTK Base'!$A:$A,$B15,'RTK Base'!$B:$B,\"North\")/1000000","v":0},{"$f":"SUMIFS('RTK Base'!BM:BM,'RTK Base'!$A:$A,$B15,'RTK Base'!$B:$B,\"North\")/1000000","v":0},{"$f":"SUMIFS('RTK Base'!BN:BN,'RTK Base'!$A:$A,$B15,'RTK Base'!$B:$B,\"North\")/1000000","v":0},{"$f":"SUMIFS('RTK Base'!BO:BO,'RTK Base'!$A:$A,$B15,'RTK Base'!$B:$B,\"North\")/1000000","v":0},{"$f":"SUMIFS('RTK Base'!BP:BP,'RTK Base'!$A:$A,$B15,'RTK Base'!$B:$B,\"North\")/1000000","v":0},null,{"$f":"SUMIFS('RTK Base'!BR:BR,'RTK Base'!$A:$A,$B15,'RTK Base'!$B:$B,\"North\")/1000000","v":0},{"$f":"SUMIFS('RTK Base'!BS:BS,'RTK Base'!$A:$A,$B15,'RTK Base'!$B:$B,\"North\")/1000000","v":0},{"$f":"SUMIFS('RTK Base'!BT:BT,'RTK Base'!$A:$A,$B15,'RTK Base'!$B:$B,\"North\")/1000000","v":0},{"$f":"SUMIFS('RTK Base'!BU:BU,'RTK Base'!$A:$A,$B15,'RTK Base'!$B:$B,\"North\")/1000000","v":0},{"$f":"SUMIFS('RTK Base'!BV:BV,'RTK Base'!$A:$A,$B15,'RTK Base'!$B:$B,\"North\")/1000000","v":0},{"$f":"SUMIFS('RTK Base'!BW:BW,'RTK Base'!$A:$A,$B15,'RTK Base'!$B:$B,\"North\")/1000000","v":0},{"$f":"SUMIFS('RTK Base'!BX:BX,'RTK Base'!$A:$A,$B15,'RTK Base'!$B:$B,\"North\")/1000000","v":0},{"$f":"SUMIFS('RTK Base'!BY:BY,'RTK Base'!$A:$A,$B15,'RTK Base'!$B:$B,\"North\")/1000000","v":0},{"$f":"SUMIFS('RTK Base'!BZ:BZ,'RTK Base'!$A:$A,$B15,'RTK Base'!$B:$B,\"North\")/1000000","v":0},{"$f":"SUMIFS('RTK Base'!CA:CA,'RTK Base'!$A:$A,$B15,'RTK Base'!$B:$B,\"North\")/1000000","v":0},{"$f":"SUMIFS('RTK Base'!CB:CB,'RTK Base'!$A:$A,$B15,'RTK Base'!$B:$B,\"North\")/1000000","v":0},{"$f":"SUMIFS('RTK Base'!CC:CC,'RTK Base'!$A:$A,$B15,'RTK Base'!$B:$B,\"North\")/1000000","v":0},null,{"$f":"SUMIFS('RTK Base'!CE:CE,'RTK Base'!$A:$A,$B15,'RTK Base'!$B:$B,\"North\")/1000000","v":0},{"$f":"SUMIFS('RTK Base'!CF:CF,'RTK Base'!$A:$A,$B15,'RTK Base'!$B:$B,\"North\")/1000000","v":0},{"$f":"SUMIFS('RTK Base'!CG:CG,'RTK Base'!$A:$A,$B15,'RTK Base'!$B:$B,\"North\")/1000000","v":0},{"$f":"SUMIFS('RTK Base'!CH:CH,'RTK Base'!$A:$A,$B15,'RTK Base'!$B:$B,\"North\")/1000000","v":0},{"$f":"SUMIFS('RTK Base'!CI:CI,'RTK Base'!$A:$A,$B15,'RTK Base'!$B:$B,\"North\")/1000000","v":0},{"$f":"SUMIFS('RTK Base'!CJ:CJ,'RTK Base'!$A:$A,$B15,'RTK Base'!$B:$B,\"North\")/1000000","v":0},{"$f":"SUMIFS('RTK Base'!CK:CK,'RTK Base'!$A:$A,$B15,'RTK Base'!$B:$B,\"North\")/1000000","v":0},{"$f":"SUMIFS('RTK Base'!CL:CL,'RTK Base'!$A:$A,$B15,'RTK Base'!$B:$B,\"North\")/1000000","v":0},{"$f":"SUMIFS('RTK Base'!CM:CM,'RTK Base'!$A:$A,$B15,'RTK Base'!$B:$B,\"North\")/1000000","v":0},{"$f":"SUMIFS('RTK Base'!CN:CN,'RTK Base'!$A:$A,$B15,'RTK Base'!$B:$B,\"North\")/1000000","v":0},{"$f":"SUMIFS('RTK Base'!CO:CO,'RTK Base'!$A:$A,$B15,'RTK Base'!$B:$B,\"North\")/1000000","v":0},{"$f":"SUMIFS('RTK Base'!CP:CP,'RTK Base'!$A:$A,$B15,'RTK Base'!$B:$B,\"North\")/1000000","v":0}]
[null,"Containers",null,80.313918999999999,89.996015999999997,100.31127499999999,91.571785000000006,97.752009999999999,83.559245000000004,89.412357,75.172216000000006,69.164680000000004,75.906739000000002,80.897017000000005,72.590843000000007,null,87.411944000000005,63.344560999999999,65.941494000000006,89.891549999999995,115.268207,123.953,128.02637100000001,145.190832,130.634109,135.36413099999999,110.149416,95.406892999999997,null,44.228946000000001,163.76929100000001,157.47645199999999,163.118955,127.68886500000001,128.94168500000001,176.46661800000001,179.56003100000001,159.88930300000001,147.09750600000001,139.53465499999999,144.369145,null,133.64774600000001,120.81084,180.56366199999999,174.52824100000001,169.21150700000001,150.20623399999999,176.77675500000001,192.41224299999999,186.46196800000001,179.93737300000001,199.21485100000001,184.44444799999999,null,{"$f":"SUMIFS('RTK Base'!BE:BE,'RTK Base'!$A:$A,$B16,'RTK Base'!$B:$B,\"North\")/1000000","v":164.52949799999999},{"$f":"SUMIFS('RTK Base'!BF:BF,'RTK Base'!$A:$A,$B16,'RTK Base'!$B:$B,\"North\")/1000000","v":163.33302},{"$f":"SUMIFS('RTK Base'!BG:BG,'RTK Base'!$A:$A,$B16,'RTK Base'!$B:$B,\"North\")/1000000","v":172.20104499999999},{"$f":"SUMIFS('RTK Base'!BH:BH,'RTK Base'!$A:$A,$B16,'RTK Base'!$B:$B,\"North\")/1000000","v":124.373599},{"$f":"SUMIFS('RTK Base'!BI:BI,'RTK Base'!$A:$A,$B16,'RTK Base'!$B:$B,\"North\")/1000000","v":112.287685},{"$f":"SUMIFS('RTK Base'!BJ:BJ,'RTK Base'!$A:$A,$B16,'RTK Base'!$B:$B,\"North\")/1000000","v":171.10955899999999},{"$f":"SUMIFS('RTK Base'!BK:BK,'RTK Base'!$A:$A,$B16,'RTK Base'!$B:$B,\"North\")/1000000","v":181.07323500000001},{"$f":"SUMIFS('RTK Base'!BL:BL,'RTK Base'!$A:$A,$B16,'RTK Base'!$B:$B,\"North\")/1000000","v":178.257746},{"$f":"SUMIFS('RTK Base'!BM:BM,'RTK Base'!$A:$A,$B16,'RTK Base'!$B:$B,\"North\")/1000000","v":193.70859200000001},{"$f":"SUMIFS('RTK Base'!BN:BN,'RTK Base'!$A:$A,$B16,'RTK Base'!$B:$B,\"North\")/1000000","v":192.47615999999999},{"$f":"SUMIFS('RTK Base'!BO:BO,'RTK Base'!$A:$A,$B16,'RTK Base'!$B:$B,\"North\")/1000000","v":213.07659799999999},{"$f":"SUMIFS('RTK Base'!BP:BP,'RTK Base'!$A:$A,$B16,'RTK Base'!$B:$B,\"North\")/1000000","v":199.32824299999999},null,{"$f":"SUMIFS('RTK Base'!BR:BR,'RTK Base'!$A:$A,$B16,'RTK Base'!$B:$B,\"North\")/1000000","v":172.370169},{"$f":"SUMIFS('RTK Base'!BS:BS,'RTK Base'!$A:$A,$B16,'RTK Base'!$B:$B,\"North\")/1000000","v":161.96500700000001},{"$f":"SUMIFS('RTK Base'!BT:BT,'RTK Base'!$A:$A,$B16,'RTK Base'!$B:$B,\"North\")/1000000","v":166.56570600000001},{"$f":"SUMIFS('RTK Base'!BU:BU,'RTK Base'!$A:$A,$B16,'RTK Base'!$B:$B,\"North\")/1000000","v":204.52103399999999},{"$f":"SUMIFS('RTK Base'!BV:BV,'RTK Base'!$A:$A,$B16,'RTK Base'!$B:$B,\"North\")/1000000","v":199.751544},{"$f":"SUMIFS('RTK Base'!BW:BW,'RTK Base'!$A:$A,$B16,'RTK Base'!$B:$B,\"North\")/1000000","v":219.82129900000001},{"$f":"SUMIFS('RTK Base'!BX:BX,'RTK Base'!$A:$A,$B16,'RTK Base'!$B:$B,\"North\")/1000000","v":224.51829699999999},{"$f":"SUMIFS('RTK Base'!BY:BY,'RTK Base'!$A:$A,$B16,'RTK Base'!$B:$B,\"North\")/1000000","v":254.207065},{"$f":"SUMIFS('RTK Base'!BZ:BZ,'RTK Base'!$A:$A,$B16,'RTK Base'!$B:$B,\"North\")/1000000","v":225.18443600000001},{"$f":"SUMIFS('RTK Base'!CA:CA,'RTK Base'!$A:$A,$B16,'RTK Base'!$B:$B,\"North\")/1000000","v":212.11105800000001},{"$f":"SUMIFS('RTK Base'!CB:CB,'RTK Base'!$A:$A,$B16,'RTK Base'!$B:$B,\"North\")/1000000","v":208.27721399999999},{"$f":"SUMIFS('RTK Base'!CC:CC,'RTK Base'!$A:$A,$B16,'RTK Base'!$B:$B,\"North\")/1000000","v":228.44357199999999},null,{"$f":"SUMIFS('RTK Base'!CE:CE,'RTK Base'!$A:$A,$B16,'RTK Base'!$B:$B,\"North\")/1000000","v":190.346306},{"$f":"SUMIFS('RTK Base'!CF:CF,'RTK Base'!$A:$A,$B16,'RTK Base'!$B:$B,\"North\")/1000000","v":215.85358299999999},{"$f":"SUMIFS('RTK Base'!CG:CG,'RTK Base'!$A:$A,$B16,'RTK Base'!$B:$B,\"North\")/1000000","v":233.815236},{"$f":"SUMIFS('RTK Base'!CH:CH,'RTK Base'!$A:$A,$B16,'RTK Base'!$B:$B,\"North\")/1000000","v":217.93113700000001},{"$f":"SUMIFS('RTK Base'!CI:CI,'RTK Base'!$A:$A,$B16,'RTK Base'!$B:$B,\"North\")/1000000","v":224.973726},{"$f":"SUMIFS('RTK Base'!CJ:CJ,'RTK Base'!$A:$A,$B16,'RTK Base'!$B:$B,\"North\")/1000000","v":0},{"$f":"SUMIFS('RTK Base'!CK:CK,'RTK Base'!$A:$A,$B16,'RTK Base'!$B:$B,\"North\")/1000000","v":0},{"$f":"SUMIFS('RTK Base'!CL:CL,'RTK Base'!$A:$A,$B16,'RTK Base'!$B:$B,\"North\")/1000000","v":0},{"$f":"SUMIFS('RTK Base'!CM:CM,'RTK Base'!$A:$A,$B16,'RTK Base'!$B:$B,\"North\")/1000000","v":0},{"$f":"SUMIFS('RTK Base'!CN:CN,'RTK Base'!$A:$A,$B16,'RTK Base'!$B:$B,\"North\")/1000000","v":0},{"$f":"SUMIFS('RTK Base'!CO:CO,'RTK Base'!$A:$A,$B16,'RTK Base'!$B:$B,\"North\")/1000000","v":0},{"$f":"SUMIFS('RTK Base'!CP:CP,'RTK Base'!$A:$A,$B16,'RTK Base'!$B:$B,\"North\")/1000000","v":0}]
[null,"Industrial Products",null,{"$f":"SUM(D18:D21)","v":177.33295699999999},169.88723999999999,181.76594699999998,174.84392199999999,186.59553199999999,205.499932,200.24381600000001,217.12668300000001,235.69294600000001,228.40213700000001,184.0061,190.88840400000001,null,{"$f":"SUM(Q18:Q21)","v":216.34381099999999},200.28066000000001,209.53282999999999,172.57740699999999,187.91377600000001,213.543205,213.885738,213.73236299999999,186.95747900000001,260.372389,234.50074899999998,251.127816,null,{"$f":"SUM(AD18:AD21)","v":252.95376199999998},264.58987300000001,294.80632900000001,227.458799,262.89546300000001,345.74850300000003,342.411833,339.55378200000001,332.93307299999998,332.45453599999996,327.86153899999999,326.93122800000003,null,{"$f":"SUM(AQ18:AQ21)","v":332.56469099999998},278.61865499999999,306.48253399999999,289.40691800000002,312.55984899999999,318.93784799999997,341.492975,329.07675700000004,339.454387,355.08237399999996,327.59637299999997,320.71328499999998,null,{"$f":"SUM(BD18:BD21)","v":339.551244},341.335803,308.17456300000003,236.33757499999999,378.17567500000001,358.46293000000003,393.08536600000002,389.31667099999999,428.49429699999996,453.130763,434.85917000000001,365.04928000000001,null,{"$f":"SUM(BQ18:BQ21)","v":390.68746899999996},{"$f":"SUM(BR18:BR21)","v":396.01445000000001},{"$f":"SUM(BS18:BS21)","v":409.87306999999998},{"$f":"SUM(BT18:BT21)","v":413.17425800000001},{"$f":"SUM(BU18:BU21)","v":432.76581999999996},{"$f":"SUM(BV18:BV21)","v":435.27166399999999},{"$f":"SUM(BW18:BW21)","v":461.56664599999999},{"$f":"SUM(BX18:BX21)","v":491.41031900000002},{"$f":"SUM(BY18:BY21)","v":468.74907699999994},{"$f":"SUM(BZ18:BZ21)","v":493.03100800000004},{"$f":"SUM(CA18:CA21)","v":431.81241399999999},{"$f":"SUM(CB18:CB21)","v":451.11402899999996},null,{"$f":"SUM(CD18:CD21)","v":470.24818400000004},495.15792599999997,528.28796499999999,493.60423300000002,533.82766400000003,0,0,0,0,0,0,0]
[null,"Fuels",null,163.50134299999999,155.48599100000001,180.90504899999999,174.40585999999999,186.59553199999999,205.499932,200.24381600000001,217.12668300000001,235.69294600000001,228.40213700000001,184.0061,190.88840400000001,null,216.34381099999999,200.28066000000001,209.53282999999999,172.57740699999999,187.91377600000001,213.543205,213.885738,213.73236299999999,186.95747900000001,231.94573500000001,171.77247199999999,174.090316,null,184.661204,196.61362,199.541382,163.413611,178.57885300000001,250.73196799999999,247.23356699999999,220.87092000000001,224.573791,210.833372,206.240374,203.94893400000001,null,214.72762399999999,190.747151,186.11794399999999,161.57840999999999,188.917056,207.26309499999999,223.91506799999999,217.61805000000001,212.12754100000001,214.96096399999999,196.630596,180.25054399999999,null,{"$f":"SUMIFS('RTK Base'!BE:BE,'RTK Base'!$A:$A,$B18,'RTK Base'!$B:$B,\"North\")/1000000","v":199.57399799999999},{"$f":"SUMIFS('RTK Base'!BF:BF,'RTK Base'!$A:$A,$B18,'RTK Base'!$B:$B,\"North\")/1000000","v":204.431127},{"$f":"SUMIFS('RTK Base'!BG:BG,'RTK Base'!$A:$A,$B18,'RTK Base'!$B:$B,\"North\")/1000000","v":180.157173},{"$f":"SUMIFS('RTK Base'!BH:BH,'RTK Base'!$A:$A,$B18,'RTK Base'!$B:$B,\"North\")/1000000","v":86.776950999999997},{"$f":"SUMIFS('RTK Base'!BI:BI,'RTK Base'!$A:$A,$B18,'RTK Base'!$B:$B,\"North\")/1000000","v":212.114092},{"$f":"SUMIFS('RTK Base'!BJ:BJ,'RTK Base'!$A:$A,$B18,'RTK Base'!$B:$B,\"North\")/1000000","v":194.23801499999999},{"$f":"SUMIFS('RTK Base'!BK:BK,'RTK Base'!$A:$A,$B18,'RTK Base'!$B:$B,\"North\")/1000000","v":236.819648},{"$f":"SUMIFS('RTK Base'!BL:BL,'RTK Base'!$A:$A,$B18,'RTK Base'!$B:$B,\"North\")/1000000","v":235.78306599999999},{"$f":"SUMIFS('RTK Base'!BM:BM,'RTK Base'!$A:$A,$B18,'RTK Base'!$B:$B,\"North\")/1000000","v":268.569389},{"$f":"SUMIFS('RTK Base'!BN:BN,'RTK Base'!$A:$A,$B18,'RTK Base'!$B:$B,\"North\")/1000000","v":287.46051299999999},{"$f":"SUMIFS('RTK Base'!BO:BO,'RTK Base'!$A:$A,$B18,'RTK Base'!$B:$B,\"North\")/1000000","v":264.05765500000001},{"$f":"SUMIFS('RTK Base'!BP:BP,'RTK Base'!$A:$A,$B18,'RTK Base'!$B:$B,\"North\")/1000000","v":253.202361},null,{"$f":"SUMIFS('RTK Base'!BR:BR,'RTK Base'!$A:$A,$B18,'RTK Base'!$B:$B,\"North\")/1000000","v":253.80615},{"$f":"SUMIFS('RTK Base'!BS:BS,'RTK Base'!$A:$A,$B18,'RTK Base'!$B:$B,\"North\")/1000000","v":258.48140899999999},{"$f":"SUMIFS('RTK Base'!BT:BT,'RTK Base'!$A:$A,$B18,'RTK Base'!$B:$B,\"North\")/1000000","v":247.41916900000001},{"$f":"SUMIFS('RTK Base'!BU:BU,'RTK Base'!$A:$A,$B18,'RTK Base'!$B:$B,\"North\")/1000000","v":265.066802},{"$f":"SUMIFS('RTK Base'!BV:BV,'RTK Base'!$A:$A,$B18,'RTK Base'!$B:$B,\"North\")/1000000","v":277.627364},{"$f":"SUMIFS('RTK Base'!BW:BW,'RTK Base'!$A:$A,$B18,'RTK Base'!$B:$B,\"North\")/1000000","v":291.84605199999999},{"$f":"SUMIFS('RTK Base'!BX:BX,'RTK Base'!$A:$A,$B18,'RTK Base'!$B:$B,\"North\")/1000000","v":302.54666300000002},{"$f":"SUMIFS('RTK Base'!BY:BY,'RTK Base'!$A:$A,$B18,'RTK Base'!$B:$B,\"North\")/1000000","v":311.74647900000002},{"$f":"SUMIFS('RTK Base'!BZ:BZ,'RTK Base'!$A:$A,$B18,'RTK Base'!$B:$B,\"North\")/1000000","v":302.41839099999999},{"$f":"SUMIFS('RTK Base'!CA:CA,'RTK Base'!$A:$A,$B18,'RTK Base'!$B:$B,\"North\")/1000000","v":314.30067300000002},{"$f":"SUMIFS('RTK Base'!CB:CB,'RTK Base'!$A:$A,$B18,'RTK Base'!$B:$B,\"North\")/1000000","v":265.17036100000001},{"$f":"SUMIFS('RTK Base'!CC:CC,'RTK Base'!$A:$A,$B18,'RTK Base'!$B:$B,\"North\")/1000000","v":290.427369},null,{"$f":"SUMIFS('RTK Base'!CE:CE,'RTK Base'!$A:$A,$B18,'RTK Base'!$B:$B,\"North\")/1000000","v":309.632296},{"$f":"SUMIFS('RTK Base'!CF:CF,'RTK Base'!$A:$A,$B18,'RTK Base'!$B:$B,\"North\")/1000000","v":319.69687499999998},{"$f":"SUMIFS('RTK Base'!CG:CG,'RTK Base'!$A:$A,$B18,'RTK Base'!$B:$B,\"North\")/1000000","v":318.01488999999998},{"$f":"SUMIFS('RTK Base'!CH:CH,'RTK Base'!$A:$A,$B18,'RTK Base'!$B:$B,\"North\")/1000000","v":309.10212999999999},{"$f":"SUMIFS('RTK Base'!CI:CI,'RTK Base'!$A:$A,$B18,'RTK Base'!$B:$B,\"North\")/1000000","v":338.83302900000001},{"$f":"SUMIFS('RTK Base'!CJ:CJ,'RTK Base'!$A:$A,$B18,'RTK Base'!$B:$B,\"North\")/1000000","v":0},{"$f":"SUMIFS('RTK Base'!CK:CK,'RTK Base'!$A:$A,$B18,'RTK Base'!$B:$B,\"North\")/1000000","v":0},{"$f":"SUMIFS('RTK Base'!CL:CL,'RTK Base'!$A:$A,$B18,'RTK Base'!$B:$B,\"North\")/1000000","v":0},{"$f":"SUMIFS('RTK Base'!CM:CM,'RTK Base'!$A:$A,$B18,'RTK Base'!$B:$B,\"North\")/1000000","v":0},{"$f":"SUMIFS('RTK Base'!CN:CN,'RTK Base'!$A:$A,$B18,'RTK Base'!$B:$B,\"North\")/1000000","v":0},{"$f":"SUMIFS('RTK Base'!CO:CO,'RTK Base'!$A:$A,$B18,'RTK Base'!$B:$B,\"North\")/1000000","v":0},{"$f":"SUMIFS('RTK Base'!CP:CP,'RTK Base'!$A:$A,$B18,'RTK Base'!$B:$B,\"North\")/1000000","v":0}]
[null,"Wood, pulp and paper",null,13.831614,13.905127999999999,0,0,0,0,0,0,0,0,0,0,null,0,0,0,0,0,0,0,0,0,28.426653999999999,62.728276999999999,77.037499999999994,null,68.292558,67.976253,95.264947000000006,64.045187999999996,84.316609999999997,95.016535000000005,95.178265999999994,118.682862,108.35928199999999,121.62116399999999,121.621165,122.982294,null,117.837067,87.871504000000002,120.36459000000001,127.828508,123.642793,111.674753,117.577907,111.458707,127.326846,140.12141,130.965777,140.46274099999999,null,{"$f":"SUMIFS('RTK Base'!BE:BE,'RTK Base'!$A:$A,$B19,'RTK Base'!$B:$B,\"North\")/1000000","v":139.97724600000001},{"$f":"SUMIFS('RTK Base'!BF:BF,'RTK Base'!$A:$A,$B19,'RTK Base'!$B:$B,\"North\")/1000000","v":136.90467599999999},{"$f":"SUMIFS('RTK Base'!BG:BG,'RTK Base'!$A:$A,$B19,'RTK Base'!$B:$B,\"North\")/1000000","v":128.01739000000001},{"$f":"SUMIFS('RTK Base'!BH:BH,'RTK Base'!$A:$A,$B19,'RTK Base'!$B:$B,\"North\")/1000000","v":149.56062399999999},{"$f":"SUMIFS('RTK Base'!BI:BI,'RTK Base'!$A:$A,$B19,'RTK Base'!$B:$B,\"North\")/1000000","v":166.06158300000001},{"$f":"SUMIFS('RTK Base'!BJ:BJ,'RTK Base'!$A:$A,$B19,'RTK Base'!$B:$B,\"North\")/1000000","v":164.22491500000001},{"$f":"SUMIFS('RTK Base'!BK:BK,'RTK Base'!$A:$A,$B19,'RTK Base'!$B:$B,\"North\")/1000000","v":156.26571799999999},{"$f":"SUMIFS('RTK Base'!BL:BL,'RTK Base'!$A:$A,$B19,'RTK Base'!$B:$B,\"North\")/1000000","v":153.53360499999999},{"$f":"SUMIFS('RTK Base'!BM:BM,'RTK Base'!$A:$A,$B19,'RTK Base'!$B:$B,\"North\")/1000000","v":159.92490799999999},{"$f":"SUMIFS('RTK Base'!BN:BN,'RTK Base'!$A:$A,$B19,'RTK Base'!$B:$B,\"North\")/1000000","v":165.67025000000001},{"$f":"SUMIFS('RTK Base'!BO:BO,'RTK Base'!$A:$A,$B19,'RTK Base'!$B:$B,\"North\")/1000000","v":170.80151499999999},{"$f":"SUMIFS('RTK Base'!BP:BP,'RTK Base'!$A:$A,$B19,'RTK Base'!$B:$B,\"North\")/1000000","v":111.846919},null,{"$f":"SUMIFS('RTK Base'!BR:BR,'RTK Base'!$A:$A,$B19,'RTK Base'!$B:$B,\"North\")/1000000","v":136.88131899999999},{"$f":"SUMIFS('RTK Base'!BS:BS,'RTK Base'!$A:$A,$B19,'RTK Base'!$B:$B,\"North\")/1000000","v":137.533041},{"$f":"SUMIFS('RTK Base'!BT:BT,'RTK Base'!$A:$A,$B19,'RTK Base'!$B:$B,\"North\")/1000000","v":162.453901},{"$f":"SUMIFS('RTK Base'!BU:BU,'RTK Base'!$A:$A,$B19,'RTK Base'!$B:$B,\"North\")/1000000","v":148.10745600000001},{"$f":"SUMIFS('RTK Base'!BV:BV,'RTK Base'!$A:$A,$B19,'RTK Base'!$B:$B,\"North\")/1000000","v":155.13845599999999},{"$f":"SUMIFS('RTK Base'!BW:BW,'RTK Base'!$A:$A,$B19,'RTK Base'!$B:$B,\"North\")/1000000","v":143.425612},{"$f":"SUMIFS('RTK Base'!BX:BX,'RTK Base'!$A:$A,$B19,'RTK Base'!$B:$B,\"North\")/1000000","v":159.019983},{"$f":"SUMIFS('RTK Base'!BY:BY,'RTK Base'!$A:$A,$B19,'RTK Base'!$B:$B,\"North\")/1000000","v":179.66383999999999},{"$f":"SUMIFS('RTK Base'!BZ:BZ,'RTK Base'!$A:$A,$B19,'RTK Base'!$B:$B,\"North\")/1000000","v":166.33068599999999},{"$f":"SUMIFS('RTK Base'!CA:CA,'RTK Base'!$A:$A,$B19,'RTK Base'!$B:$B,\"North\")/1000000","v":178.730335},{"$f":"SUMIFS('RTK Base'!CB:CB,'RTK Base'!$A:$A,$B19,'RTK Base'!$B:$B,\"North\")/1000000","v":166.642053},{"$f":"SUMIFS('RTK Base'!CC:CC,'RTK Base'!$A:$A,$B19,'RTK Base'!$B:$B,\"North\")/1000000","v":160.68665999999999},null,{"$f":"SUMIFS('RTK Base'!CE:CE,'RTK Base'!$A:$A,$B19,'RTK Base'!$B:$B,\"North\")/1000000","v":160.61588800000001},{"$f":"SUMIFS('RTK Base'!CF:CF,'RTK Base'!$A:$A,$B19,'RTK Base'!$B:$B,\"North\")/1000000","v":175.461051},{"$f":"SUMIFS('RTK Base'!CG:CG,'RTK Base'!$A:$A,$B19,'RTK Base'!$B:$B,\"North\")/1000000","v":210.27307500000001},{"$f":"SUMIFS('RTK Base'!CH:CH,'RTK Base'!$A:$A,$B19,'RTK Base'!$B:$B,\"North\")/1000000","v":184.50210300000001},{"$f":"SUMIFS('RTK Base'!CI:CI,'RTK Base'!$A:$A,$B19,'RTK Base'!$B:$B,\"North\")/1000000","v":194.99463499999999},{"$f":"SUMIFS('RTK Base'!CJ:CJ,'RTK Base'!$A:$A,$B19,'RTK Base'!$B:$B,\"North\")/1000000","v":0},{"$f":"SUMIFS('RTK Base'!CK:CK,'RTK Base'!$A:$A,$B19,'RTK Base'!$B:$B,\"North\")/1000000","v":0},{"$f":"SUMIFS('RTK Base'!CL:CL,'RTK Base'!$A:$A,$B19,'RTK Base'!$B:$B,\"North\")/1000000","v":0},{"$f":"SUMIFS('RTK Base'!CM:CM,'RTK Base'!$A:$A,$B19,'RTK Base'!$B:$B,\"North\")/1000000","v":0},{"$f":"SUMIFS('RTK Base'!CN:CN,'RTK Base'!$A:$A,$B19,'RTK Base'!$B:$B,\"North\")/1000000","v":0},{"$f":"SUMIFS('RTK Base'!CO:CO,'RTK Base'!$A:$A,$B19,'RTK Base'!$B:$B,\"North\")/1000000","v":0},{"$f":"SUMIFS('RTK Base'!CP:CP,'RTK Base'!$A:$A,$B19,'RTK Base'!$B:$B,\"North\")/1000000","v":0}]
[null,"Construction",null,0,0,0,0,0,0,0,0,0,0,0,0,null,0,0,0,0,0,0,0,0,0,0,0,0,null,0,0,0,0,0,0,0,0,0,0,0,0,null,0,0,0,0,0,0,0,0,0,0,0,0,null,{"$f":"SUMIFS('RTK Base'!BE:BE,'RTK Base'!$A:$A,$B20,'RTK Base'!$B:$B,\"North\")/1000000","v":0},{"$f":"SUMIFS('RTK Base'!BF:BF,'RTK Base'!$A:$A,$B20,'RTK Base'!$B:$B,\"North\")/1000000","v":0},{"$f":"SUMIFS('RTK Base'!BG:BG,'RTK Base'!$A:$A,$B20,'RTK Base'!$B:$B,\"North\")/1000000","v":0},{"$f":"SUMIFS('RTK Base'!BH:BH,'RTK Base'!$A:$A,$B20,'RTK Base'!$B:$B,\"North\")/1000000","v":0},{"$f":"SUMIFS('RTK Base'!BI:BI,'RTK Base'!$A:$A,$B20,'RTK Base'!$B:$B,\"North\")/1000000","v":0},{"$f":"SUMIFS('RTK Base'!BJ:BJ,'RTK Base'!$A:$A,$B20,'RTK Base'!$B:$B,\"North\")/1000000","v":0},{"$f":"SUMIFS('RTK Base'!BK:BK,'RTK Base'!$A:$A,$B20,'RTK Base'!$B:$B,\"North\")/1000000","v":0},{"$f":"SUMIFS('RTK Base'!BL:BL,'RTK Base'!$A:$A,$B20,'RTK Base'!$B:$B,\"North\")/1000000","v":0},{"$f":"SUMIFS('RTK Base'!BM:BM,'RTK Base'!$A:$A,$B20,'RTK Base'!$B:$B,\"North\")/1000000","v":0},{"$f":"SUMIFS('RTK Base'!BN:BN,'RTK Base'!$A:$A,$B20,'RTK Base'!$B:$B,\"North\")/1000000","v":0},{"$f":"SUMIFS('RTK Base'!BO:BO,'RTK Base'!$A:$A,$B20,'RTK Base'!$B:$B,\"North\")/1000000","v":0},{"$f":"SUMIFS('RTK Base'!BP:BP,'RTK Base'!$A:$A,$B20,'RTK Base'!$B:$B,\"North\")/1000000","v":0},null,{"$f":"SUMIFS('RTK Base'!BR:BR,'RTK Base'!$A:$A,$B20,'RTK Base'!$B:$B,\"North\")/1000000","v":0},{"$f":"SUMIFS('RTK Base'!BS:BS,'RTK Base'!$A:$A,$B20,'RTK Base'!$B:$B,\"North\")/1000000","v":0},{"$f":"SUMIFS('RTK Base'!BT:BT,'RTK Base'!$A:$A,$B20,'RTK Base'!$B:$B,\"North\")/1000000","v":0},{"$f":"SUMIFS('RTK Base'!BU:BU,'RTK Base'!$A:$A,$B20,'RTK Base'!$B:$B,\"North\")/1000000","v":0},{"$f":"SUMIFS('RTK Base'!BV:BV,'RTK Base'!$A:$A,$B20,'RTK Base'!$B:$B,\"North\")/1000000","v":0},{"$f":"SUMIFS('RTK Base'!BW:BW,'RTK Base'!$A:$A,$B20,'RTK Base'!$B:$B,\"North\")/1000000","v":0},{"$f":"SUMIFS('RTK Base'!BX:BX,'RTK Base'!$A:$A,$B20,'RTK Base'!$B:$B,\"North\")/1000000","v":0},{"$f":"SUMIFS('RTK Base'!BY:BY,'RTK Base'!$A:$A,$B20,'RTK Base'!$B:$B,\"North\")/1000000","v":0},{"$f":"SUMIFS('RTK Base'!BZ:BZ,'RTK Base'!$A:$A,$B20,'RTK Base'!$B:$B,\"North\")/1000000","v":0},{"$f":"SUMIFS('RTK Base'!CA:CA,'RTK Base'!$A:$A,$B20,'RTK Base'!$B:$B,\"North\")/1000000","v":0},{"$f":"SUMIFS('RTK Base'!CB:CB,'RTK Base'!$A:$A,$B20,'RTK Base'!$B:$B,\"North\")/1000000","v":0},{"$f":"SUMIFS('RTK Base'!CC:CC,'RTK Base'!$A:$A,$B20,'RTK Base'!$B:$B,\"North\")/1000000","v":0},null,{"$f":"SUMIFS('RTK Base'!CE:CE,'RTK Base'!$A:$A,$B20,'RTK Base'!$B:$B,\"North\")/1000000","v":0},{"$f":"SUMIFS('RTK Base'!CF:CF,'RTK Base'!$A:$A,$B20,'RTK Base'!$B:$B,\"North\")/1000000","v":0},{"$f":"SUMIFS('RTK Base'!CG:CG,'RTK Base'!$A:$A,$B20,'RTK Base'!$B:$B,\"North\")/1000000","v":0},{"$f":"SUMIFS('RTK Base'!CH:CH,'RTK Base'!$A:$A,$B20,'RTK Base'!$B:$B,\"North\")/1000000","v":0},{"$f":"SUMIFS('RTK Base'!CI:CI,'RTK Base'!$A:$A,$B20,'RTK Base'!$B:$B,\"North\")/1000000","v":0},{"$f":"SUMIFS('RTK Base'!CJ:CJ,'RTK Base'!$A:$A,$B20,'RTK Base'!$B:$B,\"North\")/1000000","v":0},{"$f":"SUMIFS('RTK Base'!CK:CK,'RTK Base'!$A:$A,$B20,'RTK Base'!$B:$B,\"North\")/1000000","v":0},{"$f":"SUMIFS('RTK Base'!CL:CL,'RTK Base'!$A:$A,$B20,'RTK Base'!$B:$B,\"North\")/1000000","v":0},{"$f":"SUMIFS('RTK Base'!CM:CM,'RTK Base'!$A:$A,$B20,'RTK Base'!$B:$B,\"North\")/1000000","v":0},{"$f":"SUMIFS('RTK Base'!CN:CN,'RTK Base'!$A:$A,$B20,'RTK Base'!$B:$B,\"North\")/1000000","v":0},{"$f":"SUMIFS('RTK Base'!CO:CO,'RTK Base'!$A:$A,$B20,'RTK Base'!$B:$B,\"North\")/1000000","v":0},{"$f":"SUMIFS('RTK Base'!CP:CP,'RTK Base'!$A:$A,$B20,'RTK Base'!$B:$B,\"North\")/1000000","v":0}]
[null,"Steel and mining",null,0,0.49612099999999998,0.86089800000000005,0.43806200000000001,0,0,0,0,0,0,0,0,null,0,0,0,0,0,0,0,0,0,0,0,0,null,0,0,0,0,0,0,0,0,0,0,0,0,null,0,0,0,0,0,0,0,0,0,0,0,0,null,{"$f":"SUMIFS('RTK Base'!BE:BE,'RTK Base'!$A:$A,$B21,'RTK Base'!$B:$B,\"North\")/1000000","v":0},{"$f":"SUMIFS('RTK Base'!BF:BF,'RTK Base'!$A:$A,$B21,'RTK Base'!$B:$B,\"North\")/1000000","v":0},{"$f":"SUMIFS('RTK Base'!BG:BG,'RTK Base'!$A:$A,$B21,'RTK Base'!$B:$B,\"North\")/1000000","v":0},{"$f":"SUMIFS('RTK Base'!BH:BH,'RTK Base'!$A:$A,$B21,'RTK Base'!$B:$B,\"North\")/1000000","v":0},{"$f":"SUMIFS('RTK Base'!BI:BI,'RTK Base'!$A:$A,$B21,'RTK Base'!$B:$B,\"North\")/1000000","v":0},{"$f":"SUMIFS('RTK Base'!BJ:BJ,'RTK Base'!$A:$A,$B21,'RTK Base'!$B:$B,\"North\")/1000000","v":0},{"$f":"SUMIFS('RTK Base'!BK:BK,'RTK Base'!$A:$A,$B21,'RTK Base'!$B:$B,\"North\")/1000000","v":0},{"$f":"SUMIFS('RTK Base'!BL:BL,'RTK Base'!$A:$A,$B21,'RTK Base'!$B:$B,\"North\")/1000000","v":0},{"$f":"SUMIFS('RTK Base'!BM:BM,'RTK Base'!$A:$A,$B21,'RTK Base'!$B:$B,\"North\")/1000000","v":0},{"$f":"SUMIFS('RTK Base'!BN:BN,'RTK Base'!$A:$A,$B21,'RTK Base'!$B:$B,\"North\")/1000000","v":0},{"$f":"SUMIFS('RTK Base'!BO:BO,'RTK Base'!$A:$A,$B21,'RTK Base'!$B:$B,\"North\")/1000000","v":0},{"$f":"SUMIFS('RTK Base'!BP:BP,'RTK Base'!$A:$A,$B21,'RTK Base'!$B:$B,\"North\")/1000000","v":0},null,{"$f":"SUMIFS('RTK Base'!BR:BR,'RTK Base'!$A:$A,$B21,'RTK Base'!$B:$B,\"North\")/1000000","v":0},{"$f":"SUMIFS('RTK Base'!BS:BS,'RTK Base'!$A:$A,$B21,'RTK Base'!$B:$B,\"North\")/1000000","v":0},{"$f":"SUMIFS('RTK Base'!BT:BT,'RTK Base'!$A:$A,$B21,'RTK Base'!$B:$B,\"North\")/1000000","v":0},{"$f":"SUMIFS('RTK Base'!BU:BU,'RTK Base'!$A:$A,$B21,'RTK Base'!$B:$B,\"North\")/1000000","v":0},{"$f":"SUMIFS('RTK Base'!BV:BV,'RTK Base'!$A:$A,$B21,'RTK Base'!$B:$B,\"North\")/1000000","v":0},{"$f":"SUMIFS('RTK Base'!BW:BW,'RTK Base'!$A:$A,$B21,'RTK Base'!$B:$B,\"North\")/1000000","v":0},{"$f":"SUMIFS('RTK Base'!BX:BX,'RTK Base'!$A:$A,$B21,'RTK Base'!$B:$B,\"North\")/1000000","v":0},{"$f":"SUMIFS('RTK Base'!BY:BY,'RTK Base'!$A:$A,$B21,'RTK Base'!$B:$B,\"North\")/1000000","v":0},{"$f":"SUMIFS('RTK Base'!BZ:BZ,'RTK Base'!$A:$A,$B21,'RTK Base'!$B:$B,\"North\")/1000000","v":0},{"$f":"SUMIFS('RTK Base'!CA:CA,'RTK Base'!$A:$A,$B21,'RTK Base'!$B:$B,\"North\")/1000000","v":0},{"$f":"SUMIFS('RTK Base'!CB:CB,'RTK Base'!$A:$A,$B21,'RTK Base'!$B:$B,\"North\")/1000000","v":0},{"$f":"SUMIFS('RTK Base'!CC:CC,'RTK Base'!$A:$A,$B21,'RTK Base'!$B:$B,\"North\")/1000000","v":0},null,{"$f":"SUMIFS('RTK Base'!CE:CE,'RTK Base'!$A:$A,$B21,'RTK Base'!$B:$B,\"North\")/1000000","v":0},{"$f":"SUMIFS('RTK Base'!CF:CF,'RTK Base'!$A:$A,$B21,'RTK Base'!$B:$B,\"North\")/1000000","v":0},{"$f":"SUMIFS('RTK Base'!CG:CG,'RTK Base'!$A:$A,$B21,'RTK Base'!$B:$B,\"North\")/1000000","v":0},{"$f":"SUMIFS('RTK Base'!CH:CH,'RTK Base'!$A:$A,$B21,'RTK Base'!$B:$B,\"North\")/1000000","v":0},{"$f":"SUMIFS('RTK Base'!CI:CI,'RTK Base'!$A:$A,$B21,'RTK Base'!$B:$B,\"North\")/1000000","v":0},{"$f":"SUMIFS('RTK Base'!CJ:CJ,'RTK Base'!$A:$A,$B21,'RTK Base'!$B:$B,\"North\")/1000000","v":0},{"$f":"SUMIFS('RTK Base'!CK:CK,'RTK Base'!$A:$A,$B21,'RTK Base'!$B:$B,\"North\")/1000000","v":0},{"$f":"SUMIFS('RTK Base'!CL:CL,'RTK Base'!$A:$A,$B21,'RTK Base'!$B:$B,\"North\")/1000000","v":0},{"$f":"SUMIFS('RTK Base'!CM:CM,'RTK Base'!$A:$A,$B21,'RTK Base'!$B:$B,\"North\")/1000000","v":0},{"$f":"SUMIFS('RTK Base'!CN:CN,'RTK Base'!$A:$A,$B21,'RTK Base'!$B:$B,\"North\")/1000000","v":0},{"$f":"SUMIFS('RTK Base'!CO:CO,'RTK Base'!$A:$A,$B21,'RTK Base'!$B:$B,\"North\")/1000000","v":0},{"$f":"SUMIFS('RTK Base'!CP:CP,'RTK Base'!$A:$A,$B21,'RTK Base'!$B:$B,\"North\")/1000000","v":0}]
[]
[null,"Central (Already composed in the number of the North)"]
[]
[null,null,null,"2016-01-01","feb/17","2016-03-01","apr/16","may/16","2016-06-01","2016-07-01","aug/16","sep/16","oct/16","2016-11-01","dec/16",null,"2017-01-01","feb/17","2017-03-01","apr/17","may/17","2017-06-01","2017-07-01","aug/17","sep/17","oct/17","2017-11-01","dec/17",null,"2018-01-01","feb/18","2018-03-01","apr/18","may/18","2018-06-01","2018-07-01","aug/18","sep/18","oct/18","2018-11-01","dec/18",null,"jan/19","feb/19","mar/19","apr/19","may/19","jun/19","jul/19","aug/19","sep/19","oct/19","nov/19","dec/19",null,"2020-01-01","feb/20","2020-03-01","apr/20","may/20","2020-06-01","2020-07-01","aug/20","sep/20","oct/20","2020-11-01","dec/20",null,"2021-01-01","2021-02-01","2021-03-01","2021-04-01","2021-05-01","2021-06-01","2021-07-01","2021-08-01","2021-09-01","2021-10-01","2021-11-01","2021-12-01",null,"2022-01-01","2022-02-01","2022-03-01","2022-04-01","2022-05-01","2022-06-01","2022-07-01","2022-08-01","2022-09-01","2022-10-01","2022-11-01","2022-12-01"]
[]
[null,"Transported (Mln RTK)",null,0,0,0,0,0,0,0,0,0,0,0,0,null,0,0,0,0,0,0,0,0,0,0,0,0,null,0,0,0,0,0,0,0,0,0,0,0,0,null,0,0,0,0,0,0,0,0,0,0,0,0,null,0,0,0,0,0,0,0,0,0,0,0,0,null,0,78.485810999999998,249.42326199999999,436.87470200000001,{"$f":"BU28","v":334.16292600000003},{"$f":"BV28","v":421.90039099999996},{"$f":"BW28","v":414.866512},{"$f":"BX28","v":483.45492899999999},317.926466,294.53499799999997,237.77656200000001,{"$f":"CB28","v":409.78826799999996},null,{"$f":"SUM(CD28,CD38,CD37)","v":303.622568},820.57082300000002,913.79113000000007,{"$f":"SUM(CG28,CG38,CG37)","v":725.711455},781.15672199999995,0,0,0,0,0,0,0]
[null,"Agricultural Products",null,0,0,0,0,0,0,0,0,0,0,0,0,null,0,0,0,0,0,0,0,0,0,0,0,0,null,0,0,0,0,0,0,0,0,0,0,0,0,null,0,0,0,0,0,0,0,0,0,0,0,0,null,0,0,0,0,0,0,0,0,0,0,0,0,null,0,78.485810999999998,249.42326199999999,436.87470200000001,{"$f":"BU29","v":334.16292600000003},421.90039099999996,{"$f":"SUM(BW29:BW31)","v":414.866512},{"$f":"SUM(BX29:BX31)","v":483.45492899999999},317.926466,{"$f":"SUM(BZ29:BZ31)","v":294.53499799999997},237.77656200000001,{"$f":"SUM(CB29:CB31)","v":409.78826799999996},null,{"$f":"SUM(CD29:CD36)","v":303.622568},820.57082300000002,913.79113000000007,{"$f":"SUM(CG29:CG36)","v":725.711455},781.15672199999995,0,0,0,0,0,0,0]
[null,"Soybean",null,0,0,0,0,0,0,0,0,0,0,0,0,null,0,0,0,0,0,0,0,0,0,0,0,0,null,0,0,0,0,0,0,0,0,0,0,0,0,null,0,0,0,0,0,0,0,0,0,0,0,0,null,0,0,0,0,0,0,0,0,0,0,0,0,null,0,78.485810999999998,249.42326199999999,436.87470200000001,{"$f":"334162926/10^6","v":334.16292600000003},371.53508799999997,58.125945000000002,36.147047000000001,20.249745000000001,67.645523999999995,87.659036999999998,75.150959999999998,null,138.771908,776.78083700000002,840.84706800000004,626.54483900000002,637.89604499999996,0,0,0,0,0,0,0]
[null,"Soybean meal",null,0,0,0,0,0,0,0,0,0,0,0,0,null,0,0,0,0,0,0,0,0,0,0,0,0,null,0,0,0,0,0,0,0,0,0,0,0,0,null,0,0,0,0,0,0,0,0,0,0,0,0,null,0,0,0,0,0,0,0,0,0,0,0,0,null,0,0,0,0,0,0,50.613990000000001,94.975324000000001,60.320053000000001,57.923296000000001,90.917866000000004,74.624534999999995,null,8.5899359999999998,39.853858000000002,72.944062000000002,99.166616000000005,97.542790999999994,0,0,0,0,0,0,0]
[null,"Corn",null,0,0,0,0,0,0,0,0,0,0,0,0,null,0,0,0,0,0,0,0,0,0,0,0,0,null,0,0,0,0,0,0,0,0,0,0,0,0,null,0,0,0,0,0,0,0,0,0,0,0,0,null,0,0,0,0,0,0,0,0,0,0,0,0,null,0,0,0,0,0,50.365302999999997,306.126577,352.33255800000001,237.35666800000001,168.96617800000001,59.199658999999997,260.01277299999998,null,156.26072400000001,3.9361280000000001,0,0,0,0,0,0,0,0,0,0]
[null,"Sugar",null,0,0,0,0,0,0,0,0,0,0,0,0,null,0,0,0,0,0,0,0,0,0,0,0,0,null,0,0,0,0,0,0,0,0,0,0,0,0,null,0,0,0,0,0,0,0,0,0,0,0,0,null,0,0,0,0,0,0,0,0,0,0,0,0,null,0,0,0,0,0,0,0,0,0,0,0,0,null,0,0,0,0,0,0,0,0,0,0,0,0]
[null,"Fertilizers",null,0,0,0,0,0,0,0,0,0,0,0,0,null,0,0,0,0,0,0,0,0,0,0,0,0,null,0,0,0,0,0,0,0,0,0,0,0,0,null,0,0,0,0,0,0,0,0,0,0,0,0,null,0,0,0,0,0,0,0,0,0,0,0,0,null,0,0,0,0,0,0,0,0,0,0,0,0,null,0,0,0,0,45.717886,0,0,0,0,0,0,0]
[null,"Wheat",null,0,0,0,0,0,0,0,0,0,0,0,0,null,0,0,0,0,0,0,0,0,0,0,0,0,null,0,0,0,0,0,0,0,0,0,0,0,0,null,0,0,0,0,0,0,0,0,0,0,0,0,null,0,0,0,0,0,0,0,0,0,0,0,0,null,0,0,0,0,0,0,0,0,0,0,0,0,null,0,0,0,0,0,0,0,0,0,0,0,0]
[null,"Malt",null,0,0,0,0,0,0,0,0,0,0,0,0,null,0,0,0,0,0,0,0,0,0,0,0,0,null,0,0,0,0,0,0,0,0,0,0,0,0,null,0,0,0,0,0,0,0,0,0,0,0,0,null,0,0,0,0,0,0,0,0,0,0,0,0,null,0,0,0,0,0,0,0,0,0,0,0,0,null,0,0,0,0,0,0,0,0,0,0,0,0]
[null,"Corn meal",null,0,0,0,0,0,0,0,0,0,0,0,0,null,0,0,0,0,0,0,0,0,0,0,0,0,null,0,0,0,0,0,0,0,0,0,0,0,0,null,0,0,0,0,0,0,0,0,0,0,0,0,null,0,0,0,0,0,0,0,0,0,0,0,0,null,0,0,0,0,0,0,0,0,0,0,0,0,null,0,0,0,0,0,0,0,0,0,0,0,0]
[null,"Containers",null,0,0,0,0,0,0,0,0,0,0,0,0,null,0,0,0,0,0,0,0,0,0,0,0,0,null,0,0,0,0,0,0,0,0,0,0,0,0,null,0,0,0,0,0,0,0,0,0,0,0,0,null,0,0,0,0,0,0,0,0,0,0,0,0,null,0,0,0,0,0,0,0,0,0,0,0,0,null,0,0,0,0,0,0,0,0,0,0,0,0]
[null,"Industrial Products",null,0,0,0,0,0,0,0,0,0,0,0,0,null,0,0,0,0,0,0,0,0,0,0,0,0,null,0,0,0,0,0,0,0,0,0,0,0,0,null,0,0,0,0,0,0,0,0,0,0,0,0,null,0,0,0,0,0,0,0,0,0,0,0,0,null,0,0,0,0,0,0,0,0,0,0,0,0,null,0,0,0,0,0,0,0,0,0,0,0,0]
[null,"Fuels",null,0,0,0,0,0,0,0,0,0,0,0,0,null,0,0,0,0,0,0,0,0,0,0,0,0,null,0,0,0,0,0,0,0,0,0,0,0,0,null,0,0,0,0,0,0,0,0,0,0,0,0,null,0,0,0,0,0,0,0,0,0,0,0,0,null,0,0,0,0,0,0,0,0,0,0,0,0,null,0,0,0,0,0,0,0,0,0,0,0,0]
[null,"Wood, pulp and paper",null,0,0,0,0,0,0,0,0,0,0,0,0,null,0,0,0,0,0,0,0,0,0,0,0,0,null,0,0,0,0,0,0,0,0,0,0,0,0,null,0,0,0,0,0,0,0,0,0,0,0,0,null,0,0,0,0,0,0,0,0,0,0,0,0,null,0,0,0,0,0,0,0,0,0,0,0,0,null,0,0,0,0,0,0,0,0,0,0,0,0]
[null,"Construction",null,0,0,0,0,0,0,0,0,0,0,0,0,null,0,0,0,0,0,0,0,0,0,0,0,0,null,0,0,0,0,0,0,0,0,0,0,0,0,null,0,0,0,0,0,0,0,0,0,0,0,0,null,0,0,0,0,0,0,0,0,0,0,0,0,null,0,0,0,0,0,0,0,0,0,0,0,0,null,0,0,0,0,0,0,0,0,0,0,0,0]
[null,"Steel and mining",null,0,0,0,0,0,0,0,0,0,0,0,0,null,0,0,0,0,0,0,0,0,0,0,0,0,null,0,0,0,0,0,0,0,0,0,0,0,0,null,0,0,0,0,0,0,0,0,0,0,0,0,null,0,0,0,0,0,0,0,0,0,0,0,0,null,0,0,0,0,0,0,0,0,0,0,0,0,null,0,0,0,0,0,0,0,0,0,0,0,0]

{"sheet":"Volume RTK South","index":17,"n_rows":21,"n_cols":93,"rows_kept":21,"cut":false,"hidden":false,"merged":[[3,64,4,64],[3,65,4,65],[3,66,4,66],[3,55,4,55],[3,56,4,56],[3,57,4,57],[3,58,4,58],[3,62,4,62],[3,63,4,63],[3,60,4,60],[3,61,4,61],[3,44,4,44],[3,45,4,45],[3,59,4,59],[3,47,4,47],[3,48,4,48],[3,49,4,49],[3,50,4,50],[3,51,4,51],[3,52,4,52],[3,53,4,53],[3,46,4,46],[3,43,4,43],[3,29,4,29],[3,30,4,30],[3,31,4,31],[3,32,4,32],[3,34,4,34],[3,35,4,35],[3,36,4,36],[3,37,4,37],[3,38,4,38],[3,39,4,39],[3,40,4,40],[3,42,4,42],[3,18,4,18],[3,19,4,19],[3,33,4,33],[3,21,4,21],[3,22,4,22],[3,23,4,23],[3,24,4,24],[3,25,4,25],[3,26,4,26],[3,27,4,27],[3,20,4,20],[3,13,4,13],[3,14,4,14],[3,16,4,16],[3,17,4,17],[3,7,4,7],[3,8,4,8],[3,9,4,9],[3,10,4,10],[3,11,4,11],[3,12,4,12],[3,1,4,1],[3,3,4,3],[3,4,4,4],[3,5,4,5],[3,6,4,6],[3,68,4,68],[3,69,4,69],[3,70,4,70],[3,71,4,71],[3,72,4,72],[3,78,4,78],[3,79,4,79],[3,73,4,73],[3,74,4,74],[3,75,4,75],[3,76,4,76],[3,77,4,77],[3,81,4,81],[3,82,4,82],[3,83,4,83],[3,84,4,84],[3,85,4,85],[3,91,4,91],[3,92,4,92],[3,86,4,86],[3,87,4,87],[3,88,4,88],[3,89,4,89],[3,90,4,90]]}
[]
[null,"Volume RTK | South"]
[]
[null,null,null,"2016-01-01","feb/17","2016-03-01","apr/16","may/16","2016-06-01","2016-07-01","aug/16","sep/16","oct/16","2016-11-01","dec/16",null,"2017-01-01","feb/17","2017-03-01","apr/17","may/17","2017-06-01","2017-07-01","aug/17","sep/17","oct/17","2017-11-01","dec/17",null,"2018-01-01","feb/18","2018-03-01","apr/18","may/18","2018-06-01","2018-07-01","aug/18","sep/18","oct/18","2018-11-01","dec/18",null,"jan/19","feb/19","mar/19","apr/19","may/19","jun/19","jul/19","aug/19","sep/19","oct/19","nov/19","dec/19",null,"2020-01-01","feb/20","2020-03-01","apr/20","may/20","2020-06-01","2020-07-01","aug/20","sep/20","oct/20","2020-11-01","dec/20",null,"2021-01-01","2021-02-01","2021-03-01","2021-04-01","2021-05-01","2021-06-01","2021-07-01","2021-08-01","2021-09-01","2021-10-01","2021-11-01","2021-12-01",null,"2022-01-01","2022-02-01","2022-03-01","2022-04-01","2022-05-01","2022-06-01","2022-07-01","2022-08-01","2022-09-01","2022-10-01","2022-11-01","2022-12-01"]
[]
[null,"Transported (Mln RTK)",null,{"$f":"SUM(D7,D17,D16)","v":782.60016200000007},915.598386,1103.3704600000001,1106.6454189999999,1150.9600420000002,1164.902116,1238.2712859999999,1294.864779,1156.337863,1003.7638699999999,889.10618699999998,863.95478300000013,null,{"$f":"SUM(Q7,Q17,Q16)","v":710.32095799999991},873.03154399999994,1153.4436229999999,1138.3564959999999,1287.1355859999999,1240.0834969999999,1437.122793,1483.1181610000001,1472.3020979999999,1352.178128,1204.3894679999999,1116.5795260000002,null,{"$f":"SUM(AD7,AD17,AD16)","v":937.2968689999999},1006.6652039999999,1255.4032629999999,1281.4163759999999,1283.593889,1382.6742319999998,1428.885863,1503.1768530000002,1418.441644,1410.5905850000001,1275.2254739999998,1142.3593210000001,null,{"$f":"SUM(AQ7,AQ17,AQ16)","v":993.60351900000012},1164.1877020000002,1273.561267,1106.518675,1152.49182,1288.020325,1511.2137110000001,1529.2182600000001,1404.5972160000001,1460.508034,1363.2119680000001,955.68922100000009,null,{"$f":"SUM(BD7,BD17,BD16)","v":753.377028},908.0058889999998,1055.6007779999998,1190.0261109999999,1413.1090680000002,1289.9323690000001,1406.912233,1444.6818210000001,1387.6867999999999,1354.4856599999998,1330.944526,995.69179999999983,null,{"$f":"SUM(BQ7,BQ17,BQ16)","v":677.51679000000001},{"$f":"SUM(BR7,BR17,BR16)","v":745.27946200000008},{"$f":"SUM(BS7,BS17,BS16)","v":1383.8420099999998},{"$f":"SUM(BT7,BT17,BT16)","v":1389.0768799999998},{"$f":"SUM(BU7,BU17,BU16)","v":1488.224393},{"$f":"SUM(BV7,BV17,BV16)","v":1359.0756319999998},{"$f":"SUM(BW7,BW17,BW16)","v":1400.007548},{"$f":"SUM(BX7,BX17,BX16)","v":1216.597491},{"$f":"SUM(BY7,BY17,BY16)","v":1243.8138819999999},{"$f":"SUM(BZ7,BZ17,BZ16)","v":1160.317489},{"$f":"SUM(CA7,CA17,CA16)","v":1073.3240870000002},{"$f":"SUM(CB7,CB17,CB16)","v":1077.362572},null,{"$f":"SUM(CD7,CD17,CD16)","v":876.18734600000005},961.66227200000003,1206.9748030000001,899.03294200000005,932.816326,0,0,0,0,0,0,0]
[null,"Agricultural Products",null,{"$f":"SUM(D8:D15)","v":503.51929700000005},599.40745700000002,757.88383500000009,768.94193299999995,797.65097500000002,784.89417800000001,827.54975999999988,885.23294999999996,763.33427400000005,611.39804099999992,529.84412999999995,540.63504900000009,null,{"$f":"SUM(Q8:Q15)","v":379.22543099999996},588.90690099999995,810.17045099999996,810.06147699999997,902.14555799999994,889.46473300000002,1028.7662420000001,1065.052893,1070.386794,933.46684500000003,842.57526500000006,750.7849010000001,null,{"$f":"SUM(AD8:AD15)","v":581.11927299999991},654.9688329999999,912.38328799999999,942.09656599999994,964.82890999999995,992.03707899999984,1037.3038469999999,1077.5354380000001,1003.0228960000001,988.10531000000003,884.58826199999999,754.68343900000002,null,{"$f":"SUM(AQ8:AQ15)","v":613.60075200000006},795.78018300000019,889.26942500000007,731.10819199999992,749.42967399999998,875.27900599999998,1076.428461,1060.1728310000001,960.69442400000003,1013.6439789999999,974.18247800000006,599.93145500000003,null,{"$f":"SUM(BD8:BD15)","v":384.06578600000006},586.7668789999999,806.20822099999987,910.34882099999993,1096.2557480000003,966.97698700000001,1032.4572990000001,1061.2051290000002,992.23446000000001,954.53296399999988,944.27825200000007,658.3325339999999,null,{"$f":"SUM(BQ8:BQ15)","v":300.33231700000005},{"$f":"SUM(BR8:BR15)","v":369.76899700000007},{"$f":"SUM(BS8:BS15)","v":978.859962},{"$f":"SUM(BT8:BT15)","v":997.71812},{"$f":"SUM(BU8:BU15)","v":1072.3842749999999},{"$f":"SUM(BV8:BV15)","v":977.80358699999988},{"$f":"SUM(BW8:BW15)","v":1018.8571029999999},{"$f":"SUM(BX8:BX15)","v":828.9166130000001},{"$f":"SUM(BY8:BY15)","v":891.15789700000005},{"$f":"SUM(BZ8:BZ15)","v":809.88737500000002},{"$f":"SUM(CA8:CA15)","v":734.91292800000008},{"$f":"SUM(CB8:CB15)","v":759.825514},null,{"$f":"SUM(CD8:CD15)","v":549.11668700000007},668.24647700000003,853.96244100000013,564.413948,557.06909199999996,0,0,0,0,0,0,0]
[null,"Soybean",null,49.397860999999999,462.26137799999998,618.98012700000004,583.17332599999997,505.29110200000002,434.02677999999997,316.793497,182.78065100000001,130.11925199999999,95.372065000000006,63.772399,55.277765000000002,null,114.451553,405.63507399999997,670.59992399999999,577.581097,546.26962800000001,545.82511399999999,462.89329099999998,326.992727,178.126689,208.222522,364.80664300000001,398.06726200000003,null,239.294534,495.49919699999998,801.33004500000004,760.51363400000002,677.22154999999998,670.03567599999997,706.86972900000001,665.30776800000001,592.26402900000005,673.22224300000005,512.44623799999999,255.257497,null,322.85541000000001,607.20865500000002,763.71666200000004,526.40494000000001,460.253782,404.06217700000002,327.07681600000001,304.12288799999999,312.177573,477.34268500000002,384.67891100000003,226.14988600000001,null,{"$f":"SUMIFS('RTK Base'!BE:BE,'RTK Base'!$A:$A,$B8,'RTK Base'!$B:$B,\"South\")/1000000","v":112.226422},{"$f":"SUMIFS('RTK Base'!BF:BF,'RTK Base'!$A:$A,$B8,'RTK Base'!$B:$B,\"South\")/1000000","v":386.54129599999999},{"$f":"SUMIFS('RTK Base'!BG:BG,'RTK Base'!$A:$A,$B8,'RTK Base'!$B:$B,\"South\")/1000000","v":637.83363399999996},{"$f":"SUMIFS('RTK Base'!BH:BH,'RTK Base'!$A:$A,$B8,'RTK Base'!$B:$B,\"South\")/1000000","v":715.25874399999998},{"$f":"SUMIFS('RTK Base'!BI:BI,'RTK Base'!$A:$A,$B8,'RTK Base'!$B:$B,\"South\")/1000000","v":739.46063600000002},{"$f":"SUMIFS('RTK Base'!BJ:BJ,'RTK Base'!$A:$A,$B8,'RTK Base'!$B:$B,\"South\")/1000000","v":661.173812},{"$f":"SUMIFS('RTK Base'!BK:BK,'RTK Base'!$A:$A,$B8,'RTK Base'!$B:$B,\"South\")/1000000","v":652.40006500000004},{"$f":"SUMIFS('RTK Base'!BL:BL,'RTK Base'!$A:$A,$B8,'RTK Base'!$B:$B,\"South\")/1000000","v":458.361087},{"$f":"SUMIFS('RTK Base'!BM:BM,'RTK Base'!$A:$A,$B8,'RTK Base'!$B:$B,\"South\")/1000000","v":249.67901800000001},{"$f":"SUMIFS('RTK Base'!BN:BN,'RTK Base'!$A:$A,$B8,'RTK Base'!$B:$B,\"South\")/1000000","v":149.427977},{"$f":"SUMIFS('RTK Base'!BO:BO,'RTK Base'!$A:$A,$B8,'RTK Base'!$B:$B,\"South\")/1000000","v":69.608677999999998},{"$f":"SUMIFS('RTK Base'!BP:BP,'RTK Base'!$A:$A,$B8,'RTK Base'!$B:$B,\"South\")/1000000","v":53.633718000000002},null,{"$f":"SUMIFS('RTK Base'!BR:BR,'RTK Base'!$A:$A,$B8,'RTK Base'!$B:$B,\"South\")/1000000","v":12.514155000000001},{"$f":"SUMIFS('RTK Base'!BS:BS,'RTK Base'!$A:$A,$B8,'RTK Base'!$B:$B,\"South\")/1000000","v":165.54876100000001},{"$f":"SUMIFS('RTK Base'!BT:BT,'RTK Base'!$A:$A,$B8,'RTK Base'!$B:$B,\"South\")/1000000","v":808.905349},{"$f":"SUMIFS('RTK Base'!BU:BU,'RTK Base'!$A:$A,$B8,'RTK Base'!$B:$B,\"South\")/1000000","v":787.45864800000004},{"$f":"SUMIFS('RTK Base'!BV:BV,'RTK Base'!$A:$A,$B8,'RTK Base'!$B:$B,\"South\")/1000000","v":699.25417800000002},{"$f":"SUMIFS('RTK Base'!BW:BW,'RTK Base'!$A:$A,$B8,'RTK Base'!$B:$B,\"South\")/1000000","v":494.18303600000002},{"$f":"SUMIFS('RTK Base'!BX:BX,'RTK Base'!$A:$A,$B8,'RTK Base'!$B:$B,\"South\")/1000000","v":665.28959999999995},{"$f":"SUMIFS('RTK Base'!BY:BY,'RTK Base'!$A:$A,$B8,'RTK Base'!$B:$B,\"South\")/1000000","v":430.87949300000002},{"$f":"SUMIFS('RTK Base'!BZ:BZ,'RTK Base'!$A:$A,$B8,'RTK Base'!$B:$B,\"South\")/1000000","v":398.66632299999998},{"$f":"SUMIFS('RTK Base'!CA:CA,'RTK Base'!$A:$A,$B8,'RTK Base'!$B:$B,\"South\")/1000000","v":360.46651900000001},{"$f":"SUMIFS('RTK Base'!CB:CB,'RTK Base'!$A:$A,$B8,'RTK Base'!$B:$B,\"South\")/1000000","v":300.186645},{"$f":"SUMIFS('RTK Base'!CC:CC,'RTK Base'!$A:$A,$B8,'RTK Base'!$B:$B,\"South\")/1000000","v":311.75387999999998},null,{"$f":"SUMIFS('RTK Base'!CE:CE,'RTK Base'!$A:$A,$B8,'RTK Base'!$B:$B,\"South\")/1000000","v":208.873177},{"$f":"SUMIFS('RTK Base'!CF:CF,'RTK Base'!$A:$A,$B8,'RTK Base'!$B:$B,\"South\")/1000000","v":400.83400899999998},{"$f":"SUMIFS('RTK Base'!CG:CG,'RTK Base'!$A:$A,$B8,'RTK Base'!$B:$B,\"South\")/1000000","v":607.43654400000003},{"$f":"SUMIFS('RTK Base'!CH:CH,'RTK Base'!$A:$A,$B8,'RTK Base'!$B:$B,\"South\")/1000000","v":270.45984399999998},{"$f":"SUMIFS('RTK Base'!CI:CI,'RTK Base'!$A:$A,$B8,'RTK Base'!$B:$B,\"South\")/1000000","v":166.71777599999999},{"$f":"SUMIFS('RTK Base'!CJ:CJ,'RTK Base'!$A:$A,$B8,'RTK Base'!$B:$B,\"South\")/1000000","v":0},{"$f":"SUMIFS('RTK Base'!CK:CK,'RTK Base'!$A:$A,$B8,'RTK Base'!$B:$B,\"South\")/1000000","v":0},{"$f":"SUMIFS('RTK Base'!CL:CL,'RTK Base'!$A:$A,$B8,'RTK Base'!$B:$B,\"South\")/1000000","v":0},{"$f":"SUMIFS('RTK Base'!CM:CM,'RTK Base'!$A:$A,$B8,'RTK Base'!$B:$B,\"South\")/1000000","v":0},{"$f":"SUMIFS('RTK Base'!CN:CN,'RTK Base'!$A:$A,$B8,'RTK Base'!$B:$B,\"South\")/1000000","v":0},{"$f":"SUMIFS('RTK Base'!CO:CO,'RTK Base'!$A:$A,$B8,'RTK Base'!$B:$B,\"South\")/1000000","v":0},{"$f":"SUMIFS('RTK Base'!CP:CP,'RTK Base'!$A:$A,$B8,'RTK Base'!$B:$B,\"South\")/1000000","v":0}]
[null,"Soybean meal",null,22.585139000000002,27.253985,38.939644999999999,42.599338000000003,37.227480999999997,42.020553999999997,35.790398000000003,29.212686000000001,33.941997999999998,41.330551999999997,45.895744999999998,28.935276000000002,null,25.726133000000001,23.371234000000001,33.055447000000001,36.291561000000002,34.637470999999998,30.14235,33.622655999999999,25.109131999999999,25.814254999999999,22.813295,26.348351000000001,27.644221999999999,null,34.667282,27.340375999999999,37.083432999999999,44.805669999999999,50.747230999999999,48.932203000000001,55.155977,45.404407999999997,40.653373000000002,34.549920999999998,53.257154999999997,56.125055000000003,null,37.872917999999999,36.030687,51.921365999999999,53.452486999999998,49.568280999999999,81.832305000000005,77.417069999999995,49.447999000000003,68.021609999999995,82.493910999999997,74.181278000000006,53.659860000000002,null,{"$f":"SUMIFS('RTK Base'!BE:BE,'RTK Base'!$A:$A,$B9,'RTK Base'!$B:$B,\"South\")/1000000","v":39.104826000000003},{"$f":"SUMIFS('RTK Base'!BF:BF,'RTK Base'!$A:$A,$B9,'RTK Base'!$B:$B,\"South\")/1000000","v":31.946691999999999},{"$f":"SUMIFS('RTK Base'!BG:BG,'RTK Base'!$A:$A,$B9,'RTK Base'!$B:$B,\"South\")/1000000","v":75.683285999999995},{"$f":"SUMIFS('RTK Base'!BH:BH,'RTK Base'!$A:$A,$B9,'RTK Base'!$B:$B,\"South\")/1000000","v":31.554860000000001},{"$f":"SUMIFS('RTK Base'!BI:BI,'RTK Base'!$A:$A,$B9,'RTK Base'!$B:$B,\"South\")/1000000","v":71.127644000000004},{"$f":"SUMIFS('RTK Base'!BJ:BJ,'RTK Base'!$A:$A,$B9,'RTK Base'!$B:$B,\"South\")/1000000","v":55.672431000000003},{"$f":"SUMIFS('RTK Base'!BK:BK,'RTK Base'!$A:$A,$B9,'RTK Base'!$B:$B,\"South\")/1000000","v":72.948113000000006},{"$f":"SUMIFS('RTK Base'!BL:BL,'RTK Base'!$A:$A,$B9,'RTK Base'!$B:$B,\"South\")/1000000","v":61.470131000000002},{"$f":"SUMIFS('RTK Base'!BM:BM,'RTK Base'!$A:$A,$B9,'RTK Base'!$B:$B,\"South\")/1000000","v":71.912588},{"$f":"SUMIFS('RTK Base'!BN:BN,'RTK Base'!$A:$A,$B9,'RTK Base'!$B:$B,\"South\")/1000000","v":61.147981999999999},{"$f":"SUMIFS('RTK Base'!BO:BO,'RTK Base'!$A:$A,$B9,'RTK Base'!$B:$B,\"South\")/1000000","v":44.395409000000001},{"$f":"SUMIFS('RTK Base'!BP:BP,'RTK Base'!$A:$A,$B9,'RTK Base'!$B:$B,\"South\")/1000000","v":26.847304999999999},null,{"$f":"SUMIFS('RTK Base'!BR:BR,'RTK Base'!$A:$A,$B9,'RTK Base'!$B:$B,\"South\")/1000000","v":24.034061999999999},{"$f":"SUMIFS('RTK Base'!BS:BS,'RTK Base'!$A:$A,$B9,'RTK Base'!$B:$B,\"South\")/1000000","v":17.803749},{"$f":"SUMIFS('RTK Base'!BT:BT,'RTK Base'!$A:$A,$B9,'RTK Base'!$B:$B,\"South\")/1000000","v":58.240445999999999},{"$f":"SUMIFS('RTK Base'!BU:BU,'RTK Base'!$A:$A,$B9,'RTK Base'!$B:$B,\"South\")/1000000","v":71.722391999999999},{"$f":"SUMIFS('RTK Base'!BV:BV,'RTK Base'!$A:$A,$B9,'RTK Base'!$B:$B,\"South\")/1000000","v":74.144558000000004},{"$f":"SUMIFS('RTK Base'!BW:BW,'RTK Base'!$A:$A,$B9,'RTK Base'!$B:$B,\"South\")/1000000","v":76.939860999999993},{"$f":"SUMIFS('RTK Base'!BX:BX,'RTK Base'!$A:$A,$B9,'RTK Base'!$B:$B,\"South\")/1000000","v":64.156571},{"$f":"SUMIFS('RTK Base'!BY:BY,'RTK Base'!$A:$A,$B9,'RTK Base'!$B:$B,\"South\")/1000000","v":76.500015000000005},{"$f":"SUMIFS('RTK Base'!BZ:BZ,'RTK Base'!$A:$A,$B9,'RTK Base'!$B:$B,\"South\")/1000000","v":81.550635},{"$f":"SUMIFS('RTK Base'!CA:CA,'RTK Base'!$A:$A,$B9,'RTK Base'!$B:$B,\"South\")/1000000","v":82.386433999999994},{"$f":"SUMIFS('RTK Base'!CB:CB,'RTK Base'!$A:$A,$B9,'RTK Base'!$B:$B,\"South\")/1000000","v":56.700791000000002},{"$f":"SUMIFS('RTK Base'!CC:CC,'RTK Base'!$A:$A,$B9,'RTK Base'!$B:$B,\"South\")/1000000","v":50.343420999999999},null,{"$f":"SUMIFS('RTK Base'!CE:CE,'RTK Base'!$A:$A,$B9,'RTK Base'!$B:$B,\"South\")/1000000","v":43.337871},{"$f":"SUMIFS('RTK Base'!CF:CF,'RTK Base'!$A:$A,$B9,'RTK Base'!$B:$B,\"South\")/1000000","v":42.161555},{"$f":"SUMIFS('RTK Base'!CG:CG,'RTK Base'!$A:$A,$B9,'RTK Base'!$B:$B,\"South\")/1000000","v":79.061310000000006},{"$f":"SUMIFS('RTK Base'!CH:CH,'RTK Base'!$A:$A,$B9,'RTK Base'!$B:$B,\"South\")/1000000","v":80.220907999999994},{"$f":"SUMIFS('RTK Base'!CI:CI,'RTK Base'!$A:$A,$B9,'RTK Base'!$B:$B,\"South\")/1000000","v":70.802290999999997},{"$f":"SUMIFS('RTK Base'!CJ:CJ,'RTK Base'!$A:$A,$B9,'RTK Base'!$B:$B,\"South\")/1000000","v":0},{"$f":"SUMIFS('RTK Base'!CK:CK,'RTK Base'!$A:$A,$B9,'RTK Base'!$B:$B,\"South\")/1000000","v":0},{"$f":"SUMIFS('RTK Base'!CL:CL,'RTK Base'!$A:$A,$B9,'RTK Base'!$B:$B,\"South\")/1000000","v":0},{"$f":"SUMIFS('RTK Base'!CM:CM,'RTK Base'!$A:$A,$B9,'RTK Base'!$B:$B,\"South\")/1000000","v":0},{"$f":"SUMIFS('RTK Base'!CN:CN,'RTK Base'!$A:$A,$B9,'RTK Base'!$B:$B,\"South\")/1000000","v":0},{"$f":"SUMIFS('RTK Base'!CO:CO,'RTK Base'!$A:$A,$B9,'RTK Base'!$B:$B,\"South\")/1000000","v":0},{"$f":"SUMIFS('RTK Base'!CP:CP,'RTK Base'!$A:$A,$B9,'RTK Base'!$B:$B,\"South\")/1000000","v":0}]
[null,"Corn",null,240.97580400000001,63.792639999999999,1.228532,0,0,0.30637399999999998,83.198401000000004,235.05851000000001,130.38484399999999,80.026790000000005,48.609551000000003,51.992756,null,18.163383,6.5696349999999999,0,0,3.9815999999999997E-2,12.185879999999999,179.77858699999999,357.78553399999998,502.67458199999999,358.04491899999999,120.665587,108.508093,null,159.79674900000001,13.408427,0,0,0.47321099999999999,0,3.127583,74.219267000000002,98.120824999999996,11.823905999999999,83.352142999999998,161.51487499999999,null,103.928662,74.140707000000006,15.008298,34.903503000000001,38.076256000000001,171.72449800000001,396.718051,482.97453999999999,359.590034,256.077696,256.59056399999997,155.925118,null,{"$f":"SUMIFS('RTK Base'!BE:BE,'RTK Base'!$A:$A,$B10,'RTK Base'!$B:$B,\"South\")/1000000","v":58.266331999999998},{"$f":"SUMIFS('RTK Base'!BF:BF,'RTK Base'!$A:$A,$B10,'RTK Base'!$B:$B,\"South\")/1000000","v":73.095562000000001},{"$f":"SUMIFS('RTK Base'!BG:BG,'RTK Base'!$A:$A,$B10,'RTK Base'!$B:$B,\"South\")/1000000","v":14.966994},{"$f":"SUMIFS('RTK Base'!BH:BH,'RTK Base'!$A:$A,$B10,'RTK Base'!$B:$B,\"South\")/1000000","v":0},{"$f":"SUMIFS('RTK Base'!BI:BI,'RTK Base'!$A:$A,$B10,'RTK Base'!$B:$B,\"South\")/1000000","v":3.0471000000000002E-2},{"$f":"SUMIFS('RTK Base'!BJ:BJ,'RTK Base'!$A:$A,$B10,'RTK Base'!$B:$B,\"South\")/1000000","v":0},{"$f":"SUMIFS('RTK Base'!BK:BK,'RTK Base'!$A:$A,$B10,'RTK Base'!$B:$B,\"South\")/1000000","v":51.366173000000003},{"$f":"SUMIFS('RTK Base'!BL:BL,'RTK Base'!$A:$A,$B10,'RTK Base'!$B:$B,\"South\")/1000000","v":265.05032799999998},{"$f":"SUMIFS('RTK Base'!BM:BM,'RTK Base'!$A:$A,$B10,'RTK Base'!$B:$B,\"South\")/1000000","v":313.65408200000002},{"$f":"SUMIFS('RTK Base'!BN:BN,'RTK Base'!$A:$A,$B10,'RTK Base'!$B:$B,\"South\")/1000000","v":371.58925199999999},{"$f":"SUMIFS('RTK Base'!BO:BO,'RTK Base'!$A:$A,$B10,'RTK Base'!$B:$B,\"South\")/1000000","v":406.77238},{"$f":"SUMIFS('RTK Base'!BP:BP,'RTK Base'!$A:$A,$B10,'RTK Base'!$B:$B,\"South\")/1000000","v":241.44393199999999},null,{"$f":"SUMIFS('RTK Base'!BR:BR,'RTK Base'!$A:$A,$B10,'RTK Base'!$B:$B,\"South\")/1000000","v":77.983242000000004},{"$f":"SUMIFS('RTK Base'!BS:BS,'RTK Base'!$A:$A,$B10,'RTK Base'!$B:$B,\"South\")/1000000","v":77.381084000000001},{"$f":"SUMIFS('RTK Base'!BT:BT,'RTK Base'!$A:$A,$B10,'RTK Base'!$B:$B,\"South\")/1000000","v":6.9764609999999996},{"$f":"SUMIFS('RTK Base'!BU:BU,'RTK Base'!$A:$A,$B10,'RTK Base'!$B:$B,\"South\")/1000000","v":0},{"$f":"SUMIFS('RTK Base'!BV:BV,'RTK Base'!$A:$A,$B10,'RTK Base'!$B:$B,\"South\")/1000000","v":0},{"$f":"SUMIFS('RTK Base'!BW:BW,'RTK Base'!$A:$A,$B10,'RTK Base'!$B:$B,\"South\")/1000000","v":0.206098},{"$f":"SUMIFS('RTK Base'!BX:BX,'RTK Base'!$A:$A,$B10,'RTK Base'!$B:$B,\"South\")/1000000","v":0},{"$f":"SUMIFS('RTK Base'!BY:BY,'RTK Base'!$A:$A,$B10,'RTK Base'!$B:$B,\"South\")/1000000","v":27.584924999999998},{"$f":"SUMIFS('RTK Base'!BZ:BZ,'RTK Base'!$A:$A,$B10,'RTK Base'!$B:$B,\"South\")/1000000","v":16.786197000000001},{"$f":"SUMIFS('RTK Base'!CA:CA,'RTK Base'!$A:$A,$B10,'RTK Base'!$B:$B,\"South\")/1000000","v":25.517578},{"$f":"SUMIFS('RTK Base'!CB:CB,'RTK Base'!$A:$A,$B10,'RTK Base'!$B:$B,\"South\")/1000000","v":36.827679000000003},{"$f":"SUMIFS('RTK Base'!CC:CC,'RTK Base'!$A:$A,$B10,'RTK Base'!$B:$B,\"South\")/1000000","v":121.025514},null,{"$f":"SUMIFS('RTK Base'!CE:CE,'RTK Base'!$A:$A,$B10,'RTK Base'!$B:$B,\"South\")/1000000","v":61.161329000000002},{"$f":"SUMIFS('RTK Base'!CF:CF,'RTK Base'!$A:$A,$B10,'RTK Base'!$B:$B,\"South\")/1000000","v":8.2399999999999997E-4},{"$f":"SUMIFS('RTK Base'!CG:CG,'RTK Base'!$A:$A,$B10,'RTK Base'!$B:$B,\"South\")/1000000","v":46.083472999999998},{"$f":"SUMIFS('RTK Base'!CH:CH,'RTK Base'!$A:$A,$B10,'RTK Base'!$B:$B,\"South\")/1000000","v":108.03994400000001},{"$f":"SUMIFS('RTK Base'!CI:CI,'RTK Base'!$A:$A,$B10,'RTK Base'!$B:$B,\"South\")/1000000","v":33.924596999999999},{"$f":"SUMIFS('RTK Base'!CJ:CJ,'RTK Base'!$A:$A,$B10,'RTK Base'!$B:$B,\"South\")/1000000","v":0},{"$f":"SUMIFS('RTK Base'!CK:CK,'RTK Base'!$A:$A,$B10,'RTK Base'!$B:$B,\"South\")/1000000","v":0},{"$f":"SUMIFS('RTK Base'!CL:CL,'RTK Base'!$A:$A,$B10,'RTK Base'!$B:$B,\"South\")/1000000","v":0},{"$f":"SUMIFS('RTK Base'!CM:CM,'RTK Base'!$A:$A,$B10,'RTK Base'!$B:$B,\"South\")/1000000","v":0},{"$f":"SUMIFS('RTK Base'!CN:CN,'RTK Base'!$A:$A,$B10,'RTK Base'!$B:$B,\"South\")/1000000","v":0},{"$f":"SUMIFS('RTK Base'!CO:CO,'RTK Base'!$A:$A,$B10,'RTK Base'!$B:$B,\"South\")/1000000","v":0},{"$f":"SUMIFS('RTK Base'!CP:CP,'RTK Base'!$A:$A,$B10,'RTK Base'!$B:$B,\"South\")/1000000","v":0}]
[null,"Sugar",null,120.293853,26.733606999999999,75.820767000000004,120.67237799999999,193.20942299999999,229.121332,300.25228299999998,343.14651099999998,345.067545,295.015152,258.54672199999999,311.277447,null,104.562251,49.086455000000001,62.909754999999997,126.234077,251.54755499999999,252.21729099999999,301.191756,299.77697999999998,303.58862699999997,273.692384,262.142833,147.802313,null,60.676673999999998,64.822327999999999,39.060699999999997,90.592957999999996,189.419363,210.49232599999999,207.16386900000001,222.34894800000001,207.264568,212.209473,121.847746,162.426503,null,31.659285000000001,31.551186000000001,28.254327,85.080896999999993,138.41459800000001,156.14815999999999,210.09194500000001,163.188221,146.524869,142.17371499999999,196.39126300000001,85.422180999999995,null,{"$f":"SUMIFS('RTK Base'!BE:BE,'RTK Base'!$A:$A,$B11,'RTK Base'!$B:$B,\"South\")/1000000","v":86.209055000000006},{"$f":"SUMIFS('RTK Base'!BF:BF,'RTK Base'!$A:$A,$B11,'RTK Base'!$B:$B,\"South\")/1000000","v":45.179594000000002},{"$f":"SUMIFS('RTK Base'!BG:BG,'RTK Base'!$A:$A,$B11,'RTK Base'!$B:$B,\"South\")/1000000","v":59.996580000000002},{"$f":"SUMIFS('RTK Base'!BH:BH,'RTK Base'!$A:$A,$B11,'RTK Base'!$B:$B,\"South\")/1000000","v":119.210742},{"$f":"SUMIFS('RTK Base'!BI:BI,'RTK Base'!$A:$A,$B11,'RTK Base'!$B:$B,\"South\")/1000000","v":236.809853},{"$f":"SUMIFS('RTK Base'!BJ:BJ,'RTK Base'!$A:$A,$B11,'RTK Base'!$B:$B,\"South\")/1000000","v":207.65686400000001},{"$f":"SUMIFS('RTK Base'!BK:BK,'RTK Base'!$A:$A,$B11,'RTK Base'!$B:$B,\"South\")/1000000","v":206.82831999999999},{"$f":"SUMIFS('RTK Base'!BL:BL,'RTK Base'!$A:$A,$B11,'RTK Base'!$B:$B,\"South\")/1000000","v":232.22149400000001},{"$f":"SUMIFS('RTK Base'!BM:BM,'RTK Base'!$A:$A,$B11,'RTK Base'!$B:$B,\"South\")/1000000","v":312.17192499999999},{"$f":"SUMIFS('RTK Base'!BN:BN,'RTK Base'!$A:$A,$B11,'RTK Base'!$B:$B,\"South\")/1000000","v":307.48569800000001},{"$f":"SUMIFS('RTK Base'!BO:BO,'RTK Base'!$A:$A,$B11,'RTK Base'!$B:$B,\"South\")/1000000","v":290.29864500000002},{"$f":"SUMIFS('RTK Base'!BP:BP,'RTK Base'!$A:$A,$B11,'RTK Base'!$B:$B,\"South\")/1000000","v":227.838404},null,{"$f":"SUMIFS('RTK Base'!BR:BR,'RTK Base'!$A:$A,$B11,'RTK Base'!$B:$B,\"South\")/1000000","v":124.338126},{"$f":"SUMIFS('RTK Base'!BS:BS,'RTK Base'!$A:$A,$B11,'RTK Base'!$B:$B,\"South\")/1000000","v":65.841560000000001},{"$f":"SUMIFS('RTK Base'!BT:BT,'RTK Base'!$A:$A,$B11,'RTK Base'!$B:$B,\"South\")/1000000","v":98.681635999999997},{"$f":"SUMIFS('RTK Base'!BU:BU,'RTK Base'!$A:$A,$B11,'RTK Base'!$B:$B,\"South\")/1000000","v":115.14361100000001},{"$f":"SUMIFS('RTK Base'!BV:BV,'RTK Base'!$A:$A,$B11,'RTK Base'!$B:$B,\"South\")/1000000","v":259.41194300000001},{"$f":"SUMIFS('RTK Base'!BW:BW,'RTK Base'!$A:$A,$B11,'RTK Base'!$B:$B,\"South\")/1000000","v":350.26707599999997},{"$f":"SUMIFS('RTK Base'!BX:BX,'RTK Base'!$A:$A,$B11,'RTK Base'!$B:$B,\"South\")/1000000","v":227.93514400000001},{"$f":"SUMIFS('RTK Base'!BY:BY,'RTK Base'!$A:$A,$B11,'RTK Base'!$B:$B,\"South\")/1000000","v":206.643225},{"$f":"SUMIFS('RTK Base'!BZ:BZ,'RTK Base'!$A:$A,$B11,'RTK Base'!$B:$B,\"South\")/1000000","v":324.43139600000001},{"$f":"SUMIFS('RTK Base'!CA:CA,'RTK Base'!$A:$A,$B11,'RTK Base'!$B:$B,\"South\")/1000000","v":278.00103100000001},{"$f":"SUMIFS('RTK Base'!CB:CB,'RTK Base'!$A:$A,$B11,'RTK Base'!$B:$B,\"South\")/1000000","v":216.08413899999999},{"$f":"SUMIFS('RTK Base'!CC:CC,'RTK Base'!$A:$A,$B11,'RTK Base'!$B:$B,\"South\")/1000000","v":133.89718300000001},null,{"$f":"SUMIFS('RTK Base'!CE:CE,'RTK Base'!$A:$A,$B11,'RTK Base'!$B:$B,\"South\")/1000000","v":89.617210999999998},{"$f":"SUMIFS('RTK Base'!CF:CF,'RTK Base'!$A:$A,$B11,'RTK Base'!$B:$B,\"South\")/1000000","v":43.413499999999999},{"$f":"SUMIFS('RTK Base'!CG:CG,'RTK Base'!$A:$A,$B11,'RTK Base'!$B:$B,\"South\")/1000000","v":39.997897000000002},{"$f":"SUMIFS('RTK Base'!CH:CH,'RTK Base'!$A:$A,$B11,'RTK Base'!$B:$B,\"South\")/1000000","v":69.821129999999997},{"$f":"SUMIFS('RTK Base'!CI:CI,'RTK Base'!$A:$A,$B11,'RTK Base'!$B:$B,\"South\")/1000000","v":235.74877599999999},{"$f":"SUMIFS('RTK Base'!CJ:CJ,'RTK Base'!$A:$A,$B11,'RTK Base'!$B:$B,\"South\")/1000000","v":0},{"$f":"SUMIFS('RTK Base'!CK:CK,'RTK Base'!$A:$A,$B11,'RTK Base'!$B:$B,\"South\")/1000000","v":0},{"$f":"SUMIFS('RTK Base'!CL:CL,'RTK Base'!$A:$A,$B11,'RTK Base'!$B:$B,\"South\")/1000000","v":0},{"$f":"SUMIFS('RTK Base'!CM:CM,'RTK Base'!$A:$A,$B11,'RTK Base'!$B:$B,\"South\")/1000000","v":0},{"$f":"SUMIFS('RTK Base'!CN:CN,'RTK Base'!$A:$A,$B11,'RTK Base'!$B:$B,\"South\")/1000000","v":0},{"$f":"SUMIFS('RTK Base'!CO:CO,'RTK Base'!$A:$A,$B11,'RTK Base'!$B:$B,\"South\")/1000000","v":0},{"$f":"SUMIFS('RTK Base'!CP:CP,'RTK Base'!$A:$A,$B11,'RTK Base'!$B:$B,\"South\")/1000000","v":0}]
[null,"Fertilizers",null,28.277885999999999,17.986273000000001,20.430346,22.496891000000002,61.922969000000002,79.419138000000004,91.515180999999998,95.034592000000004,123.820635,98.535258999999996,98.943488000000002,76.556442000000004,null,67.081149999999994,37.347427000000003,30.187373999999998,69.954741999999996,69.651088000000001,49.094098000000002,51.279952000000002,55.38852,60.182640999999997,70.693725000000001,63.823445999999997,58.969529999999999,null,67.919033999999996,48.889296000000002,34.909109999999998,46.184303999999997,46.967554999999997,62.576873999999997,64.986688999999998,70.255047000000005,64.720101,56.299767000000003,77.220560000000006,63.024478999999999,null,86.707382999999993,43.116118,30.368772,31.266365,63.116757,61.511865999999998,65.124578999999997,60.439183,74.380337999999995,55.555971999999997,56.552371999999998,43.153779,null,{"$f":"SUMIFS('RTK Base'!BE:BE,'RTK Base'!$A:$A,$B12,'RTK Base'!$B:$B,\"South\")/1000000","v":64.598428999999996},{"$f":"SUMIFS('RTK Base'!BF:BF,'RTK Base'!$A:$A,$B12,'RTK Base'!$B:$B,\"South\")/1000000","v":48.203578999999998},{"$f":"SUMIFS('RTK Base'!BG:BG,'RTK Base'!$A:$A,$B12,'RTK Base'!$B:$B,\"South\")/1000000","v":17.727727000000002},{"$f":"SUMIFS('RTK Base'!BH:BH,'RTK Base'!$A:$A,$B12,'RTK Base'!$B:$B,\"South\")/1000000","v":44.324475},{"$f":"SUMIFS('RTK Base'!BI:BI,'RTK Base'!$A:$A,$B12,'RTK Base'!$B:$B,\"South\")/1000000","v":48.827143999999997},{"$f":"SUMIFS('RTK Base'!BJ:BJ,'RTK Base'!$A:$A,$B12,'RTK Base'!$B:$B,\"South\")/1000000","v":42.473880000000001},{"$f":"SUMIFS('RTK Base'!BK:BK,'RTK Base'!$A:$A,$B12,'RTK Base'!$B:$B,\"South\")/1000000","v":48.914628},{"$f":"SUMIFS('RTK Base'!BL:BL,'RTK Base'!$A:$A,$B12,'RTK Base'!$B:$B,\"South\")/1000000","v":44.102088999999999},{"$f":"SUMIFS('RTK Base'!BM:BM,'RTK Base'!$A:$A,$B12,'RTK Base'!$B:$B,\"South\")/1000000","v":44.816847000000003},{"$f":"SUMIFS('RTK Base'!BN:BN,'RTK Base'!$A:$A,$B12,'RTK Base'!$B:$B,\"South\")/1000000","v":52.420681999999999},{"$f":"SUMIFS('RTK Base'!BO:BO,'RTK Base'!$A:$A,$B12,'RTK Base'!$B:$B,\"South\")/1000000","v":57.102867000000003},{"$f":"SUMIFS('RTK Base'!BP:BP,'RTK Base'!$A:$A,$B12,'RTK Base'!$B:$B,\"South\")/1000000","v":42.398555000000002},null,{"$f":"SUMIFS('RTK Base'!BR:BR,'RTK Base'!$A:$A,$B12,'RTK Base'!$B:$B,\"South\")/1000000","v":57.805560999999997},{"$f":"SUMIFS('RTK Base'!BS:BS,'RTK Base'!$A:$A,$B12,'RTK Base'!$B:$B,\"South\")/1000000","v":43.193843000000001},{"$f":"SUMIFS('RTK Base'!BT:BT,'RTK Base'!$A:$A,$B12,'RTK Base'!$B:$B,\"South\")/1000000","v":6.0560700000000001},{"$f":"SUMIFS('RTK Base'!BU:BU,'RTK Base'!$A:$A,$B12,'RTK Base'!$B:$B,\"South\")/1000000","v":23.393469},{"$f":"SUMIFS('RTK Base'!BV:BV,'RTK Base'!$A:$A,$B12,'RTK Base'!$B:$B,\"South\")/1000000","v":39.573596000000002},{"$f":"SUMIFS('RTK Base'!BW:BW,'RTK Base'!$A:$A,$B12,'RTK Base'!$B:$B,\"South\")/1000000","v":56.207515999999998},{"$f":"SUMIFS('RTK Base'!BX:BX,'RTK Base'!$A:$A,$B12,'RTK Base'!$B:$B,\"South\")/1000000","v":61.475788000000001},{"$f":"SUMIFS('RTK Base'!BY:BY,'RTK Base'!$A:$A,$B12,'RTK Base'!$B:$B,\"South\")/1000000","v":87.308954999999997},{"$f":"SUMIFS('RTK Base'!BZ:BZ,'RTK Base'!$A:$A,$B12,'RTK Base'!$B:$B,\"South\")/1000000","v":69.723346000000006},{"$f":"SUMIFS('RTK Base'!CA:CA,'RTK Base'!$A:$A,$B12,'RTK Base'!$B:$B,\"South\")/1000000","v":62.420209},{"$f":"SUMIFS('RTK Base'!CB:CB,'RTK Base'!$A:$A,$B12,'RTK Base'!$B:$B,\"South\")/1000000","v":51.259219000000002},{"$f":"SUMIFS('RTK Base'!CC:CC,'RTK Base'!$A:$A,$B12,'RTK Base'!$B:$B,\"South\")/1000000","v":39.791348999999997},null,{"$f":"SUMIFS('RTK Base'!CE:CE,'RTK Base'!$A:$A,$B12,'RTK Base'!$B:$B,\"South\")/1000000","v":48.106422000000002},{"$f":"SUMIFS('RTK Base'!CF:CF,'RTK Base'!$A:$A,$B12,'RTK Base'!$B:$B,\"South\")/1000000","v":59.060834999999997},{"$f":"SUMIFS('RTK Base'!CG:CG,'RTK Base'!$A:$A,$B12,'RTK Base'!$B:$B,\"South\")/1000000","v":35.789254},{"$f":"SUMIFS('RTK Base'!CH:CH,'RTK Base'!$A:$A,$B12,'RTK Base'!$B:$B,\"South\")/1000000","v":29.916378999999999},{"$f":"SUMIFS('RTK Base'!CI:CI,'RTK Base'!$A:$A,$B12,'RTK Base'!$B:$B,\"South\")/1000000","v":48.948957999999998},{"$f":"SUMIFS('RTK Base'!CJ:CJ,'RTK Base'!$A:$A,$B12,'RTK Base'!$B:$B,\"South\")/1000000","v":0},{"$f":"SUMIFS('RTK Base'!CK:CK,'RTK Base'!$A:$A,$B12,'RTK Base'!$B:$B,\"South\")/1000000","v":0},{"$f":"SUMIFS('RTK Base'!CL:CL,'RTK Base'!$A:$A,$B12,'RTK Base'!$B:$B,\"South\")/1000000","v":0},{"$f":"SUMIFS('RTK Base'!CM:CM,'RTK Base'!$A:$A,$B12,'RTK Base'!$B:$B,\"South\")/1000000","v":0},{"$f":"SUMIFS('RTK Base'!CN:CN,'RTK Base'!$A:$A,$B12,'RTK Base'!$B:$B,\"South\")/1000000","v":0},{"$f":"SUMIFS('RTK Base'!CO:CO,'RTK Base'!$A:$A,$B12,'RTK Base'!$B:$B,\"South\")/1000000","v":0},{"$f":"SUMIFS('RTK Base'!CP:CP,'RTK Base'!$A:$A,$B12,'RTK Base'!$B:$B,\"South\")/1000000","v":0}]
[null,"Wheat",null,41.988754,1.3795740000000001,2.4844179999999998,0,0,0,0,0,0,0,14.076225000000001,16.595362999999999,null,49.240960999999999,66.897075999999998,13.417951,0,0,0,0,0,0,0,4.788405,9.7934809999999999,null,18.765000000000001,5.0092090000000002,0,0,0,0,0,0,0,0,36.464419999999997,56.335030000000003,null,30.577093999999999,3.7328299999999999,0,0,0,0,0,0,0,0,5.7880900000000004,35.620631000000003,null,{"$f":"SUMIFS('RTK Base'!BE:BE,'RTK Base'!$A:$A,$B13,'RTK Base'!$B:$B,\"South\")/1000000","v":23.660722},{"$f":"SUMIFS('RTK Base'!BF:BF,'RTK Base'!$A:$A,$B13,'RTK Base'!$B:$B,\"South\")/1000000","v":1.8001560000000001},{"$f":"SUMIFS('RTK Base'!BG:BG,'RTK Base'!$A:$A,$B13,'RTK Base'!$B:$B,\"South\")/1000000","v":0},{"$f":"SUMIFS('RTK Base'!BH:BH,'RTK Base'!$A:$A,$B13,'RTK Base'!$B:$B,\"South\")/1000000","v":0},{"$f":"SUMIFS('RTK Base'!BI:BI,'RTK Base'!$A:$A,$B13,'RTK Base'!$B:$B,\"South\")/1000000","v":0},{"$f":"SUMIFS('RTK Base'!BJ:BJ,'RTK Base'!$A:$A,$B13,'RTK Base'!$B:$B,\"South\")/1000000","v":0},{"$f":"SUMIFS('RTK Base'!BK:BK,'RTK Base'!$A:$A,$B13,'RTK Base'!$B:$B,\"South\")/1000000","v":0},{"$f":"SUMIFS('RTK Base'!BL:BL,'RTK Base'!$A:$A,$B13,'RTK Base'!$B:$B,\"South\")/1000000","v":0},{"$f":"SUMIFS('RTK Base'!BM:BM,'RTK Base'!$A:$A,$B13,'RTK Base'!$B:$B,\"South\")/1000000","v":0},{"$f":"SUMIFS('RTK Base'!BN:BN,'RTK Base'!$A:$A,$B13,'RTK Base'!$B:$B,\"South\")/1000000","v":12.461373},{"$f":"SUMIFS('RTK Base'!BO:BO,'RTK Base'!$A:$A,$B13,'RTK Base'!$B:$B,\"South\")/1000000","v":76.100273000000001},{"$f":"SUMIFS('RTK Base'!BP:BP,'RTK Base'!$A:$A,$B13,'RTK Base'!$B:$B,\"South\")/1000000","v":66.17062},null,{"$f":"SUMIFS('RTK Base'!BR:BR,'RTK Base'!$A:$A,$B13,'RTK Base'!$B:$B,\"South\")/1000000","v":3.6571709999999999},{"$f":"SUMIFS('RTK Base'!BS:BS,'RTK Base'!$A:$A,$B13,'RTK Base'!$B:$B,\"South\")/1000000","v":0},{"$f":"SUMIFS('RTK Base'!BT:BT,'RTK Base'!$A:$A,$B13,'RTK Base'!$B:$B,\"South\")/1000000","v":0},{"$f":"SUMIFS('RTK Base'!BU:BU,'RTK Base'!$A:$A,$B13,'RTK Base'!$B:$B,\"South\")/1000000","v":0},{"$f":"SUMIFS('RTK Base'!BV:BV,'RTK Base'!$A:$A,$B13,'RTK Base'!$B:$B,\"South\")/1000000","v":0},{"$f":"SUMIFS('RTK Base'!BW:BW,'RTK Base'!$A:$A,$B13,'RTK Base'!$B:$B,\"South\")/1000000","v":0},{"$f":"SUMIFS('RTK Base'!BX:BX,'RTK Base'!$A:$A,$B13,'RTK Base'!$B:$B,\"South\")/1000000","v":0},{"$f":"SUMIFS('RTK Base'!BY:BY,'RTK Base'!$A:$A,$B13,'RTK Base'!$B:$B,\"South\")/1000000","v":0},{"$f":"SUMIFS('RTK Base'!BZ:BZ,'RTK Base'!$A:$A,$B13,'RTK Base'!$B:$B,\"South\")/1000000","v":0},{"$f":"SUMIFS('RTK Base'!CA:CA,'RTK Base'!$A:$A,$B13,'RTK Base'!$B:$B,\"South\")/1000000","v":1.095604},{"$f":"SUMIFS('RTK Base'!CB:CB,'RTK Base'!$A:$A,$B13,'RTK Base'!$B:$B,\"South\")/1000000","v":73.854455000000002},{"$f":"SUMIFS('RTK Base'!CC:CC,'RTK Base'!$A:$A,$B13,'RTK Base'!$B:$B,\"South\")/1000000","v":103.014167},null,{"$f":"SUMIFS('RTK Base'!CE:CE,'RTK Base'!$A:$A,$B13,'RTK Base'!$B:$B,\"South\")/1000000","v":98.020677000000006},{"$f":"SUMIFS('RTK Base'!CF:CF,'RTK Base'!$A:$A,$B13,'RTK Base'!$B:$B,\"South\")/1000000","v":122.77575400000001},{"$f":"SUMIFS('RTK Base'!CG:CG,'RTK Base'!$A:$A,$B13,'RTK Base'!$B:$B,\"South\")/1000000","v":45.593963000000002},{"$f":"SUMIFS('RTK Base'!CH:CH,'RTK Base'!$A:$A,$B13,'RTK Base'!$B:$B,\"South\")/1000000","v":5.955743},{"$f":"SUMIFS('RTK Base'!CI:CI,'RTK Base'!$A:$A,$B13,'RTK Base'!$B:$B,\"South\")/1000000","v":0.92669400000000002},{"$f":"SUMIFS('RTK Base'!CJ:CJ,'RTK Base'!$A:$A,$B13,'RTK Base'!$B:$B,\"South\")/1000000","v":0},{"$f":"SUMIFS('RTK Base'!CK:CK,'RTK Base'!$A:$A,$B13,'RTK Base'!$B:$B,\"South\")/1000000","v":0},{"$f":"SUMIFS('RTK Base'!CL:CL,'RTK Base'!$A:$A,$B13,'RTK Base'!$B:$B,\"South\")/1000000","v":0},{"$f":"SUMIFS('RTK Base'!CM:CM,'RTK Base'!$A:$A,$B13,'RTK Base'!$B:$B,\"South\")/1000000","v":0},{"$f":"SUMIFS('RTK Base'!CN:CN,'RTK Base'!$A:$A,$B13,'RTK Base'!$B:$B,\"South\")/1000000","v":0},{"$f":"SUMIFS('RTK Base'!CO:CO,'RTK Base'!$A:$A,$B13,'RTK Base'!$B:$B,\"South\")/1000000","v":0},{"$f":"SUMIFS('RTK Base'!CP:CP,'RTK Base'!$A:$A,$B13,'RTK Base'!$B:$B,\"South\")/1000000","v":0}]
[null,"Malt",null,0,0,0,0,0,0,0,0,0,1.118223,0,0,null,0,0,0,0,0,0,0,0,0,0,0,0,null,0,0,0,0,0,0,0,0,0,0,0,0,null,0,0,0,0,0,0,0,0,0,0,0,0,null,{"$f":"SUMIFS('RTK Base'!BE:BE,'RTK Base'!$A:$A,$B14,'RTK Base'!$B:$B,\"South\")/1000000","v":0},{"$f":"SUMIFS('RTK Base'!BF:BF,'RTK Base'!$A:$A,$B14,'RTK Base'!$B:$B,\"South\")/1000000","v":0},{"$f":"SUMIFS('RTK Base'!BG:BG,'RTK Base'!$A:$A,$B14,'RTK Base'!$B:$B,\"South\")/1000000","v":0},{"$f":"SUMIFS('RTK Base'!BH:BH,'RTK Base'!$A:$A,$B14,'RTK Base'!$B:$B,\"South\")/1000000","v":0},{"$f":"SUMIFS('RTK Base'!BI:BI,'RTK Base'!$A:$A,$B14,'RTK Base'!$B:$B,\"South\")/1000000","v":0},{"$f":"SUMIFS('RTK Base'!BJ:BJ,'RTK Base'!$A:$A,$B14,'RTK Base'!$B:$B,\"South\")/1000000","v":0},{"$f":"SUMIFS('RTK Base'!BK:BK,'RTK Base'!$A:$A,$B14,'RTK Base'!$B:$B,\"South\")/1000000","v":0},{"$f":"SUMIFS('RTK Base'!BL:BL,'RTK Base'!$A:$A,$B14,'RTK Base'!$B:$B,\"South\")/1000000","v":0},{"$f":"SUMIFS('RTK Base'!BM:BM,'RTK Base'!$A:$A,$B14,'RTK Base'!$B:$B,\"South\")/1000000","v":0},{"$f":"SUMIFS('RTK Base'!BN:BN,'RTK Base'!$A:$A,$B14,'RTK Base'!$B:$B,\"South\")/1000000","v":0},{"$f":"SUMIFS('RTK Base'!BO:BO,'RTK Base'!$A:$A,$B14,'RTK Base'!$B:$B,\"South\")/1000000","v":0},{"$f":"SUMIFS('RTK Base'!BP:BP,'RTK Base'!$A:$A,$B14,'RTK Base'!$B:$B,\"South\")/1000000","v":0},null,{"$f":"SUMIFS('RTK Base'!BR:BR,'RTK Base'!$A:$A,$B14,'RTK Base'!$B:$B,\"South\")/1000000","v":0},{"$f":"SUMIFS('RTK Base'!BS:BS,'RTK Base'!$A:$A,$B14,'RTK Base'!$B:$B,\"South\")/1000000","v":0},{"$f":"SUMIFS('RTK Base'!BT:BT,'RTK Base'!$A:$A,$B14,'RTK Base'!$B:$B,\"South\")/1000000","v":0},{"$f":"SUMIFS('RTK Base'!BU:BU,'RTK Base'!$A:$A,$B14,'RTK Base'!$B:$B,\"South\")/1000000","v":0},{"$f":"SUMIFS('RTK Base'!BV:BV,'RTK Base'!$A:$A,$B14,'RTK Base'!$B:$B,\"South\")/1000000","v":0},{"$f":"SUMIFS('RTK Base'!BW:BW,'RTK Base'!$A:$A,$B14,'RTK Base'!$B:$B,\"South\")/1000000","v":0},{"$f":"SUMIFS('RTK Base'!BX:BX,'RTK Base'!$A:$A,$B14,'RTK Base'!$B:$B,\"South\")/1000000","v":0},{"$f":"SUMIFS('RTK Base'!BY:BY,'RTK Base'!$A:$A,$B14,'RTK Base'!$B:$B,\"South\")/1000000","v":0},{"$f":"SUMIFS('RTK Base'!BZ:BZ,'RTK Base'!$A:$A,$B14,'RTK Base'!$B:$B,\"South\")/1000000","v":0},{"$f":"SUMIFS('RTK Base'!CA:CA,'RTK Base'!$A:$A,$B14,'RTK Base'!$B:$B,\"South\")/1000000","v":0},{"$f":"SUMIFS('RTK Base'!CB:CB,'RTK Base'!$A:$A,$B14,'RTK Base'!$B:$B,\"South\")/1000000","v":0},{"$f":"SUMIFS('RTK Base'!CC:CC,'RTK Base'!$A:$A,$B14,'RTK Base'!$B:$B,\"South\")/1000000","v":0},null,{"$f":"SUMIFS('RTK Base'!CE:CE,'RTK Base'!$A:$A,$B14,'RTK Base'!$B:$B,\"South\")/1000000","v":0},{"$f":"SUMIFS('RTK Base'!CF:CF,'RTK Base'!$A:$A,$B14,'RTK Base'!$B:$B,\"South\")/1000000","v":0},{"$f":"SUMIFS('RTK Base'!CG:CG,'RTK Base'!$A:$A,$B14,'RTK Base'!$B:$B,\"South\")/1000000","v":0},{"$f":"SUMIFS('RTK Base'!CH:CH,'RTK Base'!$A:$A,$B14,'RTK Base'!$B:$B,\"South\")/1000000","v":0},{"$f":"SUMIFS('RTK Base'!CI:CI,'RTK Base'!$A:$A,$B14,'RTK Base'!$B:$B,\"South\")/1000000","v":0},{"$f":"SUMIFS('RTK Base'!CJ:CJ,'RTK Base'!$A:$A,$B14,'RTK Base'!$B:$B,\"South\")/1000000","v":0},{"$f":"SUMIFS('RTK Base'!CK:CK,'RTK Base'!$A:$A,$B14,'RTK Base'!$B:$B,\"South\")/1000000","v":0},{"$f":"SUMIFS('RTK Base'!CL:CL,'RTK Base'!$A:$A,$B14,'RTK Base'!$B:$B,\"South\")/1000000","v":0},{"$f":"SUMIFS('RTK Base'!CM:CM,'RTK Base'!$A:$A,$B14,'RTK Base'!$B:$B,\"South\")/1000000","v":0},{"$f":"SUMIFS('RTK Base'!CN:CN,'RTK Base'!$A:$A,$B14,'RTK Base'!$B:$B,\"South\")/1000000","v":0},{"$f":"SUMIFS('RTK Base'!CO:CO,'RTK Base'!$A:$A,$B14,'RTK Base'!$B:$B,\"South\")/1000000","v":0},{"$f":"SUMIFS('RTK Base'!CP:CP,'RTK Base'!$A:$A,$B14,'RTK Base'!$B:$B,\"South\")/1000000","v":0}]
[null,"Corn meal",null,0,0,0,0,0,0,0,0,0,0,0,0,null,0,0,0,0,0,0,0,0,0,0,0,0,null,0,0,0,0,0,0,0,0,0,0,0,0,null,0,0,0,0,0,0,0,0,0,0,0,0,null,{"$f":"SUMIFS('RTK Base'!BE:BE,'RTK Base'!$A:$A,$B15,'RTK Base'!$B:$B,\"South\")/1000000","v":0},{"$f":"SUMIFS('RTK Base'!BF:BF,'RTK Base'!$A:$A,$B15,'RTK Base'!$B:$B,\"South\")/1000000","v":0},{"$f":"SUMIFS('RTK Base'!BG:BG,'RTK Base'!$A:$A,$B15,'RTK Base'!$B:$B,\"South\")/1000000","v":0},{"$f":"SUMIFS('RTK Base'!BH:BH,'RTK Base'!$A:$A,$B15,'RTK Base'!$B:$B,\"South\")/1000000","v":0},{"$f":"SUMIFS('RTK Base'!BI:BI,'RTK Base'!$A:$A,$B15,'RTK Base'!$B:$B,\"South\")/1000000","v":0},{"$f":"SUMIFS('RTK Base'!BJ:BJ,'RTK Base'!$A:$A,$B15,'RTK Base'!$B:$B,\"South\")/1000000","v":0},{"$f":"SUMIFS('RTK Base'!BK:BK,'RTK Base'!$A:$A,$B15,'RTK Base'!$B:$B,\"South\")/1000000","v":0},{"$f":"SUMIFS('RTK Base'!BL:BL,'RTK Base'!$A:$A,$B15,'RTK Base'!$B:$B,\"South\")/1000000","v":0},{"$f":"SUMIFS('RTK Base'!BM:BM,'RTK Base'!$A:$A,$B15,'RTK Base'!$B:$B,\"South\")/1000000","v":0},{"$f":"SUMIFS('RTK Base'!BN:BN,'RTK Base'!$A:$A,$B15,'RTK Base'!$B:$B,\"South\")/1000000","v":0},{"$f":"SUMIFS('RTK Base'!BO:BO,'RTK Base'!$A:$A,$B15,'RTK Base'!$B:$B,\"South\")/1000000","v":0},{"$f":"SUMIFS('RTK Base'!BP:BP,'RTK Base'!$A:$A,$B15,'RTK Base'!$B:$B,\"South\")/1000000","v":0},null,{"$f":"SUMIFS('RTK Base'!BR:BR,'RTK Base'!$A:$A,$B15,'RTK Base'!$B:$B,\"South\")/1000000","v":0},{"$f":"SUMIFS('RTK Base'!BS:BS,'RTK Base'!$A:$A,$B15,'RTK Base'!$B:$B,\"South\")/1000000","v":0},{"$f":"SUMIFS('RTK Base'!BT:BT,'RTK Base'!$A:$A,$B15,'RTK Base'!$B:$B,\"South\")/1000000","v":0},{"$f":"SUMIFS('RTK Base'!BU:BU,'RTK Base'!$A:$A,$B15,'RTK Base'!$B:$B,\"South\")/1000000","v":0},{"$f":"SUMIFS('RTK Base'!BV:BV,'RTK Base'!$A:$A,$B15,'RTK Base'!$B:$B,\"South\")/1000000","v":0},{"$f":"SUMIFS('RTK Base'!BW:BW,'RTK Base'!$A:$A,$B15,'RTK Base'!$B:$B,\"South\")/1000000","v":0},{"$f":"SUMIFS('RTK Base'!BX:BX,'RTK Base'!$A:$A,$B15,'RTK Base'!$B:$B,\"South\")/1000000","v":0},{"$f":"SUMIFS('RTK Base'!BY:BY,'RTK Base'!$A:$A,$B15,'RTK Base'!$B:$B,\"South\")/1000000","v":0},{"$f":"SUMIFS('RTK Base'!BZ:BZ,'RTK Base'!$A:$A,$B15,'RTK Base'!$B:$B,\"South\")/1000000","v":0},{"$f":"SUMIFS('RTK Base'!CA:CA,'RTK Base'!$A:$A,$B15,'RTK Base'!$B:$B,\"South\")/1000000","v":0},{"$f":"SUMIFS('RTK Base'!CB:CB,'RTK Base'!$A:$A,$B15,'RTK Base'!$B:$B,\"South\")/1000000","v":0},{"$f":"SUMIFS('RTK Base'!CC:CC,'RTK Base'!$A:$A,$B15,'RTK Base'!$B:$B,\"South\")/1000000","v":0},null,{"$f":"SUMIFS('RTK Base'!CE:CE,'RTK Base'!$A:$A,$B15,'RTK Base'!$B:$B,\"South\")/1000000","v":0},{"$f":"SUMIFS('RTK Base'!CF:CF,'RTK Base'!$A:$A,$B15,'RTK Base'!$B:$B,\"South\")/1000000","v":0},{"$f":"SUMIFS('RTK Base'!CG:CG,'RTK Base'!$A:$A,$B15,'RTK Base'!$B:$B,\"South\")/1000000","v":0},{"$f":"SUMIFS('RTK Base'!CH:CH,'RTK Base'!$A:$A,$B15,'RTK Base'!$B:$B,\"South\")/1000000","v":0},{"$f":"SUMIFS('RTK Base'!CI:CI,'RTK Base'!$A:$A,$B15,'RTK Base'!$B:$B,\"South\")/1000000","v":0},{"$f":"SUMIFS('RTK Base'!CJ:CJ,'RTK Base'!$A:$A,$B15,'RTK Base'!$B:$B,\"South\")/1000000","v":0},{"$f":"SUMIFS('RTK Base'!CK:CK,'RTK Base'!$A:$A,$B15,'RTK Base'!$B:$B,\"South\")/1000000","v":0},{"$f":"SUMIFS('RTK Base'!CL:CL,'RTK Base'!$A:$A,$B15,'RTK Base'!$B:$B,\"South\")/1000000","v":0},{"$f":"SUMIFS('RTK Base'!CM:CM,'RTK Base'!$A:$A,$B15,'RTK Base'!$B:$B,\"South\")/1000000","v":0},{"$f":"SUMIFS('RTK Base'!CN:CN,'RTK Base'!$A:$A,$B15,'RTK Base'!$B:$B,\"South\")/1000000","v":0},{"$f":"SUMIFS('RTK Base'!CO:CO,'RTK Base'!$A:$A,$B15,'RTK Base'!$B:$B,\"South\")/1000000","v":0},{"$f":"SUMIFS('RTK Base'!CP:CP,'RTK Base'!$A:$A,$B15,'RTK Base'!$B:$B,\"South\")/1000000","v":0}]
[null,"Containers",null,50.653872999999997,58.678362999999997,65.520111,64.679544000000007,57.983924999999999,61.572875000000003,48.561618000000003,48.688918999999999,48.451737999999999,46.574927000000002,42.185833000000002,38.172204000000001,null,43.516576000000001,39.319431000000002,48.893445,38.081878000000003,42.358691999999998,42.385508999999999,40.273501000000003,45.062682000000002,35.134611,34.421081000000001,29.817316000000002,34.774912999999998,null,29.603095,39.47343,43.525416999999997,47.937314999999998,39.913617000000002,50.240031000000002,52.476263000000003,54.547398999999999,54.147601999999999,55.903395000000003,52.416510000000002,53.100599000000003,null,50.731259000000001,49.206107000000003,56.186678999999998,56.894691999999999,59.538119000000002,58.457293,64.026664999999994,67.365780999999998,71.301327999999998,63.691011000000003,62.699147000000004,57.983685000000001,null,{"$f":"SUMIFS('RTK Base'!BE:BE,'RTK Base'!$A:$A,$B16,'RTK Base'!$B:$B,\"South\")/1000000","v":63.577573999999998},{"$f":"SUMIFS('RTK Base'!BF:BF,'RTK Base'!$A:$A,$B16,'RTK Base'!$B:$B,\"South\")/1000000","v":62.719521},{"$f":"SUMIFS('RTK Base'!BG:BG,'RTK Base'!$A:$A,$B16,'RTK Base'!$B:$B,\"South\")/1000000","v":60.617429999999999},{"$f":"SUMIFS('RTK Base'!BH:BH,'RTK Base'!$A:$A,$B16,'RTK Base'!$B:$B,\"South\")/1000000","v":74.631833},{"$f":"SUMIFS('RTK Base'!BI:BI,'RTK Base'!$A:$A,$B16,'RTK Base'!$B:$B,\"South\")/1000000","v":76.715235000000007},{"$f":"SUMIFS('RTK Base'!BJ:BJ,'RTK Base'!$A:$A,$B16,'RTK Base'!$B:$B,\"South\")/1000000","v":81.775490000000005},{"$f":"SUMIFS('RTK Base'!BK:BK,'RTK Base'!$A:$A,$B16,'RTK Base'!$B:$B,\"South\")/1000000","v":84.424301999999997},{"$f":"SUMIFS('RTK Base'!BL:BL,'RTK Base'!$A:$A,$B16,'RTK Base'!$B:$B,\"South\")/1000000","v":79.692530000000005},{"$f":"SUMIFS('RTK Base'!BM:BM,'RTK Base'!$A:$A,$B16,'RTK Base'!$B:$B,\"South\")/1000000","v":79.207928999999993},{"$f":"SUMIFS('RTK Base'!BN:BN,'RTK Base'!$A:$A,$B16,'RTK Base'!$B:$B,\"South\")/1000000","v":80.026894999999996},{"$f":"SUMIFS('RTK Base'!BO:BO,'RTK Base'!$A:$A,$B16,'RTK Base'!$B:$B,\"South\")/1000000","v":78.185827000000003},{"$f":"SUMIFS('RTK Base'!BP:BP,'RTK Base'!$A:$A,$B16,'RTK Base'!$B:$B,\"South\")/1000000","v":69.169015000000002},null,{"$f":"SUMIFS('RTK Base'!BR:BR,'RTK Base'!$A:$A,$B16,'RTK Base'!$B:$B,\"South\")/1000000","v":71.761609000000007},{"$f":"SUMIFS('RTK Base'!BS:BS,'RTK Base'!$A:$A,$B16,'RTK Base'!$B:$B,\"South\")/1000000","v":79.964934999999997},{"$f":"SUMIFS('RTK Base'!BT:BT,'RTK Base'!$A:$A,$B16,'RTK Base'!$B:$B,\"South\")/1000000","v":74.866251000000005},{"$f":"SUMIFS('RTK Base'!BU:BU,'RTK Base'!$A:$A,$B16,'RTK Base'!$B:$B,\"South\")/1000000","v":80.125343000000001},{"$f":"SUMIFS('RTK Base'!BV:BV,'RTK Base'!$A:$A,$B16,'RTK Base'!$B:$B,\"South\")/1000000","v":76.592072999999999},{"$f":"SUMIFS('RTK Base'!BW:BW,'RTK Base'!$A:$A,$B16,'RTK Base'!$B:$B,\"South\")/1000000","v":70.037726000000006},{"$f":"SUMIFS('RTK Base'!BX:BX,'RTK Base'!$A:$A,$B16,'RTK Base'!$B:$B,\"South\")/1000000","v":71.624944999999997},{"$f":"SUMIFS('RTK Base'!BY:BY,'RTK Base'!$A:$A,$B16,'RTK Base'!$B:$B,\"South\")/1000000","v":66.443759999999997},{"$f":"SUMIFS('RTK Base'!BZ:BZ,'RTK Base'!$A:$A,$B16,'RTK Base'!$B:$B,\"South\")/1000000","v":57.244092000000002},{"$f":"SUMIFS('RTK Base'!CA:CA,'RTK Base'!$A:$A,$B16,'RTK Base'!$B:$B,\"South\")/1000000","v":59.003812000000003},{"$f":"SUMIFS('RTK Base'!CB:CB,'RTK Base'!$A:$A,$B16,'RTK Base'!$B:$B,\"South\")/1000000","v":61.449129999999997},{"$f":"SUMIFS('RTK Base'!CC:CC,'RTK Base'!$A:$A,$B16,'RTK Base'!$B:$B,\"South\")/1000000","v":62.603934000000002},null,{"$f":"SUMIFS('RTK Base'!CE:CE,'RTK Base'!$A:$A,$B16,'RTK Base'!$B:$B,\"South\")/1000000","v":76.499689000000004},{"$f":"SUMIFS('RTK Base'!CF:CF,'RTK Base'!$A:$A,$B16,'RTK Base'!$B:$B,\"South\")/1000000","v":79.542843000000005},{"$f":"SUMIFS('RTK Base'!CG:CG,'RTK Base'!$A:$A,$B16,'RTK Base'!$B:$B,\"South\")/1000000","v":83.331629000000007},{"$f":"SUMIFS('RTK Base'!CH:CH,'RTK Base'!$A:$A,$B16,'RTK Base'!$B:$B,\"South\")/1000000","v":87.451539999999994},{"$f":"SUMIFS('RTK Base'!CI:CI,'RTK Base'!$A:$A,$B16,'RTK Base'!$B:$B,\"South\")/1000000","v":91.258866999999995},{"$f":"SUMIFS('RTK Base'!CJ:CJ,'RTK Base'!$A:$A,$B16,'RTK Base'!$B:$B,\"South\")/1000000","v":0},{"$f":"SUMIFS('RTK Base'!CK:CK,'RTK Base'!$A:$A,$B16,'RTK Base'!$B:$B,\"South\")/1000000","v":0},{"$f":"SUMIFS('RTK Base'!CL:CL,'RTK Base'!$A:$A,$B16,'RTK Base'!$B:$B,\"South\")/1000000","v":0},{"$f":"SUMIFS('RTK Base'!CM:CM,'RTK Base'!$A:$A,$B16,'RTK Base'!$B:$B,\"South\")/1000000","v":0},{"$f":"SUMIFS('RTK Base'!CN:CN,'RTK Base'!$A:$A,$B16,'RTK Base'!$B:$B,\"South\")/1000000","v":0},{"$f":"SUMIFS('RTK Base'!CO:CO,'RTK Base'!$A:$A,$B16,'RTK Base'!$B:$B,\"South\")/1000000","v":0},{"$f":"SUMIFS('RTK Base'!CP:CP,'RTK Base'!$A:$A,$B16,'RTK Base'!$B:$B,\"South\")/1000000","v":0}]
[null,"Industrial Products",null,{"$f":"SUM(D18:D21)","v":228.42699200000001},257.51256599999999,279.96651399999996,273.02394200000003,295.32514200000003,318.43506300000001,362.15990799999997,360.94291000000004,344.551851,345.79090200000002,317.07622400000002,285.14753000000002,null,{"$f":"SUM(Q18:Q21)","v":287.57895099999996},244.80521200000001,294.37972699999995,290.21314099999995,342.63133599999998,308.23325499999999,368.08305000000001,373.00258600000001,366.78069299999999,384.29020200000002,331.99688699999996,331.01971200000003,null,{"$f":"SUM(AD18:AD21)","v":326.574501},312.22294099999993,299.49455799999998,291.38249500000001,278.85136199999999,340.39712200000002,339.10575299999994,371.09401600000001,361.27114600000004,366.58188000000001,338.22070199999996,334.57528300000001,null,{"$f":"SUM(AQ18:AQ21)","v":329.27150799999998},319.201412,328.105163,318.51579100000004,343.52402699999993,354.28402599999998,370.75858499999998,401.67964799999999,372.60146400000002,383.173044,326.33034299999997,297.77408100000002,null,{"$f":"SUM(BD18:BD21)","v":305.73366799999997},258.51948899999996,188.775127,205.04545700000003,240.13808500000002,241.179892,290.03063200000003,303.78416199999998,316.24441099999996,319.92580100000004,308.48044699999997,268.19025099999999,null,{"$f":"SUM(BQ18:BQ21)","v":305.422864},{"$f":"SUM(BR18:BR21)","v":295.54553000000004},{"$f":"SUM(BS18:BS21)","v":330.11579699999999},{"$f":"SUM(BT18:BT21)","v":311.23341699999997},{"$f":"SUM(BU18:BU21)","v":339.24804500000005},{"$f":"SUM(BV18:BV21)","v":311.23431899999997},{"$f":"SUM(BW18:BW21)","v":309.52550000000002},{"$f":"SUM(BX18:BX21)","v":321.23711800000001},{"$f":"SUM(BY18:BY21)","v":295.41189300000002},{"$f":"SUM(BZ18:BZ21)","v":291.42630200000002},{"$f":"SUM(CA18:CA21)","v":276.96202900000003},{"$f":"SUM(CB18:CB21)","v":254.93312399999999},null,{"$f":"SUM(CD18:CD21)","v":250.57097000000002},213.872952,269.68073299999998,247.16745400000002,284.48836700000004,0,0,0,0,0,0,0]
[null,"Fuels",null,141.026849,158.18764899999999,164.00340399999999,152.20710600000001,165.906353,177.59219100000001,189.75936799999999,185.81068500000001,183.298305,182.14684600000001,162.34235100000001,144.96276800000001,null,143.62894499999999,132.900733,144.560417,137.94608299999999,163.325928,145.708583,191.22140200000001,191.70513800000001,186.27211199999999,203.974715,171.53195600000001,158.942565,null,158.606315,161.694107,166.599616,153.60662500000001,144.449736,168.88579100000001,177.63853800000001,193.32590500000001,195.904583,185.02983499999999,169.63896600000001,177.16954100000001,null,170.41812200000001,177.358056,178.09361999999999,186.10663400000001,194.41169199999999,189.300803,214.79091399999999,225.453225,210.03759400000001,212.65567799999999,173.596079,161.27325500000001,null,{"$f":"SUMIFS('RTK Base'!BE:BE,'RTK Base'!$A:$A,$B18,'RTK Base'!$B:$B,\"South\")/1000000","v":157.859982},{"$f":"SUMIFS('RTK Base'!BF:BF,'RTK Base'!$A:$A,$B18,'RTK Base'!$B:$B,\"South\")/1000000","v":154.06072499999999},{"$f":"SUMIFS('RTK Base'!BG:BG,'RTK Base'!$A:$A,$B18,'RTK Base'!$B:$B,\"South\")/1000000","v":96.066029999999998},{"$f":"SUMIFS('RTK Base'!BH:BH,'RTK Base'!$A:$A,$B18,'RTK Base'!$B:$B,\"South\")/1000000","v":115.754942},{"$f":"SUMIFS('RTK Base'!BI:BI,'RTK Base'!$A:$A,$B18,'RTK Base'!$B:$B,\"South\")/1000000","v":130.800231},{"$f":"SUMIFS('RTK Base'!BJ:BJ,'RTK Base'!$A:$A,$B18,'RTK Base'!$B:$B,\"South\")/1000000","v":141.332987},{"$f":"SUMIFS('RTK Base'!BK:BK,'RTK Base'!$A:$A,$B18,'RTK Base'!$B:$B,\"South\")/1000000","v":149.329871},{"$f":"SUMIFS('RTK Base'!BL:BL,'RTK Base'!$A:$A,$B18,'RTK Base'!$B:$B,\"South\")/1000000","v":148.90823599999999},{"$f":"SUMIFS('RTK Base'!BM:BM,'RTK Base'!$A:$A,$B18,'RTK Base'!$B:$B,\"South\")/1000000","v":159.478025},{"$f":"SUMIFS('RTK Base'!BN:BN,'RTK Base'!$A:$A,$B18,'RTK Base'!$B:$B,\"South\")/1000000","v":168.96901199999999},{"$f":"SUMIFS('RTK Base'!BO:BO,'RTK Base'!$A:$A,$B18,'RTK Base'!$B:$B,\"South\")/1000000","v":164.82403299999999},{"$f":"SUMIFS('RTK Base'!BP:BP,'RTK Base'!$A:$A,$B18,'RTK Base'!$B:$B,\"South\")/1000000","v":156.70591400000001},null,{"$f":"SUMIFS('RTK Base'!BR:BR,'RTK Base'!$A:$A,$B18,'RTK Base'!$B:$B,\"South\")/1000000","v":159.64147199999999},{"$f":"SUMIFS('RTK Base'!BS:BS,'RTK Base'!$A:$A,$B18,'RTK Base'!$B:$B,\"South\")/1000000","v":156.637643},{"$f":"SUMIFS('RTK Base'!BT:BT,'RTK Base'!$A:$A,$B18,'RTK Base'!$B:$B,\"South\")/1000000","v":171.63832500000001},{"$f":"SUMIFS('RTK Base'!BU:BU,'RTK Base'!$A:$A,$B18,'RTK Base'!$B:$B,\"South\")/1000000","v":145.432695},{"$f":"SUMIFS('RTK Base'!BV:BV,'RTK Base'!$A:$A,$B18,'RTK Base'!$B:$B,\"South\")/1000000","v":169.32135500000001},{"$f":"SUMIFS('RTK Base'!BW:BW,'RTK Base'!$A:$A,$B18,'RTK Base'!$B:$B,\"South\")/1000000","v":156.79630900000001},{"$f":"SUMIFS('RTK Base'!BX:BX,'RTK Base'!$A:$A,$B18,'RTK Base'!$B:$B,\"South\")/1000000","v":162.64579000000001},{"$f":"SUMIFS('RTK Base'!BY:BY,'RTK Base'!$A:$A,$B18,'RTK Base'!$B:$B,\"South\")/1000000","v":166.47714500000001},{"$f":"SUMIFS('RTK Base'!BZ:BZ,'RTK Base'!$A:$A,$B18,'RTK Base'!$B:$B,\"South\")/1000000","v":168.52400399999999},{"$f":"SUMIFS('RTK Base'!CA:CA,'RTK Base'!$A:$A,$B18,'RTK Base'!$B:$B,\"South\")/1000000","v":164.40358000000001},{"$f":"SUMIFS('RTK Base'!CB:CB,'RTK Base'!$A:$A,$B18,'RTK Base'!$B:$B,\"South\")/1000000","v":153.10808700000001},{"$f":"SUMIFS('RTK Base'!CC:CC,'RTK Base'!$A:$A,$B18,'RTK Base'!$B:$B,\"South\")/1000000","v":142.90641099999999},null,{"$f":"SUMIFS('RTK Base'!CE:CE,'RTK Base'!$A:$A,$B18,'RTK Base'!$B:$B,\"South\")/1000000","v":145.328427},{"$f":"SUMIFS('RTK Base'!CF:CF,'RTK Base'!$A:$A,$B18,'RTK Base'!$B:$B,\"South\")/1000000","v":138.44821200000001},{"$f":"SUMIFS('RTK Base'!CG:CG,'RTK Base'!$A:$A,$B18,'RTK Base'!$B:$B,\"South\")/1000000","v":153.88332},{"$f":"SUMIFS('RTK Base'!CH:CH,'RTK Base'!$A:$A,$B18,'RTK Base'!$B:$B,\"South\")/1000000","v":144.583415},{"$f":"SUMIFS('RTK Base'!CI:CI,'RTK Base'!$A:$A,$B18,'RTK Base'!$B:$B,\"South\")/1000000","v":174.12671800000001},{"$f":"SUMIFS('RTK Base'!CJ:CJ,'RTK Base'!$A:$A,$B18,'RTK Base'!$B:$B,\"South\")/1000000","v":0},{"$f":"SUMIFS('RTK Base'!CK:CK,'RTK Base'!$A:$A,$B18,'RTK Base'!$B:$B,\"South\")/1000000","v":0},{"$f":"SUMIFS('RTK Base'!CL:CL,'RTK Base'!$A:$A,$B18,'RTK Base'!$B:$B,\"South\")/1000000","v":0},{"$f":"SUMIFS('RTK Base'!CM:CM,'RTK Base'!$A:$A,$B18,'RTK Base'!$B:$B,\"South\")/1000000","v":0},{"$f":"SUMIFS('RTK Base'!CN:CN,'RTK Base'!$A:$A,$B18,'RTK Base'!$B:$B,\"South\")/1000000","v":0},{"$f":"SUMIFS('RTK Base'!CO:CO,'RTK Base'!$A:$A,$B18,'RTK Base'!$B:$B,\"South\")/1000000","v":0},{"$f":"SUMIFS('RTK Base'!CP:CP,'RTK Base'!$A:$A,$B18,'RTK Base'!$B:$B,\"South\")/1000000","v":0}]
[null,"Wood, pulp and paper",null,39.271479999999997,41.010998999999998,53.520448999999999,56.006704999999997,68.264671000000007,68.705703999999997,90.784820999999994,89.140709000000001,82.280722999999995,86.509163999999998,81.662906000000007,71.449663999999999,null,66.679985000000002,42.680686999999999,74.238529999999997,78.450040000000001,92.155349000000001,89.135938999999993,90.885902999999999,95.005221000000006,96.33475,93.099720000000005,87.427345000000003,96.234429000000006,null,93.788546999999994,85.493602999999993,56.390697000000003,66.413342999999998,56.414752999999997,95.271071000000006,84.781267999999997,105.109363,90.776336000000001,99.935901999999999,88.300899000000001,92.920283999999995,null,87.367407,74.329041000000004,84.445127999999997,70.886548000000005,76.339152999999996,82.758572000000001,75.037268999999995,88.602018000000001,84.258656999999999,86.954138999999998,87.908630000000002,84.965933000000007,null,{"$f":"SUMIFS('RTK Base'!BE:BE,'RTK Base'!$A:$A,$B19,'RTK Base'!$B:$B,\"South\")/1000000","v":81.487995999999995},{"$f":"SUMIFS('RTK Base'!BF:BF,'RTK Base'!$A:$A,$B19,'RTK Base'!$B:$B,\"South\")/1000000","v":38.670603},{"$f":"SUMIFS('RTK Base'!BG:BG,'RTK Base'!$A:$A,$B19,'RTK Base'!$B:$B,\"South\")/1000000","v":34.737673999999998},{"$f":"SUMIFS('RTK Base'!BH:BH,'RTK Base'!$A:$A,$B19,'RTK Base'!$B:$B,\"South\")/1000000","v":16.049403999999999},{"$f":"SUMIFS('RTK Base'!BI:BI,'RTK Base'!$A:$A,$B19,'RTK Base'!$B:$B,\"South\")/1000000","v":35.203684000000003},{"$f":"SUMIFS('RTK Base'!BJ:BJ,'RTK Base'!$A:$A,$B19,'RTK Base'!$B:$B,\"South\")/1000000","v":33.983635},{"$f":"SUMIFS('RTK Base'!BK:BK,'RTK Base'!$A:$A,$B19,'RTK Base'!$B:$B,\"South\")/1000000","v":73.206428000000002},{"$f":"SUMIFS('RTK Base'!BL:BL,'RTK Base'!$A:$A,$B19,'RTK Base'!$B:$B,\"South\")/1000000","v":83.106746000000001},{"$f":"SUMIFS('RTK Base'!BM:BM,'RTK Base'!$A:$A,$B19,'RTK Base'!$B:$B,\"South\")/1000000","v":86.564171999999999},{"$f":"SUMIFS('RTK Base'!BN:BN,'RTK Base'!$A:$A,$B19,'RTK Base'!$B:$B,\"South\")/1000000","v":79.177233000000001},{"$f":"SUMIFS('RTK Base'!BO:BO,'RTK Base'!$A:$A,$B19,'RTK Base'!$B:$B,\"South\")/1000000","v":77.089853000000005},{"$f":"SUMIFS('RTK Base'!BP:BP,'RTK Base'!$A:$A,$B19,'RTK Base'!$B:$B,\"South\")/1000000","v":46.338448},null,{"$f":"SUMIFS('RTK Base'!BR:BR,'RTK Base'!$A:$A,$B19,'RTK Base'!$B:$B,\"South\")/1000000","v":79.039736000000005},{"$f":"SUMIFS('RTK Base'!BS:BS,'RTK Base'!$A:$A,$B19,'RTK Base'!$B:$B,\"South\")/1000000","v":74.568740000000005},{"$f":"SUMIFS('RTK Base'!BT:BT,'RTK Base'!$A:$A,$B19,'RTK Base'!$B:$B,\"South\")/1000000","v":74.194892999999993},{"$f":"SUMIFS('RTK Base'!BU:BU,'RTK Base'!$A:$A,$B19,'RTK Base'!$B:$B,\"South\")/1000000","v":82.483877000000007},{"$f":"SUMIFS('RTK Base'!BV:BV,'RTK Base'!$A:$A,$B19,'RTK Base'!$B:$B,\"South\")/1000000","v":82.267655000000005},{"$f":"SUMIFS('RTK Base'!BW:BW,'RTK Base'!$A:$A,$B19,'RTK Base'!$B:$B,\"South\")/1000000","v":72.881084999999999},{"$f":"SUMIFS('RTK Base'!BX:BX,'RTK Base'!$A:$A,$B19,'RTK Base'!$B:$B,\"South\")/1000000","v":60.175027},{"$f":"SUMIFS('RTK Base'!BY:BY,'RTK Base'!$A:$A,$B19,'RTK Base'!$B:$B,\"South\")/1000000","v":75.382767999999999},{"$f":"SUMIFS('RTK Base'!BZ:BZ,'RTK Base'!$A:$A,$B19,'RTK Base'!$B:$B,\"South\")/1000000","v":50.178054000000003},{"$f":"SUMIFS('RTK Base'!CA:CA,'RTK Base'!$A:$A,$B19,'RTK Base'!$B:$B,\"South\")/1000000","v":46.641477999999999},{"$f":"SUMIFS('RTK Base'!CB:CB,'RTK Base'!$A:$A,$B19,'RTK Base'!$B:$B,\"South\")/1000000","v":43.288106999999997},{"$f":"SUMIFS('RTK Base'!CC:CC,'RTK Base'!$A:$A,$B19,'RTK Base'!$B:$B,\"South\")/1000000","v":38.443731999999997},null,{"$f":"SUMIFS('RTK Base'!CE:CE,'RTK Base'!$A:$A,$B19,'RTK Base'!$B:$B,\"South\")/1000000","v":32.393967000000004},{"$f":"SUMIFS('RTK Base'!CF:CF,'RTK Base'!$A:$A,$B19,'RTK Base'!$B:$B,\"South\")/1000000","v":7.8433809999999999},{"$f":"SUMIFS('RTK Base'!CG:CG,'RTK Base'!$A:$A,$B19,'RTK Base'!$B:$B,\"South\")/1000000","v":35.634661000000001},{"$f":"SUMIFS('RTK Base'!CH:CH,'RTK Base'!$A:$A,$B19,'RTK Base'!$B:$B,\"South\")/1000000","v":33.682139999999997},{"$f":"SUMIFS('RTK Base'!CI:CI,'RTK Base'!$A:$A,$B19,'RTK Base'!$B:$B,\"South\")/1000000","v":32.024670999999998},{"$f":"SUMIFS('RTK Base'!CJ:CJ,'RTK Base'!$A:$A,$B19,'RTK Base'!$B:$B,\"South\")/1000000","v":0},{"$f":"SUMIFS('RTK Base'!CK:CK,'RTK Base'!$A:$A,$B19,'RTK Base'!$B:$B,\"South\")/1000000","v":0},{"$f":"SUMIFS('RTK Base'!CL:CL,'RTK Base'!$A:$A,$B19,'RTK Base'!$B:$B,\"South\")/1000000","v":0},{"$f":"SUMIFS('RTK Base'!CM:CM,'RTK Base'!$A:$A,$B19,'RTK Base'!$B:$B,\"South\")/1000000","v":0},{"$f":"SUMIFS('RTK Base'!CN:CN,'RTK Base'!$A:$A,$B19,'RTK Base'!$B:$B,\"South\")/1000000","v":0},{"$f":"SUMIFS('RTK Base'!CO:CO,'RTK Base'!$A:$A,$B19,'RTK Base'!$B:$B,\"South\")/1000000","v":0},{"$f":"SUMIFS('RTK Base'!CP:CP,'RTK Base'!$A:$A,$B19,'RTK Base'!$B:$B,\"South\")/1000000","v":0}]
[null,"Construction",null,36.146979999999999,45.827058999999998,51.114310000000003,52.249645000000001,49.190775000000002,60.071762,64.777552,69.127803999999998,65.878789999999995,61.566234999999999,61.028593000000001,57.386997999999998,null,65.66601,55.575082000000002,59.600560999999999,56.194758,65.604108999999994,50.665117000000002,63.763026000000004,62.402293999999998,60.580528999999999,64.152682999999996,51.531522000000002,55.288829,null,52.730674999999998,48.090178999999999,56.033644000000002,50.322405000000003,51.599339000000001,52.036932,49.466149999999999,46.488675999999998,54.157528999999997,61.839779,59.668979999999998,42.025801999999999,null,54.429172000000001,51.728222000000002,53.895175000000002,43.234752999999998,52.935913999999997,57.029544999999999,56.869478000000001,62.587448999999999,56.165497999999999,59.440604,48.727550999999998,47.119295999999999,null,{"$f":"SUMIFS('RTK Base'!BE:BE,'RTK Base'!$A:$A,$B20,'RTK Base'!$B:$B,\"South\")/1000000","v":52.785445000000003},{"$f":"SUMIFS('RTK Base'!BF:BF,'RTK Base'!$A:$A,$B20,'RTK Base'!$B:$B,\"South\")/1000000","v":55.624032},{"$f":"SUMIFS('RTK Base'!BG:BG,'RTK Base'!$A:$A,$B20,'RTK Base'!$B:$B,\"South\")/1000000","v":40.774196000000003},{"$f":"SUMIFS('RTK Base'!BH:BH,'RTK Base'!$A:$A,$B20,'RTK Base'!$B:$B,\"South\")/1000000","v":52.201680000000003},{"$f":"SUMIFS('RTK Base'!BI:BI,'RTK Base'!$A:$A,$B20,'RTK Base'!$B:$B,\"South\")/1000000","v":63.436933000000003},{"$f":"SUMIFS('RTK Base'!BJ:BJ,'RTK Base'!$A:$A,$B20,'RTK Base'!$B:$B,\"South\")/1000000","v":54.593823},{"$f":"SUMIFS('RTK Base'!BK:BK,'RTK Base'!$A:$A,$B20,'RTK Base'!$B:$B,\"South\")/1000000","v":51.830165999999998},{"$f":"SUMIFS('RTK Base'!BL:BL,'RTK Base'!$A:$A,$B20,'RTK Base'!$B:$B,\"South\")/1000000","v":58.609205000000003},{"$f":"SUMIFS('RTK Base'!BM:BM,'RTK Base'!$A:$A,$B20,'RTK Base'!$B:$B,\"South\")/1000000","v":56.657111999999998},{"$f":"SUMIFS('RTK Base'!BN:BN,'RTK Base'!$A:$A,$B20,'RTK Base'!$B:$B,\"South\")/1000000","v":70.559619999999995},{"$f":"SUMIFS('RTK Base'!BO:BO,'RTK Base'!$A:$A,$B20,'RTK Base'!$B:$B,\"South\")/1000000","v":61.878512999999998},{"$f":"SUMIFS('RTK Base'!BP:BP,'RTK Base'!$A:$A,$B20,'RTK Base'!$B:$B,\"South\")/1000000","v":54.786934000000002},null,{"$f":"SUMIFS('RTK Base'!BR:BR,'RTK Base'!$A:$A,$B20,'RTK Base'!$B:$B,\"South\")/1000000","v":57.909204000000003},{"$f":"SUMIFS('RTK Base'!BS:BS,'RTK Base'!$A:$A,$B20,'RTK Base'!$B:$B,\"South\")/1000000","v":54.774956000000003},{"$f":"SUMIFS('RTK Base'!BT:BT,'RTK Base'!$A:$A,$B20,'RTK Base'!$B:$B,\"South\")/1000000","v":66.333736000000002},{"$f":"SUMIFS('RTK Base'!BU:BU,'RTK Base'!$A:$A,$B20,'RTK Base'!$B:$B,\"South\")/1000000","v":66.221830999999995},{"$f":"SUMIFS('RTK Base'!BV:BV,'RTK Base'!$A:$A,$B20,'RTK Base'!$B:$B,\"South\")/1000000","v":65.085325999999995},{"$f":"SUMIFS('RTK Base'!BW:BW,'RTK Base'!$A:$A,$B20,'RTK Base'!$B:$B,\"South\")/1000000","v":62.460762000000003},{"$f":"SUMIFS('RTK Base'!BX:BX,'RTK Base'!$A:$A,$B20,'RTK Base'!$B:$B,\"South\")/1000000","v":66.431854999999999},{"$f":"SUMIFS('RTK Base'!BY:BY,'RTK Base'!$A:$A,$B20,'RTK Base'!$B:$B,\"South\")/1000000","v":68.781409999999994},{"$f":"SUMIFS('RTK Base'!BZ:BZ,'RTK Base'!$A:$A,$B20,'RTK Base'!$B:$B,\"South\")/1000000","v":69.288462999999993},{"$f":"SUMIFS('RTK Base'!CA:CA,'RTK Base'!$A:$A,$B20,'RTK Base'!$B:$B,\"South\")/1000000","v":65.171104},{"$f":"SUMIFS('RTK Base'!CB:CB,'RTK Base'!$A:$A,$B20,'RTK Base'!$B:$B,\"South\")/1000000","v":64.980664000000004},{"$f":"SUMIFS('RTK Base'!CC:CC,'RTK Base'!$A:$A,$B20,'RTK Base'!$B:$B,\"South\")/1000000","v":58.487743999999999},null,{"$f":"SUMIFS('RTK Base'!CE:CE,'RTK Base'!$A:$A,$B20,'RTK Base'!$B:$B,\"South\")/1000000","v":58.495223000000003},{"$f":"SUMIFS('RTK Base'!CF:CF,'RTK Base'!$A:$A,$B20,'RTK Base'!$B:$B,\"South\")/1000000","v":61.188867999999999},{"$f":"SUMIFS('RTK Base'!CG:CG,'RTK Base'!$A:$A,$B20,'RTK Base'!$B:$B,\"South\")/1000000","v":62.708154999999998},{"$f":"SUMIFS('RTK Base'!CH:CH,'RTK Base'!$A:$A,$B20,'RTK Base'!$B:$B,\"South\")/1000000","v":57.831187},{"$f":"SUMIFS('RTK Base'!CI:CI,'RTK Base'!$A:$A,$B20,'RTK Base'!$B:$B,\"South\")/1000000","v":66.374943999999999},{"$f":"SUMIFS('RTK Base'!CJ:CJ,'RTK Base'!$A:$A,$B20,'RTK Base'!$B:$B,\"South\")/1000000","v":0},{"$f":"SUMIFS('RTK Base'!CK:CK,'RTK Base'!$A:$A,$B20,'RTK Base'!$B:$B,\"South\")/1000000","v":0},{"$f":"SUMIFS('RTK Base'!CL:CL,'RTK Base'!$A:$A,$B20,'RTK Base'!$B:$B,\"South\")/1000000","v":0},{"$f":"SUMIFS('RTK Base'!CM:CM,'RTK Base'!$A:$A,$B20,'RTK Base'!$B:$B,\"South\")/1000000","v":0},{"$f":"SUMIFS('RTK Base'!CN:CN,'RTK Base'!$A:$A,$B20,'RTK Base'!$B:$B,\"South\")/1000000","v":0},{"$f":"SUMIFS('RTK Base'!CO:CO,'RTK Base'!$A:$A,$B20,'RTK Base'!$B:$B,\"South\")/1000000","v":0},{"$f":"SUMIFS('RTK Base'!CP:CP,'RTK Base'!$A:$A,$B20,'RTK Base'!$B:$B,\"South\")/1000000","v":0}]
[null,"Steel and mining",null,11.981683,12.486859000000001,11.328351,12.560485999999999,11.963343,12.065405999999999,16.838166999999999,16.863712,13.094033,15.568657,12.042374000000001,11.348100000000001,null,11.604011,13.648709999999999,15.980219,17.622260000000001,21.545950000000001,22.723616,22.212719,23.889932999999999,23.593302000000001,23.063084,21.506063999999999,20.553889000000002,null,21.448964,16.945052,20.470600999999998,21.040122,26.387533999999999,24.203327999999999,27.219797,26.170072000000001,20.432697999999998,19.776364000000001,20.611857000000001,22.459655999999999,null,17.056806999999999,15.786092999999999,11.671239999999999,18.287856000000001,19.837268000000002,25.195105999999999,24.060924,25.036956,22.139714999999999,24.122623000000001,16.098082999999999,4.415597,null,{"$f":"SUMIFS('RTK Base'!BE:BE,'RTK Base'!$A:$A,$B21,'RTK Base'!$B:$B,\"South\")/1000000","v":13.600244999999999},{"$f":"SUMIFS('RTK Base'!BF:BF,'RTK Base'!$A:$A,$B21,'RTK Base'!$B:$B,\"South\")/1000000","v":10.164129000000001},{"$f":"SUMIFS('RTK Base'!BG:BG,'RTK Base'!$A:$A,$B21,'RTK Base'!$B:$B,\"South\")/1000000","v":17.197227000000002},{"$f":"SUMIFS('RTK Base'!BH:BH,'RTK Base'!$A:$A,$B21,'RTK Base'!$B:$B,\"South\")/1000000","v":21.039431},{"$f":"SUMIFS('RTK Base'!BI:BI,'RTK Base'!$A:$A,$B21,'RTK Base'!$B:$B,\"South\")/1000000","v":10.697236999999999},{"$f":"SUMIFS('RTK Base'!BJ:BJ,'RTK Base'!$A:$A,$B21,'RTK Base'!$B:$B,\"South\")/1000000","v":11.269447},{"$f":"SUMIFS('RTK Base'!BK:BK,'RTK Base'!$A:$A,$B21,'RTK Base'!$B:$B,\"South\")/1000000","v":15.664167000000001},{"$f":"SUMIFS('RTK Base'!BL:BL,'RTK Base'!$A:$A,$B21,'RTK Base'!$B:$B,\"South\")/1000000","v":13.159974999999999},{"$f":"SUMIFS('RTK Base'!BM:BM,'RTK Base'!$A:$A,$B21,'RTK Base'!$B:$B,\"South\")/1000000","v":13.545102},{"$f":"SUMIFS('RTK Base'!BN:BN,'RTK Base'!$A:$A,$B21,'RTK Base'!$B:$B,\"South\")/1000000","v":1.2199359999999999},{"$f":"SUMIFS('RTK Base'!BO:BO,'RTK Base'!$A:$A,$B21,'RTK Base'!$B:$B,\"South\")/1000000","v":4.6880480000000002},{"$f":"SUMIFS('RTK Base'!BP:BP,'RTK Base'!$A:$A,$B21,'RTK Base'!$B:$B,\"South\")/1000000","v":10.358955},null,{"$f":"SUMIFS('RTK Base'!BR:BR,'RTK Base'!$A:$A,$B21,'RTK Base'!$B:$B,\"South\")/1000000","v":8.832452},{"$f":"SUMIFS('RTK Base'!BS:BS,'RTK Base'!$A:$A,$B21,'RTK Base'!$B:$B,\"South\")/1000000","v":9.5641909999999992},{"$f":"SUMIFS('RTK Base'!BT:BT,'RTK Base'!$A:$A,$B21,'RTK Base'!$B:$B,\"South\")/1000000","v":17.948843},{"$f":"SUMIFS('RTK Base'!BU:BU,'RTK Base'!$A:$A,$B21,'RTK Base'!$B:$B,\"South\")/1000000","v":17.095013999999999},{"$f":"SUMIFS('RTK Base'!BV:BV,'RTK Base'!$A:$A,$B21,'RTK Base'!$B:$B,\"South\")/1000000","v":22.573709000000001},{"$f":"SUMIFS('RTK Base'!BW:BW,'RTK Base'!$A:$A,$B21,'RTK Base'!$B:$B,\"South\")/1000000","v":19.096163000000001},{"$f":"SUMIFS('RTK Base'!BX:BX,'RTK Base'!$A:$A,$B21,'RTK Base'!$B:$B,\"South\")/1000000","v":20.272828000000001},{"$f":"SUMIFS('RTK Base'!BY:BY,'RTK Base'!$A:$A,$B21,'RTK Base'!$B:$B,\"South\")/1000000","v":10.595795000000001},{"$f":"SUMIFS('RTK Base'!BZ:BZ,'RTK Base'!$A:$A,$B21,'RTK Base'!$B:$B,\"South\")/1000000","v":7.4213719999999999},{"$f":"SUMIFS('RTK Base'!CA:CA,'RTK Base'!$A:$A,$B21,'RTK Base'!$B:$B,\"South\")/1000000","v":15.210140000000001},{"$f":"SUMIFS('RTK Base'!CB:CB,'RTK Base'!$A:$A,$B21,'RTK Base'!$B:$B,\"South\")/1000000","v":15.585171000000001},{"$f":"SUMIFS('RTK Base'!CC:CC,'RTK Base'!$A:$A,$B21,'RTK Base'!$B:$B,\"South\")/1000000","v":15.095236999999999},null,{"$f":"SUMIFS('RTK Base'!CE:CE,'RTK Base'!$A:$A,$B21,'RTK Base'!$B:$B,\"South\")/1000000","v":14.353353},{"$f":"SUMIFS('RTK Base'!CF:CF,'RTK Base'!$A:$A,$B21,'RTK Base'!$B:$B,\"South\")/1000000","v":6.3924909999999997},{"$f":"SUMIFS('RTK Base'!CG:CG,'RTK Base'!$A:$A,$B21,'RTK Base'!$B:$B,\"South\")/1000000","v":17.454597},{"$f":"SUMIFS('RTK Base'!CH:CH,'RTK Base'!$A:$A,$B21,'RTK Base'!$B:$B,\"South\")/1000000","v":11.070712},{"$f":"SUMIFS('RTK Base'!CI:CI,'RTK Base'!$A:$A,$B21,'RTK Base'!$B:$B,\"South\")/1000000","v":11.962033999999999},{"$f":"SUMIFS('RTK Base'!CJ:CJ,'RTK Base'!$A:$A,$B21,'RTK Base'!$B:$B,\"South\")/1000000","v":0},{"$f":"SUMIFS('RTK Base'!CK:CK,'RTK Base'!$A:$A,$B21,'RTK Base'!$B:$B,\"South\")/1000000","v":0},{"$f":"SUMIFS('RTK Base'!CL:CL,'RTK Base'!$A:$A,$B21,'RTK Base'!$B:$B,\"South\")/1000000","v":0},{"$f":"SUMIFS('RTK Base'!CM:CM,'RTK Base'!$A:$A,$B21,'RTK Base'!$B:$B,\"South\")/1000000","v":0},{"$f":"SUMIFS('RTK Base'!CN:CN,'RTK Base'!$A:$A,$B21,'RTK Base'!$B:$B,\"South\")/1000000","v":0},{"$f":"SUMIFS('RTK Base'!CO:CO,'RTK Base'!$A:$A,$B21,'RTK Base'!$B:$B,\"South\")/1000000","v":0},{"$f":"SUMIFS('RTK Base'!CP:CP,'RTK Base'!$A:$A,$B21,'RTK Base'!$B:$B,\"South\")/1000000","v":0}]

{"sheet":"Volume TU Consolidated","index":18,"n_rows":25,"n_cols":93,"rows_kept":25,"cut":false,"hidden":false,"merged":[[3,64,4,64],[3,65,4,65],[3,66,4,66],[3,55,4,55],[3,56,4,56],[3,57,4,57],[3,58,4,58],[3,62,4,62],[3,63,4,63],[3,60,4,60],[3,61,4,61],[3,44,4,44],[3,45,4,45],[3,59,4,59],[3,47,4,47],[3,48,4,48],[3,49,4,49],[3,50,4,50],[3,51,4,51],[3,52,4,52],[3,53,4,53],[3,46,4,46],[3,43,4,43],[3,29,4,29],[3,30,4,30],[3,31,4,31],[3,32,4,32],[3,34,4,34],[3,35,4,35],[3,36,4,36],[3,37,4,37],[3,38,4,38],[3,39,4,39],[3,40,4,40],[3,42,4,42],[3,18,4,18],[3,19,4,19],[3,33,4,33],[3,21,4,21],[3,22,4,22],[3,23,4,23],[3,24,4,24],[3,25,4,25],[3,26,4,26],[3,27,4,27],[3,20,4,20],[3,13,4,13],[3,14,4,14],[3,16,4,16],[3,17,4,17],[3,7,4,7],[3,8,4,8],[3,9,4,9],[3,10,4,10],[3,11,4,11],[3,12,4,12],[3,1,4,1],[3,3,4,3],[3,4,4,4],[3,5,4,5],[3,6,4,6],[3,68,4,68],[3,69,4,69],[3,70,4,70],[3,71,4,71],[3,72,4,72],[3,78,4,78],[3,79,4,79],[3,73,4,73],[3,74,4,74],[3,75,4,75],[3,76,4,76],[3,77,4,77],[3,81,4,81],[3,82,4,82],[3,83,4,83],[3,84,4,84],[3,85,4,85],[3,91,4,91],[3,92,4,92],[3,86,4,86],[3,87,4,87],[3,88,4,88],[3,89,4,89],[3,90,4,90]]}
[]
[null,"Volume TU | Consolidated"]
[]
[null,null,null,"2016-01-01","feb/17","2016-03-01","apr/16","may/16","2016-06-01","2016-07-01","aug/16","sep/16","oct/16","2016-11-01","dec/16",null,"2017-01-01","feb/17","2017-03-01","apr/17","may/17","2017-06-01","2017-07-01","aug/17","sep/17","oct/17","2017-11-01","dec/17",null,"2018-01-01","feb/18","2018-03-01","apr/18","may/18","2018-06-01","2018-07-01","aug/18","sep/18","oct/18","2018-11-01","dec/18",null,"jan/19","feb/19","mar/19","apr/19","may/19","jun/19","jul/19","aug/19","sep/19","oct/19","nov/19","dec/19",null,"2020-01-01","feb/20","2020-03-01","apr/20","may/20","2020-06-01","2020-07-01","aug/20","sep/20","oct/20","2020-11-01","dec/20",null,"2021-01-01","2021-02-01","2021-03-01","2021-04-01","2021-05-01","2021-06-01","2021-07-01","2021-08-01","2021-09-01","2021-10-01","2021-11-01","2021-12-01",null,"2022-01-01","2022-02-01","2022-03-01","2022-04-01","2022-05-01","2022-06-01","2022-07-01","2022-08-01","2022-09-01","2022-10-01","2022-11-01","2022-12-01"]
[]
[null,"Transported (TU' 000)",null,{"$f":"SUM(D7,D17,D16)","v":2909.1950000000002},3118.6780000000008,3786.3539999999998,3852.7069999999999,3858.8079999999991,3662.2450000000003,4102.7710000000006,4293.9400000000005,3969.0239999999999,3362.1260000000002,2991.0119999999997,2932.9670000000001,null,{"$f":"SUM(Q7,Q17,Q16)","v":2665.3030000000003},3365.7510000000002,4003.8339999999998,3976.0329999999994,4472.5960000000005,4244.2179999999998,4614.9469999999992,4804.3019999999997,4628.6889999999994,4713.4979999999996,4318.1500000000005,4109.3460000000005,null,{"$f":"SUM(AD7,AD17,AD16)","v":3411.5789999999997},3955.5920000000001,4605.6480000000001,4521.4909999999991,4470.57,4918.5349999999999,5150.1570000000002,5334.0119999999997,5105.982,4939.817,4954.2089999999998,4579.4708700000001,null,{"$f":"SUM(AQ7,AQ17,AQ16)","v":3939.4719999999998},3916.7370000000001,4849.313000000001,4535.7109999999993,4343.2820000000011,5204.07,5792.1469999999999,5571.4480000000003,5121.8169999999991,5346.7190000000001,5206.2749999999996,3847.049,null,{"$f":"SUM(BD7,BD17,BD16)","v":3427.9700000000003},4438.8269999999993,3727.259,4924.0169999999998,5475.9210000000003,5076.7950000000001,5666.9120000000012,5622.31,5569.5970000000007,5452.4699999999993,5057.38,4545.0439999999999,null,{"$f":"SUM(BQ7,BQ17,BQ16)","v":2801.241},{"$f":"SUM(BR7,BR17,BR16)","v":4187.8909999999996},{"$f":"SUM(BS7,BS17,BS16)","v":5588.5680000000002},{"$f":"SUM(BT7,BT17,BT16)","v":5690.6620000000003},{"$f":"SUM(BU7,BU17,BU16)","v":6090.7030000000004},{"$f":"SUM(BV7,BV17,BV16)","v":5617.7000000000007},{"$f":"SUM(BW7,BW17,BW16)","v":5803.0749999999998},{"$f":"SUM(BX7,BX17,BX16)","v":5127.5930000000008},{"$f":"SUM(BY7,BY17,BY16)","v":4722.7},{"$f":"SUM(BZ7,BZ17,BZ16)","v":4897.1049999999996},{"$f":"SUM(CA7,CA17,CA16)","v":4953.4569999999994},{"$f":"SUM(CB7,CB17,CB16)","v":4935.1140000000005},null,{"$f":"SUM(CD7,CD17,CD16)","v":4532.7979999999998},5227.9829999999993,5999.8649999999989,5173.0670000000009,5498.99,0,0,0,0,0,0,0]
[null,"Agricultural Products",null,{"$f":"SUM(D8:D15)","v":2028.933},2230.5350000000008,2791.97,2886.9569999999999,2819.0059999999994,2557.9680000000003,2933.7000000000003,3089.8030000000003,2837.098,2229.2760000000003,1944.8389999999999,1968.8819999999998,null,{"$f":"SUM(Q8:Q15)","v":1608.461},2409.732,2953.8009999999999,2945.6789999999996,3297.1730000000002,3084.2039999999997,3390.4339999999997,3545.4189999999999,3430.2599999999998,3415.8649999999998,3156.7000000000003,2932.3050000000003,null,{"$f":"SUM(AD8:AD15)","v":2303.7969999999996},2771.895,3387.1129999999998,3355.4229999999998,3276.7779999999998,3607.431,3794.5609999999997,3924.8399999999997,3756.1419999999998,3562.846,3637.11,3270.99487,null,{"$f":"SUM(AQ8:AQ15)","v":2749.538},2859.7550000000001,3639.6160000000004,3277.93,3038.1330000000007,3859.75,4364.2980000000007,4093.971,3696.3619999999996,3909.79,3880.9270000000001,2714.9719999999998,null,{"$f":"SUM(BD8:BD15)","v":2239.9960000000005},3240.2280000000001,2753.047,3851.317,4304.143,3883.279,4315.8270000000002,4237.6959999999999,4155.3010000000004,4229.2389999999996,3891.9859999999999,3476.7849999999999,null,{"$f":"SUM(BQ8:BQ15)","v":1636.643},{"$f":"SUM(BR8:BR15)","v":2944.5919999999996},{"$f":"SUM(BS8:BS15)","v":4254.7740000000003},{"$f":"SUM(BT8:BT15)","v":4317.8530000000001},{"$f":"SUM(BU8:BU15)","v":4656.0020000000004},{"$f":"SUM(BV8:BV15)","v":4258.4420000000009},{"$f":"SUM(BW8:BW15)","v":4394.6289999999999},{"$f":"SUM(BX8:BX15)","v":3659.2739999999999},{"$f":"SUM(BY8:BY15)","v":3427.3240000000001},{"$f":"SUM(BZ8:BZ15)","v":3571.5819999999999},{"$f":"SUM(CA8:CA15)","v":3724.06},{"$f":"SUM(CB8:CB15)","v":3702.08},null,{"$f":"SUM(CD8:CD15)","v":3300.2329999999997},4021.4559999999997,4578.1699999999992,3818.6590000000001,3994.8690000000001,0,0,0,0,0,0,0]
[null,"Soybean",null,{"$f":"'Volume TU North'!D8+'Volume TU South'!D8","v":142.74599999999998},{"$f":"'Volume TU North'!E8+'Volume TU South'!E8","v":1528.5630000000001},{"$f":"'Volume TU North'!F8+'Volume TU South'!F8","v":2107.5079999999998},{"$f":"'Volume TU North'!G8+'Volume TU South'!G8","v":2097.5590000000002},{"$f":"'Volume TU North'!H8+'Volume TU South'!H8","v":1680.5549999999998},{"$f":"'Volume TU North'!I8+'Volume TU South'!I8","v":941.28500000000008},{"$f":"'Volume TU North'!J8+'Volume TU South'!J8","v":471.32099999999997},{"$f":"'Volume TU North'!K8+'Volume TU South'!K8","v":259.01400000000001},{"$f":"'Volume TU North'!L8+'Volume TU South'!L8","v":178.351},{"$f":"'Volume TU North'!M8+'Volume TU South'!M8","v":131.99100000000001},{"$f":"'Volume TU North'!N8+'Volume TU South'!N8","v":106.65600000000001},{"$f":"'Volume TU North'!O8+'Volume TU South'!O8","v":165.78399999999999},null,{"$f":"'Volume TU North'!Q8+'Volume TU South'!Q8","v":609.42399999999998},{"$f":"'Volume TU North'!R8+'Volume TU South'!R8","v":1735.2359999999999},{"$f":"'Volume TU North'!S8+'Volume TU South'!S8","v":2309.471},{"$f":"'Volume TU North'!T8+'Volume TU South'!T8","v":2030.9589999999998},{"$f":"'Volume TU North'!U8+'Volume TU South'!U8","v":1941.127},{"$f":"'Volume TU North'!V8+'Volume TU South'!V8","v":1231.9269999999999},{"$f":"'Volume TU North'!W8+'Volume TU South'!W8","v":769.84699999999998},{"$f":"'Volume TU North'!X8+'Volume TU South'!X8","v":531.851},{"$f":"'Volume TU North'!Y8+'Volume TU South'!Y8","v":248.45099999999999},{"$f":"'Volume TU North'!Z8+'Volume TU South'!Z8","v":307.33100000000002},{"$f":"'Volume TU North'!AA8+'Volume TU South'!AA8","v":519.91099999999994},{"$f":"'Volume TU North'!AB8+'Volume TU South'!AB8","v":544.00300000000004},null,{"$f":"'Volume TU North'!AD8+'Volume TU South'!AD8","v":788.63100000000009},{"$f":"'Volume TU North'!AE8+'Volume TU South'!AE8","v":1917.713},{"$f":"'Volume TU North'!AF8+'Volume TU South'!AF8","v":2641.4539999999997},{"$f":"'Volume TU North'!AG8+'Volume TU South'!AG8","v":2517.6149999999998},{"$f":"'Volume TU North'!AH8+'Volume TU South'!AH8","v":2080.9229999999998},{"$f":"'Volume TU North'!AI8+'Volume TU South'!AI8","v":2080.9259999999999},{"$f":"'Volume TU North'!AJ8+'Volume TU South'!AJ8","v":1235.597},{"$f":"'Volume TU North'!AK8+'Volume TU South'!AK8","v":1018.472},{"$f":"'Volume TU North'!AL8+'Volume TU South'!AL8","v":856.22199999999998},{"$f":"'Volume TU North'!AM8+'Volume TU South'!AM8","v":1009.054},{"$f":"'Volume TU North'!AN8+'Volume TU South'!AN8","v":768.97399999999993},{"$f":"'Volume TU North'!AO8+'Volume TU South'!AO8","v":375.79399999999998},null,{"$f":"'Volume TU North'!AQ8+'Volume TU South'!AQ8","v":1473.443},{"$f":"'Volume TU North'!AR8+'Volume TU South'!AR8","v":2093.7220000000002},{"$f":"'Volume TU North'!AS8+'Volume TU South'!AS8","v":2725.9360000000001},{"$f":"'Volume TU North'!AT8+'Volume TU South'!AT8","v":2114.4549999999999},{"$f":"'Volume TU North'!AU8+'Volume TU South'!AU8","v":1676.4960000000001},{"$f":"'Volume TU North'!AV8+'Volume TU South'!AV8","v":914.74600000000009},{"$f":"'Volume TU North'!AW8+'Volume TU South'!AW8","v":611.33500000000004},{"$f":"'Volume TU North'!AX8+'Volume TU South'!AX8","v":555.49299999999994},{"$f":"'Volume TU North'!AY8+'Volume TU South'!AY8","v":535.53499999999997},{"$f":"'Volume TU North'!AZ8+'Volume TU South'!AZ8","v":910.34400000000005},{"$f":"'Volume TU North'!BA8+'Volume TU South'!BA8","v":857.83100000000002},{"$f":"'Volume TU North'!BB8+'Volume TU South'!BB8","v":376.637},null,{"$f":"'Volume TU North'!BD8+'Volume TU South'!BD8","v":1062.0840000000001},{"$f":"'Volume TU North'!BE8+'Volume TU South'!BE8","v":2204.0410000000002},{"$f":"'Volume TU North'!BF8+'Volume TU South'!BF8","v":1936.8630000000001},{"$f":"'Volume TU North'!BG8+'Volume TU South'!BG8","v":2704.4490000000001},{"$f":"'Volume TU North'!BH8+'Volume TU South'!BH8","v":2797.585},{"$f":"'Volume TU North'!BI8+'Volume TU South'!BI8","v":1651.143},{"$f":"'Volume TU North'!BJ8+'Volume TU South'!BJ8","v":1161.146},{"$f":"'Volume TU North'!BK8+'Volume TU South'!BK8","v":701.78300000000002},{"$f":"'Volume TU North'!BL8+'Volume TU South'!BL8","v":397.161},{"$f":"'Volume TU North'!BM8+'Volume TU South'!BM8","v":201.99799999999999},{"$f":"'Volume TU North'!BN8+'Volume TU South'!BN8","v":62.343000000000004},{"$f":"'Volume TU North'!BO8+'Volume TU South'!BO8","v":58.633000000000003},null,{"$f":"'Volume TU North'!BQ8+'Volume TU South'!BQ8","v":214.72899999999998},{"$f":"'Volume TU North'!BR8+'Volume TU South'!BR8","v":1991.434},{"$f":"'Volume TU North'!BS8+'Volume TU South'!BS8","v":3321.7060000000001},{"$f":"'Volume TU North'!BT8+'Volume TU South'!BT8","v":3165.8910000000001},{"$f":"'Volume TU North'!BU8+'Volume TU South'!BU8","v":2992.26},{"$f":"'Volume TU North'!BV8+'Volume TU South'!BV8","v":2074.8620000000001},{"$f":"'Volume TU North'!BW8+'Volume TU South'!BW8","v":1039.9450000000002},{"$f":"'Volume TU North'!BX8+'Volume TU South'!BX8","v":659.173},{"$f":"'Volume TU North'!BY8+'Volume TU South'!BY8","v":662.35799999999995},{"$f":"'Volume TU North'!BZ8+'Volume TU South'!BZ8","v":744.83600000000001},{"$f":"'Volume TU North'!CA8+'Volume TU South'!CA8","v":832.779},{"$f":"'Volume TU North'!CB8+'Volume TU South'!CB8","v":638.29},null,{"$f":"'Volume TU North'!CD8+'Volume TU South'!CD8","v":1389.925},{"$f":"'Volume TU North'!CE8+'Volume TU South'!CE8","v":2866.9129999999996},{"$f":"'Volume TU North'!CF8+'Volume TU South'!CF8","v":3266.1860000000001},{"$f":"'Volume TU North'!CG8+'Volume TU South'!CG8","v":2467.9300000000003},{"$f":"'Volume TU North'!CH8+'Volume TU South'!CH8","v":2272.6770000000001},{"$f":"'Volume TU North'!CI8+'Volume TU South'!CI8","v":0},{"$f":"'Volume TU North'!CJ8+'Volume TU South'!CJ8","v":0},{"$f":"'Volume TU North'!CK8+'Volume TU South'!CK8","v":0},{"$f":"'Volume TU North'!CL8+'Volume TU South'!CL8","v":0},{"$f":"'Volume TU North'!CM8+'Volume TU South'!CM8","v":0},{"$f":"'Volume TU North'!CN8+'Volume TU South'!CN8","v":0},{"$f":"'Volume TU North'!CO8+'Volume TU South'!CO8","v":0}]
[null,"Soybean meal",null,{"$f":"'Volume TU North'!D9+'Volume TU South'!D9","v":201.066},{"$f":"'Volume TU North'!E9+'Volume TU South'!E9","v":310.15899999999999},{"$f":"'Volume TU North'!F9+'Volume TU South'!F9","v":390.72299999999996},{"$f":"'Volume TU North'!G9+'Volume TU South'!G9","v":434.66899999999998},{"$f":"'Volume TU North'!H9+'Volume TU South'!H9","v":400.65299999999996},{"$f":"'Volume TU North'!I9+'Volume TU South'!I9","v":377.34100000000001},{"$f":"'Volume TU North'!J9+'Volume TU South'!J9","v":297.404},{"$f":"'Volume TU North'!K9+'Volume TU South'!K9","v":251.399},{"$f":"'Volume TU North'!L9+'Volume TU South'!L9","v":277.005},{"$f":"'Volume TU North'!M9+'Volume TU South'!M9","v":338.68599999999998},{"$f":"'Volume TU North'!N9+'Volume TU South'!N9","v":367.55200000000002},{"$f":"'Volume TU North'!O9+'Volume TU South'!O9","v":323.33499999999998},null,{"$f":"'Volume TU North'!Q9+'Volume TU South'!Q9","v":322.85700000000003},{"$f":"'Volume TU North'!R9+'Volume TU South'!R9","v":338.25300000000004},{"$f":"'Volume TU North'!S9+'Volume TU South'!S9","v":416.84699999999998},{"$f":"'Volume TU North'!T9+'Volume TU South'!T9","v":466.62400000000002},{"$f":"'Volume TU North'!U9+'Volume TU South'!U9","v":421.60700000000003},{"$f":"'Volume TU North'!V9+'Volume TU South'!V9","v":358.04},{"$f":"'Volume TU North'!W9+'Volume TU South'!W9","v":416.762},{"$f":"'Volume TU North'!X9+'Volume TU South'!X9","v":337.64100000000002},{"$f":"'Volume TU North'!Y9+'Volume TU South'!Y9","v":342.96199999999999},{"$f":"'Volume TU North'!Z9+'Volume TU South'!Z9","v":421.26299999999998},{"$f":"'Volume TU North'!AA9+'Volume TU South'!AA9","v":414.32800000000003},{"$f":"'Volume TU North'!AB9+'Volume TU South'!AB9","v":428.827},null,{"$f":"'Volume TU North'!AD9+'Volume TU South'!AD9","v":371.79199999999997},{"$f":"'Volume TU North'!AE9+'Volume TU South'!AE9","v":412.18799999999999},{"$f":"'Volume TU North'!AF9+'Volume TU South'!AF9","v":466.13899999999995},{"$f":"'Volume TU North'!AG9+'Volume TU South'!AG9","v":510.47299999999996},{"$f":"'Volume TU North'!AH9+'Volume TU South'!AH9","v":422.16399999999999},{"$f":"'Volume TU North'!AI9+'Volume TU South'!AI9","v":464.21199999999999},{"$f":"'Volume TU North'!AJ9+'Volume TU South'!AJ9","v":426.05399999999997},{"$f":"'Volume TU North'!AK9+'Volume TU South'!AK9","v":411.50700000000001},{"$f":"'Volume TU North'!AL9+'Volume TU South'!AL9","v":435.91800000000001},{"$f":"'Volume TU North'!AM9+'Volume TU South'!AM9","v":374.36700000000002},{"$f":"'Volume TU North'!AN9+'Volume TU South'!AN9","v":432.49299999999999},{"$f":"'Volume TU North'!AO9+'Volume TU South'!AO9","v":499.10186999999996},null,{"$f":"'Volume TU North'!AQ9+'Volume TU South'!AQ9","v":393.57299999999998},{"$f":"'Volume TU North'!AR9+'Volume TU South'!AR9","v":393.024},{"$f":"'Volume TU North'!AS9+'Volume TU South'!AS9","v":521.64599999999996},{"$f":"'Volume TU North'!AT9+'Volume TU South'!AT9","v":521.30100000000004},{"$f":"'Volume TU North'!AU9+'Volume TU South'!AU9","v":488.44499999999999},{"$f":"'Volume TU North'!AV9+'Volume TU South'!AV9","v":550.63300000000004},{"$f":"'Volume TU North'!AW9+'Volume TU South'!AW9","v":519.30500000000006},{"$f":"'Volume TU North'!AX9+'Volume TU South'!AX9","v":401.11599999999999},{"$f":"'Volume TU North'!AY9+'Volume TU South'!AY9","v":463.47400000000005},{"$f":"'Volume TU North'!AZ9+'Volume TU South'!AZ9","v":492.40899999999999},{"$f":"'Volume TU North'!BA9+'Volume TU South'!BA9","v":536.87400000000002},{"$f":"'Volume TU North'!BB9+'Volume TU South'!BB9","v":472.54699999999997},null,{"$f":"'Volume TU North'!BD9+'Volume TU South'!BD9","v":362.15100000000001},{"$f":"'Volume TU North'!BE9+'Volume TU South'!BE9","v":453.77000000000004},{"$f":"'Volume TU North'!BF9+'Volume TU South'!BF9","v":477.68299999999999},{"$f":"'Volume TU North'!BG9+'Volume TU South'!BG9","v":539.11699999999996},{"$f":"'Volume TU North'!BH9+'Volume TU South'!BH9","v":540.87599999999998},{"$f":"'Volume TU North'!BI9+'Volume TU South'!BI9","v":536.495},{"$f":"'Volume TU North'!BJ9+'Volume TU South'!BJ9","v":571.58600000000001},{"$f":"'Volume TU North'!BK9+'Volume TU South'!BK9","v":534.12300000000005},{"$f":"'Volume TU North'!BL9+'Volume TU South'!BL9","v":518.57899999999995},{"$f":"'Volume TU North'!BM9+'Volume TU South'!BM9","v":548.96600000000001},{"$f":"'Volume TU North'!BN9+'Volume TU South'!BN9","v":450.41800000000001},{"$f":"'Volume TU North'!BO9+'Volume TU South'!BO9","v":488.26299999999998},null,{"$f":"'Volume TU North'!BQ9+'Volume TU South'!BQ9","v":334.87599999999998},{"$f":"'Volume TU North'!BR9+'Volume TU South'!BR9","v":419.029},{"$f":"'Volume TU North'!BS9+'Volume TU South'!BS9","v":529.52700000000004},{"$f":"'Volume TU North'!BT9+'Volume TU South'!BT9","v":603.17899999999997},{"$f":"'Volume TU North'!BU9+'Volume TU South'!BU9","v":582.25199999999995},{"$f":"'Volume TU North'!BV9+'Volume TU South'!BV9","v":628.71100000000001},{"$f":"'Volume TU North'!BW9+'Volume TU South'!BW9","v":646.09400000000005},{"$f":"'Volume TU North'!BX9+'Volume TU South'!BX9","v":587.62},{"$f":"'Volume TU North'!BY9+'Volume TU South'!BY9","v":560.41300000000001},{"$f":"'Volume TU North'!BZ9+'Volume TU South'!BZ9","v":503.83800000000002},{"$f":"'Volume TU North'!CA9+'Volume TU South'!CA9","v":586.56100000000004},{"$f":"'Volume TU North'!CB9+'Volume TU South'!CB9","v":578.54999999999995},null,{"$f":"'Volume TU North'!CD9+'Volume TU South'!CD9","v":483.86099999999999},{"$f":"'Volume TU North'!CE9+'Volume TU South'!CE9","v":530.60500000000002},{"$f":"'Volume TU North'!CF9+'Volume TU South'!CF9","v":705.74199999999996},{"$f":"'Volume TU North'!CG9+'Volume TU South'!CG9","v":737.50299999999993},{"$f":"'Volume TU North'!CH9+'Volume TU South'!CH9","v":685.75800000000004},{"$f":"'Volume TU North'!CI9+'Volume TU South'!CI9","v":0},{"$f":"'Volume TU North'!CJ9+'Volume TU South'!CJ9","v":0},{"$f":"'Volume TU North'!CK9+'Volume TU South'!CK9","v":0},{"$f":"'Volume TU North'!CL9+'Volume TU South'!CL9","v":0},{"$f":"'Volume TU North'!CM9+'Volume TU South'!CM9","v":0},{"$f":"'Volume TU North'!CN9+'Volume TU South'!CN9","v":0},{"$f":"'Volume TU North'!CO9+'Volume TU South'!CO9","v":0}]
[null,"Corn",null,{"$f":"'Volume TU North'!D10+'Volume TU South'!D10","v":1245.723},{"$f":"'Volume TU North'!E10+'Volume TU South'!E10","v":140.90899999999999},{"$f":"'Volume TU North'!F10+'Volume TU South'!F10","v":1.6819999999999999},{"$f":"'Volume TU North'!G10+'Volume TU South'!G10","v":0},{"$f":"'Volume TU North'!H10+'Volume TU South'!H10","v":0},{"$f":"'Volume TU North'!I10+'Volume TU South'!I10","v":213.88300000000001},{"$f":"'Volume TU North'!J10+'Volume TU South'!J10","v":1271.999},{"$f":"'Volume TU North'!K10+'Volume TU South'!K10","v":1588.8409999999999},{"$f":"'Volume TU North'!L10+'Volume TU South'!L10","v":1316.65},{"$f":"'Volume TU North'!M10+'Volume TU South'!M10","v":510.67},{"$f":"'Volume TU North'!N10+'Volume TU South'!N10","v":344.11200000000002},{"$f":"'Volume TU North'!O10+'Volume TU South'!O10","v":479.88599999999997},null,{"$f":"'Volume TU North'!Q10+'Volume TU South'!Q10","v":85.296000000000006},{"$f":"'Volume TU North'!R10+'Volume TU South'!R10","v":8.7970000000000006},{"$f":"'Volume TU North'!S10+'Volume TU South'!S10","v":0},{"$f":"'Volume TU North'!T10+'Volume TU South'!T10","v":0},{"$f":"'Volume TU North'!U10+'Volume TU South'!U10","v":7.2930000000000001},{"$f":"'Volume TU North'!V10+'Volume TU South'!V10","v":780.24600000000009},{"$f":"'Volume TU North'!W10+'Volume TU South'!W10","v":1542.625},{"$f":"'Volume TU North'!X10+'Volume TU South'!X10","v":1971.538},{"$f":"'Volume TU North'!Y10+'Volume TU South'!Y10","v":2109.0889999999999},{"$f":"'Volume TU North'!Z10+'Volume TU South'!Z10","v":1993.7729999999999},{"$f":"'Volume TU North'!AA10+'Volume TU South'!AA10","v":1553.7929999999999},{"$f":"'Volume TU North'!AB10+'Volume TU South'!AB10","v":1406.125},null,{"$f":"'Volume TU North'!AD10+'Volume TU South'!AD10","v":511.87099999999998},{"$f":"'Volume TU North'!AE10+'Volume TU South'!AE10","v":58.202999999999996},{"$f":"'Volume TU North'!AF10+'Volume TU South'!AF10","v":0},{"$f":"'Volume TU North'!AG10+'Volume TU South'!AG10","v":0},{"$f":"'Volume TU North'!AH10+'Volume TU South'!AH10","v":22.683999999999997},{"$f":"'Volume TU North'!AI10+'Volume TU South'!AI10","v":227.17699999999999},{"$f":"'Volume TU North'!AJ10+'Volume TU South'!AJ10","v":1437.771},{"$f":"'Volume TU North'!AK10+'Volume TU South'!AK10","v":1791.48},{"$f":"'Volume TU North'!AL10+'Volume TU South'!AL10","v":1790.3530000000001},{"$f":"'Volume TU North'!AM10+'Volume TU South'!AM10","v":1424.9639999999999},{"$f":"'Volume TU North'!AN10+'Volume TU South'!AN10","v":1820.7},{"$f":"'Volume TU North'!AO10+'Volume TU South'!AO10","v":1674.0989999999999},null,{"$f":"'Volume TU North'!AQ10+'Volume TU South'!AQ10","v":388.76300000000003},{"$f":"'Volume TU North'!AR10+'Volume TU South'!AR10","v":106.889},{"$f":"'Volume TU North'!AS10+'Volume TU South'!AS10","v":21.356999999999999},{"$f":"'Volume TU North'!AT10+'Volume TU South'!AT10","v":59.186},{"$f":"'Volume TU North'!AU10+'Volume TU South'!AU10","v":105.342},{"$f":"'Volume TU North'!AV10+'Volume TU South'!AV10","v":1738.048},{"$f":"'Volume TU North'!AW10+'Volume TU South'!AW10","v":2489.866},{"$f":"'Volume TU North'!AX10+'Volume TU South'!AX10","v":2524.502},{"$f":"'Volume TU North'!AY10+'Volume TU South'!AY10","v":2139.6},{"$f":"'Volume TU North'!AZ10+'Volume TU South'!AZ10","v":1938.5640000000001},{"$f":"'Volume TU North'!BA10+'Volume TU South'!BA10","v":1831.6860000000001},{"$f":"'Volume TU North'!BB10+'Volume TU South'!BB10","v":913.41700000000003},null,{"$f":"'Volume TU North'!BD10+'Volume TU South'!BD10","v":88.58},{"$f":"'Volume TU North'!BE10+'Volume TU South'!BE10","v":102.557},{"$f":"'Volume TU North'!BF10+'Volume TU South'!BF10","v":20.268999999999998},{"$f":"'Volume TU North'!BG10+'Volume TU South'!BG10","v":0},{"$f":"'Volume TU North'!BH10+'Volume TU South'!BH10","v":4.1000000000000002E-2},{"$f":"'Volume TU North'!BI10+'Volume TU South'!BI10","v":869.98800000000006},{"$f":"'Volume TU North'!BJ10+'Volume TU South'!BJ10","v":1771.9470000000001},{"$f":"'Volume TU North'!BK10+'Volume TU South'!BK10","v":1999.5539999999999},{"$f":"'Volume TU North'!BL10+'Volume TU South'!BL10","v":1911.519},{"$f":"'Volume TU North'!BM10+'Volume TU South'!BM10","v":1934.6089999999999},{"$f":"'Volume TU North'!BN10+'Volume TU South'!BN10","v":1869.337},{"$f":"'Volume TU North'!BO10+'Volume TU South'!BO10","v":1695.7439999999999},null,{"$f":"'Volume TU North'!BQ10+'Volume TU South'!BQ10","v":141.40800000000002},{"$f":"'Volume TU North'!BR10+'Volume TU South'!BR10","v":101.24299999999999},{"$f":"'Volume TU North'!BS10+'Volume TU South'!BS10","v":9.7650000000000006},{"$f":"'Volume TU North'!BT10+'Volume TU South'!BT10","v":0},{"$f":"'Volume TU North'!BU10+'Volume TU South'!BU10","v":0},{"$f":"'Volume TU North'!BV10+'Volume TU South'!BV10","v":319.69400000000002},{"$f":"'Volume TU North'!BW10+'Volume TU South'!BW10","v":1776.4659999999999},{"$f":"'Volume TU North'!BX10+'Volume TU South'!BX10","v":1342.011},{"$f":"'Volume TU North'!BY10+'Volume TU South'!BY10","v":861.572},{"$f":"'Volume TU North'!BZ10+'Volume TU South'!BZ10","v":1088.3420000000001},{"$f":"'Volume TU North'!CA10+'Volume TU South'!CA10","v":1144.566},{"$f":"'Volume TU North'!CB10+'Volume TU South'!CB10","v":1606.193},null,{"$f":"'Volume TU North'!CD10+'Volume TU South'!CD10","v":693.46400000000006},{"$f":"'Volume TU North'!CE10+'Volume TU South'!CE10","v":46.285999999999994},{"$f":"'Volume TU North'!CF10+'Volume TU South'!CF10","v":65.64},{"$f":"'Volume TU North'!CG10+'Volume TU South'!CG10","v":293.17500000000001},{"$f":"'Volume TU North'!CH10+'Volume TU South'!CH10","v":102.05500000000001},{"$f":"'Volume TU North'!CI10+'Volume TU South'!CI10","v":0},{"$f":"'Volume TU North'!CJ10+'Volume TU South'!CJ10","v":0},{"$f":"'Volume TU North'!CK10+'Volume TU South'!CK10","v":0},{"$f":"'Volume TU North'!CL10+'Volume TU South'!CL10","v":0},{"$f":"'Volume TU North'!CM10+'Volume TU South'!CM10","v":0},{"$f":"'Volume TU North'!CN10+'Volume TU South'!CN10","v":0},{"$f":"'Volume TU North'!CO10+'Volume TU South'!CO10","v":0}]
[null,"Sugar",null,{"$f":"'Volume TU North'!D11+'Volume TU South'!D11","v":343.24199999999996},{"$f":"'Volume TU North'!E11+'Volume TU South'!E11","v":222.58500000000001},{"$f":"'Volume TU North'!F11+'Volume TU South'!F11","v":259.31899999999996},{"$f":"'Volume TU North'!G11+'Volume TU South'!G11","v":317.08699999999999},{"$f":"'Volume TU North'!H11+'Volume TU South'!H11","v":643.20699999999999},{"$f":"'Volume TU North'!I11+'Volume TU South'!I11","v":906.71199999999999},{"$f":"'Volume TU North'!J11+'Volume TU South'!J11","v":757.60699999999997},{"$f":"'Volume TU North'!K11+'Volume TU South'!K11","v":841.56400000000008},{"$f":"'Volume TU North'!L11+'Volume TU South'!L11","v":869.16000000000008},{"$f":"'Volume TU North'!M11+'Volume TU South'!M11","v":1096.123},{"$f":"'Volume TU North'!N11+'Volume TU South'!N11","v":960.16799999999989},{"$f":"'Volume TU North'!O11+'Volume TU South'!O11","v":855.66800000000001},null,{"$f":"'Volume TU North'!Q11+'Volume TU South'!Q11","v":426.322},{"$f":"'Volume TU North'!R11+'Volume TU South'!R11","v":173.79400000000001},{"$f":"'Volume TU North'!S11+'Volume TU South'!S11","v":156.52700000000002},{"$f":"'Volume TU North'!T11+'Volume TU South'!T11","v":329.55700000000002},{"$f":"'Volume TU North'!U11+'Volume TU South'!U11","v":818.79600000000005},{"$f":"'Volume TU North'!V11+'Volume TU South'!V11","v":636.71400000000006},{"$f":"'Volume TU North'!W11+'Volume TU South'!W11","v":584.45299999999997},{"$f":"'Volume TU North'!X11+'Volume TU South'!X11","v":613.09},{"$f":"'Volume TU North'!Y11+'Volume TU South'!Y11","v":630.28700000000003},{"$f":"'Volume TU North'!Z11+'Volume TU South'!Z11","v":583.24},{"$f":"'Volume TU North'!AA11+'Volume TU South'!AA11","v":567.45100000000002},{"$f":"'Volume TU North'!AB11+'Volume TU South'!AB11","v":443.73699999999997},null,{"$f":"'Volume TU North'!AD11+'Volume TU South'!AD11","v":502.69900000000001},{"$f":"'Volume TU North'!AE11+'Volume TU South'!AE11","v":297.03199999999998},{"$f":"'Volume TU North'!AF11+'Volume TU South'!AF11","v":221.35700000000003},{"$f":"'Volume TU North'!AG11+'Volume TU South'!AG11","v":254.70300000000003},{"$f":"'Volume TU North'!AH11+'Volume TU South'!AH11","v":640.70499999999993},{"$f":"'Volume TU North'!AI11+'Volume TU South'!AI11","v":692.89100000000008},{"$f":"'Volume TU North'!AJ11+'Volume TU South'!AJ11","v":483.19299999999998},{"$f":"'Volume TU North'!AK11+'Volume TU South'!AK11","v":488.12},{"$f":"'Volume TU North'!AL11+'Volume TU South'!AL11","v":525.60400000000004},{"$f":"'Volume TU North'!AM11+'Volume TU South'!AM11","v":601.84799999999996},{"$f":"'Volume TU North'!AN11+'Volume TU South'!AN11","v":340.06100000000004},{"$f":"'Volume TU North'!AO11+'Volume TU South'!AO11","v":373.69299999999998},null,{"$f":"'Volume TU North'!AQ11+'Volume TU South'!AQ11","v":214.29899999999998},{"$f":"'Volume TU North'!AR11+'Volume TU South'!AR11","v":124.41200000000001},{"$f":"'Volume TU North'!AS11+'Volume TU South'!AS11","v":226.78800000000001},{"$f":"'Volume TU North'!AT11+'Volume TU South'!AT11","v":394.36799999999994},{"$f":"'Volume TU North'!AU11+'Volume TU South'!AU11","v":479.4},{"$f":"'Volume TU North'!AV11+'Volume TU South'!AV11","v":380.56899999999996},{"$f":"'Volume TU North'!AW11+'Volume TU South'!AW11","v":437.48500000000001},{"$f":"'Volume TU North'!AX11+'Volume TU South'!AX11","v":351.40899999999999},{"$f":"'Volume TU North'!AY11+'Volume TU South'!AY11","v":381.15999999999997},{"$f":"'Volume TU North'!AZ11+'Volume TU South'!AZ11","v":350.45500000000004},{"$f":"'Volume TU North'!BA11+'Volume TU South'!BA11","v":398.86899999999997},{"$f":"'Volume TU North'!BB11+'Volume TU South'!BB11","v":591.68700000000001},null,{"$f":"'Volume TU North'!BD11+'Volume TU South'!BD11","v":400.38},{"$f":"'Volume TU North'!BE11+'Volume TU South'!BE11","v":266.399},{"$f":"'Volume TU North'!BF11+'Volume TU South'!BF11","v":217.00299999999999},{"$f":"'Volume TU North'!BG11+'Volume TU South'!BG11","v":360.52300000000002},{"$f":"'Volume TU North'!BH11+'Volume TU South'!BH11","v":650.20399999999995},{"$f":"'Volume TU North'!BI11+'Volume TU South'!BI11","v":535.26299999999992},{"$f":"'Volume TU North'!BJ11+'Volume TU South'!BJ11","v":496.44000000000005},{"$f":"'Volume TU North'!BK11+'Volume TU South'!BK11","v":772.57999999999993},{"$f":"'Volume TU North'!BL11+'Volume TU South'!BL11","v":1080.2809999999999},{"$f":"'Volume TU North'!BM11+'Volume TU South'!BM11","v":1204.5819999999999},{"$f":"'Volume TU North'!BN11+'Volume TU South'!BN11","v":1090.213},{"$f":"'Volume TU North'!BO11+'Volume TU South'!BO11","v":831.93499999999995},null,{"$f":"'Volume TU North'!BQ11+'Volume TU South'!BQ11","v":611.04700000000003},{"$f":"'Volume TU North'!BR11+'Volume TU South'!BR11","v":150.06},{"$f":"'Volume TU North'!BS11+'Volume TU South'!BS11","v":236.76299999999998},{"$f":"'Volume TU North'!BT11+'Volume TU South'!BT11","v":359.12799999999999},{"$f":"'Volume TU North'!BU11+'Volume TU South'!BU11","v":856.17700000000002},{"$f":"'Volume TU North'!BV11+'Volume TU South'!BV11","v":988.53899999999999},{"$f":"'Volume TU North'!BW11+'Volume TU South'!BW11","v":512.90200000000004},{"$f":"'Volume TU North'!BX11+'Volume TU South'!BX11","v":618.45900000000006},{"$f":"'Volume TU North'!BY11+'Volume TU South'!BY11","v":995.62099999999998},{"$f":"'Volume TU North'!BZ11+'Volume TU South'!BZ11","v":883.47499999999991},{"$f":"'Volume TU North'!CA11+'Volume TU South'!CA11","v":754.71199999999999},{"$f":"'Volume TU North'!CB11+'Volume TU South'!CB11","v":442.62299999999999},null,{"$f":"'Volume TU North'!CD11+'Volume TU South'!CD11","v":338.61500000000001},{"$f":"'Volume TU North'!CE11+'Volume TU South'!CE11","v":99.456999999999994},{"$f":"'Volume TU North'!CF11+'Volume TU South'!CF11","v":209.49600000000001},{"$f":"'Volume TU North'!CG11+'Volume TU South'!CG11","v":170.34800000000001},{"$f":"'Volume TU North'!CH11+'Volume TU South'!CH11","v":584.86099999999999},{"$f":"'Volume TU North'!CI11+'Volume TU South'!CI11","v":0},{"$f":"'Volume TU North'!CJ11+'Volume TU South'!CJ11","v":0},{"$f":"'Volume TU North'!CK11+'Volume TU South'!CK11","v":0},{"$f":"'Volume TU North'!CL11+'Volume TU South'!CL11","v":0},{"$f":"'Volume TU North'!CM11+'Volume TU South'!CM11","v":0},{"$f":"'Volume TU North'!CN11+'Volume TU South'!CN11","v":0},{"$f":"'Volume TU North'!CO11+'Volume TU South'!CO11","v":0}]
[null,"Fertilizers",null,{"$f":"'Volume TU North'!D12+'Volume TU South'!D12","v":40.015999999999998},{"$f":"'Volume TU North'!E12+'Volume TU South'!E12","v":26.385000000000002},{"$f":"'Volume TU North'!F12+'Volume TU South'!F12","v":29.763999999999999},{"$f":"'Volume TU North'!G12+'Volume TU South'!G12","v":37.642000000000003},{"$f":"'Volume TU North'!H12+'Volume TU South'!H12","v":94.590999999999994},{"$f":"'Volume TU North'!I12+'Volume TU South'!I12","v":118.747},{"$f":"'Volume TU North'!J12+'Volume TU South'!J12","v":135.369},{"$f":"'Volume TU North'!K12+'Volume TU South'!K12","v":148.98500000000001},{"$f":"'Volume TU North'!L12+'Volume TU South'!L12","v":195.93199999999999},{"$f":"'Volume TU North'!M12+'Volume TU South'!M12","v":149.495},{"$f":"'Volume TU North'!N12+'Volume TU South'!N12","v":157.22999999999999},{"$f":"'Volume TU North'!O12+'Volume TU South'!O12","v":121.94},null,{"$f":"'Volume TU North'!Q12+'Volume TU South'!Q12","v":101.56399999999999},{"$f":"'Volume TU North'!R12+'Volume TU South'!R12","v":70.692999999999998},{"$f":"'Volume TU North'!S12+'Volume TU South'!S12","v":52.874000000000002},{"$f":"'Volume TU North'!T12+'Volume TU South'!T12","v":118.539},{"$f":"'Volume TU North'!U12+'Volume TU South'!U12","v":108.35},{"$f":"'Volume TU North'!V12+'Volume TU South'!V12","v":77.277000000000001},{"$f":"'Volume TU North'!W12+'Volume TU South'!W12","v":76.747},{"$f":"'Volume TU North'!X12+'Volume TU South'!X12","v":91.299000000000007},{"$f":"'Volume TU North'!Y12+'Volume TU South'!Y12","v":99.471000000000004},{"$f":"'Volume TU North'!Z12+'Volume TU South'!Z12","v":110.258},{"$f":"'Volume TU North'!AA12+'Volume TU South'!AA12","v":95.177000000000007},{"$f":"'Volume TU North'!AB12+'Volume TU South'!AB12","v":96.216999999999999},null,{"$f":"'Volume TU North'!AD12+'Volume TU South'!AD12","v":101.39400000000001},{"$f":"'Volume TU North'!AE12+'Volume TU South'!AE12","v":79.974999999999994},{"$f":"'Volume TU North'!AF12+'Volume TU South'!AF12","v":58.162999999999997},{"$f":"'Volume TU North'!AG12+'Volume TU South'!AG12","v":72.631999999999991},{"$f":"'Volume TU North'!AH12+'Volume TU South'!AH12","v":110.30199999999999},{"$f":"'Volume TU North'!AI12+'Volume TU South'!AI12","v":142.22499999999999},{"$f":"'Volume TU North'!AJ12+'Volume TU South'!AJ12","v":211.946},{"$f":"'Volume TU North'!AK12+'Volume TU South'!AK12","v":215.261},{"$f":"'Volume TU North'!AL12+'Volume TU South'!AL12","v":148.04500000000002},{"$f":"'Volume TU North'!AM12+'Volume TU South'!AM12","v":152.613},{"$f":"'Volume TU North'!AN12+'Volume TU South'!AN12","v":217.358},{"$f":"'Volume TU North'!AO12+'Volume TU South'!AO12","v":261.14300000000003},null,{"$f":"'Volume TU North'!AQ12+'Volume TU South'!AQ12","v":232.57499999999999},{"$f":"'Volume TU North'!AR12+'Volume TU South'!AR12","v":136.28800000000001},{"$f":"'Volume TU North'!AS12+'Volume TU South'!AS12","v":143.88900000000001},{"$f":"'Volume TU North'!AT12+'Volume TU South'!AT12","v":188.62},{"$f":"'Volume TU North'!AU12+'Volume TU South'!AU12","v":288.45000000000005},{"$f":"'Volume TU North'!AV12+'Volume TU South'!AV12","v":275.75400000000002},{"$f":"'Volume TU North'!AW12+'Volume TU South'!AW12","v":306.30700000000002},{"$f":"'Volume TU North'!AX12+'Volume TU South'!AX12","v":261.45100000000002},{"$f":"'Volume TU North'!AY12+'Volume TU South'!AY12","v":176.59300000000002},{"$f":"'Volume TU North'!AZ12+'Volume TU South'!AZ12","v":218.01799999999997},{"$f":"'Volume TU North'!BA12+'Volume TU South'!BA12","v":247.82799999999997},{"$f":"'Volume TU North'!BB12+'Volume TU South'!BB12","v":292.017},null,{"$f":"'Volume TU North'!BD12+'Volume TU South'!BD12","v":272.86500000000001},{"$f":"'Volume TU North'!BE12+'Volume TU South'!BE12","v":211.18800000000002},{"$f":"'Volume TU North'!BF12+'Volume TU South'!BF12","v":101.229},{"$f":"'Volume TU North'!BG12+'Volume TU South'!BG12","v":247.22800000000001},{"$f":"'Volume TU North'!BH12+'Volume TU South'!BH12","v":315.43700000000001},{"$f":"'Volume TU North'!BI12+'Volume TU South'!BI12","v":290.39},{"$f":"'Volume TU North'!BJ12+'Volume TU South'!BJ12","v":314.70799999999997},{"$f":"'Volume TU North'!BK12+'Volume TU South'!BK12","v":229.65600000000001},{"$f":"'Volume TU North'!BL12+'Volume TU South'!BL12","v":247.761},{"$f":"'Volume TU North'!BM12+'Volume TU South'!BM12","v":322.07100000000003},{"$f":"'Volume TU North'!BN12+'Volume TU South'!BN12","v":313.08699999999999},{"$f":"'Volume TU North'!BO12+'Volume TU South'!BO12","v":309.625},null,{"$f":"'Volume TU North'!BQ12+'Volume TU South'!BQ12","v":329.63},{"$f":"'Volume TU North'!BR12+'Volume TU South'!BR12","v":282.82600000000002},{"$f":"'Volume TU North'!BS12+'Volume TU South'!BS12","v":157.01299999999998},{"$f":"'Volume TU North'!BT12+'Volume TU South'!BT12","v":189.655},{"$f":"'Volume TU North'!BU12+'Volume TU South'!BU12","v":225.31299999999999},{"$f":"'Volume TU North'!BV12+'Volume TU South'!BV12","v":246.636},{"$f":"'Volume TU North'!BW12+'Volume TU South'!BW12","v":419.22199999999998},{"$f":"'Volume TU North'!BX12+'Volume TU South'!BX12","v":452.01099999999997},{"$f":"'Volume TU North'!BY12+'Volume TU South'!BY12","v":347.36},{"$f":"'Volume TU North'!BZ12+'Volume TU South'!BZ12","v":349.70699999999999},{"$f":"'Volume TU North'!CA12+'Volume TU South'!CA12","v":294.137},{"$f":"'Volume TU North'!CB12+'Volume TU South'!CB12","v":284.339},null,{"$f":"'Volume TU North'!CD12+'Volume TU South'!CD12","v":256.33},{"$f":"'Volume TU North'!CE12+'Volume TU South'!CE12","v":305.63},{"$f":"'Volume TU North'!CF12+'Volume TU South'!CF12","v":267.94},{"$f":"'Volume TU North'!CG12+'Volume TU South'!CG12","v":141.69999999999999},{"$f":"'Volume TU North'!CH12+'Volume TU South'!CH12","v":348.26300000000003},{"$f":"'Volume TU North'!CI12+'Volume TU South'!CI12","v":0},{"$f":"'Volume TU North'!CJ12+'Volume TU South'!CJ12","v":0},{"$f":"'Volume TU North'!CK12+'Volume TU South'!CK12","v":0},{"$f":"'Volume TU North'!CL12+'Volume TU South'!CL12","v":0},{"$f":"'Volume TU North'!CM12+'Volume TU South'!CM12","v":0},{"$f":"'Volume TU North'!CN12+'Volume TU South'!CN12","v":0},{"$f":"'Volume TU North'!CO12+'Volume TU South'!CO12","v":0}]
[null,"Wheat",null,{"$f":"'Volume TU North'!D13+'Volume TU South'!D13","v":56.14},{"$f":"'Volume TU North'!E13+'Volume TU South'!E13","v":1.9339999999999999},{"$f":"'Volume TU North'!F13+'Volume TU South'!F13","v":2.9740000000000002},{"$f":"'Volume TU North'!G13+'Volume TU South'!G13","v":0},{"$f":"'Volume TU North'!H13+'Volume TU South'!H13","v":0},{"$f":"'Volume TU North'!I13+'Volume TU South'!I13","v":0},{"$f":"'Volume TU North'!J13+'Volume TU South'!J13","v":0},{"$f":"'Volume TU North'!K13+'Volume TU South'!K13","v":0},{"$f":"'Volume TU North'!L13+'Volume TU South'!L13","v":0},{"$f":"'Volume TU North'!M13+'Volume TU South'!M13","v":0},{"$f":"'Volume TU North'!N13+'Volume TU South'!N13","v":9.1210000000000004},{"$f":"'Volume TU North'!O13+'Volume TU South'!O13","v":22.268999999999998},null,{"$f":"'Volume TU North'!Q13+'Volume TU South'!Q13","v":62.997999999999998},{"$f":"'Volume TU North'!R13+'Volume TU South'!R13","v":82.959000000000003},{"$f":"'Volume TU North'!S13+'Volume TU South'!S13","v":18.082000000000001},{"$f":"'Volume TU North'!T13+'Volume TU South'!T13","v":0},{"$f":"'Volume TU North'!U13+'Volume TU South'!U13","v":0},{"$f":"'Volume TU North'!V13+'Volume TU South'!V13","v":0},{"$f":"'Volume TU North'!W13+'Volume TU South'!W13","v":0},{"$f":"'Volume TU North'!X13+'Volume TU South'!X13","v":0},{"$f":"'Volume TU North'!Y13+'Volume TU South'!Y13","v":0},{"$f":"'Volume TU North'!Z13+'Volume TU South'!Z13","v":0},{"$f":"'Volume TU North'!AA13+'Volume TU South'!AA13","v":6.04},{"$f":"'Volume TU North'!AB13+'Volume TU South'!AB13","v":13.396000000000001},null,{"$f":"'Volume TU North'!AD13+'Volume TU South'!AD13","v":27.41},{"$f":"'Volume TU North'!AE13+'Volume TU South'!AE13","v":6.7839999999999998},{"$f":"'Volume TU North'!AF13+'Volume TU South'!AF13","v":0},{"$f":"'Volume TU North'!AG13+'Volume TU South'!AG13","v":0},{"$f":"'Volume TU North'!AH13+'Volume TU South'!AH13","v":0},{"$f":"'Volume TU North'!AI13+'Volume TU South'!AI13","v":0},{"$f":"'Volume TU North'!AJ13+'Volume TU South'!AJ13","v":0},{"$f":"'Volume TU North'!AK13+'Volume TU South'!AK13","v":0},{"$f":"'Volume TU North'!AL13+'Volume TU South'!AL13","v":0},{"$f":"'Volume TU North'!AM13+'Volume TU South'!AM13","v":0},{"$f":"'Volume TU North'!AN13+'Volume TU South'!AN13","v":57.524000000000001},{"$f":"'Volume TU North'!AO13+'Volume TU South'!AO13","v":87.164000000000001},null,{"$f":"'Volume TU North'!AQ13+'Volume TU South'!AQ13","v":46.884999999999998},{"$f":"'Volume TU North'!AR13+'Volume TU South'!AR13","v":5.42},{"$f":"'Volume TU North'!AS13+'Volume TU South'!AS13","v":0},{"$f":"'Volume TU North'!AT13+'Volume TU South'!AT13","v":0},{"$f":"'Volume TU North'!AU13+'Volume TU South'!AU13","v":0},{"$f":"'Volume TU North'!AV13+'Volume TU South'!AV13","v":0},{"$f":"'Volume TU North'!AW13+'Volume TU South'!AW13","v":0},{"$f":"'Volume TU North'!AX13+'Volume TU South'!AX13","v":0},{"$f":"'Volume TU North'!AY13+'Volume TU South'!AY13","v":0},{"$f":"'Volume TU North'!AZ13+'Volume TU South'!AZ13","v":0},{"$f":"'Volume TU North'!BA13+'Volume TU South'!BA13","v":7.8390000000000004},{"$f":"'Volume TU North'!BB13+'Volume TU South'!BB13","v":53.780999999999999},null,{"$f":"'Volume TU North'!BD13+'Volume TU South'!BD13","v":40.94},{"$f":"'Volume TU North'!BE13+'Volume TU South'!BE13","v":2.2730000000000001},{"$f":"'Volume TU North'!BF13+'Volume TU South'!BF13","v":0},{"$f":"'Volume TU North'!BG13+'Volume TU South'!BG13","v":0},{"$f":"'Volume TU North'!BH13+'Volume TU South'!BH13","v":0},{"$f":"'Volume TU North'!BI13+'Volume TU South'!BI13","v":0},{"$f":"'Volume TU North'!BJ13+'Volume TU South'!BJ13","v":0},{"$f":"'Volume TU North'!BK13+'Volume TU South'!BK13","v":0},{"$f":"'Volume TU North'!BL13+'Volume TU South'!BL13","v":0},{"$f":"'Volume TU North'!BM13+'Volume TU South'!BM13","v":17.013000000000002},{"$f":"'Volume TU North'!BN13+'Volume TU South'!BN13","v":106.58799999999999},{"$f":"'Volume TU North'!BO13+'Volume TU South'!BO13","v":92.584999999999994},null,{"$f":"'Volume TU North'!BQ13+'Volume TU South'!BQ13","v":4.9530000000000003},{"$f":"'Volume TU North'!BR13+'Volume TU South'!BR13","v":0},{"$f":"'Volume TU North'!BS13+'Volume TU South'!BS13","v":0},{"$f":"'Volume TU North'!BT13+'Volume TU South'!BT13","v":0},{"$f":"'Volume TU North'!BU13+'Volume TU South'!BU13","v":0},{"$f":"'Volume TU North'!BV13+'Volume TU South'!BV13","v":0},{"$f":"'Volume TU North'!BW13+'Volume TU South'!BW13","v":0},{"$f":"'Volume TU North'!BX13+'Volume TU South'!BX13","v":0},{"$f":"'Volume TU North'!BY13+'Volume TU South'!BY13","v":0},{"$f":"'Volume TU North'!BZ13+'Volume TU South'!BZ13","v":1.3839999999999999},{"$f":"'Volume TU North'!CA13+'Volume TU South'!CA13","v":111.30500000000001},{"$f":"'Volume TU North'!CB13+'Volume TU South'!CB13","v":152.08500000000001},null,{"$f":"'Volume TU North'!CD13+'Volume TU South'!CD13","v":138.03800000000001},{"$f":"'Volume TU North'!CE13+'Volume TU South'!CE13","v":172.565},{"$f":"'Volume TU North'!CF13+'Volume TU South'!CF13","v":63.165999999999997},{"$f":"'Volume TU North'!CG13+'Volume TU South'!CG13","v":8.0030000000000001},{"$f":"'Volume TU North'!CH13+'Volume TU South'!CH13","v":1.2549999999999999},{"$f":"'Volume TU North'!CI13+'Volume TU South'!CI13","v":0},{"$f":"'Volume TU North'!CJ13+'Volume TU South'!CJ13","v":0},{"$f":"'Volume TU North'!CK13+'Volume TU South'!CK13","v":0},{"$f":"'Volume TU North'!CL13+'Volume TU South'!CL13","v":0},{"$f":"'Volume TU North'!CM13+'Volume TU South'!CM13","v":0},{"$f":"'Volume TU North'!CN13+'Volume TU South'!CN13","v":0},{"$f":"'Volume TU North'!CO13+'Volume TU South'!CO13","v":0}]
[null,"Malt",null,{"$f":"'Volume TU North'!D14+'Volume TU South'!D14","v":0},{"$f":"'Volume TU North'!E14+'Volume TU South'!E14","v":0},{"$f":"'Volume TU North'!F14+'Volume TU South'!F14","v":0},{"$f":"'Volume TU North'!G14+'Volume TU South'!G14","v":0},{"$f":"'Volume TU North'!H14+'Volume TU South'!H14","v":0},{"$f":"'Volume TU North'!I14+'Volume TU South'!I14","v":0},{"$f":"'Volume TU North'!J14+'Volume TU South'!J14","v":0},{"$f":"'Volume TU North'!K14+'Volume TU South'!K14","v":0},{"$f":"'Volume TU North'!L14+'Volume TU South'!L14","v":0},{"$f":"'Volume TU North'!M14+'Volume TU South'!M14","v":2.3109999999999999},{"$f":"'Volume TU North'!N14+'Volume TU South'!N14","v":0},{"$f":"'Volume TU North'!O14+'Volume TU South'!O14","v":0},null,{"$f":"'Volume TU North'!Q14+'Volume TU South'!Q14","v":0},{"$f":"'Volume TU North'!R14+'Volume TU South'!R14","v":0},{"$f":"'Volume TU North'!S14+'Volume TU South'!S14","v":0},{"$f":"'Volume TU North'!T14+'Volume TU South'!T14","v":0},{"$f":"'Volume TU North'!U14+'Volume TU South'!U14","v":0},{"$f":"'Volume TU North'!V14+'Volume TU South'!V14","v":0},{"$f":"'Volume TU North'!W14+'Volume TU South'!W14","v":0},{"$f":"'Volume TU North'!X14+'Volume TU South'!X14","v":0},{"$f":"'Volume TU North'!Y14+'Volume TU South'!Y14","v":0},{"$f":"'Volume TU North'!Z14+'Volume TU South'!Z14","v":0},{"$f":"'Volume TU North'!AA14+'Volume TU South'!AA14","v":0},{"$f":"'Volume TU North'!AB14+'Volume TU South'!AB14","v":0},null,{"$f":"'Volume TU North'!AD14+'Volume TU South'!AD14","v":0},{"$f":"'Volume TU North'!AE14+'Volume TU South'!AE14","v":0},{"$f":"'Volume TU North'!AF14+'Volume TU South'!AF14","v":0},{"$f":"'Volume TU North'!AG14+'Volume TU South'!AG14","v":0},{"$f":"'Volume TU North'!AH14+'Volume TU South'!AH14","v":0},{"$f":"'Volume TU North'!AI14+'Volume TU South'!AI14","v":0},{"$f":"'Volume TU North'!AJ14+'Volume TU South'!AJ14","v":0},{"$f":"'Volume TU North'!AK14+'Volume TU South'!AK14","v":0},{"$f":"'Volume TU North'!AL14+'Volume TU South'!AL14","v":0},{"$f":"'Volume TU North'!AM14+'Volume TU South'!AM14","v":0},{"$f":"'Volume TU North'!AN14+'Volume TU South'!AN14","v":0},{"$f":"'Volume TU North'!AO14+'Volume TU South'!AO14","v":0},null,{"$f":"'Volume TU North'!AQ14+'Volume TU South'!AQ14","v":0},{"$f":"'Volume TU North'!AR14+'Volume TU South'!AR14","v":0},{"$f":"'Volume TU North'!AS14+'Volume TU South'!AS14","v":0},{"$f":"'Volume TU North'!AT14+'Volume TU South'!AT14","v":0},{"$f":"'Volume TU North'!AU14+'Volume TU South'!AU14","v":0},{"$f":"'Volume TU North'!AV14+'Volume TU South'!AV14","v":0},{"$f":"'Volume TU North'!AW14+'Volume TU South'!AW14","v":0},{"$f":"'Volume TU North'!AX14+'Volume TU South'!AX14","v":0},{"$f":"'Volume TU North'!AY14+'Volume TU South'!AY14","v":0},{"$f":"'Volume TU North'!AZ14+'Volume TU South'!AZ14","v":0},{"$f":"'Volume TU North'!BA14+'Volume TU South'!BA14","v":0},{"$f":"'Volume TU North'!BB14+'Volume TU South'!BB14","v":0},null,{"$f":"'Volume TU North'!BD14+'Volume TU South'!BD14","v":0},{"$f":"'Volume TU North'!BE14+'Volume TU South'!BE14","v":0},{"$f":"'Volume TU North'!BF14+'Volume TU South'!BF14","v":0},{"$f":"'Volume TU North'!BG14+'Volume TU South'!BG14","v":0},{"$f":"'Volume TU North'!BH14+'Volume TU South'!BH14","v":0},{"$f":"'Volume TU North'!BI14+'Volume TU South'!BI14","v":0},{"$f":"'Volume TU North'!BJ14+'Volume TU South'!BJ14","v":0},{"$f":"'Volume TU North'!BK14+'Volume TU South'!BK14","v":0},{"$f":"'Volume TU North'!BL14+'Volume TU South'!BL14","v":0},{"$f":"'Volume TU North'!BM14+'Volume TU South'!BM14","v":0},{"$f":"'Volume TU North'!BN14+'Volume TU South'!BN14","v":0},{"$f":"'Volume TU North'!BO14+'Volume TU South'!BO14","v":0},null,{"$f":"'Volume TU North'!BQ14+'Volume TU South'!BQ14","v":0},{"$f":"'Volume TU North'!BR14+'Volume TU South'!BR14","v":0},{"$f":"'Volume TU North'!BS14+'Volume TU South'!BS14","v":0},{"$f":"'Volume TU North'!BT14+'Volume TU South'!BT14","v":0},{"$f":"'Volume TU North'!BU14+'Volume TU South'!BU14","v":0},{"$f":"'Volume TU North'!BV14+'Volume TU South'!BV14","v":0},{"$f":"'Volume TU North'!BW14+'Volume TU South'!BW14","v":0},{"$f":"'Volume TU North'!BX14+'Volume TU South'!BX14","v":0},{"$f":"'Volume TU North'!BY14+'Volume TU South'!BY14","v":0},{"$f":"'Volume TU North'!BZ14+'Volume TU South'!BZ14","v":0},{"$f":"'Volume TU North'!CA14+'Volume TU South'!CA14","v":0},{"$f":"'Volume TU North'!CB14+'Volume TU South'!CB14","v":0},null,{"$f":"'Volume TU North'!CD14+'Volume TU South'!CD14","v":0},{"$f":"'Volume TU North'!CE14+'Volume TU South'!CE14","v":0},{"$f":"'Volume TU North'!CF14+'Volume TU South'!CF14","v":0},{"$f":"'Volume TU North'!CG14+'Volume TU South'!CG14","v":0},{"$f":"'Volume TU North'!CH14+'Volume TU South'!CH14","v":0},{"$f":"'Volume TU North'!CI14+'Volume TU South'!CI14","v":0},{"$f":"'Volume TU North'!CJ14+'Volume TU South'!CJ14","v":0},{"$f":"'Volume TU North'!CK14+'Volume TU South'!CK14","v":0},{"$f":"'Volume TU North'!CL14+'Volume TU South'!CL14","v":0},{"$f":"'Volume TU North'!CM14+'Volume TU South'!CM14","v":0},{"$f":"'Volume TU North'!CN14+'Volume TU South'!CN14","v":0},{"$f":"'Volume TU North'!CO14+'Volume TU South'!CO14","v":0}]
[null,"Corn meal",null,{"$f":"'Volume TU North'!D15+'Volume TU South'!D15","v":0},{"$f":"'Volume TU North'!E15+'Volume TU South'!E15","v":0},{"$f":"'Volume TU North'!F15+'Volume TU South'!F15","v":0},{"$f":"'Volume TU North'!G15+'Volume TU South'!G15","v":0},{"$f":"'Volume TU North'!H15+'Volume TU South'!H15","v":0},{"$f":"'Volume TU North'!I15+'Volume TU South'!I15","v":0},{"$f":"'Volume TU North'!J15+'Volume TU South'!J15","v":0},{"$f":"'Volume TU North'!K15+'Volume TU South'!K15","v":0},{"$f":"'Volume TU North'!L15+'Volume TU South'!L15","v":0},{"$f":"'Volume TU North'!M15+'Volume TU South'!M15","v":0},{"$f":"'Volume TU North'!N15+'Volume TU South'!N15","v":0},{"$f":"'Volume TU North'!O15+'Volume TU South'!O15","v":0},null,{"$f":"'Volume TU North'!Q15+'Volume TU South'!Q15","v":0},{"$f":"'Volume TU North'!R15+'Volume TU South'!R15","v":0},{"$f":"'Volume TU North'!S15+'Volume TU South'!S15","v":0},{"$f":"'Volume TU North'!T15+'Volume TU South'!T15","v":0},{"$f":"'Volume TU North'!U15+'Volume TU South'!U15","v":0},{"$f":"'Volume TU North'!V15+'Volume TU South'!V15","v":0},{"$f":"'Volume TU North'!W15+'Volume TU South'!W15","v":0},{"$f":"'Volume TU North'!X15+'Volume TU South'!X15","v":0},{"$f":"'Volume TU North'!Y15+'Volume TU South'!Y15","v":0},{"$f":"'Volume TU North'!Z15+'Volume TU South'!Z15","v":0},{"$f":"'Volume TU North'!AA15+'Volume TU South'!AA15","v":0},{"$f":"'Volume TU North'!AB15+'Volume TU South'!AB15","v":0},null,{"$f":"'Volume TU North'!AD15+'Volume TU South'!AD15","v":0},{"$f":"'Volume TU North'!AE15+'Volume TU South'!AE15","v":0},{"$f":"'Volume TU North'!AF15+'Volume TU South'!AF15","v":0},{"$f":"'Volume TU North'!AG15+'Volume TU South'!AG15","v":0},{"$f":"'Volume TU North'!AH15+'Volume TU South'!AH15","v":0},{"$f":"'Volume TU North'!AI15+'Volume TU South'!AI15","v":0},{"$f":"'Volume TU North'!AJ15+'Volume TU South'!AJ15","v":0},{"$f":"'Volume TU North'!AK15+'Volume TU South'!AK15","v":0},{"$f":"'Volume TU North'!AL15+'Volume TU South'!AL15","v":0},{"$f":"'Volume TU North'!AM15+'Volume TU South'!AM15","v":0},{"$f":"'Volume TU North'!AN15+'Volume TU South'!AN15","v":0},{"$f":"'Volume TU North'!AO15+'Volume TU South'!AO15","v":0},null,{"$f":"'Volume TU North'!AQ15+'Volume TU South'!AQ15","v":0},{"$f":"'Volume TU North'!AR15+'Volume TU South'!AR15","v":0},{"$f":"'Volume TU North'!AS15+'Volume TU South'!AS15","v":0},{"$f":"'Volume TU North'!AT15+'Volume TU South'!AT15","v":0},{"$f":"'Volume TU North'!AU15+'Volume TU South'!AU15","v":0},{"$f":"'Volume TU North'!AV15+'Volume TU South'!AV15","v":0},{"$f":"'Volume TU North'!AW15+'Volume TU South'!AW15","v":0},{"$f":"'Volume TU North'!AX15+'Volume TU South'!AX15","v":0},{"$f":"'Volume TU North'!AY15+'Volume TU South'!AY15","v":0},{"$f":"'Volume TU North'!AZ15+'Volume TU South'!AZ15","v":0},{"$f":"'Volume TU North'!BA15+'Volume TU South'!BA15","v":0},{"$f":"'Volume TU North'!BB15+'Volume TU South'!BB15","v":14.885999999999999},null,{"$f":"'Volume TU North'!BD15+'Volume TU South'!BD15","v":12.996},{"$f":"'Volume TU North'!BE15+'Volume TU South'!BE15","v":0},{"$f":"'Volume TU North'!BF15+'Volume TU South'!BF15","v":0},{"$f":"'Volume TU North'!BG15+'Volume TU South'!BG15","v":0},{"$f":"'Volume TU North'!BH15+'Volume TU South'!BH15","v":0},{"$f":"'Volume TU North'!BI15+'Volume TU South'!BI15","v":0},{"$f":"'Volume TU North'!BJ15+'Volume TU South'!BJ15","v":0},{"$f":"'Volume TU North'!BK15+'Volume TU South'!BK15","v":0},{"$f":"'Volume TU North'!BL15+'Volume TU South'!BL15","v":0},{"$f":"'Volume TU North'!BM15+'Volume TU South'!BM15","v":0},{"$f":"'Volume TU North'!BN15+'Volume TU South'!BN15","v":0},{"$f":"'Volume TU North'!BO15+'Volume TU South'!BO15","v":0},null,{"$f":"'Volume TU North'!BQ15+'Volume TU South'!BQ15","v":0},{"$f":"'Volume TU North'!BR15+'Volume TU South'!BR15","v":0},{"$f":"'Volume TU North'!BS15+'Volume TU South'!BS15","v":0},{"$f":"'Volume TU North'!BT15+'Volume TU South'!BT15","v":0},{"$f":"'Volume TU North'!BU15+'Volume TU South'!BU15","v":0},{"$f":"'Volume TU North'!BV15+'Volume TU South'!BV15","v":0},{"$f":"'Volume TU North'!BW15+'Volume TU South'!BW15","v":0},{"$f":"'Volume TU North'!BX15+'Volume TU South'!BX15","v":0},{"$f":"'Volume TU North'!BY15+'Volume TU South'!BY15","v":0},{"$f":"'Volume TU North'!BZ15+'Volume TU South'!BZ15","v":0},{"$f":"'Volume TU North'!CA15+'Volume TU South'!CA15","v":0},{"$f":"'Volume TU North'!CB15+'Volume TU South'!CB15","v":0},null,{"$f":"'Volume TU North'!CD15+'Volume TU South'!CD15","v":0},{"$f":"'Volume TU North'!CE15+'Volume TU South'!CE15","v":0},{"$f":"'Volume TU North'!CF15+'Volume TU South'!CF15","v":0},{"$f":"'Volume TU North'!CG15+'Volume TU South'!CG15","v":0},{"$f":"'Volume TU North'!CH15+'Volume TU South'!CH15","v":0},{"$f":"'Volume TU North'!CI15+'Volume TU South'!CI15","v":0},{"$f":"'Volume TU North'!CJ15+'Volume TU South'!CJ15","v":0},{"$f":"'Volume TU North'!CK15+'Volume TU South'!CK15","v":0},{"$f":"'Volume TU North'!CL15+'Volume TU South'!CL15","v":0},{"$f":"'Volume TU North'!CM15+'Volume TU South'!CM15","v":0},{"$f":"'Volume TU North'!CN15+'Volume TU South'!CN15","v":0},{"$f":"'Volume TU North'!CO15+'Volume TU South'!CO15","v":0}]
[null,"Containers",null,{"$f":"'Volume TU North'!D16+'Volume TU South'!D16","v":140.19499999999999},{"$f":"'Volume TU North'!E16+'Volume TU South'!E16","v":164.41800000000001},{"$f":"'Volume TU North'!F16+'Volume TU South'!F16","v":177.74799999999999},{"$f":"'Volume TU North'!G16+'Volume TU South'!G16","v":166.38900000000001},{"$f":"'Volume TU North'!H16+'Volume TU South'!H16","v":169.42400000000001},{"$f":"'Volume TU North'!I16+'Volume TU South'!I16","v":172.846},{"$f":"'Volume TU North'!J16+'Volume TU South'!J16","v":165.29700000000003},{"$f":"'Volume TU North'!K16+'Volume TU South'!K16","v":157.87299999999999},{"$f":"'Volume TU North'!L16+'Volume TU South'!L16","v":147.81},{"$f":"'Volume TU North'!M16+'Volume TU South'!M16","v":153.98699999999999},{"$f":"'Volume TU North'!N16+'Volume TU South'!N16","v":147.32600000000002},{"$f":"'Volume TU North'!O16+'Volume TU South'!O16","v":126.71700000000001},null,{"$f":"'Volume TU North'!Q16+'Volume TU South'!Q16","v":150.226},{"$f":"'Volume TU North'!R16+'Volume TU South'!R16","v":132.31200000000001},{"$f":"'Volume TU North'!S16+'Volume TU South'!S16","v":147.85},{"$f":"'Volume TU North'!T16+'Volume TU South'!T16","v":156.88299999999998},{"$f":"'Volume TU North'!U16+'Volume TU South'!U16","v":180.30799999999999},{"$f":"'Volume TU North'!V16+'Volume TU South'!V16","v":166.727},{"$f":"'Volume TU North'!W16+'Volume TU South'!W16","v":165.137},{"$f":"'Volume TU North'!X16+'Volume TU South'!X16","v":183.179},{"$f":"'Volume TU North'!Y16+'Volume TU South'!Y16","v":159.23099999999999},{"$f":"'Volume TU North'!Z16+'Volume TU South'!Z16","v":163.31100000000001},{"$f":"'Volume TU North'!AA16+'Volume TU South'!AA16","v":137.26},{"$f":"'Volume TU North'!AB16+'Volume TU South'!AB16","v":131.977},null,{"$f":"'Volume TU North'!AD16+'Volume TU South'!AD16","v":89.717999999999989},{"$f":"'Volume TU North'!AE16+'Volume TU South'!AE16","v":182.69200000000001},{"$f":"'Volume TU North'!AF16+'Volume TU South'!AF16","v":178.786},{"$f":"'Volume TU North'!AG16+'Volume TU South'!AG16","v":190.065},{"$f":"'Volume TU North'!AH16+'Volume TU South'!AH16","v":156.91899999999998},{"$f":"'Volume TU North'!AI16+'Volume TU South'!AI16","v":175.00700000000001},{"$f":"'Volume TU North'!AJ16+'Volume TU South'!AJ16","v":211.27800000000002},{"$f":"'Volume TU North'!AK16+'Volume TU South'!AK16","v":223.10599999999999},{"$f":"'Volume TU North'!AL16+'Volume TU South'!AL16","v":208.607},{"$f":"'Volume TU North'!AM16+'Volume TU South'!AM16","v":207.62900000000002},{"$f":"'Volume TU North'!AN16+'Volume TU South'!AN16","v":195.32400000000001},{"$f":"'Volume TU North'!AO16+'Volume TU South'!AO16","v":196.334},null,{"$f":"'Volume TU North'!AQ16+'Volume TU South'!AQ16","v":187.554},{"$f":"'Volume TU North'!AR16+'Volume TU South'!AR16","v":180.19900000000001},{"$f":"'Volume TU North'!AS16+'Volume TU South'!AS16","v":228.28699999999998},{"$f":"'Volume TU North'!AT16+'Volume TU South'!AT16","v":224.428},{"$f":"'Volume TU North'!AU16+'Volume TU South'!AU16","v":229.67500000000001},{"$f":"'Volume TU North'!AV16+'Volume TU South'!AV16","v":214.065},{"$f":"'Volume TU North'!AW16+'Volume TU South'!AW16","v":245.95800000000003},{"$f":"'Volume TU North'!AX16+'Volume TU South'!AX16","v":259.33699999999999},{"$f":"'Volume TU North'!AY16+'Volume TU South'!AY16","v":259.73},{"$f":"'Volume TU North'!AZ16+'Volume TU South'!AZ16","v":246.87899999999999},{"$f":"'Volume TU North'!BA16+'Volume TU South'!BA16","v":248.91000000000003},{"$f":"'Volume TU North'!BB16+'Volume TU South'!BB16","v":235.19},null,{"$f":"'Volume TU North'!BD16+'Volume TU South'!BD16","v":230.73099999999999},{"$f":"'Volume TU North'!BE16+'Volume TU South'!BE16","v":220.654},{"$f":"'Volume TU North'!BF16+'Volume TU South'!BF16","v":205.364},{"$f":"'Volume TU North'!BG16+'Volume TU South'!BG16","v":198.601},{"$f":"'Volume TU North'!BH16+'Volume TU South'!BH16","v":191.26499999999999},{"$f":"'Volume TU North'!BI16+'Volume TU South'!BI16","v":247.279},{"$f":"'Volume TU North'!BJ16+'Volume TU South'!BJ16","v":259.38099999999997},{"$f":"'Volume TU North'!BK16+'Volume TU South'!BK16","v":249.148},{"$f":"'Volume TU North'!BL16+'Volume TU South'!BL16","v":257.89400000000001},{"$f":"'Volume TU North'!BM16+'Volume TU South'!BM16","v":251.529},{"$f":"'Volume TU North'!BN16+'Volume TU South'!BN16","v":262.50400000000002},{"$f":"'Volume TU North'!BO16+'Volume TU South'!BO16","v":241.072},null,{"$f":"'Volume TU North'!BQ16+'Volume TU South'!BQ16","v":226.125},{"$f":"'Volume TU North'!BR16+'Volume TU South'!BR16","v":230.441},{"$f":"'Volume TU North'!BS16+'Volume TU South'!BS16","v":224.83099999999999},{"$f":"'Volume TU North'!BT16+'Volume TU South'!BT16","v":262.33499999999998},{"$f":"'Volume TU North'!BU16+'Volume TU South'!BU16","v":248.245},{"$f":"'Volume TU North'!BV16+'Volume TU South'!BV16","v":254.39999999999998},{"$f":"'Volume TU North'!BW16+'Volume TU South'!BW16","v":258.29399999999998},{"$f":"'Volume TU North'!BX16+'Volume TU South'!BX16","v":269.73900000000003},{"$f":"'Volume TU North'!BY16+'Volume TU South'!BY16","v":238.69600000000003},{"$f":"'Volume TU North'!BZ16+'Volume TU South'!BZ16","v":236.39699999999999},{"$f":"'Volume TU North'!CA16+'Volume TU South'!CA16","v":236.833},{"$f":"'Volume TU North'!CB16+'Volume TU South'!CB16","v":251.774},null,{"$f":"'Volume TU North'!CD16+'Volume TU South'!CD16","v":252.93299999999999},{"$f":"'Volume TU North'!CE16+'Volume TU South'!CE16","v":272.303},{"$f":"'Volume TU North'!CF16+'Volume TU South'!CF16","v":291.51300000000003},{"$f":"'Volume TU North'!CG16+'Volume TU South'!CG16","v":287.88599999999997},{"$f":"'Volume TU North'!CH16+'Volume TU South'!CH16","v":302.95799999999997},{"$f":"'Volume TU North'!CI16+'Volume TU South'!CI16","v":0},{"$f":"'Volume TU North'!CJ16+'Volume TU South'!CJ16","v":0},{"$f":"'Volume TU North'!CK16+'Volume TU South'!CK16","v":0},{"$f":"'Volume TU North'!CL16+'Volume TU South'!CL16","v":0},{"$f":"'Volume TU North'!CM16+'Volume TU South'!CM16","v":0},{"$f":"'Volume TU North'!CN16+'Volume TU South'!CN16","v":0},{"$f":"'Volume TU North'!CO16+'Volume TU South'!CO16","v":0}]
[null,"Industrial Products",null,{"$f":"SUM(D18:D21)","v":740.06700000000001},723.72500000000002,816.63599999999997,799.36099999999988,870.37799999999993,931.43100000000004,1003.774,1046.2640000000001,984.11599999999999,978.86300000000006,898.84699999999998,837.36799999999994,null,{"$f":"SUM(Q18:Q21)","v":906.6160000000001},823.70700000000011,902.18300000000011,873.471,995.11500000000001,993.28700000000003,1059.376,1075.7040000000002,1039.1979999999999,1134.3220000000001,1024.19,1045.0639999999999,null,{"$f":"SUM(AD18:AD21)","v":1018.0640000000001},1001.0050000000001,1039.749,976.00300000000004,1036.873,1136.0970000000002,1144.3180000000002,1186.066,1141.2329999999999,1169.3420000000001,1121.7750000000001,1112.1420000000001,null,{"$f":"SUM(AQ18:AQ21)","v":1002.3799999999999},876.7829999999999,981.41000000000008,1033.3529999999998,1075.4739999999999,1130.2550000000001,1181.8909999999998,1218.1400000000001,1165.7249999999999,1190.05,1076.4379999999999,896.88700000000006,null,{"$f":"SUM(BD18:BD21)","v":957.24299999999994},977.94500000000005,768.84799999999996,874.09899999999993,980.51299999999992,946.23699999999997,1091.7040000000002,1135.4659999999999,1156.402,971.702,902.89,827.1869999999999,null,{"$f":"SUM(BQ18:BQ21)","v":938.47299999999996},{"$f":"SUM(BR18:BR21)","v":1012.8580000000001},{"$f":"SUM(BS18:BS21)","v":1108.963},{"$f":"SUM(BT18:BT21)","v":1110.4739999999999},{"$f":"SUM(BU18:BU21)","v":1186.4560000000001},{"$f":"SUM(BV18:BV21)","v":1104.8579999999999},{"$f":"SUM(BW18:BW21)","v":1150.1519999999998},{"$f":"SUM(BX18:BX21)","v":1198.5800000000002},{"$f":"SUM(BY18:BY21)","v":1056.68},{"$f":"SUM(BZ18:BZ21)","v":1089.126},{"$f":"SUM(CA18:CA21)","v":992.56400000000008},{"$f":"SUM(CB18:CB21)","v":981.26},null,{"$f":"SUM(CD18:CD21)","v":979.63200000000006},934.22400000000005,1130.1820000000002,1066.5219999999999,1201.163,0,0,0,0,0,0,0]
[null,"Fuels",null,{"$f":"'Volume TU North'!D18+'Volume TU South'!D18","v":403.89499999999998},{"$f":"'Volume TU North'!E18+'Volume TU South'!E18","v":431.63800000000003},{"$f":"'Volume TU North'!F18+'Volume TU South'!F18","v":472.20400000000001},{"$f":"'Volume TU North'!G18+'Volume TU South'!G18","v":441.57099999999997},{"$f":"'Volume TU North'!H18+'Volume TU South'!H18","v":448.42599999999999},{"$f":"'Volume TU North'!I18+'Volume TU South'!I18","v":485.322},{"$f":"'Volume TU North'!J18+'Volume TU South'!J18","v":485.77},{"$f":"'Volume TU North'!K18+'Volume TU South'!K18","v":504.97400000000005},{"$f":"'Volume TU North'!L18+'Volume TU South'!L18","v":506.60199999999998},{"$f":"'Volume TU North'!M18+'Volume TU South'!M18","v":510.16700000000003},{"$f":"'Volume TU North'!N18+'Volume TU South'!N18","v":451.553},{"$f":"'Volume TU North'!O18+'Volume TU South'!O18","v":416.80599999999998},null,{"$f":"'Volume TU North'!Q18+'Volume TU South'!Q18","v":438.423},{"$f":"'Volume TU North'!R18+'Volume TU South'!R18","v":403.00900000000001},{"$f":"'Volume TU North'!S18+'Volume TU South'!S18","v":442.32299999999998},{"$f":"'Volume TU North'!T18+'Volume TU South'!T18","v":409.399},{"$f":"'Volume TU North'!U18+'Volume TU South'!U18","v":461.798},{"$f":"'Volume TU North'!V18+'Volume TU South'!V18","v":459.98700000000002},{"$f":"'Volume TU North'!W18+'Volume TU South'!W18","v":520.245},{"$f":"'Volume TU North'!X18+'Volume TU South'!X18","v":534.97900000000004},{"$f":"'Volume TU North'!Y18+'Volume TU South'!Y18","v":504.548},{"$f":"'Volume TU North'!Z18+'Volume TU South'!Z18","v":567.98099999999999},{"$f":"'Volume TU North'!AA18+'Volume TU South'!AA18","v":455.34},{"$f":"'Volume TU North'!AB18+'Volume TU South'!AB18","v":441.16300000000001},null,{"$f":"'Volume TU North'!AD18+'Volume TU South'!AD18","v":432.72699999999998},{"$f":"'Volume TU North'!AE18+'Volume TU South'!AE18","v":454.74800000000005},{"$f":"'Volume TU North'!AF18+'Volume TU South'!AF18","v":482.49699999999996},{"$f":"'Volume TU North'!AG18+'Volume TU South'!AG18","v":414.91199999999998},{"$f":"'Volume TU North'!AH18+'Volume TU South'!AH18","v":420.84699999999998},{"$f":"'Volume TU North'!AI18+'Volume TU South'!AI18","v":501.89600000000002},{"$f":"'Volume TU North'!AJ18+'Volume TU South'!AJ18","v":515.88200000000006},{"$f":"'Volume TU North'!AK18+'Volume TU South'!AK18","v":488.697},{"$f":"'Volume TU North'!AL18+'Volume TU South'!AL18","v":482.38299999999998},{"$f":"'Volume TU North'!AM18+'Volume TU South'!AM18","v":465.4},{"$f":"'Volume TU North'!AN18+'Volume TU South'!AN18","v":455.72199999999998},{"$f":"'Volume TU North'!AO18+'Volume TU South'!AO18","v":456.375},null,{"$f":"'Volume TU North'!AQ18+'Volume TU South'!AQ18","v":457.709},{"$f":"'Volume TU North'!AR18+'Volume TU South'!AR18","v":437.43700000000001},{"$f":"'Volume TU North'!AS18+'Volume TU South'!AS18","v":455.24700000000001},{"$f":"'Volume TU North'!AT18+'Volume TU South'!AT18","v":458.75200000000001},{"$f":"'Volume TU North'!AU18+'Volume TU South'!AU18","v":483.31600000000003},{"$f":"'Volume TU North'!AV18+'Volume TU South'!AV18","v":498.33600000000001},{"$f":"'Volume TU North'!AW18+'Volume TU South'!AW18","v":522.49299999999994},{"$f":"'Volume TU North'!AX18+'Volume TU South'!AX18","v":532.35900000000004},{"$f":"'Volume TU North'!AY18+'Volume TU South'!AY18","v":501.47300000000001},{"$f":"'Volume TU North'!AZ18+'Volume TU South'!AZ18","v":525.13900000000001},{"$f":"'Volume TU North'!BA18+'Volume TU South'!BA18","v":472.61099999999999},{"$f":"'Volume TU North'!BB18+'Volume TU South'!BB18","v":447.55600000000004},null,{"$f":"'Volume TU North'!BD18+'Volume TU South'!BD18","v":461.69599999999997},{"$f":"'Volume TU North'!BE18+'Volume TU South'!BE18","v":461.952},{"$f":"'Volume TU North'!BF18+'Volume TU South'!BF18","v":322.45799999999997},{"$f":"'Volume TU North'!BG18+'Volume TU South'!BG18","v":286.74299999999999},{"$f":"'Volume TU North'!BH18+'Volume TU South'!BH18","v":410.08299999999997},{"$f":"'Volume TU North'!BI18+'Volume TU South'!BI18","v":409.30200000000002},{"$f":"'Volume TU North'!BJ18+'Volume TU South'!BJ18","v":459.79300000000001},{"$f":"'Volume TU North'!BK18+'Volume TU South'!BK18","v":467.178},{"$f":"'Volume TU North'!BL18+'Volume TU South'!BL18","v":492.08299999999997},{"$f":"'Volume TU North'!BM18+'Volume TU South'!BM18","v":520.57899999999995},{"$f":"'Volume TU North'!BN18+'Volume TU South'!BN18","v":494.29399999999998},{"$f":"'Volume TU North'!BO18+'Volume TU South'!BO18","v":458.81799999999998},null,{"$f":"'Volume TU North'!BQ18+'Volume TU South'!BQ18","v":471.74799999999999},{"$f":"'Volume TU North'!BR18+'Volume TU South'!BR18","v":480.32400000000001},{"$f":"'Volume TU North'!BS18+'Volume TU South'!BS18","v":476.45600000000002},{"$f":"'Volume TU North'!BT18+'Volume TU South'!BT18","v":466.83799999999997},{"$f":"'Volume TU North'!BU18+'Volume TU South'!BU18","v":510.74400000000003},{"$f":"'Volume TU North'!BV18+'Volume TU South'!BV18","v":497.00599999999997},{"$f":"'Volume TU North'!BW18+'Volume TU South'!BW18","v":514.83799999999997},{"$f":"'Volume TU North'!BX18+'Volume TU South'!BX18","v":533.74599999999998},{"$f":"'Volume TU North'!BY18+'Volume TU South'!BY18","v":507.57600000000002},{"$f":"'Volume TU North'!BZ18+'Volume TU South'!BZ18","v":513.89400000000001},{"$f":"'Volume TU North'!CA18+'Volume TU South'!CA18","v":480.75900000000001},{"$f":"'Volume TU North'!CB18+'Volume TU South'!CB18","v":488.14},null,{"$f":"'Volume TU North'!CD18+'Volume TU South'!CD18","v":485.41899999999998},{"$f":"'Volume TU North'!CE18+'Volume TU South'!CE18","v":485.06},{"$f":"'Volume TU North'!CF18+'Volume TU South'!CF18","v":526.35800000000006},{"$f":"'Volume TU North'!CG18+'Volume TU South'!CG18","v":505.322},{"$f":"'Volume TU North'!CH18+'Volume TU South'!CH18","v":544.226},{"$f":"'Volume TU North'!CI18+'Volume TU South'!CI18","v":0},{"$f":"'Volume TU North'!CJ18+'Volume TU South'!CJ18","v":0},{"$f":"'Volume TU North'!CK18+'Volume TU South'!CK18","v":0},{"$f":"'Volume TU North'!CL18+'Volume TU South'!CL18","v":0},{"$f":"'Volume TU North'!CM18+'Volume TU South'!CM18","v":0},{"$f":"'Volume TU North'!CN18+'Volume TU South'!CN18","v":0},{"$f":"'Volume TU North'!CO18+'Volume TU South'!CO18","v":0}]
[null,"Wood, pulp and paper",null,{"$f":"'Volume TU North'!D19+'Volume TU South'!D19","v":60.374000000000002},{"$f":"'Volume TU North'!E19+'Volume TU South'!E19","v":62.96},{"$f":"'Volume TU North'!F19+'Volume TU South'!F19","v":64.436000000000007},{"$f":"'Volume TU North'!G19+'Volume TU South'!G19","v":64.503},{"$f":"'Volume TU North'!H19+'Volume TU South'!H19","v":82.876000000000005},{"$f":"'Volume TU North'!I19+'Volume TU South'!I19","v":90.808000000000007},{"$f":"'Volume TU North'!J19+'Volume TU South'!J19","v":129.744},{"$f":"'Volume TU North'!K19+'Volume TU South'!K19","v":131.49199999999999},{"$f":"'Volume TU North'!L19+'Volume TU South'!L19","v":123.536},{"$f":"'Volume TU North'!M19+'Volume TU South'!M19","v":134.66800000000001},{"$f":"'Volume TU North'!N19+'Volume TU South'!N19","v":119.172},{"$f":"'Volume TU North'!O19+'Volume TU South'!O19","v":116.38},null,{"$f":"'Volume TU North'!Q19+'Volume TU South'!Q19","v":121.27200000000001},{"$f":"'Volume TU North'!R19+'Volume TU South'!R19","v":78.311999999999998},{"$f":"'Volume TU North'!S19+'Volume TU South'!S19","v":109.82},{"$f":"'Volume TU North'!T19+'Volume TU South'!T19","v":123.256},{"$f":"'Volume TU North'!U19+'Volume TU South'!U19","v":143.63200000000001},{"$f":"'Volume TU North'!V19+'Volume TU South'!V19","v":136.928},{"$f":"'Volume TU North'!W19+'Volume TU South'!W19","v":138.18799999999999},{"$f":"'Volume TU North'!X19+'Volume TU South'!X19","v":139.476},{"$f":"'Volume TU North'!Y19+'Volume TU South'!Y19","v":147.08799999999999},{"$f":"'Volume TU North'!Z19+'Volume TU South'!Z19","v":178.596},{"$f":"'Volume TU North'!AA19+'Volume TU South'!AA19","v":203.292},{"$f":"'Volume TU North'!AB19+'Volume TU South'!AB19","v":238},null,{"$f":"'Volume TU North'!AD19+'Volume TU South'!AD19","v":218.791},{"$f":"'Volume TU North'!AE19+'Volume TU South'!AE19","v":202.26400000000001},{"$f":"'Volume TU North'!AF19+'Volume TU South'!AF19","v":180.32400000000001},{"$f":"'Volume TU North'!AG19+'Volume TU South'!AG19","v":171.28800000000001},{"$f":"'Volume TU North'!AH19+'Volume TU South'!AH19","v":189.148},{"$f":"'Volume TU North'!AI19+'Volume TU South'!AI19","v":257.74400000000003},{"$f":"'Volume TU North'!AJ19+'Volume TU South'!AJ19","v":234.73999999999998},{"$f":"'Volume TU North'!AK19+'Volume TU South'!AK19","v":300.69799999999998},{"$f":"'Volume TU North'!AL19+'Volume TU South'!AL19","v":259.93599999999998},{"$f":"'Volume TU North'!AM19+'Volume TU South'!AM19","v":292.32},{"$f":"'Volume TU North'!AN19+'Volume TU South'!AN19","v":272.892},{"$f":"'Volume TU North'!AO19+'Volume TU South'!AO19","v":284.29600000000005},null,{"$f":"'Volume TU North'!AQ19+'Volume TU South'!AQ19","v":261.55200000000002},{"$f":"'Volume TU North'!AR19+'Volume TU South'!AR19","v":219.11199999999999},{"$f":"'Volume TU North'!AS19+'Volume TU South'!AS19","v":267.03999999999996},{"$f":"'Volume TU North'!AT19+'Volume TU South'!AT19","v":249.30799999999999},{"$f":"'Volume TU North'!AU19+'Volume TU South'!AU19","v":254.196},{"$f":"'Volume TU North'!AV19+'Volume TU South'!AV19","v":245.80799999999999},{"$f":"'Volume TU North'!AW19+'Volume TU South'!AW19","v":229.32},{"$f":"'Volume TU North'!AX19+'Volume TU South'!AX19","v":260.012},{"$f":"'Volume TU North'!AY19+'Volume TU South'!AY19","v":271.52},{"$f":"'Volume TU North'!AZ19+'Volume TU South'!AZ19","v":293.31200000000001},{"$f":"'Volume TU North'!BA19+'Volume TU South'!BA19","v":284.94},{"$f":"'Volume TU North'!BB19+'Volume TU South'!BB19","v":288.24400000000003},null,{"$f":"'Volume TU North'!BD19+'Volume TU South'!BD19","v":277.46000000000004},{"$f":"'Volume TU North'!BE19+'Volume TU South'!BE19","v":217.452},{"$f":"'Volume TU North'!BF19+'Volume TU South'!BF19","v":218.27600000000001},{"$f":"'Volume TU North'!BG19+'Volume TU South'!BG19","v":199.66},{"$f":"'Volume TU North'!BH19+'Volume TU South'!BH19","v":261.83000000000004},{"$f":"'Volume TU North'!BI19+'Volume TU South'!BI19","v":257.29599999999999},{"$f":"'Volume TU North'!BJ19+'Volume TU South'!BJ19","v":297.38600000000002},{"$f":"'Volume TU North'!BK19+'Volume TU South'!BK19","v":304.64400000000001},{"$f":"'Volume TU North'!BL19+'Volume TU South'!BL19","v":307.78999999999996},{"$f":"'Volume TU North'!BM19+'Volume TU South'!BM19","v":302.31600000000003},{"$f":"'Volume TU North'!BN19+'Volume TU South'!BN19","v":303.03199999999998},{"$f":"'Volume TU North'!BO19+'Volume TU South'!BO19","v":188.57},null,{"$f":"'Volume TU North'!BQ19+'Volume TU South'!BQ19","v":277.14600000000002},{"$f":"'Volume TU North'!BR19+'Volume TU South'!BR19","v":272.464},{"$f":"'Volume TU North'!BS19+'Volume TU South'!BS19","v":295.072},{"$f":"'Volume TU North'!BT19+'Volume TU South'!BT19","v":288.31200000000001},{"$f":"'Volume TU North'!BU19+'Volume TU South'!BU19","v":298.50599999999997},{"$f":"'Volume TU North'!BV19+'Volume TU South'!BV19","v":273.60000000000002},{"$f":"'Volume TU North'!BW19+'Volume TU South'!BW19","v":271.67599999999999},{"$f":"'Volume TU North'!BX19+'Volume TU South'!BX19","v":321.38600000000002},{"$f":"'Volume TU North'!BY19+'Volume TU South'!BY19","v":269.28200000000004},{"$f":"'Volume TU North'!BZ19+'Volume TU South'!BZ19","v":280.38599999999997},{"$f":"'Volume TU North'!CA19+'Volume TU South'!CA19","v":262.66800000000001},{"$f":"'Volume TU North'!CB19+'Volume TU South'!CB19","v":253.072},null,{"$f":"'Volume TU North'!CD19+'Volume TU South'!CD19","v":245.43400000000003},{"$f":"'Volume TU North'!CE19+'Volume TU South'!CE19","v":211.34200000000001},{"$f":"'Volume TU North'!CF19+'Volume TU South'!CF19","v":310.00200000000001},{"$f":"'Volume TU North'!CG19+'Volume TU South'!CG19","v":277.23},{"$f":"'Volume TU North'!CH19+'Volume TU South'!CH19","v":285.27},{"$f":"'Volume TU North'!CI19+'Volume TU South'!CI19","v":0},{"$f":"'Volume TU North'!CJ19+'Volume TU South'!CJ19","v":0},{"$f":"'Volume TU North'!CK19+'Volume TU South'!CK19","v":0},{"$f":"'Volume TU North'!CL19+'Volume TU South'!CL19","v":0},{"$f":"'Volume TU North'!CM19+'Volume TU South'!CM19","v":0},{"$f":"'Volume TU North'!CN19+'Volume TU South'!CN19","v":0},{"$f":"'Volume TU North'!CO19+'Volume TU South'!CO19","v":0}]
[null,"Construction",null,{"$f":"'Volume TU North'!D20+'Volume TU South'!D20","v":63.997999999999998},{"$f":"'Volume TU North'!E20+'Volume TU South'!E20","v":75.308000000000007},{"$f":"'Volume TU North'!F20+'Volume TU South'!F20","v":84.034999999999997},{"$f":"'Volume TU North'!G20+'Volume TU South'!G20","v":85.867000000000004},{"$f":"'Volume TU North'!H20+'Volume TU South'!H20","v":78.944000000000003},{"$f":"'Volume TU North'!I20+'Volume TU South'!I20","v":97.022999999999996},{"$f":"'Volume TU North'!J20+'Volume TU South'!J20","v":102.803},{"$f":"'Volume TU North'!K20+'Volume TU South'!K20","v":111.39700000000001},{"$f":"'Volume TU North'!L20+'Volume TU South'!L20","v":105.209},{"$f":"'Volume TU North'!M20+'Volume TU South'!M20","v":100.83},{"$f":"'Volume TU North'!N20+'Volume TU South'!N20","v":97.067999999999998},{"$f":"'Volume TU North'!O20+'Volume TU South'!O20","v":92.293000000000006},null,{"$f":"'Volume TU North'!Q20+'Volume TU South'!Q20","v":101.41200000000001},{"$f":"'Volume TU North'!R20+'Volume TU South'!R20","v":87.427000000000007},{"$f":"'Volume TU North'!S20+'Volume TU South'!S20","v":94.281999999999996},{"$f":"'Volume TU North'!T20+'Volume TU South'!T20","v":92.403000000000006},{"$f":"'Volume TU North'!U20+'Volume TU South'!U20","v":101.154},{"$f":"'Volume TU North'!V20+'Volume TU South'!V20","v":82.278999999999996},{"$f":"'Volume TU North'!W20+'Volume TU South'!W20","v":101.848},{"$f":"'Volume TU North'!X20+'Volume TU South'!X20","v":102.581},{"$f":"'Volume TU North'!Y20+'Volume TU South'!Y20","v":93.915999999999997},{"$f":"'Volume TU North'!Z20+'Volume TU South'!Z20","v":100.30500000000001},{"$f":"'Volume TU North'!AA20+'Volume TU South'!AA20","v":75.057000000000002},{"$f":"'Volume TU North'!AB20+'Volume TU South'!AB20","v":86.501999999999995},null,{"$f":"'Volume TU North'!AD20+'Volume TU South'!AD20","v":79.734999999999999},{"$f":"'Volume TU North'!AE20+'Volume TU South'!AE20","v":78.171999999999997},{"$f":"'Volume TU North'!AF20+'Volume TU South'!AF20","v":91.382000000000005},{"$f":"'Volume TU North'!AG20+'Volume TU South'!AG20","v":78.183999999999997},{"$f":"'Volume TU North'!AH20+'Volume TU South'!AH20","v":82.296999999999997},{"$f":"'Volume TU North'!AI20+'Volume TU South'!AI20","v":81.956000000000003},{"$f":"'Volume TU North'!AJ20+'Volume TU South'!AJ20","v":83.495000000000005},{"$f":"'Volume TU North'!AK20+'Volume TU South'!AK20","v":82.566999999999993},{"$f":"'Volume TU North'!AL20+'Volume TU South'!AL20","v":89.221999999999994},{"$f":"'Volume TU North'!AM20+'Volume TU South'!AM20","v":95.337000000000003},{"$f":"'Volume TU North'!AN20+'Volume TU South'!AN20","v":95.387},{"$f":"'Volume TU North'!AO20+'Volume TU South'!AO20","v":69.846999999999994},null,{"$f":"'Volume TU North'!AQ20+'Volume TU South'!AQ20","v":86.203999999999994},{"$f":"'Volume TU North'!AR20+'Volume TU South'!AR20","v":82.105999999999995},{"$f":"'Volume TU North'!AS20+'Volume TU South'!AS20","v":82.644000000000005},{"$f":"'Volume TU North'!AT20+'Volume TU South'!AT20","v":76.054000000000002},{"$f":"'Volume TU North'!AU20+'Volume TU South'!AU20","v":87.521000000000001},{"$f":"'Volume TU North'!AV20+'Volume TU South'!AV20","v":90.51},{"$f":"'Volume TU North'!AW20+'Volume TU South'!AW20","v":94.313999999999993},{"$f":"'Volume TU North'!AX20+'Volume TU South'!AX20","v":103.953},{"$f":"'Volume TU North'!AY20+'Volume TU South'!AY20","v":97.713999999999999},{"$f":"'Volume TU North'!AZ20+'Volume TU South'!AZ20","v":100.559},{"$f":"'Volume TU North'!BA20+'Volume TU South'!BA20","v":87.456000000000003},{"$f":"'Volume TU North'!BB20+'Volume TU South'!BB20","v":79.257999999999996},null,{"$f":"'Volume TU North'!BD20+'Volume TU South'!BD20","v":89.27},{"$f":"'Volume TU North'!BE20+'Volume TU South'!BE20","v":92.811000000000007},{"$f":"'Volume TU North'!BF20+'Volume TU South'!BF20","v":60.804000000000002},{"$f":"'Volume TU North'!BG20+'Volume TU South'!BG20","v":90.418999999999997},{"$f":"'Volume TU North'!BH20+'Volume TU South'!BH20","v":102.468},{"$f":"'Volume TU North'!BI20+'Volume TU South'!BI20","v":92.522999999999996},{"$f":"'Volume TU North'!BJ20+'Volume TU South'!BJ20","v":89.373000000000005},{"$f":"'Volume TU North'!BK20+'Volume TU South'!BK20","v":98.649000000000001},{"$f":"'Volume TU North'!BL20+'Volume TU South'!BL20","v":94.611000000000004},{"$f":"'Volume TU North'!BM20+'Volume TU South'!BM20","v":113.919},{"$f":"'Volume TU North'!BN20+'Volume TU South'!BN20","v":101.962},{"$f":"'Volume TU North'!BO20+'Volume TU South'!BO20","v":86.102999999999994},null,{"$f":"'Volume TU North'!BQ20+'Volume TU South'!BQ20","v":95.335999999999999},{"$f":"'Volume TU North'!BR20+'Volume TU South'!BR20","v":88.218999999999994},{"$f":"'Volume TU North'!BS20+'Volume TU South'!BS20","v":110.014},{"$f":"'Volume TU North'!BT20+'Volume TU South'!BT20","v":110.886},{"$f":"'Volume TU North'!BU20+'Volume TU South'!BU20","v":111.273},{"$f":"'Volume TU North'!BV20+'Volume TU South'!BV20","v":101.712},{"$f":"'Volume TU North'!BW20+'Volume TU South'!BW20","v":110.006},{"$f":"'Volume TU North'!BX20+'Volume TU South'!BX20","v":114.22499999999999},{"$f":"'Volume TU North'!BY20+'Volume TU South'!BY20","v":112.429},{"$f":"'Volume TU North'!BZ20+'Volume TU South'!BZ20","v":105.066},{"$f":"'Volume TU North'!CA20+'Volume TU South'!CA20","v":107.84},{"$f":"'Volume TU North'!CB20+'Volume TU South'!CB20","v":99.099000000000004},null,{"$f":"'Volume TU North'!CD20+'Volume TU South'!CD20","v":97.650999999999996},{"$f":"'Volume TU North'!CE20+'Volume TU South'!CE20","v":99.384},{"$f":"'Volume TU North'!CF20+'Volume TU South'!CF20","v":105.661},{"$f":"'Volume TU North'!CG20+'Volume TU South'!CG20","v":95.661000000000001},{"$f":"'Volume TU North'!CH20+'Volume TU South'!CH20","v":112.614},{"$f":"'Volume TU North'!CI20+'Volume TU South'!CI20","v":0},{"$f":"'Volume TU North'!CJ20+'Volume TU South'!CJ20","v":0},{"$f":"'Volume TU North'!CK20+'Volume TU South'!CK20","v":0},{"$f":"'Volume TU North'!CL20+'Volume TU South'!CL20","v":0},{"$f":"'Volume TU North'!CM20+'Volume TU South'!CM20","v":0},{"$f":"'Volume TU North'!CN20+'Volume TU South'!CN20","v":0},{"$f":"'Volume TU North'!CO20+'Volume TU South'!CO20","v":0}]
[null,"Steel and mining",null,{"$f":"'Volume TU North'!D21+'Volume TU South'!D21","v":211.8},{"$f":"'Volume TU North'!E21+'Volume TU South'!E21","v":153.81899999999999},{"$f":"'Volume TU North'!F21+'Volume TU South'!F21","v":195.96100000000001},{"$f":"'Volume TU North'!G21+'Volume TU South'!G21","v":207.42},{"$f":"'Volume TU North'!H21+'Volume TU South'!H21","v":260.13200000000001},{"$f":"'Volume TU North'!I21+'Volume TU South'!I21","v":258.27800000000002},{"$f":"'Volume TU North'!J21+'Volume TU South'!J21","v":285.45699999999999},{"$f":"'Volume TU North'!K21+'Volume TU South'!K21","v":298.40100000000001},{"$f":"'Volume TU North'!L21+'Volume TU South'!L21","v":248.76900000000001},{"$f":"'Volume TU North'!M21+'Volume TU South'!M21","v":233.19800000000001},{"$f":"'Volume TU North'!N21+'Volume TU South'!N21","v":231.054},{"$f":"'Volume TU North'!O21+'Volume TU South'!O21","v":211.88900000000001},null,{"$f":"'Volume TU North'!Q21+'Volume TU South'!Q21","v":245.50899999999999},{"$f":"'Volume TU North'!R21+'Volume TU South'!R21","v":254.959},{"$f":"'Volume TU North'!S21+'Volume TU South'!S21","v":255.75800000000001},{"$f":"'Volume TU North'!T21+'Volume TU South'!T21","v":248.41300000000001},{"$f":"'Volume TU North'!U21+'Volume TU South'!U21","v":288.53100000000001},{"$f":"'Volume TU North'!V21+'Volume TU South'!V21","v":314.09300000000002},{"$f":"'Volume TU North'!W21+'Volume TU South'!W21","v":299.09500000000003},{"$f":"'Volume TU North'!X21+'Volume TU South'!X21","v":298.66800000000001},{"$f":"'Volume TU North'!Y21+'Volume TU South'!Y21","v":293.64600000000002},{"$f":"'Volume TU North'!Z21+'Volume TU South'!Z21","v":287.44},{"$f":"'Volume TU North'!AA21+'Volume TU South'!AA21","v":290.50099999999998},{"$f":"'Volume TU North'!AB21+'Volume TU South'!AB21","v":279.399},null,{"$f":"'Volume TU North'!AD21+'Volume TU South'!AD21","v":286.81099999999998},{"$f":"'Volume TU North'!AE21+'Volume TU South'!AE21","v":265.82100000000003},{"$f":"'Volume TU North'!AF21+'Volume TU South'!AF21","v":285.54599999999999},{"$f":"'Volume TU North'!AG21+'Volume TU South'!AG21","v":311.61900000000003},{"$f":"'Volume TU North'!AH21+'Volume TU South'!AH21","v":344.58100000000002},{"$f":"'Volume TU North'!AI21+'Volume TU South'!AI21","v":294.50099999999998},{"$f":"'Volume TU North'!AJ21+'Volume TU South'!AJ21","v":310.20100000000002},{"$f":"'Volume TU North'!AK21+'Volume TU South'!AK21","v":314.10399999999998},{"$f":"'Volume TU North'!AL21+'Volume TU South'!AL21","v":309.69200000000001},{"$f":"'Volume TU North'!AM21+'Volume TU South'!AM21","v":316.28500000000003},{"$f":"'Volume TU North'!AN21+'Volume TU South'!AN21","v":297.774},{"$f":"'Volume TU North'!AO21+'Volume TU South'!AO21","v":301.62400000000002},null,{"$f":"'Volume TU North'!AQ21+'Volume TU South'!AQ21","v":196.91499999999999},{"$f":"'Volume TU North'!AR21+'Volume TU South'!AR21","v":138.12799999999999},{"$f":"'Volume TU North'!AS21+'Volume TU South'!AS21","v":176.47900000000001},{"$f":"'Volume TU North'!AT21+'Volume TU South'!AT21","v":249.239},{"$f":"'Volume TU North'!AU21+'Volume TU South'!AU21","v":250.441},{"$f":"'Volume TU North'!AV21+'Volume TU South'!AV21","v":295.601},{"$f":"'Volume TU North'!AW21+'Volume TU South'!AW21","v":335.76400000000001},{"$f":"'Volume TU North'!AX21+'Volume TU South'!AX21","v":321.81599999999997},{"$f":"'Volume TU North'!AY21+'Volume TU South'!AY21","v":295.01799999999997},{"$f":"'Volume TU North'!AZ21+'Volume TU South'!AZ21","v":271.04000000000002},{"$f":"'Volume TU North'!BA21+'Volume TU South'!BA21","v":231.43100000000001},{"$f":"'Volume TU North'!BB21+'Volume TU South'!BB21","v":81.828999999999994},null,{"$f":"'Volume TU North'!BD21+'Volume TU South'!BD21","v":128.81700000000001},{"$f":"'Volume TU North'!BE21+'Volume TU South'!BE21","v":205.73},{"$f":"'Volume TU North'!BF21+'Volume TU South'!BF21","v":167.31},{"$f":"'Volume TU North'!BG21+'Volume TU South'!BG21","v":297.27699999999999},{"$f":"'Volume TU North'!BH21+'Volume TU South'!BH21","v":206.13200000000001},{"$f":"'Volume TU North'!BI21+'Volume TU South'!BI21","v":187.11600000000001},{"$f":"'Volume TU North'!BJ21+'Volume TU South'!BJ21","v":245.15199999999999},{"$f":"'Volume TU North'!BK21+'Volume TU South'!BK21","v":264.995},{"$f":"'Volume TU North'!BL21+'Volume TU South'!BL21","v":261.91800000000001},{"$f":"'Volume TU North'!BM21+'Volume TU South'!BM21","v":34.887999999999998},{"$f":"'Volume TU North'!BN21+'Volume TU South'!BN21","v":3.6019999999999999},{"$f":"'Volume TU North'!BO21+'Volume TU South'!BO21","v":93.695999999999998},null,{"$f":"'Volume TU North'!BQ21+'Volume TU South'!BQ21","v":94.242999999999995},{"$f":"'Volume TU North'!BR21+'Volume TU South'!BR21","v":171.851},{"$f":"'Volume TU North'!BS21+'Volume TU South'!BS21","v":227.42099999999999},{"$f":"'Volume TU North'!BT21+'Volume TU South'!BT21","v":244.43799999999999},{"$f":"'Volume TU North'!BU21+'Volume TU South'!BU21","v":265.93299999999999},{"$f":"'Volume TU North'!BV21+'Volume TU South'!BV21","v":232.54},{"$f":"'Volume TU North'!BW21+'Volume TU South'!BW21","v":253.63200000000001},{"$f":"'Volume TU North'!BX21+'Volume TU South'!BX21","v":229.22300000000001},{"$f":"'Volume TU North'!BY21+'Volume TU South'!BY21","v":167.393},{"$f":"'Volume TU North'!BZ21+'Volume TU South'!BZ21","v":189.78},{"$f":"'Volume TU North'!CA21+'Volume TU South'!CA21","v":141.297},{"$f":"'Volume TU North'!CB21+'Volume TU South'!CB21","v":140.94900000000001},null,{"$f":"'Volume TU North'!CD21+'Volume TU South'!CD21","v":151.12799999999999},{"$f":"'Volume TU North'!CE21+'Volume TU South'!CE21","v":138.43799999999999},{"$f":"'Volume TU North'!CF21+'Volume TU South'!CF21","v":188.161},{"$f":"'Volume TU North'!CG21+'Volume TU South'!CG21","v":188.309},{"$f":"'Volume TU North'!CH21+'Volume TU South'!CH21","v":259.053},{"$f":"'Volume TU North'!CI21+'Volume TU South'!CI21","v":0},{"$f":"'Volume TU North'!CJ21+'Volume TU South'!CJ21","v":0},{"$f":"'Volume TU North'!CK21+'Volume TU South'!CK21","v":0},{"$f":"'Volume TU North'!CL21+'Volume TU South'!CL21","v":0},{"$f":"'Volume TU North'!CM21+'Volume TU South'!CM21","v":0},{"$f":"'Volume TU North'!CN21+'Volume TU South'!CN21","v":0},{"$f":"'Volume TU North'!CO21+'Volume TU South'!CO21","v":0}]
[]
[null,"Port Elevation (TU' 000)"]
[null,"Port Elevation ",null,{"$f":"'Rumo DB'!C10/1000","v":563.94399999999996},{"$f":"'Rumo DB'!D10/1000","v":1034.725146},{"$f":"'Rumo DB'!E10/1000","v":1256.2875680000002},{"$f":"'Rumo DB'!F10/1000","v":790.29090199999996},{"$f":"'Rumo DB'!G10/1000","v":1385.839786},{"$f":"'Rumo DB'!H10/1000","v":1337.2284069999998},{"$f":"'Rumo DB'!I10/1000","v":1446.5915230000001},{"$f":"'Rumo DB'!J10/1000","v":1370.670883},{"$f":"'Rumo DB'!K10/1000","v":1335.4415190000002},{"$f":"'Rumo DB'!L10/1000","v":1002.999902},{"$f":"'Rumo DB'!M10/1000","v":991.27300100000002},{"$f":"'Rumo DB'!N10/1000","v":598.403908},null,{"$f":"'Rumo DB'!P10/1000","v":448.69178600000004},{"$f":"'Rumo DB'!Q10/1000","v":990.33767399999999},{"$f":"'Rumo DB'!R10/1000","v":1062.339528},{"$f":"'Rumo DB'!S10/1000","v":728.49934499999995},{"$f":"'Rumo DB'!T10/1000","v":1386.04321},{"$f":"'Rumo DB'!U10/1000","v":1177.1301960000001},{"$f":"'Rumo DB'!V10/1000","v":1198.89724},{"$f":"'Rumo DB'!W10/1000","v":1305.7225740000001},{"$f":"'Rumo DB'!X10/1000","v":1462.392844},{"$f":"'Rumo DB'!Y10/1000","v":1422.8486189999999},{"$f":"'Rumo DB'!Z10/1000","v":1202.030622},{"$f":"'Rumo DB'!AA10/1000","v":748.33121099999994},null,{"$f":"'Rumo DB'!AC10/1000","v":575.25229800000011},{"$f":"'Rumo DB'!AD10/1000","v":894.19707600000004},{"$f":"'Rumo DB'!AE10/1000","v":1004.462753},{"$f":"'Rumo DB'!AF10/1000","v":770.34461599999997},{"$f":"'Rumo DB'!AG10/1000","v":860.54832499999998},{"$f":"'Rumo DB'!AH10/1000","v":1041.4643060000001},{"$f":"'Rumo DB'!AI10/1000","v":1139.3327389999999},{"$f":"'Rumo DB'!AJ10/1000","v":1028.6506129999998},{"$f":"'Rumo DB'!AK10/1000","v":1300.371042},{"$f":"'Rumo DB'!AL10/1000","v":578.96342099999993},{"$f":"'Rumo DB'!AM10/1000","v":1127.2850169999999},{"$f":"'Rumo DB'!AN10/1000","v":1079.664777},null,{"$f":"'Rumo DB'!AP10/1000","v":849.24155000000007},{"$f":"'Rumo DB'!AQ10/1000","v":848.43707999999992},{"$f":"'Rumo DB'!AR10/1000","v":1122.6431399999999},{"$f":"'Rumo DB'!AS10/1000","v":820.90233000000001},{"$f":"'Rumo DB'!AT10/1000","v":683.43934000000002},{"$f":"'Rumo DB'!AU10/1000","v":1123.12553},{"$f":"'Rumo DB'!AV10/1000","v":1175.6769299999999},{"$f":"'Rumo DB'!AW10/1000","v":971.10751000000005},{"$f":"'Rumo DB'!AX10/1000","v":953.16534000000001},{"$f":"'Rumo DB'!AY10/1000","v":1148.33692},{"$f":"'Rumo DB'!AZ10/1000","v":766.63091000000009},{"$f":"'Rumo DB'!BA10/1000","v":750.42047000000002},null,{"$f":"'Rumo DB'!BC10/1000","v":593.45799},{"$f":"'Rumo DB'!BD10/1000","v":844.55329000000006},{"$f":"'Rumo DB'!BE10/1000","v":1106.75332},{"$f":"'Rumo DB'!BF10/1000","v":1257.8714399999999},{"$f":"'Rumo DB'!BG10/1000","v":1654.9123300000001},{"$f":"'Rumo DB'!BH10/1000","v":1210.7697599999999},{"$f":"'Rumo DB'!BI10/1000","v":1452.7168700000002},{"$f":"'Rumo DB'!BJ10/1000","v":1502.8918899999999},{"$f":"'Rumo DB'!BK10/1000","v":1289.8112900000001},{"$f":"'Rumo DB'!BL10/1000","v":1181.0653300000001},{"$f":"'Rumo DB'!BM10/1000","v":1208.73676},{"$f":"'Rumo DB'!BN10/1000","v":1143.1041399999999},null,{"$f":"'Rumo DB'!BP10/1000","v":644.08199999999999},{"$f":"'Rumo DB'!BQ10/1000","v":845.28908999999999},{"$f":"'Rumo DB'!BR10/1000","v":1374.48848},{"$f":"'Rumo DB'!BS10/1000","v":1178.8648700000001},{"$f":"'Rumo DB'!BT10/1000","v":1286.0656000000001},{"$f":"'Rumo DB'!BU10/1000","v":1171.8168780000001},{"$f":"'Rumo DB'!BV10/1000","v":922.17348200000004},{"$f":"'Rumo DB'!BW10/1000","v":1053.56447},{"$f":"'Rumo DB'!BX10/1000","v":1119.7368570000001},{"$f":"'Rumo DB'!BY10/1000","v":781.59292500000004},{"$f":"'Rumo DB'!BZ10/1000","v":1165.4997529999998},{"$f":"'Rumo DB'!CA10/1000","v":950.15667699999995},null,{"$f":"'Rumo DB'!CC10/1000","v":745.6966480000001},{"$f":"'Rumo DB'!CD10/1000","v":1119.7388880000001},{"$f":"'Rumo DB'!CE10/1000","v":1051.8928740000001},{"$f":"'Rumo DB'!CF10/1000","v":665.72074599999996},{"$f":"'Rumo DB'!CG10/1000","v":1178.2898660000001},{"$f":"'Rumo DB'!CH10/1000","v":0},{"$f":"'Rumo DB'!CI10/1000","v":0},{"$f":"'Rumo DB'!CJ10/1000","v":0},{"$f":"'Rumo DB'!CK10/1000","v":0},{"$f":"'Rumo DB'!CL10/1000","v":0},{"$f":"'Rumo DB'!CM10/1000","v":0},{"$f":"'Rumo DB'!CN10/1000","v":0}]
[null,"Logistics Solution ",null,{"$f":"'Rumo DB'!C11/1000","v":729.09867399999996},{"$f":"'Rumo DB'!D11/1000","v":1067.7981090000001},{"$f":"'Rumo DB'!E11/1000","v":886.89300000000003},{"$f":"'Rumo DB'!F11/1000","v":179.87980999999999},{"$f":"'Rumo DB'!G11/1000","v":429.34505999999999},{"$f":"'Rumo DB'!H11/1000","v":573.34385999999995},{"$f":"'Rumo DB'!I11/1000","v":466.91241899999977},{"$f":"'Rumo DB'!J11/1000","v":531.46580699999981},{"$f":"'Rumo DB'!K11/1000","v":496.56652200000002},{"$f":"'Rumo DB'!L11/1000","v":561.48228700000004},{"$f":"'Rumo DB'!M11/1000","v":420.73100800000026},{"$f":"'Rumo DB'!N11/1000","v":254.09882099999996},null,{"$f":"'Rumo DB'!P11/1000","v":213.88675000000001},{"$f":"'Rumo DB'!Q11/1000","v":340.74869999999993},{"$f":"'Rumo DB'!R11/1000","v":306.41654399999999},{"$f":"'Rumo DB'!S11/1000","v":241.59591900000007},{"$f":"'Rumo DB'!T11/1000","v":533.24844799999994},{"$f":"'Rumo DB'!U11/1000","v":538.28774500000009},{"$f":"'Rumo DB'!V11/1000","v":399.64013400000022},{"$f":"'Rumo DB'!W11/1000","v":433.39075900000006},{"$f":"'Rumo DB'!X11/1000","v":475.42910099999983},{"$f":"'Rumo DB'!Y11/1000","v":451.94466299999971},{"$f":"'Rumo DB'!Z11/1000","v":371.50363100000015},{"$f":"'Rumo DB'!AA11/1000","v":218.29270100000005},null,{"$f":"'Rumo DB'!AC11/1000","v":284.31497499999989},{"$f":"'Rumo DB'!AD11/1000","v":312.54101500000002},{"$f":"'Rumo DB'!AE11/1000","v":509.32677500000011},{"$f":"'Rumo DB'!AF11/1000","v":240.08712500000007},{"$f":"'Rumo DB'!AG11/1000","v":540.74277899999959},{"$f":"'Rumo DB'!AH11/1000","v":683.71264600000018},{"$f":"'Rumo DB'!AI11/1000","v":440.17774200000008},{"$f":"'Rumo DB'!AJ11/1000","v":337.17517199999992},{"$f":"'Rumo DB'!AK11/1000","v":457.1985699999999},{"$f":"'Rumo DB'!AL11/1000","v":356.70425999999998},{"$f":"'Rumo DB'!AM11/1000","v":262.02019400000012},{"$f":"'Rumo DB'!AN11/1000","v":250.21187899999998},null,{"$f":"'Rumo DB'!AP11/1000","v":366.34309999999999},{"$f":"'Rumo DB'!AQ11/1000","v":414.35300999999998},{"$f":"'Rumo DB'!AR11/1000","v":466.17480999999998},{"$f":"'Rumo DB'!AS11/1000","v":274.82718},{"$f":"'Rumo DB'!AT11/1000","v":427.63938999999999},{"$f":"'Rumo DB'!AU11/1000","v":383.77843999999999},{"$f":"'Rumo DB'!AV11/1000","v":266.76515999999998},{"$f":"'Rumo DB'!AW11/1000","v":366.02146000000005},{"$f":"'Rumo DB'!AX11/1000","v":365.69380999999998},{"$f":"'Rumo DB'!AY11/1000","v":353.07976000000002},{"$f":"'Rumo DB'!AZ11/1000","v":287.01044000000002},{"$f":"'Rumo DB'!BA11/1000","v":363.54597999999999},null,{"$f":"'Rumo DB'!BC11/1000","v":389.62268},{"$f":"'Rumo DB'!BD11/1000","v":440.34727000000004},{"$f":"'Rumo DB'!BE11/1000","v":316.39077000000003},{"$f":"'Rumo DB'!BF11/1000","v":472.88797},{"$f":"'Rumo DB'!BG11/1000","v":562.33517000000006},{"$f":"'Rumo DB'!BH11/1000","v":561.16909999999996},{"$f":"'Rumo DB'!BI11/1000","v":581.30233999999996},{"$f":"'Rumo DB'!BJ11/1000","v":725.88894999999991},{"$f":"'Rumo DB'!BK11/1000","v":722.61734000000001},{"$f":"'Rumo DB'!BL11/1000","v":839.41719999999998},{"$f":"'Rumo DB'!BM11/1000","v":863.48901999999998},{"$f":"'Rumo DB'!BN11/1000","v":557.85689000000002},null,{"$f":"'Rumo DB'!BP11/1000","v":441.35472999999996},{"$f":"'Rumo DB'!BQ11/1000","v":268.37684999999999},{"$f":"'Rumo DB'!BR11/1000","v":368.16843999999998},{"$f":"'Rumo DB'!BS11/1000","v":309.18083000000001},{"$f":"'Rumo DB'!BT11/1000","v":596.12175000000002},{"$f":"'Rumo DB'!BU11/1000","v":631.75253999999984},{"$f":"'Rumo DB'!BV11/1000","v":397.22642399999989},{"$f":"'Rumo DB'!BW11/1000","v":427.41404099999983},{"$f":"'Rumo DB'!BX11/1000","v":525.42056900000011},{"$f":"'Rumo DB'!BY11/1000","v":527.21682200000021},{"$f":"'Rumo DB'!BZ11/1000","v":630.47036800000024},{"$f":"'Rumo DB'!CA11/1000","v":403.60899799999993},null,{"$f":"'Rumo DB'!CC11/1000","v":427.66120900000004},{"$f":"'Rumo DB'!CD11/1000","v":386.42065599999989},{"$f":"'Rumo DB'!CE11/1000","v":422.76660400000003},{"$f":"'Rumo DB'!CF11/1000","v":119.77323500000001},{"$f":"'Rumo DB'!CG11/1000","v":530.50815599999987},{"$f":"'Rumo DB'!CH11/1000","v":0},{"$f":"'Rumo DB'!CI11/1000","v":0},{"$f":"'Rumo DB'!CJ11/1000","v":0},{"$f":"'Rumo DB'!CK11/1000","v":0},{"$f":"'Rumo DB'!CL11/1000","v":0},{"$f":"'Rumo DB'!CM11/1000","v":0},{"$f":"'Rumo DB'!CN11/1000","v":0}]

{"sheet":"Volume TU North","index":19,"n_rows":46,"n_cols":93,"rows_kept":46,"cut":false,"hidden":false,"merged":[[3,64,4,64],[3,65,4,65],[3,66,4,66],[3,55,4,55],[3,56,4,56],[3,57,4,57],[3,58,4,58],[3,62,4,62],[3,63,4,63],[3,60,4,60],[3,61,4,61],[3,44,4,44],[3,45,4,45],[3,59,4,59],[3,47,4,47],[3,48,4,48],[3,49,4,49],[3,50,4,50],[3,51,4,51],[3,52,4,52],[3,53,4,53],[3,46,4,46],[3,43,4,43],[3,29,4,29],[3,30,4,30],[3,31,4,31],[3,32,4,32],[3,34,4,34],[3,35,4,35],[3,36,4,36],[3,37,4,37],[3,38,4,38],[3,39,4,39],[3,40,4,40],[3,42,4,42],[3,18,4,18],[3,19,4,19],[3,33,4,33],[3,21,4,21],[3,22,4,22],[3,23,4,23],[3,24,4,24],[3,25,4,25],[3,26,4,26],[3,27,4,27],[3,20,4,20],[3,1,4,1],[3,3,4,3],[3,4,4,4],[3,5,4,5],[3,6,4,6],[3,13,4,13],[3,14,4,14],[3,16,4,16],[3,17,4,17],[3,7,4,7],[3,8,4,8],[3,9,4,9],[3,10,4,10],[3,11,4,11],[3,12,4,12],[3,78,4,78],[3,79,4,79],[3,73,4,73],[3,74,4,74],[3,75,4,75],[3,76,4,76],[3,77,4,77],[3,68,4,68],[3,69,4,69],[3,70,4,70],[3,71,4,71],[3,72,4,72],[28,7,29,7],[28,8,29,8],[28,9,29,9],[28,10,29,10],[28,11,29,11],[28,1,29,1],[28,3,29,3],[28,4,29,4],[28,5,29,5],[28,6,29,6],[28,18,29,18],[28,19,29,19],[28,20,29,20],[28,21,29,21],[28,22,29,22],[28,12,29,12],[28,13,29,13],[28,14,29,14],[28,16,29,16],[28,17,29,17],[28,29,29,29],[28,30,29,30],[28,31,29,31],[28,32,29,32],[28,33,29,33],[28,23,29,23],[28,24,29,24],[28,25,29,25],[28,26,29,26],[28,27,29,27],[28,39,29,39],[28,40,29,40],[28,42,29,42],[28,43,29,43],[28,44,29,44],[28,34,29,34],[28,35,29,35],[28,36,29,36],[28,37,29,37],[28,38,29,38],[28,50,29,50],[28,51,29,51],[28,52,29,52],[28,53,29,53],[28,55,29,55],[28,45,29,45],[28,46,29,46],[28,47,29,47],[28,48,29,48],[28,49,29,49],[28,61,29,61],[28,62,29,62],[28,63,29,63],[28,64,29,64],[28,65,29,65],[28,56,29,56],[28,57,29,57],[28,58,29,58],[28,59,29,59],[28,60,29,60],[28,77,29,77],[28,78,29,78],[28,79,29,79],[28,72,29,72],[28,73,29,73],[28,74,29,74],[28,75,29,75],[28,76,29,76],[28,66,29,66],[28,68,29,68],[28,69,29,69],[28,70,29,70],[28,71,29,71],[3,90,4,90],[3,91,4,91],[3,92,4,92],[28,81,29,81],[28,82,29,82],[28,83,29,83],[28,84,29,84],[28,85,29,85],[28,86,29,86],[28,87,29,87],[28,88,29,88],[28,89,29,89],[28,90,29,90],[28,91,29,91],[28,92,29,92],[3,81,4,81],[3,82,4,82],[3,83,4,83],[3,84,4,84],[3,85,4,85],[3,86,4,86],[3,87,4,87],[3,88,4,88],[3,89,4,89]]}
[]
[null,"Volume TU | North"]
[]
[null,null,null,"2016-01-01","feb/17","2016-03-01","apr/16","may/16","2016-06-01","2016-07-01","aug/16","sep/16","oct/16","2016-11-01","dec/16",null,"2017-01-01","feb/17","2017-03-01","apr/17","may/17","2017-06-01","2017-07-01","aug/17","sep/17","oct/17","2017-11-01","dec/17",null,"2018-01-01","feb/18","2018-03-01","apr/18","may/18","2018-06-01","2018-07-01","aug/18","sep/18","oct/18","2018-11-01","dec/18",null,"jan/19","feb/19","mar/19","apr/19","may/19","jun/19","jul/19","aug/19","sep/19","oct/19","nov/19","dec/19",null,"2020-01-01","feb/20","2020-03-01","apr/20","may/20","2020-06-01","2020-07-01","aug/20","sep/20","oct/20","2020-11-01","dec/20",null,"2021-01-01","2021-02-01","2021-03-01","2021-04-01","2021-05-01","2021-06-01","2021-07-01","2021-08-01","2021-09-01","2021-10-01","2021-11-01","2021-12-01",null,"2022-01-01","2022-02-01","2022-03-01","2022-04-01","2022-05-01","2022-06-01","2022-07-01","2022-08-01","2022-09-01","2022-10-01","2022-11-01","2022-12-01"]
[]
[null,"Transported (TU' 000)",null,{"$f":"SUM(D7,D17,D16)","v":1512.5},1600.153,1923.4350000000002,1972.2,1864.269,1649.9620000000002,1977.5539999999999,2075.8530000000001,1982.434,1606.9299999999998,1394.598,1381.5940000000001,null,{"$f":"SUM(Q7,Q17,Q16)","v":1297.5729999999999},1752.7339999999997,2010.546,1959.8789999999999,2217.895,2029.4910000000002,2121.596,2257.4279999999999,2105.5060000000003,2353.317,2194.9430000000002,2136.6179999999999,null,{"$f":"SUM(AD7,AD17,AD16)","v":1680.3910000000001},2143.0209999999997,2398.665,2264.991,2158.864,2509.5159999999996,2662.23,2743.605,2685.4690000000005,2491.9329999999995,2711.8889999999997,2516.7688699999999,null,{"$f":"SUM(AQ7,AQ17,AQ16)","v":2219.067},1984.367,2702.5930000000003,2539.7079999999996,2303.0320000000002,2913.556,3182.5510000000004,2954.1930000000002,2724.5099999999998,2850.9850000000001,2856.6150000000002,2229.7740000000003,null,{"$f":"SUM(BD7,BD17,BD16)","v":2066.8009999999999},2777.616,1960.4570000000001,2787.5800000000004,3057.4959999999996,2866.4460000000004,3251.4569999999999,3138.4549999999999,3167.355,3329.7509999999997,3056.1970000000001,2939.3560000000007,null,{"$f":"SUM(BQ7,BQ17,BQ16)","v":1643.0909999999999},{"$f":"SUM(BR7,BR17,BR16)","v":2851.0949999999998},{"$f":"SUM(BS7,BS17,BS16)","v":3255.748},{"$f":"SUM(BT7,BT17,BT16)","v":3292.2350000000001},{"$f":"SUM(BU7,BU17,BU16)","v":3518.2700000000004},{"$f":"SUM(BV7,BV17,BV16)","v":3270.0109999999995},{"$f":"SUM(BW7,BW17,BW16)","v":3389.2909999999997},{"$f":"SUM(BX7,BX17,BX16)","v":3020.2559999999999},{"$f":"SUM(BY7,BY17,BY16)","v":2628.7040000000006},{"$f":"SUM(BZ7,BZ17,BZ16)","v":2903.942},{"$f":"SUM(CA7,CA17,CA16)","v":3122.2640000000001},{"$f":"SUM(CB7,CB17,CB16)","v":3103.8150000000001},null,{"$f":"SUM(CD7,CD17,CD16)","v":3010.3589999999999},3607.5519999999997,3936.5260000000003,3552.4430000000002,3752.9080000000004,0,0,0,0,0,0,0]
[null,"Agricultural Products",null,{"$f":"SUM(D8:D15)","v":1271.933},1362.097,1665.5590000000002,1730.6010000000001,1610.86,1377.5640000000001,1706.721,1793.5240000000001,1688.203,1305.5339999999999,1132.828,1131.9839999999999,null,{"$f":"SUM(Q8:Q15)","v":1029.298},1516.8759999999997,1752.3150000000001,1705.1759999999999,1928.5540000000001,1739.8400000000001,1839.7590000000002,1954.4469999999999,1835.8090000000002,2006.318,1875.143,1816.788,null,{"$f":"SUM(AD8:AD15)","v":1400.797},1788.675,2015.7360000000001,1932.3530000000001,1806.0219999999999,2092.3959999999997,2220.127,2291.3910000000001,2257.5410000000002,2070.9279999999999,2292.8979999999997,2096.7728699999998,null,{"$f":"SUM(AQ8:AQ15)","v":1807.3589999999999},1634.153,2276.2110000000002,2124.4569999999999,1863.884,2486.498,2721.88,2490.0040000000004,2255.3710000000001,2365.893,2392.2490000000003,1778.0440000000001,null,{"$f":"SUM(BD8:BD15)","v":1616.4770000000001},2335.3910000000001,1561.481,2458.3500000000004,2619.6049999999996,2406.2980000000002,2754.4670000000001,2634.4609999999998,2629.8150000000001,2774.893,2498.5219999999999,2463.8450000000003,null,{"$f":"SUM(BQ8:BQ15)","v":1164.0219999999999},{"$f":"SUM(BR8:BR15)","v":2379.2249999999999},{"$f":"SUM(BS8:BS15)","v":2762.4779999999996},{"$f":"SUM(BT8:BT15)","v":2772},{"$f":"SUM(BU8:BU15)","v":2987.9150000000004},{"$f":"SUM(BV8:BV15)","v":2725.7849999999999},{"$f":"SUM(BW8:BW15)","v":2818.1009999999997},{"$f":"SUM(BX8:BX15)","v":2397.105},{"$f":"SUM(BY8:BY15)","v":2048.7870000000003},{"$f":"SUM(BZ8:BZ15)","v":2308.1179999999999},{"$f":"SUM(CA8:CA15)","v":2580.1210000000001},{"$f":"SUM(CB8:CB15)","v":2537.558},null,{"$f":"SUM(CD8:CD15)","v":2460.1639999999998},3013.98,3291.7500000000005,2957.355,3115.8830000000003,0,0,0,0,0,0,0]
[null,"Soybean",null,73.013999999999996,881.78700000000003,1211.989,1258.287,941.61199999999997,319.03699999999998,27.036999999999999,0,0,0,15.911,86.180999999999997,null,446.45499999999998,1148.2619999999999,1357.143,1196.2139999999999,1154.559,446.97899999999998,101.054,73.435000000000002,0,0,0,0,null,422.93400000000003,1213.539,1474.787,1406.1120000000001,1083.9110000000001,1092.5899999999999,202.88399999999999,45.655000000000001,17.306999999999999,15.151,21.491,0,null,999.24699999999996,1196.7,1594.508,1335.452,996.26,309.30500000000001,125.76600000000001,99.298000000000002,85.010999999999996,190.01300000000001,279.84500000000003,47.975000000000001,null,{"$f":"SUMIFS('UT Base'!BE:BE,'UT Base'!$A:$A,$B8,'UT Base'!$B:$B,\"North\")/10^3","v":896.93299999999999},{"$f":"SUMIFS('UT Base'!BF:BF,'UT Base'!$A:$A,$B8,'UT Base'!$B:$B,\"North\")/10^3","v":1633.251},{"$f":"SUMIFS('UT Base'!BG:BG,'UT Base'!$A:$A,$B8,'UT Base'!$B:$B,\"North\")/10^3","v":1029.2080000000001},{"$f":"SUMIFS('UT Base'!BH:BH,'UT Base'!$A:$A,$B8,'UT Base'!$B:$B,\"North\")/10^3","v":1664.442},{"$f":"SUMIFS('UT Base'!BI:BI,'UT Base'!$A:$A,$B8,'UT Base'!$B:$B,\"North\")/10^3","v":1713.201},{"$f":"SUMIFS('UT Base'!BJ:BJ,'UT Base'!$A:$A,$B8,'UT Base'!$B:$B,\"North\")/10^3","v":695.63199999999995},{"$f":"SUMIFS('UT Base'!BK:BK,'UT Base'!$A:$A,$B8,'UT Base'!$B:$B,\"North\")/10^3","v":232.61099999999999},{"$f":"SUMIFS('UT Base'!BL:BL,'UT Base'!$A:$A,$B8,'UT Base'!$B:$B,\"North\")/10^3","v":47.783000000000001},{"$f":"SUMIFS('UT Base'!BM:BM,'UT Base'!$A:$A,$B8,'UT Base'!$B:$B,\"North\")/10^3","v":47.389000000000003},{"$f":"SUMIFS('UT Base'!BN:BN,'UT Base'!$A:$A,$B8,'UT Base'!$B:$B,\"North\")/10^3","v":0},{"$f":"SUMIFS('UT Base'!BO:BO,'UT Base'!$A:$A,$B8,'UT Base'!$B:$B,\"North\")/10^3","v":0},{"$f":"SUMIFS('UT Base'!BP:BP,'UT Base'!$A:$A,$B8,'UT Base'!$B:$B,\"North\")/10^3","v":0},null,{"$f":"SUMIFS('UT Base'!BR:BR,'UT Base'!$A:$A,$B8,'UT Base'!$B:$B,\"North\")/10^3","v":196.387},{"$f":"SUMIFS('UT Base'!BS:BS,'UT Base'!$A:$A,$B8,'UT Base'!$B:$B,\"North\")/10^3","v":1749.519},{"$f":"SUMIFS('UT Base'!BT:BT,'UT Base'!$A:$A,$B8,'UT Base'!$B:$B,\"North\")/10^3","v":2134.7289999999998},{"$f":"SUMIFS('UT Base'!BU:BU,'UT Base'!$A:$A,$B8,'UT Base'!$B:$B,\"North\")/10^3","v":1994.6510000000001},{"$f":"SUMIFS('UT Base'!BV:BV,'UT Base'!$A:$A,$B8,'UT Base'!$B:$B,\"North\")/10^3","v":1957.124},{"$f":"SUMIFS('UT Base'!BW:BW,'UT Base'!$A:$A,$B8,'UT Base'!$B:$B,\"North\")/10^3","v":1351.8979999999999},{"$f":"SUMIFS('UT Base'!BX:BX,'UT Base'!$A:$A,$B8,'UT Base'!$B:$B,\"North\")/10^3","v":68.081999999999994},{"$f":"SUMIFS('UT Base'!BY:BY,'UT Base'!$A:$A,$B8,'UT Base'!$B:$B,\"North\")/10^3","v":63.061999999999998},{"$f":"SUMIFS('UT Base'!BZ:BZ,'UT Base'!$A:$A,$B8,'UT Base'!$B:$B,\"North\")/10^3","v":98.31},{"$f":"SUMIFS('UT Base'!CA:CA,'UT Base'!$A:$A,$B8,'UT Base'!$B:$B,\"North\")/10^3","v":220.922},{"$f":"SUMIFS('UT Base'!CB:CB,'UT Base'!$A:$A,$B8,'UT Base'!$B:$B,\"North\")/10^3","v":400.01600000000002},{"$f":"SUMIFS('UT Base'!CC:CC,'UT Base'!$A:$A,$B8,'UT Base'!$B:$B,\"North\")/10^3","v":195.411},null,{"$f":"SUMIFS('UT Base'!CE:CE,'UT Base'!$A:$A,$B8,'UT Base'!$B:$B,\"North\")/10^3","v":1099.992},{"$f":"SUMIFS('UT Base'!CF:CF,'UT Base'!$A:$A,$B8,'UT Base'!$B:$B,\"North\")/10^3","v":2278.3919999999998},{"$f":"SUMIFS('UT Base'!CG:CG,'UT Base'!$A:$A,$B8,'UT Base'!$B:$B,\"North\")/10^3","v":2393.5990000000002},{"$f":"SUMIFS('UT Base'!CH:CH,'UT Base'!$A:$A,$B8,'UT Base'!$B:$B,\"North\")/10^3","v":2092.1970000000001},{"$f":"SUMIFS('UT Base'!CI:CI,'UT Base'!$A:$A,$B8,'UT Base'!$B:$B,\"North\")/10^3","v":2052.5790000000002},{"$f":"SUMIFS('UT Base'!CJ:CJ,'UT Base'!$A:$A,$B8,'UT Base'!$B:$B,\"North\")/10^3","v":0},{"$f":"SUMIFS('UT Base'!CK:CK,'UT Base'!$A:$A,$B8,'UT Base'!$B:$B,\"North\")/10^3","v":0},{"$f":"SUMIFS('UT Base'!CL:CL,'UT Base'!$A:$A,$B8,'UT Base'!$B:$B,\"North\")/10^3","v":0},{"$f":"SUMIFS('UT Base'!CM:CM,'UT Base'!$A:$A,$B8,'UT Base'!$B:$B,\"North\")/10^3","v":0},{"$f":"SUMIFS('UT Base'!CN:CN,'UT Base'!$A:$A,$B8,'UT Base'!$B:$B,\"North\")/10^3","v":0},{"$f":"SUMIFS('UT Base'!CO:CO,'UT Base'!$A:$A,$B8,'UT Base'!$B:$B,\"North\")/10^3","v":0},{"$f":"SUMIFS('UT Base'!CP:CP,'UT Base'!$A:$A,$B8,'UT Base'!$B:$B,\"North\")/10^3","v":0}]
[null,"Soybean meal",null,138.66499999999999,248.37200000000001,314.17399999999998,344.702,327.07299999999998,294.54000000000002,225.291,201.26599999999999,205.21,236.37799999999999,251.827,241.71299999999999,null,254.83,271.25200000000001,337.92899999999997,376.59899999999999,339.76600000000002,288.49900000000002,342.22800000000001,281.327,288.63200000000001,356.2,336.90100000000001,351.15899999999999,null,276.81099999999998,338.18200000000002,380.64299999999997,410.91399999999999,314.03199999999998,361.90499999999997,313.79899999999998,309.70100000000002,339.57400000000001,308.94600000000003,327.625,382.68986999999998,null,301.233,288.05900000000003,399.56599999999997,394.77100000000002,373.017,382.77199999999999,366.67700000000002,311.84800000000001,332.05,355.964,410.59899999999999,353.76299999999998,null,{"$f":"SUMIFS('UT Base'!BE:BE,'UT Base'!$A:$A,$B9,'UT Base'!$B:$B,\"North\")/10^3","v":258.548},{"$f":"SUMIFS('UT Base'!BF:BF,'UT Base'!$A:$A,$B9,'UT Base'!$B:$B,\"North\")/10^3","v":357.15300000000002},{"$f":"SUMIFS('UT Base'!BG:BG,'UT Base'!$A:$A,$B9,'UT Base'!$B:$B,\"North\")/10^3","v":337.66699999999997},{"$f":"SUMIFS('UT Base'!BH:BH,'UT Base'!$A:$A,$B9,'UT Base'!$B:$B,\"North\")/10^3","v":441.61200000000002},{"$f":"SUMIFS('UT Base'!BI:BI,'UT Base'!$A:$A,$B9,'UT Base'!$B:$B,\"North\")/10^3","v":390.45},{"$f":"SUMIFS('UT Base'!BJ:BJ,'UT Base'!$A:$A,$B9,'UT Base'!$B:$B,\"North\")/10^3","v":411.49},{"$f":"SUMIFS('UT Base'!BK:BK,'UT Base'!$A:$A,$B9,'UT Base'!$B:$B,\"North\")/10^3","v":417.49},{"$f":"SUMIFS('UT Base'!BL:BL,'UT Base'!$A:$A,$B9,'UT Base'!$B:$B,\"North\")/10^3","v":402.11500000000001},{"$f":"SUMIFS('UT Base'!BM:BM,'UT Base'!$A:$A,$B9,'UT Base'!$B:$B,\"North\")/10^3","v":368.12900000000002},{"$f":"SUMIFS('UT Base'!BN:BN,'UT Base'!$A:$A,$B9,'UT Base'!$B:$B,\"North\")/10^3","v":410.44099999999997},{"$f":"SUMIFS('UT Base'!BO:BO,'UT Base'!$A:$A,$B9,'UT Base'!$B:$B,\"North\")/10^3","v":354.10199999999998},{"$f":"SUMIFS('UT Base'!BP:BP,'UT Base'!$A:$A,$B9,'UT Base'!$B:$B,\"North\")/10^3","v":403.69},null,{"$f":"SUMIFS('UT Base'!BR:BR,'UT Base'!$A:$A,$B9,'UT Base'!$B:$B,\"North\")/10^3","v":264.32799999999997},{"$f":"SUMIFS('UT Base'!BS:BS,'UT Base'!$A:$A,$B9,'UT Base'!$B:$B,\"North\")/10^3","v":363.904},{"$f":"SUMIFS('UT Base'!BT:BT,'UT Base'!$A:$A,$B9,'UT Base'!$B:$B,\"North\")/10^3","v":403.452},{"$f":"SUMIFS('UT Base'!BU:BU,'UT Base'!$A:$A,$B9,'UT Base'!$B:$B,\"North\")/10^3","v":450.71499999999997},{"$f":"SUMIFS('UT Base'!BV:BV,'UT Base'!$A:$A,$B9,'UT Base'!$B:$B,\"North\")/10^3","v":426.79599999999999},{"$f":"SUMIFS('UT Base'!BW:BW,'UT Base'!$A:$A,$B9,'UT Base'!$B:$B,\"North\")/10^3","v":467.85},{"$f":"SUMIFS('UT Base'!BX:BX,'UT Base'!$A:$A,$B9,'UT Base'!$B:$B,\"North\")/10^3","v":497.98200000000003},{"$f":"SUMIFS('UT Base'!BY:BY,'UT Base'!$A:$A,$B9,'UT Base'!$B:$B,\"North\")/10^3","v":428.97899999999998},{"$f":"SUMIFS('UT Base'!BZ:BZ,'UT Base'!$A:$A,$B9,'UT Base'!$B:$B,\"North\")/10^3","v":392.71499999999997},{"$f":"SUMIFS('UT Base'!CA:CA,'UT Base'!$A:$A,$B9,'UT Base'!$B:$B,\"North\")/10^3","v":332.79},{"$f":"SUMIFS('UT Base'!CB:CB,'UT Base'!$A:$A,$B9,'UT Base'!$B:$B,\"North\")/10^3","v":460.88200000000001},{"$f":"SUMIFS('UT Base'!CC:CC,'UT Base'!$A:$A,$B9,'UT Base'!$B:$B,\"North\")/10^3","v":461.44499999999999},null,{"$f":"SUMIFS('UT Base'!CE:CE,'UT Base'!$A:$A,$B9,'UT Base'!$B:$B,\"North\")/10^3","v":385.79},{"$f":"SUMIFS('UT Base'!CF:CF,'UT Base'!$A:$A,$B9,'UT Base'!$B:$B,\"North\")/10^3","v":431.714},{"$f":"SUMIFS('UT Base'!CG:CG,'UT Base'!$A:$A,$B9,'UT Base'!$B:$B,\"North\")/10^3","v":538.01599999999996},{"$f":"SUMIFS('UT Base'!CH:CH,'UT Base'!$A:$A,$B9,'UT Base'!$B:$B,\"North\")/10^3","v":570.77},{"$f":"SUMIFS('UT Base'!CI:CI,'UT Base'!$A:$A,$B9,'UT Base'!$B:$B,\"North\")/10^3","v":528.76099999999997},{"$f":"SUMIFS('UT Base'!CJ:CJ,'UT Base'!$A:$A,$B9,'UT Base'!$B:$B,\"North\")/10^3","v":0},{"$f":"SUMIFS('UT Base'!CK:CK,'UT Base'!$A:$A,$B9,'UT Base'!$B:$B,\"North\")/10^3","v":0},{"$f":"SUMIFS('UT Base'!CL:CL,'UT Base'!$A:$A,$B9,'UT Base'!$B:$B,\"North\")/10^3","v":0},{"$f":"SUMIFS('UT Base'!CM:CM,'UT Base'!$A:$A,$B9,'UT Base'!$B:$B,\"North\")/10^3","v":0},{"$f":"SUMIFS('UT Base'!CN:CN,'UT Base'!$A:$A,$B9,'UT Base'!$B:$B,\"North\")/10^3","v":0},{"$f":"SUMIFS('UT Base'!CO:CO,'UT Base'!$A:$A,$B9,'UT Base'!$B:$B,\"North\")/10^3","v":0},{"$f":"SUMIFS('UT Base'!CP:CP,'UT Base'!$A:$A,$B9,'UT Base'!$B:$B,\"North\")/10^3","v":0}]
[null,"Corn",null,901.14,51.329000000000001,0.13100000000000001,0,0,213.47900000000001,1159.751,1276.682,1143.481,425.577,299.06400000000002,431.08199999999999,null,63.752000000000002,0.185,0,0,7.24,761.55600000000004,1283.0920000000001,1455.549,1391.249,1494.28,1379.3489999999999,1251.2049999999999,null,294.06900000000002,40.662999999999997,0,0,22.06,227.17699999999999,1432.7719999999999,1687.615,1645.201,1407.075,1689.643,1428.011,null,234.74600000000001,0,0,0,44.665999999999997,1479.97,1912.6420000000001,1818.8589999999999,1619.625,1554.4290000000001,1439.8040000000001,674.40200000000004,null,{"$f":"SUMIFS('UT Base'!BE:BE,'UT Base'!$A:$A,$B10,'UT Base'!$B:$B,\"North\")/10^3","v":1.2230000000000001},{"$f":"SUMIFS('UT Base'!BF:BF,'UT Base'!$A:$A,$B10,'UT Base'!$B:$B,\"North\")/10^3","v":0},{"$f":"SUMIFS('UT Base'!BG:BG,'UT Base'!$A:$A,$B10,'UT Base'!$B:$B,\"North\")/10^3","v":0},{"$f":"SUMIFS('UT Base'!BH:BH,'UT Base'!$A:$A,$B10,'UT Base'!$B:$B,\"North\")/10^3","v":0},{"$f":"SUMIFS('UT Base'!BI:BI,'UT Base'!$A:$A,$B10,'UT Base'!$B:$B,\"North\")/10^3","v":0},{"$f":"SUMIFS('UT Base'!BJ:BJ,'UT Base'!$A:$A,$B10,'UT Base'!$B:$B,\"North\")/10^3","v":869.98800000000006},{"$f":"SUMIFS('UT Base'!BK:BK,'UT Base'!$A:$A,$B10,'UT Base'!$B:$B,\"North\")/10^3","v":1694.89},{"$f":"SUMIFS('UT Base'!BL:BL,'UT Base'!$A:$A,$B10,'UT Base'!$B:$B,\"North\")/10^3","v":1617.5719999999999},{"$f":"SUMIFS('UT Base'!BM:BM,'UT Base'!$A:$A,$B10,'UT Base'!$B:$B,\"North\")/10^3","v":1449.172},{"$f":"SUMIFS('UT Base'!BN:BN,'UT Base'!$A:$A,$B10,'UT Base'!$B:$B,\"North\")/10^3","v":1392.27},{"$f":"SUMIFS('UT Base'!BO:BO,'UT Base'!$A:$A,$B10,'UT Base'!$B:$B,\"North\")/10^3","v":1266.441},{"$f":"SUMIFS('UT Base'!BP:BP,'UT Base'!$A:$A,$B10,'UT Base'!$B:$B,\"North\")/10^3","v":1338.2139999999999},null,{"$f":"SUMIFS('UT Base'!BR:BR,'UT Base'!$A:$A,$B10,'UT Base'!$B:$B,\"North\")/10^3","v":31.013999999999999},{"$f":"SUMIFS('UT Base'!BS:BS,'UT Base'!$A:$A,$B10,'UT Base'!$B:$B,\"North\")/10^3","v":-2.9420000000000002},{"$f":"SUMIFS('UT Base'!BT:BT,'UT Base'!$A:$A,$B10,'UT Base'!$B:$B,\"North\")/10^3","v":0},{"$f":"SUMIFS('UT Base'!BU:BU,'UT Base'!$A:$A,$B10,'UT Base'!$B:$B,\"North\")/10^3","v":0},{"$f":"SUMIFS('UT Base'!BV:BV,'UT Base'!$A:$A,$B10,'UT Base'!$B:$B,\"North\")/10^3","v":0},{"$f":"SUMIFS('UT Base'!BW:BW,'UT Base'!$A:$A,$B10,'UT Base'!$B:$B,\"North\")/10^3","v":319.36799999999999},{"$f":"SUMIFS('UT Base'!BX:BX,'UT Base'!$A:$A,$B10,'UT Base'!$B:$B,\"North\")/10^3","v":1776.4659999999999},{"$f":"SUMIFS('UT Base'!BY:BY,'UT Base'!$A:$A,$B10,'UT Base'!$B:$B,\"North\")/10^3","v":1298.8150000000001},{"$f":"SUMIFS('UT Base'!BZ:BZ,'UT Base'!$A:$A,$B10,'UT Base'!$B:$B,\"North\")/10^3","v":837.66600000000005},{"$f":"SUMIFS('UT Base'!CA:CA,'UT Base'!$A:$A,$B10,'UT Base'!$B:$B,\"North\")/10^3","v":1052.1410000000001},{"$f":"SUMIFS('UT Base'!CB:CB,'UT Base'!$A:$A,$B10,'UT Base'!$B:$B,\"North\")/10^3","v":1088.77},{"$f":"SUMIFS('UT Base'!CC:CC,'UT Base'!$A:$A,$B10,'UT Base'!$B:$B,\"North\")/10^3","v":1431.443},null,{"$f":"SUMIFS('UT Base'!CE:CE,'UT Base'!$A:$A,$B10,'UT Base'!$B:$B,\"North\")/10^3","v":600.49900000000002},{"$f":"SUMIFS('UT Base'!CF:CF,'UT Base'!$A:$A,$B10,'UT Base'!$B:$B,\"North\")/10^3","v":46.034999999999997},{"$f":"SUMIFS('UT Base'!CG:CG,'UT Base'!$A:$A,$B10,'UT Base'!$B:$B,\"North\")/10^3","v":0},{"$f":"SUMIFS('UT Base'!CH:CH,'UT Base'!$A:$A,$B10,'UT Base'!$B:$B,\"North\")/10^3","v":140.739},{"$f":"SUMIFS('UT Base'!CI:CI,'UT Base'!$A:$A,$B10,'UT Base'!$B:$B,\"North\")/10^3","v":49.036000000000001},{"$f":"SUMIFS('UT Base'!CJ:CJ,'UT Base'!$A:$A,$B10,'UT Base'!$B:$B,\"North\")/10^3","v":0},{"$f":"SUMIFS('UT Base'!CK:CK,'UT Base'!$A:$A,$B10,'UT Base'!$B:$B,\"North\")/10^3","v":0},{"$f":"SUMIFS('UT Base'!CL:CL,'UT Base'!$A:$A,$B10,'UT Base'!$B:$B,\"North\")/10^3","v":0},{"$f":"SUMIFS('UT Base'!CM:CM,'UT Base'!$A:$A,$B10,'UT Base'!$B:$B,\"North\")/10^3","v":0},{"$f":"SUMIFS('UT Base'!CN:CN,'UT Base'!$A:$A,$B10,'UT Base'!$B:$B,\"North\")/10^3","v":0},{"$f":"SUMIFS('UT Base'!CO:CO,'UT Base'!$A:$A,$B10,'UT Base'!$B:$B,\"North\")/10^3","v":0},{"$f":"SUMIFS('UT Base'!CP:CP,'UT Base'!$A:$A,$B10,'UT Base'!$B:$B,\"North\")/10^3","v":0}]
[null,"Sugar",null,159.114,180.60900000000001,139.26499999999999,127.61199999999999,342.17500000000001,550.50800000000004,294.642,315.57600000000002,339.512,643.57899999999995,566.02599999999995,373.00799999999998,null,264.26100000000002,97.177000000000007,57.243000000000002,132.363,426.98899999999998,242.80600000000001,113.38500000000001,144.136,155.928,155.83799999999999,158.893,214.42400000000001,null,406.983,196.291,160.30600000000001,113.837,346.88099999999997,363.892,159.52000000000001,139.393,202.911,269.31400000000002,150.131,120.01900000000001,null,164.75399999999999,74.713999999999999,182.71700000000001,263.26799999999997,265.24200000000002,138.80099999999999,114.18899999999999,98.405000000000001,154.178,129.01900000000001,95.748000000000005,459.06,null,{"$f":"SUMIFS('UT Base'!BE:BE,'UT Base'!$A:$A,$B11,'UT Base'!$B:$B,\"North\")/10^3","v":263.83800000000002},{"$f":"SUMIFS('UT Base'!BF:BF,'UT Base'!$A:$A,$B11,'UT Base'!$B:$B,\"North\")/10^3","v":194.41399999999999},{"$f":"SUMIFS('UT Base'!BG:BG,'UT Base'!$A:$A,$B11,'UT Base'!$B:$B,\"North\")/10^3","v":122.806},{"$f":"SUMIFS('UT Base'!BH:BH,'UT Base'!$A:$A,$B11,'UT Base'!$B:$B,\"North\")/10^3","v":173.78399999999999},{"$f":"SUMIFS('UT Base'!BI:BI,'UT Base'!$A:$A,$B11,'UT Base'!$B:$B,\"North\")/10^3","v":278.25599999999997},{"$f":"SUMIFS('UT Base'!BJ:BJ,'UT Base'!$A:$A,$B11,'UT Base'!$B:$B,\"North\")/10^3","v":207.346},{"$f":"SUMIFS('UT Base'!BK:BK,'UT Base'!$A:$A,$B11,'UT Base'!$B:$B,\"North\")/10^3","v":171.83},{"$f":"SUMIFS('UT Base'!BL:BL,'UT Base'!$A:$A,$B11,'UT Base'!$B:$B,\"North\")/10^3","v":406.858},{"$f":"SUMIFS('UT Base'!BM:BM,'UT Base'!$A:$A,$B11,'UT Base'!$B:$B,\"North\")/10^3","v":587.31700000000001},{"$f":"SUMIFS('UT Base'!BN:BN,'UT Base'!$A:$A,$B11,'UT Base'!$B:$B,\"North\")/10^3","v":717.88499999999999},{"$f":"SUMIFS('UT Base'!BO:BO,'UT Base'!$A:$A,$B11,'UT Base'!$B:$B,\"North\")/10^3","v":631.24699999999996},{"$f":"SUMIFS('UT Base'!BP:BP,'UT Base'!$A:$A,$B11,'UT Base'!$B:$B,\"North\")/10^3","v":473.92700000000002},null,{"$f":"SUMIFS('UT Base'!BR:BR,'UT Base'!$A:$A,$B11,'UT Base'!$B:$B,\"North\")/10^3","v":412.83},{"$f":"SUMIFS('UT Base'!BS:BS,'UT Base'!$A:$A,$B11,'UT Base'!$B:$B,\"North\")/10^3","v":45.569000000000003},{"$f":"SUMIFS('UT Base'!BT:BT,'UT Base'!$A:$A,$B11,'UT Base'!$B:$B,\"North\")/10^3","v":77.191999999999993},{"$f":"SUMIFS('UT Base'!BU:BU,'UT Base'!$A:$A,$B11,'UT Base'!$B:$B,\"North\")/10^3","v":175.53399999999999},{"$f":"SUMIFS('UT Base'!BV:BV,'UT Base'!$A:$A,$B11,'UT Base'!$B:$B,\"North\")/10^3","v":444.666},{"$f":"SUMIFS('UT Base'!BW:BW,'UT Base'!$A:$A,$B11,'UT Base'!$B:$B,\"North\")/10^3","v":430.41500000000002},{"$f":"SUMIFS('UT Base'!BX:BX,'UT Base'!$A:$A,$B11,'UT Base'!$B:$B,\"North\")/10^3","v":149.17099999999999},{"$f":"SUMIFS('UT Base'!BY:BY,'UT Base'!$A:$A,$B11,'UT Base'!$B:$B,\"North\")/10^3","v":290.17099999999999},{"$f":"SUMIFS('UT Base'!BZ:BZ,'UT Base'!$A:$A,$B11,'UT Base'!$B:$B,\"North\")/10^3","v":482.62400000000002},{"$f":"SUMIFS('UT Base'!CA:CA,'UT Base'!$A:$A,$B11,'UT Base'!$B:$B,\"North\")/10^3","v":440.94099999999997},{"$f":"SUMIFS('UT Base'!CB:CB,'UT Base'!$A:$A,$B11,'UT Base'!$B:$B,\"North\")/10^3","v":412.32400000000001},{"$f":"SUMIFS('UT Base'!CC:CC,'UT Base'!$A:$A,$B11,'UT Base'!$B:$B,\"North\")/10^3","v":227.87},null,{"$f":"SUMIFS('UT Base'!CE:CE,'UT Base'!$A:$A,$B11,'UT Base'!$B:$B,\"North\")/10^3","v":194.02799999999999},{"$f":"SUMIFS('UT Base'!CF:CF,'UT Base'!$A:$A,$B11,'UT Base'!$B:$B,\"North\")/10^3","v":29.097000000000001},{"$f":"SUMIFS('UT Base'!CG:CG,'UT Base'!$A:$A,$B11,'UT Base'!$B:$B,\"North\")/10^3","v":146.15},{"$f":"SUMIFS('UT Base'!CH:CH,'UT Base'!$A:$A,$B11,'UT Base'!$B:$B,\"North\")/10^3","v":57.756},{"$f":"SUMIFS('UT Base'!CI:CI,'UT Base'!$A:$A,$B11,'UT Base'!$B:$B,\"North\")/10^3","v":209.899},{"$f":"SUMIFS('UT Base'!CJ:CJ,'UT Base'!$A:$A,$B11,'UT Base'!$B:$B,\"North\")/10^3","v":0},{"$f":"SUMIFS('UT Base'!CK:CK,'UT Base'!$A:$A,$B11,'UT Base'!$B:$B,\"North\")/10^3","v":0},{"$f":"SUMIFS('UT Base'!CL:CL,'UT Base'!$A:$A,$B11,'UT Base'!$B:$B,\"North\")/10^3","v":0},{"$f":"SUMIFS('UT Base'!CM:CM,'UT Base'!$A:$A,$B11,'UT Base'!$B:$B,\"North\")/10^3","v":0},{"$f":"SUMIFS('UT Base'!CN:CN,'UT Base'!$A:$A,$B11,'UT Base'!$B:$B,\"North\")/10^3","v":0},{"$f":"SUMIFS('UT Base'!CO:CO,'UT Base'!$A:$A,$B11,'UT Base'!$B:$B,\"North\")/10^3","v":0},{"$f":"SUMIFS('UT Base'!CP:CP,'UT Base'!$A:$A,$B11,'UT Base'!$B:$B,\"North\")/10^3","v":0}]
[null,"Fertilizers",null,0,0,0,0,0,0,0,0,0,0,0,0,null,0,0,0,0,0,0,0,0,0,0,0,0,null,0,0,0,1.49,39.137999999999998,46.832000000000001,111.152,109.027,52.548000000000002,70.441999999999993,104.008,166.053,null,107.379,74.680000000000007,99.42,130.96600000000001,184.69900000000001,175.65,202.60599999999999,161.59399999999999,64.507000000000005,136.46799999999999,166.25299999999999,227.958,null,{"$f":"SUMIFS('UT Base'!BE:BE,'UT Base'!$A:$A,$B12,'UT Base'!$B:$B,\"North\")/10^3","v":182.93899999999999},{"$f":"SUMIFS('UT Base'!BF:BF,'UT Base'!$A:$A,$B12,'UT Base'!$B:$B,\"North\")/10^3","v":150.57300000000001},{"$f":"SUMIFS('UT Base'!BG:BG,'UT Base'!$A:$A,$B12,'UT Base'!$B:$B,\"North\")/10^3","v":71.8},{"$f":"SUMIFS('UT Base'!BH:BH,'UT Base'!$A:$A,$B12,'UT Base'!$B:$B,\"North\")/10^3","v":178.512},{"$f":"SUMIFS('UT Base'!BI:BI,'UT Base'!$A:$A,$B12,'UT Base'!$B:$B,\"North\")/10^3","v":237.69800000000001},{"$f":"SUMIFS('UT Base'!BJ:BJ,'UT Base'!$A:$A,$B12,'UT Base'!$B:$B,\"North\")/10^3","v":221.84200000000001},{"$f":"SUMIFS('UT Base'!BK:BK,'UT Base'!$A:$A,$B12,'UT Base'!$B:$B,\"North\")/10^3","v":237.64599999999999},{"$f":"SUMIFS('UT Base'!BL:BL,'UT Base'!$A:$A,$B12,'UT Base'!$B:$B,\"North\")/10^3","v":160.13300000000001},{"$f":"SUMIFS('UT Base'!BM:BM,'UT Base'!$A:$A,$B12,'UT Base'!$B:$B,\"North\")/10^3","v":177.80799999999999},{"$f":"SUMIFS('UT Base'!BN:BN,'UT Base'!$A:$A,$B12,'UT Base'!$B:$B,\"North\")/10^3","v":254.297},{"$f":"SUMIFS('UT Base'!BO:BO,'UT Base'!$A:$A,$B12,'UT Base'!$B:$B,\"North\")/10^3","v":246.732},{"$f":"SUMIFS('UT Base'!BP:BP,'UT Base'!$A:$A,$B12,'UT Base'!$B:$B,\"North\")/10^3","v":248.01400000000001},null,{"$f":"SUMIFS('UT Base'!BR:BR,'UT Base'!$A:$A,$B12,'UT Base'!$B:$B,\"North\")/10^3","v":259.46300000000002},{"$f":"SUMIFS('UT Base'!BS:BS,'UT Base'!$A:$A,$B12,'UT Base'!$B:$B,\"North\")/10^3","v":223.17500000000001},{"$f":"SUMIFS('UT Base'!BT:BT,'UT Base'!$A:$A,$B12,'UT Base'!$B:$B,\"North\")/10^3","v":147.10499999999999},{"$f":"SUMIFS('UT Base'!BU:BU,'UT Base'!$A:$A,$B12,'UT Base'!$B:$B,\"North\")/10^3","v":151.1},{"$f":"SUMIFS('UT Base'!BV:BV,'UT Base'!$A:$A,$B12,'UT Base'!$B:$B,\"North\")/10^3","v":159.32900000000001},{"$f":"SUMIFS('UT Base'!BW:BW,'UT Base'!$A:$A,$B12,'UT Base'!$B:$B,\"North\")/10^3","v":156.25399999999999},{"$f":"SUMIFS('UT Base'!BX:BX,'UT Base'!$A:$A,$B12,'UT Base'!$B:$B,\"North\")/10^3","v":326.39999999999998},{"$f":"SUMIFS('UT Base'!BY:BY,'UT Base'!$A:$A,$B12,'UT Base'!$B:$B,\"North\")/10^3","v":316.07799999999997},{"$f":"SUMIFS('UT Base'!BZ:BZ,'UT Base'!$A:$A,$B12,'UT Base'!$B:$B,\"North\")/10^3","v":237.47200000000001},{"$f":"SUMIFS('UT Base'!CA:CA,'UT Base'!$A:$A,$B12,'UT Base'!$B:$B,\"North\")/10^3","v":261.32400000000001},{"$f":"SUMIFS('UT Base'!CB:CB,'UT Base'!$A:$A,$B12,'UT Base'!$B:$B,\"North\")/10^3","v":218.12899999999999},{"$f":"SUMIFS('UT Base'!CC:CC,'UT Base'!$A:$A,$B12,'UT Base'!$B:$B,\"North\")/10^3","v":221.38900000000001},null,{"$f":"SUMIFS('UT Base'!CE:CE,'UT Base'!$A:$A,$B12,'UT Base'!$B:$B,\"North\")/10^3","v":179.85499999999999},{"$f":"SUMIFS('UT Base'!CF:CF,'UT Base'!$A:$A,$B12,'UT Base'!$B:$B,\"North\")/10^3","v":228.74199999999999},{"$f":"SUMIFS('UT Base'!CG:CG,'UT Base'!$A:$A,$B12,'UT Base'!$B:$B,\"North\")/10^3","v":213.98500000000001},{"$f":"SUMIFS('UT Base'!CH:CH,'UT Base'!$A:$A,$B12,'UT Base'!$B:$B,\"North\")/10^3","v":95.893000000000001},{"$f":"SUMIFS('UT Base'!CI:CI,'UT Base'!$A:$A,$B12,'UT Base'!$B:$B,\"North\")/10^3","v":275.608},{"$f":"SUMIFS('UT Base'!CJ:CJ,'UT Base'!$A:$A,$B12,'UT Base'!$B:$B,\"North\")/10^3","v":0},{"$f":"SUMIFS('UT Base'!CK:CK,'UT Base'!$A:$A,$B12,'UT Base'!$B:$B,\"North\")/10^3","v":0},{"$f":"SUMIFS('UT Base'!CL:CL,'UT Base'!$A:$A,$B12,'UT Base'!$B:$B,\"North\")/10^3","v":0},{"$f":"SUMIFS('UT Base'!CM:CM,'UT Base'!$A:$A,$B12,'UT Base'!$B:$B,\"North\")/10^3","v":0},{"$f":"SUMIFS('UT Base'!CN:CN,'UT Base'!$A:$A,$B12,'UT Base'!$B:$B,\"North\")/10^3","v":0},{"$f":"SUMIFS('UT Base'!CO:CO,'UT Base'!$A:$A,$B12,'UT Base'!$B:$B,\"North\")/10^3","v":0},{"$f":"SUMIFS('UT Base'!CP:CP,'UT Base'!$A:$A,$B12,'UT Base'!$B:$B,\"North\")/10^3","v":0}]
[null,"Wheat",null,0,0,0,0,0,0,0,0,0,0,0,0,null,0,0,0,0,0,0,0,0,0,0,0,0,null,0,0,0,0,0,0,0,0,0,0,0,0,null,0,0,0,0,0,0,0,0,0,0,0,0,null,{"$f":"SUMIFS('UT Base'!BE:BE,'UT Base'!$A:$A,$B13,'UT Base'!$B:$B,\"North\")/10^3","v":0},{"$f":"SUMIFS('UT Base'!BF:BF,'UT Base'!$A:$A,$B13,'UT Base'!$B:$B,\"North\")/10^3","v":0},{"$f":"SUMIFS('UT Base'!BG:BG,'UT Base'!$A:$A,$B13,'UT Base'!$B:$B,\"North\")/10^3","v":0},{"$f":"SUMIFS('UT Base'!BH:BH,'UT Base'!$A:$A,$B13,'UT Base'!$B:$B,\"North\")/10^3","v":0},{"$f":"SUMIFS('UT Base'!BI:BI,'UT Base'!$A:$A,$B13,'UT Base'!$B:$B,\"North\")/10^3","v":0},{"$f":"SUMIFS('UT Base'!BJ:BJ,'UT Base'!$A:$A,$B13,'UT Base'!$B:$B,\"North\")/10^3","v":0},{"$f":"SUMIFS('UT Base'!BK:BK,'UT Base'!$A:$A,$B13,'UT Base'!$B:$B,\"North\")/10^3","v":0},{"$f":"SUMIFS('UT Base'!BL:BL,'UT Base'!$A:$A,$B13,'UT Base'!$B:$B,\"North\")/10^3","v":0},{"$f":"SUMIFS('UT Base'!BM:BM,'UT Base'!$A:$A,$B13,'UT Base'!$B:$B,\"North\")/10^3","v":0},{"$f":"SUMIFS('UT Base'!BN:BN,'UT Base'!$A:$A,$B13,'UT Base'!$B:$B,\"North\")/10^3","v":0},{"$f":"SUMIFS('UT Base'!BO:BO,'UT Base'!$A:$A,$B13,'UT Base'!$B:$B,\"North\")/10^3","v":0},{"$f":"SUMIFS('UT Base'!BP:BP,'UT Base'!$A:$A,$B13,'UT Base'!$B:$B,\"North\")/10^3","v":0},null,{"$f":"SUMIFS('UT Base'!BR:BR,'UT Base'!$A:$A,$B13,'UT Base'!$B:$B,\"North\")/10^3","v":0},{"$f":"SUMIFS('UT Base'!BS:BS,'UT Base'!$A:$A,$B13,'UT Base'!$B:$B,\"North\")/10^3","v":0},{"$f":"SUMIFS('UT Base'!BT:BT,'UT Base'!$A:$A,$B13,'UT Base'!$B:$B,\"North\")/10^3","v":0},{"$f":"SUMIFS('UT Base'!BU:BU,'UT Base'!$A:$A,$B13,'UT Base'!$B:$B,\"North\")/10^3","v":0},{"$f":"SUMIFS('UT Base'!BV:BV,'UT Base'!$A:$A,$B13,'UT Base'!$B:$B,\"North\")/10^3","v":0},{"$f":"SUMIFS('UT Base'!BW:BW,'UT Base'!$A:$A,$B13,'UT Base'!$B:$B,\"North\")/10^3","v":0},{"$f":"SUMIFS('UT Base'!BX:BX,'UT Base'!$A:$A,$B13,'UT Base'!$B:$B,\"North\")/10^3","v":0},{"$f":"SUMIFS('UT Base'!BY:BY,'UT Base'!$A:$A,$B13,'UT Base'!$B:$B,\"North\")/10^3","v":0},{"$f":"SUMIFS('UT Base'!BZ:BZ,'UT Base'!$A:$A,$B13,'UT Base'!$B:$B,\"North\")/10^3","v":0},{"$f":"SUMIFS('UT Base'!CA:CA,'UT Base'!$A:$A,$B13,'UT Base'!$B:$B,\"North\")/10^3","v":0},{"$f":"SUMIFS('UT Base'!CB:CB,'UT Base'!$A:$A,$B13,'UT Base'!$B:$B,\"North\")/10^3","v":0},{"$f":"SUMIFS('UT Base'!CC:CC,'UT Base'!$A:$A,$B13,'UT Base'!$B:$B,\"North\")/10^3","v":0},null,{"$f":"SUMIFS('UT Base'!CE:CE,'UT Base'!$A:$A,$B13,'UT Base'!$B:$B,\"North\")/10^3","v":0},{"$f":"SUMIFS('UT Base'!CF:CF,'UT Base'!$A:$A,$B13,'UT Base'!$B:$B,\"North\")/10^3","v":0},{"$f":"SUMIFS('UT Base'!CG:CG,'UT Base'!$A:$A,$B13,'UT Base'!$B:$B,\"North\")/10^3","v":0},{"$f":"SUMIFS('UT Base'!CH:CH,'UT Base'!$A:$A,$B13,'UT Base'!$B:$B,\"North\")/10^3","v":0},{"$f":"SUMIFS('UT Base'!CI:CI,'UT Base'!$A:$A,$B13,'UT Base'!$B:$B,\"North\")/10^3","v":0},{"$f":"SUMIFS('UT Base'!CJ:CJ,'UT Base'!$A:$A,$B13,'UT Base'!$B:$B,\"North\")/10^3","v":0},{"$f":"SUMIFS('UT Base'!CK:CK,'UT Base'!$A:$A,$B13,'UT Base'!$B:$B,\"North\")/10^3","v":0},{"$f":"SUMIFS('UT Base'!CL:CL,'UT Base'!$A:$A,$B13,'UT Base'!$B:$B,\"North\")/10^3","v":0},{"$f":"SUMIFS('UT Base'!CM:CM,'UT Base'!$A:$A,$B13,'UT Base'!$B:$B,\"North\")/10^3","v":0},{"$f":"SUMIFS('UT Base'!CN:CN,'UT Base'!$A:$A,$B13,'UT Base'!$B:$B,\"North\")/10^3","v":0},{"$f":"SUMIFS('UT Base'!CO:CO,'UT Base'!$A:$A,$B13,'UT Base'!$B:$B,\"North\")/10^3","v":0},{"$f":"SUMIFS('UT Base'!CP:CP,'UT Base'!$A:$A,$B13,'UT Base'!$B:$B,\"North\")/10^3","v":0}]
[null,"Malt",null,0,0,0,0,0,0,0,0,0,0,0,0,null,0,0,0,0,0,0,0,0,0,0,0,0,null,0,0,0,0,0,0,0,0,0,0,0,0,null,0,0,0,0,0,0,0,0,0,0,0,0,null,{"$f":"SUMIFS('UT Base'!BE:BE,'UT Base'!$A:$A,$B14,'UT Base'!$B:$B,\"North\")/10^3","v":0},{"$f":"SUMIFS('UT Base'!BF:BF,'UT Base'!$A:$A,$B14,'UT Base'!$B:$B,\"North\")/10^3","v":0},{"$f":"SUMIFS('UT Base'!BG:BG,'UT Base'!$A:$A,$B14,'UT Base'!$B:$B,\"North\")/10^3","v":0},{"$f":"SUMIFS('UT Base'!BH:BH,'UT Base'!$A:$A,$B14,'UT Base'!$B:$B,\"North\")/10^3","v":0},{"$f":"SUMIFS('UT Base'!BI:BI,'UT Base'!$A:$A,$B14,'UT Base'!$B:$B,\"North\")/10^3","v":0},{"$f":"SUMIFS('UT Base'!BJ:BJ,'UT Base'!$A:$A,$B14,'UT Base'!$B:$B,\"North\")/10^3","v":0},{"$f":"SUMIFS('UT Base'!BK:BK,'UT Base'!$A:$A,$B14,'UT Base'!$B:$B,\"North\")/10^3","v":0},{"$f":"SUMIFS('UT Base'!BL:BL,'UT Base'!$A:$A,$B14,'UT Base'!$B:$B,\"North\")/10^3","v":0},{"$f":"SUMIFS('UT Base'!BM:BM,'UT Base'!$A:$A,$B14,'UT Base'!$B:$B,\"North\")/10^3","v":0},{"$f":"SUMIFS('UT Base'!BN:BN,'UT Base'!$A:$A,$B14,'UT Base'!$B:$B,\"North\")/10^3","v":0},{"$f":"SUMIFS('UT Base'!BO:BO,'UT Base'!$A:$A,$B14,'UT Base'!$B:$B,\"North\")/10^3","v":0},{"$f":"SUMIFS('UT Base'!BP:BP,'UT Base'!$A:$A,$B14,'UT Base'!$B:$B,\"North\")/10^3","v":0},null,{"$f":"SUMIFS('UT Base'!BR:BR,'UT Base'!$A:$A,$B14,'UT Base'!$B:$B,\"North\")/10^3","v":0},{"$f":"SUMIFS('UT Base'!BS:BS,'UT Base'!$A:$A,$B14,'UT Base'!$B:$B,\"North\")/10^3","v":0},{"$f":"SUMIFS('UT Base'!BT:BT,'UT Base'!$A:$A,$B14,'UT Base'!$B:$B,\"North\")/10^3","v":0},{"$f":"SUMIFS('UT Base'!BU:BU,'UT Base'!$A:$A,$B14,'UT Base'!$B:$B,\"North\")/10^3","v":0},{"$f":"SUMIFS('UT Base'!BV:BV,'UT Base'!$A:$A,$B14,'UT Base'!$B:$B,\"North\")/10^3","v":0},{"$f":"SUMIFS('UT Base'!BW:BW,'UT Base'!$A:$A,$B14,'UT Base'!$B:$B,\"North\")/10^3","v":0},{"$f":"SUMIFS('UT Base'!BX:BX,'UT Base'!$A:$A,$B14,'UT Base'!$B:$B,\"North\")/10^3","v":0},{"$f":"SUMIFS('UT Base'!BY:BY,'UT Base'!$A:$A,$B14,'UT Base'!$B:$B,\"North\")/10^3","v":0},{"$f":"SUMIFS('UT Base'!BZ:BZ,'UT Base'!$A:$A,$B14,'UT Base'!$B:$B,\"North\")/10^3","v":0},{"$f":"SUMIFS('UT Base'!CA:CA,'UT Base'!$A:$A,$B14,'UT Base'!$B:$B,\"North\")/10^3","v":0},{"$f":"SUMIFS('UT Base'!CB:CB,'UT Base'!$A:$A,$B14,'UT Base'!$B:$B,\"North\")/10^3","v":0},{"$f":"SUMIFS('UT Base'!CC:CC,'UT Base'!$A:$A,$B14,'UT Base'!$B:$B,\"North\")/10^3","v":0},null,{"$f":"SUMIFS('UT Base'!CE:CE,'UT Base'!$A:$A,$B14,'UT Base'!$B:$B,\"North\")/10^3","v":0},{"$f":"SUMIFS('UT Base'!CF:CF,'UT Base'!$A:$A,$B14,'UT Base'!$B:$B,\"North\")/10^3","v":0},{"$f":"SUMIFS('UT Base'!CG:CG,'UT Base'!$A:$A,$B14,'UT Base'!$B:$B,\"North\")/10^3","v":0},{"$f":"SUMIFS('UT Base'!CH:CH,'UT Base'!$A:$A,$B14,'UT Base'!$B:$B,\"North\")/10^3","v":0},{"$f":"SUMIFS('UT Base'!CI:CI,'UT Base'!$A:$A,$B14,'UT Base'!$B:$B,\"North\")/10^3","v":0},{"$f":"SUMIFS('UT Base'!CJ:CJ,'UT Base'!$A:$A,$B14,'UT Base'!$B:$B,\"North\")/10^3","v":0},{"$f":"SUMIFS('UT Base'!CK:CK,'UT Base'!$A:$A,$B14,'UT Base'!$B:$B,\"North\")/10^3","v":0},{"$f":"SUMIFS('UT Base'!CL:CL,'UT Base'!$A:$A,$B14,'UT Base'!$B:$B,\"North\")/10^3","v":0},{"$f":"SUMIFS('UT Base'!CM:CM,'UT Base'!$A:$A,$B14,'UT Base'!$B:$B,\"North\")/10^3","v":0},{"$f":"SUMIFS('UT Base'!CN:CN,'UT Base'!$A:$A,$B14,'UT Base'!$B:$B,\"North\")/10^3","v":0},{"$f":"SUMIFS('UT Base'!CO:CO,'UT Base'!$A:$A,$B14,'UT Base'!$B:$B,\"North\")/10^3","v":0},{"$f":"SUMIFS('UT Base'!CP:CP,'UT Base'!$A:$A,$B14,'UT Base'!$B:$B,\"North\")/10^3","v":0}]
[null,"Corn meal",null,0,0,0,0,0,0,0,0,0,0,0,0,null,0,0,0,0,0,0,0,0,0,0,0,0,null,0,0,0,0,0,0,0,0,0,0,0,0,null,0,0,0,0,0,0,0,0,0,0,0,14.885999999999999,null,{"$f":"SUMIFS('UT Base'!BE:BE,'UT Base'!$A:$A,$B15,'UT Base'!$B:$B,\"North\")/10^3","v":12.996},{"$f":"SUMIFS('UT Base'!BF:BF,'UT Base'!$A:$A,$B15,'UT Base'!$B:$B,\"North\")/10^3","v":0},{"$f":"SUMIFS('UT Base'!BG:BG,'UT Base'!$A:$A,$B15,'UT Base'!$B:$B,\"North\")/10^3","v":0},{"$f":"SUMIFS('UT Base'!BH:BH,'UT Base'!$A:$A,$B15,'UT Base'!$B:$B,\"North\")/10^3","v":0},{"$f":"SUMIFS('UT Base'!BI:BI,'UT Base'!$A:$A,$B15,'UT Base'!$B:$B,\"North\")/10^3","v":0},{"$f":"SUMIFS('UT Base'!BJ:BJ,'UT Base'!$A:$A,$B15,'UT Base'!$B:$B,\"North\")/10^3","v":0},{"$f":"SUMIFS('UT Base'!BK:BK,'UT Base'!$A:$A,$B15,'UT Base'!$B:$B,\"North\")/10^3","v":0},{"$f":"SUMIFS('UT Base'!BL:BL,'UT Base'!$A:$A,$B15,'UT Base'!$B:$B,\"North\")/10^3","v":0},{"$f":"SUMIFS('UT Base'!BM:BM,'UT Base'!$A:$A,$B15,'UT Base'!$B:$B,\"North\")/10^3","v":0},{"$f":"SUMIFS('UT Base'!BN:BN,'UT Base'!$A:$A,$B15,'UT Base'!$B:$B,\"North\")/10^3","v":0},{"$f":"SUMIFS('UT Base'!BO:BO,'UT Base'!$A:$A,$B15,'UT Base'!$B:$B,\"North\")/10^3","v":0},{"$f":"SUMIFS('UT Base'!BP:BP,'UT Base'!$A:$A,$B15,'UT Base'!$B:$B,\"North\")/10^3","v":0},null,{"$f":"SUMIFS('UT Base'!BR:BR,'UT Base'!$A:$A,$B15,'UT Base'!$B:$B,\"North\")/10^3","v":0},{"$f":"SUMIFS('UT Base'!BS:BS,'UT Base'!$A:$A,$B15,'UT Base'!$B:$B,\"North\")/10^3","v":0},{"$f":"SUMIFS('UT Base'!BT:BT,'UT Base'!$A:$A,$B15,'UT Base'!$B:$B,\"North\")/10^3","v":0},{"$f":"SUMIFS('UT Base'!BU:BU,'UT Base'!$A:$A,$B15,'UT Base'!$B:$B,\"North\")/10^3","v":0},{"$f":"SUMIFS('UT Base'!BV:BV,'UT Base'!$A:$A,$B15,'UT Base'!$B:$B,\"North\")/10^3","v":0},{"$f":"SUMIFS('UT Base'!BW:BW,'UT Base'!$A:$A,$B15,'UT Base'!$B:$B,\"North\")/10^3","v":0},{"$f":"SUMIFS('UT Base'!BX:BX,'UT Base'!$A:$A,$B15,'UT Base'!$B:$B,\"North\")/10^3","v":0},{"$f":"SUMIFS('UT Base'!BY:BY,'UT Base'!$A:$A,$B15,'UT Base'!$B:$B,\"North\")/10^3","v":0},{"$f":"SUMIFS('UT Base'!BZ:BZ,'UT Base'!$A:$A,$B15,'UT Base'!$B:$B,\"North\")/10^3","v":0},{"$f":"SUMIFS('UT Base'!CA:CA,'UT Base'!$A:$A,$B15,'UT Base'!$B:$B,\"North\")/10^3","v":0},{"$f":"SUMIFS('UT Base'!CB:CB,'UT Base'!$A:$A,$B15,'UT Base'!$B:$B,\"North\")/10^3","v":0},{"$f":"SUMIFS('UT Base'!CC:CC,'UT Base'!$A:$A,$B15,'UT Base'!$B:$B,\"North\")/10^3","v":0},null,{"$f":"SUMIFS('UT Base'!CE:CE,'UT Base'!$A:$A,$B15,'UT Base'!$B:$B,\"North\")/10^3","v":0},{"$f":"SUMIFS('UT Base'!CF:CF,'UT Base'!$A:$A,$B15,'UT Base'!$B:$B,\"North\")/10^3","v":0},{"$f":"SUMIFS('UT Base'!CG:CG,'UT Base'!$A:$A,$B15,'UT Base'!$B:$B,\"North\")/10^3","v":0},{"$f":"SUMIFS('UT Base'!CH:CH,'UT Base'!$A:$A,$B15,'UT Base'!$B:$B,\"North\")/10^3","v":0},{"$f":"SUMIFS('UT Base'!CI:CI,'UT Base'!$A:$A,$B15,'UT Base'!$B:$B,\"North\")/10^3","v":0},{"$f":"SUMIFS('UT Base'!CJ:CJ,'UT Base'!$A:$A,$B15,'UT Base'!$B:$B,\"North\")/10^3","v":0},{"$f":"SUMIFS('UT Base'!CK:CK,'UT Base'!$A:$A,$B15,'UT Base'!$B:$B,\"North\")/10^3","v":0},{"$f":"SUMIFS('UT Base'!CL:CL,'UT Base'!$A:$A,$B15,'UT Base'!$B:$B,\"North\")/10^3","v":0},{"$f":"SUMIFS('UT Base'!CM:CM,'UT Base'!$A:$A,$B15,'UT Base'!$B:$B,\"North\")/10^3","v":0},{"$f":"SUMIFS('UT Base'!CN:CN,'UT Base'!$A:$A,$B15,'UT Base'!$B:$B,\"North\")/10^3","v":0},{"$f":"SUMIFS('UT Base'!CO:CO,'UT Base'!$A:$A,$B15,'UT Base'!$B:$B,\"North\")/10^3","v":0},{"$f":"SUMIFS('UT Base'!CP:CP,'UT Base'!$A:$A,$B15,'UT Base'!$B:$B,\"North\")/10^3","v":0}]
[null,"Containers",null,66.911000000000001,71.227999999999994,78.105000000000004,68.8,76.7,79.313000000000002,85.311000000000007,79.212999999999994,71.25,79.876999999999995,79.796000000000006,65.534000000000006,null,77.206000000000003,62.500999999999998,70.144999999999996,86.667000000000002,101.449,91,90.524000000000001,102.53400000000001,94.613,99.242000000000004,85.444999999999993,69.837000000000003,null,35.055999999999997,111.01900000000001,101.471,104.069,85.316999999999993,88.084999999999994,117.664,124.431,109.664,103.292,96.879000000000005,99.54,null,96.914000000000001,89.436999999999998,127.261,122.676,123.248,109.444,131.84700000000001,140.161,134.77600000000001,132.64699999999999,138.01300000000001,131.57900000000001,null,{"$f":"SUMIFS('UT Base'!BE:BE,'UT Base'!$A:$A,$B16,'UT Base'!$B:$B,\"North\")/10^3","v":117.087},{"$f":"SUMIFS('UT Base'!BF:BF,'UT Base'!$A:$A,$B16,'UT Base'!$B:$B,\"North\")/10^3","v":107.946},{"$f":"SUMIFS('UT Base'!BG:BG,'UT Base'!$A:$A,$B16,'UT Base'!$B:$B,\"North\")/10^3","v":109.28},{"$f":"SUMIFS('UT Base'!BH:BH,'UT Base'!$A:$A,$B16,'UT Base'!$B:$B,\"North\")/10^3","v":80.242000000000004},{"$f":"SUMIFS('UT Base'!BI:BI,'UT Base'!$A:$A,$B16,'UT Base'!$B:$B,\"North\")/10^3","v":71.525000000000006},{"$f":"SUMIFS('UT Base'!BJ:BJ,'UT Base'!$A:$A,$B16,'UT Base'!$B:$B,\"North\")/10^3","v":117.378},{"$f":"SUMIFS('UT Base'!BK:BK,'UT Base'!$A:$A,$B16,'UT Base'!$B:$B,\"North\")/10^3","v":125.06399999999999},{"$f":"SUMIFS('UT Base'!BL:BL,'UT Base'!$A:$A,$B16,'UT Base'!$B:$B,\"North\")/10^3","v":123.70399999999999},{"$f":"SUMIFS('UT Base'!BM:BM,'UT Base'!$A:$A,$B16,'UT Base'!$B:$B,\"North\")/10^3","v":130.72200000000001},{"$f":"SUMIFS('UT Base'!BN:BN,'UT Base'!$A:$A,$B16,'UT Base'!$B:$B,\"North\")/10^3","v":127.553},{"$f":"SUMIFS('UT Base'!BO:BO,'UT Base'!$A:$A,$B16,'UT Base'!$B:$B,\"North\")/10^3","v":142.40600000000001},{"$f":"SUMIFS('UT Base'!BP:BP,'UT Base'!$A:$A,$B16,'UT Base'!$B:$B,\"North\")/10^3","v":134.876},null,{"$f":"SUMIFS('UT Base'!BR:BR,'UT Base'!$A:$A,$B16,'UT Base'!$B:$B,\"North\")/10^3","v":115.55200000000001},{"$f":"SUMIFS('UT Base'!BS:BS,'UT Base'!$A:$A,$B16,'UT Base'!$B:$B,\"North\")/10^3","v":105.97},{"$f":"SUMIFS('UT Base'!BT:BT,'UT Base'!$A:$A,$B16,'UT Base'!$B:$B,\"North\")/10^3","v":109.34699999999999},{"$f":"SUMIFS('UT Base'!BU:BU,'UT Base'!$A:$A,$B16,'UT Base'!$B:$B,\"North\")/10^3","v":137.08699999999999},{"$f":"SUMIFS('UT Base'!BV:BV,'UT Base'!$A:$A,$B16,'UT Base'!$B:$B,\"North\")/10^3","v":129.78399999999999},{"$f":"SUMIFS('UT Base'!BW:BW,'UT Base'!$A:$A,$B16,'UT Base'!$B:$B,\"North\")/10^3","v":145.624},{"$f":"SUMIFS('UT Base'!BX:BX,'UT Base'!$A:$A,$B16,'UT Base'!$B:$B,\"North\")/10^3","v":147.65299999999999},{"$f":"SUMIFS('UT Base'!BY:BY,'UT Base'!$A:$A,$B16,'UT Base'!$B:$B,\"North\")/10^3","v":170.227},{"$f":"SUMIFS('UT Base'!BZ:BZ,'UT Base'!$A:$A,$B16,'UT Base'!$B:$B,\"North\")/10^3","v":151.44300000000001},{"$f":"SUMIFS('UT Base'!CA:CA,'UT Base'!$A:$A,$B16,'UT Base'!$B:$B,\"North\")/10^3","v":144.08000000000001},{"$f":"SUMIFS('UT Base'!CB:CB,'UT Base'!$A:$A,$B16,'UT Base'!$B:$B,\"North\")/10^3","v":138.501},{"$f":"SUMIFS('UT Base'!CC:CC,'UT Base'!$A:$A,$B16,'UT Base'!$B:$B,\"North\")/10^3","v":153.38900000000001},null,{"$f":"SUMIFS('UT Base'!CE:CE,'UT Base'!$A:$A,$B16,'UT Base'!$B:$B,\"North\")/10^3","v":127.402},{"$f":"SUMIFS('UT Base'!CF:CF,'UT Base'!$A:$A,$B16,'UT Base'!$B:$B,\"North\")/10^3","v":143.00800000000001},{"$f":"SUMIFS('UT Base'!CG:CG,'UT Base'!$A:$A,$B16,'UT Base'!$B:$B,\"North\")/10^3","v":156.55799999999999},{"$f":"SUMIFS('UT Base'!CH:CH,'UT Base'!$A:$A,$B16,'UT Base'!$B:$B,\"North\")/10^3","v":147.452},{"$f":"SUMIFS('UT Base'!CI:CI,'UT Base'!$A:$A,$B16,'UT Base'!$B:$B,\"North\")/10^3","v":152.41999999999999},{"$f":"SUMIFS('UT Base'!CJ:CJ,'UT Base'!$A:$A,$B16,'UT Base'!$B:$B,\"North\")/10^3","v":0},{"$f":"SUMIFS('UT Base'!CK:CK,'UT Base'!$A:$A,$B16,'UT Base'!$B:$B,\"North\")/10^3","v":0},{"$f":"SUMIFS('UT Base'!CL:CL,'UT Base'!$A:$A,$B16,'UT Base'!$B:$B,\"North\")/10^3","v":0},{"$f":"SUMIFS('UT Base'!CM:CM,'UT Base'!$A:$A,$B16,'UT Base'!$B:$B,\"North\")/10^3","v":0},{"$f":"SUMIFS('UT Base'!CN:CN,'UT Base'!$A:$A,$B16,'UT Base'!$B:$B,\"North\")/10^3","v":0},{"$f":"SUMIFS('UT Base'!CO:CO,'UT Base'!$A:$A,$B16,'UT Base'!$B:$B,\"North\")/10^3","v":0},{"$f":"SUMIFS('UT Base'!CP:CP,'UT Base'!$A:$A,$B16,'UT Base'!$B:$B,\"North\")/10^3","v":0}]
[null,"Industrial Products",null,{"$f":"SUM(D18:D21)","v":173.65600000000001},166.828,179.77099999999999,172.79899999999998,176.709,193.08500000000001,185.52199999999999,203.11600000000001,222.98099999999999,221.51900000000001,181.97399999999999,184.07599999999999,null,{"$f":"SUM(Q18:Q21)","v":191.06899999999999},173.357,188.08600000000001,168.036,187.892,198.65100000000001,191.31299999999999,200.447,175.084,247.75700000000001,234.35499999999999,249.99299999999999,null,{"$f":"SUM(AD18:AD21)","v":244.53800000000001},243.327,281.45799999999997,228.56899999999999,267.52499999999998,329.03499999999997,324.43899999999996,327.78300000000002,318.26400000000001,317.71299999999997,322.11199999999997,320.45600000000002,null,{"$f":"SUM(AQ18:AQ21)","v":314.79399999999998},260.77699999999999,299.12099999999998,292.57499999999999,315.89999999999998,317.61400000000003,328.82400000000001,324.02800000000002,334.363,352.44500000000005,326.35299999999995,320.15099999999995,null,{"$f":"SUM(BD18:BD21)","v":333.23699999999997},334.279,289.69600000000003,248.988,366.36599999999999,342.77,371.92600000000004,380.28999999999996,406.81799999999998,427.30500000000001,415.26900000000001,340.63499999999999,null,{"$f":"SUM(BQ18:BQ21)","v":363.517},{"$f":"SUM(BR18:BR21)","v":365.9},{"$f":"SUM(BS18:BS21)","v":383.923},{"$f":"SUM(BT18:BT21)","v":383.14800000000002},{"$f":"SUM(BU18:BU21)","v":400.57100000000003},{"$f":"SUM(BV18:BV21)","v":398.60199999999998},{"$f":"SUM(BW18:BW21)","v":423.53700000000003},{"$f":"SUM(BX18:BX21)","v":452.92399999999998},{"$f":"SUM(BY18:BY21)","v":428.47400000000005},{"$f":"SUM(BZ18:BZ21)","v":451.74400000000003},{"$f":"SUM(CA18:CA21)","v":403.642},{"$f":"SUM(CB18:CB21)","v":412.86799999999999},null,{"$f":"SUM(CD18:CD21)","v":422.79300000000001},450.56400000000002,488.21800000000002,447.63599999999997,484.60500000000002,0,0,0,0,0,0,0]
[null,"Fuels",null,158.60400000000001,150.756,178.14,172.03899999999999,176.709,193.08500000000001,185.52199999999999,203.11600000000001,222.98099999999999,221.51900000000001,181.97399999999999,184.07599999999999,null,191.06899999999999,173.357,188.08600000000001,168.036,187.892,198.65100000000001,191.31299999999999,200.447,175.084,216.517,165.09899999999999,165.07300000000001,null,169.298,168.43899999999999,177.26599999999999,158.87299999999999,175.565,225.63499999999999,220.863,198.423,200.34399999999999,185.36099999999999,189.76,186.52,null,185.96199999999999,164.94499999999999,167.82499999999999,153.18299999999999,181.34800000000001,196.08600000000001,200.87200000000001,202.32400000000001,195.58699999999999,199.85300000000001,183.61699999999999,167.29499999999999,null,{"$f":"SUMIFS('UT Base'!BE:BE,'UT Base'!$A:$A,$B18,'UT Base'!$B:$B,\"North\")/10^3","v":180.90899999999999},{"$f":"SUMIFS('UT Base'!BF:BF,'UT Base'!$A:$A,$B18,'UT Base'!$B:$B,\"North\")/10^3","v":185.29499999999999},{"$f":"SUMIFS('UT Base'!BG:BG,'UT Base'!$A:$A,$B18,'UT Base'!$B:$B,\"North\")/10^3","v":150.38200000000001},{"$f":"SUMIFS('UT Base'!BH:BH,'UT Base'!$A:$A,$B18,'UT Base'!$B:$B,\"North\")/10^3","v":85.757999999999996},{"$f":"SUMIFS('UT Base'!BI:BI,'UT Base'!$A:$A,$B18,'UT Base'!$B:$B,\"North\")/10^3","v":184.536},{"$f":"SUMIFS('UT Base'!BJ:BJ,'UT Base'!$A:$A,$B18,'UT Base'!$B:$B,\"North\")/10^3","v":162.72200000000001},{"$f":"SUMIFS('UT Base'!BK:BK,'UT Base'!$A:$A,$B18,'UT Base'!$B:$B,\"North\")/10^3","v":200.02},{"$f":"SUMIFS('UT Base'!BL:BL,'UT Base'!$A:$A,$B18,'UT Base'!$B:$B,\"North\")/10^3","v":210.41200000000001},{"$f":"SUMIFS('UT Base'!BM:BM,'UT Base'!$A:$A,$B18,'UT Base'!$B:$B,\"North\")/10^3","v":229.96799999999999},{"$f":"SUMIFS('UT Base'!BN:BN,'UT Base'!$A:$A,$B18,'UT Base'!$B:$B,\"North\")/10^3","v":243.87700000000001},{"$f":"SUMIFS('UT Base'!BO:BO,'UT Base'!$A:$A,$B18,'UT Base'!$B:$B,\"North\")/10^3","v":226.04900000000001},{"$f":"SUMIFS('UT Base'!BP:BP,'UT Base'!$A:$A,$B18,'UT Base'!$B:$B,\"North\")/10^3","v":216.727},null,{"$f":"SUMIFS('UT Base'!BR:BR,'UT Base'!$A:$A,$B18,'UT Base'!$B:$B,\"North\")/10^3","v":211.875},{"$f":"SUMIFS('UT Base'!BS:BS,'UT Base'!$A:$A,$B18,'UT Base'!$B:$B,\"North\")/10^3","v":213.536},{"$f":"SUMIFS('UT Base'!BT:BT,'UT Base'!$A:$A,$B18,'UT Base'!$B:$B,\"North\")/10^3","v":204.279},{"$f":"SUMIFS('UT Base'!BU:BU,'UT Base'!$A:$A,$B18,'UT Base'!$B:$B,\"North\")/10^3","v":219.184},{"$f":"SUMIFS('UT Base'!BV:BV,'UT Base'!$A:$A,$B18,'UT Base'!$B:$B,\"North\")/10^3","v":228.79300000000001},{"$f":"SUMIFS('UT Base'!BW:BW,'UT Base'!$A:$A,$B18,'UT Base'!$B:$B,\"North\")/10^3","v":239.71},{"$f":"SUMIFS('UT Base'!BX:BX,'UT Base'!$A:$A,$B18,'UT Base'!$B:$B,\"North\")/10^3","v":247.369},{"$f":"SUMIFS('UT Base'!BY:BY,'UT Base'!$A:$A,$B18,'UT Base'!$B:$B,\"North\")/10^3","v":253.886},{"$f":"SUMIFS('UT Base'!BZ:BZ,'UT Base'!$A:$A,$B18,'UT Base'!$B:$B,\"North\")/10^3","v":244.58},{"$f":"SUMIFS('UT Base'!CA:CA,'UT Base'!$A:$A,$B18,'UT Base'!$B:$B,\"North\")/10^3","v":253.846},{"$f":"SUMIFS('UT Base'!CB:CB,'UT Base'!$A:$A,$B18,'UT Base'!$B:$B,\"North\")/10^3","v":219.03},{"$f":"SUMIFS('UT Base'!CC:CC,'UT Base'!$A:$A,$B18,'UT Base'!$B:$B,\"North\")/10^3","v":235.18},null,{"$f":"SUMIFS('UT Base'!CE:CE,'UT Base'!$A:$A,$B18,'UT Base'!$B:$B,\"North\")/10^3","v":244.857},{"$f":"SUMIFS('UT Base'!CF:CF,'UT Base'!$A:$A,$B18,'UT Base'!$B:$B,\"North\")/10^3","v":256.18200000000002},{"$f":"SUMIFS('UT Base'!CG:CG,'UT Base'!$A:$A,$B18,'UT Base'!$B:$B,\"North\")/10^3","v":255.27},{"$f":"SUMIFS('UT Base'!CH:CH,'UT Base'!$A:$A,$B18,'UT Base'!$B:$B,\"North\")/10^3","v":243.238},{"$f":"SUMIFS('UT Base'!CI:CI,'UT Base'!$A:$A,$B18,'UT Base'!$B:$B,\"North\")/10^3","v":268.58300000000003},{"$f":"SUMIFS('UT Base'!CJ:CJ,'UT Base'!$A:$A,$B18,'UT Base'!$B:$B,\"North\")/10^3","v":0},{"$f":"SUMIFS('UT Base'!CK:CK,'UT Base'!$A:$A,$B18,'UT Base'!$B:$B,\"North\")/10^3","v":0},{"$f":"SUMIFS('UT Base'!CL:CL,'UT Base'!$A:$A,$B18,'UT Base'!$B:$B,\"North\")/10^3","v":0},{"$f":"SUMIFS('UT Base'!CM:CM,'UT Base'!$A:$A,$B18,'UT Base'!$B:$B,\"North\")/10^3","v":0},{"$f":"SUMIFS('UT Base'!CN:CN,'UT Base'!$A:$A,$B18,'UT Base'!$B:$B,\"North\")/10^3","v":0},{"$f":"SUMIFS('UT Base'!CO:CO,'UT Base'!$A:$A,$B18,'UT Base'!$B:$B,\"North\")/10^3","v":0},{"$f":"SUMIFS('UT Base'!CP:CP,'UT Base'!$A:$A,$B18,'UT Base'!$B:$B,\"North\")/10^3","v":0}]
[null,"Wood, pulp and paper",null,15.052,15.132,0,0,0,0,0,0,0,0,0,0,null,0,0,0,0,0,0,0,0,0,31.24,69.256,84.92,null,75.239999999999995,74.888000000000005,104.19199999999999,69.695999999999998,91.96,103.4,103.57599999999999,129.36000000000001,117.92,132.352,132.352,133.93600000000001,null,128.83199999999999,95.831999999999994,131.29599999999999,139.392,134.55199999999999,121.52800000000001,127.952,121.70399999999999,138.77600000000001,152.59200000000001,142.73599999999999,152.85599999999999,null,{"$f":"SUMIFS('UT Base'!BE:BE,'UT Base'!$A:$A,$B19,'UT Base'!$B:$B,\"North\")/10^3","v":152.328},{"$f":"SUMIFS('UT Base'!BF:BF,'UT Base'!$A:$A,$B19,'UT Base'!$B:$B,\"North\")/10^3","v":148.98400000000001},{"$f":"SUMIFS('UT Base'!BG:BG,'UT Base'!$A:$A,$B19,'UT Base'!$B:$B,\"North\")/10^3","v":139.31399999999999},{"$f":"SUMIFS('UT Base'!BH:BH,'UT Base'!$A:$A,$B19,'UT Base'!$B:$B,\"North\")/10^3","v":163.22999999999999},{"$f":"SUMIFS('UT Base'!BI:BI,'UT Base'!$A:$A,$B19,'UT Base'!$B:$B,\"North\")/10^3","v":181.83},{"$f":"SUMIFS('UT Base'!BJ:BJ,'UT Base'!$A:$A,$B19,'UT Base'!$B:$B,\"North\")/10^3","v":180.048},{"$f":"SUMIFS('UT Base'!BK:BK,'UT Base'!$A:$A,$B19,'UT Base'!$B:$B,\"North\")/10^3","v":171.90600000000001},{"$f":"SUMIFS('UT Base'!BL:BL,'UT Base'!$A:$A,$B19,'UT Base'!$B:$B,\"North\")/10^3","v":169.87799999999999},{"$f":"SUMIFS('UT Base'!BM:BM,'UT Base'!$A:$A,$B19,'UT Base'!$B:$B,\"North\")/10^3","v":176.85},{"$f":"SUMIFS('UT Base'!BN:BN,'UT Base'!$A:$A,$B19,'UT Base'!$B:$B,\"North\")/10^3","v":183.428},{"$f":"SUMIFS('UT Base'!BO:BO,'UT Base'!$A:$A,$B19,'UT Base'!$B:$B,\"North\")/10^3","v":189.22},{"$f":"SUMIFS('UT Base'!BP:BP,'UT Base'!$A:$A,$B19,'UT Base'!$B:$B,\"North\")/10^3","v":123.908},null,{"$f":"SUMIFS('UT Base'!BR:BR,'UT Base'!$A:$A,$B19,'UT Base'!$B:$B,\"North\")/10^3","v":151.642},{"$f":"SUMIFS('UT Base'!BS:BS,'UT Base'!$A:$A,$B19,'UT Base'!$B:$B,\"North\")/10^3","v":152.364},{"$f":"SUMIFS('UT Base'!BT:BT,'UT Base'!$A:$A,$B19,'UT Base'!$B:$B,\"North\")/10^3","v":179.64400000000001},{"$f":"SUMIFS('UT Base'!BU:BU,'UT Base'!$A:$A,$B19,'UT Base'!$B:$B,\"North\")/10^3","v":163.964},{"$f":"SUMIFS('UT Base'!BV:BV,'UT Base'!$A:$A,$B19,'UT Base'!$B:$B,\"North\")/10^3","v":171.77799999999999},{"$f":"SUMIFS('UT Base'!BW:BW,'UT Base'!$A:$A,$B19,'UT Base'!$B:$B,\"North\")/10^3","v":158.892},{"$f":"SUMIFS('UT Base'!BX:BX,'UT Base'!$A:$A,$B19,'UT Base'!$B:$B,\"North\")/10^3","v":176.16800000000001},{"$f":"SUMIFS('UT Base'!BY:BY,'UT Base'!$A:$A,$B19,'UT Base'!$B:$B,\"North\")/10^3","v":199.03800000000001},{"$f":"SUMIFS('UT Base'!BZ:BZ,'UT Base'!$A:$A,$B19,'UT Base'!$B:$B,\"North\")/10^3","v":183.89400000000001},{"$f":"SUMIFS('UT Base'!CA:CA,'UT Base'!$A:$A,$B19,'UT Base'!$B:$B,\"North\")/10^3","v":197.898},{"$f":"SUMIFS('UT Base'!CB:CB,'UT Base'!$A:$A,$B19,'UT Base'!$B:$B,\"North\")/10^3","v":184.61199999999999},{"$f":"SUMIFS('UT Base'!CC:CC,'UT Base'!$A:$A,$B19,'UT Base'!$B:$B,\"North\")/10^3","v":177.68799999999999},null,{"$f":"SUMIFS('UT Base'!CE:CE,'UT Base'!$A:$A,$B19,'UT Base'!$B:$B,\"North\")/10^3","v":177.93600000000001},{"$f":"SUMIFS('UT Base'!CF:CF,'UT Base'!$A:$A,$B19,'UT Base'!$B:$B,\"North\")/10^3","v":194.38200000000001},{"$f":"SUMIFS('UT Base'!CG:CG,'UT Base'!$A:$A,$B19,'UT Base'!$B:$B,\"North\")/10^3","v":232.94800000000001},{"$f":"SUMIFS('UT Base'!CH:CH,'UT Base'!$A:$A,$B19,'UT Base'!$B:$B,\"North\")/10^3","v":204.398},{"$f":"SUMIFS('UT Base'!CI:CI,'UT Base'!$A:$A,$B19,'UT Base'!$B:$B,\"North\")/10^3","v":216.02199999999999},{"$f":"SUMIFS('UT Base'!CJ:CJ,'UT Base'!$A:$A,$B19,'UT Base'!$B:$B,\"North\")/10^3","v":0},{"$f":"SUMIFS('UT Base'!CK:CK,'UT Base'!$A:$A,$B19,'UT Base'!$B:$B,\"North\")/10^3","v":0},{"$f":"SUMIFS('UT Base'!CL:CL,'UT Base'!$A:$A,$B19,'UT Base'!$B:$B,\"North\")/10^3","v":0},{"$f":"SUMIFS('UT Base'!CM:CM,'UT Base'!$A:$A,$B19,'UT Base'!$B:$B,\"North\")/10^3","v":0},{"$f":"SUMIFS('UT Base'!CN:CN,'UT Base'!$A:$A,$B19,'UT Base'!$B:$B,\"North\")/10^3","v":0},{"$f":"SUMIFS('UT Base'!CO:CO,'UT Base'!$A:$A,$B19,'UT Base'!$B:$B,\"North\")/10^3","v":0},{"$f":"SUMIFS('UT Base'!CP:CP,'UT Base'!$A:$A,$B19,'UT Base'!$B:$B,\"North\")/10^3","v":0}]
[null,"Construction",null,0,0,0,0,0,0,0,0,0,0,0,0,null,0,0,0,0,0,0,0,0,0,0,0,0,null,0,0,0,0,0,0,0,0,0,0,0,0,null,0,0,0,0,0,0,0,0,0,0,0,0,null,{"$f":"SUMIFS('UT Base'!BE:BE,'UT Base'!$A:$A,$B20,'UT Base'!$B:$B,\"North\")/10^3","v":0},{"$f":"SUMIFS('UT Base'!BF:BF,'UT Base'!$A:$A,$B20,'UT Base'!$B:$B,\"North\")/10^3","v":0},{"$f":"SUMIFS('UT Base'!BG:BG,'UT Base'!$A:$A,$B20,'UT Base'!$B:$B,\"North\")/10^3","v":0},{"$f":"SUMIFS('UT Base'!BH:BH,'UT Base'!$A:$A,$B20,'UT Base'!$B:$B,\"North\")/10^3","v":0},{"$f":"SUMIFS('UT Base'!BI:BI,'UT Base'!$A:$A,$B20,'UT Base'!$B:$B,\"North\")/10^3","v":0},{"$f":"SUMIFS('UT Base'!BJ:BJ,'UT Base'!$A:$A,$B20,'UT Base'!$B:$B,\"North\")/10^3","v":0},{"$f":"SUMIFS('UT Base'!BK:BK,'UT Base'!$A:$A,$B20,'UT Base'!$B:$B,\"North\")/10^3","v":0},{"$f":"SUMIFS('UT Base'!BL:BL,'UT Base'!$A:$A,$B20,'UT Base'!$B:$B,\"North\")/10^3","v":0},{"$f":"SUMIFS('UT Base'!BM:BM,'UT Base'!$A:$A,$B20,'UT Base'!$B:$B,\"North\")/10^3","v":0},{"$f":"SUMIFS('UT Base'!BN:BN,'UT Base'!$A:$A,$B20,'UT Base'!$B:$B,\"North\")/10^3","v":0},{"$f":"SUMIFS('UT Base'!BO:BO,'UT Base'!$A:$A,$B20,'UT Base'!$B:$B,\"North\")/10^3","v":0},{"$f":"SUMIFS('UT Base'!BP:BP,'UT Base'!$A:$A,$B20,'UT Base'!$B:$B,\"North\")/10^3","v":0},null,{"$f":"SUMIFS('UT Base'!BR:BR,'UT Base'!$A:$A,$B20,'UT Base'!$B:$B,\"North\")/10^3","v":0},{"$f":"SUMIFS('UT Base'!BS:BS,'UT Base'!$A:$A,$B20,'UT Base'!$B:$B,\"North\")/10^3","v":0},{"$f":"SUMIFS('UT Base'!BT:BT,'UT Base'!$A:$A,$B20,'UT Base'!$B:$B,\"North\")/10^3","v":0},{"$f":"SUMIFS('UT Base'!BU:BU,'UT Base'!$A:$A,$B20,'UT Base'!$B:$B,\"North\")/10^3","v":0},{"$f":"SUMIFS('UT Base'!BV:BV,'UT Base'!$A:$A,$B20,'UT Base'!$B:$B,\"North\")/10^3","v":0},{"$f":"SUMIFS('UT Base'!BW:BW,'UT Base'!$A:$A,$B20,'UT Base'!$B:$B,\"North\")/10^3","v":0},{"$f":"SUMIFS('UT Base'!BX:BX,'UT Base'!$A:$A,$B20,'UT Base'!$B:$B,\"North\")/10^3","v":0},{"$f":"SUMIFS('UT Base'!BY:BY,'UT Base'!$A:$A,$B20,'UT Base'!$B:$B,\"North\")/10^3","v":0},{"$f":"SUMIFS('UT Base'!BZ:BZ,'UT Base'!$A:$A,$B20,'UT Base'!$B:$B,\"North\")/10^3","v":0},{"$f":"SUMIFS('UT Base'!CA:CA,'UT Base'!$A:$A,$B20,'UT Base'!$B:$B,\"North\")/10^3","v":0},{"$f":"SUMIFS('UT Base'!CB:CB,'UT Base'!$A:$A,$B20,'UT Base'!$B:$B,\"North\")/10^3","v":0},{"$f":"SUMIFS('UT Base'!CC:CC,'UT Base'!$A:$A,$B20,'UT Base'!$B:$B,\"North\")/10^3","v":0},null,{"$f":"SUMIFS('UT Base'!CE:CE,'UT Base'!$A:$A,$B20,'UT Base'!$B:$B,\"North\")/10^3","v":0},{"$f":"SUMIFS('UT Base'!CF:CF,'UT Base'!$A:$A,$B20,'UT Base'!$B:$B,\"North\")/10^3","v":0},{"$f":"SUMIFS('UT Base'!CG:CG,'UT Base'!$A:$A,$B20,'UT Base'!$B:$B,\"North\")/10^3","v":0},{"$f":"SUMIFS('UT Base'!CH:CH,'UT Base'!$A:$A,$B20,'UT Base'!$B:$B,\"North\")/10^3","v":0},{"$f":"SUMIFS('UT Base'!CI:CI,'UT Base'!$A:$A,$B20,'UT Base'!$B:$B,\"North\")/10^3","v":0},{"$f":"SUMIFS('UT Base'!CJ:CJ,'UT Base'!$A:$A,$B20,'UT Base'!$B:$B,\"North\")/10^3","v":0},{"$f":"SUMIFS('UT Base'!CK:CK,'UT Base'!$A:$A,$B20,'UT Base'!$B:$B,\"North\")/10^3","v":0},{"$f":"SUMIFS('UT Base'!CL:CL,'UT Base'!$A:$A,$B20,'UT Base'!$B:$B,\"North\")/10^3","v":0},{"$f":"SUMIFS('UT Base'!CM:CM,'UT Base'!$A:$A,$B20,'UT Base'!$B:$B,\"North\")/10^3","v":0},{"$f":"SUMIFS('UT Base'!CN:CN,'UT Base'!$A:$A,$B20,'UT Base'!$B:$B,\"North\")/10^3","v":0},{"$f":"SUMIFS('UT Base'!CO:CO,'UT Base'!$A:$A,$B20,'UT Base'!$B:$B,\"North\")/10^3","v":0},{"$f":"SUMIFS('UT Base'!CP:CP,'UT Base'!$A:$A,$B20,'UT Base'!$B:$B,\"North\")/10^3","v":0}]
[null,"Steel and mining",null,0,0.94,1.631,0.76,0,0,0,0,0,0,0,0,null,0,0,0,0,0,0,0,0,0,0,0,0,null,0,0,0,0,0,0,0,0,0,0,0,0,null,0,0,0,0,0,0,0,0,0,0,0,0,null,{"$f":"SUMIFS('UT Base'!BE:BE,'UT Base'!$A:$A,$B21,'UT Base'!$B:$B,\"North\")/10^3","v":0},{"$f":"SUMIFS('UT Base'!BF:BF,'UT Base'!$A:$A,$B21,'UT Base'!$B:$B,\"North\")/10^3","v":0},{"$f":"SUMIFS('UT Base'!BG:BG,'UT Base'!$A:$A,$B21,'UT Base'!$B:$B,\"North\")/10^3","v":0},{"$f":"SUMIFS('UT Base'!BH:BH,'UT Base'!$A:$A,$B21,'UT Base'!$B:$B,\"North\")/10^3","v":0},{"$f":"SUMIFS('UT Base'!BI:BI,'UT Base'!$A:$A,$B21,'UT Base'!$B:$B,\"North\")/10^3","v":0},{"$f":"SUMIFS('UT Base'!BJ:BJ,'UT Base'!$A:$A,$B21,'UT Base'!$B:$B,\"North\")/10^3","v":0},{"$f":"SUMIFS('UT Base'!BK:BK,'UT Base'!$A:$A,$B21,'UT Base'!$B:$B,\"North\")/10^3","v":0},{"$f":"SUMIFS('UT Base'!BL:BL,'UT Base'!$A:$A,$B21,'UT Base'!$B:$B,\"North\")/10^3","v":0},{"$f":"SUMIFS('UT Base'!BM:BM,'UT Base'!$A:$A,$B21,'UT Base'!$B:$B,\"North\")/10^3","v":0},{"$f":"SUMIFS('UT Base'!BN:BN,'UT Base'!$A:$A,$B21,'UT Base'!$B:$B,\"North\")/10^3","v":0},{"$f":"SUMIFS('UT Base'!BO:BO,'UT Base'!$A:$A,$B21,'UT Base'!$B:$B,\"North\")/10^3","v":0},{"$f":"SUMIFS('UT Base'!BP:BP,'UT Base'!$A:$A,$B21,'UT Base'!$B:$B,\"North\")/10^3","v":0},null,{"$f":"SUMIFS('UT Base'!BR:BR,'UT Base'!$A:$A,$B21,'UT Base'!$B:$B,\"North\")/10^3","v":0},{"$f":"SUMIFS('UT Base'!BS:BS,'UT Base'!$A:$A,$B21,'UT Base'!$B:$B,\"North\")/10^3","v":0},{"$f":"SUMIFS('UT Base'!BT:BT,'UT Base'!$A:$A,$B21,'UT Base'!$B:$B,\"North\")/10^3","v":0},{"$f":"SUMIFS('UT Base'!BU:BU,'UT Base'!$A:$A,$B21,'UT Base'!$B:$B,\"North\")/10^3","v":0},{"$f":"SUMIFS('UT Base'!BV:BV,'UT Base'!$A:$A,$B21,'UT Base'!$B:$B,\"North\")/10^3","v":0},{"$f":"SUMIFS('UT Base'!BW:BW,'UT Base'!$A:$A,$B21,'UT Base'!$B:$B,\"North\")/10^3","v":0},{"$f":"SUMIFS('UT Base'!BX:BX,'UT Base'!$A:$A,$B21,'UT Base'!$B:$B,\"North\")/10^3","v":0},{"$f":"SUMIFS('UT Base'!BY:BY,'UT Base'!$A:$A,$B21,'UT Base'!$B:$B,\"North\")/10^3","v":0},{"$f":"SUMIFS('UT Base'!BZ:BZ,'UT Base'!$A:$A,$B21,'UT Base'!$B:$B,\"North\")/10^3","v":0},{"$f":"SUMIFS('UT Base'!CA:CA,'UT Base'!$A:$A,$B21,'UT Base'!$B:$B,\"North\")/10^3","v":0},{"$f":"SUMIFS('UT Base'!CB:CB,'UT Base'!$A:$A,$B21,'UT Base'!$B:$B,\"North\")/10^3","v":0},{"$f":"SUMIFS('UT Base'!CC:CC,'UT Base'!$A:$A,$B21,'UT Base'!$B:$B,\"North\")/10^3","v":0},null,{"$f":"SUMIFS('UT Base'!CE:CE,'UT Base'!$A:$A,$B21,'UT Base'!$B:$B,\"North\")/10^3","v":0},{"$f":"SUMIFS('UT Base'!CF:CF,'UT Base'!$A:$A,$B21,'UT Base'!$B:$B,\"North\")/10^3","v":0},{"$f":"SUMIFS('UT Base'!CG:CG,'UT Base'!$A:$A,$B21,'UT Base'!$B:$B,\"North\")/10^3","v":0},{"$f":"SUMIFS('UT Base'!CH:CH,'UT Base'!$A:$A,$B21,'UT Base'!$B:$B,\"North\")/10^3","v":0},{"$f":"SUMIFS('UT Base'!CI:CI,'UT Base'!$A:$A,$B21,'UT Base'!$B:$B,\"North\")/10^3","v":0},{"$f":"SUMIFS('UT Base'!CJ:CJ,'UT Base'!$A:$A,$B21,'UT Base'!$B:$B,\"North\")/10^3","v":0},{"$f":"SUMIFS('UT Base'!CK:CK,'UT Base'!$A:$A,$B21,'UT Base'!$B:$B,\"North\")/10^3","v":0},{"$f":"SUMIFS('UT Base'!CL:CL,'UT Base'!$A:$A,$B21,'UT Base'!$B:$B,\"North\")/10^3","v":0},{"$f":"SUMIFS('UT Base'!CM:CM,'UT Base'!$A:$A,$B21,'UT Base'!$B:$B,\"North\")/10^3","v":0},{"$f":"SUMIFS('UT Base'!CN:CN,'UT Base'!$A:$A,$B21,'UT Base'!$B:$B,\"North\")/10^3","v":0},{"$f":"SUMIFS('UT Base'!CO:CO,'UT Base'!$A:$A,$B21,'UT Base'!$B:$B,\"North\")/10^3","v":0},{"$f":"SUMIFS('UT Base'!CP:CP,'UT Base'!$A:$A,$B21,'UT Base'!$B:$B,\"North\")/10^3","v":0}]
[]
[null,"Port Elevation (TU' 000)"]
[null,"Port Elevation ",null,{"$f":"'Rumo DB'!C10/1000","v":563.94399999999996},{"$f":"'Rumo DB'!D10/1000","v":1034.725146},{"$f":"'Rumo DB'!E10/1000","v":1256.2875680000002},{"$f":"'Rumo DB'!F10/1000","v":790.29090199999996},{"$f":"'Rumo DB'!G10/1000","v":1385.839786},{"$f":"'Rumo DB'!H10/1000","v":1337.2284069999998},{"$f":"'Rumo DB'!I10/1000","v":1446.5915230000001},{"$f":"'Rumo DB'!J10/1000","v":1370.670883},{"$f":"'Rumo DB'!K10/1000","v":1335.4415190000002},{"$f":"'Rumo DB'!L10/1000","v":1002.999902},{"$f":"'Rumo DB'!M10/1000","v":991.27300100000002},{"$f":"'Rumo DB'!N10/1000","v":598.403908},null,{"$f":"'Rumo DB'!P10/1000","v":448.69178600000004},{"$f":"'Rumo DB'!Q10/1000","v":990.33767399999999},{"$f":"'Rumo DB'!R10/1000","v":1062.339528},{"$f":"'Rumo DB'!S10/1000","v":728.49934499999995},{"$f":"'Rumo DB'!T10/1000","v":1386.04321},{"$f":"'Rumo DB'!U10/1000","v":1177.1301960000001},{"$f":"'Rumo DB'!V10/1000","v":1198.89724},{"$f":"'Rumo DB'!W10/1000","v":1305.7225740000001},{"$f":"'Rumo DB'!X10/1000","v":1462.392844},{"$f":"'Rumo DB'!Y10/1000","v":1422.8486189999999},{"$f":"'Rumo DB'!Z10/1000","v":1202.030622},{"$f":"'Rumo DB'!AA10/1000","v":748.33121099999994},null,{"$f":"'Rumo DB'!AC10/1000","v":575.25229800000011},{"$f":"'Rumo DB'!AD10/1000","v":894.19707600000004},{"$f":"'Rumo DB'!AE10/1000","v":1004.462753},{"$f":"'Rumo DB'!AF10/1000","v":770.34461599999997},{"$f":"'Rumo DB'!AG10/1000","v":860.54832499999998},{"$f":"'Rumo DB'!AH10/1000","v":1041.4643060000001},{"$f":"'Rumo DB'!AI10/1000","v":1139.3327389999999},{"$f":"'Rumo DB'!AJ10/1000","v":1028.6506129999998},{"$f":"'Rumo DB'!AK10/1000","v":1300.371042},{"$f":"'Rumo DB'!AL10/1000","v":578.96342099999993},{"$f":"'Rumo DB'!AM10/1000","v":1127.2850169999999},{"$f":"'Rumo DB'!AN10/1000","v":1079.664777},null,{"$f":"'Rumo DB'!AP10/1000","v":849.24155000000007},{"$f":"'Rumo DB'!AQ10/1000","v":848.43707999999992},{"$f":"'Rumo DB'!AR10/1000","v":1122.6431399999999},{"$f":"'Rumo DB'!AS10/1000","v":820.90233000000001},{"$f":"'Rumo DB'!AT10/1000","v":683.43934000000002},{"$f":"'Rumo DB'!AU10/1000","v":1123.12553},{"$f":"'Rumo DB'!AV10/1000","v":1175.6769299999999},{"$f":"'Rumo DB'!AW10/1000","v":971.10751000000005},{"$f":"'Rumo DB'!AX10/1000","v":953.16534000000001},{"$f":"'Rumo DB'!AY10/1000","v":1148.33692},{"$f":"'Rumo DB'!AZ10/1000","v":766.63091000000009},{"$f":"'Rumo DB'!BA10/1000","v":750.42047000000002},null,{"$f":"'Rumo DB'!BC10/1000","v":593.45799},{"$f":"'Rumo DB'!BD10/1000","v":844.55329000000006},{"$f":"'Rumo DB'!BE10/1000","v":1106.75332},{"$f":"'Rumo DB'!BF10/1000","v":1257.8714399999999},{"$f":"'Rumo DB'!BG10/1000","v":1654.9123300000001},{"$f":"'Rumo DB'!BH10/1000","v":1210.7697599999999},{"$f":"'Rumo DB'!BI10/1000","v":1452.7168700000002},{"$f":"'Rumo DB'!BJ10/1000","v":1502.8918899999999},{"$f":"'Rumo DB'!BK10/1000","v":1289.8112900000001},{"$f":"'Rumo DB'!BL10/1000","v":1181.0653300000001},{"$f":"'Rumo DB'!BM10/1000","v":1208.73676},{"$f":"'Rumo DB'!BN10/1000","v":1143.1041399999999},null,{"$f":"'Rumo DB'!BP10/1000","v":644.08199999999999},{"$f":"'Rumo DB'!BQ10/1000","v":845.28908999999999},{"$f":"'Rumo DB'!BR10/1000","v":1374.48848},{"$f":"'Rumo DB'!BS10/1000","v":1178.8648700000001},{"$f":"'Rumo DB'!BT10/1000","v":1286.0656000000001},{"$f":"'Rumo DB'!BU10/1000","v":1171.8168780000001},{"$f":"'Rumo DB'!BV10/1000","v":922.17348200000004},{"$f":"'Rumo DB'!BW10/1000","v":1053.56447},{"$f":"'Rumo DB'!BX10/1000","v":1119.7368570000001},{"$f":"'Rumo DB'!BY10/1000","v":781.59292500000004},{"$f":"'Rumo DB'!BZ10/1000","v":1165.4997529999998},{"$f":"'Rumo DB'!CA10/1000","v":950.15667699999995},null,{"$f":"'Rumo DB'!CC10/1000","v":745.6966480000001},{"$f":"'Rumo DB'!CD10/1000","v":1119.7388880000001},{"$f":"'Rumo DB'!CE10/1000","v":1051.8928740000001},{"$f":"'Rumo DB'!CF10/1000","v":665.72074599999996},{"$f":"'Rumo DB'!CG10/1000","v":1178.2898660000001},{"$f":"'Rumo DB'!CH10/1000","v":0},{"$f":"'Rumo DB'!CI10/1000","v":0},{"$f":"'Rumo DB'!CJ10/1000","v":0},{"$f":"'Rumo DB'!CK10/1000","v":0},{"$f":"'Rumo DB'!CL10/1000","v":0},{"$f":"'Rumo DB'!CM10/1000","v":0},{"$f":"'Rumo DB'!CN10/1000","v":0}]
[null,"Logistics Solution ",null,{"$f":"'Rumo DB'!C11/1000","v":729.09867399999996},{"$f":"'Rumo DB'!D11/1000","v":1067.7981090000001},{"$f":"'Rumo DB'!E11/1000","v":886.89300000000003},{"$f":"'Rumo DB'!F11/1000","v":179.87980999999999},{"$f":"'Rumo DB'!G11/1000","v":429.34505999999999},{"$f":"'Rumo DB'!H11/1000","v":573.34385999999995},{"$f":"'Rumo DB'!I11/1000","v":466.91241899999977},{"$f":"'Rumo DB'!J11/1000","v":531.46580699999981},{"$f":"'Rumo DB'!K11/1000","v":496.56652200000002},{"$f":"'Rumo DB'!L11/1000","v":561.48228700000004},{"$f":"'Rumo DB'!M11/1000","v":420.73100800000026},{"$f":"'Rumo DB'!N11/1000","v":254.09882099999996},null,{"$f":"'Rumo DB'!P11/1000","v":213.88675000000001},{"$f":"'Rumo DB'!Q11/1000","v":340.74869999999993},{"$f":"'Rumo DB'!R11/1000","v":306.41654399999999},{"$f":"'Rumo DB'!S11/1000","v":241.59591900000007},{"$f":"'Rumo DB'!T11/1000","v":533.24844799999994},{"$f":"'Rumo DB'!U11/1000","v":538.28774500000009},{"$f":"'Rumo DB'!V11/1000","v":399.64013400000022},{"$f":"'Rumo DB'!W11/1000","v":433.39075900000006},{"$f":"'Rumo DB'!X11/1000","v":475.42910099999983},{"$f":"'Rumo DB'!Y11/1000","v":451.94466299999971},{"$f":"'Rumo DB'!Z11/1000","v":371.50363100000015},{"$f":"'Rumo DB'!AA11/1000","v":218.29270100000005},null,{"$f":"'Rumo DB'!AC11/1000","v":284.31497499999989},{"$f":"'Rumo DB'!AD11/1000","v":312.54101500000002},{"$f":"'Rumo DB'!AE11/1000","v":509.32677500000011},{"$f":"'Rumo DB'!AF11/1000","v":240.08712500000007},{"$f":"'Rumo DB'!AG11/1000","v":540.74277899999959},{"$f":"'Rumo DB'!AH11/1000","v":683.71264600000018},{"$f":"'Rumo DB'!AI11/1000","v":440.17774200000008},{"$f":"'Rumo DB'!AJ11/1000","v":337.17517199999992},{"$f":"'Rumo DB'!AK11/1000","v":457.1985699999999},{"$f":"'Rumo DB'!AL11/1000","v":356.70425999999998},{"$f":"'Rumo DB'!AM11/1000","v":262.02019400000012},{"$f":"'Rumo DB'!AN11/1000","v":250.21187899999998},null,{"$f":"'Rumo DB'!AP11/1000","v":366.34309999999999},{"$f":"'Rumo DB'!AQ11/1000","v":414.35300999999998},{"$f":"'Rumo DB'!AR11/1000","v":466.17480999999998},{"$f":"'Rumo DB'!AS11/1000","v":274.82718},{"$f":"'Rumo DB'!AT11/1000","v":427.63938999999999},{"$f":"'Rumo DB'!AU11/1000","v":383.77843999999999},{"$f":"'Rumo DB'!AV11/1000","v":266.76515999999998},{"$f":"'Rumo DB'!AW11/1000","v":366.02146000000005},{"$f":"'Rumo DB'!AX11/1000","v":365.69380999999998},{"$f":"'Rumo DB'!AY11/1000","v":353.07976000000002},{"$f":"'Rumo DB'!AZ11/1000","v":287.01044000000002},{"$f":"'Rumo DB'!BA11/1000","v":363.54597999999999},null,{"$f":"'Rumo DB'!BC11/1000","v":389.62268},{"$f":"'Rumo DB'!BD11/1000","v":440.34727000000004},{"$f":"'Rumo DB'!BE11/1000","v":316.39077000000003},{"$f":"'Rumo DB'!BF11/1000","v":472.88797},{"$f":"'Rumo DB'!BG11/1000","v":562.33517000000006},{"$f":"'Rumo DB'!BH11/1000","v":561.16909999999996},{"$f":"'Rumo DB'!BI11/1000","v":581.30233999999996},{"$f":"'Rumo DB'!BJ11/1000","v":725.88894999999991},{"$f":"'Rumo DB'!BK11/1000","v":722.61734000000001},{"$f":"'Rumo DB'!BL11/1000","v":839.41719999999998},{"$f":"'Rumo DB'!BM11/1000","v":863.48901999999998},{"$f":"'Rumo DB'!BN11/1000","v":557.85689000000002},null,{"$f":"'Rumo DB'!BP11/1000","v":441.35472999999996},{"$f":"'Rumo DB'!BQ11/1000","v":268.37684999999999},{"$f":"'Rumo DB'!BR11/1000","v":368.16843999999998},{"$f":"'Rumo DB'!BS11/1000","v":309.18083000000001},{"$f":"'Rumo DB'!BT11/1000","v":596.12175000000002},{"$f":"'Rumo DB'!BU11/1000","v":631.75253999999984},{"$f":"'Rumo DB'!BV11/1000","v":397.22642399999989},{"$f":"'Rumo DB'!BW11/1000","v":427.41404099999983},{"$f":"'Rumo DB'!BX11/1000","v":525.42056900000011},{"$f":"'Rumo DB'!BY11/1000","v":527.21682200000021},{"$f":"'Rumo DB'!BZ11/1000","v":630.47036800000024},{"$f":"'Rumo DB'!CA11/1000","v":403.60899799999993},null,{"$f":"'Rumo DB'!CC11/1000","v":427.66120900000004},{"$f":"'Rumo DB'!CD11/1000","v":386.42065599999989},{"$f":"'Rumo DB'!CE11/1000","v":422.76660400000003},{"$f":"'Rumo DB'!CF11/1000","v":119.77323500000001},{"$f":"'Rumo DB'!CG11/1000","v":530.50815599999987},{"$f":"'Rumo DB'!CH11/1000","v":0},{"$f":"'Rumo DB'!CI11/1000","v":0},{"$f":"'Rumo DB'!CJ11/1000","v":0},{"$f":"'Rumo DB'!CK11/1000","v":0},{"$f":"'Rumo DB'!CL11/1000","v":0},{"$f":"'Rumo DB'!CM11/1000","v":0},{"$f":"'Rumo DB'!CN11/1000","v":0}]
[]
[null,"Central (Already composed in the number of the North)"]
[]
[null,null,null,"2016-01-01","feb/17","2016-03-01","apr/16","may/16","2016-06-01","2016-07-01","aug/16","sep/16","oct/16","2016-11-01","dec/16",null,"2017-01-01","feb/17","2017-03-01","apr/17","may/17","2017-06-01","2017-07-01","aug/17","sep/17","oct/17","2017-11-01","dec/17",null,"2018-01-01","feb/18","2018-03-01","apr/18","may/18","2018-06-01","2018-07-01","aug/18","sep/18","oct/18","2018-11-01","dec/18",null,"jan/19","feb/19","mar/19","apr/19","may/19","jun/19","jul/19","aug/19","sep/19","oct/19","nov/19","dec/19",null,"2020-01-01","feb/20","2020-03-01","apr/20","may/20","2020-06-01","2020-07-01","aug/20","sep/20","oct/20","2020-11-01","dec/20",null,"2021-01-01","2021-02-01","2021-03-01","2021-04-01","2021-05-01","2021-06-01","2021-07-01","2021-08-01","2021-09-01","2021-10-01","2021-11-01","2021-12-01",null,"2022-01-01","2022-02-01","2022-03-01","2022-04-01","2022-05-01","2022-06-01","2022-07-01","2022-08-01","2022-09-01","2022-10-01","2022-11-01","2022-12-01"]
[]
[null,"Transported (TU' 000)",null,0,0,0,0,0,0,0,0,0,0,0,0,null,0,0,0,0,0,0,0,0,0,0,0,0,null,0,0,0,0,0,0,0,0,0,0,0,0,null,0,0,0,0,0,0,0,0,0,0,0,0,null,0,0,0,0,0,0,0,0,0,0,0,0,null,0,79.855999999999995,253.863,445.54300000000001,{"$f":"BU32","v":339.08199999999999},{"$f":"BV32","v":414.66900000000004},{"$f":"BW32","v":375.20699999999999},{"$f":"BX32","v":443.08100000000002},{"$f":"BY32","v":275.25299999999999},260.39699999999999,{"$f":"CA32","v":215.37700000000001},{"$f":"CB32","v":355.565},null,{"$f":"SUM(CD32,CD42,CD41)","v":261.2},714.63699999999994,796.36099999999999,{"$f":"SUM(CG32,CG42,CG41)","v":626.84900000000005},671.80200000000002,0,0,0,0,0,0,0]
[null,"Agricultural Products",null,0,0,0,0,0,0,0,0,0,0,0,0,null,0,0,0,0,0,0,0,0,0,0,0,0,null,0,0,0,0,0,0,0,0,0,0,0,0,null,0,0,0,0,0,0,0,0,0,0,0,0,null,0,0,0,0,0,0,0,0,0,0,0,0,null,0,79.855999999999995,253.863,445.54300000000001,{"$f":"BU33","v":339.08199999999999},{"$f":"SUM(BV33:BV35)","v":414.66900000000004},{"$f":"SUM(BW33:BW35)","v":375.20699999999999},{"$f":"SUM(BX33:BX35)","v":443.08100000000002},{"$f":"SUM(BY33:BY35)","v":275.25299999999999},260.39699999999999,{"$f":"SUM(CA33:CA35)","v":215.37700000000001},{"$f":"SUM(CB33:CB35)","v":355.565},null,{"$f":"SUM(CD33:CD40)","v":261.2},714.63699999999994,796.36099999999999,{"$f":"SUM(CG33:CG40)","v":626.84900000000005},671.80200000000002,0,0,0,0,0,0,0]
[null,"Soybean",null,0,0,0,0,0,0,0,0,0,0,0,0,null,0,0,0,0,0,0,0,0,0,0,0,0,null,0,0,0,0,0,0,0,0,0,0,0,0,null,0,0,0,0,0,0,0,0,0,0,0,0,null,0,0,0,0,0,0,0,0,0,0,0,0,null,0,79.855999999999995,253.863,445.54300000000001,{"$f":"339082/10^3","v":339.08199999999999},{"$f":"372694/10^3","v":372.69400000000002},58.710999999999999,36.665999999999997,20.378,68.893000000000001,89.055000000000007,76.241,null,115.68899999999999,677.47699999999998,735.56,544.05600000000004,552.44600000000003,0,0,0,0,0,0,0]
[null,"Soybean meal",null,0,0,0,0,0,0,0,0,0,0,0,0,null,0,0,0,0,0,0,0,0,0,0,0,0,null,0,0,0,0,0,0,0,0,0,0,0,0,null,0,0,0,0,0,0,0,0,0,0,0,0,null,0,0,0,0,0,0,0,0,0,0,0,0,null,0,0,0,0,0,0,42.258000000000003,79.596000000000004,50.484999999999999,50.171999999999997,77.042000000000002,62.621000000000002,null,7.1719999999999997,33.274000000000001,60.801000000000002,82.793000000000006,81.438000000000002,0,0,0,0,0,0,0]
[null,"Corn",null,0,0,0,0,0,0,0,0,0,0,0,0,null,0,0,0,0,0,0,0,0,0,0,0,0,null,0,0,0,0,0,0,0,0,0,0,0,0,null,0,0,0,0,0,0,0,0,0,0,0,0,null,0,0,0,0,0,0,0,0,0,0,0,0,null,0,0,0,0,0,{"$f":"41975/10^3","v":41.975000000000001},274.238,326.81900000000002,204.39,141.33199999999999,49.28,216.703,null,138.339,3.8860000000000001,0,0,0,0,0,0,0,0,0,0]
[null,"Sugar",null,0,0,0,0,0,0,0,0,0,0,0,0,null,0,0,0,0,0,0,0,0,0,0,0,0,null,0,0,0,0,0,0,0,0,0,0,0,0,null,0,0,0,0,0,0,0,0,0,0,0,0,null,0,0,0,0,0,0,0,0,0,0,0,0,null,0,0,0,0,0,0,0,0,0,0,0,0,null,0,0,0,0,0,0,0,0,0,0,0,0]
[null,"Fertilizers",null,0,0,0,0,0,0,0,0,0,0,0,0,null,0,0,0,0,0,0,0,0,0,0,0,0,null,0,0,0,0,0,0,0,0,0,0,0,0,null,0,0,0,0,0,0,0,0,0,0,0,0,null,0,0,0,0,0,0,0,0,0,0,0,0,null,0,0,0,0,0,0,0,0,0,0,0,0,null,0,0,0,0,37.917999999999999,0,0,0,0,0,0,0]
[null,"Wheat",null,0,0,0,0,0,0,0,0,0,0,0,0,null,0,0,0,0,0,0,0,0,0,0,0,0,null,0,0,0,0,0,0,0,0,0,0,0,0,null,0,0,0,0,0,0,0,0,0,0,0,0,null,0,0,0,0,0,0,0,0,0,0,0,0,null,0,0,0,0,0,0,0,0,0,0,0,0,null,0,0,0,0,0,0,0,0,0,0,0,0]
[null,"Malt",null,0,0,0,0,0,0,0,0,0,0,0,0,null,0,0,0,0,0,0,0,0,0,0,0,0,null,0,0,0,0,0,0,0,0,0,0,0,0,null,0,0,0,0,0,0,0,0,0,0,0,0,null,0,0,0,0,0,0,0,0,0,0,0,0,null,0,0,0,0,0,0,0,0,0,0,0,0,null,0,0,0,0,0,0,0,0,0,0,0,0]
[null,"Corn meal",null,0,0,0,0,0,0,0,0,0,0,0,0,null,0,0,0,0,0,0,0,0,0,0,0,0,null,0,0,0,0,0,0,0,0,0,0,0,0,null,0,0,0,0,0,0,0,0,0,0,0,0,null,0,0,0,0,0,0,0,0,0,0,0,0,null,0,0,0,0,0,0,0,0,0,0,0,0,null,0,0,0,0,0,0,0,0,0,0,0,0]
[null,"Containers",null,0,0,0,0,0,0,0,0,0,0,0,0,null,0,0,0,0,0,0,0,0,0,0,0,0,null,0,0,0,0,0,0,0,0,0,0,0,0,null,0,0,0,0,0,0,0,0,0,0,0,0,null,0,0,0,0,0,0,0,0,0,0,0,0,null,0,0,0,0,0,0,0,0,0,0,0,0,null,0,0,0,0,0,0,0,0,0,0,0,0]
[null,"Industrial Products",null,0,0,0,0,0,0,0,0,0,0,0,0,null,0,0,0,0,0,0,0,0,0,0,0,0,null,0,0,0,0,0,0,0,0,0,0,0,0,null,0,0,0,0,0,0,0,0,0,0,0,0,null,0,0,0,0,0,0,0,0,0,0,0,0,null,0,0,0,0,0,0,0,0,0,0,0,0,null,0,0,0,0,0,0,0,0,0,0,0,0]
[null,"Fuels",null,0,0,0,0,0,0,0,0,0,0,0,0,null,0,0,0,0,0,0,0,0,0,0,0,0,null,0,0,0,0,0,0,0,0,0,0,0,0,null,0,0,0,0,0,0,0,0,0,0,0,0,null,0,0,0,0,0,0,0,0,0,0,0,0,null,0,0,0,0,0,0,0,0,0,0,0,0,null,0,0,0,0,0,0,0,0,0,0,0,0]
[null,"Wood, pulp and paper",null,0,0,0,0,0,0,0,0,0,0,0,0,null,0,0,0,0,0,0,0,0,0,0,0,0,null,0,0,0,0,0,0,0,0,0,0,0,0,null,0,0,0,0,0,0,0,0,0,0,0,0,null,0,0,0,0,0,0,0,0,0,0,0,0,null,0,0,0,0,0,0,0,0,0,0,0,0,null,0,0,0,0,0,0,0,0,0,0,0,0]
[null,"Construction",null,0,0,0,0,0,0,0,0,0,0,0,0,null,0,0,0,0,0,0,0,0,0,0,0,0,null,0,0,0,0,0,0,0,0,0,0,0,0,null,0,0,0,0,0,0,0,0,0,0,0,0,null,0,0,0,0,0,0,0,0,0,0,0,0,null,0,0,0,0,0,0,0,0,0,0,0,0,null,0,0,0,0,0,0,0,0,0,0,0,0]
[null,"Steel and mining",null,0,0,0,0,0,0,0,0,0,0,0,0,null,0,0,0,0,0,0,0,0,0,0,0,0,null,0,0,0,0,0,0,0,0,0,0,0,0,null,0,0,0,0,0,0,0,0,0,0,0,0,null,0,0,0,0,0,0,0,0,0,0,0,0,null,0,0,0,0,0,0,0,0,0,0,0,0,null,0,0,0,0,0,0,0,0,0,0,0,0]

{"sheet":"Volume TU South","index":20,"n_rows":21,"n_cols":93,"rows_kept":21,"cut":false,"hidden":false,"merged":[[3,64,4,64],[3,65,4,65],[3,66,4,66],[3,55,4,55],[3,56,4,56],[3,57,4,57],[3,58,4,58],[3,62,4,62],[3,63,4,63],[3,60,4,60],[3,61,4,61],[3,44,4,44],[3,45,4,45],[3,59,4,59],[3,47,4,47],[3,48,4,48],[3,49,4,49],[3,50,4,50],[3,51,4,51],[3,52,4,52],[3,53,4,53],[3,46,4,46],[3,43,4,43],[3,29,4,29],[3,30,4,30],[3,31,4,31],[3,32,4,32],[3,34,4,34],[3,35,4,35],[3,36,4,36],[3,37,4,37],[3,38,4,38],[3,39,4,39],[3,40,4,40],[3,42,4,42],[3,18,4,18],[3,19,4,19],[3,33,4,33],[3,21,4,21],[3,22,4,22],[3,23,4,23],[3,24,4,24],[3,25,4,25],[3,26,4,26],[3,27,4,27],[3,20,4,20],[3,13,4,13],[3,14,4,14],[3,16,4,16],[3,17,4,17],[3,7,4,7],[3,8,4,8],[3,9,4,9],[3,10,4,10],[3,11,4,11],[3,12,4,12],[3,1,4,1],[3,3,4,3],[3,4,4,4],[3,5,4,5],[3,6,4,6],[3,68,4,68],[3,69,4,69],[3,70,4,70],[3,71,4,71],[3,72,4,72],[3,78,4,78],[3,79,4,79],[3,73,4,73],[3,74,4,74],[3,75,4,75],[3,76,4,76],[3,77,4,77],[3,81,4,81],[3,82,4,82],[3,83,4,83],[3,84,4,84],[3,85,4,85],[3,91,4,91],[3,92,4,92],[3,86,4,86],[3,87,4,87],[3,88,4,88],[3,89,4,89],[3,90,4,90]]}
[]
[null,"Volume RTK | South"]
[]
[null,null,null,"2016-01-01","feb/17","2016-03-01","apr/16","may/16","2016-06-01","2016-07-01","aug/16","sep/16","oct/16","2016-11-01","dec/16",null,"2017-01-01","feb/17","2017-03-01","apr/17","may/17","2017-06-01","2017-07-01","aug/17","sep/17","oct/17","2017-11-01","dec/17",null,"2018-01-01","feb/18","2018-03-01","apr/18","may/18","2018-06-01","2018-07-01","aug/18","sep/18","oct/18","2018-11-01","dec/18",null,"jan/19","feb/19","mar/19","apr/19","may/19","jun/19","jul/19","aug/19","sep/19","oct/19","nov/19","dec/19",null,"2020-01-01","feb/20","2020-03-01","apr/20","may/20","2020-06-01","2020-07-01","aug/20","sep/20","oct/20","2020-11-01","dec/20",null,"2021-01-01","2021-02-01","2021-03-01","2021-04-01","2021-05-01","2021-06-01","2021-07-01","2021-08-01","2021-09-01","2021-10-01","2021-11-01","2021-12-01",null,"2022-01-01","2022-02-01","2022-03-01","2022-04-01","2022-05-01","2022-06-01","2022-07-01","2022-08-01","2022-09-01","2022-10-01","2022-11-01","2022-12-01"]
[]
[null,"Transported (TU' 000)",null,{"$f":"SUM(D7,D17,D16)","v":1396.6950000000002},1518.5250000000001,1862.9189999999999,1880.5070000000001,1994.539,2012.2830000000001,2125.2169999999996,2218.087,1986.59,1755.1960000000001,1596.414,1551.373,null,{"$f":"SUM(Q7,Q17,Q16)","v":1367.73},1613.0170000000001,1993.2880000000002,2016.154,2254.7009999999996,2214.7269999999999,2493.3509999999997,2546.8739999999998,2523.183,2360.181,2123.2069999999999,1972.7280000000001,null,{"$f":"SUM(AD7,AD17,AD16)","v":1731.1879999999999},1812.5710000000001,2206.9829999999997,2256.5,2311.7060000000001,2409.0190000000002,2487.9270000000001,2590.4070000000002,2420.5130000000004,2447.8839999999996,2242.3200000000002,2062.7019999999998,null,{"$f":"SUM(AQ7,AQ17,AQ16)","v":1720.4050000000002},1932.3700000000001,2146.7199999999998,1996.0029999999999,2040.25,2290.5140000000001,2609.596,2617.2549999999997,2397.3070000000002,2495.7339999999999,2349.66,1617.2749999999999,null,{"$f":"SUM(BD7,BD17,BD16)","v":1361.1690000000001},1661.2110000000002,1766.8020000000004,2136.4369999999999,2418.4249999999997,2210.3489999999997,2415.4549999999999,2483.855,2402.2419999999997,2122.7190000000001,2001.183,1605.6879999999999,null,{"$f":"SUM(BQ7,BQ17,BQ16)","v":1158.1500000000001},{"$f":"SUM(BR7,BR17,BR16)","v":1336.796},{"$f":"SUM(BS7,BS17,BS16)","v":2332.8200000000002},{"$f":"SUM(BT7,BT17,BT16)","v":2398.4270000000001},{"$f":"SUM(BU7,BU17,BU16)","v":2572.4329999999995},{"$f":"SUM(BV7,BV17,BV16)","v":2347.6889999999999},{"$f":"SUM(BW7,BW17,BW16)","v":2413.7840000000001},{"$f":"SUM(BX7,BX17,BX16)","v":2107.337},{"$f":"SUM(BY7,BY17,BY16)","v":2093.9960000000001},{"$f":"SUM(BZ7,BZ17,BZ16)","v":1993.163},{"$f":"SUM(CA7,CA17,CA16)","v":1831.1930000000002},{"$f":"SUM(CB7,CB17,CB16)","v":1831.2990000000002},null,{"$f":"SUM(CD7,CD17,CD16)","v":1522.4389999999999},1620.431,2063.3389999999999,1620.624,1746.0819999999999,0,0,0,0,0,0,0]
[null,"Agricultural Products",null,{"$f":"SUM(D8:D15)","v":757},868.43799999999999,1126.4109999999998,1156.356,1208.146,1180.4040000000002,1226.9789999999998,1296.279,1148.895,923.74200000000008,812.01099999999997,836.89800000000014,null,{"$f":"SUM(Q8:Q15)","v":579.16300000000001},892.85599999999999,1201.4860000000003,1240.5029999999999,1368.6189999999999,1344.364,1550.675,1590.972,1594.451,1409.547,1281.5569999999998,1115.5170000000001,null,{"$f":"SUM(AD8:AD15)","v":903},983.21999999999991,1371.377,1423.07,1470.7560000000001,1515.0350000000001,1574.434,1633.4490000000001,1498.6010000000001,1491.9179999999999,1344.212,1174.222,null,{"$f":"SUM(AQ8:AQ15)","v":942.17900000000009},1225.6020000000001,1363.405,1153.473,1174.249,1373.2520000000002,1642.4180000000001,1603.9669999999999,1440.991,1543.8969999999999,1488.6780000000001,936.92799999999988,null,{"$f":"SUM(BD8:BD15)","v":623.51900000000001},904.83699999999999,1191.5660000000003,1392.9670000000001,1684.538,1476.981,1561.3599999999997,1603.2349999999999,1525.4859999999999,1454.346,1393.4639999999999,1012.9399999999999,null,{"$f":"SUM(BQ8:BQ15)","v":472.62099999999998},{"$f":"SUM(BR8:BR15)","v":565.36699999999996},{"$f":"SUM(BS8:BS15)","v":1492.296},{"$f":"SUM(BT8:BT15)","v":1545.8530000000001},{"$f":"SUM(BU8:BU15)","v":1668.0869999999998},{"$f":"SUM(BV8:BV15)","v":1532.6570000000002},{"$f":"SUM(BW8:BW15)","v":1576.5280000000002},{"$f":"SUM(BX8:BX15)","v":1262.1689999999999},{"$f":"SUM(BY8:BY15)","v":1378.5369999999998},{"$f":"SUM(BZ8:BZ15)","v":1263.4640000000002},{"$f":"SUM(CA8:CA15)","v":1143.9390000000001},{"$f":"SUM(CB8:CB15)","v":1164.5220000000002},null,{"$f":"SUM(CD8:CD15)","v":840.06900000000007},1007.4759999999999,1286.42,861.30400000000009,878.98599999999999,0,0,0,0,0,0,0]
[null,"Soybean",null,69.731999999999999,646.77599999999995,895.51900000000001,839.27200000000005,738.94299999999998,622.24800000000005,444.28399999999999,259.01400000000001,178.351,131.99100000000001,90.745000000000005,79.602999999999994,null,162.96899999999999,586.97400000000005,952.32799999999997,834.745,786.56799999999998,784.94799999999998,668.79300000000001,458.416,248.45099999999999,307.33100000000002,519.91099999999994,544.00300000000004,null,365.697,704.17399999999998,1166.6669999999999,1111.5029999999999,997.01199999999994,988.33600000000001,1032.713,972.81700000000001,838.91499999999996,993.90300000000002,747.48299999999995,375.79399999999998,null,474.19600000000003,897.02200000000005,1131.4280000000001,779.00300000000004,680.23599999999999,605.44100000000003,485.56900000000002,456.19499999999999,450.524,720.33100000000002,577.98599999999999,328.66199999999998,null,{"$f":"SUMIFS('UT Base'!BE:BE,'UT Base'!$A:$A,$B8,'UT Base'!$B:$B,\"South\")/10^3","v":165.15100000000001},{"$f":"SUMIFS('UT Base'!BF:BF,'UT Base'!$A:$A,$B8,'UT Base'!$B:$B,\"South\")/10^3","v":570.79},{"$f":"SUMIFS('UT Base'!BG:BG,'UT Base'!$A:$A,$B8,'UT Base'!$B:$B,\"South\")/10^3","v":907.65499999999997},{"$f":"SUMIFS('UT Base'!BH:BH,'UT Base'!$A:$A,$B8,'UT Base'!$B:$B,\"South\")/10^3","v":1040.0070000000001},{"$f":"SUMIFS('UT Base'!BI:BI,'UT Base'!$A:$A,$B8,'UT Base'!$B:$B,\"South\")/10^3","v":1084.384},{"$f":"SUMIFS('UT Base'!BJ:BJ,'UT Base'!$A:$A,$B8,'UT Base'!$B:$B,\"South\")/10^3","v":955.51099999999997},{"$f":"SUMIFS('UT Base'!BK:BK,'UT Base'!$A:$A,$B8,'UT Base'!$B:$B,\"South\")/10^3","v":928.53499999999997},{"$f":"SUMIFS('UT Base'!BL:BL,'UT Base'!$A:$A,$B8,'UT Base'!$B:$B,\"South\")/10^3","v":654},{"$f":"SUMIFS('UT Base'!BM:BM,'UT Base'!$A:$A,$B8,'UT Base'!$B:$B,\"South\")/10^3","v":349.77199999999999},{"$f":"SUMIFS('UT Base'!BN:BN,'UT Base'!$A:$A,$B8,'UT Base'!$B:$B,\"South\")/10^3","v":201.99799999999999},{"$f":"SUMIFS('UT Base'!BO:BO,'UT Base'!$A:$A,$B8,'UT Base'!$B:$B,\"South\")/10^3","v":62.343000000000004},{"$f":"SUMIFS('UT Base'!BP:BP,'UT Base'!$A:$A,$B8,'UT Base'!$B:$B,\"South\")/10^3","v":58.633000000000003},null,{"$f":"SUMIFS('UT Base'!BR:BR,'UT Base'!$A:$A,$B8,'UT Base'!$B:$B,\"South\")/10^3","v":18.341999999999999},{"$f":"SUMIFS('UT Base'!BS:BS,'UT Base'!$A:$A,$B8,'UT Base'!$B:$B,\"South\")/10^3","v":241.91499999999999},{"$f":"SUMIFS('UT Base'!BT:BT,'UT Base'!$A:$A,$B8,'UT Base'!$B:$B,\"South\")/10^3","v":1186.9770000000001},{"$f":"SUMIFS('UT Base'!BU:BU,'UT Base'!$A:$A,$B8,'UT Base'!$B:$B,\"South\")/10^3","v":1171.24},{"$f":"SUMIFS('UT Base'!BV:BV,'UT Base'!$A:$A,$B8,'UT Base'!$B:$B,\"South\")/10^3","v":1035.136},{"$f":"SUMIFS('UT Base'!BW:BW,'UT Base'!$A:$A,$B8,'UT Base'!$B:$B,\"South\")/10^3","v":722.96400000000006},{"$f":"SUMIFS('UT Base'!BX:BX,'UT Base'!$A:$A,$B8,'UT Base'!$B:$B,\"South\")/10^3","v":971.86300000000006},{"$f":"SUMIFS('UT Base'!BY:BY,'UT Base'!$A:$A,$B8,'UT Base'!$B:$B,\"South\")/10^3","v":596.11099999999999},{"$f":"SUMIFS('UT Base'!BZ:BZ,'UT Base'!$A:$A,$B8,'UT Base'!$B:$B,\"South\")/10^3","v":564.048},{"$f":"SUMIFS('UT Base'!CA:CA,'UT Base'!$A:$A,$B8,'UT Base'!$B:$B,\"South\")/10^3","v":523.91399999999999},{"$f":"SUMIFS('UT Base'!CB:CB,'UT Base'!$A:$A,$B8,'UT Base'!$B:$B,\"South\")/10^3","v":432.76299999999998},{"$f":"SUMIFS('UT Base'!CC:CC,'UT Base'!$A:$A,$B8,'UT Base'!$B:$B,\"South\")/10^3","v":442.87900000000002},null,{"$f":"SUMIFS('UT Base'!CE:CE,'UT Base'!$A:$A,$B8,'UT Base'!$B:$B,\"South\")/10^3","v":289.93299999999999},{"$f":"SUMIFS('UT Base'!CF:CF,'UT Base'!$A:$A,$B8,'UT Base'!$B:$B,\"South\")/10^3","v":588.52099999999996},{"$f":"SUMIFS('UT Base'!CG:CG,'UT Base'!$A:$A,$B8,'UT Base'!$B:$B,\"South\")/10^3","v":872.58699999999999},{"$f":"SUMIFS('UT Base'!CH:CH,'UT Base'!$A:$A,$B8,'UT Base'!$B:$B,\"South\")/10^3","v":375.733},{"$f":"SUMIFS('UT Base'!CI:CI,'UT Base'!$A:$A,$B8,'UT Base'!$B:$B,\"South\")/10^3","v":220.09800000000001},{"$f":"SUMIFS('UT Base'!CJ:CJ,'UT Base'!$A:$A,$B8,'UT Base'!$B:$B,\"South\")/10^3","v":0},{"$f":"SUMIFS('UT Base'!CK:CK,'UT Base'!$A:$A,$B8,'UT Base'!$B:$B,\"South\")/10^3","v":0},{"$f":"SUMIFS('UT Base'!CL:CL,'UT Base'!$A:$A,$B8,'UT Base'!$B:$B,\"South\")/10^3","v":0},{"$f":"SUMIFS('UT Base'!CM:CM,'UT Base'!$A:$A,$B8,'UT Base'!$B:$B,\"South\")/10^3","v":0},{"$f":"SUMIFS('UT Base'!CN:CN,'UT Base'!$A:$A,$B8,'UT Base'!$B:$B,\"South\")/10^3","v":0},{"$f":"SUMIFS('UT Base'!CO:CO,'UT Base'!$A:$A,$B8,'UT Base'!$B:$B,\"South\")/10^3","v":0},{"$f":"SUMIFS('UT Base'!CP:CP,'UT Base'!$A:$A,$B8,'UT Base'!$B:$B,\"South\")/10^3","v":0}]
[null,"Soybean meal",null,62.401000000000003,61.786999999999999,76.549000000000007,89.966999999999999,73.58,82.801000000000002,72.113,50.133000000000003,71.795000000000002,102.30800000000001,115.72499999999999,81.622,null,68.027000000000001,67.001000000000005,78.918000000000006,90.025000000000006,81.840999999999994,69.540999999999997,74.534000000000006,56.314,54.33,65.063000000000002,77.427000000000007,77.668000000000006,null,94.980999999999995,74.006,85.495999999999995,99.558999999999997,108.13200000000001,102.307,112.255,101.806,96.343999999999994,65.421000000000006,104.86799999999999,116.41200000000001,null,92.34,104.965,122.08,126.53,115.428,167.86099999999999,152.62799999999999,89.268000000000001,131.42400000000001,136.44499999999999,126.27500000000001,118.78400000000001,null,{"$f":"SUMIFS('UT Base'!BE:BE,'UT Base'!$A:$A,$B9,'UT Base'!$B:$B,\"South\")/10^3","v":103.60299999999999},{"$f":"SUMIFS('UT Base'!BF:BF,'UT Base'!$A:$A,$B9,'UT Base'!$B:$B,\"South\")/10^3","v":96.617000000000004},{"$f":"SUMIFS('UT Base'!BG:BG,'UT Base'!$A:$A,$B9,'UT Base'!$B:$B,\"South\")/10^3","v":140.01599999999999},{"$f":"SUMIFS('UT Base'!BH:BH,'UT Base'!$A:$A,$B9,'UT Base'!$B:$B,\"South\")/10^3","v":97.504999999999995},{"$f":"SUMIFS('UT Base'!BI:BI,'UT Base'!$A:$A,$B9,'UT Base'!$B:$B,\"South\")/10^3","v":150.42599999999999},{"$f":"SUMIFS('UT Base'!BJ:BJ,'UT Base'!$A:$A,$B9,'UT Base'!$B:$B,\"South\")/10^3","v":125.005},{"$f":"SUMIFS('UT Base'!BK:BK,'UT Base'!$A:$A,$B9,'UT Base'!$B:$B,\"South\")/10^3","v":154.096},{"$f":"SUMIFS('UT Base'!BL:BL,'UT Base'!$A:$A,$B9,'UT Base'!$B:$B,\"South\")/10^3","v":132.00800000000001},{"$f":"SUMIFS('UT Base'!BM:BM,'UT Base'!$A:$A,$B9,'UT Base'!$B:$B,\"South\")/10^3","v":150.44999999999999},{"$f":"SUMIFS('UT Base'!BN:BN,'UT Base'!$A:$A,$B9,'UT Base'!$B:$B,\"South\")/10^3","v":138.52500000000001},{"$f":"SUMIFS('UT Base'!BO:BO,'UT Base'!$A:$A,$B9,'UT Base'!$B:$B,\"South\")/10^3","v":96.316000000000003},{"$f":"SUMIFS('UT Base'!BP:BP,'UT Base'!$A:$A,$B9,'UT Base'!$B:$B,\"South\")/10^3","v":84.572999999999993},null,{"$f":"SUMIFS('UT Base'!BR:BR,'UT Base'!$A:$A,$B9,'UT Base'!$B:$B,\"South\")/10^3","v":70.548000000000002},{"$f":"SUMIFS('UT Base'!BS:BS,'UT Base'!$A:$A,$B9,'UT Base'!$B:$B,\"South\")/10^3","v":55.125},{"$f":"SUMIFS('UT Base'!BT:BT,'UT Base'!$A:$A,$B9,'UT Base'!$B:$B,\"South\")/10^3","v":126.075},{"$f":"SUMIFS('UT Base'!BU:BU,'UT Base'!$A:$A,$B9,'UT Base'!$B:$B,\"South\")/10^3","v":152.464},{"$f":"SUMIFS('UT Base'!BV:BV,'UT Base'!$A:$A,$B9,'UT Base'!$B:$B,\"South\")/10^3","v":155.45599999999999},{"$f":"SUMIFS('UT Base'!BW:BW,'UT Base'!$A:$A,$B9,'UT Base'!$B:$B,\"South\")/10^3","v":160.86099999999999},{"$f":"SUMIFS('UT Base'!BX:BX,'UT Base'!$A:$A,$B9,'UT Base'!$B:$B,\"South\")/10^3","v":148.11199999999999},{"$f":"SUMIFS('UT Base'!BY:BY,'UT Base'!$A:$A,$B9,'UT Base'!$B:$B,\"South\")/10^3","v":158.64099999999999},{"$f":"SUMIFS('UT Base'!BZ:BZ,'UT Base'!$A:$A,$B9,'UT Base'!$B:$B,\"South\")/10^3","v":167.69800000000001},{"$f":"SUMIFS('UT Base'!CA:CA,'UT Base'!$A:$A,$B9,'UT Base'!$B:$B,\"South\")/10^3","v":171.048},{"$f":"SUMIFS('UT Base'!CB:CB,'UT Base'!$A:$A,$B9,'UT Base'!$B:$B,\"South\")/10^3","v":125.679},{"$f":"SUMIFS('UT Base'!CC:CC,'UT Base'!$A:$A,$B9,'UT Base'!$B:$B,\"South\")/10^3","v":117.105},null,{"$f":"SUMIFS('UT Base'!CE:CE,'UT Base'!$A:$A,$B9,'UT Base'!$B:$B,\"South\")/10^3","v":98.070999999999998},{"$f":"SUMIFS('UT Base'!CF:CF,'UT Base'!$A:$A,$B9,'UT Base'!$B:$B,\"South\")/10^3","v":98.891000000000005},{"$f":"SUMIFS('UT Base'!CG:CG,'UT Base'!$A:$A,$B9,'UT Base'!$B:$B,\"South\")/10^3","v":167.726},{"$f":"SUMIFS('UT Base'!CH:CH,'UT Base'!$A:$A,$B9,'UT Base'!$B:$B,\"South\")/10^3","v":166.733},{"$f":"SUMIFS('UT Base'!CI:CI,'UT Base'!$A:$A,$B9,'UT Base'!$B:$B,\"South\")/10^3","v":156.99700000000001},{"$f":"SUMIFS('UT Base'!CJ:CJ,'UT Base'!$A:$A,$B9,'UT Base'!$B:$B,\"South\")/10^3","v":0},{"$f":"SUMIFS('UT Base'!CK:CK,'UT Base'!$A:$A,$B9,'UT Base'!$B:$B,\"South\")/10^3","v":0},{"$f":"SUMIFS('UT Base'!CL:CL,'UT Base'!$A:$A,$B9,'UT Base'!$B:$B,\"South\")/10^3","v":0},{"$f":"SUMIFS('UT Base'!CM:CM,'UT Base'!$A:$A,$B9,'UT Base'!$B:$B,\"South\")/10^3","v":0},{"$f":"SUMIFS('UT Base'!CN:CN,'UT Base'!$A:$A,$B9,'UT Base'!$B:$B,\"South\")/10^3","v":0},{"$f":"SUMIFS('UT Base'!CO:CO,'UT Base'!$A:$A,$B9,'UT Base'!$B:$B,\"South\")/10^3","v":0},{"$f":"SUMIFS('UT Base'!CP:CP,'UT Base'!$A:$A,$B9,'UT Base'!$B:$B,\"South\")/10^3","v":0}]
[null,"Corn",null,344.58300000000003,89.58,1.5509999999999999,0,0,0.40400000000000003,112.248,312.15899999999999,173.16900000000001,85.093000000000004,45.048000000000002,48.804000000000002,null,21.544,8.6120000000000001,0,0,5.2999999999999999E-2,18.690000000000001,259.53300000000002,515.98900000000003,717.84,499.49299999999999,174.44399999999999,154.91999999999999,null,217.80199999999999,17.54,0,0,0.624,0,4.9989999999999997,103.86499999999999,145.15199999999999,17.888999999999999,131.05699999999999,246.08799999999999,null,154.017,106.889,21.356999999999999,59.186,60.676000000000002,258.07799999999997,577.22400000000005,705.64300000000003,519.97500000000002,384.13499999999999,391.88200000000001,239.01499999999999,null,{"$f":"SUMIFS('UT Base'!BE:BE,'UT Base'!$A:$A,$B10,'UT Base'!$B:$B,\"South\")/10^3","v":87.356999999999999},{"$f":"SUMIFS('UT Base'!BF:BF,'UT Base'!$A:$A,$B10,'UT Base'!$B:$B,\"South\")/10^3","v":102.557},{"$f":"SUMIFS('UT Base'!BG:BG,'UT Base'!$A:$A,$B10,'UT Base'!$B:$B,\"South\")/10^3","v":20.268999999999998},{"$f":"SUMIFS('UT Base'!BH:BH,'UT Base'!$A:$A,$B10,'UT Base'!$B:$B,\"South\")/10^3","v":0},{"$f":"SUMIFS('UT Base'!BI:BI,'UT Base'!$A:$A,$B10,'UT Base'!$B:$B,\"South\")/10^3","v":4.1000000000000002E-2},{"$f":"SUMIFS('UT Base'!BJ:BJ,'UT Base'!$A:$A,$B10,'UT Base'!$B:$B,\"South\")/10^3","v":0},{"$f":"SUMIFS('UT Base'!BK:BK,'UT Base'!$A:$A,$B10,'UT Base'!$B:$B,\"South\")/10^3","v":77.057000000000002},{"$f":"SUMIFS('UT Base'!BL:BL,'UT Base'!$A:$A,$B10,'UT Base'!$B:$B,\"South\")/10^3","v":381.98200000000003},{"$f":"SUMIFS('UT Base'!BM:BM,'UT Base'!$A:$A,$B10,'UT Base'!$B:$B,\"South\")/10^3","v":462.34699999999998},{"$f":"SUMIFS('UT Base'!BN:BN,'UT Base'!$A:$A,$B10,'UT Base'!$B:$B,\"South\")/10^3","v":542.33900000000006},{"$f":"SUMIFS('UT Base'!BO:BO,'UT Base'!$A:$A,$B10,'UT Base'!$B:$B,\"South\")/10^3","v":602.89599999999996},{"$f":"SUMIFS('UT Base'!BP:BP,'UT Base'!$A:$A,$B10,'UT Base'!$B:$B,\"South\")/10^3","v":357.53},null,{"$f":"SUMIFS('UT Base'!BR:BR,'UT Base'!$A:$A,$B10,'UT Base'!$B:$B,\"South\")/10^3","v":110.39400000000001},{"$f":"SUMIFS('UT Base'!BS:BS,'UT Base'!$A:$A,$B10,'UT Base'!$B:$B,\"South\")/10^3","v":104.185},{"$f":"SUMIFS('UT Base'!BT:BT,'UT Base'!$A:$A,$B10,'UT Base'!$B:$B,\"South\")/10^3","v":9.7650000000000006},{"$f":"SUMIFS('UT Base'!BU:BU,'UT Base'!$A:$A,$B10,'UT Base'!$B:$B,\"South\")/10^3","v":0},{"$f":"SUMIFS('UT Base'!BV:BV,'UT Base'!$A:$A,$B10,'UT Base'!$B:$B,\"South\")/10^3","v":0},{"$f":"SUMIFS('UT Base'!BW:BW,'UT Base'!$A:$A,$B10,'UT Base'!$B:$B,\"South\")/10^3","v":0.32600000000000001},{"$f":"SUMIFS('UT Base'!BX:BX,'UT Base'!$A:$A,$B10,'UT Base'!$B:$B,\"South\")/10^3","v":0},{"$f":"SUMIFS('UT Base'!BY:BY,'UT Base'!$A:$A,$B10,'UT Base'!$B:$B,\"South\")/10^3","v":43.195999999999998},{"$f":"SUMIFS('UT Base'!BZ:BZ,'UT Base'!$A:$A,$B10,'UT Base'!$B:$B,\"South\")/10^3","v":23.905999999999999},{"$f":"SUMIFS('UT Base'!CA:CA,'UT Base'!$A:$A,$B10,'UT Base'!$B:$B,\"South\")/10^3","v":36.201000000000001},{"$f":"SUMIFS('UT Base'!CB:CB,'UT Base'!$A:$A,$B10,'UT Base'!$B:$B,\"South\")/10^3","v":55.795999999999999},{"$f":"SUMIFS('UT Base'!CC:CC,'UT Base'!$A:$A,$B10,'UT Base'!$B:$B,\"South\")/10^3","v":174.75},null,{"$f":"SUMIFS('UT Base'!CE:CE,'UT Base'!$A:$A,$B10,'UT Base'!$B:$B,\"South\")/10^3","v":92.965000000000003},{"$f":"SUMIFS('UT Base'!CF:CF,'UT Base'!$A:$A,$B10,'UT Base'!$B:$B,\"South\")/10^3","v":0.251},{"$f":"SUMIFS('UT Base'!CG:CG,'UT Base'!$A:$A,$B10,'UT Base'!$B:$B,\"South\")/10^3","v":65.64},{"$f":"SUMIFS('UT Base'!CH:CH,'UT Base'!$A:$A,$B10,'UT Base'!$B:$B,\"South\")/10^3","v":152.43600000000001},{"$f":"SUMIFS('UT Base'!CI:CI,'UT Base'!$A:$A,$B10,'UT Base'!$B:$B,\"South\")/10^3","v":53.018999999999998},{"$f":"SUMIFS('UT Base'!CJ:CJ,'UT Base'!$A:$A,$B10,'UT Base'!$B:$B,\"South\")/10^3","v":0},{"$f":"SUMIFS('UT Base'!CK:CK,'UT Base'!$A:$A,$B10,'UT Base'!$B:$B,\"South\")/10^3","v":0},{"$f":"SUMIFS('UT Base'!CL:CL,'UT Base'!$A:$A,$B10,'UT Base'!$B:$B,\"South\")/10^3","v":0},{"$f":"SUMIFS('UT Base'!CM:CM,'UT Base'!$A:$A,$B10,'UT Base'!$B:$B,\"South\")/10^3","v":0},{"$f":"SUMIFS('UT Base'!CN:CN,'UT Base'!$A:$A,$B10,'UT Base'!$B:$B,\"South\")/10^3","v":0},{"$f":"SUMIFS('UT Base'!CO:CO,'UT Base'!$A:$A,$B10,'UT Base'!$B:$B,\"South\")/10^3","v":0},{"$f":"SUMIFS('UT Base'!CP:CP,'UT Base'!$A:$A,$B10,'UT Base'!$B:$B,\"South\")/10^3","v":0}]
[null,"Sugar",null,184.12799999999999,41.975999999999999,120.054,189.47499999999999,301.03199999999998,356.20400000000001,462.96499999999997,525.98800000000006,529.64800000000002,452.54399999999998,394.142,482.66,null,162.06100000000001,76.617000000000004,99.284000000000006,197.19399999999999,391.80700000000002,393.90800000000002,471.06799999999998,468.95400000000001,474.35899999999998,427.40199999999999,408.55799999999999,229.31299999999999,null,95.715999999999994,100.741,61.051000000000002,140.86600000000001,293.82400000000001,328.99900000000002,323.673,348.72699999999998,322.69299999999998,332.53399999999999,189.93,253.67400000000001,null,49.545000000000002,49.698,44.070999999999998,131.1,214.15799999999999,241.768,323.29599999999999,253.00399999999999,226.982,221.43600000000001,303.12099999999998,132.62700000000001,null,{"$f":"SUMIFS('UT Base'!BE:BE,'UT Base'!$A:$A,$B11,'UT Base'!$B:$B,\"South\")/10^3","v":136.542},{"$f":"SUMIFS('UT Base'!BF:BF,'UT Base'!$A:$A,$B11,'UT Base'!$B:$B,\"South\")/10^3","v":71.984999999999999},{"$f":"SUMIFS('UT Base'!BG:BG,'UT Base'!$A:$A,$B11,'UT Base'!$B:$B,\"South\")/10^3","v":94.197000000000003},{"$f":"SUMIFS('UT Base'!BH:BH,'UT Base'!$A:$A,$B11,'UT Base'!$B:$B,\"South\")/10^3","v":186.739},{"$f":"SUMIFS('UT Base'!BI:BI,'UT Base'!$A:$A,$B11,'UT Base'!$B:$B,\"South\")/10^3","v":371.94799999999998},{"$f":"SUMIFS('UT Base'!BJ:BJ,'UT Base'!$A:$A,$B11,'UT Base'!$B:$B,\"South\")/10^3","v":327.91699999999997},{"$f":"SUMIFS('UT Base'!BK:BK,'UT Base'!$A:$A,$B11,'UT Base'!$B:$B,\"South\")/10^3","v":324.61},{"$f":"SUMIFS('UT Base'!BL:BL,'UT Base'!$A:$A,$B11,'UT Base'!$B:$B,\"South\")/10^3","v":365.72199999999998},{"$f":"SUMIFS('UT Base'!BM:BM,'UT Base'!$A:$A,$B11,'UT Base'!$B:$B,\"South\")/10^3","v":492.964},{"$f":"SUMIFS('UT Base'!BN:BN,'UT Base'!$A:$A,$B11,'UT Base'!$B:$B,\"South\")/10^3","v":486.697},{"$f":"SUMIFS('UT Base'!BO:BO,'UT Base'!$A:$A,$B11,'UT Base'!$B:$B,\"South\")/10^3","v":458.96600000000001},{"$f":"SUMIFS('UT Base'!BP:BP,'UT Base'!$A:$A,$B11,'UT Base'!$B:$B,\"South\")/10^3","v":358.00799999999998},null,{"$f":"SUMIFS('UT Base'!BR:BR,'UT Base'!$A:$A,$B11,'UT Base'!$B:$B,\"South\")/10^3","v":198.21700000000001},{"$f":"SUMIFS('UT Base'!BS:BS,'UT Base'!$A:$A,$B11,'UT Base'!$B:$B,\"South\")/10^3","v":104.491},{"$f":"SUMIFS('UT Base'!BT:BT,'UT Base'!$A:$A,$B11,'UT Base'!$B:$B,\"South\")/10^3","v":159.571},{"$f":"SUMIFS('UT Base'!BU:BU,'UT Base'!$A:$A,$B11,'UT Base'!$B:$B,\"South\")/10^3","v":183.59399999999999},{"$f":"SUMIFS('UT Base'!BV:BV,'UT Base'!$A:$A,$B11,'UT Base'!$B:$B,\"South\")/10^3","v":411.51100000000002},{"$f":"SUMIFS('UT Base'!BW:BW,'UT Base'!$A:$A,$B11,'UT Base'!$B:$B,\"South\")/10^3","v":558.12400000000002},{"$f":"SUMIFS('UT Base'!BX:BX,'UT Base'!$A:$A,$B11,'UT Base'!$B:$B,\"South\")/10^3","v":363.73099999999999},{"$f":"SUMIFS('UT Base'!BY:BY,'UT Base'!$A:$A,$B11,'UT Base'!$B:$B,\"South\")/10^3","v":328.28800000000001},{"$f":"SUMIFS('UT Base'!BZ:BZ,'UT Base'!$A:$A,$B11,'UT Base'!$B:$B,\"South\")/10^3","v":512.99699999999996},{"$f":"SUMIFS('UT Base'!CA:CA,'UT Base'!$A:$A,$B11,'UT Base'!$B:$B,\"South\")/10^3","v":442.53399999999999},{"$f":"SUMIFS('UT Base'!CB:CB,'UT Base'!$A:$A,$B11,'UT Base'!$B:$B,\"South\")/10^3","v":342.38799999999998},{"$f":"SUMIFS('UT Base'!CC:CC,'UT Base'!$A:$A,$B11,'UT Base'!$B:$B,\"South\")/10^3","v":214.75299999999999},null,{"$f":"SUMIFS('UT Base'!CE:CE,'UT Base'!$A:$A,$B11,'UT Base'!$B:$B,\"South\")/10^3","v":144.58699999999999},{"$f":"SUMIFS('UT Base'!CF:CF,'UT Base'!$A:$A,$B11,'UT Base'!$B:$B,\"South\")/10^3","v":70.36},{"$f":"SUMIFS('UT Base'!CG:CG,'UT Base'!$A:$A,$B11,'UT Base'!$B:$B,\"South\")/10^3","v":63.345999999999997},{"$f":"SUMIFS('UT Base'!CH:CH,'UT Base'!$A:$A,$B11,'UT Base'!$B:$B,\"South\")/10^3","v":112.592},{"$f":"SUMIFS('UT Base'!CI:CI,'UT Base'!$A:$A,$B11,'UT Base'!$B:$B,\"South\")/10^3","v":374.96199999999999},{"$f":"SUMIFS('UT Base'!CJ:CJ,'UT Base'!$A:$A,$B11,'UT Base'!$B:$B,\"South\")/10^3","v":0},{"$f":"SUMIFS('UT Base'!CK:CK,'UT Base'!$A:$A,$B11,'UT Base'!$B:$B,\"South\")/10^3","v":0},{"$f":"SUMIFS('UT Base'!CL:CL,'UT Base'!$A:$A,$B11,'UT Base'!$B:$B,\"South\")/10^3","v":0},{"$f":"SUMIFS('UT Base'!CM:CM,'UT Base'!$A:$A,$B11,'UT Base'!$B:$B,\"South\")/10^3","v":0},{"$f":"SUMIFS('UT Base'!CN:CN,'UT Base'!$A:$A,$B11,'UT Base'!$B:$B,\"South\")/10^3","v":0},{"$f":"SUMIFS('UT Base'!CO:CO,'UT Base'!$A:$A,$B11,'UT Base'!$B:$B,\"South\")/10^3","v":0},{"$f":"SUMIFS('UT Base'!CP:CP,'UT Base'!$A:$A,$B11,'UT Base'!$B:$B,\"South\")/10^3","v":0}]
[null,"Fertilizers",null,40.015999999999998,26.385000000000002,29.763999999999999,37.642000000000003,94.590999999999994,118.747,135.369,148.98500000000001,195.93199999999999,149.495,157.22999999999999,121.94,null,101.56399999999999,70.692999999999998,52.874000000000002,118.539,108.35,77.277000000000001,76.747,91.299000000000007,99.471000000000004,110.258,95.177000000000007,96.216999999999999,null,101.39400000000001,79.974999999999994,58.162999999999997,71.141999999999996,71.164000000000001,95.393000000000001,100.794,106.23399999999999,95.497,82.171000000000006,113.35,95.09,null,125.196,61.607999999999997,44.469000000000001,57.654000000000003,103.751,100.104,103.70099999999999,99.856999999999999,112.086,81.55,81.575000000000003,64.058999999999997,null,{"$f":"SUMIFS('UT Base'!BE:BE,'UT Base'!$A:$A,$B12,'UT Base'!$B:$B,\"South\")/10^3","v":89.926000000000002},{"$f":"SUMIFS('UT Base'!BF:BF,'UT Base'!$A:$A,$B12,'UT Base'!$B:$B,\"South\")/10^3","v":60.615000000000002},{"$f":"SUMIFS('UT Base'!BG:BG,'UT Base'!$A:$A,$B12,'UT Base'!$B:$B,\"South\")/10^3","v":29.428999999999998},{"$f":"SUMIFS('UT Base'!BH:BH,'UT Base'!$A:$A,$B12,'UT Base'!$B:$B,\"South\")/10^3","v":68.715999999999994},{"$f":"SUMIFS('UT Base'!BI:BI,'UT Base'!$A:$A,$B12,'UT Base'!$B:$B,\"South\")/10^3","v":77.739000000000004},{"$f":"SUMIFS('UT Base'!BJ:BJ,'UT Base'!$A:$A,$B12,'UT Base'!$B:$B,\"South\")/10^3","v":68.548000000000002},{"$f":"SUMIFS('UT Base'!BK:BK,'UT Base'!$A:$A,$B12,'UT Base'!$B:$B,\"South\")/10^3","v":77.061999999999998},{"$f":"SUMIFS('UT Base'!BL:BL,'UT Base'!$A:$A,$B12,'UT Base'!$B:$B,\"South\")/10^3","v":69.522999999999996},{"$f":"SUMIFS('UT Base'!BM:BM,'UT Base'!$A:$A,$B12,'UT Base'!$B:$B,\"South\")/10^3","v":69.953000000000003},{"$f":"SUMIFS('UT Base'!BN:BN,'UT Base'!$A:$A,$B12,'UT Base'!$B:$B,\"South\")/10^3","v":67.774000000000001},{"$f":"SUMIFS('UT Base'!BO:BO,'UT Base'!$A:$A,$B12,'UT Base'!$B:$B,\"South\")/10^3","v":66.355000000000004},{"$f":"SUMIFS('UT Base'!BP:BP,'UT Base'!$A:$A,$B12,'UT Base'!$B:$B,\"South\")/10^3","v":61.610999999999997},null,{"$f":"SUMIFS('UT Base'!BR:BR,'UT Base'!$A:$A,$B12,'UT Base'!$B:$B,\"South\")/10^3","v":70.167000000000002},{"$f":"SUMIFS('UT Base'!BS:BS,'UT Base'!$A:$A,$B12,'UT Base'!$B:$B,\"South\")/10^3","v":59.651000000000003},{"$f":"SUMIFS('UT Base'!BT:BT,'UT Base'!$A:$A,$B12,'UT Base'!$B:$B,\"South\")/10^3","v":9.9079999999999995},{"$f":"SUMIFS('UT Base'!BU:BU,'UT Base'!$A:$A,$B12,'UT Base'!$B:$B,\"South\")/10^3","v":38.555},{"$f":"SUMIFS('UT Base'!BV:BV,'UT Base'!$A:$A,$B12,'UT Base'!$B:$B,\"South\")/10^3","v":65.983999999999995},{"$f":"SUMIFS('UT Base'!BW:BW,'UT Base'!$A:$A,$B12,'UT Base'!$B:$B,\"South\")/10^3","v":90.382000000000005},{"$f":"SUMIFS('UT Base'!BX:BX,'UT Base'!$A:$A,$B12,'UT Base'!$B:$B,\"South\")/10^3","v":92.822000000000003},{"$f":"SUMIFS('UT Base'!BY:BY,'UT Base'!$A:$A,$B12,'UT Base'!$B:$B,\"South\")/10^3","v":135.93299999999999},{"$f":"SUMIFS('UT Base'!BZ:BZ,'UT Base'!$A:$A,$B12,'UT Base'!$B:$B,\"South\")/10^3","v":109.88800000000001},{"$f":"SUMIFS('UT Base'!CA:CA,'UT Base'!$A:$A,$B12,'UT Base'!$B:$B,\"South\")/10^3","v":88.382999999999996},{"$f":"SUMIFS('UT Base'!CB:CB,'UT Base'!$A:$A,$B12,'UT Base'!$B:$B,\"South\")/10^3","v":76.007999999999996},{"$f":"SUMIFS('UT Base'!CC:CC,'UT Base'!$A:$A,$B12,'UT Base'!$B:$B,\"South\")/10^3","v":62.95},null,{"$f":"SUMIFS('UT Base'!CE:CE,'UT Base'!$A:$A,$B12,'UT Base'!$B:$B,\"South\")/10^3","v":76.474999999999994},{"$f":"SUMIFS('UT Base'!CF:CF,'UT Base'!$A:$A,$B12,'UT Base'!$B:$B,\"South\")/10^3","v":76.888000000000005},{"$f":"SUMIFS('UT Base'!CG:CG,'UT Base'!$A:$A,$B12,'UT Base'!$B:$B,\"South\")/10^3","v":53.954999999999998},{"$f":"SUMIFS('UT Base'!CH:CH,'UT Base'!$A:$A,$B12,'UT Base'!$B:$B,\"South\")/10^3","v":45.807000000000002},{"$f":"SUMIFS('UT Base'!CI:CI,'UT Base'!$A:$A,$B12,'UT Base'!$B:$B,\"South\")/10^3","v":72.655000000000001},{"$f":"SUMIFS('UT Base'!CJ:CJ,'UT Base'!$A:$A,$B12,'UT Base'!$B:$B,\"South\")/10^3","v":0},{"$f":"SUMIFS('UT Base'!CK:CK,'UT Base'!$A:$A,$B12,'UT Base'!$B:$B,\"South\")/10^3","v":0},{"$f":"SUMIFS('UT Base'!CL:CL,'UT Base'!$A:$A,$B12,'UT Base'!$B:$B,\"South\")/10^3","v":0},{"$f":"SUMIFS('UT Base'!CM:CM,'UT Base'!$A:$A,$B12,'UT Base'!$B:$B,\"South\")/10^3","v":0},{"$f":"SUMIFS('UT Base'!CN:CN,'UT Base'!$A:$A,$B12,'UT Base'!$B:$B,\"South\")/10^3","v":0},{"$f":"SUMIFS('UT Base'!CO:CO,'UT Base'!$A:$A,$B12,'UT Base'!$B:$B,\"South\")/10^3","v":0},{"$f":"SUMIFS('UT Base'!CP:CP,'UT Base'!$A:$A,$B12,'UT Base'!$B:$B,\"South\")/10^3","v":0}]
[null,"Wheat",null,56.14,1.9339999999999999,2.9740000000000002,0,0,0,0,0,0,0,9.1210000000000004,22.268999999999998,null,62.997999999999998,82.959000000000003,18.082000000000001,0,0,0,0,0,0,0,6.04,13.396000000000001,null,27.41,6.7839999999999998,0,0,0,0,0,0,0,0,57.524000000000001,87.164000000000001,null,46.884999999999998,5.42,0,0,0,0,0,0,0,0,7.8390000000000004,53.780999999999999,null,{"$f":"SUMIFS('UT Base'!BE:BE,'UT Base'!$A:$A,$B13,'UT Base'!$B:$B,\"South\")/10^3","v":40.94},{"$f":"SUMIFS('UT Base'!BF:BF,'UT Base'!$A:$A,$B13,'UT Base'!$B:$B,\"South\")/10^3","v":2.2730000000000001},{"$f":"SUMIFS('UT Base'!BG:BG,'UT Base'!$A:$A,$B13,'UT Base'!$B:$B,\"South\")/10^3","v":0},{"$f":"SUMIFS('UT Base'!BH:BH,'UT Base'!$A:$A,$B13,'UT Base'!$B:$B,\"South\")/10^3","v":0},{"$f":"SUMIFS('UT Base'!BI:BI,'UT Base'!$A:$A,$B13,'UT Base'!$B:$B,\"South\")/10^3","v":0},{"$f":"SUMIFS('UT Base'!BJ:BJ,'UT Base'!$A:$A,$B13,'UT Base'!$B:$B,\"South\")/10^3","v":0},{"$f":"SUMIFS('UT Base'!BK:BK,'UT Base'!$A:$A,$B13,'UT Base'!$B:$B,\"South\")/10^3","v":0},{"$f":"SUMIFS('UT Base'!BL:BL,'UT Base'!$A:$A,$B13,'UT Base'!$B:$B,\"South\")/10^3","v":0},{"$f":"SUMIFS('UT Base'!BM:BM,'UT Base'!$A:$A,$B13,'UT Base'!$B:$B,\"South\")/10^3","v":0},{"$f":"SUMIFS('UT Base'!BN:BN,'UT Base'!$A:$A,$B13,'UT Base'!$B:$B,\"South\")/10^3","v":17.013000000000002},{"$f":"SUMIFS('UT Base'!BO:BO,'UT Base'!$A:$A,$B13,'UT Base'!$B:$B,\"South\")/10^3","v":106.58799999999999},{"$f":"SUMIFS('UT Base'!BP:BP,'UT Base'!$A:$A,$B13,'UT Base'!$B:$B,\"South\")/10^3","v":92.584999999999994},null,{"$f":"SUMIFS('UT Base'!BR:BR,'UT Base'!$A:$A,$B13,'UT Base'!$B:$B,\"South\")/10^3","v":4.9530000000000003},{"$f":"SUMIFS('UT Base'!BS:BS,'UT Base'!$A:$A,$B13,'UT Base'!$B:$B,\"South\")/10^3","v":0},{"$f":"SUMIFS('UT Base'!BT:BT,'UT Base'!$A:$A,$B13,'UT Base'!$B:$B,\"South\")/10^3","v":0},{"$f":"SUMIFS('UT Base'!BU:BU,'UT Base'!$A:$A,$B13,'UT Base'!$B:$B,\"South\")/10^3","v":0},{"$f":"SUMIFS('UT Base'!BV:BV,'UT Base'!$A:$A,$B13,'UT Base'!$B:$B,\"South\")/10^3","v":0},{"$f":"SUMIFS('UT Base'!BW:BW,'UT Base'!$A:$A,$B13,'UT Base'!$B:$B,\"South\")/10^3","v":0},{"$f":"SUMIFS('UT Base'!BX:BX,'UT Base'!$A:$A,$B13,'UT Base'!$B:$B,\"South\")/10^3","v":0},{"$f":"SUMIFS('UT Base'!BY:BY,'UT Base'!$A:$A,$B13,'UT Base'!$B:$B,\"South\")/10^3","v":0},{"$f":"SUMIFS('UT Base'!BZ:BZ,'UT Base'!$A:$A,$B13,'UT Base'!$B:$B,\"South\")/10^3","v":0},{"$f":"SUMIFS('UT Base'!CA:CA,'UT Base'!$A:$A,$B13,'UT Base'!$B:$B,\"South\")/10^3","v":1.3839999999999999},{"$f":"SUMIFS('UT Base'!CB:CB,'UT Base'!$A:$A,$B13,'UT Base'!$B:$B,\"South\")/10^3","v":111.30500000000001},{"$f":"SUMIFS('UT Base'!CC:CC,'UT Base'!$A:$A,$B13,'UT Base'!$B:$B,\"South\")/10^3","v":152.08500000000001},null,{"$f":"SUMIFS('UT Base'!CE:CE,'UT Base'!$A:$A,$B13,'UT Base'!$B:$B,\"South\")/10^3","v":138.03800000000001},{"$f":"SUMIFS('UT Base'!CF:CF,'UT Base'!$A:$A,$B13,'UT Base'!$B:$B,\"South\")/10^3","v":172.565},{"$f":"SUMIFS('UT Base'!CG:CG,'UT Base'!$A:$A,$B13,'UT Base'!$B:$B,\"South\")/10^3","v":63.165999999999997},{"$f":"SUMIFS('UT Base'!CH:CH,'UT Base'!$A:$A,$B13,'UT Base'!$B:$B,\"South\")/10^3","v":8.0030000000000001},{"$f":"SUMIFS('UT Base'!CI:CI,'UT Base'!$A:$A,$B13,'UT Base'!$B:$B,\"South\")/10^3","v":1.2549999999999999},{"$f":"SUMIFS('UT Base'!CJ:CJ,'UT Base'!$A:$A,$B13,'UT Base'!$B:$B,\"South\")/10^3","v":0},{"$f":"SUMIFS('UT Base'!CK:CK,'UT Base'!$A:$A,$B13,'UT Base'!$B:$B,\"South\")/10^3","v":0},{"$f":"SUMIFS('UT Base'!CL:CL,'UT Base'!$A:$A,$B13,'UT Base'!$B:$B,\"South\")/10^3","v":0},{"$f":"SUMIFS('UT Base'!CM:CM,'UT Base'!$A:$A,$B13,'UT Base'!$B:$B,\"South\")/10^3","v":0},{"$f":"SUMIFS('UT Base'!CN:CN,'UT Base'!$A:$A,$B13,'UT Base'!$B:$B,\"South\")/10^3","v":0},{"$f":"SUMIFS('UT Base'!CO:CO,'UT Base'!$A:$A,$B13,'UT Base'!$B:$B,\"South\")/10^3","v":0},{"$f":"SUMIFS('UT Base'!CP:CP,'UT Base'!$A:$A,$B13,'UT Base'!$B:$B,\"South\")/10^3","v":0}]
[null,"Malt",null,0,0,0,0,0,0,0,0,0,2.3109999999999999,0,0,null,0,0,0,0,0,0,0,0,0,0,0,0,null,0,0,0,0,0,0,0,0,0,0,0,0,null,0,0,0,0,0,0,0,0,0,0,0,0,null,{"$f":"SUMIFS('UT Base'!BE:BE,'UT Base'!$A:$A,$B14,'UT Base'!$B:$B,\"South\")/10^3","v":0},{"$f":"SUMIFS('UT Base'!BF:BF,'UT Base'!$A:$A,$B14,'UT Base'!$B:$B,\"South\")/10^3","v":0},{"$f":"SUMIFS('UT Base'!BG:BG,'UT Base'!$A:$A,$B14,'UT Base'!$B:$B,\"South\")/10^3","v":0},{"$f":"SUMIFS('UT Base'!BH:BH,'UT Base'!$A:$A,$B14,'UT Base'!$B:$B,\"South\")/10^3","v":0},{"$f":"SUMIFS('UT Base'!BI:BI,'UT Base'!$A:$A,$B14,'UT Base'!$B:$B,\"South\")/10^3","v":0},{"$f":"SUMIFS('UT Base'!BJ:BJ,'UT Base'!$A:$A,$B14,'UT Base'!$B:$B,\"South\")/10^3","v":0},{"$f":"SUMIFS('UT Base'!BK:BK,'UT Base'!$A:$A,$B14,'UT Base'!$B:$B,\"South\")/10^3","v":0},{"$f":"SUMIFS('UT Base'!BL:BL,'UT Base'!$A:$A,$B14,'UT Base'!$B:$B,\"South\")/10^3","v":0},{"$f":"SUMIFS('UT Base'!BM:BM,'UT Base'!$A:$A,$B14,'UT Base'!$B:$B,\"South\")/10^3","v":0},{"$f":"SUMIFS('UT Base'!BN:BN,'UT Base'!$A:$A,$B14,'UT Base'!$B:$B,\"South\")/10^3","v":0},{"$f":"SUMIFS('UT Base'!BO:BO,'UT Base'!$A:$A,$B14,'UT Base'!$B:$B,\"South\")/10^3","v":0},{"$f":"SUMIFS('UT Base'!BP:BP,'UT Base'!$A:$A,$B14,'UT Base'!$B:$B,\"South\")/10^3","v":0},null,{"$f":"SUMIFS('UT Base'!BR:BR,'UT Base'!$A:$A,$B14,'UT Base'!$B:$B,\"South\")/10^3","v":0},{"$f":"SUMIFS('UT Base'!BS:BS,'UT Base'!$A:$A,$B14,'UT Base'!$B:$B,\"South\")/10^3","v":0},{"$f":"SUMIFS('UT Base'!BT:BT,'UT Base'!$A:$A,$B14,'UT Base'!$B:$B,\"South\")/10^3","v":0},{"$f":"SUMIFS('UT Base'!BU:BU,'UT Base'!$A:$A,$B14,'UT Base'!$B:$B,\"South\")/10^3","v":0},{"$f":"SUMIFS('UT Base'!BV:BV,'UT Base'!$A:$A,$B14,'UT Base'!$B:$B,\"South\")/10^3","v":0},{"$f":"SUMIFS('UT Base'!BW:BW,'UT Base'!$A:$A,$B14,'UT Base'!$B:$B,\"South\")/10^3","v":0},{"$f":"SUMIFS('UT Base'!BX:BX,'UT Base'!$A:$A,$B14,'UT Base'!$B:$B,\"South\")/10^3","v":0},{"$f":"SUMIFS('UT Base'!BY:BY,'UT Base'!$A:$A,$B14,'UT Base'!$B:$B,\"South\")/10^3","v":0},{"$f":"SUMIFS('UT Base'!BZ:BZ,'UT Base'!$A:$A,$B14,'UT Base'!$B:$B,\"South\")/10^3","v":0},{"$f":"SUMIFS('UT Base'!CA:CA,'UT Base'!$A:$A,$B14,'UT Base'!$B:$B,\"South\")/10^3","v":0},{"$f":"SUMIFS('UT Base'!CB:CB,'UT Base'!$A:$A,$B14,'UT Base'!$B:$B,\"South\")/10^3","v":0},{"$f":"SUMIFS('UT Base'!CC:CC,'UT Base'!$A:$A,$B14,'UT Base'!$B:$B,\"South\")/10^3","v":0},null,{"$f":"SUMIFS('UT Base'!CE:CE,'UT Base'!$A:$A,$B14,'UT Base'!$B:$B,\"South\")/10^3","v":0},{"$f":"SUMIFS('UT Base'!CF:CF,'UT Base'!$A:$A,$B14,'UT Base'!$B:$B,\"South\")/10^3","v":0},{"$f":"SUMIFS('UT Base'!CG:CG,'UT Base'!$A:$A,$B14,'UT Base'!$B:$B,\"South\")/10^3","v":0},{"$f":"SUMIFS('UT Base'!CH:CH,'UT Base'!$A:$A,$B14,'UT Base'!$B:$B,\"South\")/10^3","v":0},{"$f":"SUMIFS('UT Base'!CI:CI,'UT Base'!$A:$A,$B14,'UT Base'!$B:$B,\"South\")/10^3","v":0},{"$f":"SUMIFS('UT Base'!CJ:CJ,'UT Base'!$A:$A,$B14,'UT Base'!$B:$B,\"South\")/10^3","v":0},{"$f":"SUMIFS('UT Base'!CK:CK,'UT Base'!$A:$A,$B14,'UT Base'!$B:$B,\"South\")/10^3","v":0},{"$f":"SUMIFS('UT Base'!CL:CL,'UT Base'!$A:$A,$B14,'UT Base'!$B:$B,\"South\")/10^3","v":0},{"$f":"SUMIFS('UT Base'!CM:CM,'UT Base'!$A:$A,$B14,'UT Base'!$B:$B,\"South\")/10^3","v":0},{"$f":"SUMIFS('UT Base'!CN:CN,'UT Base'!$A:$A,$B14,'UT Base'!$B:$B,\"South\")/10^3","v":0},{"$f":"SUMIFS('UT Base'!CO:CO,'UT Base'!$A:$A,$B14,'UT Base'!$B:$B,\"South\")/10^3","v":0},{"$f":"SUMIFS('UT Base'!CP:CP,'UT Base'!$A:$A,$B14,'UT Base'!$B:$B,\"South\")/10^3","v":0}]
[null,"Corn meal",null,0,0,0,0,0,0,0,0,0,0,0,0,null,0,0,0,0,0,0,0,0,0,0,0,0,null,0,0,0,0,0,0,0,0,0,0,0,0,null,0,0,0,0,0,0,0,0,0,0,0,0,null,{"$f":"SUMIFS('UT Base'!BE:BE,'UT Base'!$A:$A,$B15,'UT Base'!$B:$B,\"South\")/10^3","v":0},{"$f":"SUMIFS('UT Base'!BF:BF,'UT Base'!$A:$A,$B15,'UT Base'!$B:$B,\"South\")/10^3","v":0},{"$f":"SUMIFS('UT Base'!BG:BG,'UT Base'!$A:$A,$B15,'UT Base'!$B:$B,\"South\")/10^3","v":0},{"$f":"SUMIFS('UT Base'!BH:BH,'UT Base'!$A:$A,$B15,'UT Base'!$B:$B,\"South\")/10^3","v":0},{"$f":"SUMIFS('UT Base'!BI:BI,'UT Base'!$A:$A,$B15,'UT Base'!$B:$B,\"South\")/10^3","v":0},{"$f":"SUMIFS('UT Base'!BJ:BJ,'UT Base'!$A:$A,$B15,'UT Base'!$B:$B,\"South\")/10^3","v":0},{"$f":"SUMIFS('UT Base'!BK:BK,'UT Base'!$A:$A,$B15,'UT Base'!$B:$B,\"South\")/10^3","v":0},{"$f":"SUMIFS('UT Base'!BL:BL,'UT Base'!$A:$A,$B15,'UT Base'!$B:$B,\"South\")/10^3","v":0},{"$f":"SUMIFS('UT Base'!BM:BM,'UT Base'!$A:$A,$B15,'UT Base'!$B:$B,\"South\")/10^3","v":0},{"$f":"SUMIFS('UT Base'!BN:BN,'UT Base'!$A:$A,$B15,'UT Base'!$B:$B,\"South\")/10^3","v":0},{"$f":"SUMIFS('UT Base'!BO:BO,'UT Base'!$A:$A,$B15,'UT Base'!$B:$B,\"South\")/10^3","v":0},{"$f":"SUMIFS('UT Base'!BP:BP,'UT Base'!$A:$A,$B15,'UT Base'!$B:$B,\"South\")/10^3","v":0},null,{"$f":"SUMIFS('UT Base'!BR:BR,'UT Base'!$A:$A,$B15,'UT Base'!$B:$B,\"South\")/10^3","v":0},{"$f":"SUMIFS('UT Base'!BS:BS,'UT Base'!$A:$A,$B15,'UT Base'!$B:$B,\"South\")/10^3","v":0},{"$f":"SUMIFS('UT Base'!BT:BT,'UT Base'!$A:$A,$B15,'UT Base'!$B:$B,\"South\")/10^3","v":0},{"$f":"SUMIFS('UT Base'!BU:BU,'UT Base'!$A:$A,$B15,'UT Base'!$B:$B,\"South\")/10^3","v":0},{"$f":"SUMIFS('UT Base'!BV:BV,'UT Base'!$A:$A,$B15,'UT Base'!$B:$B,\"South\")/10^3","v":0},{"$f":"SUMIFS('UT Base'!BW:BW,'UT Base'!$A:$A,$B15,'UT Base'!$B:$B,\"South\")/10^3","v":0},{"$f":"SUMIFS('UT Base'!BX:BX,'UT Base'!$A:$A,$B15,'UT Base'!$B:$B,\"South\")/10^3","v":0},{"$f":"SUMIFS('UT Base'!BY:BY,'UT Base'!$A:$A,$B15,'UT Base'!$B:$B,\"South\")/10^3","v":0},{"$f":"SUMIFS('UT Base'!BZ:BZ,'UT Base'!$A:$A,$B15,'UT Base'!$B:$B,\"South\")/10^3","v":0},{"$f":"SUMIFS('UT Base'!CA:CA,'UT Base'!$A:$A,$B15,'UT Base'!$B:$B,\"South\")/10^3","v":0},{"$f":"SUMIFS('UT Base'!CB:CB,'UT Base'!$A:$A,$B15,'UT Base'!$B:$B,\"South\")/10^3","v":0},{"$f":"SUMIFS('UT Base'!CC:CC,'UT Base'!$A:$A,$B15,'UT Base'!$B:$B,\"South\")/10^3","v":0},null,{"$f":"SUMIFS('UT Base'!CE:CE,'UT Base'!$A:$A,$B15,'UT Base'!$B:$B,\"South\")/10^3","v":0},{"$f":"SUMIFS('UT Base'!CF:CF,'UT Base'!$A:$A,$B15,'UT Base'!$B:$B,\"South\")/10^3","v":0},{"$f":"SUMIFS('UT Base'!CG:CG,'UT Base'!$A:$A,$B15,'UT Base'!$B:$B,\"South\")/10^3","v":0},{"$f":"SUMIFS('UT Base'!CH:CH,'UT Base'!$A:$A,$B15,'UT Base'!$B:$B,\"South\")/10^3","v":0},{"$f":"SUMIFS('UT Base'!CI:CI,'UT Base'!$A:$A,$B15,'UT Base'!$B:$B,\"South\")/10^3","v":0},{"$f":"SUMIFS('UT Base'!CJ:CJ,'UT Base'!$A:$A,$B15,'UT Base'!$B:$B,\"South\")/10^3","v":0},{"$f":"SUMIFS('UT Base'!CK:CK,'UT Base'!$A:$A,$B15,'UT Base'!$B:$B,\"South\")/10^3","v":0},{"$f":"SUMIFS('UT Base'!CL:CL,'UT Base'!$A:$A,$B15,'UT Base'!$B:$B,\"South\")/10^3","v":0},{"$f":"SUMIFS('UT Base'!CM:CM,'UT Base'!$A:$A,$B15,'UT Base'!$B:$B,\"South\")/10^3","v":0},{"$f":"SUMIFS('UT Base'!CN:CN,'UT Base'!$A:$A,$B15,'UT Base'!$B:$B,\"South\")/10^3","v":0},{"$f":"SUMIFS('UT Base'!CO:CO,'UT Base'!$A:$A,$B15,'UT Base'!$B:$B,\"South\")/10^3","v":0},{"$f":"SUMIFS('UT Base'!CP:CP,'UT Base'!$A:$A,$B15,'UT Base'!$B:$B,\"South\")/10^3","v":0}]
[null,"Containers",null,73.284000000000006,93.19,99.643000000000001,97.588999999999999,92.724000000000004,93.533000000000001,79.986000000000004,78.66,76.56,74.11,67.53,61.183,null,73.02,69.811000000000007,77.704999999999998,70.215999999999994,78.858999999999995,75.727000000000004,74.613,80.644999999999996,64.617999999999995,64.069000000000003,51.814999999999998,62.14,null,54.661999999999999,71.673000000000002,77.314999999999998,85.995999999999995,71.602000000000004,86.921999999999997,93.614000000000004,98.674999999999997,98.942999999999998,104.337,98.444999999999993,96.793999999999997,null,90.64,90.762,101.026,101.752,106.42700000000001,104.621,114.111,119.176,124.95399999999999,114.232,110.89700000000001,103.611,null,{"$f":"SUMIFS('UT Base'!BE:BE,'UT Base'!$A:$A,$B16,'UT Base'!$B:$B,\"South\")/10^3","v":113.64400000000001},{"$f":"SUMIFS('UT Base'!BF:BF,'UT Base'!$A:$A,$B16,'UT Base'!$B:$B,\"South\")/10^3","v":112.708},{"$f":"SUMIFS('UT Base'!BG:BG,'UT Base'!$A:$A,$B16,'UT Base'!$B:$B,\"South\")/10^3","v":96.084000000000003},{"$f":"SUMIFS('UT Base'!BH:BH,'UT Base'!$A:$A,$B16,'UT Base'!$B:$B,\"South\")/10^3","v":118.35899999999999},{"$f":"SUMIFS('UT Base'!BI:BI,'UT Base'!$A:$A,$B16,'UT Base'!$B:$B,\"South\")/10^3","v":119.74},{"$f":"SUMIFS('UT Base'!BJ:BJ,'UT Base'!$A:$A,$B16,'UT Base'!$B:$B,\"South\")/10^3","v":129.90100000000001},{"$f":"SUMIFS('UT Base'!BK:BK,'UT Base'!$A:$A,$B16,'UT Base'!$B:$B,\"South\")/10^3","v":134.31700000000001},{"$f":"SUMIFS('UT Base'!BL:BL,'UT Base'!$A:$A,$B16,'UT Base'!$B:$B,\"South\")/10^3","v":125.444},{"$f":"SUMIFS('UT Base'!BM:BM,'UT Base'!$A:$A,$B16,'UT Base'!$B:$B,\"South\")/10^3","v":127.172},{"$f":"SUMIFS('UT Base'!BN:BN,'UT Base'!$A:$A,$B16,'UT Base'!$B:$B,\"South\")/10^3","v":123.976},{"$f":"SUMIFS('UT Base'!BO:BO,'UT Base'!$A:$A,$B16,'UT Base'!$B:$B,\"South\")/10^3","v":120.098},{"$f":"SUMIFS('UT Base'!BP:BP,'UT Base'!$A:$A,$B16,'UT Base'!$B:$B,\"South\")/10^3","v":106.196},null,{"$f":"SUMIFS('UT Base'!BR:BR,'UT Base'!$A:$A,$B16,'UT Base'!$B:$B,\"South\")/10^3","v":110.57299999999999},{"$f":"SUMIFS('UT Base'!BS:BS,'UT Base'!$A:$A,$B16,'UT Base'!$B:$B,\"South\")/10^3","v":124.471},{"$f":"SUMIFS('UT Base'!BT:BT,'UT Base'!$A:$A,$B16,'UT Base'!$B:$B,\"South\")/10^3","v":115.48399999999999},{"$f":"SUMIFS('UT Base'!BU:BU,'UT Base'!$A:$A,$B16,'UT Base'!$B:$B,\"South\")/10^3","v":125.248},{"$f":"SUMIFS('UT Base'!BV:BV,'UT Base'!$A:$A,$B16,'UT Base'!$B:$B,\"South\")/10^3","v":118.461},{"$f":"SUMIFS('UT Base'!BW:BW,'UT Base'!$A:$A,$B16,'UT Base'!$B:$B,\"South\")/10^3","v":108.776},{"$f":"SUMIFS('UT Base'!BX:BX,'UT Base'!$A:$A,$B16,'UT Base'!$B:$B,\"South\")/10^3","v":110.64100000000001},{"$f":"SUMIFS('UT Base'!BY:BY,'UT Base'!$A:$A,$B16,'UT Base'!$B:$B,\"South\")/10^3","v":99.512},{"$f":"SUMIFS('UT Base'!BZ:BZ,'UT Base'!$A:$A,$B16,'UT Base'!$B:$B,\"South\")/10^3","v":87.253},{"$f":"SUMIFS('UT Base'!CA:CA,'UT Base'!$A:$A,$B16,'UT Base'!$B:$B,\"South\")/10^3","v":92.316999999999993},{"$f":"SUMIFS('UT Base'!CB:CB,'UT Base'!$A:$A,$B16,'UT Base'!$B:$B,\"South\")/10^3","v":98.331999999999994},{"$f":"SUMIFS('UT Base'!CC:CC,'UT Base'!$A:$A,$B16,'UT Base'!$B:$B,\"South\")/10^3","v":98.385000000000005},null,{"$f":"SUMIFS('UT Base'!CE:CE,'UT Base'!$A:$A,$B16,'UT Base'!$B:$B,\"South\")/10^3","v":125.53100000000001},{"$f":"SUMIFS('UT Base'!CF:CF,'UT Base'!$A:$A,$B16,'UT Base'!$B:$B,\"South\")/10^3","v":129.29499999999999},{"$f":"SUMIFS('UT Base'!CG:CG,'UT Base'!$A:$A,$B16,'UT Base'!$B:$B,\"South\")/10^3","v":134.95500000000001},{"$f":"SUMIFS('UT Base'!CH:CH,'UT Base'!$A:$A,$B16,'UT Base'!$B:$B,\"South\")/10^3","v":140.434},{"$f":"SUMIFS('UT Base'!CI:CI,'UT Base'!$A:$A,$B16,'UT Base'!$B:$B,\"South\")/10^3","v":150.53800000000001},{"$f":"SUMIFS('UT Base'!CJ:CJ,'UT Base'!$A:$A,$B16,'UT Base'!$B:$B,\"South\")/10^3","v":0},{"$f":"SUMIFS('UT Base'!CK:CK,'UT Base'!$A:$A,$B16,'UT Base'!$B:$B,\"South\")/10^3","v":0},{"$f":"SUMIFS('UT Base'!CL:CL,'UT Base'!$A:$A,$B16,'UT Base'!$B:$B,\"South\")/10^3","v":0},{"$f":"SUMIFS('UT Base'!CM:CM,'UT Base'!$A:$A,$B16,'UT Base'!$B:$B,\"South\")/10^3","v":0},{"$f":"SUMIFS('UT Base'!CN:CN,'UT Base'!$A:$A,$B16,'UT Base'!$B:$B,\"South\")/10^3","v":0},{"$f":"SUMIFS('UT Base'!CO:CO,'UT Base'!$A:$A,$B16,'UT Base'!$B:$B,\"South\")/10^3","v":0},{"$f":"SUMIFS('UT Base'!CP:CP,'UT Base'!$A:$A,$B16,'UT Base'!$B:$B,\"South\")/10^3","v":0}]
[null,"Industrial Products",null,{"$f":"SUM(D18:D21)","v":566.41100000000006},556.89700000000005,636.86500000000001,626.56200000000001,693.66899999999998,738.346,818.25199999999995,843.14800000000014,761.13499999999999,757.34400000000005,716.87299999999993,653.29200000000003,null,{"$f":"SUM(Q18:Q21)","v":715.54700000000003},650.35,714.09699999999998,705.43500000000006,807.22299999999996,794.63599999999997,868.06299999999999,875.25699999999995,864.11400000000003,886.56500000000005,789.83500000000004,795.07099999999991,null,{"$f":"SUM(AD18:AD21)","v":773.52599999999995},757.67800000000011,758.29099999999994,747.43399999999997,769.34800000000007,807.06200000000001,819.87900000000002,858.2829999999999,822.96899999999994,851.62899999999991,799.66300000000001,791.68600000000004,null,{"$f":"SUM(AQ18:AQ21)","v":687.58600000000001},616.00600000000009,682.2890000000001,740.77800000000002,759.57400000000007,812.64099999999996,853.06700000000001,894.11200000000008,831.36200000000008,837.60500000000002,750.08500000000004,576.73599999999999,null,{"$f":"SUM(BD18:BD21)","v":624.00599999999997},643.66600000000005,479.15199999999999,625.11099999999999,614.14700000000005,603.46699999999998,719.77800000000002,755.17600000000004,749.58400000000006,544.39700000000005,487.62099999999998,486.55200000000002,null,{"$f":"SUM(BQ18:BQ21)","v":574.95600000000002},{"$f":"SUM(BR18:BR21)","v":646.95800000000008},{"$f":"SUM(BS18:BS21)","v":725.04},{"$f":"SUM(BT18:BT21)","v":727.32600000000002},{"$f":"SUM(BU18:BU21)","v":785.88499999999999},{"$f":"SUM(BV18:BV21)","v":706.25599999999997},{"$f":"SUM(BW18:BW21)","v":726.61500000000001},{"$f":"SUM(BX18:BX21)","v":745.65599999999995},{"$f":"SUM(BY18:BY21)","v":628.20600000000002},{"$f":"SUM(BZ18:BZ21)","v":637.38199999999995},{"$f":"SUM(CA18:CA21)","v":588.92200000000003},{"$f":"SUM(CB18:CB21)","v":568.39200000000005},null,{"$f":"SUM(CD18:CD21)","v":556.83899999999994},483.65999999999997,641.96400000000006,618.88599999999997,716.55799999999999,0,0,0,0,0,0,0]
[null,"Fuels",null,245.291,280.88200000000001,294.06400000000002,269.53199999999998,271.71699999999998,292.23700000000002,300.24799999999999,301.858,283.62099999999998,288.64800000000002,269.57900000000001,232.73,null,247.35400000000001,229.65199999999999,254.23699999999999,241.363,273.90600000000001,261.33600000000001,328.93200000000002,334.53199999999998,329.464,351.464,290.24099999999999,276.08999999999997,null,263.42899999999997,286.30900000000003,305.23099999999999,256.03899999999999,245.28200000000001,276.26100000000002,295.01900000000001,290.274,282.03899999999999,280.03899999999999,265.96199999999999,269.85500000000002,null,271.74700000000001,272.49200000000002,287.42200000000003,305.56900000000002,301.96800000000002,302.25,321.62099999999998,330.03500000000003,305.88600000000002,325.286,288.99400000000003,280.26100000000002,null,{"$f":"SUMIFS('UT Base'!BE:BE,'UT Base'!$A:$A,$B18,'UT Base'!$B:$B,\"South\")/10^3","v":280.78699999999998},{"$f":"SUMIFS('UT Base'!BF:BF,'UT Base'!$A:$A,$B18,'UT Base'!$B:$B,\"South\")/10^3","v":276.65699999999998},{"$f":"SUMIFS('UT Base'!BG:BG,'UT Base'!$A:$A,$B18,'UT Base'!$B:$B,\"South\")/10^3","v":172.07599999999999},{"$f":"SUMIFS('UT Base'!BH:BH,'UT Base'!$A:$A,$B18,'UT Base'!$B:$B,\"South\")/10^3","v":200.98500000000001},{"$f":"SUMIFS('UT Base'!BI:BI,'UT Base'!$A:$A,$B18,'UT Base'!$B:$B,\"South\")/10^3","v":225.547},{"$f":"SUMIFS('UT Base'!BJ:BJ,'UT Base'!$A:$A,$B18,'UT Base'!$B:$B,\"South\")/10^3","v":246.58},{"$f":"SUMIFS('UT Base'!BK:BK,'UT Base'!$A:$A,$B18,'UT Base'!$B:$B,\"South\")/10^3","v":259.77300000000002},{"$f":"SUMIFS('UT Base'!BL:BL,'UT Base'!$A:$A,$B18,'UT Base'!$B:$B,\"South\")/10^3","v":256.76600000000002},{"$f":"SUMIFS('UT Base'!BM:BM,'UT Base'!$A:$A,$B18,'UT Base'!$B:$B,\"South\")/10^3","v":262.11500000000001},{"$f":"SUMIFS('UT Base'!BN:BN,'UT Base'!$A:$A,$B18,'UT Base'!$B:$B,\"South\")/10^3","v":276.702},{"$f":"SUMIFS('UT Base'!BO:BO,'UT Base'!$A:$A,$B18,'UT Base'!$B:$B,\"South\")/10^3","v":268.245},{"$f":"SUMIFS('UT Base'!BP:BP,'UT Base'!$A:$A,$B18,'UT Base'!$B:$B,\"South\")/10^3","v":242.09100000000001},null,{"$f":"SUMIFS('UT Base'!BR:BR,'UT Base'!$A:$A,$B18,'UT Base'!$B:$B,\"South\")/10^3","v":259.87299999999999},{"$f":"SUMIFS('UT Base'!BS:BS,'UT Base'!$A:$A,$B18,'UT Base'!$B:$B,\"South\")/10^3","v":266.78800000000001},{"$f":"SUMIFS('UT Base'!BT:BT,'UT Base'!$A:$A,$B18,'UT Base'!$B:$B,\"South\")/10^3","v":272.17700000000002},{"$f":"SUMIFS('UT Base'!BU:BU,'UT Base'!$A:$A,$B18,'UT Base'!$B:$B,\"South\")/10^3","v":247.654},{"$f":"SUMIFS('UT Base'!BV:BV,'UT Base'!$A:$A,$B18,'UT Base'!$B:$B,\"South\")/10^3","v":281.95100000000002},{"$f":"SUMIFS('UT Base'!BW:BW,'UT Base'!$A:$A,$B18,'UT Base'!$B:$B,\"South\")/10^3","v":257.29599999999999},{"$f":"SUMIFS('UT Base'!BX:BX,'UT Base'!$A:$A,$B18,'UT Base'!$B:$B,\"South\")/10^3","v":267.46899999999999},{"$f":"SUMIFS('UT Base'!BY:BY,'UT Base'!$A:$A,$B18,'UT Base'!$B:$B,\"South\")/10^3","v":279.86},{"$f":"SUMIFS('UT Base'!BZ:BZ,'UT Base'!$A:$A,$B18,'UT Base'!$B:$B,\"South\")/10^3","v":262.99599999999998},{"$f":"SUMIFS('UT Base'!CA:CA,'UT Base'!$A:$A,$B18,'UT Base'!$B:$B,\"South\")/10^3","v":260.048},{"$f":"SUMIFS('UT Base'!CB:CB,'UT Base'!$A:$A,$B18,'UT Base'!$B:$B,\"South\")/10^3","v":261.72899999999998},{"$f":"SUMIFS('UT Base'!CC:CC,'UT Base'!$A:$A,$B18,'UT Base'!$B:$B,\"South\")/10^3","v":252.96},null,{"$f":"SUMIFS('UT Base'!CE:CE,'UT Base'!$A:$A,$B18,'UT Base'!$B:$B,\"South\")/10^3","v":240.56200000000001},{"$f":"SUMIFS('UT Base'!CF:CF,'UT Base'!$A:$A,$B18,'UT Base'!$B:$B,\"South\")/10^3","v":228.87799999999999},{"$f":"SUMIFS('UT Base'!CG:CG,'UT Base'!$A:$A,$B18,'UT Base'!$B:$B,\"South\")/10^3","v":271.08800000000002},{"$f":"SUMIFS('UT Base'!CH:CH,'UT Base'!$A:$A,$B18,'UT Base'!$B:$B,\"South\")/10^3","v":262.084},{"$f":"SUMIFS('UT Base'!CI:CI,'UT Base'!$A:$A,$B18,'UT Base'!$B:$B,\"South\")/10^3","v":275.64299999999997},{"$f":"SUMIFS('UT Base'!CJ:CJ,'UT Base'!$A:$A,$B18,'UT Base'!$B:$B,\"South\")/10^3","v":0},{"$f":"SUMIFS('UT Base'!CK:CK,'UT Base'!$A:$A,$B18,'UT Base'!$B:$B,\"South\")/10^3","v":0},{"$f":"SUMIFS('UT Base'!CL:CL,'UT Base'!$A:$A,$B18,'UT Base'!$B:$B,\"South\")/10^3","v":0},{"$f":"SUMIFS('UT Base'!CM:CM,'UT Base'!$A:$A,$B18,'UT Base'!$B:$B,\"South\")/10^3","v":0},{"$f":"SUMIFS('UT Base'!CN:CN,'UT Base'!$A:$A,$B18,'UT Base'!$B:$B,\"South\")/10^3","v":0},{"$f":"SUMIFS('UT Base'!CO:CO,'UT Base'!$A:$A,$B18,'UT Base'!$B:$B,\"South\")/10^3","v":0},{"$f":"SUMIFS('UT Base'!CP:CP,'UT Base'!$A:$A,$B18,'UT Base'!$B:$B,\"South\")/10^3","v":0}]
[null,"Wood, pulp and paper",null,45.322000000000003,47.828000000000003,64.436000000000007,64.503,82.876000000000005,90.808000000000007,129.744,131.49199999999999,123.536,134.66800000000001,119.172,116.38,null,121.27200000000001,78.311999999999998,109.82,123.256,143.63200000000001,136.928,138.18799999999999,139.476,147.08799999999999,147.35599999999999,134.036,153.08000000000001,null,143.55099999999999,127.376,76.132000000000005,101.592,97.188000000000002,154.34399999999999,131.16399999999999,171.33799999999999,142.01599999999999,159.96799999999999,140.54,150.36000000000001,null,132.72,123.28,135.744,109.916,119.64400000000001,124.28,101.36799999999999,138.30799999999999,132.744,140.72,142.20400000000001,135.38800000000001,null,{"$f":"SUMIFS('UT Base'!BE:BE,'UT Base'!$A:$A,$B19,'UT Base'!$B:$B,\"South\")/10^3","v":125.13200000000001},{"$f":"SUMIFS('UT Base'!BF:BF,'UT Base'!$A:$A,$B19,'UT Base'!$B:$B,\"South\")/10^3","v":68.468000000000004},{"$f":"SUMIFS('UT Base'!BG:BG,'UT Base'!$A:$A,$B19,'UT Base'!$B:$B,\"South\")/10^3","v":78.962000000000003},{"$f":"SUMIFS('UT Base'!BH:BH,'UT Base'!$A:$A,$B19,'UT Base'!$B:$B,\"South\")/10^3","v":36.43},{"$f":"SUMIFS('UT Base'!BI:BI,'UT Base'!$A:$A,$B19,'UT Base'!$B:$B,\"South\")/10^3","v":80},{"$f":"SUMIFS('UT Base'!BJ:BJ,'UT Base'!$A:$A,$B19,'UT Base'!$B:$B,\"South\")/10^3","v":77.248000000000005},{"$f":"SUMIFS('UT Base'!BK:BK,'UT Base'!$A:$A,$B19,'UT Base'!$B:$B,\"South\")/10^3","v":125.48},{"$f":"SUMIFS('UT Base'!BL:BL,'UT Base'!$A:$A,$B19,'UT Base'!$B:$B,\"South\")/10^3","v":134.76599999999999},{"$f":"SUMIFS('UT Base'!BM:BM,'UT Base'!$A:$A,$B19,'UT Base'!$B:$B,\"South\")/10^3","v":130.94},{"$f":"SUMIFS('UT Base'!BN:BN,'UT Base'!$A:$A,$B19,'UT Base'!$B:$B,\"South\")/10^3","v":118.88800000000001},{"$f":"SUMIFS('UT Base'!BO:BO,'UT Base'!$A:$A,$B19,'UT Base'!$B:$B,\"South\")/10^3","v":113.812},{"$f":"SUMIFS('UT Base'!BP:BP,'UT Base'!$A:$A,$B19,'UT Base'!$B:$B,\"South\")/10^3","v":64.662000000000006},null,{"$f":"SUMIFS('UT Base'!BR:BR,'UT Base'!$A:$A,$B19,'UT Base'!$B:$B,\"South\")/10^3","v":125.504},{"$f":"SUMIFS('UT Base'!BS:BS,'UT Base'!$A:$A,$B19,'UT Base'!$B:$B,\"South\")/10^3","v":120.1},{"$f":"SUMIFS('UT Base'!BT:BT,'UT Base'!$A:$A,$B19,'UT Base'!$B:$B,\"South\")/10^3","v":115.428},{"$f":"SUMIFS('UT Base'!BU:BU,'UT Base'!$A:$A,$B19,'UT Base'!$B:$B,\"South\")/10^3","v":124.348},{"$f":"SUMIFS('UT Base'!BV:BV,'UT Base'!$A:$A,$B19,'UT Base'!$B:$B,\"South\")/10^3","v":126.72799999999999},{"$f":"SUMIFS('UT Base'!BW:BW,'UT Base'!$A:$A,$B19,'UT Base'!$B:$B,\"South\")/10^3","v":114.708},{"$f":"SUMIFS('UT Base'!BX:BX,'UT Base'!$A:$A,$B19,'UT Base'!$B:$B,\"South\")/10^3","v":95.507999999999996},{"$f":"SUMIFS('UT Base'!BY:BY,'UT Base'!$A:$A,$B19,'UT Base'!$B:$B,\"South\")/10^3","v":122.348},{"$f":"SUMIFS('UT Base'!BZ:BZ,'UT Base'!$A:$A,$B19,'UT Base'!$B:$B,\"South\")/10^3","v":85.388000000000005},{"$f":"SUMIFS('UT Base'!CA:CA,'UT Base'!$A:$A,$B19,'UT Base'!$B:$B,\"South\")/10^3","v":82.488},{"$f":"SUMIFS('UT Base'!CB:CB,'UT Base'!$A:$A,$B19,'UT Base'!$B:$B,\"South\")/10^3","v":78.055999999999997},{"$f":"SUMIFS('UT Base'!CC:CC,'UT Base'!$A:$A,$B19,'UT Base'!$B:$B,\"South\")/10^3","v":75.384},null,{"$f":"SUMIFS('UT Base'!CE:CE,'UT Base'!$A:$A,$B19,'UT Base'!$B:$B,\"South\")/10^3","v":67.498000000000005},{"$f":"SUMIFS('UT Base'!CF:CF,'UT Base'!$A:$A,$B19,'UT Base'!$B:$B,\"South\")/10^3","v":16.96},{"$f":"SUMIFS('UT Base'!CG:CG,'UT Base'!$A:$A,$B19,'UT Base'!$B:$B,\"South\")/10^3","v":77.054000000000002},{"$f":"SUMIFS('UT Base'!CH:CH,'UT Base'!$A:$A,$B19,'UT Base'!$B:$B,\"South\")/10^3","v":72.831999999999994},{"$f":"SUMIFS('UT Base'!CI:CI,'UT Base'!$A:$A,$B19,'UT Base'!$B:$B,\"South\")/10^3","v":69.248000000000005},{"$f":"SUMIFS('UT Base'!CJ:CJ,'UT Base'!$A:$A,$B19,'UT Base'!$B:$B,\"South\")/10^3","v":0},{"$f":"SUMIFS('UT Base'!CK:CK,'UT Base'!$A:$A,$B19,'UT Base'!$B:$B,\"South\")/10^3","v":0},{"$f":"SUMIFS('UT Base'!CL:CL,'UT Base'!$A:$A,$B19,'UT Base'!$B:$B,\"South\")/10^3","v":0},{"$f":"SUMIFS('UT Base'!CM:CM,'UT Base'!$A:$A,$B19,'UT Base'!$B:$B,\"South\")/10^3","v":0},{"$f":"SUMIFS('UT Base'!CN:CN,'UT Base'!$A:$A,$B19,'UT Base'!$B:$B,\"South\")/10^3","v":0},{"$f":"SUMIFS('UT Base'!CO:CO,'UT Base'!$A:$A,$B19,'UT Base'!$B:$B,\"South\")/10^3","v":0},{"$f":"SUMIFS('UT Base'!CP:CP,'UT Base'!$A:$A,$B19,'UT Base'!$B:$B,\"South\")/10^3","v":0}]
[null,"Construction",null,63.997999999999998,75.308000000000007,84.034999999999997,85.867000000000004,78.944000000000003,97.022999999999996,102.803,111.39700000000001,105.209,100.83,97.067999999999998,92.293000000000006,null,101.41200000000001,87.427000000000007,94.281999999999996,92.403000000000006,101.154,82.278999999999996,101.848,102.581,93.915999999999997,100.30500000000001,75.057000000000002,86.501999999999995,null,79.734999999999999,78.171999999999997,91.382000000000005,78.183999999999997,82.296999999999997,81.956000000000003,83.495000000000005,82.566999999999993,89.221999999999994,95.337000000000003,95.387,69.846999999999994,null,86.203999999999994,82.105999999999995,82.644000000000005,76.054000000000002,87.521000000000001,90.51,94.313999999999993,103.953,97.713999999999999,100.559,87.456000000000003,79.257999999999996,null,{"$f":"SUMIFS('UT Base'!BE:BE,'UT Base'!$A:$A,$B20,'UT Base'!$B:$B,\"South\")/10^3","v":89.27},{"$f":"SUMIFS('UT Base'!BF:BF,'UT Base'!$A:$A,$B20,'UT Base'!$B:$B,\"South\")/10^3","v":92.811000000000007},{"$f":"SUMIFS('UT Base'!BG:BG,'UT Base'!$A:$A,$B20,'UT Base'!$B:$B,\"South\")/10^3","v":60.804000000000002},{"$f":"SUMIFS('UT Base'!BH:BH,'UT Base'!$A:$A,$B20,'UT Base'!$B:$B,\"South\")/10^3","v":90.418999999999997},{"$f":"SUMIFS('UT Base'!BI:BI,'UT Base'!$A:$A,$B20,'UT Base'!$B:$B,\"South\")/10^3","v":102.468},{"$f":"SUMIFS('UT Base'!BJ:BJ,'UT Base'!$A:$A,$B20,'UT Base'!$B:$B,\"South\")/10^3","v":92.522999999999996},{"$f":"SUMIFS('UT Base'!BK:BK,'UT Base'!$A:$A,$B20,'UT Base'!$B:$B,\"South\")/10^3","v":89.373000000000005},{"$f":"SUMIFS('UT Base'!BL:BL,'UT Base'!$A:$A,$B20,'UT Base'!$B:$B,\"South\")/10^3","v":98.649000000000001},{"$f":"SUMIFS('UT Base'!BM:BM,'UT Base'!$A:$A,$B20,'UT Base'!$B:$B,\"South\")/10^3","v":94.611000000000004},{"$f":"SUMIFS('UT Base'!BN:BN,'UT Base'!$A:$A,$B20,'UT Base'!$B:$B,\"South\")/10^3","v":113.919},{"$f":"SUMIFS('UT Base'!BO:BO,'UT Base'!$A:$A,$B20,'UT Base'!$B:$B,\"South\")/10^3","v":101.962},{"$f":"SUMIFS('UT Base'!BP:BP,'UT Base'!$A:$A,$B20,'UT Base'!$B:$B,\"South\")/10^3","v":86.102999999999994},null,{"$f":"SUMIFS('UT Base'!BR:BR,'UT Base'!$A:$A,$B20,'UT Base'!$B:$B,\"South\")/10^3","v":95.335999999999999},{"$f":"SUMIFS('UT Base'!BS:BS,'UT Base'!$A:$A,$B20,'UT Base'!$B:$B,\"South\")/10^3","v":88.218999999999994},{"$f":"SUMIFS('UT Base'!BT:BT,'UT Base'!$A:$A,$B20,'UT Base'!$B:$B,\"South\")/10^3","v":110.014},{"$f":"SUMIFS('UT Base'!BU:BU,'UT Base'!$A:$A,$B20,'UT Base'!$B:$B,\"South\")/10^3","v":110.886},{"$f":"SUMIFS('UT Base'!BV:BV,'UT Base'!$A:$A,$B20,'UT Base'!$B:$B,\"South\")/10^3","v":111.273},{"$f":"SUMIFS('UT Base'!BW:BW,'UT Base'!$A:$A,$B20,'UT Base'!$B:$B,\"South\")/10^3","v":101.712},{"$f":"SUMIFS('UT Base'!BX:BX,'UT Base'!$A:$A,$B20,'UT Base'!$B:$B,\"South\")/10^3","v":110.006},{"$f":"SUMIFS('UT Base'!BY:BY,'UT Base'!$A:$A,$B20,'UT Base'!$B:$B,\"South\")/10^3","v":114.22499999999999},{"$f":"SUMIFS('UT Base'!BZ:BZ,'UT Base'!$A:$A,$B20,'UT Base'!$B:$B,\"South\")/10^3","v":112.429},{"$f":"SUMIFS('UT Base'!CA:CA,'UT Base'!$A:$A,$B20,'UT Base'!$B:$B,\"South\")/10^3","v":105.066},{"$f":"SUMIFS('UT Base'!CB:CB,'UT Base'!$A:$A,$B20,'UT Base'!$B:$B,\"South\")/10^3","v":107.84},{"$f":"SUMIFS('UT Base'!CC:CC,'UT Base'!$A:$A,$B20,'UT Base'!$B:$B,\"South\")/10^3","v":99.099000000000004},null,{"$f":"SUMIFS('UT Base'!CE:CE,'UT Base'!$A:$A,$B20,'UT Base'!$B:$B,\"South\")/10^3","v":97.650999999999996},{"$f":"SUMIFS('UT Base'!CF:CF,'UT Base'!$A:$A,$B20,'UT Base'!$B:$B,\"South\")/10^3","v":99.384},{"$f":"SUMIFS('UT Base'!CG:CG,'UT Base'!$A:$A,$B20,'UT Base'!$B:$B,\"South\")/10^3","v":105.661},{"$f":"SUMIFS('UT Base'!CH:CH,'UT Base'!$A:$A,$B20,'UT Base'!$B:$B,\"South\")/10^3","v":95.661000000000001},{"$f":"SUMIFS('UT Base'!CI:CI,'UT Base'!$A:$A,$B20,'UT Base'!$B:$B,\"South\")/10^3","v":112.614},{"$f":"SUMIFS('UT Base'!CJ:CJ,'UT Base'!$A:$A,$B20,'UT Base'!$B:$B,\"South\")/10^3","v":0},{"$f":"SUMIFS('UT Base'!CK:CK,'UT Base'!$A:$A,$B20,'UT Base'!$B:$B,\"South\")/10^3","v":0},{"$f":"SUMIFS('UT Base'!CL:CL,'UT Base'!$A:$A,$B20,'UT Base'!$B:$B,\"South\")/10^3","v":0},{"$f":"SUMIFS('UT Base'!CM:CM,'UT Base'!$A:$A,$B20,'UT Base'!$B:$B,\"South\")/10^3","v":0},{"$f":"SUMIFS('UT Base'!CN:CN,'UT Base'!$A:$A,$B20,'UT Base'!$B:$B,\"South\")/10^3","v":0},{"$f":"SUMIFS('UT Base'!CO:CO,'UT Base'!$A:$A,$B20,'UT Base'!$B:$B,\"South\")/10^3","v":0},{"$f":"SUMIFS('UT Base'!CP:CP,'UT Base'!$A:$A,$B20,'UT Base'!$B:$B,\"South\")/10^3","v":0}]
[null,"Steel and mining",null,211.8,152.87899999999999,194.33,206.66,260.13200000000001,258.27800000000002,285.45699999999999,298.40100000000001,248.76900000000001,233.19800000000001,231.054,211.88900000000001,null,245.50899999999999,254.959,255.75800000000001,248.41300000000001,288.53100000000001,314.09300000000002,299.09500000000003,298.66800000000001,293.64600000000002,287.44,290.50099999999998,279.399,null,286.81099999999998,265.82100000000003,285.54599999999999,311.61900000000003,344.58100000000002,294.50099999999998,310.20100000000002,314.10399999999998,309.69200000000001,316.28500000000003,297.774,301.62400000000002,null,196.91499999999999,138.12799999999999,176.47900000000001,249.239,250.441,295.601,335.76400000000001,321.81599999999997,295.01799999999997,271.04000000000002,231.43100000000001,81.828999999999994,null,{"$f":"SUMIFS('UT Base'!BE:BE,'UT Base'!$A:$A,$B21,'UT Base'!$B:$B,\"South\")/10^3","v":128.81700000000001},{"$f":"SUMIFS('UT Base'!BF:BF,'UT Base'!$A:$A,$B21,'UT Base'!$B:$B,\"South\")/10^3","v":205.73},{"$f":"SUMIFS('UT Base'!BG:BG,'UT Base'!$A:$A,$B21,'UT Base'!$B:$B,\"South\")/10^3","v":167.31},{"$f":"SUMIFS('UT Base'!BH:BH,'UT Base'!$A:$A,$B21,'UT Base'!$B:$B,\"South\")/10^3","v":297.27699999999999},{"$f":"SUMIFS('UT Base'!BI:BI,'UT Base'!$A:$A,$B21,'UT Base'!$B:$B,\"South\")/10^3","v":206.13200000000001},{"$f":"SUMIFS('UT Base'!BJ:BJ,'UT Base'!$A:$A,$B21,'UT Base'!$B:$B,\"South\")/10^3","v":187.11600000000001},{"$f":"SUMIFS('UT Base'!BK:BK,'UT Base'!$A:$A,$B21,'UT Base'!$B:$B,\"South\")/10^3","v":245.15199999999999},{"$f":"SUMIFS('UT Base'!BL:BL,'UT Base'!$A:$A,$B21,'UT Base'!$B:$B,\"South\")/10^3","v":264.995},{"$f":"SUMIFS('UT Base'!BM:BM,'UT Base'!$A:$A,$B21,'UT Base'!$B:$B,\"South\")/10^3","v":261.91800000000001},{"$f":"SUMIFS('UT Base'!BN:BN,'UT Base'!$A:$A,$B21,'UT Base'!$B:$B,\"South\")/10^3","v":34.887999999999998},{"$f":"SUMIFS('UT Base'!BO:BO,'UT Base'!$A:$A,$B21,'UT Base'!$B:$B,\"South\")/10^3","v":3.6019999999999999},{"$f":"SUMIFS('UT Base'!BP:BP,'UT Base'!$A:$A,$B21,'UT Base'!$B:$B,\"South\")/10^3","v":93.695999999999998},null,{"$f":"SUMIFS('UT Base'!BR:BR,'UT Base'!$A:$A,$B21,'UT Base'!$B:$B,\"South\")/10^3","v":94.242999999999995},{"$f":"SUMIFS('UT Base'!BS:BS,'UT Base'!$A:$A,$B21,'UT Base'!$B:$B,\"South\")/10^3","v":171.851},{"$f":"SUMIFS('UT Base'!BT:BT,'UT Base'!$A:$A,$B21,'UT Base'!$B:$B,\"South\")/10^3","v":227.42099999999999},{"$f":"SUMIFS('UT Base'!BU:BU,'UT Base'!$A:$A,$B21,'UT Base'!$B:$B,\"South\")/10^3","v":244.43799999999999},{"$f":"SUMIFS('UT Base'!BV:BV,'UT Base'!$A:$A,$B21,'UT Base'!$B:$B,\"South\")/10^3","v":265.93299999999999},{"$f":"SUMIFS('UT Base'!BW:BW,'UT Base'!$A:$A,$B21,'UT Base'!$B:$B,\"South\")/10^3","v":232.54},{"$f":"SUMIFS('UT Base'!BX:BX,'UT Base'!$A:$A,$B21,'UT Base'!$B:$B,\"South\")/10^3","v":253.63200000000001},{"$f":"SUMIFS('UT Base'!BY:BY,'UT Base'!$A:$A,$B21,'UT Base'!$B:$B,\"South\")/10^3","v":229.22300000000001},{"$f":"SUMIFS('UT Base'!BZ:BZ,'UT Base'!$A:$A,$B21,'UT Base'!$B:$B,\"South\")/10^3","v":167.393},{"$f":"SUMIFS('UT Base'!CA:CA,'UT Base'!$A:$A,$B21,'UT Base'!$B:$B,\"South\")/10^3","v":189.78},{"$f":"SUMIFS('UT Base'!CB:CB,'UT Base'!$A:$A,$B21,'UT Base'!$B:$B,\"South\")/10^3","v":141.297},{"$f":"SUMIFS('UT Base'!CC:CC,'UT Base'!$A:$A,$B21,'UT Base'!$B:$B,\"South\")/10^3","v":140.94900000000001},null,{"$f":"SUMIFS('UT Base'!CE:CE,'UT Base'!$A:$A,$B21,'UT Base'!$B:$B,\"South\")/10^3","v":151.12799999999999},{"$f":"SUMIFS('UT Base'!CF:CF,'UT Base'!$A:$A,$B21,'UT Base'!$B:$B,\"South\")/10^3","v":138.43799999999999},{"$f":"SUMIFS('UT Base'!CG:CG,'UT Base'!$A:$A,$B21,'UT Base'!$B:$B,\"South\")/10^3","v":188.161},{"$f":"SUMIFS('UT Base'!CH:CH,'UT Base'!$A:$A,$B21,'UT Base'!$B:$B,\"South\")/10^3","v":188.309},{"$f":"SUMIFS('UT Base'!CI:CI,'UT Base'!$A:$A,$B21,'UT Base'!$B:$B,\"South\")/10^3","v":259.053},{"$f":"SUMIFS('UT Base'!CJ:CJ,'UT Base'!$A:$A,$B21,'UT Base'!$B:$B,\"South\")/10^3","v":0},{"$f":"SUMIFS('UT Base'!CK:CK,'UT Base'!$A:$A,$B21,'UT Base'!$B:$B,\"South\")/10^3","v":0},{"$f":"SUMIFS('UT Base'!CL:CL,'UT Base'!$A:$A,$B21,'UT Base'!$B:$B,\"South\")/10^3","v":0},{"$f":"SUMIFS('UT Base'!CM:CM,'UT Base'!$A:$A,$B21,'UT Base'!$B:$B,\"South\")/10^3","v":0},{"$f":"SUMIFS('UT Base'!CN:CN,'UT Base'!$A:$A,$B21,'UT Base'!$B:$B,\"South\")/10^3","v":0},{"$f":"SUMIFS('UT Base'!CO:CO,'UT Base'!$A:$A,$B21,'UT Base'!$B:$B,\"South\")/10^3","v":0},{"$f":"SUMIFS('UT Base'!CP:CP,'UT Base'!$A:$A,$B21,'UT Base'!$B:$B,\"South\")/10^3","v":0}]