Workbook
Name \p: #REF!
Name ________________DAT1: #REF!
Name ________________DAT10: #REF!
Name ________________DAT11: #REF!
Name ________________DAT12: #REF!
Name ________________DAT13: #REF!
Name ________________DAT14: #REF!
Name ________________DAT15: #REF!
Name ________________DAT16: #REF!
Name ________________DAT17: #REF!
Name ________________DAT18: #REF!
Name ________________DAT19: #REF!
Name ________________DAT2: #REF!
Name ________________DAT20: #REF!
Name ________________DAT21: #REF!
Name ________________DAT22: #REF!
Name ________________DAT3: #REF!
Name ________________DAT4: #REF!
Name ________________DAT5: #REF!
Name ________________DAT6: #REF!
Name ________________DAT7: #REF!
Name ________________DAT8: #REF!
Name ________________DAT9: #REF!
Name ________________IMP1: #REF!
Name _______________DAT1: #REF!
Name _______________DAT10: #REF!
Name _______________DAT11: #REF!
Name _______________DAT12: #REF!
Name _______________DAT13: #REF!
Name _______________DAT14: #REF!
Name _______________DAT15: #REF!
Name _______________DAT16: #REF!
Name _______________DAT17: #REF!
Name _______________DAT18: #REF!
Name _______________DAT19: #REF!
Name _______________DAT2: #REF!
Name _______________DAT20: #REF!
Name _______________DAT21: #REF!
Name _______________DAT22: #REF!
Name _______________DAT3: #REF!
Name _______________DAT4: #REF!
Name _______________DAT5: #REF!
Name _______________DAT6: #REF!
Name _______________DAT7: #REF!
Name _______________DAT8: #REF!
Name _______________DAT9: #REF!
Name _______________IMP1: #REF!
Name _______________REL1: #REF!
Name _______________REL2: #REF!
Name _______________REL3: #REF!
Name ______________DAT1: #REF!
Name ______________DAT10: #REF!
Name ______________DAT11: #REF!
Name ______________DAT12: #REF!
Name ______________DAT13: #REF!
Name ______________DAT14: #REF!
Name ______________DAT15: #REF!
Name ______________DAT16: #REF!
Name ______________DAT17: #REF!
Name ______________DAT18: #REF!

Sheet Início

Sheet Highlights
B6: Financeiros - Valores em milhares de Dólares | C6: 2017 | D6: 2018 | E6: 2019 | F6: 2020 | G6: 1T21 | H6: 2T21 | I6: 3T21 | J6: 4T21 | K6: 2021 | L6: 1T22 | M6: 2T22 | N6: 3T22 | O6: 4T22 | P6: 2022 | Q6: 1T23 | R6: 2T23 | S6: 3T23 | T6: 4T23 | U6: 2023 | V6: 1T24 | W6: 2T24 | X6: 3T24 | Y6: 4T24 | Z6: 2024 | AA6: 1T25 | AB6: 2T25 | AC6: 3T25 | AD6: 4T25 | AE6: 2025 | AF6: 1T26 | AG6: 2T26
B7: Receita Líquida | C7: ='DRE - US$'!H8 -> 178395 | D7: ='DRE - US$'!M8 -> 232094 | E7: ='DRE - US$'!R8 -> 280066 | F7: ='DRE - US$'!W8 -> 253584 | G7: ='DRE - US$'!X8 -> 56903 | H7: ='DRE - US$'!Y8 -> 61575.144 | I7: ='DRE - US$'!Z8 -> 70499.699 | J7: ='DRE - US$'!AA8 -> 71309.896 | K7: ='DRE - US$'!AB8 -> 260287.74 | L7: ='DRE - US$'!AC8 -> 83484.86 | M7: ='DRE - US$'!AD8 -> 89183.64 | ... AG7: ='DRE - US$'!AX8 -> 117308
B8: PSV (%) | C8: 0.81854672 | D8: 0.49602962 | E8: 0.38122092 | F8: 0.35719963 | G8: 0.30100341 | H8: 0.3562196 | I8: 0.45746762 | J8: 0.39330086 | K8: 0.37699787 | L8: 0.39500321 | M8: 0.38082201 | N8: 0.328 | O8: 0.34764985 | P8: 0.36286877 | Q8: 0.35898488 | R8: 0.37429902 | S8: 0.38320112 | T8: 0.42899214 | U8: 0.38636929 | V8: 0.46725164 | W8: 0.43643453 | X8: 0.46745748 | Y8: 0.45476655 | Z8: 0.46 | AA8: 0.46882105 | AB8: 0.47652624 | AC8: 0.46745748 | AD8: 0.4454915 | AE8: 0.46457407 | AF8: 0.519 | AG8: 0.42945296
B9: RSV (%) | C9: 0.07166358 | D9: 0.11152855 | E9: 0.11066856 | F9: 0.10263021 | G9: 0.11399476 | H9: 0.098285687 | I9: 0.054990566 | J9: 0.011608261 | K9: 0.069719818 | L9: 0.026174536 | M9: 0.044804776 | N9: 0.103 | O9: 0.10549761 | P9: 0.069869229 | Q9: 0.10753243 | R9: 0.088909353 | S9: 0.084569448 | T9: 0.09751646 | U9: 0.094631922 | V9: 0.071086754 | W9: 0.088274264 | X9: 0.097351463 | Y9: 0.10259135 | Z9: 0.09 | AA9: 0.10055992 | AB9: 0.13245425 | AC9: 0.097351463 | AD9: 0.091012387 | AE9: 0.10534451 | AF9: 0.099 | AG9: 0.15
B10: AHTS (%) | C10: 0.034411084 | D10: 0.34373122 | E10: 0.46757191 | F10: 0.50219848 | G10: 0.54529755 | H10: 0.50510647 | I10: 0.48754182 | J10: 0.58275959 | K10: 0.53017636 | L10: 0.56882591 | M10: 0.56505672 | N10: 0.557 | O10: 0.53573792 | P10: 0.55665514 | Q10: 0.5215837 | R10: 0.52276028 | S10: 0.50047832 | T10: 0.42691756 | U10: 0.49293496 | V10: 0.40980773 | W10: 0.43069139 | X10: 0.42350998 | Y10: 0.43033348 | Z10: 0.42 | AA10: 0.41005028 | AB10: 0.37679813 | AC10: 0.42350998 | AD10: 0.42483977 | AE10: 0.40879954 | AF10: 0.382 | AG10: 0.42
B11: OSRV (%) | C11: 0.075378621 | D11: 0.048710618 | E11: 0.040538611 | F11: 0.03797168 | G11: 0.039704281 | H11: 0.040388239 | I11: 0 | J11: 0.012331289 | K11: 0.023105952 | L11: 0.0099963409 | M11: 0.0093164947 | N11: 0.012 | O11: 0.011114622 | P11: 0.010606865 | Q11: 0.011898997 | R11: 0.014031349 | S11: 0.031751107 | T11: 0.046573845 | U11: 0.026063825 | V11: 0.051853879 | W11: 0.044599818 | X11: 0.011681072 | Y11: 0.012308617 | Z11: 0.03 | AA11: 0.020568748 | AB11: 0.01422138 | AC11: 0.011681072 | AD11: 0.038656342 | AE11: 0.021281886 | AF11: 0 | AG11: 0
B12: EBITDA | C12: ='DRE - US$'!H34 -> 84568.51 | D12: ='DRE - US$'!M34 -> 138769 | E12: ='DRE - US$'!R34 -> 160771 | F12: ='DRE - US$'!W34 -> 159976 | G12: ='DRE - US$'!X34 -> 36118 | H12: ='DRE - US$'!Y34 -> 47260.615 | I12: ='DRE - US$'!Z34 -> 34580.012 | J12: ='DRE - US$'!AA34 -> 33069.069 | K12: ='DRE - US$'!AB34 -> 151027.7 | L12: ='DRE - US$'!AC34 -> 39741.391 | M12: ='DRE - US$'!AD34 -> 42031.562 | ... AG12: ='DRE - US$'!AX34 -> 47573.749
B13: EBITDA Ajustado | C13: ='DRE - US$'!H38 -> 83704.31 | D13: ='DRE - US$'!M38 -> 143047 | E13: ='DRE - US$'!R38 -> 190591.23 | F13: ='DRE - US$'!W38 -> 172079.05 | G13: ='DRE - US$'!X38 -> 35955.096 | H13: ='DRE - US$'!Y38 -> 47380.615 | I13: ='DRE - US$'!Z38 -> 34355.758 | J13: ='DRE - US$'!AA38 -> 37676.441 | K13: ='DRE - US$'!AB38 -> 155367.91 | L13: ='DRE - US$'!AC38 -> 40039.969 | M13: ='DRE - US$'!AD38 -> 42141.969 | ... AG13: ='DRE - US$'!AX38 -> 55690.837
B14: Margem EBITDA Ajustada (%) | C14: =C13/C7 -> 0.46920771 | D14: =D13/D7 -> 0.61633218 | E14: =E13/E7 -> 0.68052255 | F14: =F13/F7 -> 0.67858795 | G14: =G13/G7 -> 0.63186644 | H14: =H13/H7 -> 0.76947632 | I14: =I13/I7 -> 0.4873178 | J14: =J13/J7 -> 0.52834799 | ... AG14: =AG13/AG7 -> 0.47474031
B15: Lucro/Prejuízo Líquido | C15: ='DRE - US$'!H25 -> -13179 | D15: ='DRE - US$'!M25 -> 6864 | E15: ='DRE - US$'!R25 -> 67924 | F15: ='DRE - US$'!W25 -> 26890 | G15: ='DRE - US$'!X25 -> -3639 | H15: ='DRE - US$'!Y25 -> 24920.407 | I15: ='DRE - US$'!Z25 -> -6374.5735 | J15: ='DRE - US$'!AA25 -> 16053.235 | K15: ='DRE - US$'!AB25 -> 30960.069 | L15: ='DRE - US$'!AC25 -> 7289.8262 | M15: ='DRE - US$'!AD25 -> 4886.33 | ... AG15: ='DRE - US$'!AX25 -> 3849
B16: Dívida Bruta | C16: 944367 | D16: 1002108 | E16: 901264 | F16: 788331 | G16: 799007 | H16: 780618 | I16: 832496 | J16: =K16 -> 857163 | K16: 857163 | L16: 860689 | M16: 848101 | N16: 859451 | O16: =P16 -> 849731 | P16: 849731 | Q16: 838351.54 | R16: 816635.2 | S16: 830787 | T16: =U16 -> 802873 | U16: 802873 | V16: 798412 | W16: 795555 | X16: 774013 | Y16: =Z16 -> 779714 | Z16: 779714 | AA16: 766515 | AB16: 731680 | AC16: 729892 | AD16: 740298 | AE16: 740298 | AF16: 708067 | AG16: 698004
B17: Dívida Líquida | C17: 893876 | D17: 931958 | E17: 835588 | F17: 749260 | G17: 737781 | H17: 729095 | I17: 772989 | J17: =K17 -> 789369 | K17: 789369 | L17: 810655 | M17: 810646 | N17: 813703 | O17: =P17 -> 808088 | P17: 808088 | Q17: 787980.98 | R17: 756360.39 | S17: 739754 | T17: =U17 -> 749397 | U17: 749397 | V17: 726073 | W17: 716437 | X17: 708290 | Y17: =Z17 -> 703640 | Z17: 703640 | AA17: 686350 | AB17: 650909 | AC17: 650590 | AD17: 646766 | AE17: =AD17 -> 646766 | AF17: 659259 | AG17: 640134
B18: Dívida Líquida / EBITDA LTM | C18: =C17/C12 -> 10.569844 | D18: =D17/D12 -> 6.7158948 | E18: =E17/E12 -> 5.1973801 | F18: =F17/F12 -> 4.6835775 | G18: 4.9790655 | H18: 4.5763787 | I18: 5.2705103 | J18: =K17/K12 -> 5.2266506 | K18: =K17/K12 -> 5.2266506 | L18: =L17/(J12+L12+I12+H12) -> 5.2418319 | M18: =M17/(M12+J12+L12+I12) -> 5.4252106 | N18: =N17/(N12+M12+L12+J12) -> 5.1474514 | O18: =P17/P12 -> 4.638902 | P18: =P17/P12 -> 4.638902 | Q18: =Q17/(Q12+O12+N12+M12) -> 4.370718 | R18: =R17/(R12+O12+Q12+N12) -> 4.0420415 | S18: =S17/(S12+R12+Q12+O12) -> 3.9300667 | T18: =U17/U12 -> 3.8266618 | U18: =U17/U12 -> 3.8266618 | V18: =V17/(V12+T12+S12+R12) -> 3.7557102 | W18: =W17/(W12+T12+V12+S12) -> 3.8690039 | X18: =X17/(X12+W12+V12+T12) -> 4.0891373 | Y18: =Z17/Z12 -> 4.6146244 | Z18: =Z17/Z12 -> 4.6146244 | AA18: 4.2384762 | AB18: 3.9094607 | AC18: 3.5684828 | AD18: =AE18 -> 2.951914 | AE18: =AE17/AE12 -> 2.951914 | AF18: =AF17/(AF12+SUM(AB12:AD12)) -> 3.0051753 | AG18: =AG17/(SUM(AF12:AG12)+SUM(AC12:AD12)) -> 2.8878012
B19: Dívida Líquida / EBITDA Ajustado LTM | C19: =C17/C13 -> 10.678972 | D19: =D17/D13 -> 6.5150475 | E19: =E17/E13 -> 4.3841891 | F19: =F17/F13 -> 4.3541617 | G19: 4.6264174 | H19: 4.2663566 | I19: 4.9617857 | J19: =K17/K13 -> 5.0806438 | K19: =K17/K13 -> 5.0806438 | L19: =L17/(L13+J13+I13+H13) -> 5.0839815 | M19: =M17/(M13+L13+J13+I13) -> 5.2566257 | N19: =N17/(N13+M13+L13+J13) -> 5.0097747 | O19: =P17/P13 -> 4.6629723 | P19: =P17/P13 -> 4.6629723 | Q19: =Q17/(O13+Q13+N13+M13) -> 4.3993764 | R19: =R17/(R13+Q13+O13+N13) -> 4.0767305 | S19: =S17/(S13+R13+Q13+O13) -> 3.923621 | T19: =U17/U13 -> 3.9812692 | U19: =U17/U13 -> 3.9812692 | V19: =V17/(T13+V13+S13+R13) -> 3.9187145 | W19: =W17/(W13+V13+T13+S13) -> 4.0146113 | X19: =X17/(X13+W13+V13+T13) -> 4.0904082 | Y19: =Z17/Z13 -> 4.0629795 | Z19: =Z17/Z13 -> 4.0629795 | AA19: 3.7467075 | AB19: 3.4760257 | AC19: 3.2699844 | AD19: =AE19 -> 3.1577217 | AE19: =AE17/AE13 -> 3.1577217 | AF19: =AF17/(AF13+SUM(AB13:AD13)) -> 3.2196138 | AG19: =AG17/(SUM(AF13:AG13)+SUM(AC13:AD13)) -> 2.9822219
B21: Financeiros - Valores em milhares de Reais | C21: 2017 | D21: 2018 | E21: 2019 | F21: 2020 | G21: 1T21 | H21: 2T21 | I21: 3T21 | J21: 4T21 | K21: 2021 | L21: 1T22 | M21: 2T22 | N21: 3T22 | O21: 4T22 | P21: 2022 | Q21: 1T23 | R21: 2T23 | S21: 3T23 | T21: 4T23 | U21: 2023 | V21: 1T24 | W21: 2T24 | X21: 3T24 | Y21: 4T24 | Z21: 2024 | AA21: 1T25 | AB21: 2T25 | AC21: 3T25 | AD21: 4T25 | AE21: 2025 | AF21: 1T26 | AG21: 2T26
B22: Receita Líquida | C22: ='DRE - R$'!D6 -> 569757 | D22: ='DRE - R$'!E6 -> 853593 | E22: ='DRE - R$'!F6 -> 1109344 | F22: ='DRE - R$'!K6 -> 1315888 | G22: ='DRE - R$'!L6 -> 315001 | H22: ='DRE - R$'!M6 -> 321805 | I22: ='DRE - R$'!N6 -> 372532 | J22: ='DRE - R$'!O6 -> 401116 | K22: ='DRE - R$'!P6 -> 1410454 | L22: ='DRE - R$'!Q6 -> 427726 | M22: ='DRE - R$'!R6 -> 446520 | ... AG22: ='DRE - R$'!AL6 -> 593821
B23: PSV (%) | C23: 0.81854672 | D23: 0.49602962 | E23: 0.38122092 | F23: 0.35719963 | G23: 0.30100341 | H23: 0.3562196 | I23: 0.45746762 | J23: 0.39330086 | K23: 0.37699787 | L23: 0.39500321 | M23: 0.38082201 | N23: 0.328 | O23: 0.34764985 | P23: 0.36286877 | Q23: 0.35898488 | R23: 0.37429902 | S23: 0.38320112 | T23: 0.42899214 | U23: 0.38636929 | V23: 0.46725164 | W23: 0.43643453 | X23: 0.46745748 | Y23: 0.45476655 | Z23: 0.46 | AA23: 0.46882105 | AB23: 0.47652624 | AC23: 0.46745748 | AD23: 0.46745748 | AE23: 0.46457407 | AF23: 0.519 | AG23: 0.42945296
B24: RSV (%) | C24: 0.07166358 | D24: 0.11152855 | E24: 0.11066856 | F24: 0.10263021 | G24: 0.11399476 | H24: 0.098285687 | I24: 0.054990566 | J24: 0.011608261 | K24: 0.069719818 | L24: 0.026174536 | M24: 0.044804776 | N24: 0.103 | O24: 0.10549761 | P24: 0.069869229 | Q24: 0.10753243 | R24: 0.088909353 | S24: 0.084569448 | T24: 0.09751646 | U24: 0.094631922 | V24: 0.071086754 | W24: 0.088274264 | X24: 0.097351463 | Y24: 0.10259135 | Z24: 0.09 | AA24: 0.10055992 | AB24: 0.13245425 | AC24: 0.097351463 | AD24: 0.097351463 | AE24: 0.10534451 | AF24: 0.099 | AG24: 0.15
B25: AHTS (%) | C25: 0.034411084 | D25: 0.34373122 | E25: 0.46757191 | F25: 0.50219848 | G25: 0.54529755 | H25: 0.50510647 | I25: 0.48754182 | J25: 0.58275959 | K25: 0.53017636 | L25: 0.56882591 | M25: 0.56505672 | N25: 0.557 | O25: 0.53573792 | P25: 0.55665514 | Q25: 0.5215837 | R25: 0.52276028 | S25: 0.50047832 | T25: 0.42691756 | U25: 0.49293496 | V25: 0.40980773 | W25: 0.43069139 | X25: 0.42350998 | Y25: 0.43033348 | Z25: 0.42 | AA25: 0.41005028 | AB25: 0.37679813 | AC25: 0.42350998 | AD25: 0.42350998 | AE25: 0.40879954 | AF25: 0.382 | AG25: 0.42
B26: OSRV (%) | C26: 0.075378621 | D26: 0.048710618 | E26: 0.040538611 | F26: 0.03797168 | G26: 0.039704281 | H26: 0.040388239 | I26: 0 | J26: 0.012331289 | K26: 0.023105952 | L26: 0.0099963409 | M26: 0.0093164947 | N26: 0.012 | O26: 0.011114622 | P26: 0.010606865 | Q26: 0.011898997 | R26: 0.014031349 | S26: 0.031751107 | T26: 0.046573845 | U26: 0.026063825 | V26: 0.051853879 | W26: 0.044599818 | X26: 0.011681072 | Y26: 0.012308617 | Z26: 0.03 | AA26: 0.020568748 | AB26: 0.01422138 | AC26: 0.011681072 | AD26: 0.011681072 | AE26: 0.021281886 | AF26: 0 | AG26: 0
B27: EBITDA | C27: ='DRE - R$'!D31 -> 267606 | D27: ='DRE - R$'!E31 -> 515780 | E27: ='DRE - R$'!F31 -> 639799 | F27: ='DRE - R$'!K31 -> 831636 | G27: ='DRE - R$'!L31 -> 200628 | H27: ='DRE - R$'!M31 -> 247944.74 | I27: ='DRE - R$'!N31 -> 185422 | J27: ='DRE - R$'!O31 -> 185424.29 | K27: ='DRE - R$'!P31 -> 819419.03 | L27: ='DRE - R$'!Q31 -> 202696.59 | M27: ='DRE - R$'!R31 -> 211159.71 | ... AG27: ='DRE - R$'!AL31 -> 239141.64
B28: EBITDA Ajustado | C28: ='DRE - R$'!D35 -> 264752.4 | D28: ='DRE - R$'!E35 -> 532009.6 | E28: ='DRE - R$'!F35 -> 757950.32 | F28: ='DRE - R$'!K35 -> 892145.24 | G28: ='DRE - R$'!L35 -> 199892.35 | H28: ='DRE - R$'!M35 -> 248355.74 | I28: ='DRE - R$'!N35 -> 182682.11 | J28: ='DRE - R$'!O35 -> 212679.34 | K28: ='DRE - R$'!P35 -> 843609.54 | L28: ='DRE - R$'!Q35 -> 204454.83 | M28: ='DRE - R$'!R35 -> 212055.15 | ... AG28: ='DRE - R$'!AL35 -> 280641.63
B29: Margem EBITDA Ajustada (%) | C29: =C28/C22 -> 0.46467599 | D29: =D28/D22 -> 0.62325909 | E29: =E28/E22 -> 0.68324192 | F29: =F28/F22 -> 0.67797962 | G29: =G28/G22 -> 0.63457687 | H29: =H28/H22 -> 0.7717585 | I29: =I28/I22 -> 0.49037964 | J29: =J28/J22 -> 0.53021904 | ... AG29: =AG28/AG22 -> 0.47260308
B30: Lucro/Prejuízo Líquido | C30: ='DRE - R$'!D23 -> -43714 | D30: ='DRE - R$'!E23 -> -359054 | E30: ='DRE - R$'!F23 -> 285932 | F30: ='DRE - R$'!K23 -> 158911 | G30: ='DRE - R$'!L23 -> -19161 | H30: ='DRE - R$'!M23 -> 130879.88 | I30: ='DRE - R$'!N23 -> -34457 | J30: ='DRE - R$'!O23 -> 95540.4 | K30: ='DRE - R$'!P23 -> 172802.28 | L30: ='DRE - R$'!Q23 -> 16137 | M30: ='DRE - R$'!R23 -> 33196 | ... AG30: ='DRE - R$'!AL23 -> 15284
B31: Dívida Bruta | C31: 3123966 | D31: 3882970 | E31: 3632721 | F31: 4096721 | G31: 4552186 | H31: 3904806 | I31: 4528277 | J31: 4783397 | K31: 4783397 | L31: 4077773 | M31: 4442351 | N31: 4646709 | O31: 4433644 | P31: 4433644 | Q31: 4259161.2 | R31: 3935528.4 | S31: 4160251 | T31: 3886952 | U31: 3886952 | V31: 3989024 | W31: 4422410 | X31: 4216898 | Y31: 4828225 | Z31: 4828225 | AA31: 4401480 | AB31: 3992852 | AC31: 3881998 | AD31: =AE31 -> 4073415 | AE31: ='BP - R$'!AA40+'BP - R$'!AA41+'BP - R$'!AA52+'BP - R$'!AA53 -> 4073415 | AF31: ='BP - R$'!AB40+'BP - R$'!AB41+'BP - R$'!AB52+'BP - R$'!AB53 -> 3695685 | AG31: ='BP - R$'!AC40+'BP - R$'!AC41+'BP - R$'!AC52+'BP - R$'!AC53 -> 3613288
B32: Dívida Líquida | C32: 2956942 | D32: 3611149 | E32: 3368006 | F32: 3893678 | G32: 4203363 | H32: 3647026 | I32: 4204595 | J32: 4405071 | K32: 4405071 | L32: 3840721 | M32: 4246167 | N32: 4399366 | O32: 4216364 | P32: 4216364 | Q32: 4003258.6 | R32: 3645052 | S32: 3704395 | T32: 3628060 | U32: 3628060 | V32: 3627603 | W32: 3982601 | X32: 3858832 | Y32: 4357150 | Z32: 4357150 | AA32: 3941161 | AB32: 3552076 | AC32: 3460222 | AD32: =AE32 -> 3558761 | AE32: =AE31-'BP - R$'!AA10-'BP - R$'!AA11-'BP - R$'!AA24 -> 3558761 | AF32: =AF31-'BP - R$'!AB10-'BP - R$'!AB11-'BP - R$'!AB24 -> 3440942 | AG32: =AG31-'BP - R$'!AC10-'BP - R$'!AC11-'BP - R$'!AC24 -> 3313717
B33: Dívida Líquida / EBITDA LTM | C33: 11.04961 | D33: 7.0013358 | E33: 5.2641627 | F33: 4.6819498 | G33: 5.1626696 | H33: 4.4610922 | I33: 5.3644288 | J33: 5.3758434 | K33: 5.3758434 | L33: 4.6753249 | M33: 5.4111801 | N33: 5.3180959 | O33: 4.6781822 | P33: 4.6781822 | Q33: 4.2685709 | R33: 3.7796195 | S33: 3.8850415 | T33: 3.7430257 | U33: 3.7430257 | V33: 3.8332607 | W33: 4.2941391 | X33: 4.3142639 | Y33: 5.1017744 | Z33: 5.1017744 | AA33: 4.2624587 | AB33: 3.6908246 | AC33: 3.3333536 | AD33: =AE33 -> 2.9224573 | AE33: =AE32/AE27 -> 2.9224573 | AF33: =AF32/(AF27+SUM(AB27:AD27)) -> 2.8897388 | AG33: =AG32/(SUM(AF27:AG27)+SUM(AC27:AD27)) -> 2.8242982
B34: Dívida Líquida / EBITDA Ajustado LTM | C34: 11.168682 | D34: 6.7877592 | E34: 4.4435944 | F34: 4.3643963 | G34: 4.8279823 | H34: 4.1843663 | I34: 5.0408097 | J34: 5.2216874 | K34: 5.2216874 | L34: 4.5282342 | M34: 5.2300978 | N34: 5.1510562 | O34: 4.6980924 | P34: 4.6980924 | Q34: 4.2935778 | R34: 3.8141882 | S34: 3.8875605 | T34: 3.8890099 | U34: 3.8890099 | V34: 3.9961883 | W34: 4.4424005 | X34: 4.2815115 | Y34: 4.4948768 | Z34: 4.4948768 | AA34: 3.778295 | AB34: 3.2952912 | AC34: 3.0596432 | AD34: =AE34 -> 3.123574 | AE34: =AE32/AE28 -> 3.123574 | AF34: =AF32/(AF28+SUM(AB28:AD28)) -> 3.0991981 | AG34: =AG32/(SUM(AF28:AG28)+SUM(AC28:AD28)) -> 2.9272326
B36: Backlog | C36: 2017 | D36: 2018 | E36: 2019 | F36: 2020 | G36: 1T21 | H36: 2T21 | I36: 3T21 | J36: 4T21 | K36: 2021 | L36: 1T22 | M36: 2T22 | N36: 3T22 | O36: 4T22 | P36: 2022 | Q36: 1T23 | R36: 2T23 | S36: 3T23 | T36: 4T23 | U36: 2023 | V36: 1T24 | W36: 2T24 | X36: 3T24 | Y36: 4T24 | Z36: 2024 | AA36: 1T25 | AB36: 2T25 | AC36: 3T25 | AD36: 4T25 | AE36: 2025 | AF36: 1T26 | AG36: 2T26
B37: Backlog (US$ MM) | C37: N/A | D37: N/A | E37: N/A | F37: 800 | G37: 728 | H37: 797 | I37: 880 | J37: =K37 -> 897 | K37: 897 | L37: 837 | M37: 882 | N37: 819 | O37: =P37 -> 711 | P37: 711 | Q37: 763 | R37: 716 | S37: 711 | T37: =U37 -> 667 | U37: 667 | V37: 621 | W37: 667 | X37: 601 | Y37: =Z37 -> 649 | Z37: 649 | AA37: 660 | AB37: 1071 | AC37: 1325 | AD37: 1186 | AE37: 1186 | AF37: 1193 | AG37: 1089
B39: Operacionais | C39: 2017 | D39: 2018 | E39: 2019 | F39: 2020 | G39: 1T21 | H39: 2T21 | I39: 3T21 | J39: 4T21 | K39: 2021 | L39: 1T22 | M39: 2T22 | N39: 3T22 | O39: 4T22 | P39: 2022 | Q39: 1T23 | R39: 2T23 | S39: 3T23 | T39: 4T23 | U39: 2023 | V39: 1T24 | W39: 2T24 | X39: 3T24 | Y39: 4T24 | Z39: 2024 | AA39: 1T25 | AB39: 2T25 | AC39: 3T25 | AD39: 4T25 | AE39: 2025 | AF39: 1T26 | AG39: 2T26
B40: Taxa de ocupação da frota¹ | C40: 0.85 | D40: 0.75 | E40: 0.78 | F40: 0.75 | G40: 0.63 | H40: 0.68 | I40: 0.735 | J40: 0.765 | K40: 0.71 | L40: 0.8 | M40: 0.825 | N40: 0.79900972 | O40: 0.802 | P40: =AVERAGE(O40,N40,M40,L40) -> 0.80650243 | Q40: 0.85 | R40: 0.84 | S40: 0.88759387 | T40: 0.887 | U40: 0.864 | V40: 0.866 | W40: 0.817 | X40: 0.732 | Y40: 0.78 | Z40: 0.797 | AA40: 0.775 | AB40: 0.724 | AC40: 0.747 | AD40: 0.703 | AE40: 0.737 | AF40: 0.71 | AG40: 0.77
B41: Downtime Operacional | C41: 0.031 | D41: 0.037 | E41: 0.034 | F41: 0.021 | G41: 0.018 | H41: 0.031 | I41: 0.021 | J41: 0.039 | K41: 0.026 | L41: 0.063 | M41: 0.026 | N41: 0.042 | O41: 0.018 | P41: 0.036 | Q41: 0.017 | R41: 0.053 | S41: 0.062 | T41: 0.051 | U41: 0.046 | V41: 0.035 | W41: 0.032 | X41: 0.033 | Y41: 0.05 | Z41: 0.037 | AA41: 0.025 | AB41: 0.03 | AC41: 0.0288 | AD41: 0.053 | AE41: 0.04 | AF41: 0.066 | AG41: 0.046
B42: Nº de Embarcações | C42: 28 | D42: 33 | E42: 34 | F42: 35 | G42: 35 | H42: 37 | I42: 40 | J42: 42 | K42: 42 | L42: 44 | M42: 44 | N42: 44 | O42: 44 | P42: 44 | Q42: 44 | R42: 44 | S42: 44 | T42: 44 | U42: 44 | V42: 44 | W42: 45 | X42: 45 | Y42: 45 | Z42: 45 | AA42: 45 | AB42: 45 | AC42: 45 | AD42: 45 | AE42: 45 | AF42: 45 | AG42: 45
B44: ¹A taxa de ocupação é calculada considerando os dias em tempo operacional de contrato divido pelo total de dias disponíveis no período, considerando todas as embarcações da frota. Vale ressaltar que a taxa de ocupação não leva em consideração o downtime, contabilizando somente o tempo operacional dos contratos vigentes no período (o tempo de contrato equivale a soma do tempo em uptime e em downtime).

Sheet BP - US$ 
B6: BS – Amounts in USD thousands | C6: BP - Valores em milhares de Dólares | D6: 2017 | E6: 2018 | F6: 2019 | G6: 2020 | H6: 3M21 | I6: 6M21 | J6: 9M21 | K6: 2021 | L6: 3M22 | M6: 6M22 | N6: 9M22 | O6: 2022 | P6: 3M23 | Q6: 6M23 | R6: 9M23 | S6: 2023 | T6: 3M24 | U6: 6M24 | V6: 9M24 | W6: 2024 | X6: 3M25 | Y6: 6M25 | Z6: 9M25 | AA6: 2025 | AB6: 3M26 | AC6: 6M26
B8: ASSETS | C8: ATIVO | D8: =D9+D23 -> 1577014 | E8: =E9+E23 -> 1221815 | F8: 1142450 | G8: 1055357 | H8: 1075644 | I8: 1086481 | J8: 1188550 | K8: 1230687.3 | L8: 1274369.3 | M8: 1261795.3 | N8: 1272889.8 | O8: 1266319.5 | P8: 1258872.9 | Q8: 1245471 | R8: 1263689 | S8: 1251694 | T8: 1242552 | U8: 1232406 | V8: 1198260 | W8: =W9+W23 -> 1210807 | X8: =X9+X23 -> 1232663 | Y8: 1209891 | Z8: =Z9+Z23 -> 1218403 | AA8: =AA9+AA23 -> 1247671 | AB8: =AB9+AB23 -> 1225624 | AC8: 1218363
B9: CURRENT ASSETS | C9: CIRCULANTE | D9: 67094 | E9: 82036.4 | F9: 73455 | G9: 75864.4 | H9: 103886.58 | I9: 103420.08 | J9: 104881.29 | K9: 102847.12 | L9: 127426 | M9: 99669.547 | N9: 110870.56 | O9: 108946 | P9: 133155.02 | Q9: 131774.98 | R9: 164799 | S9: 165786 | T9: 173632 | U9: 176315 | V9: 152344 | W9: 161378 | X9: 176604 | Y9: 154721 | Z9: 159457 | AA9: 176174 | AB9: =SUM(AB10:AB21) -> 158512 | AC9: 161798
B10: Cash and cash equivalents | C10: Caixa e equivalentes de caixa | D10: 22732 | E10: 33924 | F10: 26359 | G10: 19672 | H10: 42311 | I10: 31838 | J10: 39935 | K10: 35343 | L10: 24445 | M10: 6071 | N10: 20749 | O10: 13057 | P10: 26053.73 | Q10: 22972.37 | R10: 11885 | S10: 11505 | T10: 18796 | U10: 10247 | V10: 9821 | W10: 7532 | X10: 10792 | Y10: 10729 | Z10: 15685 | AA10: 8622 | AB10: 10592 | AC10: 7870
B11: Short-term financial aplications | C11: Aplicações financeiras de curto prazo | D11: 0 | E11: 0 | F11: 0 | G11: 0 | H11: 0 | I11: 0 | J11: 0 | K11: 13015 | L11: 0 | M11: 12307 | N11: 1850 | O11: 0 | P11: 0 | Q11: 12361.8 | R11: 53800 | S11: 16682 | T11: 27289 | U11: 42926 | V11: 29416 | W11: 39823 | X11: 39841 | Y11: 37468 | Z11: 32262 | AA11: 48207 | AB11: 8959 | AC11: 26032
B12: Trade receivables | C12: Contas a receber | D12: 23946 | E12: 26543 | F12: 27948 | G12: 34431 | H12: 36798 | I12: 40383 | J12: 39930 | K12: 33794 | L12: 40098 | M12: 46282 | N12: 52755 | O12: 58591 | P12: 61265.51 | Q12: 58775 | R12: 61159 | S12: 75405 | T12: 67342 | U12: 70254 | V12: 69719 | W12: 71083 | X12: 86468 | Y12: 66697 | Z12: 74303 | AA12: 70851 | AB12: 81254 | AC12: 73894
B13: Inventories | C13: Estoques | D13: 1037 | E13: 0 | F13: 208 | G13: 429 | H13: 477 | I13: 571 | J13: 937 | K13: 725 | L13: 1839 | M13: 1004 | N13: 973 | O13: 1519 | P13: 1514.71 | Q13: 1510.44 | R13: 1553 | S13: 2115 | T13: 2024 | U13: 1919 | V13: 1965 | W13: 2214 | X13: 1960 | Y13: 2082 | Z13: 3058 | AA13: 2887 | AB13: 2661 | AC13: 2896
B14: Other recoverable taxes | C14: Outros tributos a recuperar | D14: 11717 | E14: 10154 | F14: 9787 | G14: 6263 | H14: 5553 | I14: 10976 | J14: 10602 | K14: 8147.1203 | L14: 41774 | M14: 12806.547 | N14: 11542.559 | O14: 12307 | P14: 14459.06 | Q14: 13149.13 | R14: 12440 | S14: 31892 | T14: 16883 | U14: 15291 | V14: 20826 | W14: 24337 | X14: 20327 | Y14: 19058 | Z14: 19846 | AA14: 26209 | AB14: 29731 | AC14: 29753
B15: Income Taxes | C15: Tributos sobre o lucro | D15: 0 | E15: 0 | F15: 0 | G15: 0 | H15: 0 | I15: 0 | J15: 0 | K15: 0 | L15: 0 | M15: 0 | N15: 0 | O15: 1160 | P15: 0 | Q15: 0 | R15: 0 | S15: 1827 | T15: 6861 | U15: 2781 | V15: 1728 | W15: 1432 | X15: 1967 | Y15: 3396 | Z15: 2030 | AA15: 1582 | AB15: 5487 | AC15: 1368
B16: Derivative financial instruments | C16: Instrumentos financeiros derivativos | D16: 0 | E16: 1387.8 | F16: 406.8 | G16: 519 | H16: 178 | I16: 0 | J16: 0 | K16: 0 | L16: 0 | M16: 0 | N16: 112 | O16: 0 | P16: 0 | Q16: 338.43792 | R16: 408 | S16: 0 | T16: 261 | U16: 3468 | V16: 2 | W16: 374 | X16: 24 | Y16: 483 | Z16: 752 | AA16: 457 | AB16: 5 | AC16: 30
B17: Prepaid expenses | C17: Despesas antecipadas | D17: 1955.6 | E17: 4258 | F17: 1089.6 | G17: 1190 | H17: 4702 | I17: 3998 | J17: 2744 | K17: 1435 | L17: 387 | M17: 5541 | N17: 4356 | O17: 3399 | P17: 3239.26 | Q17: 2627.69 | R17: 1361 | S17: 5163 | T17: 5058 | U17: 3428 | V17: 1693 | W17: 3621 | X17: 3839 | Y17: 2977 | Z17: 1922 | AA17: 5062 | AB17: 5025 | AC17: 3932
B18: Other assets | C18: Outros ativos | D18: 5706 | E18: 5769.6 | F18: 7656.6 | G18: 6398 | H18: 6296 | I18: 6951 | J18: 6979 | K18: 4706.5054 | L18: 8773 | M18: 4414.3964 | N18: 5091.025 | O18: 5323 | P18: 5578.75 | Q18: 8684.4 | R18: 10545 | S18: 11164 | T18: 11476 | U18: 9687 | V18: 9485 | W18: 5104 | X18: 5903 | Y18: 7392 | Z18: 5975 | AA18: 5482 | AB18: 7771 | AC18: 9743
B19: Receivable on assets sale | C19: Contas a receber sobre venda de ativo | D19: 0 | E19: 0 | F19: 0 | G19: 6963 | H19: 6401 | I19: 7346 | J19: 701 | K19: 695.49462 | L19: 839 | M19: 780.60362 | N19: 772.97501 | O19: 0 | P19: 0 | Q19: 0 | R19: 0 | S19: 0 | T19: 0 | U19: 0 | V19: 0 | W19: 0 | X19: 0 | Y19: 0 | Z19: 0 | AA19: 0 | AB19: 0 | AC19: 0
B20: Vessels Mobilization | C20: Mobilização de embarcações | D20: 0 | E20: 0 | F20: 0 | G20: 0 | H20: 1171 | I20: 1357 | J20: 3053 | K20: 4986 | L20: 9271 | M20: 10463 | N20: 12669 | O20: 13590 | P20: 14348.45 | Q20: 11355.71 | R20: 11648 | S20: 10033 | T20: 17642 | U20: 16314 | V20: 7693 | W20: 5858 | X20: 5483 | Y20: 4439 | Z20: 3624 | AA20: 6815 | AB20: 7027 | AC20: 6280
B21: Asset classified as held for sale | C21: Ativo classificado como mantido para venda | D21: 0 | E21: 0 | F21: 0 | G21: 0 | H21: 0 | I21: 0 | J21: 0 | K21: 0 | L21: 0 | M21: 0 | N21: 0 | O21: 0 | P21: 0 | Q21: 0 | R21: 0 | S21: 0 | T21: 0 | U21: 0 | V21: 0 | W21: 0 | X21: 0 | Y21: 0 | Z21: 0 | AA21: 0 | AB21: 0 | AC21: 0
B23: NON‑CURRENT ASSETS | C23: NÃO CIRCULANTE | D23: 1509920 | E23: 1139778.6 | F23: 1068995 | G23: 979493 | H23: 971757.08 | I23: 983061 | J23: 1083668.3 | K23: 1127840.1 | L23: 1146943.3 | M23: 1162125.7 | N23: 1162019.2 | O23: 1157373.5 | P23: 1125717.7 | Q23: 1113695.8 | R23: 1098890 | S23: 1085908 | T23: 1068920 | U23: 1056090 | V23: 1045916 | W23: 1049429 | X23: 1056059 | Y23: 1055170 | Z23: 1058946 | AA23: 1071497 | AB23: =SUM(AB24:AB35) -> 1067112 | AC23: 1056565
B24: Restricted financial investments | C24: Aplicações financeiras restritas | D24: 27759 | E24: 36227 | F24: 39316 | G24: 19399 | H24: 18915 | I24: 19685 | J24: 19572 | K24: 19436 | L24: 25589 | M24: 19077 | N24: 23149 | O24: 28586 | P24: 24316.83 | Q24: 24940.64 | R24: 25348 | S24: 25289 | T24: 26254 | U24: 25945 | V24: 26486 | W24: 28719 | X24: 29532 | Y24: 32574 | Z24: 31355 | AA24: 36703 | AB24: 29257 | AC24: 23968
B25: Trade receivables | C25: Contas a receber | D25: 0 | E25: 0 | F25: 0 | G25: 1948 | H25: 0 | I25: 0 | J25: 0 | K25: 1559 | L25: 0 | M25: 2096 | N25: 2512 | O25: 3303 | P25: 3822.84 | Q25: 4660.17 | R25: 5430 | S25: 4767 | T25: 6729 | U25: 6136 | V25: 4259 | W25: 2695 | X25: 3492 | Y25: 5962 | Z25: 8615 | AA25: 4922 | AB25: 6460 | AC25: 6136
B26: Indemnity assets | C26: Ativo indenizatório | D26: 10025 | E26: 10267 | F26: 4070 | G26: 3541 | H26: 3230 | I26: 4002 | J26: 3508 | K26: 4297 | L26: 5062 | M26: 4977 | N26: 4824 | O26: 6011 | P26: 6034.16 | Q26: 5356.41 | R26: 5421 | S26: 5608 | T26: 5091 | U26: 5151 | V26: 5304 | W26: 3622 | X26: 4272 | Y26: 3831 | Z26: 3483 | AA26: 1750 | AB26: 1824 | AC26: 4197
B27: Other recoverable taxes | C27: Outros tributos a recuperar | D27: 20222 | E27: 19099 | F27: 17397 | G27: 11133 | H27: 9869 | I27: 19513 | J27: 18847 | K27: 24354.88 | L27: 1051 | M27: 22768.453 | N27: 20521.441 | O27: 21879 | P27: 25704.99 | Q27: 23376.23 | R27: 22116 | S27: 6594 | T27: 5067 | U27: 3857 | V27: 4220 | W27: 1748 | X27: 1359 | Y27: 1217 | Z27: 1540 | AA27: 2061 | AB27: 879 | AC27: 886
B28: Income Taxes | C28: Tributos sobre o lucro | D28: 0 | E28: 0 | F28: 0 | G28: 0 | H28: 0 | I28: 0 | J28: 0 | K28: 0 | L28: 0 | M28: 0 | N28: 0 | O28: 2062 | P28: 0 | Q28: 0 | R28: 0 | S28: 143 | T28: 536 | U28: 217 | V28: 135 | W28: 0 | X28: 0 | Y28: 0 | Z28: 0 | AA28: 0 | AB28: 0 | AC28: 0
B29: Deferred income tax and social contribution | C29: Imposto de renda e contribuição social diferidos | D29: 0 | E29: 0 | F29: 336 | G29: 4576 | H29: 5457 | I29: 271 | J29: 249 | K29: 14704.268 | L29: 22068.309 | M29: 23309.264 | N29: 25774.775 | O29: 23422.494 | P29: 21371.34 | Q29: 18702.49 | R29: 22299 | S29: 19986 | T29: 23684 | U29: 29334 | V29: 25733 | W29: 23838 | X29: 27765 | Y29: 29026 | Z29: 25750 | AA29: 17941 | AB29: 16006 | AC29: 17165
B30: Judicial deposits | C30: Depósitos judiciais | D30: 2556 | E30: 2297 | F30: 3267.2 | G30: 4309 | H30: 4252 | I30: 5362 | J30: 5507 | K30: 5818 | L30: 7318 | M30: 6926 | N30: 7307 | O30: 8132 | P30: 8311.83 | Q30: 9174.97 | R30: 9374 | S30: 10197 | T30: 10315 | U30: 9739 | V30: 12876 | W30: 11748 | X30: 13031 | Y30: 14234 | Z30: 15425 | AA30: 15982 | AB30: 20233 | AC30: 20687
B31: PP&E | C31: Imobilizado | D31: 1441075 | E31: 1067220 | F31: 1001750.4 | G31: 933009 | H31: 927829 | I31: 926070 | J31: 1011624 | K31: 1028115 | L31: 1033322 | M31: 1029684 | N31: 1026463 | O31: 1026623 | P31: 1011378.4 | Q31: 995252.19 | R31: 980246 | S31: 985659 | T31: 975041 | U31: 962634 | V31: 948517 | W31: 960466 | X31: 946460 | Y31: 937375 | Z31: 938886 | AA31: 960088 | AB31: 957962 | AC31: 951230
B32: Intangible | C32: Intangível | D32: 8283 | E32: 4668 | F32: 2859.4 | G32: 1578 | H32: 1368 | I32: 1175 | J32: 14240 | K32: 7281 | L32: 14001 | M32: 13937 | N32: 13887 | O32: 4664 | P32: 4134.02 | Q32: 3421.55 | R32: 4031 | S32: 4488 | T32: 3985 | U32: 3486 | V32: 3335 | W32: 2811 | X32: 2761 | Y32: 2695 | Z32: 2642 | AA32: 2694 | AB32: 2731 | AC32: 2682
B33: Derivative financial instruments | C33: Instrumentos financeiros derivativos | D33: 0 | E33: 0 | F33: 0 | G33: 0 | H33: 0 | I33: 0 | J33: 0 | K33: 0 | L33: 0 | M33: 0 | N33: 0 | O33: 0 | P33: 0 | Q33: 1651.1039 | R33: 829 | S33: 1207 | T33: 695 | U33: 1059 | V33: 0 | W33: 0 | X33: 0 | Y33: 305 | Z33: 1442 | AA33: 682 | AB33: 2815 | AC33: 3659
B34: Vessels Mobilization | C34: Mobilização de embarcações | D34: 0 | E34: 0 | F34: 0 | G34: 0 | H34: 837 | I34: 4510 | J34: 7985 | K34: 12164 | L34: 17933 | M34: 21712 | N34: 22373 | O34: 19644 | P34: 16535.14 | Q34: 18411.93 | R34: 16838 | S34: 16715 | T34: 7482 | U34: 5705 | V34: 13438 | W34: 13373 | X34: 12890 | Y34: 14999 | Z34: 18070 | AA34: 18150 | AB34: 19635 | AC34: 17860
B35: Right of use | C35: Direito de uso | D35: 0 | E35: 0 | F35: 0 | G35: 0 | H35: 0 | I35: 2473 | J35: 2136 | K35: 10111 | L35: 20599 | M35: 17639 | N35: 15208 | O35: 13047 | P35: 10803.85 | Q35: 8748.37 | R35: 6958 | S35: 5255 | T35: 4041 | U35: 2827 | V35: 1613 | W35: 409 | X35: 14497 | Y35: 12952 | Z35: 11738 | AA35: 10524 | AB35: 9310 | AC35: 8095
B37: LIABILITIES AND EQUITY | C37: PASSIVO E PATRIMÔNIO LÍQUIDO | D37: =D38+D50+D60-2 -> 1577013.6 | E37: 1221815 | F37: 1142450 | G37: 1055356 | H37: 1075644 | I37: 1086481 | J37: 1188550 | K37: 1230687.3 | L37: 1274369.3 | M37: 1261795.3 | N37: 1272889.8 | O37: 1266319.5 | P37: 1258872.9 | Q37: 1245471.3 | R37: 1263689 | S37: 1251694 | T37: 1242552 | U37: 1232406 | V37: 1198260 | W37: 1210806 | X37: =X38+X50+X60 -> 1232663 | Y37: 1209891 | Z37: =Z38+Z50+Z60 -> 1218403 | AA37: =AA38+AA50+AA60 -> 1247671 | AB37: =AB38+AB50+AB60 -> 1225624 | AC37: 1218363
B38: CURRENT LIABILITIES | C38: CIRCULANTE | D38: 90178 | E38: 127395.4 | F38: 98849 | G38: 76486 | H38: 87988 | I38: 93523 | J38: 125164.3 | K38: 142438 | L38: 185544 | M38: 199478 | N38: 203350 | O38: 222379 | P38: 218772.96 | Q38: 233883.43 | R38: 199264 | S38: 160031 | T38: 177991 | U38: 191904 | V38: 187612 | W38: 183240 | X38: 189327 | Y38: 188989 | Z38: 180311 | AA38: 188620 | AB38: =SUM(AB39:AB48) -> 197193 | AC38: 195186
B39: Suppliers and other payables | C39: Fornecedores e outras contas a pagar | D39: 9581 | E39: 11374 | F39: 8287 | G39: 5531 | H39: 13946 | I39: 13226 | J39: 21204 | K39: 21075 | L39: 21313.568 | M39: 23368.132 | N39: 18915.058 | O39: 17322 | P39: 17521.54 | Q39: 19674.71 | R39: 19913 | S39: 28313 | T39: 26102 | U39: 24931 | V39: 21590 | W39: 22290 | X39: 24212 | Y39: 26164 | Z39: 25448 | AA39: 34100 | AB39: 35722 | AC39: 32768
B40: Loans and financing | C40: Empréstimos e financiamentos | D40: 67978 | E40: 104711 | F40: 81682 | G40: 62690 | H40: 66850 | I40: 68188 | J40: 97665 | K40: 107685 | L40: 134881 | M40: 154901 | N40: 155813 | O40: 177975 | P40: 173821.33 | Q40: 186180.62 | R40: 149237 | S40: 103206 | T40: 123512 | U40: 143319 | V40: 143310 | W40: 140711 | X40: 141268 | Y40: 134564 | Z40: 115282 | AA40: 112391 | AB40: 106359 | AC40: 108905
B41: Debentures | C41: Debêntures | D41: 0 | E41: 0 | F41: 0 | G41: 0 | H41: 0 | I41: 0 | J41: 0 | K41: 0 | L41: 0 | M41: 0 | N41: 0 | O41: 0 | P41: 0 | Q41: 0 | R41: 0 | S41: 0 | T41: 0 | U41: 0 | V41: 0 | W41: 1019 | X41: 0 | Y41: 0 | Z41: 3581 | AA41: 6568 | AB41: 15690 | AC41: 24967
B42: Labor and social security obligations | C42: Salários e encargos trabalhistas | D42: 12035 | E42: 11030 | F42: 8766 | G42: 7724 | H42: 6439 | I42: 8865 | J42: 11116 | K42: 9364 | L42: 15825 | M42: 14456 | N42: 16599 | O42: 13445 | P42: 17486.51 | Q42: 18044.52 | R42: 21065 | S42: 17681 | T42: 20975 | U42: 16930 | V42: 18402 | W42: 13761 | X42: 17452 | Y42: 20038 | Z42: 27393 | AA42: 20162 | AB42: 18396 | AC42: 17759
B43: Taxes and social contribution taxes | C43: Imposto e contribuições a pagar | D43: 333 | E43: 280 | F43: 114 | G43: 541 | H43: 692 | I43: 1314 | J43: 2418 | K43: 2061 | L43: 4050 | M43: 2486 | N43: 2743 | O43: 5555 | P43: 3063.26 | Q43: 3794.04 | R43: 4271 | S43: 6260 | T43: 3724 | U43: 4402 | V43: 1945 | W43: 3061 | X43: 1643 | Y43: 3419 | Z43: 4107 | AA43: 4901 | AB43: 10217 | AC43: 5657
B44: Derivative financial instruments | C44: Instrumentos financeiros derivativos | D44: 251 | E44: 0 | F44: 0 | G44: 0 | H44: 60 | I44: 605 | J44: 606 | K44: 801 | L44: 5029 | M44: 67 | N44: 0 | O44: 435 | P44: 139.95 | Q44: 191.31806 | R44: 0 | S44: 105 | T44: 14 | U44: 358 | V44: 1678 | W44: 1981 | X44: 303 | Y44: 751 | Z44: 375 | AA44: 237 | AB44: 188 | AC44: 4
B45: Lease Liabilities | C45: Passivo de arrendamento | D45: 0 | E45: 0 | F45: 0 | G45: 0 | H45: 0 | I45: 1325 | J45: 1352 | K45: 1452 | L45: 3841 | M45: 3625 | N45: 8723 | O45: 7647 | P45: 6740.37 | Q45: 5998.22 | R45: 4778 | S45: 4466 | T45: 3664 | U45: 1964 | V45: 687 | W45: 417 | X45: 4449 | Y45: 4053 | Z45: 4125 | AA45: 4978 | AB45: 5051 | AC45: 5126
B46: Related‑Party Payables | C46: Contas a pagar a Partes relacionadas | D46: 0 | E46: 0 | F46: 0 | G46: 0 | H46: 0 | I46: 0 | J46: 0 | K46: 0 | L46: 604.43162 | M46: 574.86836 | N46: 556.9416 | O46: 0 | P46: 0 | Q46: 0 | R46: 0 | S46: 0 | T46: 0 | U46: 0 | V46: 0 | W46: 0 | X46: 0 | Y46: 0 | Z46: 0 | AA46: 0 | AB46: 0 | AC46: 0
B47: Environmental Obligations | C47: Obrigações ambientais | D47: 0 | E47: 0 | F47: 0 | G47: 0 | H47: 0 | I47: 0 | J47: 0 | K47: 0 | L47: 0 | M47: 0 | N47: 0 | O47: 0 | P47: 0 | Q47: 0 | R47: 0 | S47: 0 | T47: 0 | U47: 0 | V47: 0 | W47: 0 | X47: 0 | Y47: 0 | Z47: 0 | AA47: 0 | AB47: 0 | AC47: 0
B48: Dividends payable | C48: Dividendos a pagar | D48: 0 | E48: 0 | F48: 0 | G48: 0 | H48: 0 | I48: 0 | J48: 0 | K48: 0 | L48: 0 | M48: 0 | N48: 0 | O48: 0 | P48: 0 | Q48: 0 | R48: 0 | S48: 0 | T48: 0 | U48: 0 | V48: 0 | W48: 0 | X48: 0 | Y48: 0 | Z48: 0 | AA48: 5283 | AB48: 5570 | AC48: 0
...

Sheet BP - R$
B6: BS – Amounts in thousands of Reais | C6: BP - Valores em milhares de Reais | D6: 2017 | E6: 2018 | F6: 2019 | G6: 2020 | H6: 3M21 | I6: 6M21 | J6: 9M21 | K6: 2021 | L6: 3M22 | M6: 6M22 | N6: 9M22 | O6: 2022 | P6: 3M23 | Q6: 6M23 | R6: 9M23 | S6: 2023 | T6: 3M24 | U6: 6M24 | V6: 9M24 | W6: 2024 | X6: 3M25 | Y6: 6M25 | Z6: 9M25 | AA6: 2025 | AB6: 3M26 | AC6: 6M26
B8: ASSETS | C8: ATIVO | D8: 4324172 | E8: 4734289 | F8: 4610231 | G8: 5484614 | H8: 6128265 | I8: 5434844 | J8: 6464990 | K8: 6867577.2 | L8: 6037712.2 | M8: 6609270.9 | N8: 6882000.9 | O8: 6607273.7 | P8: 6395577.6 | Q8: 6002175 | R8: 6328055 | S8: 6059803 | T8: 6208043 | U8: 6850811 | V8: 6528243 | W8: =+W9+W23 -> 7497628 | X8: =X9+X23 -> 7078180 | Y8: =Y9+Y23 -> 6602479 | Z8: =Z9+Z23 -> 6480194 | AA8: =AA9+AA23 -> 6864968 | AB8: =AB9+AB23 -> 6397015 | AC8: =AC9+AC23 -> 6306978
B9: CURRENT ASSETS | C9: CIRCULANTE | D9: 245035 | E9: 263899 | F9: 351925 | G9: 394251 | H9: 591877.83 | I9: 517381 | J9: 570481.63 | K9: 573762.4 | L9: 478850.28 | M9: 522064.76 | N9: 599427.88 | O9: 568437 | P9: 642460.22 | Q9: 635050.68 | R9: 825248 | S9: 802597 | T9: 867502 | U9: 980111 | V9: 829979 | W9: 999249 | X9: 1014076 | Y9: 844318 | Z9: 848081 | AA9: 969370 | AB9: =SUM(AB10:AB21) -> 827341 | AC9: =SUM(AC10:AC21) -> 837553
B10: Cash and cash equivalents | C10: Caixa e equivalentes de caixa | D10: 75198 | E10: 131447 | F10: 106243 | G10: 102232 | H10: 241057 | I10: 159310 | J10: 217223 | K10: 197233 | L10: 115815 | M10: 31798 | N10: 112183 | O10: 68128 | P10: 132363.35 | Q10: 110708.43 | R10: 59514 | S10: 55699 | T10: 93906 | U10: 56962 | V10: 53506 | W10: 46640 | X10: 61968 | Y10: 58552 | Z10: 83420 | AA10: 47441 | AB10: 55281 | AC10: 40742
B11: Short-term financial aplications | C11: Aplicações financeiras de curto prazo | D11: 0 | E11: 0 | F11: 0 | G11: 0 | K11: 72630 | L11: 0 | M11: 64462 | N11: 10000 | O11: 0 | P11: 0 | Q11: 59573.98 | R11: 269410 | S11: 80761 | T11: 136343 | U11: 238624 | V11: 160261 | W11: 246597 | X11: 228774 | Y11: 204465 | Z11: 171590 | AA11: 265256 | AB11: 46759 | AC11: 134756
B12: Trade receivables | C12: Contas a receber | D12: 79213 | E12: 102848 | F12: 112652 | G12: 178925 | H12: 209647 | I12: 201999 | J12: 217199 | K12: 188592 | L12: 189970 | M12: 242423 | N12: 285224 | O12: 305707 | P12: 311250.6 | Q12: 283242.3 | R12: 306255 | S12: 365054 | T12: 336451 | U12: 390537 | V12: 379834 | W12: 440169 | X12: 496519 | Y12: 363974 | Z12: 395186 | AA12: 389848 | AB12: 424100 | AC12: 382517
B13: Inventories | C13: Estoques | D13: 2852 | E13: - | F13: 838 | G13: 2228 | H13: 2716 | I13: 2856 | J13: 5102 | K13: 3867 | L13: 8713 | M13: 5257 | N13: 5258 | O13: 7927 | P13: 7695.33 | Q13: 7279.12 | R13: 7777 | S13: 10239 | T13: 10112 | U13: 10666 | V13: 10705 | W13: 13713 | X13: 11254 | Y13: 11363 | Z13: 16266 | AA13: 15887 | AB13: 13888 | AC13: 14993
B14: Other recoverable taxes | C14: Outros tributos a recuperar | D14: 38761 | E14: 39345 | F14: 39442 | G14: 32543 | H14: 31634 | I14: 54905 | J14: 57667 | K14: 45469 | L14: 73043.28 | M14: 67081.76 | N14: 62408.88 | O14: 64214 | P14: 73457.79 | Q14: 63368.28 | R14: 62295 | S14: 154397 | T14: 84349 | U14: 85001 | V14: 113460 | W14: 150700 | X14: 116723 | Y14: 104000 | Z14: 105551 | AA14: 144215 | AB14: 155179 | AC14: 154018
B15: Income Taxes | C15: Tributos sobre o lucro | D15: 0 | E15: 0 | F15: 0 | G15: 0 | H15: 0 | I15: 0 | J15: 0 | K15: 0 | L15: 0 | M15: 0 | N15: 0 | O15: 6053 | P15: 0 | Q15: 0 | R15: 0 | S15: 8845 | T15: 34279 | U15: 15457 | V15: 9414 | W15: 8869 | X15: 11296 | Y15: 18533 | Z15: 10795 | AA15: 8702 | AB15: 28637 | AC15: 7081
B16: Derivative financial instruments | C16: Instrumentos financeiros derivativos | D16: 0 | E16: 5377 | F16: 1639 | G16: 2699 | H16: 1010 | I16: 0 | J16: 0 | K16: 0 | L16: 0 | M16: 0 | N16: 608 | O16: 0 | P16: 0 | Q16: 1631 | R16: 2042 | S16: 0 | T16: 1302 | U16: 19277 | V16: 0 | W16: 2318 | X16: 140 | Y16: 2635 | Z16: 4001 | AA16: 2516 | AB16: 27 | AC16: 154
B17: Prepaid expenses | C17: Despesas antecipadas | D17: 6235 | E17: 16500 | F17: 4390 | G17: 6191 | H17: 26791 | I17: 19998 | J17: 14926 | K17: 8005 | L17: 1833 | M17: 29027 | N17: 23552 | O17: 17736 | P17: 16456.74 | Q17: 12663.37 | R17: 6816 | S17: 24992 | T17: 25267 | U17: 19058 | V17: 9226 | W17: 22422 | X17: 22044 | Y17: 16247 | Z17: 10223 | AA17: 27854 | AB17: 26230 | AC17: 20354
B18: Other assets | C18: Outros ativos | D18: 22505 | E18: 22358 | F18: 30868 | G18: 33247 | H18: 35883 | I18: 34780 | J18: 37947 | K18: 26261.792 | L18: 41578 | M18: 23124.198 | N18: 27519.833 | O18: 27763 | P18: 28344.98 | Q18: 41859.03 | R18: 52808 | S18: 54038 | T18: 57351 | U18: 53843 | V18: 51658 | W18: 31545 | X18: 33875 | Y18: 40323 | Z18: 31774 | AA18: 30155 | AB18: 40562 | AC18: 50428
B19: Receivable on assets sale | C19: Contas a receber sobre venda de ativo | D19: 0 | E19: - | F19: 0 | G19: 36186 | H19: 36467 | I19: 36747 | J19: 3812 | K19: 3881 | L19: 3974 | M19: 4088.8018 | N19: 4179.1667 | O19: 0 | P19: 0 | Q19: 0 | R19: 0 | S19: 0 | T19: 0 | U19: 0 | V19: 0 | W19: 0 | X19: 0 | Y19: 0 | Z19: 0 | AA19: 0 | AB19: 0 | AC19: 0
B20: Vessels Mobilization | C20: Mobilização de embarcações | D20: 0 | E20: 0 | F20: 0 | G20: 0 | H20: 6673 | I20: 6786 | J20: 16606 | K20: 27823 | L20: 43924 | M20: 54803 | N20: 68495 | O20: 70909 | P20: 72891.22 | Q20: 54725.45 | R20: 58331 | S20: 48572 | T20: 88142 | U20: 90686 | V20: 41915 | W20: 36276 | X20: 31483 | Y20: 24226 | Z20: 19275 | AA20: 37496 | AB20: 36678 | AC20: 32510
B21: Asset classified as held for sale | C21: Ativo classificado como mantido para venda | D21: 0 | E21: 0 | F21: 0 | G21: 0 | H21: 0 | I21: 0 | J21: 0 | K21: 0 | L21: 0 | M21: 0 | N21: 0 | O21: 0 | P21: 0 | Q21: 0 | R21: 0 | S21: 0 | T21: 0 | U21: 0 | V21: 0 | W21: 0 | X21: 0 | Y21: 0 | Z21: 0 | AA21: 0 | AB21: 0 | AC21: 0
B23: NON‑CURRENT ASSETS | C23: NÃO CIRCULANTE | D23: 3767052 | E23: 4348773 | F23: 4233723 | G23: 5090363 | H23: 5536387 | I23: 4917463 | J23: 5894508.4 | K23: 6293815.8 | L23: 5558862 | M23: 6087206.2 | N23: 6282573 | O23: 6038836.7 | P23: 5753117.6 | Q23: 5367124.3 | R23: 5502807 | S23: 5257206 | T23: 5340541 | U23: 5870700 | V23: 5698264 | W23: 6498379 | X23: 6064104 | Y23: 5758161 | Z23: 5632113 | AA23: 5895598 | AB23: =SUM(AB24:AB35) -> 5569674 | AC23: =SUM(AC24:AC35) -> 5469425
B24: Restricted financial investments | C24: Aplicações financeiras restritas | D24: 91826 | E24: 140374 | F24: 158472 | G24: 100811 | H24: 107766 | I24: 98470 | J24: 106459 | K24: 108463 | L24: 121237 | M24: 99924 | N24: 125160 | O24: 149152 | P24: 123539.23 | Q24: 120193.92 | R24: 126932 | S24: 122432 | T24: 131172 | U24: 144223 | V24: 144299 | W24: 177838 | X24: 169577 | Y24: 177759 | Z24: 166766 | AA24: 201957 | AB24: 152703 | AC24: 124073
B25: Trade receivables | C25: Contas a receber | D25: 0 | E25: 0 | F25: 0 | G25: 10125 | H25: 0 | I25: 0 | J25: 0 | K25: 8701 | L25: 0 | M25: 10978 | N25: 13582 | O25: 17236 | P25: 19421.54 | Q25: 22458.31 | R25: 27193 | S25: 23080 | T25: 33617 | U25: 34109 | V25: 23203 | W25: 16687 | X25: 20054 | Y25: 32537 | Z25: 45817 | AA25: 27081 | AB25: 33719 | AC25: 31765
B26: Indemnity assets | C26: Ativo indenizatório | D26: 33163 | E26: 39783 | F26: 16403 | G26: 18400 | H26: 18400 | I26: 20017 | J26: 19084 | K26: 23981 | L26: 23981 | M26: 26070 | N26: 26082 | O26: 31364 | P26: 30655.93 | Q26: 25813.63 | R26: 27147 | S26: 27151 | T26: 25437 | U26: 28631 | V26: 28897 | W26: 22427 | X26: 24533 | Y26: 20904 | Z26: 18523 | AA26: 9629 | AB26: 9518 | AC26: 21728
B27: Other recoverable taxes | C27: Outros tributos a recuperar | D27: 66895 | E27: 74005 | F27: 70120 | G27: 57855 | H27: 56229 | I27: 97609 | J27: 102518 | K27: 135913.6 | L27: 129854.72 | M27: 119258.24 | N27: 110949.12 | O27: 114159 | P27: 130591.62 | Q27: 112654.72 | R27: 110746 | S27: 31924 | T27: 25316 | U27: 21443 | V27: 22989 | W27: 10826 | X27: 7805 | Y27: 6642 | Z27: 8193 | AA27: 11341 | AB27: 4586 | AC27: 4586
B28: Income Taxes | C28: Tributos sobre o lucro | D28: 0 | E28: 0 | F28: 0 | G28: 0 | H28: 0 | I28: 0 | J28: 0 | K28: 0 | L28: 0 | M28: 0 | N28: 0 | O28: 10760 | P28: 0 | Q28: 0 | R28: 0 | S28: 690 | T28: 2676 | U28: 1207 | V28: 735 | W28: 0 | X28: 0 | Y28: 0 | Z28: 0 | AA28: 0 | AB28: 0 | AC28: 0
B29: Deferred income tax and social contribution | C29: Imposto de renda e contribuição social diferidos | D29: 0 | E29: 0 | F29: 6715 | G29: 23778 | H29: 31092 | I29: 1356 | J29: 1356 | K29: 82057.169 | L29: 104555.23 | M29: 122093.93 | N29: 139353.9 | O29: 122211.55 | P29: 108574.96 | Q29: 90131.04 | R29: 111667 | S29: 96760 | T29: 118332 | U29: 163066 | V29: 140196 | W29: 147612 | X29: 159434 | Y29: 158397 | Z29: 136956 | AA29: 98718 | AB29: 83543 | AC29: 88858
B30: Judicial deposits | C30: Depósitos judiciais | D30: 8455 | E30: 8899 | F30: 13170 | G30: 22394 | H30: 24223 | I30: 26819 | J30: 29957 | K30: 32468 | L30: 34672 | M30: 36277 | N30: 39503 | O30: 42432 | P30: 42227.42 | Q30: 44216.01 | R30: 46940 | S30: 49367 | T30: 51537 | U30: 54140 | V30: 70152 | W30: 72748 | X30: 74827 | Y30: 77677 | Z30: 82038 | AA30: 87942 | AB30: 105603 | AC30: 107089
B31: PP&E | C31: Imobilizado | D31: 3873980 | E31: 4135264 | F31: 4037754 | G31: 4848802 | H31: 5286116 | I31: 4632385 | J31: 5503642 | K31: 5734391 | L31: 4895671 | M31: 5393483 | N31: 5549676 | O31: 5356612.9 | P31: 5138206.8 | Q31: 4796319.4 | R31: 4908679 | S31: 4771785 | T31: 4871516 | U31: 5351532 | V31: 5167738 | W31: 5947495 | X31: 5434760 | Y31: 5115345 | Z31: 4993561 | AA31: 5282576 | AB31: 4999986 | AC31: 4924139
B32: Intangible | C32: Intangível | D32: 25089 | E32: 18089 | F32: 11525 | G32: 8198 | H32: 7792 | I32: 5876 | J32: 77455 | K32: 40634 | L32: 66334 | M32: 73000 | N32: 75081 | O32: 24335.74 | P32: 21002.46 | Q32: 16489.14 | R32: 20188 | S32: 21807 | T32: 19899 | U32: 19032 | V32: 18055 | W32: 17404 | X32: 15852 | Y32: 14705 | Z32: 14054 | AA32: 14825 | AB32: 14254 | AC32: 13885
B33: Derivative financial instruments | C33: Instrumentos financeiros derivativos | D33: 0 | E33: 0 | F33: 0 | G33: 0 | H33: 0 | I33: 0 | J33: 0 | K33: 0 | L33: 0 | M33: 0 | N33: 0 | O33: 0 | P33: 0 | Q33: 7957 | R33: 4154 | S33: 5846 | T33: 3470 | U33: 5887 | V33: 0 | W33: 0 | X33: 0 | Y33: 1663 | Z33: 7667 | AA33: 3755 | AB33: 14691 | AC33: 18943
B34: Vessels Mobilization | C34: Mobilização de embarcações | D34: 0 | E34: 0 | F34: 0 | G34: 0 | H34: 0 | I34: 22560 | J34: 43432 | K34: 67879 | L34: 84963 | M34: 113727 | N34: 120960 | O34: 102497 | P34: 84009.78 | Q34: 88730.78 | R34: 84316 | S34: 80923 | T34: 37379 | U34: 31714 | V34: 73211 | W34: 82811 | X34: 74016 | Y34: 81849 | Z34: 96107 | AA34: 99867 | AB34: 102481 | AC34: 92453
B35: Right of use | C35: Direito de uso | D35: 0 | E35: 0 | F35: 0 | G35: 0 | H35: 0 | I35: 12371 | J35: 10605 | K35: 59328 | L35: 97594 | M35: 92395 | N35: 82226 | O35: 68076.51 | P35: 54887.88 | Q35: 42160.14 | R35: 34845 | S35: 25441 | T35: 20190 | U35: 15716 | V35: 8789 | W35: 2531 | X35: 83246 | Y35: 70683 | Z35: 62431 | AA35: 57907 | AB35: 48590 | AC35: 41906
B37: LIABILITIES AND EQUITY | C37: PASSIVO E PATRIMÔNIO LÍQUIDO | D37: 4324172 | E37: 4734289 | F37: 4610231 | G37: 5484614 | H37: 6128265 | I37: 5434844 | J37: 6464990 | K37: 6867577.2 | L37: 6037712.2 | M37: 6609270.9 | N37: 6882000.9 | O37: 6607273.8 | P37: 6395577.6 | Q37: 6002175.1 | R37: 6327860 | S37: 6059803 | T37: 6208043 | U37: 6850811 | V37: 6528243 | W37: =+W38+W50+W60 -> 7497628 | X37: =X38+X50+X60 -> 7078180 | Y37: =Y38+Y50+Y60 -> 6602479 | Z37: =Z38+Z50+Z60 -> 6480194 | AA37: =AA38+AA50+AA60 -> 6864968 | AB37: =AB38+AB50+AB60 -> 6397015 | AC37: =AC38+AC50+AC60 -> 6306978
B38: CURRENT LIABILITIES | C38: CIRCULANTE | D38: 347336 | E38: 361166 | F38: 419535 | G38: 397473 | H38: 501235.94 | I38: 467843 | J38: 680818.03 | K38: 794702 | L38: 879078 | M38: 1044790 | N38: 1099431 | O38: 1160308 | P38: 1111453.9 | Q38: 1127131 | R38: 997835 | S38: 774744 | T38: 889283 | U38: 1066766 | V38: 1022128 | W38: 1134637 | X38: 1087140 | Y38: 1031330 | Z38: 958993 | AA38: 1037652 | AB38: =SUM(AB39:AB48) -> 1029226 | AC38: =SUM(AC39:AC48) -> 1010405
B39: Suppliers and other payables | C39: Fornecedores e outras contas a pagar | D39: 31694 | E39: 44072 | F39: 33404 | G39: 28741 | H39: 79453 | I39: 66180 | J39: 115341 | K39: 117429 | L39: 100833.84 | M39: 122330.84 | N39: 102264.84 | O39: 90379 | P39: 89016.29 | Q39: 94816.35 | R39: 99719 | S39: 137064 | T39: 130414 | U39: 138587 | V39: 117629 | W39: 137986 | X39: 139027 | Y39: 142779 | Z39: 135345 | AA39: 187416 | AB39: 186447 | AC39: 169624
B40: Loans and financing | C40: Empréstimos e financiamentos | D40: 224871 | E40: 405733 | F40: 329234 | G40: 325783 | H40: 380865 | I40: 341090 | J40: 531136 | K40: 600936 | L40: 639040 | M40: 811371 | N40: 842420 | O40: 928620 | P40: 883081.91 | Q40: 897241.64 | R40: 747320 | S40: 499653 | T40: 617089 | U40: 796695 | V40: 780765 | W40: 871323 | X40: 811187 | Y40: 734330 | Z40: 613132 | AA40: 618419 | AB40: 555132 | AC40: 563760
B41: Debentures | C41: Debêntures | D41: 0 | E41: 0 | F41: 0 | G41: 0 | H41: 0 | I41: 0 | J41: 0 | K41: 0 | L41: 0 | M41: 0 | N41: 0 | O41: 0 | P41: 0 | Q41: 0 | R41: 0 | S41: 0 | T41: 0 | U41: 0 | V41: 0 | W41: 6311 | X41: 0 | Y41: 0 | Z41: 19045 | AA41: 36141 | AB41: 81891 | AC41: 129245
B42: Labor and social security obligations | C42: Salários e encargos trabalhistas | D42: 39811 | E42: 42739 | F42: 35333 | G42: 40139 | H42: 36683 | I42: 44347 | J42: 60463 | K42: 52235 | L42: 74978 | M42: 75720 | N42: 89743 | O42: 70152 | P42: 88838.44 | Q42: 86960.15 | R42: 105484 | S42: 85597 | T42: 104798 | U42: 94110 | V42: 100256 | W42: 85214 | X42: 100210 | Y42: 109350 | Z42: 145693 | AA42: 110942 | AB42: 96015 | AC42: 91932
B43: Taxes and social contribution taxes | C43: Imposto e contribuições a pagar | D43: 1102 | E43: 1088 | F43: 459 | G43: 2810 | H43: 3895 | I43: 6571 | J43: 13151 | K43: 11527 | L43: 19190 | M43: 13023 | N43: 14832 | O43: 28985 | P43: 15562.47 | Q43: 18284.26 | R43: 21387 | S43: 30305 | T43: 18608 | U43: 24471 | V43: 10594 | W43: 18955 | X43: 9435 | Y43: 18656 | Z43: 21844 | AA43: 26968 | AB43: 53324 | AC43: 29286
B44: Derivative financial instruments | C44: Instrumentos financeiros derivativos | D44: 829 | E44: 0 | F44: 0 | G44: 0 | H44: 340 | I44: 3026 | J44: 3297 | K44: 4470 | L44: 23828 | M44: 349 | N44: 0 | O44: 2272 | P44: 711 | Q44: 922 | R44: 0 | S44: 506 | T44: 70 | U44: 1987 | V44: 9143 | W44: 12265 | X44: 1737 | Y44: 4096 | Z44: 1995 | AA44: 1305 | AB44: 980 | AC44: 22
B45: Lease Liabilities | C45: Passivo de arrendamento | D45: 0 | E45: 0 | F45: 0 | G45: 0 | H45: 0 | I45: 6629 | J45: 7352 | K45: 8105 | L45: 18197 | M45: 18985 | N45: 47160 | O45: 39900 | P45: 34243.8 | Q45: 28906.6 | R45: 23925 | S45: 21619 | T45: 18304 | U45: 10916 | V45: 3741 | W45: 2583 | X45: 25544 | Y45: 22119 | Z45: 21939 | AA45: 27389 | AB45: 26365 | AC45: 26536
B46: Related‑Party Payables | C46: Contas a pagar a Partes relacionadas | D46: 0 | E46: 0 | F46: 0 | G46: 0 | H46: 0 | I46: 0 | J46: 0 | K46: 0 | L46: 3011.1605 | M46: 3011.1605 | N46: 3011.1605 | O46: 0 | P46: 0 | Q46: 0 | R46: 0 | S46: 0 | T46: 0 | U46: 0 | V46: 0 | W46: 0 | X46: 0 | Y46: 0 | Z46: 0 | AA46: 0 | AB46: 0 | AC46: 0
B47: Environmental Obligations | C47: Obrigações ambientais | D47: 0 | E47: 0 | F47: 0 | G47: 0 | H47: 0 | I47: 0 | J47: 0 | K47: 0 | L47: 0 | M47: 0 | N47: 0 | O47: 0 | P47: 0 | Q47: 0 | R47: 0 | S47: 0 | T47: 0 | U47: 0 | V47: 0 | W47: 0 | X47: 0 | Y47: 0 | Z47: 0 | AA47: 0 | AB47: 0 | AC47: 0
B48: Dividends payable | C48: Dividendos a pagar | D48: 0 | E48: 0 | F48: 0 | G48: 0 | H48: 0 | I48: 0 | J48: 0 | K48: 0 | L48: 0 | M48: 0 | N48: 0 | O48: 0 | P48: 0 | Q48: 0 | R48: 0 | S48: 0 | T48: 0 | U48: 0 | V48: 0 | W48: 0 | X48: 0 | Y48: 0 | Z48: 0 | AA48: 29072 | AB48: 29072 | AC48: 0
...

Sheet DRE - US$
C1: Demonstração do Resultado do Exercício | AR1: V
B6: Income Statement – Amounts in USD thousands | C6: DRE - Valores em milhares de Dólares | D6: 1T17 | E6: 2T17 | F6: 3T17 | G6: 4T17 | H6: 2017 | I6: 1T18 | J6: 2T18 | K6: 3T18 | L6: 4T18 | M6: 2018 | N6: 1T19 | O6: 2T19 | P6: 3T19 | Q6: 4T19 | R6: 2019 | S6: 1T20 | T6: 2T20 | U6: 3T20 | V6: 4T20 | W6: 2020 | X6: 1T21 | Y6: 2T21 | Z6: 3T21 | AA6: 4T21 | AB6: 2021 | AC6: 1T22 | AD6: 2T22 | AE6: 3T22 | AF6: 4T22 | AG6: 2022 | AH6: 1T23 | AI6: 2T23 | AJ6: 3T23 | AK6: 4T23 | AL6: 2023 | AM6: 1T24 | AN6: 2T24 | AO6: 3T24 | AP6: 4T24 | AQ6: 2024 | AR6: 1T25 | AS6: 2T25 | AT6: 3T25 | AU6: 4T25 | AV6: 2025 | AW6: 1T26 | AX6: 2T26
B8: Net operating revenue | C8: Receitas operacionais, líquidas | D8: 43310 | E8: 41489 | F8: 44875 | G8: 48721 | H8: 178395 | I8: 49434 | J8: 56668 | K8: 59972 | L8: 66020 | M8: 232094 | N8: 69196 | O8: 71941 | P8: 69044 | Q8: 69885 | R8: 280066 | S8: 71068 | T8: 63141 | U8: 60934 | V8: 58441 | W8: 253584 | X8: 56903 | Y8: 61575.144 | Z8: 70499.699 | AA8: 71309.896 | AB8: 260287.74 | AC8: 83484.86 | AD8: 89183.64 | AE8: 87739.32 | AF8: 93765 | AG8: 354172.82 | AH8: 92488.02 | AI8: 93633.91 | AJ8: 98114 | AK8: 101754 | AL8: 385989.93 | AM8: 100195 | AN8: 96535 | AO8: 77006 | AP8: 90782 | AQ8: 364517.6 | AR8: 96690 | AS8: 89365 | AT8: 106150 | AU8: 98907 | AV8: 391112 | AW8: 102971 | AX8: 117308
B9: Cost of services | C9: Custos dos serviços prestados | D9: -31431 | E9: -33429 | F9: -36791 | G9: -28139 | H9: -129790 | I9: -37484 | J9: -33927 | K9: -34871 | L9: -39687 | M9: -463782 | N9: -32194 | O9: -33095 | P9: -34007 | Q9: -39914 | R9: -139210 | S9: -34504 | T9: -30400 | U9: -33340 | V9: -30477 | W9: -128721 | X9: -31127 | Y9: -29522.241 | Z9: -47730.948 | AA9: -48259.384 | AB9: -156639.57 | AC9: -62473.227 | AD9: -66210.15 | AE9: -66303.103 | AF9: -72317.14 | AG9: -267303.62 | AH9: -73866.31 | AI9: -73586.17 | AJ9: -77473 | AK9: -75389.52 | AL9: -300315 | AM9: -82115 | AN9: -80955 | AO9: -64351 | AP9: -37757 | AQ9: -265178.4 | AR9: -69804 | AS9: -69627 | AT9: -73736 | AU9: -63778 | AV9: -278705 | AW9: -75435 | AX9: -85618
B10: Gross Profit | C10: Lucro bruto | D10: 11879 | E10: 8060 | F10: 8083.4 | G10: 20582 | H10: 48605 | I10: 11950 | J10: 22741 | K10: 25101 | L10: 26333 | M10: -231688 | N10: 37002 | O10: 38846 | P10: 35037 | Q10: 29971 | R10: 140856 | S10: 36564 | T10: 32741 | U10: 27594 | V10: 27964 | W10: 124863 | X10: 25776 | Y10: 32052.902 | Z10: 22768.751 | AA10: 23050.513 | AB10: 103648.17 | AC10: 21011.633 | AD10: 22973.49 | AE10: 21436.217 | AF10: 21447.86 | AG10: 86869.201 | AH10: 18622.71 | AI10: 20047.74 | AJ10: 20641 | AK10: 26364.48 | AL10: 85675.93 | AM10: 18080 | AN10: 15580 | AO10: 12655 | AP10: 53024 | AQ10: 99341 | AR10: 26886 | AS10: 19738 | AT10: 32414 | AU10: 35129 | AV10: 112407 | AW10: 27537 | AX10: 31692
B12: General and administrative expenses | C12: Despesas gerais e administrativas | D12: -5364 | E12: -6215 | F12: -5678 | G12: -4127 | H12: -21384 | I12: -6664 | J12: -4391 | K12: -4716 | L12: -6546 | M12: -81281 | N12: -7572 | O12: -5019 | P12: -7664 | Q12: -6279 | R12: -103793 | S12: -5971 | T12: -5438 | U12: -6317 | V12: -7863 | W12: -25589 | X12: -6952 | Y12: -6070.5708 | Z12: -8121.268 | AA12: -10609.931 | AB12: -31753.77 | AC12: -9140.8048 | AD12: -6243.19 | AE12: -6398.8396 | AF12: -8160 | AG12: -29942.834 | AH12: -7395.99 | AI12: -7698.11 | AJ12: -8650 | AK12: -7369 | AL12: -31113.1 | AM12: -8719 | AN12: -8243 | AO12: -7705 | AP12: -7920 | AQ12: -32588 | AR12: -6920 | AS12: -10067 | AT12: -11210 | AU12: -7122 | AV12: -32931 | AW12: -9748 | AX12: -10544
B13: Impairment loss provision | C13: Provisão para perda de Valor Recuperável | D13: 0 | E13: 0 | F13: 0 | G13: 0 | H13: 0 | I13: 0 | J13: 0 | K13: 0 | L13: 0 | M13: - | N13: 0 | O13: 0 | P13: -13459 | Q13: -8278 | R13: -88854 | S13: 0 | T13: 16698 | U13: 0 | V13: -3490 | W13: 13208 | X13: 0 | Y13: 0 | Z13: 0 | AA13: -3807 | AB13: -3807 | AC13: 0 | AD13: 0 | AE13: 0 | AF13: 726.10294 | AG13: 726.10294 | AH13: 0 | AI13: 0 | AJ13: 0 | AK13: 7015 | AL13: 7015 | AM13: 0 | AN13: 0 | AO13: 0 | AP13: -13881 | AQ13: -13882 | AR13: 0 | AS13: 0 | AT13: 0 | AU13: 22136 | AV13: 22136 | AW13: 0 | AX13: -2943
B14: Other net operating income (expenses) | C14: Outras receitas (despesas) operacionais, líquidas | D14: 16 | E14: -106 | F14: 1422 | G14: 1401 | H14: 2733 | I14: -95 | J14: 103 | K14: 813 | L14: 985 | M14: 8876 | N14: -704 | O14: -2842 | P14: -2693 | Q14: 1761 | R14: -14529 | S14: -520 | T14: -17602 | U14: 390 | V14: -5713 | W14: -23445 | X14: 614 | Y14: 3626.2833 | Z14: 619.52893 | AA14: -1068.5042 | AB14: 3791.308 | AC14: -351.06923 | AD14: -232.01 | AE14: 787.01637 | AF14: 1762.753 | AG14: 1966.6901 | AH14: 1357.18 | AI14: 2238.97 | AJ14: 81 | AK14: 3821 | AL14: 7498.15 | AM14: 1714 | AN14: 297 | AO14: -4419 | AP14: 5320 | AQ14: 2910 | AR14: 2352 | AS14: 4864 | AT14: -2026 | AU14: -9378 | AV14: -4187 | AW14: 4630 | AX14: -1321
B15: Operating income | C15: Lucro Operacional | D15: 6531 | E15: 1738.4 | F15: 3827.4 | G15: 17856 | H15: 29954 | I15: 5191 | J15: 18453 | K15: 21198.6 | L15: 20772 | M15: -304093 | N15: 28726 | O15: 30985 | P15: 11221 | Q15: 17175 | R15: 88107 | S15: 30073 | T15: 26399 | U15: 21667 | V15: 10898 | W15: 89037 | X15: 19438 | Y15: 29608.615 | Z15: 15267.012 | AA15: 7564.077 | AB15: 71877.704 | AC15: 11519.759 | AD15: 16498.29 | AE15: 15823.394 | AF15: 15775.716 | AG15: 59617.159 | AH15: 12582.9 | AI15: 14588.6 | AJ15: 12072 | AK15: 29831.48 | AL15: 69074.98 | AM15: 11075 | AN15: 7633 | AO15: 530 | AP15: 36543 | AQ15: 55782 | AR15: 22317 | AS15: 14535 | AT15: 19178 | AU15: 40765 | AV15: 97426 | AW15: 22419 | AX15: 16882
B17: Finance Income | C17: Receitas Financeiras | D17: 433 | E17: 264 | F17: 2819 | G17: 1798 | H17: 5314 | I17: 919 | J17: 355 | K17: 328 | L17: -579 | M17: 33543 | N17: 2887 | O17: 844 | P17: 3943 | Q17: 3691 | R17: 45988 | S17: 11006 | T17: 3179 | U17: 4705 | V17: 1256 | W17: 20146 | X17: 2898 | Y17: 1308.3131 | Z17: 3062.9228 | AA17: 1266.5894 | AB17: 8535.8253 | AC17: 1238.858 | AD17: 4907.87 | AE17: 1683.4568 | AF17: 1534.5231 | AG17: 9364.7079 | AH17: 1211.24 | AI17: 1816.92 | AJ17: 3717 | AK17: 1712 | AL17: 8457.16 | AM17: 2200 | AN17: 7517 | AO17: 1293 | AP17: 5369 | AQ17: 16379 | AR17: 363 | AS17: 2148 | AT17: 3103 | AU17: 3200 | AV17: 8814 | AW17: 656 | AX17: 1366
B18: Finance Expenses | C18: Despesas Financeiras | D18: -9887 | E18: -8196 | F18: -12061 | G18: -10725 | H18: -40869 | I18: -10921 | J18: -9733 | K18: -11536 | L18: -13788 | M18: -198739 | N18: -14248 | O18: -13342 | P18: -12769 | Q18: -15537 | R18: -219906 | S18: -11065 | T18: -12471 | U18: -12637 | V18: -14812 | W18: -50985 | X18: -9167 | Y18: -13314.795 | Z18: -10255.944 | AA18: -10103.648 | AB18: -42841.387 | AC18: -12941.795 | AD18: -12041.21 | AE18: -11054 | AF18: -11870.43 | AG18: -47907.435 | AH18: -11912.36 | AI18: -13239.04 | AJ18: -11939 | AK18: -16943 | AL18: -54033.4 | AM18: -12643 | AN18: -12545 | AO18: -14130 | AP18: -67178 | AQ18: -50644 | AR18: -15357 | AS18: -15504 | AT18: -18246 | AU18: -17376 | AV18: -66483 | AW18: -13539 | AX18: -14029
B19: Results on derivatives | C19: Resultado com derivativos | D19: 994 | E19: -443 | F19: 621 | G19: -370 | H19: 802 | I19: 486 | J19: 1851 | K19: 487 | L19: -1148 | M19: 5843 | N19: -520 | O19: -604 | P19: -124 | Q19: -762 | R19: -7728 | S19: -591 | T19: -436 | U19: 0 | V19: 519 | W19: -508 | X19: -646 | Y19: -2765.1029 | Z19: 1102.0898 | AA19: 1312.0537 | AB19: -996.95944 | AC19: -7708.646 | AD19: 9940.3 | AE19: -424.73761 | AF19: -940.02719 | AG19: 866.8892 | AH19: 330.14 | AI19: -150.26 | AJ19: 42 | AK19: -552 | AL19: -330.12 | AM19: 620 | AN19: 5364 | AO19: -5503 | AP19: -13045 | AQ19: -1509.6 | AR19: -2403 | AS19: 688 | AT19: 551 | AU19: 1086 | AV19: -78 | AW19: 5189 | AX19: 3138
B20: Net foreign exchange gains (losses) | C20: Variação cambial, líquida | D20: 6317 | E20: -6136 | F20: 12811 | G20: -19791 | H20: -6799 | I20: -8930 | J20: -6993 | K20: -1606 | L20: -4025 | M20: -540452 | N20: 249 | O20: 2315 | P20: -6319 | Q20: -1229 | R20: -13297 | S20: -37983 | T20: 1644 | U20: -2826 | V20: 9391 | W20: -29774 | X20: -11575 | Y20: 17445.247 | Z20: -10389.758 | AA20: -4195.283 | AB20: -8714.794 | AC20: 17657.454 | AD20: -12302.21 | AE20: -4098.7607 | AF20: 3434.0965 | AG20: 4690.5802 | AH20: 3252.35 | AI20: 6186.32 | AJ20: -4012 | AK20: 3203.33 | AL20: 8630 | AM20: -3923 | AN20: -9752 | AO20: 1350 | AP20: -54860 | AQ20: -21014 | AR20: 4170 | AS20: 5650 | AT20: 2834 | AU20: 900 | AV20: 18878 | AW20: -1767 | AX20: -882
