Workbook
Name LnkTxtIGPMFatorX: #REF!
Name LnkTxtIGPMFatorX: #REF!

Sheet Atualizações
B4: Atualizações da Planilha de Dados Operacionais e Financeiros
C6: 26/03/2025 | D6: Padronização das linhas de DREs das distribuidoras com inclusão de abertura da receita e das contingências
C7: 14/05/2025 | D7: Movimentação da Equivalência Patrimonial da participação na Sabesp, que passa a compor o Ebitda na DRE Resumida EQTL Holding e DRE Resumida EQTL Consolidado
C8: 14/05/2025 | D8: Inclusão de sheet com as tabelas de margem bruta por distribuidora
C9: 45783 | D9: Atualização de aba "Dados Concessões"
C10: 13/08/2025 | D10: Inclusão dos Fluxos de Caixa Indireto das distribuidoras, EQTL Controladora e EQTL Consolidado
C11: 13/08/2025 | D11: Inclusão de uma nova linha "RF - MTM Dívida" em Receitas Financeiras e Despesas Financeiras das abas DRE ITR
C12: 13/08/2025 | D12: Inclusão dos dados operacionais solares de (i) Irradiância; (ii) Disponibilidade e (iii) P10, P50 e P90 de Ribeiro Gonçalves e Barreiras na aba "Operacional Renováveis"
C13: 13/08/2025 | D13: Inclusão de abas e menu em inglês
C14: 15/08/2025 | D14: Atualização dos dados de DEC e FEC
C15: 12/11/2025 | D15: Atualização do fluxo econômico das PNs, na estrutura da Equatorial Distribuição, resultado do exercício parcial das preferenciais Classe A e B
C16: 06/02/2026 | D16: Atualização dos dados operacionais considerando a CP 009/2024 da Aneel
C17: 25/03/2026 | D17: Inclusão de todos os trimestres de 2025 dos dados operacionais pós CP 009/2024
C18: 26/08/2026 | D18: Atualização de aba "Portfolio de Ativos Renováveis"
C19: 01/09/2026 | D19: Atualização de aba "Dados Regulatórios Distribuição" - Fator X - Maranhão
C20: 01/09/2026 | D20: Atualização das linhas: Energia elétrica comprada para revenda; Encargo uso do sistema de transmissão e distribuição; Custos de construção nas DREs Resumidas das Discos
C21: 46283 | D21: Atualização das linhas de Receita Financeira e Despesas Financeiras nas abas DRE ITR
C22: 46283 | D22: Atualizações das abas BP Echo Participações e BP Echo Crescimento

Sheet Updates
B4: Updates
C6: March 25, 2025 | D6: Standard P&L strucutures for DisCos and the addition of new lines in the Gross Revenues and contingencies
C7: May 14, 2025 | D7: Sabesp's Equity equivalence now comprises the Ebitda in the following sheets: EQTLD Holding P&L and EQTL Consolidado P&L
C8: May 14, 2025 | D8: Inclusion of a new sheet Gross Margin for each DisCo
C9: June 05, 2025 | D9: Update of the "Dados Concessões" sheet
C10: August 13, 2025 | D10: Inclustion of Cash Flow Statement - Indirect Method for the DisCos, EQTL Controladora e EQTL Consolidado
C11: August 13, 2025 | D11: Addition of a new line "RF - Debt MTM " in the Financial Income section of each Standard Income Statement sheet
C12: August 13, 2025 | D12: Addition of new solar operational data (i) Irradiance; (ii) Technical Avaiability and (iii) P10, P50 and P90 for Ribeiro Gonçalves and Barreiras, in the "Operacional Renováveis" sheet
C13: August 13, 2025 | D13: Addition of Cover Page and Guide sheets in english
C14: August 15, 2025 | D14: Update of the "DEC/FEC" sheet
C15: December 11, 2025 | D15: Update on the PNs' economic flow/returns within the Equatorial Distribuição structure, resulting from the partial exercise of Class A and B preferred shares
C16: February 6, 2026 | D16: Update of operational data considering Aneel's Public Consultation 009/2024
C17: March 25, 2026 | D17: Inclusion of all 2025 quarterly operational data following the implementation of CP 009/2024.
... C22: September 18, 2026 | D22: Updates to the Echo Participações Balance Sheet and Echo Crescimento Balance Sheet tabs

Sheet Cover Page
B4: Operational and Financial Data Spreadsheet
D8: Finicial Data | I8: Operational Data | N8: Regulatory Data

Sheet Capa
B4: Planilha de Dados Operacionais e Financeiros
D8: Informações Financeiras | I8: Informações Operacionais | N8: Informações Regulatórias

Sheet Operacional
B4: Operacional
B8: Grupo | G8: Distribuição | M8: Renováveis | R8: Saneamento

Sheet Operational Indicators
B4: Operational Indicator
B8: Grupo Equatorial | H8: Distribution | N8: Renewables | S8: Sanitation

Sheet ESG
B7: Indicadores ESG | C7: ESG | D7: 1T24 | E7: 2T24 | F7: 3T24 | G7: 4T24 | H7: 1T25 | I7: 2T25 | J7: 3T25 | K7: 4T25 | L7: 1T26 | M7: 2T26
B8: Ambiental | C8: Environmental
B9: Consumo de Combustíveis Renováveis na Frota Administrativa | C9: Renewable Fuel Consumption in the Administrative Fleet | D9: 47185.22 | E9: 171539.01 | F9: 190974.09 | G9: 206954 | H9: 257770.4 | I9: 247808 | J9: 246714 | K9: 288874 | L9: 240128 | M9: 222207
B10: Intensidade de Emissões de SF6 | C10: SF6 Emissions Intensity | D10: - | E10: 0.049007634 | F10: 0.0453 | G10: 0.044120421 | H10: 0.035796836 | I10: 0.033868285 | J10: 0.03674937 | K10: 0.034 | L10: 0.03 | M10: 0.026
B11: Número de Ligações de Energia em Áreas Remotas via SIGFI (Sistema Individual de Geração de Energia Elétrica com Fonte Intermitente) | C11: Number of Off-grid Energy Connections via SIGFI (Individual Electricity Generation System with Intermittent Source) | D11: 3462 | E11: 3231 | F11: 5453 | G11: 10212 | H11: 2196 | I11: 3230 | J11: 7757 | K11: 9025 | L11: 2250 | M11: 6110
B12: Investimentos P&D e Eficiência Energética em Meio Ambiente | C12: R&D and Energy Efficiency Investments in Environment | D12: 14071 | E12: 830 | F12: 18472 | G12: 28175.382 | H12: 29359 | I12: 28642 | J12: 31318.434 | K12: 22612 | L12: 15465 | M12: 31225
B13: Social | C13: Social
B14: % de Mulheres no Grupo Equatorial Energia | C14: % of Women in the Grupo Equatorial | D14: 0.36211946 | E14: 0.36093625 | F14: 0.352 | G14: 0.3494311 | H14: 0.3392 | I14: 0.33 | J14: 0.3336 | K14: 0.332 | L14: 0.3332 | M14: 0.325558
B15: % de Mulheres em Cargos de Liderança x Total de Líderes | C15: % of Women in Leadership Positions vs. Total Leaders | D15: 0.21422142 | E15: 0.22171946 | F15: 0.222 | G15: 0.22368421 | H15: 0.2226 | I15: 0.23 | J15: 0.2298 | K15: 0.2312 | L15: 0.2295 | M15: 0.2255
B16: % de Negros em Cargos de Liderança x Total de Líderes | C16: % of Black People in Leadership Positions vs. Total Leaders | D16: 0.072007201 | E16: 0.069683258 | F16: 0.493 | G16: 0.52105263 | H16: 0.0683 | I16: 0.08 | J16: 0.534 | K16: 0.4513 | L16: 0.0653 | M16: 0.065559
B17: % de Fornecedores Locais | C17: % of Local Suppliers | D17: 0.4586 | E17: 0.4335 | F17: 0.4283 | G17: 0.3927 | H17: 0.4314 | I17: 0.4622 | J17: 0.43276459 | K17: 0.4675 | L17: 0.49607843 | M17: 0.5866
B18: Investimentos Sociais | C18: Social Investments | D18: 9832.7602 | E18: 10253 | F18: 64763 | G18: 13144.372 | H18: 270 | I18: 7029.1271 | J18: 25002 | K18: 34383 | L18: 8940 | M18: 9333
B19: TG Próprios | C19: TF Own | D19: 5 | E19: 4 | F19: 19 | G19: 25 | H19: 53 | I19: 125 | J19: 36 | K19: 24 | L19: 54 | M19: 8
B20: TG Terceiros | C20: TF Third Party Employees | D20: 798.96 | E20: 1563 | F20: 1050 | G20: 577 | H20: 320 | I20: 209 | J20: 351 | K20: 707 | L20: 566 | M20: 35
B21: Número de óbitos de empregados (próprios + terceiros) | C21: Number of employee deaths (own + third parties) | D21: 1 | E21: 6 | F21: 2 | G21: 2 | H21: 1 | I21: 0 | J21: 1 | K21: 3 | L21: 3 | M21: 0
B22: Número de Acidentes com a População | C22: Number of Accidents involving the General Public | D22: 10 | E22: 4 | F22: 4 | G22: 14 | H22: 9 | I22: 0 | J22: 12 | K22: 5 | L22: 11 | M22: 1
B23: Número de Unidades Consumidoras (UCs) beneficiadas pela Tarifa Social de Energia Elétrica (TSEE) | C23: Number of Consumer Units benefited by the Social Electricity Tariff (TSEE) | D23: 4232.805 | E23: 4316.559 | F23: 4496.489 | G23: 4493.983 | H23: 4350.927 | I23: 4457 | J23: 4405 | K23: 4343.153 | L23: =4208782/1000 -> 4208.782 | M23: 4302
B24: Governança | C24: Governance
B25: % de Conselheiros Independentes | C25: % of Independent Directors | D25: 1 | E25: 1 | F25: 0.86 | G25: 0.86 | H25: 0.86 | I25: 0.875 | J25: 0.88 | K25: 0.86 | L25: 0.86 | M25: 0.875
B26: % de Mulheres no Conselho | C26: % of Women on the Board | D26: 0.14 | E26: 0.14 | F26: 0.14 | G26: 0.14 | H26: 0.14 | I26: 0.14 | J26: 0.14 | K26: 0.125 | L26: 0.125 | M26: 0.125
B27: % de Colaboradores Treinados na Trilha de Integridade | C27: % of Employees Trained on the Integrity Track | D27: 0.558 | E27: 0.623 | F27: 0.9387 | G27: 0.9895 | H27: 0.9793 | I27: 0.98 | J27: 0.9856 | K27: 0.99 | L27: 0.99 | M27: 0.91
B28: Casos Registrados no Canal de Ética | C28: Cases Registered on the Ethics Channel | D28: 166 | E28: 136 | F28: 118 | G28: 210 | H28: 168 | I28: 247 | J28: 245 | K28: 324 | L28: 297 | M28: 249

Sheet Mercado Distribuição (Pré CP09)
B6: Classes de consumo (MWh) | C6: Consumption Classes (MWh) | D6: 1T13 | E6: 2T13 | F6: 3T13 | G6: 4T13 | H6: 1T14 | I6: 2T14 | J6: 3T14 | K6: 4T14 | L6: 1T15 | M6: 2T15 | N6: 3T15 | O6: 4T15 | P6: 1T16 | Q6: 2T16 | R6: 3T16 | S6: 4T16 | T6: 1T17 | U6: 2T17 | V6: 3T17 | W6: 4T17 | X6: 1T18 | Y6: 2T18 | Z6: 3T18 | AA6: 4T18 | AB6: 1T19 | AC6: 2T19 | AD6: 3T19 | AE6: 4T19 | AF6: 1T20 | AG6: 2T20 | AH6: 3T20 | AI6: 4T20 | AJ6: 1T21 | AK6: 2T21 | AL6: 3T21 | AM6: 4T21 | AN6: 1T22 | AO6: 2T22 | AP6: 3T22 | AQ6: 4T22 | AR6: 1T23 | AS6: 2T23 | AT6: 3T23 | AU6: 4T23 | AV6: 1T24 | AW6: 2T24 | AX6: 3T24 | AY6: 4T24 | AZ6: 1T25 | BA6: 2T25 | BB6: 3T25
B8: Maranhão | C8: Maranhão
B9: Residencial | C9: Residential | D9: 607543.3 | E9: 606984.13 | F9: 658859.5 | G9: 690102.83 | H9: 662831.09 | I9: 662570.19 | J9: 717307.56 | K9: 742978.06 | L9: 703966.73 | M9: 694777.47 | N9: 732751.86 | O9: 785132.18 | P9: 746781.42 | Q9: 772005.44 | R9: 784761.42 | S9: 820911.93 | T9: 723731.49 | U9: 762367.25 | V9: 814850.79 | W9: 884891.43 | X9: 763221.73 | Y9: 782169.86 | Z9: 811630.66 | AA9: 847781.83 | AB9: 779013.49 | AC9: 796100.83 | AD9: 831986.03 | AE9: 889662.44 | AF9: 813686.67 | AG9: 855730.35 | AH9: 907028.06 | AI9: 965421.18 | AJ9: 867983.94 | AK9: 869452.89 | AL9: 943825.75 | AM9: 989953.72 | AN9: 890891.11 | AO9: 941432.75 | AP9: 1031101.5 | AQ9: 1082228.2 | AR9: 977104.47 | AS9: 1040069.9 | AT9: 1132723.3 | AU9: 1222357.7 | AV9: 1115438.2 | AW9: 1176304 | AX9: 1183056.2 | AY9: 1266896.5 | AZ9: 1109360.9 | BA9: 1149762.5 | BB9: 1231344.7
B10: Industrial | C10: Industrial | D10: 101372.67 | E10: 100380.28 | F10: 105016.13 | G10: 116534.65 | H10: 95501.574 | I10: 95625.064 | J10: 107377.49 | K10: 112344 | L10: 99550.018 | M10: 102238.78 | N10: 112394.69 | O10: 105282.51 | P10: 87859.571 | Q10: 87625.519 | R10: 90440.457 | S10: 83066.921 | T10: 63228.223 | U10: 65377.696 | V10: 74835.443 | W10: 74057.275 | X10: 62084.974 | Y10: 60031.264 | Z10: 65120.674 | AA10: 61217.474 | AB10: 50585.607 | AC10: 50712.538 | AD10: 60604.149 | AE10: 61108.158 | AF10: 48199.711 | AG10: 48384.679 | AH10: 57951.413 | AI10: 54633.189 | AJ10: 45464.512 | AK10: 45979.839 | AL10: 49104.254 | AM10: 46326.891 | AN10: 39046.843 | AO10: 40094.077 | AP10: 45109.434 | AQ10: 39911.262 | AR10: 41008.735 | AS10: 39454.315 | AT10: 39935.197 | AU10: 38979.282 | AV10: 30590.551 | AW10: 30951.085 | AX10: 34325.203 | AY10: 32658.226 | AZ10: 26993.026 | BA10: 25066.302 | BB10: 24823.461
B11: Comercial | C11: Commercial | D11: 245171.71 | E11: 249540.24 | F11: 268394.26 | G11: 282729.6 | H11: 269664.8 | I11: 278926.86 | J11: 301471.23 | K11: 313496.8 | L11: 287678 | M11: 294601.95 | N11: 311510.26 | O11: 322109.77 | P11: 295430.76 | Q11: 307277.41 | R11: 305833.1 | S11: 305811.09 | T11: 262689.43 | U11: 271482.81 | V11: 277507.71 | W11: 290914.28 | X11: 245820.81 | Y11: 255914.17 | Z11: 263178.98 | AA11: 269804.82 | AB11: 237938.01 | AC11: 245327.85 | AD11: 255887.05 | AE11: 269111.47 | AF11: 228595.95 | AG11: 192030.81 | AH11: 227928.77 | AI11: 239069.75 | AJ11: 210482.53 | AK11: 209747.37 | AL11: 224223.25 | AM11: 228079.28 | AN11: 186590.23 | AO11: 165002.71 | AP11: 169848.86 | AQ11: 167498.45 | AR11: 149823.46 | AS11: 155796.24 | AT11: 164163.54 | AU11: 171359.89 | AV11: 145753.85 | AW11: 154522.29 | AX11: 150231.57 | AY11: 150897.44 | AZ11: 125822.68 | BA11: 132074.8 | BB11: 137522.1
B12: Outros | C12: Others | D12: 267634.62 | E12: 278493.56 | F12: 304343.49 | G12: 322827.74 | H12: 278522.55 | I12: 289769.69 | J12: 333204.93 | K12: 329583.31 | L12: 292745 | M12: 305396.94 | N12: 334819.12 | O12: 357917.42 | P12: 304520.24 | Q12: 333027.4 | R12: 344915.87 | S12: 351972.1 | T12: 291173.73 | U12: 313805.35 | V12: 347592.57 | W12: 367483.1 | X12: 304196.16 | Y12: 334981.43 | Z12: 357726.95 | AA12: 362057.26 | AB12: 310769.49 | AC12: 339153.85 | AD12: 363291.27 | AE12: 388700.68 | AF12: 320339.77 | AG12: 325100.27 | AH12: 355401.89 | AI12: 361731.08 | AJ12: 325472.22 | AK12: 343536.69 | AL12: 374384.27 | AM12: 378112.06 | AN12: 334814.74 | AO12: 364198.27 | AP12: 395376.91 | AQ12: 405652.41 | AR12: 340486.87 | AS12: 384406.49 | AT12: 411184.16 | AU12: 433292.76 | AV12: 359986.59 | AW12: 408513.18 | AX12: 426864.44 | AY12: 437147.3 | AZ12: 354304.76 | BA12: 407267.55 | BB12: 434788.28
B13: Total (cativo) | C13: Total (captive) | D13: =SUM(D9:D12) -> 1221722.3 | E13: =SUM(E9:E12) -> 1235398.2 | F13: =SUM(F9:F12) -> 1336613.4 | G13: =SUM(G9:G12) -> 1412194.8 | H13: =SUM(H9:H12) -> 1306520 | I13: =SUM(I9:I12) -> 1326891.8 | J13: =SUM(J9:J12) -> 1459361.2 | K13: =SUM(K9:K12) -> 1498402.2 | ... BB13: =SUM(BB9:BB12) -> 1828478.5
B14: Industrial | C14: Industrial | D14: 12739.201 | E14: 12528.749 | F14: 22721.742 | G14: 26153.716 | H14: 25061.608 | I14: 23404.53 | J14: 25953.133 | K14: 27549.262 | L14: 24758.562 | M14: 23624.156 | N14: 23755.03 | O14: 24286.134 | P14: 22291.013 | Q14: 23462.976 | R14: 28979.147 | S14: 37789.534 | T14: 38032.336 | U14: 37893.33 | V14: 43019.61 | W14: 43841.552 | X14: 31937.104 | Y14: 41250.13 | Z14: 48078.152 | AA14: 46683.072 | AB14: 46084.103 | AC14: 55571.126 | AD14: 66552.511 | AE14: 71408.138 | AF14: 69284.249 | AG14: 72266.081 | AH14: 82424.711 | AI14: 86441.512 | AJ14: 85153.257 | AK14: 91762.556 | AL14: 93191.578 | AM14: 96835.445 | AN14: 87844.999 | AO14: 97482.88 | AP14: 102109.52 | AQ14: 105676.26 | AR14: 94857.543 | AS14: 103313.29 | AT14: 109428.83 | AU14: 113166.94 | AV14: 110565.12 | AW14: 100053.72 | AX14: 118387.64 | AY14: 121494.42 | AZ14: 106666.36 | BA14: 121299.51 | BB14: 129444.88
B15: Comercial | C15: Commercial | D15: 3534.7394 | E15: 3995.8307 | F15: 4392.224 | G15: 4496.8589 | H15: 4138.0904 | I15: 4553.8253 | J15: 5499.1014 | K15: 5442.3053 | L15: 5252.4865 | M15: 5107.5622 | N15: 5127.1991 | O15: 5421.8978 | P15: 5011.6204 | Q15: 5207.0506 | R15: 7763.6519 | S15: 15756.124 | T15: 20628.134 | U15: 31973.891 | V15: 41829.031 | W15: 45622.836 | X15: 47238.057 | Y15: 47797.535 | Z15: 51319.798 | AA15: 53561.547 | AB15: 52439.422 | AC15: 57672.464 | AD15: 60828.824 | AE15: 63365.455 | AF15: 62339.786 | AG15: 53420.046 | AH15: 70264.63 | AI15: 79201.9 | AJ15: 75880.943 | AK15: 82238.07 | AL15: 90757.025 | AM15: 93666.044 | AN15: 88632.423 | AO15: 93751.596 | AP15: 101837.93 | AQ15: 102298.77 | AR15: 104273.64 | AS15: 113783.66 | AT15: 120852.05 | AU15: 125011.02 | AV15: 127171.96 | AW15: 136247.43 | AX15: 142436.91 | AY15: 150032.66 | AZ15: 141648.63 | BA15: 153920.38 | BB15: 162736.46
B16: Outros | C16: Others | D16: 0 | E16: 0 | F16: 0 | G16: 0 | H16: 0 | I16: 0 | J16: 0 | K16: 0 | L16: 0 | M16: 0 | N16: 0 | O16: 0 | P16: 0 | Q16: 506.47912 | R16: 502.71508 | S16: 595.88624 | T16: 624.50568 | U16: 849.12567 | V16: 2523.0283 | W16: 1273.1733 | X16: 740.61766 | Y16: 887.832 | Z16: 2563.975 | AA16: 1284.996 | AB16: 731.392 | AC16: 729.633 | AD16: 2565.328 | AE16: 2092.774 | AF16: 779.819 | AG16: 814.21 | AH16: 2183.478 | AI16: 2421.658 | AJ16: 1802.9893 | AK16: 852.26248 | AL16: 2813.109 | AM16: 3062.2074 | AN16: 2034.1181 | AO16: 1454.3003 | AP16: 3159.7313 | AQ16: 3811.3291 | AR16: 3819.5248 | AS16: 2174.6654 | AT16: 3873.3427 | AU16: 5369.363 | AV16: 7065.1124 | AW16: 7736.9829 | AX16: 11089.189 | AY16: 11233.702 | AZ16: 8673.0242 | BA16: 12335.657 | BB16: 15205.26
B17: Consumidores livres | C17: Free Market Customers | D17: =SUM(D14:D16) -> 16273.94 | E17: =SUM(E14:E16) -> 16524.58 | F17: =SUM(F14:F16) -> 27113.966 | G17: =SUM(G14:G16) -> 30650.575 | H17: =SUM(H14:H16) -> 29199.698 | I17: =SUM(I14:I16) -> 27958.355 | J17: =SUM(J14:J16) -> 31452.235 | K17: =SUM(K14:K16) -> 32991.568 | ... BB17: =SUM(BB14:BB16) -> 307386.61
B18: Energia de Conexão - outras Distribuidoras | C18: Connection w/Other DisCos | D18: 114.058 | E18: 116.549 | F18: 133.244 | G18: 131.402 | H18: 111.21971 | I18: 120.422 | J18: 139.319 | K18: 136.401 | L18: 121.655 | M18: 132.412 | N18: 144.2 | O18: 158.225 | P18: 356.48956 | Q18: 386.45156 | R18: 1838.3977 | S18: 2691.0477 | T18: 2454.0746 | U18: 2722.006 | V18: 2343.0481 | W18: 1607.7754 | X18: 1715.724 | Y18: 1853.4547 | Z18: 1264.3881 | AA18: 1411.5641 | AB18: 1329.1044 | AC18: 3154.0879 | AD18: 2436.8126 | AE18: 1733.6873 | AF18: 2475.8067 | AG18: 1429.8232 | AH18: 1504.3503 | AI18: 1188.268 | AJ18: 1826.0141 | AK18: 1393.1388 | AL18: 1809.4725 | AM18: 1942.6498 | AN18: 2223.7396 | AO18: 1483.9378 | AP18: 2092.588 | AQ18: 1191.0473 | AR18: 2402.653 | AS18: 1999.8316 | AT18: 5183.9675 | AU18: 2297.2634 | AV18: 2081.0544 | AW18: 1677.6105 | AX18: 2902.0734 | AY18: 3039.49 | AZ18: 4108.5522 | BA18: 4287.2327 | BB18: 6003.8469
B19: Energia Faturada | C19: Billed energy | D19: =SUM(D13,D17,D18) -> 1238110.3 | E19: =SUM(E13,E17,E18) -> 1252039.3 | F19: =SUM(F13,F17,F18) -> 1363860.6 | G19: =SUM(G13,G17,G18) -> 1442976.8 | H19: =SUM(H13,H17,H18) -> 1335830.9 | I19: =SUM(I13,I17,I18) -> 1354970.6 | J19: =SUM(J13,J17,J18) -> 1490952.8 | K19: =SUM(K13,K17,K18) -> 1531530.1 | ... BB19: =SUM(BB13,BB17,BB18) -> 2141869
B20: Compensado GD II e GD III | C20: Energy Compensation of Distributed Generation type II and III | AV20: 19090.405 | AW20: 29616.539 | AX20: 54093.865 | AY20: 52246.924 | AZ20: 53740.121 | BA20: 68129.879 | BB20: 80253.116
B21: Energia Faturada + Energia Compensada | C21: Billed + Energy Compensation of Distribured Generation type II and III | D21: =D19+D20 -> 1238110.3 | E21: =E19+E20 -> 1252039.3 | F21: =F19+F20 -> 1363860.6 | G21: =G19+G20 -> 1442976.8 | H21: =H19+H20 -> 1335830.9 | I21: =I19+I20 -> 1354970.6 | J21: =J19+J20 -> 1490952.8 | K21: =K19+K20 -> 1531530.1 | ... BB21: =BB19+BB20 -> 2222122.1
B22: SCEE - GD I | C22: Energy Compensation of Distributed Generation type I | AV22: 101441.11 | AW22: 109755.53 | AX22: 108010.86 | AY22: 131081.48 | AZ22: 113509.74 | BA22: 119772.73 | BB22: 126702.11
B23: Energia de Compensação GD | C23: (-) Compensation Energy from DG | AB23: 1856.037 | AC23: 2708.023 | AD23: 4319.158 | AE23: 7567.04 | AF23: 8922.584 | AG23: 11896.237 | AH23: 18966.802 | AI23: 24017.54 | AJ23: 23765.382 | AK23: 29045.375 | AL23: 39058.818 | AM23: 46944.956 | AN23: 44545.871 | AO23: 55771.213 | AP23: 71437.419 | AQ23: 83257.294 | AR23: 82169.038 | AS23: 99822.439 | AT23: 118834.48 | AU23: 131189.92 | AV23: =+AV22+AV20 -> 120531.52 | AW23: =+AW22+AW20 -> 139372.07 | AX23: =+AX22+AX20 -> 162104.73 | AY23: =+AY22+AY20 -> 183328.41 | AZ23: =+AZ22+AZ20 -> 167249.87 | BA23: =+BA22+BA20 -> 187902.61 | BB23: =+BB22+BB20 -> 206955.23
B24: Total Distribuida - Maranhão* | C24: Total Distributed - Maranhão* | D24: =D19+D23 -> 1238110.3 | E24: =E19+E23 -> 1252039.3 | F24: =F19+F23 -> 1363860.6 | G24: =G19+G23 -> 1442976.8 | H24: =H19+H23 -> 1335830.9 | I24: =I19+I23 -> 1354970.6 | J24: =J19+J23 -> 1490952.8 | K24: =K19+K23 -> 1531530.1 | ... BB24: =BB19+BB23 -> 2348824.2
B25: (*) Inclui mercados cativo, livre, uso distribuidora e consumo próprio | C25: (*) Includes captive, free, distributor use and own consumption
B27: Pará | C27: Pará
B28: Residencial | C28: Residential | D28: 629910.3 | E28: 669517.91 | F28: 700202.06 | G28: 758350.18 | H28: 767350.71 | I28: 811032.6 | J28: 867151.84 | K28: 871810.58 | L28: 803746.8 | M28: 755640.33 | N28: 912657.88 | O28: 1084082.2 | P28: 834676.7 | Q28: 893487.96 | R28: 1008262.6 | S28: 1009673.3 | T28: 830710.91 | U28: 936310.61 | V28: 1004580.7 | W28: 1038316.9 | X28: 873037.97 | Y28: 926663.55 | Z28: 933719.9 | AA28: 938090.76 | AB28: 794439.1 | AC28: 866402.55 | AD28: 957126.12 | AE28: 993849.41 | AF28: 888167.74 | AG28: 946861.53 | AH28: 1051296.6 | AI28: 1015557.5 | AJ28: 966914.43 | AK28: 1030577.2 | AL28: 1087796.2 | AM28: 1103240.8 | AN28: 997225.31 | AO28: 1048732.5 | AP28: 1165540 | AQ28: 1170200.2 | AR28: 1061124.8 | AS28: 1125939.4 | AT28: 1253055.5 | AU28: 1347792.2 | AV28: 1199640.5 | AW28: 1217165.1 | AX28: 1296070.3 | AY28: 1328747.6 | AZ28: 1138695.8 | BA28: 1204219 | BB28: 1265997.7
B29: Industrial | C29: Industrial | D29: 286922.6 | E29: 302886.59 | F29: 339552.34 | G29: 364903.33 | H29: 316695.42 | I29: 326518.32 | J29: 346502.8 | K29: 354809.66 | L29: 327926.55 | M29: 307271.29 | N29: 342180.17 | O29: 343778.38 | P29: 262654.69 | Q29: 209784.31 | R29: 224289.1 | S29: 227876.75 | T29: 158663.89 | U29: 153998.15 | V29: 156913.74 | W29: 160725.94 | X29: 136753.96 | Y29: 129217.86 | Z29: 150321.24 | AA29: 163115.37 | AB29: 121811.67 | AC29: 126939 | AD29: 135548.39 | AE29: 136109.8 | AF29: 106191.31 | AG29: 98829.087 | AH29: 134609.77 | AI29: 124096.74 | AJ29: 108993.06 | AK29: 108916.59 | AL29: 125691.28 | AM29: 124021.56 | AN29: 106408.4 | AO29: 108966.8 | AP29: 110561.31 | AQ29: 97437.047 | AR29: 83763.953 | AS29: 84600.055 | AT29: 93231.56 | AU29: 91901.749 | AV29: 74381.288 | AW29: 72004.493 | AX29: 73009.018 | AY29: 68827.88 | AZ29: 52786.069 | BA29: 47241.928 | BB29: 50151.357
B30: Comercial | C30: Commercial | D30: 371956.35 | E30: 402887.35 | F30: 418795.72 | G30: 445531.75 | H30: 398720.37 | I30: 421382.4 | J30: 445746.14 | K30: 464834.22 | L30: 420933.83 | M30: 403842.84 | N30: 466707.95 | O30: 508454.02 | P30: 402643.29 | Q30: 426443.97 | R30: 454677.14 | S30: 447581.57 | T30: 365667.75 | U30: 409860.78 | V30: 420490.72 | W30: 417747.92 | X30: 356256.04 | Y30: 380886.21 | Z30: 394629.8 | AA30: 394056.55 | AB30: 334021.13 | AC30: 362204.28 | AD30: 380883.29 | AE30: 399654.94 | AF30: 341256.96 | AG30: 295809.11 | AH30: 372425.46 | AI30: 370449.91 | AJ30: 322859.54 | AK30: 338906.87 | AL30: 367964.75 | AM30: 369618.68 | AN30: 330360.25 | AO30: 344141.71 | AP30: 367444.85 | AQ30: 362445.78 | AR30: 316430.33 | AS30: 333802.65 | AT30: 357137.87 | AU30: 365421.92 | AV30: 313996.91 | AW30: 319015.79 | AX30: 324185.07 | AY30: 323700.38 | AZ30: 261474.57 | BA30: 268665.5 | BB30: 272891.59
B31: Outros | C31: Others | D31: 283423.11 | E31: 307160 | F31: 316921.44 | G31: 341811.35 | H31: 314892.51 | I31: 335775.75 | J31: 340896.03 | K31: 370815.53 | L31: 335087.1 | M31: 333858.65 | N31: 374660.17 | O31: 417604.19 | P31: 351592.73 | Q31: 399773.22 | R31: 417984.87 | S31: 425123.1 | T31: 348898.05 | U31: 383556.48 | V31: 390966.74 | W31: 427329.49 | X31: 366423.05 | Y31: 392242.79 | Z31: 403028.93 | AA31: 422126.02 | AB31: 368767.65 | AC31: 387866.28 | AD31: 406188.23 | AE31: 435155.75 | AF31: 376117.39 | AG31: 353008.8 | AH31: 428134.96 | AI31: 384249.07 | AJ31: 338176.01 | AK31: 356591.45 | AL31: 380939.58 | AM31: 386326 | AN31: 358545.56 | AO31: 379601.19 | AP31: 397877.02 | AQ31: 391434.79 | AR31: 355657.46 | AS31: 383132.21 | AT31: 400658.58 | AU31: 442574.51 | AV31: 375538.27 | AW31: 409399.24 | AX31: 422031.59 | AY31: 439384.61 | AZ31: 358975.11 | BA31: 396824.25 | BB31: 408448.85
B32: Total (cativo) | C32: Total (captive) | D32: =SUM(D28:D31) -> 1572212.4 | E32: =SUM(E28:E31) -> 1682451.9 | F32: =SUM(F28:F31) -> 1775471.6 | G32: =SUM(G28:G31) -> 1910596.6 | H32: =SUM(H28:H31) -> 1797659 | I32: =SUM(I28:I31) -> 1894709.1 | J32: =SUM(J28:J31) -> 2000296.8 | K32: =SUM(K28:K31) -> 2062270 | ... BB32: =SUM(BB28:BB31) -> 1997489.5
B33: Industrial | C33: Industrial | D33: 83856.605 | E33: 83002.091 | F33: 87715.526 | G33: 87476.164 | H33: 89687.778 | I33: 92355.997 | J33: 95062.608 | K33: 97020.766 | L33: 87433.111 | M33: 81529.507 | N33: 77609.57 | O33: 67637.078 | P33: 135805.83 | Q33: 133458.54 | R33: 175333.76 | S33: 179255.19 | T33: 202396.03 | U33: 223399.07 | V33: 236920.91 | W33: 233226.33 | X33: 230635.3 | Y33: 230249.06 | Z33: 243810.17 | AA33: 243579.33 | AB33: 248091.81 | AC33: 241631.55 | AD33: 253598.64 | AE33: 248080.25 | AF33: 262293.99 | AG33: 233192.34 | AH33: 273976.29 | AI33: 265602.84 | AJ33: 262219.92 | AK33: 270207.34 | AL33: 294223.39 | AM33: 297765.5 | AN33: 288515.45 | AO33: 302666.06 | AP33: 314262.72 | AQ33: 314567.88 | AR33: 297938.5 | AS33: 309973.27 | AT33: 339059.27 | AU33: 337043.79 | AV33: 354095.65 | AW33: 293032.05 | AX33: 349630.77 | AY33: 381287.33 | AZ33: 353001.2 | BA33: 389409.86 | BB33: 416443.38
B34: Comercial | C34: Commercial | D34: 0 | E34: 0 | F34: 0 | G34: 0 | H34: 0 | I34: 0 | J34: 0 | K34: 0 | L34: 0 | M34: 0 | N34: 0 | O34: 0 | P34: 14100.674 | Q34: 25117.59 | R34: 34759.029 | S34: 41679.219 | T34: 50899.209 | U34: 61302.346 | V34: 69083.039 | W34: 77259.666 | X34: 74513.979 | Y34: 79125.115 | Z34: 83429.285 | AA34: 86415.44 | AB34: 85368.872 | AC34: 101497.9 | AD34: 112454.15 | AE34: 111003.88 | AF34: 105181.17 | AG34: 94768.822 | AH34: 119478.97 | AI34: 125920.83 | AJ34: 123510.81 | AK34: 143848.42 | AL34: 149689.4 | AM34: 149132.76 | AN34: 149905.72 | AO34: 167595.04 | AP34: 178717.13 | AQ34: 175555.78 | AR34: 188354.13 | AS34: 197792.63 | AT34: 205900.12 | AU34: 217361.14 | AV34: 210412.47 | AW34: 231880.92 | AX34: 245501.41 | AY34: 249922.62 | AZ34: 246024.7 | BA34: 275826.08 | BB34: 288892.27
B35: Outros | C35: Others | D35: 0 | E35: 0 | F35: 0 | G35: 0 | H35: 373.74 | I35: 559.464 | J35: 637.305 | K35: 615.315 | L35: 603.18 | M35: 720.861 | N35: 732.751 | O35: 770.47 | P35: 627.68429 | Q35: 790.75903 | R35: 893.83642 | S35: 1123.7219 | T35: 1938.5232 | U35: 1750.8373 | V35: 2093.0527 | W35: 2024.4655 | X35: 1987.4067 | Y35: 2053.0267 | Z35: 2073.917 | AA35: 2168.5149 | AB35: 1885.9444 | AC35: 2113.0973 | AD35: 2023.3537 | AE35: 2240.3022 | AF35: 2089.9453 | AG35: 2149.0562 | AH35: 2179.6512 | AI35: 18063.957 | AJ35: 22396.754 | AK35: 23923.137 | AL35: 25289.64 | AM35: 29543.414 | AN35: 29716.534 | AO35: 29423.327 | AP35: 32345.103 | AQ35: 33343.689 | AR35: 29186.537 | AS35: 30948.233 | AT35: 31876.681 | AU35: 32163.213 | AV35: 31559.184 | AW35: 33417.07 | AX35: 36437.867 | AY35: 36751.708 | AZ35: 34181.962 | BA35: 37817.155 | BB35: 40937.425
B36: Consumidores livres | C36: Free Market Customers | D36: =SUM(D33:D35) -> 83856.605 | E36: =SUM(E33:E35) -> 83002.091 | F36: =SUM(F33:F35) -> 87715.526 | G36: =SUM(G33:G35) -> 87476.164 | H36: =SUM(H33:H35) -> 90061.518 | I36: =SUM(I33:I35) -> 92915.461 | J36: =SUM(J33:J35) -> 95699.913 | K36: =SUM(K33:K35) -> 97636.081 | ... BB36: =SUM(BB33:BB35) -> 746273.07
B37: Energia de Conexão - outras Distribuidoras | C37: Connection w/Other DisCos | D37: 114.058 | E37: 116.549 | F37: 133.244 | G37: 131.402 | H37: 111.21971 | I37: 120.422 | J37: 139.319 | K37: 136.401 | L37: 121.655 | M37: 132.412 | N37: 144.2 | O37: 158.225 | P37: 356.48956 | Q37: 386.45156 | R37: 1838.3977 | S37: 2691.0477 | T37: 2454.0746 | U37: 2722.006 | V37: 2343.0481 | W37: 1607.7754 | X37: 1715.724 | Y37: 1853.4547 | Z37: 1264.3881 | AA37: 1411.5641 | AT37: 10559.423 | AU37: 4061.392 | AV37: 3551.7393 | AW37: 3995.1039 | AX37: 4736.7541 | AY37: 12552.449 | AZ37: 7791.5838 | BA37: 8356.6946 | BB37: 8288.5352
B38: Energia Faturada | C38: Billed energy | D38: =SUM(D32,D36,D37) -> 1656183 | E38: =SUM(E32,E36,E37) -> 1765570.5 | F38: =SUM(F32,F36,F37) -> 1863320.3 | G38: =SUM(G32,G36,G37) -> 1998204.2 | H38: =SUM(H32,H36,H37) -> 1887831.7 | I38: =SUM(I32,I36,I37) -> 1987744.9 | J38: =SUM(J32,J36,J37) -> 2096136 | K38: =SUM(K32,K36,K37) -> 2160042.5 | ... BB38: =SUM(BB32,BB36,BB37) -> 2752051.1
B39: Compensado GD II e GD III | C39: Energy Compensation of Distributed Generation type II and III | AV39: 0 | AW39: 22438.17 | AX39: 112446.18 | AY39: 105918.58 | AZ39: 103579.98 | BA39: 129783.71 | BB39: 151384.19
B40: Energia Faturada + Energia Compensada | C40: Billed + Energy Compensation of Distribured Generation type II and III | D40: =D38+D39 -> 1656183 | E40: =E38+E39 -> 1765570.5 | F40: =F38+F39 -> 1863320.3 | G40: =G38+G39 -> 1998204.2 | H40: =H38+H39 -> 1887831.7 | I40: =I38+I39 -> 1987744.9 | J40: =J38+J39 -> 2096136 | K40: =K38+K39 -> 2160042.5 | ... BB40: =BB38+BB39 -> 2903435.3
B41: SCEE - GD I | C41: Energy Compensation of Distributed Generation type I | AV41: 167894.11 | AW41: 171508.53 | AX41: 131813.77 | AY41: 162224.87 | AZ41: 132614.21 | BA41: 151688.03 | BB41: 166428.12
B42: Energia de Compensação GD | C42: (-) Compensation Energy from DG | AF42: 8011.865 | AG42: 11657.596 | AH42: 17040.973 | AI42: 21522.362 | AJ42: 22074.429 | AK42: 32228.103 | AL42: 40414.914 | AM42: 47085.925 | AN42: 46769.684 | AO42: 59564.584 | AP42: 80030.016 | AQ42: 92662.696 | AR42: 95386.623 | AS42: 118296.41 | AT42: 153317.5 | AU42: 178074.49 | AV42: =+AV41+AV39 -> 167894.11 | AW42: =+AW41+AW39 -> 193946.7 | AX42: =+AX41+AX39 -> 244259.95 | AY42: =+AY41+AY39 -> 268143.45 | AZ42: =+AZ41+AZ39 -> 236194.18 | BA42: =+BA41+BA39 -> 281471.75 | BB42: =+BB41+BB39 -> 317812.31
B43: Total Distribuida - Pará | C43: Total Distributed - Pará (B) | D43: =D38+D42 -> 1656183 | E43: =E38+E42 -> 1765570.5 | F43: =F38+F42 -> 1863320.3 | G43: =G38+G42 -> 1998204.2 | H43: =H38+H42 -> 1887831.7 | I43: =I38+I42 -> 1987744.9 | J43: =J38+J42 -> 2096136 | K43: =K38+K42 -> 2160042.5 | ... BB43: =BB38+BB42 -> 3069863.5
B45: Piauí | C45: Piauí
B46: Residencial | C46: Residential | D46: 311181.47 | E46: 311671.16 | F46: 340416.16 | G46: 364667.19 | H46: 338015.51 | I46: 335684.81 | J46: 368008.9 | K46: 389883.51 | L46: 362040.71 | M46: 358460.63 | N46: 382765.05 | O46: 423172.87 | P46: 375238.16 | Q46: 392927.17 | R46: 412872.6 | S46: 447975.57 | T46: 390959.59 | U46: 396291.44 | V46: 423717.11 | W46: 468665.12 | X46: 406678.69 | Y46: 406089.9 | Z46: 439477.56 | AA46: 403542.12 | AB46: 410050.42 | AC46: 417577.26 | AD46: 439517.12 | AE46: 502329.67 | AF46: 434714.67 | AG46: 441066.86 | AH46: 462994.57 | AI46: 521830.57 | AJ46: 462654.73 | AK46: 470051.45 | AL46: 489025.23 | AM46: 504587.52 | AN46: 439699.79 | AO46: 442844.13 | AP46: 478758.67 | AQ46: 513815.6 | AR46: 447895.86 | AS46: 468318.17 | AT46: 526575.37 | AU46: 574280.68 | AV46: 510153.97 | AW46: 507590.61 | AX46: 509585.53 | AY46: 573515.04 | AZ46: 500197.81 | BA46: 509002.48 | BB46: 543628.45
B47: Industrial | C47: Industrial | D47: 44755.555 | E47: 49690.878 | F47: 50138.5 | G47: 48456.739 | H47: 48940.141 | I47: 52411.932 | J47: 59347.782 | K47: 55088.283 | L47: 51211.597 | M47: 53036.419 | N47: 58119.261 | O47: 55722.393 | P47: 49694.498 | Q47: 49587.904 | R47: 53668.311 | S47: 54401.635 | T47: 49030.054 | U47: 48845.598 | V47: 45915.096 | W47: 47741.726 | X47: 41580.032 | Y47: 43049.393 | Z47: 42570.154 | AA47: 35066.026 | AB47: 34122.761 | AC47: 38438.981 | AD47: 43582.209 | AE47: 42410.37 | AF47: 33223.865 | AG47: 29675.741 | AH47: 34462.313 | AI47: 36132.673 | AJ47: 31161.228 | AK47: 30795.643 | AL47: 31632.699 | AM47: 28113.246 | AN47: 24272.928 | AO47: 27280.264 | AP47: 28951.716 | AQ47: 24953.305 | AR47: 21238.004 | AS47: 22956.447 | AT47: 23510.231 | AU47: 20973.729 | AV47: 17409.032 | AW47: 17529.46 | AX47: 18045.674 | AY47: 15163.2 | AZ47: 13286.645 | BA47: 13794.181 | BB47: 14730.445
B48: Comercial | C48: Commercial | D48: 140953.15 | E48: 145082.96 | F48: 158237.9 | G48: 165342.4 | H48: 153186.8 | I48: 157111.98 | J48: 170644.75 | K48: 178521.86 | L48: 163165.12 | M48: 167387.38 | N48: 177943.56 | O48: 193533.31 | P48: 172200.77 | Q48: 183808.72 | R48: 190413.71 | S48: 194330.54 | T48: 171127.73 | U48: 175714.19 | V48: 184028.3 | W48: 198132.18 | X48: 176482.07 | Y48: 179923.92 | Z48: 191061.58 | AA48: 174528.77 | AB48: 176000.64 | AC48: 181456.1 | AD48: 190456.74 | AE48: 207299.95 | AF48: 171911.07 | AG48: 126058.26 | AH48: 141459.72 | AI48: 166763.59 | AJ48: 146115.81 | AK48: 146920.07 | AL48: 161342.37 | AM48: 163455.14 | AN48: 142450.7 | AO48: 146832.28 | AP48: 151248.68 | AQ48: 152099.68 | AR48: 132028.84 | AS48: 135465.84 | AT48: 142137.18 | AU48: 144964.23 | AV48: 124910.88 | AW48: 127051.76 | AX48: 123008.59 | AY48: 126266.08 | AZ48: 106018.32 | BA48: 109320.62 | BB48: 111857
...

Sheet Mercado Distribuição (Pós CP09)
B6: Classes de consumo (MWh) | C6: Consumption Classes (MWh) | D6: 4T24 | E6: 1T25 | F6: 2T25 | G6: 3T25 | H6: 4T25 | I6: 1T26 | J6: 2T26
B8: Maranhão | C8: Maranhão
B9: Residencial | C9: Residential | D9: 1266703 | E9: 1109360.9 | F9: 1149762.5 | G9: 1231346.9 | H9: 1304025 | I9: 1173083.9 | J9: 1202586.3
B10: Industrial | C10: Industrial | D10: 32658 | E10: 26993.026 | F10: 25066.302 | G10: 24823.461 | H10: 24667 | I10: 21204.711 | J10: 20818.165
B11: Comercial | C11: Commercial | D11: 150896 | E11: 125822.68 | F11: 132074.8 | G11: 137522.11 | H11: 139520 | I11: 125048.41 | J11: 127815.08
B12: Outros | C12: Others | D12: 437342 | E12: 354304.76 | F12: 407267.55 | G12: 434788.28 | H12: 445214 | I12: 368344.7 | J12: 414811.59
B13: Total (cativo) | C13: Total (captive) | D13: =SUM(D9:D12) -> 1887599 | E13: 1616481.4 | F13: 1714171.1 | G13: =SUM(G9:G12) -> 1828480.8 | H13: =SUM(H9:H12) -> 1913426 | I13: =SUM(I9:I12) -> 1687681.7 | J13: =SUM(J9:J12) -> 1766031.1
B14: Industrial | C14: Industrial | D14: 121970 | E14: 107080.21 | F14: 121643.18 | G14: 129775.34 | H14: 133595 | I14: 122871.6 | J14: 125729.28
B15: Comercial | C15: Commercial | D15: 149544 | E15: 141324.53 | F15: 153560 | G15: 162393.27 | H15: 167784 | I15: 158194.05 | J15: 164324.55
B16: Outros | C16: Others | D16: 11219 | E16: 8644.2062 | F16: 12320.795 | G16: 15195.612 | H16: 17876 | I16: 15763.894 | J16: 18642.372
B17: Consumidores livres | C17: Free Market Customers | D17: =SUM(D14:D16) -> 282733 | E17: 257048.94 | F17: 287523.97 | G17: =SUM(G14:G16) -> 307364.22 | H17: =SUM(H14:H16) -> 319255 | I17: =SUM(I14:I16) -> 296829.55 | J17: =SUM(J14:J16) -> 308696.2
B18: Energia de Conexão - outras Distribuidoras (Faturada) | C18: Connection w/Other DisCos (Billed) | D18: 3039.49 | E18: 4108.5522 | F18: 4287.2327 | G18: 6003.8469 | H18: 3998 | I18: 4072.818 | J18: 4443.957
B19: Energia Faturada | C19: Billed energy | D19: =SUM(D13,D17,D18) -> 2173371.5 | E19: 1877638.9 | F19: 2005982.3 | G19: =SUM(G13,G17,G18) -> 2141848.8 | H19: =SUM(H13,H17,H18) -> 2236679 | I19: =SUM(I13,I17,I18) -> 1988584.1 | J19: =SUM(J13,J17,J18) -> 2079171.3
B20: Compensado GD II e GD III | C20: Energy Compensation of Distributed Generation type II and III | D20: 52246.924 | E20: 53740.121 | F20: 68129.879 | G20: 80252.121 | H20: 96482 | I20: 90756.849 | J20: 103921.67
B21: Mercado Fio B | C21: Wire B Market | D21: =D19+D20 -> 2225618.4 | E21: 1931379 | F21: 2074112.2 | G21: =G19+G20 -> 2222100.9 | H21: =H19+H20 -> 2333161 | I21: =I19+I20 -> 2079340.9 | J21: =J19+J20 -> 2183092.9
B22: Total Mercado Distribuído (Mercado Fio B Total + Comp. GD I) | C22: Total Distributed Market (Total Wire B Market + Compensated DG I) | E22: 2044828 | F22: 2193916.5 | I22: 2201159 | J22: 2313367.7
B23: Fluxo Passante | C23: Pass-through energy | D23: ='Bal. Energético D (Pós CP 09)'!D12 -> 1494.8299 | E23: 2163.4213 | F23: 3134.7176 | G23: ='Bal. Energético D (Pós CP 09)'!G12 -> 4996.7426 | H23: ='Bal. Energético D (Pós CP 09)'!H12 -> 11185.495 | I23: ='Bal. Energético D (Pós CP 09)'!I12 -> 8755.585 | J23: ='Bal. Energético D (Pós CP 09)'!J12 -> 9714.411
B24: Energia Medida Total + Fluxo Passante | C24: Total Measured Energy + Pass-through | D24: =SUM('Bal. Energético D (Pós CP 09)'!D10:D12) -> 2337105.3 | E24: 2015896.4 | F24: 2167026.4 | G24: =SUM('Bal. Energético D (Pós CP 09)'!G10:G12) -> 2329952.8 | H24: =SUM('Bal. Energético D (Pós CP 09)'!H10:H12) -> 2457952.5 | I24: =SUM('Bal. Energético D (Pós CP 09)'!I10:I12) -> 2189545.1 | J24: =SUM('Bal. Energético D (Pós CP 09)'!J10:J12) -> 2309154
B27: Pará | C27: Pará
B28: Residencial | C28: Residential | D28: 1328745 | E28: 1138695.8 | F28: 1204219 | G28: 1265981.4 | H28: 1343876 | I28: 1194442.9 | J28: 1274689.8
B29: Industrial | C29: Industrial | D29: 68828 | E29: 52786.069 | F29: 47241.928 | G29: 50167.563 | H29: 50037 | I29: 40343.612 | J29: 39109.298
B30: Comercial | C30: Commercial | D30: 323704 | E30: 261474.57 | F30: 268665.5 | G30: 272891.9 | H30: 280952 | I30: 242416.1 | J30: 257765.81
B31: Outros | C31: Others | D31: 439384 | E31: 358975.11 | F31: 396824.25 | G31: 408448.85 | H31: 430688 | I31: 367630.39 | J31: 405194.48
B32: Total (cativo) | C32: Total (captive) | D32: =SUM(D28:D31) -> 2160661 | E32: 1811931.6 | F32: 1916950.6 | G32: =SUM(G28:G31) -> 1997489.7 | H32: =SUM(H28:H31) -> 2105553 | I32: =SUM(I28:I31) -> 1844833.1 | J32: =SUM(J28:J31) -> 1976759.4
B33: Industrial | C33: Industrial | D33: 372519 | E33: 356281.3 | F33: 393835.87 | G33: 419778.63 | H33: 434707 | I33: 404682.47 | J33: 414286.95
B34: Comercial | C34: Commercial | D34: 250303 | E34: 245769.37 | F34: 275167.75 | G34: 289181.43 | H34: 296857 | I34: 280778.31 | J34: 300521.31
B35: Outros | C35: Others | D35: 36875 | E35: 34216.324 | F35: 37994.443 | G35: 40992.476 | H35: 40529 | I35: 41832.753 | J35: 47835.392
B36: Consumidores livres | C36: Free Market Customers | D36: =SUM(D33:D35) -> 659697 | E36: 636267 | F36: 706998.07 | G36: =SUM(G33:G35) -> 749952.53 | H36: =SUM(H33:H35) -> 772093 | I36: =SUM(I33:I35) -> 727293.54 | J36: =SUM(J33:J35) -> 762643.65
B37: Energia de Conexão - outras Distribuidoras (Faturada) | C37: Connection w/Other DisCos (Billed) | D37: 12552 | E37: 7791.5838 | F37: 8356.6946 | G37: 8288.5352 | H37: 8185 | I37: 7297.1956 | J37: 8319.3725
B38: Energia Faturada | C38: Billed energy | D38: =SUM(D32,D36,D37) -> 2832910 | E38: 2455990.2 | F38: 2632305.4 | G38: =SUM(G32,G36,G37) -> 2755730.8 | H38: =SUM(H32,H36,H37) -> 2885831 | I38: =SUM(I32,I36,I37) -> 2579423.8 | J38: =SUM(J32,J36,J37) -> 2747722.4
B39: Compensado GD II e GD III | C39: Energy Compensation of Distributed Generation type II and III | D39: 105919 | E39: 103579.98 | F39: 129783.71 | G39: 151384.74 | H39: 177413 | I39: 160628.03 | J39: 184971.79
B40: Mercado Fio B | C40: Wire B Market | D40: =D38+D39 -> 2938829 | E40: 2559570.1 | F40: 2762089.1 | G40: =G38+G39 -> 2907115.5 | H40: =H38+H39 -> 3063244 | I40: =I38+I39 -> 2740051.8 | J40: =J38+J39 -> 2932694.2
B41: Total Mercado Distribuído (Mercado Fio B Total + Comp. GD I) | C41: Total Distributed Market (Total Wire B Market + Compensated DG I) | E41: 2691879 | F41: 2913316.8 | I41: 2888595 | J41: 3095603.7
B42: Fluxo Passante | C42: Pass-through energy | D42: ='Bal. Energético D (Pós CP 09)'!D23 -> 26681.285 | E42: 59139.346 | F42: 35746.915 | G42: ='Bal. Energético D (Pós CP 09)'!G23 -> 7469.7496 | H42: ='Bal. Energético D (Pós CP 09)'!H23 -> 20446.519 | I42: ='Bal. Energético D (Pós CP 09)'!I23 -> 50984.57 | J42: ='Bal. Energético D (Pós CP 09)'!J23 -> 30807.419
B43: Energia Medida Total + Fluxo Passante | C43: Total Measured Energy + Pass-through | D43: =SUM('Bal. Energético D (Pós CP 09)'!D21:D23) -> 3094531.8 | E43: 2703444.8 | F43: 2901490.9 | G43: =SUM('Bal. Energético D (Pós CP 09)'!G21:G23) -> 3036015.5 | H43: =SUM('Bal. Energético D (Pós CP 09)'!H21:H23) -> 3229765.4 | I43: =SUM('Bal. Energético D (Pós CP 09)'!I21:I23) -> 2910322.3 | J43: =SUM('Bal. Energético D (Pós CP 09)'!J21:J23) -> 3099958.4
B45: Piauí | C45: Piauí
B46: Residencial | C46: Residential | D46: 573335 | E46: 500197.81 | F46: 509002.48 | G46: 543629.78 | H46: 588225 | I46: 515950.2 | J46: 514354.25
B47: Industrial | C47: Industrial | D47: 15163 | E47: 13286.645 | F47: 13794.181 | G47: 14730.445 | H47: 13483 | I47: 12702.753 | J47: 12332.666
B48: Comercial | C48: Commercial | D48: 126266 | E48: 106018.32 | F48: 109320.62 | G48: 111857 | H48: 114587 | I48: 99216 | J48: 102444.81
B49: Outros | C49: Others | D49: 252001 | E49: 204605.01 | F49: 240331.21 | G49: 251426.37 | H49: 257568 | I49: 198373.35 | J49: 227411.85
...

Sheet Bal. Energético D (Pré CP 09)
B6: Bal. energético (MWh) - Maranhão | C6: Energy Balan. (MWh) - Maranhão | D6: 1T13 | E6: 2T13 | F6: 3T13 | G6: 4T13 | H6: 1T14 | I6: 2T14 | J6: 3T14 | K6: 4T14 | L6: 1T15 | M6: 2T15 | N6: 3T15 | O6: 4T15 | P6: 1T16 | Q6: 2T16 | R6: 3T16 | S6: 4T16 | T6: 1T17 | U6: 2T17 | V6: 3T17 | W6: 4T17 | X6: 1T18 | Y6: 2T18 | Z6: 3T18 | AA6: 4T18 | AB6: 1T19 | AC6: 2T19 | AD6: 3T19 | AE6: 4T19 | AF6: 1T20 | AG6: 2T20 | AH6: 3T20 | AI6: 4T20 | AJ6: 1T21 | AK6: 2T21 | AL6: 3T21 | AM6: 4T21 | AN6: 1T22 | AO6: 2T22 | AP6: 3T22 | AQ6: 4T22 | AR6: 1T23 | AS6: 2T23 | AT6: 3T23 | AU6: 4T23 | AV6: 1T24 | AW6: 2T24 | AX6: 3T24 | AY6: 4T24 | AZ6: 1T25 | BA6: 2T25 | BB6: 3T25
B7: Sistema interligado | C7: Interconnected System | D7: 1526615.5 | E7: 1581813.2 | F7: 1699002.9 | G7: 1745389.1 | H7: 1583219.4 | I7: 1660906.8 | J7: 1813517.6 | K7: 1864066 | L7: 1683773.3 | M7: 1743627.2 | N7: 1860011.4 | O7: 1948277.6 | P7: 1767976.6 | Q7: 1846433.9 | R7: 1934752.9 | S7: 1981507.3 | T7: 1709191 | U7: 1831783 | V7: 1955279 | W7: 1993483 | X7: 1742942.1 | Y7: 1821911.3 | Z7: 1967896.6 | AA7: 1985304.6 | AB7: 1779750.9 | AC7: 1889468.6 | AD7: 2031818.6 | AE7: 2125307.9 | AF7: 1865334.1 | AG7: 1901764.6 | AH7: 2117282.8 | AI7: 2201710.2 | AJ7: 1959722.2 | AK7: 2082997.4 | AL7: 2196610.6 | AM7: 2209970.3 | AN7: 1966425.9 | AO7: 2088053.6 | AP7: 2255893.7 | AQ7: 2302604.3 | AR7: 2053738.1 | AS7: 2254358.1 | AT7: 2457907.9 | AU7: 2581449.2 | AV7: 2316483.5 | AW7: 2430246.7 | AX7: 2523273.7 | AY7: 2660825.4 | AZ7: 2259420.7 | BA7: 2491272.6 | BB7: 2623126.7
B8: Energia injetada pela Geração Distribuída | C8: Injected Energy by Distributed Generation | AB8: 2166.499 | AC8: 3195.058 | AD8: 5747.02 | AE8: 8838.783 | AF8: 11325.988 | AG8: 16158.523 | AH8: 24886.671 | AI8: 27084.329 | AJ8: 28209.816 | AK8: 35876.932 | AL8: 48507.408 | AM8: 52918.842 | AN8: 51767.379 | AO8: 68319.449 | AP8: 89884.172 | AQ8: 98024.286 | AR8: 98911.247 | AS8: 118912.11 | AT8: 139020.81 | AU8: 145271.32 | AV8: 139868 | AW8: 166175 | AX8: 214137.67 | AY8: 217646.33 | AZ8: 204711.74 | BA8: 231939.6 | BB8: 274756.91
B9: Energia injetada | C9: Injected Energy | D9: =SUM(D7:D7) -> 1526615.5 | E9: =SUM(E7:E7) -> 1581813.2 | F9: =SUM(F7:F7) -> 1699002.9 | G9: =SUM(G7:G7) -> 1745389.1 | H9: =SUM(H7:H7) -> 1583219.4 | I9: =SUM(I7:I7) -> 1660906.8 | J9: =SUM(J7:J7) -> 1813517.6 | K9: =SUM(K7:K7) -> 1864066 | ... Y9: =SUM(Y7:Y7) -> 1821911.3 | Z9: =SUM(Z7:Z8) -> 1967896.6 | AA9: =SUM(AA7:AA8) -> 1985304.6 | AB9: =SUM(AB7:AB8) -> 1781917.4 | AC9: =SUM(AC7:AC8) -> 1892663.7 | AD9: =SUM(AD7:AD8) -> 2037565.6 | AE9: =SUM(AE7:AE8) -> 2134146.7 | AF9: =SUM(AF7:AF8) -> 1876660.1 | AG9: =SUM(AG7:AG8) -> 1917923.1 | ... BB9: =SUM(BB7:BB8) -> 2897883.6
B10: Energia distribuída* | C10: Distributed Energy* | D10: 1237996.2 | E10: 1251922.8 | F10: 1363727.4 | G10: 1442845.4 | H10: 1335719.7 | I10: 1354850.2 | J10: 1490813.5 | K10: 1531393.7 | L10: 1413950.8 | M10: 1425746.9 | N10: 1520358.2 | O10: 1600149.9 | P10: 1461894.6 | Q10: 1529112.3 | R10: 1563196.4 | S10: 1615903.6 | T10: 1400107.9 | U10: 1483749.5 | V10: 1602158.2 | W10: 1708083.6 | X10: 1455239.5 | Y10: 1523032.2 | Z10: 1599619.2 | AA10: 1642391 | AB10: 1479418 | AC10: 1547976 | AD10: 1646034 | AE10: 1753016 | AF10: 1552148 | AG10: 1559643 | AH10: 1722150 | AI10: 1812937.8 | AJ10: 1636005.8 | AK10: 1672615 | AL10: 1817358.1 | AM10: 1882980.6 | AN10: 1674400.3 | AO10: 1759187.8 | AP10: 1919981.3 | AQ10: 1990334 | AR10: 1793543.3 | AS10: 1938821 | AT10: 2100994.9 | AU10: 2240726.8 | AV10: 2017102.9 | AW10: 2153700.8 | AX10: 2228495.9 | AY10: 2353688.7 | AZ10: 2040719.3 | BA10: 2189629.3 | BB10: 2342820.4
B11: Energia de conexão com outras distribuidoras | C11: Energy Connection w/Other DisCos | D11: 114.058 | E11: 116.549 | F11: 133.244 | G11: 131.402 | H11: 111.21971 | I11: 120.422 | J11: 139.319 | K11: 136.401 | L11: 121.655 | M11: 132.412 | N11: 144.2 | O11: 158.225 | P11: 356.48956 | Q11: 386.45156 | R11: 1838.3977 | S11: 2691.0477 | T11: 2454.0746 | U11: 2722.006 | V11: 2343.0481 | W11: 1607.7754 | X11: 1715.724 | Y11: 1853.4547 | Z11: 1264.3881 | AA11: 1411.5641 | AB11: 1329.1044 | AC11: 3154.0879 | AD11: 2436.8126 | AE11: 1733.6873 | AF11: 2475.8067 | AG11: 1429.8232 | AH11: 1504.3503 | AI11: 1188.268 | AJ11: 1826.0141 | AK11: 1393.1388 | AL11: 1809.4725 | AM11: 1942.6498 | AN11: 2223.7396 | AO11: 1483.9378 | AP11: 2092.588 | AQ11: 1191.0473 | AR11: 2402.653 | AS11: 1999.8316 | AT11: 5183.9675 | AU11: 2297.2634 | AV11: 2081.0544 | AW11: 1677.6105 | AX11: 2902.0734 | AY11: 3039.49 | AZ11: 4108.5522 | BA11: 4287.2327 | BB11: 6003.8469
B12: Perdas totais | C12: Total Losses | D12: =D9-D10-D11 -> 288505.19 | E12: =E9-E10-E11 -> 329773.83 | F12: =F9-F10-F11 -> 335142.31 | G12: =G9-G10-G11 -> 302412.31 | H12: =H9-H10-H11 -> 247388.48 | I12: =I9-I10-I11 -> 305936.22 | J12: =J9-J10-J11 -> 322564.83 | K12: =K9-K10-K11 -> 332535.88 | ... BB12: =BB9-BB10-BB11 -> 549059.39
B13: Perdas sem Geração Distribuída | C13: Losses without Distributed Generation | AB13: =AB7-AB10-AB11+'Mercado Distribuição (Pré CP09)'!AB23 -> 300859.78 | AC13: =AC7-AC10-AC11+'Mercado Distribuição (Pré CP09)'!AC23 -> 341046.58 | AD13: =AD7-AD10-AD11+'Mercado Distribuição (Pré CP09)'!AD23 -> 387666.96 | AE13: =AE7-AE10-AE11+'Mercado Distribuição (Pré CP09)'!AE23 -> 378125.23 | AF13: =AF7-AF10-AF11+'Mercado Distribuição (Pré CP09)'!AF23 -> 319632.84 | AG13: =AG7-AG10-AG11+'Mercado Distribuição (Pré CP09)'!AG23 -> 352588.01 | AH13: =AH7-AH10-AH11+'Mercado Distribuição (Pré CP09)'!AH23 -> 412595.25 | AI13: =AI7-AI10-AI11+'Mercado Distribuição (Pré CP09)'!AI23 -> 411601.69 | ... BB13: =BB7-BB10-BB11+'Mercado Distribuição (Pré CP09)'!BB23 -> 481257.71
B14: (*) Inclui mercados cativo e livre e consumo próprio | C14: (*) Includes captive and free markets and own consumption
B16: Bal. energético (MWh) - Pará | C16: Energy Balan. (MWh) - Pará | D16: 1T13 | E16: 2T13 | F16: 3T13 | G16: 4T13 | H16: 1T14 | I16: 2T14 | J16: 3T14 | K16: 4T14 | L16: 1T15 | M16: 2T15 | N16: 3T15 | O16: 4T15 | P16: 1T16 | Q16: 2T16 | R16: 3T16 | S16: 4T16 | T16: 1T17 | U16: 2T17 | V16: 3T17 | W16: 4T17 | X16: 1T18 | Y16: 2T18 | Z16: 3T18 | AA16: 4T18 | AB16: =AB6 -> 1T19 | AC16: 2T19 | AD16: 3T19 | AE16: 4T19 | AF16: =AF6 -> 1T20 | AG16: =AG6 -> 2T20 | AH16: =AH6 -> 3T20 | AI16: =AI6 -> 4T20 | AJ16: =AJ6 -> 1T21 | AK16: =AK6 -> 2T21 | AL16: =AL6 -> 3T21 | AM16: =AM6 -> 4T21 | ... AR16: =AR6 -> 1T23 | AS16: =$AS$6 -> 2T23 | AT16: =$AT$6 -> 3T23 | AU16: =$AU$6 -> 4T23 | AV16: =$AV$6 -> 1T24 | AW16: =$AW$6 -> 2T24 | AX16: =$AX$6 -> 3T24 | AY16: =$AY$6 -> 4T24 | AZ16: =$AZ$6 -> 1T25 | BA16: =$BA$6 -> 2T25 | BB16: =+BB6 -> 3T25
B17: Sistema interligado | C17: Interconnected System | D17: 2509501.7 | E17: 2661205 | F17: 2801315.8 | G17: 2869545.4 | H17: 2639581 | I17: 2780922.7 | J17: 2923297.7 | K17: 3011242.8 | L17: 2690125.6 | M17: 2807034.5 | N17: 2963488.7 | O17: 3041036.8 | P17: 2800562 | Q17: 2929411.8 | R17: 3008775.8 | S17: 3015288.1 | T17: 2672958 | U17: 2897436 | V17: 3076740.6 | W17: 3065911.1 | X17: 2746540.3 | Y17: 2844799.9 | Z17: 3024188.1 | AA17: 3062119 | AB17: 2788108.5 | AC17: 2945799.5 | AD17: 3132366.4 | AE17: 3155890.6 | AF17: 2873863.1 | AG17: 2908296.3 | AH17: 3322148.1 | AI17: 3288021.9 | AJ17: 2974698.1 | AK17: 3161171.5 | AL17: 3351573.4 | AM17: 3365162.9 | AN17: 3053230 | AO17: 3202961.2 | AP17: 3500751 | AQ17: 3452999.8 | AR17: 3105549.1 | AS17: 3381109.3 | AT17: 3699764.3 | AU17: 3804598.5 | AV17: 3471026.4 | AW17: 3592063.6 | AX17: 3856907.3 | AY17: 3919024.4 | AZ17: 3366438.3 | BA17: 3673228.5 | BB17: 3876355.7
B18: Sistema isolado | C18: Isolated Systems | D18: 102632.64 | E18: 110318.75 | F18: 115621.07 | G18: 120510.24 | H18: 106758.75 | I18: 113355.39 | J18: 121301.5 | K18: 127321.95 | L18: 113601.19 | M18: 102635.62 | N18: 109496.68 | O18: 115611.53 | P18: 105948.22 | Q18: 107084.16 | R18: 110838.81 | S18: 111177.12 | T18: 92186.682 | U18: 90874.765 | V18: 97391.081 | W18: 98703.486 | X18: 87756.597 | Y18: 91577.904 | Z18: 100470.26 | AA18: 98359.342 | AB18: 70159.918 | AC18: 72084.386 | AD18: 78538.43 | AE18: 78508.034 | AF18: 74143.59 | AG18: 73493.287 | AH18: 88081.193 | AI18: 82544.296 | AJ18: 63467.154 | AK18: 69073.112 | AL18: 74564.931 | AM18: 76330.625 | AN18: 66148.449 | AO18: 66732.063 | AP18: 75864.288 | AQ18: 75341.774 | AR18: 74412.811 | AS18: 62900.078 | AT18: 64102.332 | AU18: 68358.844 | AV18: 61884.866 | AW18: 70085.203 | AX18: 70015.055 | AY18: 74097.121 | AZ18: 69439.611 | BA18: 75749.275 | BB18: 77757.234
B19: Energia injetada pela Geração Distribuída | C19: Injected Energy by Distributed Generation | AF19: 9860.234 | AG19: 15034.46 | AH19: 21873.009 | AI19: 24756.545 | AJ19: 28248.456 | AK19: 39835.749 | AL19: 50978.901 | AM19: 56137.644 | AN19: 59292.176 | AO19: 74153.451 | AP19: 101168.64 | AQ19: 109760.13 | AR19: 123904.22 | AS19: 151304.04 | AT19: 187391.55 | AU19: 205238.76 | AV19: 197429.41 | AW19: 232302.24 | AX19: 311016.22 | AY19: 318466.34 | AZ19: 298932.32 | BA19: 353929.46 | BB19: 413159.92
B20: Energia injetada | C20: Injected Energy | D20: =SUM(D17:D18) -> 2612134.3 | E20: =SUM(E17:E18) -> 2771523.8 | F20: =SUM(F17:F18) -> 2916936.8 | G20: =SUM(G17:G18) -> 2990055.7 | H20: =SUM(H17:H18) -> 2746339.7 | I20: =SUM(I17:I18) -> 2894278.1 | J20: =SUM(J17:J18) -> 3044599.2 | K20: =SUM(K17:K18) -> 3138564.8 | ... Y20: =SUM(Y17:Y18) -> 2936377.8 | Z20: =+SUM(Z17:Z19) -> 3124658.4 | AA20: =+SUM(AA17:AA19) -> 3160478.3 | AB20: =+SUM(AB17:AB19) -> 2858268.4 | AC20: =+SUM(AC17:AC19) -> 3017883.9 | AD20: =+SUM(AD17:AD19) -> 3210904.9 | AE20: =+SUM(AE17:AE19) -> 3234398.6 | AF20: =+SUM(AF17:AF19) -> 2957866.9 | AG20: =+SUM(AG17:AG19) -> 2996824.1 | ... BB20: =+SUM(BB17:BB19) -> 4367272.9
B21: Energia distribuída* | C21: Distributed Energy* | D21: 1656069 | E21: 1765454 | F21: 1863187.1 | G21: 1998072.8 | H21: 1887720.5 | I21: 1987624.5 | J21: 2095996.7 | K21: 2159906.1 | L21: 1975730.6 | M21: 1882863.5 | N21: 2174548.5 | O21: 2422326.4 | P21: 2002101.6 | Q21: 2088856.4 | R21: 2316200.3 | S21: 2332312.9 | T21: 1959174.4 | U21: 2170178.3 | V21: 2281048.9 | W21: 2356630.7 | X21: 2039607.7 | Y21: 2140437.6 | Z21: 2211013.2 | AA21: 2249552 | AB21: 1954385.2 | AC21: 2088654.7 | AD21: 2247822.2 | AE21: 2326094.3 | AF21: 2089310.4 | AG21: 2036276.3 | AH21: 2399142.7 | AI21: 2325463.2 | AJ21: 2167145 | AK21: 2305199.1 | AL21: 2472009.2 | AM21: 2506734.6 | AN21: 2307446.9 | AO21: 2440691.2 | AP21: 2646778.1 | AQ21: 2637647.8 | AR21: 2427842.3 | AS21: 2584484.9 | AT21: 2834237.1 | AU21: 3012333 | AV21: 2727518.4 | AW21: 2769861.4 | AX21: 2991126 | AY21: 3096765.6 | AZ21: 2681333.6 | BA21: 2901475.5 | BB21: 3061574.9
B22: Energia de conexão com outras distribuidoras | C22: Energy Connection w/Other DisCos | AT22: 10559.423 | AU22: 4061.392 | AV22: 3551.7393 | AW22: 3995.1039 | AX22: 4736.7541 | AY22: 12552.449 | AZ22: 7791.5838 | BA22: 8356.6946 | BB22: 8288.5352
B23: Perdas totais | C23: Total Losses | D23: =D20-D21-D22 -> 956065.38 | E23: =E20-E21-E22 -> 1006069.8 | F23: =F20-F21-F22 -> 1053749.8 | G23: =G20-G21-G22 -> 991982.91 | H23: =H20-H21-H22 -> 858619.22 | I23: =I20-I21-I22 -> 906653.54 | J23: =J20-J21-J22 -> 948602.49 | K23: =K20-K21-K22 -> 978658.72 | ... BB23: =BB20-BB21-BB22 -> 1297409.4
B24: Perdas sem Geração Distribuída | C24: Losses without Distributed Generation | AG24: =AG17+AG18-AG21-AG22+'Mercado Distribuição (Pré CP09)'!AG42 -> 957170.89 | AH24: =AH17+AH18-AH21-AH22+'Mercado Distribuição (Pré CP09)'!AH42 -> 1028127.5 | AI24: =AI17+AI18-AI21-AI22+'Mercado Distribuição (Pré CP09)'!AI42 -> 1066625.3 | AJ24: =AJ17+AJ18-AJ21-AJ22+'Mercado Distribuição (Pré CP09)'!AJ42 -> 893094.76 | AK24: =AK17+AK18-AK21-AK22+'Mercado Distribuição (Pré CP09)'!AK42 -> 957273.64 | AL24: =AL17+AL18-AL21-AL22+'Mercado Distribuição (Pré CP09)'!AL42 -> 994544.06 | AM24: =AM17+AM18-AM21-AM22+'Mercado Distribuição (Pré CP09)'!AM42 -> 981844.75 | AN24: =AN17+AN18-AN21-AN22+'Mercado Distribuição (Pré CP09)'!AN42 -> 858701.25 | ... BB24: =BB17+BB18-BB21-BB22+'Mercado Distribuição (Pré CP09)'!BB42 -> 1202061.8
B25: (*) Inclui mercados cativo e livre, consumo próprio. | C25: (*) Includes captive and free markets and own consumption
B27: Bal. energético (MWh) - Piauí | C27: Energy Balan. (MWh) - Piauí | D27: 1T13 | E27: 2T13 | F27: 3T13 | G27: 4T13 | H27: 1T14 | I27: 2T14 | J27: 3T14 | K27: 4T14 | L27: 1T15 | M27: 2T15 | N27: 3T15 | O27: 4T15 | P27: 1T16 | Q27: 2T16 | R27: 3T16 | S27: 4T16 | T27: 1T17 | U27: 2T17 | V27: 3T17 | W27: 4T17 | X27: 1T18 | Y27: 2T18 | Z27: 3T18 | AA27: 4T18 | AB27: =AB16 -> 1T19 | AC27: 2T19 | AD27: 3T19 | AE27: 4T19 | AF27: =AF16 -> 1T20 | AG27: =AG6 -> 2T20 | AH27: =AH6 -> 3T20 | AI27: =AI6 -> 4T20 | AJ27: =AJ6 -> 1T21 | AK27: =AK6 -> 2T21 | AL27: =AL6 -> 3T21 | AM27: =AM16 -> 4T21 | AN27: =AN16 -> 1T22 | AO27: =AO16 -> 2T22 | AP27: =AP16 -> 3T22 | AQ27: =AQ16 -> 4T22 | AR27: =AR16 -> 1T23 | AS27: =$AS$6 -> 2T23 | AT27: =$AT$6 -> 3T23 | AU27: =$AU$6 -> 4T23 | AV27: =$AV$6 -> 1T24 | AW27: =$AW$6 -> 2T24 | AX27: =$AX$6 -> 3T24 | AY27: =$AY$6 -> 4T24 | AZ27: =$AZ$6 -> 1T25 | BA27: =$BA$6 -> 2T25 | BB27: =+BB16 -> 3T25
B28: Sistema interligado | C28: Interconnected System | D28: 982756.99 | E28: 1008400.7 | F28: 1116006.5 | G28: 1163797.4 | H28: 1012137.1 | I28: 1078103.2 | J28: 1195195.6 | K28: 1269982.4 | L28: 1090785.4 | M28: 1124015.9 | N28: 1244463.5 | O28: 1373201.2 | P28: 1143053.5 | Q28: 1233470.5 | R28: 1305496 | S28: 1389233 | T28: 1124865 | U28: 1201841.8 | V28: 1301018.1 | W28: 1386665.2 | X28: 1106627.6 | Y28: 1172507 | Z28: 1302472.1 | AA28: 1326162.8 | AB28: 1123918.7 | AC28: 1179998.9 | AD28: 1292329.9 | AE28: 1392841.5 | AF28: 1107184.1 | AG28: 1109068 | AH28: 1251751 | AI28: 1348860.2 | AJ28: 1138003.3 | AK28: 1206119.6 | AL28: 1312436.1 | AM28: 1301914.1 | AN28: 1083374.2 | AO28: 1137134.5 | AP28: 1249301.9 | AQ28: 1284093.3 | AR28: 1090164 | AS28: 1176386.8 | AT28: 1322804.9 | AU28: 1430858.9 | AV28: 1210942 | AW28: 1240835.4 | AX28: 1270004.8 | AY28: 1417296.5 | AZ28: 1156540.5 | BA28: 1278220.2 | BB28: 1331568.8
B29: Energia injetada pela Geração Distribuída | C29: Injected Energy by Distributed Generation | AB29: 2392.02 | AC29: 2644.083 | AD29: 5533.27 | AE29: 7919.707 | AF29: 10276.015 | AG29: 16733.957 | AH29: 23393.056 | AI29: 25778.708 | AJ29: 26647.286 | AK29: 36559.401 | AL29: 46644.9 | AM29: 51153.839 | AN29: 55767.29 | AO29: 68188.563 | AP29: 91028.556 | AQ29: 94766.583 | AR29: 95718.903 | AS29: 116814.97 | AT29: 143432.98 | AU29: 150856.85 | AV29: 145993.73 | AW29: 176543.2 | AX29: 221317.04 | AY29: 236982.77 | AZ29: 216959.61 | BA29: 241600.29 | BB29: 299982.7
B30: Energia injetada | C30: Injected Energy | D30: =SUM(D28:D28) -> 982756.99 | E30: =SUM(E28:E28) -> 1008400.7 | F30: =SUM(F28:F28) -> 1116006.5 | G30: =SUM(G28:G28) -> 1163797.4 | H30: =SUM(H28:H28) -> 1012137.1 | I30: =SUM(I28:I28) -> 1078103.2 | J30: =SUM(J28:J28) -> 1195195.6 | K30: =SUM(K28:K28) -> 1269982.4 | ... Y30: =SUM(Y28:Y28) -> 1172507 | Z30: =+SUM(Z28:Z29) -> 1302472.1 | AA30: =+SUM(AA28:AA29) -> 1326162.8 | AB30: =+SUM(AB28:AB29) -> 1126310.7 | AC30: =+SUM(AC28:AC29) -> 1182643 | AD30: =+SUM(AD28:AD29) -> 1297863.2 | AE30: =+SUM(AE28:AE29) -> 1400761.3 | AF30: =+SUM(AF28:AF29) -> 1117460.1 | AG30: =+SUM(AG28:AG29) -> 1125802 | ... AW30: =+SUM(AW28:AW29) -> 1417378.6 | AX30: =SUM(AX28:AX29) -> 1491321.8 | AY30: =SUM(AY28:AY29) -> 1654279.3 | AZ30: =SUM(AZ28:AZ29) -> 1373500.1 | BA30: =SUM(BA28:BA29) -> 1519820.5 | BB30: =SUM(BB28:BB29) -> 1631551.5
B31: Energia distribuída* | C31: Distributed Energy* | D31: 688043.28 | E31: 716807.18 | F31: 775250.76 | G31: 811717.68 | H31: 751174.47 | I31: 756630.83 | J31: 841180.69 | K31: 871819.66 | L31: 792327.49 | M31: 796065.25 | N31: 852063.53 | O31: 919045.72 | P31: 806999.32 | Q31: 856290.14 | R31: 902430.73 | S31: 950744.72 | T31: 830279.72 | U31: 867353.8 | V31: 922231.26 | W31: 989806.3 | X31: 820254.5 | Y31: 838606.68 | Z31: 913685.89 | AA31: 829384.96 | AB31: 828839 | AC31: 864304 | AD31: 922615 | AE31: 1042042 | AF31: 872332 | AG31: 834697 | AH31: 921252 | AI31: 1065136 | AJ31: 917024.47 | AK31: 958824.1 | AL31: 1034797.9 | AM31: 1044974.5 | AN31: 911521.2 | AO31: 954317.06 | AP31: 1043590.2 | AQ31: 1080649.8 | AR31: 949153.52 | AS31: 1024562.6 | AT31: 1150620.9 | AU31: 1233976.7 | AV31: 1087226.3 | AW31: 1140619 | AX31: 1178728.9 | AY31: 1299713.4 | AZ31: 1121054.1 | BA31: 1203544.9 | BB31: 1287699.9
B32: Energia de conexão com outras distribuidoras | C32: Energy Connection w/Other DisCos | D32: 24720.379 | E32: 25974.084 | F32: 27535.693 | G32: 29171.06 | H32: 26864.348 | I32: 28895.48 | J32: 33391.927 | K32: 33285.366 | L32: 30467.276 | M32: 31011.725 | N32: 33290.019 | O32: 35386.542 | P32: 32248.861 | Q32: 34403.666 | R32: 36263.119 | S32: 36213.924 | T32: 31998.781 | U32: 32825.451 | V32: 35462.731 | W32: 34864.705 | X32: 29862.915 | Y32: 31004.696 | Z32: 33312.178 | AA32: 34095.757 | AB32: 30452.263 | AC32: 32018.806 | AD32: 35481 | AE32: 34983.776 | AF32: 32416.33 | AG32: 34414.71 | AH32: 39505.687 | AI32: 38860.991 | AJ32: 36424.182 | AK32: 37824.08 | AL32: 41043.202 | AM32: 40353.236 | AN32: 37382.29 | AO32: 36591.605 | AP32: 39880.812 | AQ32: 40917.446 | AR32: 35927.262 | AS32: 38386.433 | AT32: 43027.038 | AU32: 45632.668 | AV32: 42865.671 | AW32: 44213.055 | AX32: 45879.12 | AY32: 48734.903 | AZ32: 43652.96 | BA32: 47920.312 | BB32: 49816.523
B33: Perdas totais | C33: Total Losses | D33: =D30-D31-D32 -> 269993.32 | E33: =E30-E31-E32 -> 265619.43 | F33: =F30-F31-F32 -> 313220 | G33: =G30-G31-G32 -> 322908.69 | H33: =H30-H31-H32 -> 234098.29 | I33: =I30-I31-I32 -> 292576.88 | J33: =J30-J31-J32 -> 320623.01 | K33: =K30-K31-K32 -> 364877.37 | ... BB33: =BB30-BB31-BB32 -> 294035.11
B34: Perdas sem Geração Distribuída | C34: Losses without Distributed Generation | AB34: =AB28-AB31-AB32+'Mercado Distribuição (Pré CP09)'!AB60 -> 269907.59 | AC34: =AC28-AC31-AC32+'Mercado Distribuição (Pré CP09)'!AC60 -> 290202.42 | AD34: =AD28-AD31-AD32+'Mercado Distribuição (Pré CP09)'!AD60 -> 342318.69 | AE34: =AE28-AE31-AE32+'Mercado Distribuição (Pré CP09)'!AE60 -> 326606.56 | AF34: =AF28-AF31-AF32+'Mercado Distribuição (Pré CP09)'!AF60 -> 212529.44 | AG34: =AG28-AG31-AG32+'Mercado Distribuição (Pré CP09)'!AG60 -> 252207.93 | AH34: =AH28-AH31-AH32+'Mercado Distribuição (Pré CP09)'!AH60 -> 309391.71 | AI34: =AI28-AI31-AI32+'Mercado Distribuição (Pré CP09)'!AI60 -> 269918.83 | ... BB34: =BB28-BB31-BB32+'Mercado Distribuição (Pré CP09)'!BB60 -> 208581.09
B35: (*) Inclui mercados cativo e livre e consumo próprio | C35: (*) Includes captive and free markets and own consumption
B37: Bal. energético (MWh) - Alagoas | C37: Energy Balan. (MWh) - Alagoas | D37: 1T13 | E37: 2T13 | F37: 3T13 | G37: 4T13 | H37: 1T14 | I37: 2T14 | J37: 3T14 | K37: 4T14 | L37: 1T15 | M37: 2T15 | N37: 3T15 | O37: 4T15 | P37: 1T16 | Q37: 2T16 | R37: 3T16 | S37: 4T16 | T37: 1T17 | U37: 2T17 | V37: 3T17 | W37: 4T17 | X37: 1T18 | Y37: 2T18 | Z37: 3T18 | AA37: 4T18 | AB37: =AB27 -> 1T19 | AC37: 2T19 | AD37: 3T19 | AE37: 4T19 | AF37: =AF27 -> 1T20 | AG37: =AG27 -> 2T20 | AH37: =AH27 -> 3T20 | AI37: =AI27 -> 4T20 | AJ37: =AJ27 -> 1T21 | AK37: =AK27 -> 2T21 | AL37: =AL27 -> 3T21 | AM37: =AM27 -> 4T21 | ... AR37: =AR27 -> 1T23 | AS37: =$AS$6 -> 2T23 | AT37: =$AT$6 -> 3T23 | AU37: =$AU$6 -> 4T23 | AV37: =$AV$6 -> 1T24 | AW37: =$AW$6 -> 2T24 | AX37: =$AX$6 -> 3T24 | AY37: =$AY$6 -> 4T24 | AZ37: =$AZ$6 -> 1T25 | BA37: =$BA$6 -> 2T25 | BB37: =+BB27 -> 3T25
B38: Sistema interligado | C38: Interconnected System | T38: 1313269 | U38: 1154152 | V38: 1024398 | W38: 1214749 | X38: 1257033.8 | Y38: 1145603.3 | Z38: 1119954.1 | AA38: 1308972.8 | AB38: 1315070.7 | AC38: 1234017.3 | AD38: 1127407.6 | AE38: 1346161.4 | AF38: 1381402.6 | AG38: 1157952.5 | AH38: 1128447.6 | AI38: 1352734 | AJ38: 1360725.4 | AK38: 1192912.4 | AL38: 1137947 | AM38: 1362104.2 | AN38: 1352186.8 | AO38: 1203454.5 | AP38: 1098933.7 | AQ38: 1289049.3 | AR38: 1346772.1 | AS38: 1251548.4 | AT38: 1170908.8 | AU38: 1344385.2 | AV38: 1463112 | AW38: 1294508.2 | AX38: 1156860.8 | AY38: 1355715.2 | AZ38: 1374755.4 | BA38: 1288249 | BB38: 1130082.4
