Workbook
Name \a: #N/A
Name \b: #N/A
Name \C: #REF!
Name \d: #N/A
Name \e: #N/A
Name \i: #N/A
Name \p: #REF!
Name \Q: #REF!
Name \S: #REF!
Name \t: #N/A
Name \X: #REF!
Name __SAN2: #REF!
Name __SAN3: #REF!
Name _1900_Minority_Interest: #REF!
Name _1995_Asset_Sales: #REF!
Name _1995_Capex: #REF!
Name _1995_Capitalized_Interest: #REF!
Name _1995_Cash_Flow: #REF!
Name _1995_Current_Income_Tax: #REF!
Name _1995_DD_A: #REF!
Name _1995_Deferred_Income_Tax: #REF!
Name _1995_EBIT: #REF!
Name _1995_EBITDAX: #REF!
Name _1995_Exploration_Expense: #REF!
Name _1995_Interest_Expense: #REF!
Name _1995_Net_Income: #REF!
Name _1995_Other_Income: #REF!
Name _1995_Other_Non_Cash_Items: #REF!
Name _1995_Revenue: #REF!
Name _1995_Weighted_Average_Shares_Outstanding: #REF!
Name _1997E_Asset_Sales: #REF!
Name _1997E_Capex: #REF!
Name _1997E_Capitalized_Interest: #REF!
Name _1997E_Cash_Flow: #REF!
Name _1997E_Current_Income_Tax: #REF!
Name _1997E_DD_A: #REF!
Name _1997E_Deferred_Income_Tax: #REF!
Name _1997E_EBIT: #REF!
Name _1997E_EBITDAX: #REF!
Name _1997E_Exploration_Expense: #REF!
Name _1997E_Interest_Expense: #REF!
Name _1997E_Minority_Interest: #REF!
Name _1997E_Net_Income: #REF!
Name _1997E_Other_Income: #REF!
Name _1997E_Other_Non_Cash_Items: #REF!
Name _1997E_Revenue: #REF!
Name _1997E_Weighted_Average_Shares_Outstanding: #REF!
Name _1998E_Asset_Sales: #REF!
Name _1998E_Capex: #REF!
Name _1998E_Capitalized_Interest: #REF!
Name _1998E_Cash_Flow: #REF!
Name _1998E_Current_Income_Tax: #REF!
Name _1998E_DD_A: #REF!
Name _1998E_Deferred_Income_Tax: #REF!
Name _1998E_EBIT: #REF!
Name _1998E_EBITDAX: #REF!
Name _1998E_Exploration_Expense: #REF!
Name _1998E_Interest_Expense: #REF!
Name _1998E_Minority_Interest: #REF!
Name _1998E_Net_Income: #REF!

Sheet BP_BS
B2: Balanço Patrimonial | C2: Balance Sheet | D2: 1T20 | E2: 2T20 | F2: 3T20 | G2: 4T20 | H2: 1T21 | I2: 2T21 | J2: 3T21 | K2: 4T21 | L2: 1T22 | M2: 2T22 | N2: 3T22 | O2: 4T22 | P2: 1T23 | Q2: 2T23 | R2: 3T23 | S2: 4T23 | T2: 1T24 | U2: 2T24 | V2: 3T24 | W2: 4T24 | X2: 1T25 | Y2: 2T25 | Z2: 3T25 | AA2: 4T25 | AB2: 1T26 | AC2: 2T26
B4: Ativo Circulante | C4: Current Assets | D4: 1738826 | E4: 2088555 | F4: 2000763 | G4: 2143790 | H4: 2145837 | I4: 2819671 | J4: 2932105 | K4: 3434659 | L4: 3588380.3 | M4: 3650924 | N4: 3720966 | O4: 5198747 | P4: 5389396 | Q4: 5363785 | R4: 5490477 | S4: 5475713 | T4: 5519770 | U4: 7082147 | V4: =SUM(V5:V15) -> 7724295 | W4: =SUM(W5:W15) -> 7563555 | X4: =SUM(X5:X15) -> 7669136.9 | Y4: =SUM(Y5:Y15) -> 7341599.6 | Z4: =SUM(Z5:Z15) -> 7582262.7 | AA4: =SUM(AA5:AA15) -> 8728936.3 | AB4: =SUM(AB5:AB15) -> 8813059 | AC4: =SUM(AC5:AC15) -> 9101123
B5: Caixa e Aplicações | C5: Cash and cash equivalents | D5: 440705 | E5: 726763 | F5: 713378 | G5: 731669 | H5: 720033 | I5: 551225 | J5: 579944 | K5: 652433.99 | L5: 694400.86 | M5: 787366 | N5: 846176 | O5: 889159 | P5: 904215 | Q5: 928316 | R5: 943976 | S5: 989728 | T5: 1072674 | U5: 1182084 | V5: 1364345 | W5: 1468264 | X5: 1473387 | Y5: 2699316 | Z5: 2777146 | AA5: 3892614 | AB5: 3766023 | AC5: 4077675
B6: Aplicações Financeiras | C6: Financial investments | D6: 216300 | E6: 200300 | F6: 175554 | G6: 102300 | H6: 46700 | I6: 860181 | J6: 779977 | K6: 987526 | L6: 895197 | M6: 631277 | N6: 449414 | O6: 1810414 | P6: 1979200 | Q6: 1670008 | R6: 1654096 | S6: 1266682 | T6: 902480 | U6: 1215486 | V6: 1839575 | W6: 1558258 | X6: 1614198 | Y6: 0 | Z6: 0 | AA6: 0 | AB6: 0 | AC6: 0
B7: Derivativos CP | C7: Derivatives | D7: 17687 | E7: 28019 | F7: 33807 | G7: 20571 | H7: 26052 | I7: 8769 | J7: 6331 | K7: 5178.1047 | L7: 0 | M7: 0 | N7: 7950 | O7: 7519 | P7: 4928 | Q7: 2609 | R7: 1602 | S7: 0 | T7: 0 | U7: 0 | V7: 0 | W7: 0 | X7: 0 | Y7: 0 | Z7: 0 | AA7: 0 | AB7: 0 | AC7: 0
B8: Contas a Receber | C8: Trade receivables | D8: 827673 | E8: 798480 | F8: 776395 | G8: 976057 | H8: 1031053 | I8: 1109480 | J8: 1212534 | K8: 1381044.9 | L8: 1555245.3 | M8: 1748107 | N8: 1880475 | O8: 1948832 | P8: 1931245 | Q8: 2074559 | R8: 2150699 | S8: 2458492 | T8: 2744487 | U8: 3684073 | V8: 3553676 | W8: 3559218 | X8: 3600255.9 | Y8: 3737768.6 | Z8: 3947307.7 | AA8: 3895214.3 | AB8: 4050735 | AC8: 4022958
B9: Tributos a Recuperar | C9: Recoverable taxes | D9: 115524 | E9: 205957 | F9: 184662 | G9: 152498 | H9: 158303 | I9: 143593 | J9: 188826 | K9: 236440.37 | L9: 239787.9 | M9: 239028 | N9: 283960 | O9: 301974 | P9: 320173 | Q9: 344169 | R9: 356566 | S9: 343391 | T9: 385325 | U9: 452395 | V9: 486657 | W9: 508495 | X9: 483342 | Y9: 423925 | Z9: 388331 | AA9: 416782 | AB9: 401594 | AC9: 410878
B10: IR/CS a Recuperar | C10: Recoverable income tax and social contribution | D10: 82885 | E10: 79678 | F10: 76818 | G10: 119765 | H10: 122668 | I10: 109200 | J10: 114112 | K10: 124949.88 | L10: 151371.78 | M10: 188825 | N10: 197965 | O10: 196291 | P10: 203519 | Q10: 242019 | R10: 220364 | S10: 235446 | T10: 227036 | U10: 214744 | V10: 151049 | W10: 146373 | X10: 158747 | Y10: 176312 | Z10: 138990 | AA10: 158485 | AB10: 227515 | AC10: 256034
B11: Outros Créditos | C11: Other assets | D11: 7985 | E11: 7076 | F11: 1862 | G11: 3067 | H11: 2359 | I11: 2533 | J11: 8770 | K11: 4330 | L11: 11999.482 | M11: 10400 | N11: 5741 | O11: 4262 | P11: 4807 | Q11: 4753 | R11: 4789 | S11: 169721 | T11: 176275 | U11: 232549 | V11: 216327 | W11: 207281 | X11: 222223 | Y11: 164516 | Z11: 178527 | AA11: 207731 | AB11: 179599 | AC11: 146452
B12: Adiantamentos | C12: Advanced payments | D12: 4890 | E12: 19491 | F12: 15170 | G12: 9616 | H12: 6288 | I12: 7043 | J12: 13646 | K12: 17112.737 | L12: 17350.002 | M12: 18523 | N12: 19468 | O12: 12661 | P12: 16288 | Q12: 70580 | R12: 134241 | S12: 0 | T12: 0 | U12: 0 | V12: 0 | W12: 0 | X12: 0 | Y12: 0 | Z12: 0 | AA12: 0 | AB12: 0 | AC12: 0
B13: Despesas antecipadas | C13: Prepaid expenses | D13: 21170 | E13: 18874 | F13: 17923 | G13: 21463 | H13: 26567 | I13: 20819 | J13: 21241 | K13: 18723 | L13: 16209.799 | M13: 20257 | N13: 17599 | O13: 15588 | P13: 13404 | Q13: 14859 | R13: 13146 | S13: 0 | T13: 0 | U13: 0 | V13: 0 | W13: 0 | X13: 0 | Y13: 0 | Z13: 0 | AA13: 0 | AB13: 0 | AC13: 0
B14: Estoques | C14: Inventories | D14: 4007 | E14: 3917 | F14: 5194 | G14: 6784 | H14: 5814 | I14: 6828 | J14: 6724 | K14: 6920 | L14: 6818.2042 | M14: 7141 | N14: 12218 | O14: 12047 | P14: 11617 | Q14: 11913 | R14: 10998 | S14: 12253 | T14: 11493 | U14: 100816 | V14: 107646 | W14: 110546 | X14: 112445 | Y14: 135195 | Z14: 147343 | AA14: 153729 | AB14: 182324 | AC14: 181781
B15: Empréstimos a Receber | C15: Loans receivables | H15: 0 | I15: 0 | J15: 0 | K15: 0 | L15: 0 | M15: 0 | N15: 0 | O15: 0 | P15: 0 | Q15: 0 | R15: 0 | S15: 0 | T15: 0 | U15: 0 | V15: 5020 | W15: 5120 | X15: 4539 | Y15: 4567 | Z15: 4618 | AA15: 4381 | AB15: 5269 | AC15: 5345
B16: Realizável a Longo Prazo | C16: Long-term receivables | D16: 431901 | E16: 466083 | F16: 501372 | G16: 629338 | H16: 643455 | I16: 632229 | J16: 646411 | K16: 786559.27 | L16: 815675.39 | M16: 895844 | N16: 961596 | O16: 967111 | P16: 1030516 | Q16: 1074258 | R16: 1104864 | S16: 1081334 | T16: 1135946 | U16: 1696265 | V16: =SUM(V17:V23) -> 2017094 | W16: =SUM(W17:W23) -> 2029910 | X16: =SUM(X17:X23) -> 2052927 | Y16: =SUM(Y17:Y23) -> 2133446 | Z16: =SUM(Z17:Z23) -> 2207896 | AA16: =SUM(AA17:AA23) -> 2229513 | AB16: =SUM(AB17:AB23) -> 2191318 | AC16: =SUM(AC17:AC23) -> 2237726
B17: Aplicações financeiras | C17: Financial investments | D17: 249 | E17: 249 | F17: 249 | G17: 249 | H17: 1499 | I17: 249 | J17: 249 | K17: 252.26614 | L17: 272.99792 | M17: 366 | N17: 366 | O17: 366 | P17: 366 | Q17: 366 | R17: 0 | S17: 0 | T17: 0 | U17: 8 | V17: 0 | W17: 0 | X17: 0 | Y17: 0 | Z17: 0 | AA17: 0 | AB17: 12368 | AC17: 13992
B18: Derivativos LP | C18: Derivative financial instruments | D18: 36077 | E18: 36620 | F18: 33250 | G18: 22805 | H18: 22172 | I18: 1623 | J18: 18626 | K18: 23740 | L18: 0 | M18: 6856 | N18: 6952 | O18: 2684 | P18: 0 | Q18: 0 | R18: 0 | S18: 0 | T18: 0 | U18: 10087 | V18: 37277 | W18: 119701 | X18: 86899 | Y18: 51439 | Z18: 31477 | AA18: 50765 | AB18: 4630 | AC18: 0
B19: Contas a Receber de Clientes | C19: Trade receivables | D19: 44008 | E19: 53362 | F19: 61068 | G19: 64512 | H19: 62000 | I19: 65685 | J19: 62038 | K19: 57642 | L19: 57816.853 | M19: 69575 | N19: 72806 | O19: 73294 | P19: 75006 | Q19: 79383 | R19: 87438 | S19: 101088 | T19: 104459 | U19: 111386 | V19: 118624 | W19: 113904 | X19: 108913 | Y19: 115068 | Z19: 122663 | AA19: 124180 | AB19: 110696 | AC19: 126996
B20: Depósitos Judiciais | C20: Judicial deposits | D20: 93035 | E20: 88367 | F20: 89549 | G20: 116216 | H20: 119972 | I20: 123015 | J20: 128354 | K20: 136702 | L20: 156686.41 | M20: 164610 | N20: 180977 | O20: 191885 | P20: 206162 | Q20: 205784 | R20: 206907 | S20: 185503 | T20: 185839 | U20: 438340 | V20: 447110 | W20: 437917 | X20: 461536 | Y20: 465435 | Z20: 487720 | AA20: 487527 | AB20: 490805 | AC20: 505155
B21: Ativo Indenizatório | C21: Indemnity assets | D21: 47734 | E21: 61085 | F21: 77054 | G21: 103508 | H21: 100836 | I21: 95446 | J21: 88534 | K21: 126966 | L21: 123226.23 | M21: 129465 | N21: 129699 | O21: 135983 | P21: 163039 | Q21: 164838 | R21: 163065 | S21: 159076 | T21: 178800 | U21: 173238 | V21: 389505 | W21: 397577 | X21: 398706 | Y21: 400471 | Z21: 405208 | AA21: 379922 | AB21: 384665 | AC21: 462012
B22: IR e CSLL Diferidos + Impostos a recuperar | C22: Recoverable income tax and social contribution | D22: 199743 | E22: 212445 | F22: 226073 | G22: 308479 | H22: 313607 | I22: 322237 | J22: 327510 | K22: 419516 | L22: 455253.55 | M22: 499786 | N22: 544966 | O22: 536041 | P22: 565050 | Q22: 603329 | R22: 626497 | S22: 614288 | T22: 639142 | U22: 935943 | V22: 996930 | W22: 932635 | X22: 974264 | Y22: 1078272 | Z22: 1137831 | AA22: 1165292 | AB22: 1157434 | AC22: 1098528
B23: Empréstimos a Receber | C23: Loans receivables | D23: 11055 | E23: 13955 | F23: 14129 | G23: 13569 | H23: 23369 | I23: 23974 | J23: 21100 | K23: 21741 | L23: 22419.349 | M23: 25186 | N23: 25830 | O23: 26858 | P23: 20893 | Q23: 20558 | R23: 20957 | S23: 21379 | T23: 27706 | U23: 27263 | V23: 27648 | W23: 28176 | X23: 22609 | Y23: 22761 | Z23: 22997 | AA23: 21827 | AB23: 30720 | AC23: 31043
B24: Permanente | C24: Long-term assets | D24: 1358592 | E24: 1349608 | F24: 1335847 | G24: 1709239 | H24: 1719554 | I24: 1696782 | J24: 1975602 | K24: 2381695 | L24: 2354814.1 | M24: 2587576 | N24: 2815164 | O24: 2830641 | P24: 2917980 | Q24: 2900109 | R24: 3075372 | S24: 3462015 | T24: 3870379 | U24: 4811495 | V24: =SUM(V25:V28) -> 4735229 | W24: =SUM(W25:W28) -> 4776948 | X24: =SUM(X25:X28) -> 4760098 | Y24: =SUM(Y25:Y28) -> 4742026 | Z24: =SUM(Z25:Z28) -> 4582026 | AA24: =SUM(AA25:AA28) -> 4662795 | AB24: =SUM(AB25:AB28) -> 4627037 | AC24: =SUM(AC25:AC28) -> 4591046
B25: Investimentos | C25: Investments | D25: 216 | E25: 216 | F25: 7107 | G25: 0 | H25: 0 | I25: 4376 | J25: 4500 | K25: 105537 | L25: 31609.578 | M25: 104873 | N25: 0 | O25: 2500 | P25: 0 | Q25: 6829 | R25: 79135 | S25: 8263 | T25: 0 | U25: 0 | V25: 0 | W25: 0 | X25: 4000 | Y25: 0 | Z25: 0 | AA25: 0 | AB25: 0 | AC25: 4350
B26: Imobilizado | C26: Property and equipment | D26: 144896 | E26: 147270 | F26: 150507 | G26: 213388 | H26: 226557 | I26: 229561 | J26: 257189 | K26: 272633 | L26: 270920.35 | M26: 317545 | N26: 400508 | O26: 407474 | P26: 430730 | Q26: 438771 | R26: 459895 | S26: 476734 | T26: 583051 | U26: 688821 | V26: 727847 | W26: 738098 | X26: 757811 | Y26: 773183 | Z26: 786649 | AA26: 801809 | AB26: 807442 | AC26: 824831
B27: Direito de Uso - IFRS16 | C27: Right-of-use assets | D27: 40177 | E27: 39215 | F27: 33174 | G27: 45321 | H27: 57411 | I27: 39331 | J27: 43373 | K27: 39866 | L27: 51205.916 | M27: 62909 | N27: 66687 | O27: 68846 | P27: 63918 | Q27: 57518 | R27: 156241 | S27: 289702 | T27: 286853 | U27: 292123 | V27: 279442 | W27: 282830 | X27: 275762 | Y27: 212745 | Z27: 85001 | AA27: 99200 | AB27: 108391 | AC27: 97131
B28: Intangível | C28: Intangible assets | D28: 1173303 | E28: 1162907 | F28: 1145059 | G28: 1450530 | H28: 1435586 | I28: 1423514 | J28: 1670540 | K28: 1963659 | L28: 2001078.3 | M28: 2102249 | N28: 2347969 | O28: 2351821 | P28: 2423332 | Q28: 2396991 | R28: 2380101 | S28: 2687316 | T28: 3000475 | U28: 3830551 | V28: 3727940 | W28: 3756020 | X28: 3722525 | Y28: 3756098 | Z28: 3710376 | AA28: 3761786 | AB28: 3711204 | AC28: 3664734
B29: Ativo Total | C29: Total Assets | D29: 3529319 | E29: 3904246 | F29: 3837982 | G29: 4482367 | H29: 4508846 | I29: 5148682 | J29: 5554118 | K29: 6602913.3 | L29: 6758869.8 | M29: 7134344 | N29: 7497726 | O29: 8996499 | P29: 9337892 | Q29: 9338152 | R29: 9670713 | S29: 10019062 | T29: 10526095 | U29: 13589907 | V29: =V4+V16+V24 -> 14476618 | W29: =W4+W16+W24 -> 14370413 | X29: =X4+X16+X24 -> 14482162 | Y29: =Y4+Y16+Y24 -> 14217072 | Z29: =Z4+Z16+Z24 -> 14372185 | AA29: =AA4+AA16+AA24 -> 15621244 | AB29: =AB4+AB16+AB24 -> 15631414 | AC29: =AC4+AC16+AC24 -> 15929895
B31: Passivo Circulante | C31: Current Liabilities | D31: 1036338 | E31: 1354828 | F31: 1251210 | G31: 1755140 | H31: 1596797 | I31: 1163116 | J31: 1487018 | K31: 1516012 | L31: 1584968.8 | M31: 1799595 | N31: 1963837 | O31: 1960993 | P31: 2070554 | Q31: 2043049 | R31: 2238884 | S31: 2450842 | T31: 2522643 | U31: 3138785 | V31: =SUM(V32:V43) -> 3312012 | W31: =SUM(W32:W43) -> 3162289 | X31: =SUM(X32:X43) -> 3278529.9 | Y31: =SUM(Y32:Y43) -> 3153728.6 | Z31: =SUM(Z32:Z43) -> 3567097.7 | AA31: =SUM(AA32:AA43) -> 2931380.3 | AB31: =SUM(AB32:AB43) -> 2722959 | AC31: =SUM(AC32:AC43) -> 3170771
B32: Empréstimos e Financiamentos | C32: Loans | D32: 205134 | E32: 348107 | F32: 341189 | G32: 327552 | H32: 317250 | I32: 176137 | J32: 218414 | K32: 199405 | L32: 175419.08 | M32: 184751 | N32: 192391 | O32: 199243 | P32: 187946 | Q32: 177165 | R32: 175053 | S32: 169079 | T32: 156990 | U32: 148430 | V32: 146132 | W32: 86532 | X32: 122604 | Y32: 124602 | Z32: 115736 | AA32: 33085 | AB32: 41930 | AC32: 45015
B33: Debentures | C33: Debentures | D33: 5025 | E33: 3956 | F33: 3285 | G33: 3246 | H33: 25166 | I33: 50465 | J33: 75944 | K33: 107734 | L33: 125972.11 | M33: 130653 | N33: 132068 | O33: 129568 | P33: 209039 | Q33: 246507 | R33: 283577 | S33: 309447 | T33: 302515 | U33: 297929 | V33: 338178 | W33: 339054 | X33: 440129 | Y33: 541979 | Z33: 645811 | AA33: 177633 | AB33: 138970 | AC33: 134308
B34: Arrendamento Mercantil - IFRS 16 | C34: Leases payable | D34: 14845 | E34: 12790 | F34: 13051 | G34: 16880 | H34: 19339 | I34: 15527 | J34: 18637 | K34: 17131 | L34: 17842.732 | M34: 24048 | N34: 30961 | O34: 28081 | P34: 27155 | Q34: 24711 | R34: 41126 | S34: 63316 | T34: 62516 | U34: 72572 | V34: 69304 | W34: 76406 | X34: 73377 | Y34: 64658 | Z34: 33366 | AA34: 36083 | AB34: 36185 | AC34: 28647
B35: Derivativos CP | C35: Derivative financial instruments | D35: 0 | E35: 0 | F35: 0 | G35: 0 | H35: 0 | I35: 0 | J35: 0 | K35: 0 | L35: 9968.9335 | M35: 5631 | N35: 11219 | O35: 10344 | P35: 10573 | Q35: 11910 | R35: 9234 | S35: 10764 | T35: 7657 | U35: 11916 | V35: 45150 | W35: 54648 | X35: 64976 | Y35: 68924 | Z35: 65571 | AA35: 62450 | AB35: 64312 | AC35: 62353
B36: Fornecedores | C36: Trade payables | D36: 80264 | E36: 123269 | F36: 74112 | G36: 77581 | H36: 73778 | I36: 71952 | J36: 77704 | K36: 100877 | L36: 94056.821 | M36: 100600 | N36: 102931 | O36: 124732 | P36: 110746 | Q36: 79199 | R36: 134171 | S36: 173197 | T36: 171810 | U36: 545815 | V36: 503510 | W36: 528693 | X36: 455179.85 | Y36: 390131.65 | Z36: 421490.68 | AA36: 455084.27 | AB36: 464556 | AC36: 443948
B37: Salários e Encargos sociais | C37: Payroll and social charges | D37: 556195 | E37: 702291 | F37: 676861 | G37: 597904 | H37: 603781 | I37: 691825 | J37: 849520 | K37: 802100 | L37: 890463.64 | M37: 1027126 | N37: 1154984 | O37: 967540 | P37: 1016588 | Q37: 1114296 | R37: 1216646 | S37: 1124275 | T37: 1216020 | U37: 1563107 | V37: 1665493 | W37: 1398019 | X37: 1430203 | Y37: 1601829 | Z37: 1789796 | AA37: 1456253 | AB37: 1527589 | AC37: 1954301
B38: IR e CSLL a Recolher | C38: Income tax and social contribution payable | D38: 7621 | E38: 25193 | F38: 19157 | G38: 20515 | H38: 16152 | I38: 28684 | J38: 36227 | K38: 42561 | L38: 29989.379 | M38: 45115 | N38: 40687 | O38: 65896 | P38: 44913 | Q38: 104954 | R38: 57116 | S38: 32796 | T38: 35524 | U38: 58567 | V38: 43906 | W38: 26933 | X38: 33299 | Y38: 33566 | Z38: 34909 | AA38: 12997 | AB38: 10197 | AC38: 11875
B39: Obrigações Tributárias | C39: Tax obligations | D39: 44302 | E39: 60383 | F39: 65901 | G39: 72865 | H39: 71011 | I39: 39363 | J39: 75290 | K39: 110322 | L39: 101356.06 | M39: 136118 | N39: 159873 | O39: 154702 | P39: 153752 | Q39: 107227 | R39: 110432 | S39: 121689 | T39: 136747 | U39: 174013 | V39: 175013 | W39: 169783 | X39: 177212 | Y39: 185202 | Z39: 190909 | AA39: 191830 | AB39: 196252 | AC39: 199335
B40: Parcelamento de Tributos | C40: Tax installments | D40: 4531 | E40: 4893 | F40: 6018 | G40: 5151 | H40: 4999 | I40: 10186 | J40: 9593 | K40: 14908 | L40: 19231.961 | M40: 18670 | N40: 20883 | O40: 21862 | P40: 22452 | Q40: 22011 | R40: 21852 | S40: 21882 | T40: 23197 | U40: 39713 | V40: 26560 | W40: 25431 | X40: 29218 | Y40: 29797 | Z40: 25290 | AA40: 28450 | AB40: 23003 | AC40: 27058
B41: Aquisição de controladas | C41: Acquisition of subsidiaries | D41: 52709 | E41: 30705 | F41: 30927 | G41: 206064 | H41: 90680 | I41: 59162 | J41: 99518 | K41: 85295 | L41: 90107.525 | M41: 103969 | N41: 91055 | O41: 96749 | P41: 130376 | Q41: 113903 | R41: 149677 | S41: 151349 | T41: 152980 | U41: 155791 | V41: 251064 | W41: 246458 | X41: 248400 | Y41: 61255 | Z41: 202190 | AA41: 177086 | AB41: 149191 | AC41: 137412
B42: Dividendos a Pagar | C42: Dividends payable | D42: 49070 | E42: 26240 | F42: 2415 | G42: 400000 | H42: 352500 | I42: 0 | J42: 0 | K42: 0.04451 | L42: 0 | M42: 0 | N42: 0 | O42: 122712 | P42: 122712 | Q42: 146 | R42: 1568 | S42: 215094 | T42: 215094 | U42: 1114 | V42: 1056 | W42: 161515 | X42: 158515 | Y42: 1057 | Z42: 1057 | AA42: 223306 | AB42: 3315 | AC42: 2258
B43: Outras Contas a Pagar | C43: Other liabilities | D43: 16642 | E43: 17001 | F43: 18294 | G43: 27382 | H43: 22141 | I43: 19815 | J43: 26171 | K43: 35679 | L43: 30560.522 | M43: 22914 | N43: 26785 | O43: 39564 | P43: 34302 | Q43: 41020 | R43: 38432 | S43: 57954 | T43: 41593 | U43: 69818 | V43: 46646 | W43: 48817 | X43: 45417 | Y43: 50728 | Z43: 40972 | AA43: 77123 | AB43: 67459 | AC43: 124261
...

Sheet DRE ABERTO old (DF)_Income St
B2: DRE | C2: Income Statement | E2: 1T22 | F2: 2T22 | G2: 3T22 | H2: 4T22 | I2: 2022 | J2: 1T23 | K2: 2T23 | L2: 3T23 | M2: 4T23 | N2: 2023 | O2: 1T24 | P2: 2T24 | Q2: 3T24 | R2: 4T24 | S2: 2024 | T2: 1T25 | U2: 2T25 | V2: 3T25 | W2: 4T25 | X2: 2025 | Y2: 1T26 | Z2: 2T26 | AA2: 1S26
B3: Receita bruta | C3: Net Revenue | E3: 2278579.3 | F3: 2435125.9 | G3: 2641906.8 | H3: 2693045.6 | I3: =SUM(E3:H3) -> 10048658 | J3: 2732887.2 | K3: 2837028.6 | L3: 2827077.4 | M3: 3111383.9 | N3: =L3+K3+J3+M3 -> 11508377 | O3: 3324751.1 | P3: 3767757.5 | Q3: 4418306.8 | R3: 4391276.1 | S3: =SUM(O3:R3) -> 15902091 | T3: 4449043 | U3: 4642735.6 | V3: 4828551.4 | W3: 4769885.5 | X3: =SUM(T3:W3) -> 18690216 | Y3: 4846421.3 | Z3: 4960896.1 | AA3: =SUM(Y3:Z3) -> 9807317.4
B4: (-) Impostos | C4: (-) Taxes | E4: -196977.67 | F4: -210202.29 | G4: -215350.39 | H4: -207443.41 | I4: =SUM(E4:H4) -> -829973.76 | J4: -205261.77 | K4: -227002.2 | L4: -198358.5 | M4: -246600.87 | N4: =L4+K4+J4+M4 -> -877223.34 | O4: -252721.17 | P4: -274849.64 | Q4: -305563.47 | R4: -294588.15 | S4: =SUM(O4:R4) -> -1127722.4 | T4: -344956.46 | U4: -344363.22 | V4: -366227.63 | W4: -351509.1 | X4: =SUM(T4:W4) -> -1407056.4 | Y4: -362537.15 | Z4: -363060.18 | AA4: =SUM(Y4:Z4) -> -725597.34
B5: Receita líquida | C5: Net Revenue | E5: =E3+E4 -> 2081601.6 | F5: =F3+F4 -> 2224923.6 | G5: =G3+G4 -> 2426556.4 | H5: =H3+H4 -> 2485602.2 | I5: =SUM(E5:H5) -> 9218683.8 | J5: =J3+J4 -> 2527625.4 | K5: =K3+K4 -> 2610026.4 | L5: =L3+L4 -> 2628718.9 | M5: =M3+M4 -> 2864783.1 | N5: =L5+K5+J5+M5 -> 10631154 | O5: =O3+O4 -> 3072029.9 | P5: =P3+P4 -> 3492907.9 | Q5: =Q3+Q4 -> 4112743.3 | R5: =R3+R4 -> 4096687.9 | S5: =SUM(O5:R5) -> 14774369 | T5: =T3+T4 -> 4104086.6 | U5: =U3+U4 -> 4298372.4 | V5: =V3+V4 -> 4462323.8 | W5: =W3+W4 -> 4418376.4 | X5: =SUM(T5:W5) -> 17283159 | Y5: =Y3+Y4 -> 4483884.1 | Z5: =Z3+Z4 -> 4597835.9 | AA5: =SUM(Y5:Z5) -> 9081720
B6: Custo dos serviços prestados | C6: Costs of services rendered and goods sold | E6: =SUM(E7:E22)+SUM(E56:E57) -> -1775248.2 | F6: =SUM(F7:F22)+SUM(F56:F57) -> -1869889.4 | G6: =SUM(G7:G22)+SUM(G56:G57) -> -2013880.8 | H6: =SUM(H7:H22)+SUM(H56:H57) -> -2034431 | I6: =SUM(E6:H6) -> -7693449.4 | J6: =SUM(J7:J22)+SUM(J56:J57) -> -2102575 | K6: =SUM(K7:K22)+SUM(K56:K57) -> -2157363.2 | L6: =SUM(L7:L22)+SUM(L56:L57) -> -2176240.8 | M6: =SUM(M7:M22)+SUM(M56:M57) -> -2357607 | N6: =L6+K6+J6+M6 -> -8793786 | O6: =SUM(O7:O22)+SUM(O56:O57) -> -2563617.1 | P6: =SUM(P7:P22)+SUM(P56:P57) -> -2948534.9 | Q6: =SUM(Q7:Q22)+SUM(Q56:Q57) -> -3500022 | R6: =SUM(R7:R22)+SUM(R55) -> -3525842 | S6: =SUM(O6:R6) -> -12538016 | T6: =SUM(T7:T22)+SUM(T55) -> -3493833 | U6: =SUM(U7:U22)+SUM(U55) -> -3689256.7 | V6: =SUM(V7:V22)+SUM(V55) -> -3804201.3 | W6: =SUM(W7:W22)+SUM(W55) -> -3767596.9 | X6: =SUM(T6:W6) -> -14754888 | Y6: =SUM(Y7:Y22)+SUM(Y55) -> -3813385.1 | Z6: =SUM(Z7:Z22)+SUM(Z55) -> -3929097.9 | AA6: =SUM(AA7:AA22)+SUM(AA55) -> -7742483
B7: Custos com pessoal | C7: Personnel Costs | E7: -1318431.6 | F7: -1339079.9 | G7: -1429185.5 | H7: -1450472.4 | I7: -5537169.5 | J7: -1493640.8 | K7: -1496340.3 | L7: -1503539.7 | M7: -1658558.4 | N7: -6152079.3 | O7: -1754605.4 | P7: -1869779 | Q7: -2040231.5 | R7: -2075689.6 | S7: =SUM(O7:R7) -> -7740305.5 | T7: -2073158.5 | U7: -2151690.1 | V7: -2180350.1 | W7: -2165314.7 | X7: =SUM(T7:W7) -> -8570513.3 | Y7: -2237637.1 | Z7: -2287047.2 | AA7: =SUM(Y7:Z7) -> -4524684.3
B8: Benefícios | C8: Benefits | E8: -224179.68 | F8: -252513.96 | G8: -267574.32 | H8: -276286.01 | I8: -1020554 | J8: -275607.4 | K8: -288532.73 | L8: -297382.66 | M8: -333268.88 | N8: -1194791.7 | O8: -350591.14 | P8: -394009.12 | Q8: -434087.82 | R8: -455075.23 | S8: =SUM(O8:R8) -> -1633763.3 | T8: -435448.24 | U8: -468168 | V8: -484239.11 | W8: -484986.66 | X8: =SUM(T8:W8) -> -1872842 | Y8: -472096.73 | Z8: -487704.06 | AA8: =SUM(Y8:Z8) -> -959800.8
B9: Locações | C9: Rentals | E9: -48916.271 | F9: -50785.733 | G9: -57538.847 | H9: -58404.146 | I9: -215645 | J9: -63741.647 | K9: -69677.956 | L9: -71265.343 | M9: -85381.665 | N9: -290066.61 | O9: -102892.79 | P9: -116895.36 | Q9: -131242.77 | R9: -142075.23 | S9: =SUM(O9:R9) -> -493106.14 | T9: -135533.3 | U9: -147398.28 | V9: -161102.51 | W9: -150493.48 | X9: =SUM(T9:W9) -> -594527.57 | Y9: -143441.1 | Z9: -148597.33 | AA9: =SUM(Y9:Z9) -> -292038.44
B10: Manutenções e serviços de terceiros | C10: Maintenance and Third-Party Services | E10: -44650.796 | F10: -52945.158 | G10: -64041.099 | H10: -65701.378 | I10: -227338.43 | J10: -64723.99 | K10: -73030.93 | L10: -85224.358 | M10: -99055.489 | N10: -322034.77 | O10: -103608.39 | P10: -133326.57 | Q10: -159797.34 | R10: -164541.37 | S10: =SUM(O10:R10) -> -561273.67 | T10: -139937.51 | U10: -166212.61 | V10: -164667.46 | W10: -168794.85 | X10: =SUM(T10:W10) -> -639612.43 | Y10: -167190 | Z10: -185021.93 | AA10: =SUM(Y10:Z10) -> -352211.93
B11: Provisão para contingências trabalhistas | C11: Provision for Labor Contingencies | E11: -6790.0732 | F11: 9172.0904 | G11: 1793.0042 | H11: -8190.2952 | I11: -4015.2737 | J11: 355.60139 | K11: -1927.8767 | L11: 7313.6077 | M11: -764.93955 | N11: 4976.3928 | O11: 1905.6366 | P11: 523.00245 | Q11: -7086.305 | R11: 1279.5583 | S11: =SUM(O11:R11) -> -3378.1076 | T11: 454.45669 | U11: -895.61925 | V11: -7732.8249 | W11: -4516.6571 | X11: =SUM(T11:W11) -> -12690.645 | Y11: 9915.5196 | Z11: 352.03649 | AA11: =SUM(Y11:Z11) -> 10267.556
B12: Depreciação de ativos | C12: Asset Depreciation | E12: -12308.977 | F12: -14476.56 | G12: -16351.357 | H12: -17392.033 | I12: -60528.926 | J12: -17977.036 | K12: -19086.189 | L12: -19792.697 | M12: -21326.945 | N12: -78182.868 | O12: -24866.747 | P12: -29621.089 | Q12: -39520.331 | R12: -37464.26 | S12: =SUM(O12:R12) -> -131472.43 | T12: -38391.794 | U12: -38992.753 | V12: -38820.009 | W12: -37151.789 | X12: =SUM(T12:W12) -> -153356.35 | Y12: -35993.506 | Z12: -34979.44 | AA12: =SUM(Y12:Z12) -> -70972.945
B13: Impostos e taxas | C13: Taxes and Fees | E13: -7349.3534 | F13: -8945.1318 | G13: -9920.8267 | H13: -12569.419 | I13: -38784.731 | J13: -11919.545 | K13: -12185.151 | L13: -13005.281 | M13: -13614.844 | N13: -50724.821 | O13: -14365.068 | P13: -19206.356 | Q13: -20449.556 | R13: -20743.799 | S13: =SUM(O13:R13) -> -74764.778 | T13: -23147.083 | U13: -24251.623 | V13: -25239.543 | W13: -23941.693 | X13: =SUM(T13:W13) -> -96579.942 | Y13: -24941.693 | Z13: -25858.539 | AA13: =SUM(Y13:Z13) -> -50800.232
B14: Perdas com clientes | C14: Customer Losses | E14: 0 | F14: 0 | G14: -1524.1914 | H14: -41596.297 | I14: -43120.489 | J14: 1808.3509 | K14: -3677.0368 | L14: 196.65274 | M14: -41647.412 | N14: -43319.445 | O14: 0 | P14: 0 | Q14: 0 | R14: -64074.715 | S14: =SUM(O14:R14) -> -64074.715 | T14: -36.00609 | U14: -54.86537 | V14: 1195.2143 | W14: -91917.305 | X14: =SUM(T14:W14) -> -90812.962 | Y14: 93.2612 | Z14: 937.17031 | AA14: =SUM(Y14:Z14) -> 1030.4315
B15: Pagamentos ações não trabalhistas | C15: Payments for Non-Labor Lawsuits | E15: -321 | F15: -1387.1484 | G15: -7.10537 | H15: 123.0511 | I15: -1592.2027 | J15: -1121.086 | K15: -671.23936 | L15: -365.09954 | M15: 349.27852 | N15: -1808.1464 | O15: -2312.8574 | P15: -4152.4233 | Q15: -1725.7706 | R15: -2036.7354 | S15: =SUM(O15:R15) -> -10227.787 | T15: -595.46787 | U15: -1018.4975 | V15: -76.16461 | W15: -567.59432 | X15: =SUM(T15:W15) -> -2257.7243 | Y15: -662.42282 | Z15: -280.11151 | AA15: =SUM(Y15:Z15) -> -942.53433
B16: Pagamentos ações trabalhistas | C16: Payments for Labor Lawsuits | E16: -20550.8 | F16: -23663.853 | G16: -23994.822 | H16: -27141.466 | I16: -95350.941 | J16: -28242.567 | K16: -34815.794 | L16: -40293.402 | M16: -46799.688 | N16: -150151.45 | O16: -48819.748 | P16: -70184.477 | Q16: -85036.293 | R16: -87527.791 | S16: =SUM(O16:R16) -> -291568.31 | T16: -65383.08 | U16: -82528.712 | V16: -80873.687 | W16: -82755.308 | X16: =SUM(T16:W16) -> -311540.79 | Y16: -68488.206 | Z16: -79010.885 | AA16: =SUM(Y16:Z16) -> -147499.09
B17: Custo das mercadorias vendidas | C17: Cost of Goods Sold | E17: -31502.506 | F17: -31019.158 | G17: -43443.603 | H17: -45686.569 | I17: -151651.84 | J17: -40571.094 | K17: -44772.079 | L17: -38361.498 | M17: -41804.043 | N17: -165508.71 | O17: -48245.427 | P17: -162789.05 | Q17: -412175.15 | R17: -431995.7 | S17: =SUM(O17:R17) -> -1055205.3 | T17: -393977.23 | U17: -421920.47 | V17: -479282.67 | W17: -505553.88 | X17: =SUM(T17:W17) -> -1800734.3 | Y17: -480407.09 | Z17: -514239.71 | AA17: =SUM(Y17:Z17) -> -994646.79
B18: Materiais e insumos | C18: Materials and Supplies | E18: -51661.046 | F18: -67701.558 | G18: -65340.083 | H18: -74173.345 | I18: -258876.03 | J18: -73529.112 | K18: -73523.788 | L18: -79065.509 | M18: -86667.247 | N18: -312785.66 | O18: -62227.176 | P18: -89582.305 | Q18: -111853.09 | R18: -100558.66 | S18: =SUM(O18:R18) -> -364221.23 | T18: -111955.31 | U18: -120787.9 | V18: -123125.86 | W18: -130457.32 | X18: =SUM(T18:W18) -> -486326.38 | Y18: -121197.54 | Z18: -112604.38 | AA18: =SUM(Y18:Z18) -> -233801.92
... B22: Outros | C22: Other | E22: 6458.1099 | F22: -2854.3311 | G22: -2157.5973 | H22: -6493.2902 | I22: -5047.1086 | J22: 1614.7606 | K22: 299.10629 | L22: 385.17436 | M22: -2390.4215 | N22: -91.38025 | O22: -4595 | P22: -156.75605 | Q22: 343.27866 | R22: -3582.6279 | S22: =SUM(O22:R22) -> -7991.1053 | T22: -7110.846 | U22: -6277.7866 | V22: -123.07602 | W22: -18367.168 | X22: =SUM(T22:W22) -> -31878.877 | Y22: -14923.429 | Z22: -37.89041 | AA22: =SUM(Y22:Z22) -> -14961.32
B25: Lucro bruto | C25: Gross Profit | E25: =E5+E6 -> 306353.43 | F25: =F5+F6 -> 355034.19 | G25: =G5+G6 -> 412675.56 | H25: =H5+H6 -> 451171.22 | I25: =I5+I6 -> 1525234.4 | J25: =J5+J6 -> 425050.44 | K25: =K5+K6 -> 452663.18 | L25: =L5+L6 -> 452478.17 | ... R25: =R5+R6 -> 570845.9 | S25: =SUM(O25:R25) -> 2236353 | T25: =T5+T6 -> 610253.57 | U25: =U5+U6 -> 609115.65 | V25: =V5+V6 -> 658122.56 | W25: =W5+W6 -> 650779.51 | X25: =SUM(T25:W25) -> 2528271.3 | Y25: =Y5+Y6 -> 670499 | Z25: =Z5+Z6 -> 668738.02 | AA25: =SUM(Y25:Z25) -> 1339237
B26: Mg Bruta % | C26: Gross Margin % | E26: =E25/E5 -> 0.14717198 | F26: =F25/F5 -> 0.15957141 | G26: =G25/G5 -> 0.17006634 | H26: =H25/H5 -> 0.18151385 | I26: =I25/I5 -> 0.16545034 | J26: =J25/J5 -> 0.16816196 | K26: =K25/K5 -> 0.17343241 | L26: =L25/L5 -> 0.17212878 | ... AA26: =AA25/AA5 -> 0.14746513
B28: Despesas gerais e administrativas | C28: General and Administrative Expenses | E28: =SUM(E29:E53)-E55 -> -123536.47 | F28: =SUM(F29:F53)-F55 -> -141543.36 | G28: =SUM(G29:G53)-G55 -> -140444.78 | H28: =SUM(H29:H53)-H55 -> -224725.39 | I28: =SUM(I29:I53)-I55 -> -630250 | J28: =SUM(J29:J53)-J55 -> -151730 | K28: =SUM(K29:K53)-K55 -> -169629.41 | L28: =SUM(L29:L53)-L55 -> -174630.59 | M28: =SUM(M29:M53)-M55 -> -337780 | N28: =L28+K28+J28+M28 -> -833770 | O28: =SUM(O29:O53)-O55 -> -210359 | P28: =SUM(P29:P53)-P55 -> -292426 | Q28: =SUM(Q29:Q53)-Q55 -> -237123 | R28: =SUM(R29:R53)-R55 -> -351139 | S28: =SUM(O28:R28) -> -1091047 | T28: =SUM(T29:T53)-T55 -> -253491 | U28: =SUM(U29:U53)-U55 -> -261082.25 | V28: =SUM(V29:V53)-V55 -> -256773.75 | W28: =SUM(W29:W53)-W55 -> -436403.35 | X28: =SUM(T28:W28) -> -1207750.4 | Y28: =SUM(Y29:Y53)-Y55 -> -286249.95 | Z28: =SUM(Z29:Z53)-Z55 -> -313527.05 | AA28: =SUM(AA29:AA53)-AA55 -> -599777
B29: Custos com pessoal | C29: Personnel Costs | E29: -80499.963 | F29: -82358.575 | G29: -94648.927 | H29: -103722.71 | I29: -361230.17 | J29: -91516.49 | K29: -101974.51 | L29: -99953.863 | M29: -100339.94 | N29: -393784.8 | O29: -109716.6 | P29: -132550 | Q29: -133636.2 | R29: -124279.7 | S29: =SUM(O29:R29) -> -500182.5 | T29: -144362.84 | U29: -150063.38 | V29: -154623.82 | W29: -152710.04 | X29: =SUM(T29:W29) -> -601760.08 | Y29: -171907.5 | Z29: -172950.04 | AA29: =SUM(Y29:Z29) -> -344857.54
B30: Benefícios | C30: Benefits | E30: -5591.7717 | F30: -6672.1883 | G30: -7459.4797 | H30: -6722.5404 | I30: -26445.98 | J30: -5984.6245 | K30: -10683.502 | L30: -13815.882 | M30: -14532.516 | N30: -45016.523 | O30: -18761.419 | P30: -22933.323 | Q30: -18886.848 | R30: -21816.885 | S30: =SUM(O30:R30) -> -82398.475 | T30: -20238.426 | U30: -18014.914 | V30: -22659.118 | W30: -23071.582 | X30: =SUM(T30:W30) -> -83984.041 | Y30: -23614.261 | Z30: -18301.317 | AA30: =SUM(Y30:Z30) -> -41915.578
B31: Locações | C31: Leases | E31: 585.46344 | F31: -1088.4558 | G31: 772.74546 | H31: 633.87003 | I31: 903.62318 | J31: -1533.5056 | K31: -1720.9285 | L31: -2057.8893 | M31: -2668.7527 | N31: -7981.0762 | O31: 8675.5074 | P31: 7613.0925 | Q31: 7789.5509 | R31: 8285.9362 | S31: =SUM(O31:R31) -> 32364.087 | T31: 8983.3517 | U31: 7930.8659 | V31: 14653.83 | W31: -4146.6332 | X31: =SUM(T31:W31) -> 27421.414 | Y31: -2397.238 | Z31: -4618.7362 | AA31: =SUM(Y31:Z31) -> -7015.9742
B32: Manutenções e serviços de terceiros | C32: Maintenance and Third-Party Services | E32: -10659.493 | F32: -9953.23 | G32: -12366.419 | H32: -9960.9184 | I32: -42940.061 | J32: -9361.4664 | K32: -8098.9398 | L32: -10947.447 | M32: -16185.059 | N32: -44592.913 | O32: -15190.832 | P32: -13453.143 | Q32: -14599.123 | R32: -20815.474 | S32: =SUM(O32:R32) -> -64058.571 | T32: -13931.051 | U32: -17866.386 | V32: -16242.315 | W32: -17944.457 | X32: =SUM(T32:W32) -> -65984.209 | Y32: -19047.573 | Z32: -17196.123 | AA32: =SUM(Y32:Z32) -> -36243.696
B33: Provisão para contingências trabalhistas | C33: Provision for Labor Contingencies | E33: 605.09934 | F33: -261.96593 | G33: -192.83819 | H33: -40.21468 | I33: 110.08054 | J33: -160.92849 | K33: -188.93044 | L33: 383.50698 | M33: 2894.9286 | N33: 2928.5767 | O33: -767.95636 | P33: -4078.6484 | Q33: 33.34714 | R33: 13271.642 | S33: =SUM(O33:R33) -> 8458.3848 | T33: -7.46787 | U33: 44.57112 | V33: -203.40028 | W33: 1497.8406 | X33: =SUM(T33:W33) -> 1331.5435 | Y33: 303.53758 | Z33: -375.43045 | AA33: =SUM(Y33:Z33) -> -71.89287
B34: Provisão para contingências não trabalhistas | C34: Provision for Non-Labor Contingencies | E34: 1651.0012 | F34: -2574.4364 | G34: -1261.0659 | H34: 1730.3573 | I34: -454.1438 | J34: -3618.409 | K34: -220.32418 | L34: 3907.439 | M34: -3577.0844 | N34: -3508.3786 | O34: -3168.3052 | P34: -2612.1873 | Q34: 369.13771 | R34: -7971.1073 | S34: =SUM(O34:R34) -> -13382.462 | T34: -7037.2247 | U34: -2786.1488 | V34: -4145.3184 | W34: -12480.551 | X34: =SUM(T34:W34) -> -26449.243 | Y34: -6562.0391 | Z34: -42582.609 | AA34: =SUM(Y34:Z34) -> -49144.648
B35: Provisão para Bonus | C35: Provision for Bonuses | E35: -22974 | F35: -25476.465 | G35: -29716.584 | H35: -50810.476 | I35: -128977.52 | J35: -30297.202 | K35: -32473.237 | L35: -35899.867 | M35: -62986.003 | N35: -161656.31 | O35: -34869.14 | P35: -35070.214 | Q35: -31534.583 | R35: -49254.27 | S35: =SUM(O35:R35) -> -150728.21 | T35: -37033.658 | U35: -31062.148 | V35: -39322.654 | W35: -40291.788 | X35: =SUM(T35:W35) -> -147710.25 | Y35: -22618.087 | Z35: -23107.513 | AA35: =SUM(Y35:Z35) -> -45725.6
B36: Depreciação de ativos | C36: Asset Depreciation | E36: -4970.0573 | F36: -5527.4058 | G36: -7611.6433 | H36: -7383.9674 | I36: -25493.074 | J36: -5886.9539 | K36: -6666.9142 | L36: -6958.9609 | M36: -13912.303 | N36: -33425.132 | O36: -16879.253 | P36: -19282.911 | Q36: -23639.792 | R36: -26599.193 | S36: =SUM(O36:R36) -> -86401.148 | T36: -21848.139 | U36: -22054.568 | V36: -15329.279 | W36: -13233.226 | X36: =SUM(T36:W36) -> -72465.212 | Y36: -15525.183 | Z36: -12184.203 | AA36: =SUM(Y36:Z36) -> -27709.385
B37: Impostos e taxas | C37: Taxes and Fees | E37: -2241.2538 | F37: -2328.8291 | G37: -2569.2254 | H37: -2703.1805 | I37: -9842.4888 | J37: -3700.6162 | K37: -3821.2077 | L37: -3300.6453 | M37: -3936.8613 | N37: -14759.33 | O37: -5233.7251 | P37: -1984.7817 | Q37: -4849.6503 | R37: -4691.7143 | S37: =SUM(O37:R37) -> -16759.871 | T37: -9300.3987 | U37: -10381.632 | V37: -11732.209 | W37: -10336.478 | X37: =SUM(T37:W37) -> -41750.718 | Y37: -10133.446 | Z37: -9080.3822 | AA37: =SUM(Y37:Z37) -> -19213.828
B38: Perdas com clientes | C38: Losses from Customers | E38: -99.357 | F38: -451.643 | G38: -93.28856 | H38: 2197.7771 | I38: 1553.4885 | J38: -168.53557 | K38: -98.91819 | L38: -273.92607 | M38: 1967.8248 | N38: 1426.445 | O38: -2662.0934 | P38: -1438.5031 | Q38: 2907.0828 | R38: 7478.098 | S38: =SUM(O38:R38) -> 6284.5842 | T38: -71.26073 | U38: -39.92271 | V38: -199.07426 | W38: 1106.2143 | X38: =SUM(T38:W38) -> 795.95657 | Y38: -0.00534 | Z38: 0 | AA38: =SUM(Y38:Z38) -> -0.00534
B39: Pagamentos ações não trabalhistas | C39: Payments for Non-Labor Lawsuits | E39: -161.38711 | F39: -9.60634 | G39: 7.01493 | H39: -509.63709 | I39: -673.61561 | J39: -348.82859 | K39: -50.57462 | L39: -548.80975 | M39: -2894.6406 | N39: -3842.8536 | O39: -1434.1426 | P39: 1706.4233 | Q39: -1304.0597 | R39: -1474.1698 | S39: =SUM(O39:R39) -> -2505.9487 | T39: -1909.8581 | U39: -1737.6513 | V39: -2787.3603 | W39: -1793.1951 | X39: =SUM(T39:W39) -> -8228.0648 | Y39: -2307.5848 | Z39: -1715.6537 | AA39: =SUM(Y39:Z39) -> -4023.2385
B40: Pagamentos ações trabalhistas | C40: Payments for Labor Lawsuits | E40: -92.20019 | F40: -14.69644 | G40: -506.04206 | H40: -24.91445 | I40: -637.85314 | J40: -47.75751 | K40: -340.84625 | L40: -246.73725 | M40: -1461.2072 | N40: -2096.5482 | O40: -987.25175 | P40: 1573.4765 | Q40: -1544.874 | R40: 1776.132 | S40: =SUM(O40:R40) -> 817.48279 | T40: -749.51211 | U40: -1757.3147 | V40: -2619.9101 | W40: -2120.8135 | X40: =SUM(T40:W40) -> -7247.5505 | Y40: -1658.7141 | Z40: -1691.8207 | AA40: =SUM(Y40:Z40) -> -3350.5348
... B45: Amortização - carteira de clientes, marcas e ativo fixo | C45: Amortization - Customer Portfolio, Brands and Fixed Assets | E45: -28145 | F45: -31547.496 | G45: -30947.021 | H45: -14601.37 | I45: -105240.89 | J45: -25986.334 | K45: -29494.139 | L45: -33282.774 | M45: -38357.896 | N45: -127121.14 | O45: -43792.441 | P45: -39061.802 | Q45: -45328.43 | R45: -48935.967 | S45: =SUM(O45:R45) -> -177118.64 | T45: -48633.795 | U45: -47722.413 | V45: -46999.244 | W45: -49754.047 | X45: =SUM(T45:W45) -> -193109.5 | Y45: -49869.308 | Z45: -48603.881 | AA45: =SUM(Y45:Z45) -> -98473.189
B46: Amortização - Carteira de clientes adquiridas | C46: Amortization - Acquired Customer Portfolio | E46: 0 | F46: 0 | G46: 0 | H46: 0 | I46: 0 | J46: 0 | K46: 0 | L46: 0 | M46: 0 | N46: 0 | O46: 0 | P46: 0 | Q46: 0 | R46: 0 | S46: 0 | T46: 0 | U46: -190.51188 | V46: -190.59564 | W46: -190.76316 | X46: =SUM(T46:W46) -> -571.87068 | Y46: 0 | Z46: 0 | AA46: =SUM(Y46:Z46) -> 0
B47: Atualização contingencias - PPA | C47: Contingency Update - PPA | E47: 22620 | F47: 0 | G47: 20809.18 | H47: 25087.489 | I47: 68516.669 | J47: 5511.0061 | K47: 525.73917 | L47: 1610.9976 | M47: 11596.782 | N47: 19244.525 | O47: 2964.6925 | P47: -56156.077 | Q47: 10103.776 | R47: 21594.976 | S47: =SUM(O47:R47) -> -21492.633 | T47: 2235.2806 | U47: -4276.9267 | V47: 5864.1065 | W47: 4861.3291 | X47: =SUM(T47:W47) -> 8683.7894 | Y47: 6293.8246 | Z47: 4379.9296 | AA47: =SUM(Y47:Z47) -> 10673.754
B48: Atualização contingencias Trabalhista - PPA | C48: Labor contingency Update - PPA | E48: 0 | F48: 0 | G48: 0 | H48: 0 | I48: =SUM(E48:H48) -> 0 | J48: 0 | K48: 0 | L48: 0 | M48: 0 | N48: =SUM(J48:M48) -> 0 | O48: 0 | P48: 0 | Q48: 0 | R48: 0 | S48: =SUM(O48:R48) -> 0 | T48: 0 | U48: 0 | V48: 0 | W48: 0 | X48: =SUM(T48:W48) -> 0 | Y48: 214 | Z48: 4112.3791 | AA48: =SUM(Y48:Z48) -> 4326.3791
B49: Despesas com Telefonia e Viagem | C49: Telephone and Travel Expenses | E49: -1224.8726 | F49: -2128.9872 | G49: -1289.0486 | H49: -943.19717 | I49: -5586.1055 | J49: -812.84294 | K49: -761.10326 | L49: -890.58642 | M49: -2084.4735 | N49: -4549.0062 | O49: -1945.3945 | P49: -738.75923 | Q49: -2410.7754 | R49: -3943.4255 | S49: =SUM(O49:R49) -> -9038.3546 | T49: -1725.2321 | U49: -1964.613 | V49: -1976.3792 | W49: -1976.9749 | X49: =SUM(T49:W49) -> -7643.1992 | Y49: -1892.4981 | Z49: -1680.919 | AA49: =SUM(Y49:Z49) -> -3573.417
B50: Seguros | C50: Insurance | E50: -308.77072 | F50: -122.9694 | G50: -245.27908 | H50: -110.48296 | I50: -787.50216 | J50: -191.6825 | K50: -147.91926 | L50: -175.61207 | M50: -153.8441 | N50: -669.05793 | O50: -107.99089 | P50: -515.99148 | Q50: 0 | R50: 0 | S50: =SUM(O50:R50) -> -623.98237 | T50: -443.56281 | U50: -363.68355 | V50: -782.268 | W50: -295.00125 | X50: =SUM(T50:W50) -> -1884.5156 | Y50: -328.54419 | Z50: -360.72221 | AA50: =SUM(Y50:Z50) -> -689.2664
B51: Despesas de consumo | C51: Consumer Expenses | E51: 0 | F51: 0 | G51: 0 | H51: 0 | I51: 0 | J51: 0 | K51: 0 | L51: 0 | M51: 0 | N51: 0 | O51: 0 | P51: -2435.4514 | Q51: -2575.7783 | R51: -2901.1811 | S51: =SUM(O51:R51) -> -7912.4108 | T51: -2735.2268 | U51: -3142.4599 | V51: -2899.4764 | W51: -3023.3578 | X51: =SUM(T51:W51) -> -11800.521 | Y51: -2886.0221 | Z51: -3652.1438 | AA51: =SUM(Y51:Z51) -> -6538.1659
...

Sheet DRE ABERTO new (DF) Income St 
B2: DRE | C2: Income Statement | E2: 1T22 | F2: 2T22 | G2: 3T22 | H2: 4T22 | I2: 2022 | J2: 1T23 | K2: 2T23 | L2: 3T23 | M2: 4T23 | N2: 2023 | O2: 1T24 | P2: 2T24 | Q2: 3T24 | R2: 4T24 | S2: 2024 | T2: 1T25 | U2: 2T25 | V2: 3T25 | W2: 4T25 | X2: 2025 | Y2: 1T26 | Z2: 2T26 | AA2: 1S26
B3: Receita bruta | C3: Net Revenue | E3: 2278579.3 | F3: 2435125.9 | G3: 2641906.8 | H3: 2693045.6 | I3: =SUM(E3:H3) -> 10048658 | J3: 2732887.2 | K3: 2837028.6 | L3: 2827077.4 | M3: 3111383.9 | N3: =L3+K3+J3+M3 -> 11508377 | O3: 3324751.1 | P3: 3767757.5 | Q3: 4418306.8 | R3: 4391276.1 | S3: =SUM(O3:R3) -> 15902091 | T3: 4449043 | U3: 4642735.6 | V3: 4828551.4 | W3: 4769885.5 | X3: =SUM(T3:W3) -> 18690216 | Y3: 4846421.3 | Z3: 4960896.1 | AA3: =SUM(Y3:Z3) -> 9807317.4
B4: (-) Impostos | C4: (-) Taxes | E4: -196977.67 | F4: -210202.29 | G4: -215350.39 | H4: -207443.41 | I4: =SUM(E4:H4) -> -829973.76 | J4: -205261.77 | K4: -227002.2 | L4: -198358.5 | M4: -246600.87 | N4: =L4+K4+J4+M4 -> -877223.34 | O4: -252721.17 | P4: -274849.64 | Q4: -305563.47 | R4: -294588.15 | S4: =SUM(O4:R4) -> -1127722.4 | T4: -344956.46 | U4: -344363.22 | V4: -366227.63 | W4: -351509.1 | X4: =SUM(T4:W4) -> -1407056.4 | Y4: -362537.15 | Z4: -363060.18 | AA4: =SUM(Y4:Z4) -> -725597.34
B5: Receita líquida | C5: Net Revenue | E5: =E3+E4 -> 2081601.6 | F5: =F3+F4 -> 2224923.6 | G5: =G3+G4 -> 2426556.4 | H5: =H3+H4 -> 2485602.2 | I5: =SUM(E5:H5) -> 9218683.8 | J5: =J3+J4 -> 2527625.4 | K5: =K3+K4 -> 2610026.4 | L5: =L3+L4 -> 2628718.9 | M5: =M3+M4 -> 2864783.1 | N5: =L5+K5+J5+M5 -> 10631154 | O5: =O3+O4 -> 3072029.9 | P5: =P3+P4 -> 3492907.9 | Q5: =Q3+Q4 -> 4112743.3 | R5: =R3+R4 -> 4096687.9 | S5: =SUM(O5:R5) -> 14774369 | T5: =T3+T4 -> 4104086.6 | U5: =U3+U4 -> 4298372.4 | V5: =V3+V4 -> 4462323.8 | W5: =W3+W4 -> 4418376.4 | X5: =SUM(T5:W5) -> 17283159 | Y5: =Y3+Y4 -> 4483884.1 | Z5: =Z3+Z4 -> 4597835.9 | AA5: =SUM(Y5:Z5) -> 9081720
B6: Custo dos serviços prestados | C6: Costs of services rendered and goods sold | E6: =SUM(E7:E22) -> -1767369.1 | F6: =SUM(F7:F22) -> -1840861.5 | G6: =SUM(G7:G22) -> -1984701.8 | H6: =SUM(H7:H22) -> -2090323 | I6: =SUM(E6:H6) -> -7683255.4 | J6: =SUM(J7:J22) -> -2075616 | K6: =SUM(K7:K22) -> -2126705.2 | L6: =SUM(L7:L22) -> -2150979.8 | M6: =SUM(M7:M22) -> -2443867 | N6: =SUM(J6:M6) -> -8797168 | O6: =SUM(O7:O22) -> -2532276.1 | P6: =SUM(P7:P22) -> -2919565.9 | Q6: =SUM(Q7:Q22) -> -3470870.7 | R6: =SUM(R7:R22) -> -3617137.2 | S6: =SUM(O6:R6) -> -12539850 | T6: =SUM(T7:T22) -> -3445554.4 | U6: =SUM(U7:U22) -> -3651208.6 | V6: =SUM(V7:V22) -> -3766272 | W6: =SUM(W7:W22) -> -3885597.3 | X6: =SUM(T6:W6) -> -14748632 | Y6: =SUM(Y7:Y22) -> -3776170 | Z6: =SUM(Z7:Z22) -> -3894872 | AA6: =SUM(Y6:Z6) -> -7671042
B7: Custos com pessoal | C7: Personnel Costs | E7: -1318431.6 | F7: -1339079.9 | G7: -1429185.5 | H7: -1450472.4 | I7: -5537169.5 | J7: -1493640.8 | K7: -1496340.3 | L7: -1503539.7 | M7: -1658558.4 | N7: -6152079.3 | O7: -1754605.4 | P7: -1869779 | Q7: -2040231.5 | R7: -2075689.6 | S7: =SUM(O7:R7) -> -7740305.5 | T7: -2073158.5 | U7: -2151690.1 | V7: -2180350.1 | W7: -2165314.7 | X7: =SUM(T7:W7) -> -8570513.3 | Y7: -2237637.1 | Z7: -2287047.2 | AA7: =SUM(Y7:Z7) -> -4524684.3
B8: Benefícios | C8: Benefits | E8: -224179.68 | F8: -252513.96 | G8: -267574.32 | H8: -276286.01 | I8: -1020554 | J8: -275607.4 | K8: -288532.73 | L8: -297382.66 | M8: -333268.88 | N8: -1194791.7 | O8: -350591.14 | P8: -394009.12 | Q8: -434087.82 | R8: -455075.23 | S8: =SUM(O8:R8) -> -1633763.3 | T8: -435448.24 | U8: -468168 | V8: -484239.11 | W8: -484986.66 | X8: =SUM(T8:W8) -> -1872842 | Y8: -472096.73 | Z8: -487704.06 | AA8: =SUM(Y8:Z8) -> -959800.8
B9: Locações | C9: Rentals | E9: -48916.271 | F9: -50785.733 | G9: -57538.847 | H9: -58404.146 | I9: -215645 | J9: -63741.647 | K9: -69677.956 | L9: -71265.343 | M9: -85381.665 | N9: -290066.61 | O9: -102892.79 | P9: -116895.36 | Q9: -131242.77 | R9: -142075.23 | S9: =SUM(O9:R9) -> -493106.14 | T9: -135533.3 | U9: -147398.28 | V9: -161102.51 | W9: -150493.48 | X9: =SUM(T9:W9) -> -594527.57 | Y9: -143441.1 | Z9: -148597.33 | AA9: =SUM(Y9:Z9) -> -292038.44
B10: Manutenções e serviços de terceiros | C10: Maintenance and Third-Party Services | E10: -44650.796 | F10: -52945.158 | G10: -64041.099 | H10: -65701.378 | I10: -227338.43 | J10: -64723.99 | K10: -73030.93 | L10: -85224.358 | M10: -99055.489 | N10: -322034.77 | O10: -103608.39 | P10: -133326.57 | Q10: -159797.34 | R10: -164541.37 | S10: =SUM(O10:R10) -> -561273.67 | T10: -139937.51 | U10: -166212.61 | V10: -164667.46 | W10: -168794.85 | X10: =SUM(T10:W10) -> -639612.43 | Y10: -167190 | Z10: -185021.93 | AA10: =SUM(Y10:Z10) -> -352211.93
B11: Provisão para contingências trabalhistas | C11: Provision for Labor Contingencies | E11: -6790.0732 | F11: 9172.0904 | G11: 1793.0042 | H11: -8190.2952 | I11: -4015.2737 | J11: 355.60139 | K11: -1927.8767 | L11: 7313.6077 | M11: -764.93955 | N11: 4976.3928 | O11: 1905.6366 | P11: 523.00245 | Q11: -7086.305 | R11: 1279.5583 | S11: =SUM(O11:R11) -> -3378.1076 | T11: 454.45669 | U11: -895.61925 | V11: -7732.8249 | W11: -4516.6571 | X11: =SUM(T11:W11) -> -12690.645 | Y11: 9915.5196 | Z11: 352.03649 | AA11: =SUM(Y11:Z11) -> 10267.556
B12: Depreciação de ativos | C12: Asset Depreciation | E12: -12308.977 | F12: -14476.56 | G12: -16351.357 | H12: -17392.033 | I12: -60528.926 | J12: -17977.036 | K12: -19086.189 | L12: -19792.697 | M12: -21326.945 | N12: -78182.868 | O12: -24866.747 | P12: -29621.089 | Q12: -39520.331 | R12: -37464.26 | S12: =SUM(O12:R12) -> -131472.43 | T12: -38391.794 | U12: -38992.753 | V12: -38820.009 | W12: -37151.789 | X12: =SUM(T12:W12) -> -153356.35 | Y12: -35993.506 | Z12: -34979.44 | AA12: =SUM(Y12:Z12) -> -70972.945
B13: Impostos e taxas | C13: Taxes and Fees | E13: -7349.3534 | F13: -8945.1318 | G13: -9920.8267 | H13: -12569.419 | I13: -38784.731 | J13: -11919.545 | K13: -12185.151 | L13: -13005.281 | M13: -13614.844 | N13: -50724.821 | O13: -14365.068 | P13: -19206.356 | Q13: -20449.556 | R13: -20743.799 | S13: =SUM(O13:R13) -> -74764.778 | T13: -23147.083 | U13: -24251.623 | V13: -25239.543 | W13: -23941.693 | X13: =SUM(T13:W13) -> -96579.942 | Y13: -24941.693 | Z13: -25858.539 | AA13: =SUM(Y13:Z13) -> -50800.232
B14: Perdas com clientes | C14: Customer Losses | E14: 0 | F14: 0 | G14: -1524.1914 | H14: -41596.297 | I14: -43120.489 | J14: 1808.3509 | K14: -3677.0368 | L14: 196.65274 | M14: -41647.412 | N14: -43319.445 | O14: 0 | P14: 0 | Q14: 0 | R14: -64074.715 | S14: =SUM(O14:R14) -> -64074.715 | T14: -36.00609 | U14: -54.86537 | V14: 1195.2143 | W14: -91917.305 | X14: =SUM(T14:W14) -> -90812.962 | Y14: 93.2612 | Z14: 937.17031 | AA14: =SUM(Y14:Z14) -> 1030.4315
B15: Pagamentos ações não trabalhistas | C15: Payments for Non-Labor Lawsuits | E15: -321 | F15: -1387.1484 | G15: -7.10537 | H15: 123.0511 | I15: -1592.2027 | J15: -1121.086 | K15: -671.23936 | L15: -365.09954 | M15: 349.27852 | N15: -1808.1464 | O15: -2312.8574 | P15: -4152.4233 | Q15: -1725.7706 | R15: -2036.7354 | S15: =SUM(O15:R15) -> -10227.787 | T15: -595.46787 | U15: -1018.4975 | V15: -76.16461 | W15: -567.59432 | X15: =SUM(T15:W15) -> -2257.7243 | Y15: -662.42282 | Z15: -280.11151 | AA15: =SUM(Y15:Z15) -> -942.53433
B16: Pagamentos ações trabalhistas | C16: Payments for Labor Lawsuits | E16: -20550.8 | F16: -23663.853 | G16: -23994.822 | H16: -27141.466 | I16: -95350.941 | J16: -28242.567 | K16: -34815.794 | L16: -40293.402 | M16: -46799.688 | N16: -150151.45 | O16: -48819.748 | P16: -70184.477 | Q16: -85036.293 | R16: -87527.791 | S16: =SUM(O16:R16) -> -291568.31 | T16: -65383.08 | U16: -82528.712 | V16: -80873.687 | W16: -82755.308 | X16: =SUM(T16:W16) -> -311540.79 | Y16: -68488.206 | Z16: -79010.885 | AA16: =SUM(Y16:Z16) -> -147499.09
B17: Custo das mercadorias vendidas | C17: Cost of Goods Sold | E17: -31502.506 | F17: -31019.158 | G17: -43443.603 | H17: -45686.569 | I17: -151651.84 | J17: -40571.094 | K17: -44772.079 | L17: -38361.498 | M17: -41804.043 | N17: -165508.71 | O17: -48245.427 | P17: -162789.05 | Q17: -412175.15 | R17: -431995.7 | S17: =SUM(O17:R17) -> -1055205.3 | T17: -393977.23 | U17: -421920.47 | V17: -479282.67 | W17: -505553.88 | X17: =SUM(T17:W17) -> -1800734.3 | Y17: -480407.09 | Z17: -514239.71 | AA17: =SUM(Y17:Z17) -> -994646.79
B18: Materiais e insumos | C18: Materials and Supplies | E18: -51661.046 | F18: -67701.558 | G18: -65340.083 | H18: -74173.345 | I18: -258876.03 | J18: -73529.112 | K18: -73523.788 | L18: -79065.509 | M18: -86667.247 | N18: -312785.66 | O18: -62227.176 | P18: -89582.305 | Q18: -111853.09 | R18: -100558.66 | S18: =SUM(O18:R18) -> -364221.23 | T18: -111955.31 | U18: -120787.9 | V18: -123125.86 | W18: -130457.32 | X18: =SUM(T18:W18) -> -486326.38 | Y18: -121197.54 | Z18: -112604.38 | AA18: =SUM(Y18:Z18) -> -233801.92
... B22: Outros | C22: Other | E22: 6458.1099 | F22: -2854.3311 | G22: -2157.5973 | H22: -6493.2902 | I22: -5047.1086 | J22: 1614.7606 | K22: 299.10629 | L22: 385.17436 | M22: -2390.4215 | N22: -91.38025 | O22: -4595 | P22: -156.75605 | Q22: 343.27866 | R22: -3582.6279 | S22: =SUM(O22:R22) -> -7991.1053 | T22: -7110.846 | U22: -6277.7866 | V22: -123.07602 | W22: -18367.168 | X22: =SUM(T22:W22) -> -31878.877 | Y22: -14923.429 | Z22: -37.89041 | AA22: =SUM(Y22:Z22) -> -14961.32
B25: Lucro bruto | C25: Gross Profit | E25: =E5+E6 -> 314232.53 | F25: =F5+F6 -> 384062.09 | G25: =G5+G6 -> 441854.56 | H25: =H5+H6 -> 395279.22 | I25: =I5+I6 -> 1535428.4 | J25: =J5+J6 -> 452009.44 | K25: =K5+K6 -> 483321.18 | L25: =L5+L6 -> 477739.17 | ... R25: =R5+R6 -> 479550.7 | S25: =SUM(O25:R25) -> 2234519 | T25: =T5+T6 -> 658532.2 | U25: =U5+U6 -> 647163.77 | V25: =V5+V6 -> 696051.81 | W25: =W5+W6 -> 532779.15 | X25: =SUM(T25:W25) -> 2534526.9 | Y25: =Y5+Y6 -> 707714.13 | Z25: =Z5+Z6 -> 702963.9 | AA25: =SUM(Y25:Z25) -> 1410678
B26: Mg Bruta % | C26: Gross Margin % | E26: =E25/E5 -> 0.1509571 | F26: =F25/F5 -> 0.1726181 | G26: =G25/G5 -> 0.1820912 | H26: =H25/H5 -> 0.15902755 | I26: =I25/I5 -> 0.16655614 | J26: =J25/J5 -> 0.1788277 | K26: =K25/K5 -> 0.18517865 | L26: =L25/L5 -> 0.1817384 | ... AA26: =AA25/AA5 -> 0.15533159
B28: Despesas gerais e administrativas | C28: General and Administrative Expenses | E28: =SUM(E29:E53) -> -131415.57 | F28: =SUM(F29:F53) -> -170571.26 | G28: =SUM(G29:G53) -> -169623.78 | H28: =SUM(H29:H53) -> -168833.39 | I28: =SUM(I29:I53) -> -640444 | J28: =SUM(J29:J53) -> -178689 | K28: =SUM(K29:K53) -> -200287.41 | L28: =SUM(L29:L53) -> -199891.59 | ... AA28: =SUM(AA29:AA53) -> -671218
B29: Custos com pessoal | C29: Personnel Costs | E29: -80499.963 | F29: -82358.575 | G29: -94648.927 | H29: -103722.71 | I29: -361230.17 | J29: -91516.49 | K29: -101974.51 | L29: -99953.863 | M29: -100339.94 | N29: -393784.8 | O29: -109716.6 | P29: -132550 | Q29: -133636.2 | R29: -124279.7 | S29: =SUM(O29:R29) -> -500182.5 | T29: -144362.84 | U29: -150063.38 | V29: -154623.82 | W29: -152710.04 | X29: =SUM(T29:W29) -> -601760.08 | Y29: -171907.5 | Z29: -172950.04 | AA29: =SUM(Y29:Z29) -> -344857.54
B30: Benefícios | C30: Benefits | E30: -5591.7717 | F30: -6672.1883 | G30: -7459.4797 | H30: -6722.5404 | I30: -26445.98 | J30: -5984.6245 | K30: -10683.502 | L30: -13815.882 | M30: -14532.516 | N30: -45016.523 | O30: -18761.419 | P30: -22933.323 | Q30: -18886.848 | R30: -21816.885 | S30: =SUM(O30:R30) -> -82398.475 | T30: -20238.426 | U30: -18014.914 | V30: -22659.118 | W30: -23071.582 | X30: =SUM(T30:W30) -> -83984.041 | Y30: -23614.261 | Z30: -18301.317 | AA30: =SUM(Y30:Z30) -> -41915.578
B31: Locações | C31: Leases | E31: 585.46344 | F31: -1088.4558 | G31: 772.74546 | H31: 633.87003 | I31: 903.62318 | J31: -1533.5056 | K31: -1720.9285 | L31: -2057.8893 | M31: -2668.7527 | N31: -7981.0762 | O31: 8675.5074 | P31: 7613.0925 | Q31: 7789.5509 | R31: 8285.9362 | S31: =SUM(O31:R31) -> 32364.087 | T31: 8983.3517 | U31: 7930.8659 | V31: 14653.83 | W31: -4146.6332 | X31: =SUM(T31:W31) -> 27421.414 | Y31: -2397.238 | Z31: -4618.7362 | AA31: =SUM(Y31:Z31) -> -7015.9742
B32: Manutenções e serviços de terceiros | C32: Maintenance and Third-Party Services | E32: -10659.493 | F32: -9953.23 | G32: -12366.419 | H32: -9960.9184 | I32: -42940.061 | J32: -9361.4664 | K32: -8098.9398 | L32: -10947.447 | M32: -16185.059 | N32: -44592.913 | O32: -15190.832 | P32: -13453.143 | Q32: -14599.123 | R32: -20815.474 | S32: =SUM(O32:R32) -> -64058.571 | T32: -13931.051 | U32: -17866.386 | V32: -16242.315 | W32: -17944.457 | X32: =SUM(T32:W32) -> -65984.209 | Y32: -19047.573 | Z32: -17196.123 | AA32: =SUM(Y32:Z32) -> -36243.696
B33: Provisão para contingências trabalhistas | C33: Provision for Labor Contingencies | E33: 605.09934 | F33: -261.96593 | G33: -192.83819 | H33: -40.21468 | I33: 110.08054 | J33: -160.92849 | K33: -188.93044 | L33: 383.50698 | M33: 2894.9286 | N33: 2928.5767 | O33: -767.95636 | P33: -4078.6484 | Q33: 33.34714 | R33: 13271.642 | S33: =SUM(O33:R33) -> 8458.3848 | T33: -7.46787 | U33: 44.57112 | V33: -203.40028 | W33: 1497.8406 | X33: =SUM(T33:W33) -> 1331.5435 | Y33: 303.53758 | Z33: -375.43045 | AA33: =SUM(Y33:Z33) -> -71.89287
B34: Provisão para contingências não trabalhistas | C34: Provision for Non-Labor Contingencies | E34: 1651.0012 | F34: -2574.4364 | G34: -1261.0659 | H34: 1730.3573 | I34: -454.1438 | J34: -3618.409 | K34: -220.32418 | L34: 3907.439 | M34: -3577.0844 | N34: -3508.3786 | O34: -3168.3052 | P34: -2612.1873 | Q34: 369.13771 | R34: -7971.1073 | S34: =SUM(O34:R34) -> -13382.462 | T34: -7037.2247 | U34: -2786.1488 | V34: -4145.3184 | W34: -12480.551 | X34: =SUM(T34:W34) -> -26449.243 | Y34: -6562.0391 | Z34: -42582.609 | AA34: =SUM(Y34:Z34) -> -49144.648
B35: Provisão para Bonus | C35: Provision for Bonuses | E35: -22974 | F35: -25476.465 | G35: -29716.584 | H35: -50810.476 | I35: -128977.52 | J35: -30297.202 | K35: -32473.237 | L35: -35899.867 | M35: -62986.003 | N35: -161656.31 | O35: -34869.14 | P35: -35070.214 | Q35: -31534.583 | R35: -49254.27 | S35: =SUM(O35:R35) -> -150728.21 | T35: -37033.658 | U35: -31062.148 | V35: -39322.654 | W35: -40291.788 | X35: =SUM(T35:W35) -> -147710.25 | Y35: -22618.087 | Z35: -23107.513 | AA35: =SUM(Y35:Z35) -> -45725.6
B36: Depreciação de ativos | C36: Asset Depreciation | E36: -4970.0573 | F36: -5527.4058 | G36: -7611.6433 | H36: -7383.9674 | I36: -25493.074 | J36: -5886.9539 | K36: -6666.9142 | L36: -6958.9609 | M36: -13912.303 | N36: -33425.132 | O36: -16879.253 | P36: -19282.911 | Q36: -23639.792 | R36: -26599.193 | S36: =SUM(O36:R36) -> -86401.148 | T36: -21848.139 | U36: -22054.568 | V36: -15329.279 | W36: -13233.226 | X36: =SUM(T36:W36) -> -72465.212 | Y36: -15525.183 | Z36: -12184.203 | AA36: =SUM(Y36:Z36) -> -27709.385
B37: Impostos e taxas | C37: Taxes and Fees | E37: -2241.2538 | F37: -2328.8291 | G37: -2569.2254 | H37: -2703.1805 | I37: -9842.4888 | J37: -3700.6162 | K37: -3821.2077 | L37: -3300.6453 | M37: -3936.8613 | N37: -14759.33 | O37: -5233.7251 | P37: -1984.7817 | Q37: -4849.6503 | R37: -4691.7143 | S37: =SUM(O37:R37) -> -16759.871 | T37: -9300.3987 | U37: -10381.632 | V37: -11732.209 | W37: -10336.478 | X37: =SUM(T37:W37) -> -41750.718 | Y37: -10133.446 | Z37: -9080.3822 | AA37: =SUM(Y37:Z37) -> -19213.828
B38: Perdas com clientes | C38: Losses from Customers | E38: -99.357 | F38: -451.643 | G38: -93.28856 | H38: 2197.7771 | I38: 1553.4885 | J38: -168.53557 | K38: -98.91819 | L38: -273.92607 | M38: 1967.8248 | N38: 1426.445 | O38: -2662.0934 | P38: -1438.5031 | Q38: 2907.0828 | R38: 7478.098 | S38: =SUM(O38:R38) -> 6284.5842 | T38: -71.26073 | U38: -39.92271 | V38: -199.07426 | W38: 1106.2143 | X38: =SUM(T38:W38) -> 795.95657 | Y38: -0.00534 | Z38: 0 | AA38: =SUM(Y38:Z38) -> -0.00534
B39: Pagamentos ações não trabalhistas | C39: Payments for Non-Labor Lawsuits | E39: -161.38711 | F39: -9.60634 | G39: 7.01493 | H39: -509.63709 | I39: -673.61561 | J39: -348.82859 | K39: -50.57462 | L39: -548.80975 | M39: -2894.6406 | N39: -3842.8536 | O39: -1434.1426 | P39: 1706.4233 | Q39: -1304.0597 | R39: -1474.1698 | S39: =SUM(O39:R39) -> -2505.9487 | T39: -1909.8581 | U39: -1737.6513 | V39: -2787.3603 | W39: -1793.1951 | X39: =SUM(T39:W39) -> -8228.0648 | Y39: -2307.5848 | Z39: -1715.6537 | AA39: =SUM(Y39:Z39) -> -4023.2385
B40: Pagamentos ações trabalhistas | C40: Payments for Labor Lawsuits | E40: -92.20019 | F40: -14.69644 | G40: -506.04206 | H40: -24.91445 | I40: -637.85314 | J40: -47.75751 | K40: -340.84625 | L40: -246.73725 | M40: -1461.2072 | N40: -2096.5482 | O40: -987.25175 | P40: 1573.4765 | Q40: -1544.874 | R40: 1776.132 | S40: =SUM(O40:R40) -> 817.48279 | T40: -749.51211 | U40: -1757.3147 | V40: -2619.9101 | W40: -2120.8135 | X40: =SUM(T40:W40) -> -7247.5505 | Y40: -1658.7141 | Z40: -1691.8207 | AA40: =SUM(Y40:Z40) -> -3350.5348
... B45: Amortização - carteira de clientes, marcas e ativo fixo | C45: Amortization - Customer Portfolio, Brands and Fixed Assets | E45: -28145 | F45: -31547.496 | G45: -30947.021 | H45: -14601.37 | I45: -105240.89 | J45: -25986.334 | K45: -29494.139 | L45: -33282.774 | M45: -38357.896 | N45: -127121.14 | O45: -43792.441 | P45: -39061.802 | Q45: -45328.43 | R45: -48935.967 | S45: =SUM(O45:R45) -> -177118.64 | T45: -48633.795 | U45: -47722.413 | V45: -46999.244 | W45: -49754.047 | X45: =SUM(T45:W45) -> -193109.5 | Y45: -49869.308 | Z45: -48603.881 | AA45: =SUM(Y45:Z45) -> -98473.189
B46: Amortização - Carteira de clientes adquiridas | C46: Amortization - Acquired Customer Portfolio | E46: 0 | F46: 0 | G46: 0 | H46: 0 | I46: 0 | J46: 0 | K46: 0 | L46: 0 | M46: 0 | N46: 0 | O46: 0 | P46: 0 | Q46: 0 | R46: 0 | S46: 0 | T46: 0 | U46: -190.51188 | V46: -190.59564 | W46: -190.76316 | X46: =SUM(T46:W46) -> -571.87068 | Y46: 0 | Z46: 0 | AA46: =SUM(Y46:Z46) -> 0
B47: Atualização contingencias - PPA | C47: Contingency Update - PPA | E47: 22620 | F47: 0 | G47: 20809.18 | H47: 25087.489 | I47: 68516.669 | J47: 5511.0061 | K47: 525.73917 | L47: 1610.9976 | M47: 11596.782 | N47: 19244.525 | O47: 2964.6925 | P47: -56156.077 | Q47: 10103.776 | R47: 21594.976 | S47: =SUM(O47:R47) -> -21492.633 | T47: 2235.2806 | U47: -4276.9267 | V47: 5864.1065 | W47: 4861.3291 | X47: =SUM(T47:W47) -> 8683.7894 | Y47: 6293.8246 | Z47: 4379.9296 | AA47: =SUM(Y47:Z47) -> 10673.754
B48: Atualização contingencias Trabalhista - PPA | C48: Labor contingency Update - PPA | E48: 0 | F48: 0 | G48: 0 | H48: 0 | I48: =SUM(E48:H48) -> 0 | J48: 0 | K48: 0 | L48: 0 | M48: 0 | N48: =SUM(J48:M48) -> 0 | O48: 0 | P48: 0 | Q48: 0 | R48: 0 | S48: =SUM(O48:R48) -> 0 | T48: 0 | U48: 0 | V48: 0 | W48: 0 | X48: =SUM(T48:W48) -> 0 | Y48: 214 | Z48: 4112.3791 | AA48: =SUM(Y48:Z48) -> 4326.3791
B49: Despesas com Telefonia e Viagem | C49: Telephone and Travel Expenses | E49: -1224.8726 | F49: -2128.9872 | G49: -1289.0486 | H49: -943.19717 | I49: -5586.1055 | J49: -812.84294 | K49: -761.10326 | L49: -890.58642 | M49: -2084.4735 | N49: -4549.0062 | O49: -1945.3945 | P49: -738.75923 | Q49: -2410.7754 | R49: -3943.4255 | S49: =SUM(O49:R49) -> -9038.3546 | T49: -1725.2321 | U49: -1964.613 | V49: -1976.3792 | W49: -1976.9749 | X49: =SUM(T49:W49) -> -7643.1992 | Y49: -1892.4981 | Z49: -1680.919 | AA49: =SUM(Y49:Z49) -> -3573.417
B50: Seguros | C50: Insurance | E50: -308.77072 | F50: -122.9694 | G50: -245.27908 | H50: -110.48296 | I50: -787.50216 | J50: -191.6825 | K50: -147.91926 | L50: -175.61207 | M50: -153.8441 | N50: -669.05793 | O50: -107.99089 | P50: -515.99148 | Q50: 0 | R50: 0 | S50: =SUM(O50:R50) -> -623.98237 | T50: -443.56281 | U50: -363.68355 | V50: -782.268 | W50: -295.00125 | X50: =SUM(T50:W50) -> -1884.5156 | Y50: -328.54419 | Z50: -360.72221 | AA50: =SUM(Y50:Z50) -> -689.2664
B51: Despesas de consumo | C51: Consumer Expenses | E51: 0 | F51: 0 | G51: 0 | H51: 0 | I51: 0 | J51: 0 | K51: 0 | L51: 0 | M51: 0 | N51: 0 | O51: 0 | P51: -2435.4514 | Q51: -2575.7783 | R51: -2901.1811 | S51: =SUM(O51:R51) -> -7912.4108 | T51: -2735.2268 | U51: -3142.4599 | V51: -2899.4764 | W51: -3023.3578 | X51: =SUM(T51:W51) -> -11800.521 | Y51: -2886.0221 | Z51: -3652.1438 | AA51: =SUM(Y51:Z51) -> -6538.1659
...

Sheet Sistema S
B2: Sistema S - Movimentação no Balanço | C2: Em milhares R$ | E2: Sistema S - Efeito em resultado | F2: Em milhares R$
E3: Em 30.06.26
B4: Provisão | C4: 534761 | E4: Total de Provisão Constituída - Tema 1.079 | F4: =F6+F7 -> 347511
B5: Atualização | C5: 205492 | E5: Movimentaçao 1S26
B6: Em 31.12.25 | C6: =SUM(C4:C5) -> 740253 | E6: Reversão (mudança de exito) - Tema 1.079 | F6: 239764
E7: Reversão de correção (mudança de exito) - Tema 1.079 | F7: 107747
B8: Movimentaçao 1S26 | E8: IR (34%) | F8: -117952.11
B9: Atualização em 2026 | C9: 34204 | E9: Efeito no 2T26 | F9: =F6+F7+F8 -> 229558.89
B10: Reversão (mudança de exito) - Tema 1.079 | C10: -247123
