{"text_format":"1","workbook":"xlsx","n_sheets":10,"sheets":["Summary","Operating Metrics","Balance Sheet","Income Statement","Opex and Capex","Capital Structure","Corporate Structure","Cash Flow","Ratings","ESG I Highlights"],"not_rendered":{"charts":0,"images":3,"macros":1,"external_links":0,"defined_names":0,"comments":0,"pivot_tables":0},"unopened":[],"bounds":{"document_bytes":16777216,"sheet_cells":100000,"rows_first":2000,"rows_last":500,"rows_between":2000,"halvings":0,"cell_chars":16384,"cell_head_chars":4096},"cells_cut":0,"cells_raw":0,"read":"whole","date_system":"1900"}

{"sheet":"Summary","index":0,"n_rows":6,"n_cols":2,"rows_kept":6,"cut":false,"hidden":false,"merged":[]}
[]
[]
[]
[]
[null," "]
[null," "]

{"sheet":"Operating Metrics","index":1,"n_rows":62,"n_cols":33,"rows_kept":62,"cut":false,"hidden":false,"merged":[]}
[]
[null,"OPERATING FIGURES"]
[null,"http://investors.pagbank.com/"]
[null,"For the previous structure of this sheet. please see \"Operating Metrics - Old_View\""]
[null,"Number of Clients | # million","1Q20","2Q20","3Q20","4Q20","1Q21","2Q21","3Q21","4Q21","1Q22","2Q22","3Q22","4Q22","1Q23","2Q23","3Q23","4Q23","1Q24",{"$f":"$T$15","v":"2Q24"},{"$f":"U20","v":"3Q24"},"4Q24",{"$f":"W20","v":"1Q25"},"2Q25","3Q25","4Q25",null,2020,2021,2022,2023,2024,2025]
[null,"Total Clients","-","-","-",13,14.8,17.600000000000001,19.600000000000001,21.9,23.2,24.8,25.9,27.7,28.672999999999998,29.451000000000001,30.199000000000002,31.105,31.402000000000001,31.626999999999999,32.079000000000001,33.191000000000003,31.998000000000001,33.051000000000002,33.715000000000003,33.963999999999999,null,13,21.9,27.7,31.105,33.191000000000003,33.963999999999999]
[null,"Active Clients¹",6.0709999999999997,6.968,8.423,9.7530000000000001,10.786,12.644,13.47,14.170999999999999,15.313000000000001,15.972,16.425999999999998,16.826000000000001,{"$f":"ROUND(SUM(O8:O10),3)","v":16.905999999999999},17.013000000000002,17.257999999999999,17.216000000000001,17.34,17.681999999999999,17.683,17.786000000000001,17.673999999999999,17.702000000000002,17.782,{"$f":"ROUND(SUM(Z8:Z10),3)","v":17.309999999999999},null,9.7530000000000001,14.170999999999999,16.826000000000001,17.216000000000001,17.786000000000001,17.309999999999999]
[null,"Banking Only (A)",0.57499999999999996,1.173,2.1539999999999999,2.7189999999999999,3.452,5.0830000000000002,5.7690000000000001,6.4779999999999998,7.6429999999999998,8.5009999999999994,9.1110000000000007,9.7460000000000004,9.9890000000000008,10.244999999999999,10.605,10.677,10.851000000000001,11.239000000000001,11.269,11.442,11.404,11.459,11.504,11.032999999999999,null,2.7189999999999999,6.4779999999999998,9.7460000000000004,10.677,11.442,11.032999999999999]
[null,"Banking + Payments (B)",3.1739999999999999,3.7410000000000001,4.524,5.1459999999999999,5.68,6.1609999999999996,6.4,6.5949999999999998,6.6870000000000003,6.641,6.7,6.45,6.306,6.1950000000000003,6.1340000000000003,6.0709999999999997,6.0510000000000002,6.0430000000000001,6.0339999999999998,6.0010000000000003,5.9290000000000003,5.931,5.9859999999999998,6.01,null,5.1459999999999999,6.5949999999999998,6.45,6.0709999999999997,6.0010000000000003,6.01]
[null,"Payments Only (C) ",2.3220000000000001,2.0539999999999998,1.7450000000000001,1.889,1.655,1.4,1.3009999999999999,1.0980000000000001,0.98299999999999998,0.82899999999999996,0.61499999999999999,0.63,0.61099999999999999,0.57299999999999995,0.51900000000000002,0.46800000000000003,0.438,0.4,0.38,0.34300000000000003,0.34100000000000003,0.312,0.29199999999999998,0.26700000000000002,null,1.889,1.0980000000000001,0.63,0.46800000000000003,0.34300000000000003,0.26700000000000002]
[null,"Active Banking Clients (A + B)",3.7490000000000001,4.9130000000000003,6.6790000000000003,7.8650000000000002,9.1310000000000002,11.244,12.169,13.073,14.33,15.143000000000001,15.811,16.196000000000002,{"$f":"ROUND(SUM(O8:O9),3)","v":16.295000000000002},16.440000000000001,16.739000000000001,16.748000000000001,16.902000000000001,17.282,17.303000000000001,17.443000000000001,17.332999999999998,17.39,17.489999999999998,{"$f":"ROUND(SUM(Z8:Z9),3)","v":17.042999999999999},null,7.8650000000000002,13.073,16.196000000000002,16.748000000000001,17.443000000000001,17.042999999999999]
[null,"Active Merchants (B + C)",5.4960000000000004,5.7949999999999999,6.2690000000000001,7.0339999999999998,7.335,7.5609999999999999,7.7009999999999996,7.6929999999999996,7.6710000000000003,7.4710000000000001,7.3150000000000004,7.08,6.9169999999999998,6.7679999999999998,6.6529999999999996,6.5389999999999997,6.4889999999999999,6.4429999999999996,6.4139999999999997,6.3440000000000003,6.27,6.2430000000000003,6.2779999999999996,{"$f":"ROUND(SUM(Z9:Z10),3)","v":6.2770000000000001},null,7.0339999999999998,7.6929999999999996,7.08,6.5389999999999997,6.3440000000000003,6.2759999999999998]
[null,"1 - Starting Q1 2024. “Active Clients” metric includes Active Merchants \"(\"Payments\") that are not PagBank Clients (“Banking”). For comparison. previous quarters were adjusted accordingly"]
[]
[null,"TPV | R$ billion - former segmentation","1Q20","2Q20","3Q20","4Q20","1Q21","2Q21","3Q21","4Q21","1Q22","2Q22","3Q22","4Q22","1Q23","2Q23","3Q23","4Q23","1Q24","2Q24","3Q24","4Q24","1Q25","2Q25","3Q25",{"$f":"Z5","v":"4Q25"},null,2020,2021,2022,2023,2024,2025]
[null,"Total Payment Volume",{"$f":"ROUND(C2,3)","v":0},0,0,0,0,0,0,0,0,89.2,90.3,94.3,{"$f":"ROUND(SUM(O17:O18),3)","v":88.096999999999994},92.676000000000002,99.837000000000003,113.711,111.73699999999999,124.39100000000001,136.286,146.006,"n.a.","n.a.","n.a.","n.a.",null,161.6,252,353.9,394.32,518.41999999999996,"n.a."]
[null,"MSMB (BRL >1M/month)","-","-","-","-","-","-","-","-","-","-","-","-",62.779000000000003,65.372,70.144000000000005,79.391000000000005,77.578000000000003,83.555000000000007,88.305999999999997,96.125,"n.a.","n.a.","n.a.","n.a.",null,"-","-","-",277.68599999999998,345.56400000000002,"n.a."]
[null,"LMEC (BRL >1M/month + Online)","-","-","-","-","-","-","-","-","-","-","-","-",25.318000000000001,27.303999999999998,29.693000000000001,34.32,34.158999999999999,40.835999999999999,47.98,49.881,"n.a.","n.a.","n.a.","n.a.",null,"-","-","-",116.634,172.85599999999999,"n.a."]
[{"$f":"IFERROR(A21/#REF!-1,\"-\")","v":"-"}]
["","TPV | R$ billion  - New Segmentation¹ starting Q1 2025","1Q20","2Q20","3Q20","4Q20","1Q21","2Q21","3Q21","4Q21","1Q22","2Q22","3Q22","4Q22","1Q23","2Q23","3Q23","4Q23","1Q24",{"$f":"$T$15","v":"2Q24"},{"$f":"U15","v":"3Q24"},"4Q24",{"$f":"W15","v":"1Q25"},"2Q25","3Q25",{"$f":"Z5","v":"4Q25"},null,2020,2021,2022,2023,2024,2025]
[null,"Total Payment Volume",{"$f":"C17","v":"-"},"-","-","-","-","-","-","-",80.099999999999994,89.2,90.3,94.3,{"$f":"SUM(O22:O23)","v":88.1},92.7,99.8,113.7,111.80000000000001,124.4,136.30000000000001,{"$f":"SUM(V22:V23)","v":146},{"$f":"SUM(W22:W23)","v":129.19999999999999},129.578,129.84700000000001,142.387,null,161.6,252,353.9,394.32,518.41999999999996,530.5]
[null,"MSMB (BRL >3M/month)","-","-","-","-","-","-","-","-","-","-","-","-",69.8,72.7,77.8,87.5,85.7,91.8,96.9,104.7,95.2,93.361999999999995,93.156000000000006,"n.a.",null,"-","-","-",307.89999999999998,379.1,382.67099999999999]
[null,"Large Retail and Online (BRL >3M/month + Online)","-","-","-","-","-","-","-","-","-","-","-","-",18.3,20,22,26.2,26.1,32.6,39.4,41.3,34,36.216000000000001,36.691000000000003,"n.a.",null,"-","-","-",86.4,139.4,147.78800000000001]
[null,"PIX | % of Total TPV","-","-","-","-","-","-","-","-","-","-","-","-","-","-",4.471E-2,6.9089999999999999E-2,7.4969999999999995E-2,0.1125,0.14810999999999999,0.16577,0.15508,0.17041000000000001,0.17199999999999999,"n.a.",null,"-","-","-","-",{"$f":"ROUND(SUMPRODUCT(S24:V24,S21:V21)/AF21,3)","v":0.129},0.16700000000000001]
[null,"1 - New Segmentation applied starting Q1 2025. For comparison. previous quarters were adjusted accordingly"]
[]
[null,"TPV per Active Merchant | R$ billion",null,null,null,null,null,null,null,null,{"$f":"K$15","v":"1Q22"},"2Q22","3Q22","4Q22","1Q23","2Q23","3Q23","4Q23","1Q24","2Q24","3Q24","4Q24",{"$f":"W$15","v":"1Q25"},{"$f":"X$15","v":"2Q25"},"3Q25",{"$f":"Z$15","v":"4Q25"},null,2020,2021,2022,2023,2024,2025]
[null,"Total Payment Volume",{"$f":"C21","v":"-"},"-","-","-","-","-","-","-",80.099999999999994,{"$f":"ROUND(L21,3)","v":89.2},90.3,94.3,88.1,92.7,99.8,113.7,111.8,124.4,136.30000000000001,146,129.19999999999999,129.578,129.84700000000001,{"$f":"ROUND(Z21,3)","v":142.387},null,"-","-",143.86500000000001,394.3,518.41999999999996,530.5]
[null," Active Payments Clients (Merchants) (# million)","-","-","-","-","-","-","-","-",{"$f":"K23","v":"-"},{"$f":"ROUND(L12,3)","v":7.4710000000000001},7.3150000000000004,7.08,6.9169999999999998,6.7679999999999998,6.6529999999999996,6.5389999999999997,6.4889999999999999,6.4429999999999996,6.4139999999999997,6.3440000000000003,6.27,6.2430000000000003,6.2779999999999996,{"$f":"ROUND(Z12,3)","v":6.2770000000000001},null,"-","-",16.196000000000002,6.2430000000000003,6.2779999999999996,6.2770000000000001]
[null,"TPV per Active Merchant (R$ thousand)","-","-","-","-","-","-","-","-","-",null,12.214256729338562,13.101771448419591,12.588411802529112,13.547679941541835,14.872215185157589,17.23771983020012,17.163033466380107,19.239096814104549,21.202457805086727,22.887599937294247,20.485175202156331,20.710940621753377,20.740675664882996,22.682118677817602,null,"-","-",null,{"$f":"AE28/AE29","v":63.158737786320678},82.808082421531822,84.508164078056552]
[]
[null,"Cash-In per Active Client| R$ billion",null,null,null,null,null,null,null,null,"1Q22","2Q22","3Q22","4Q22","1Q23","2Q23","3Q23","4Q23","1Q24",{"$f":"$T$15","v":"2Q24"},{"$f":"U5","v":"3Q24"},"4Q24",{"$f":"W5","v":"1Q25"},{"$f":"X5","v":"2Q25"},"3Q25",{"$f":"Z5","v":"4Q25"},null,2020,2021,2022,2023,2024,2025]
[null,"Cash-In","-","-","-","-","-","-","-","-",6.3,6.5,5.7,6.3,6.1,5.9,5.7,5.9,63.7,70,74.7,81.5,73.599999999999994,78.8,83,90.7,null,"-","-",{"$f":"ROUND(SUM(K33:N33),3)","v":24.8},{"$f":"ROUND(SUM(O33:R33),3)","v":23.6},{"$f":"ROUND(SUM(S33:V33),3)","v":289.89999999999998},{"$f":"ROUND(SUM(W33:Z33),3)","v":326.10000000000002}]
[null," Active Banking Clients (# million)","-","-","-","-","-","-","-","-",{"$f":"ROUND(K11,3)","v":14.33},15.143000000000001,15.811,16.196000000000002,16.295000000000002,16.440000000000001,16.739000000000001,16.748000000000001,16.902000000000001,17.282,17.303000000000001,17.443000000000001,{"$f":"ROUND(W11,3)","v":17.332999999999998},{"$f":"ROUND(X11,3)","v":17.39},17.489999999999998,{"$f":"ROUND(Z11,3)","v":17.042999999999999},null,"-","-",16.196000000000002,16.748000000000001,17.443000000000001,{"$f":"AG11","v":17.042999999999999}]
[null,"Cash-In per Active Banking Client (R$ thousand)","-","-","-","-","-","-","-","-",null,0.441,0.36799999999999999,0.39400000000000002,0.375,0.36,0.34399999999999997,0.35199999999999998,3.786,4.0949999999999998,4.32,4.6909999999999998,4.2329999999999997,4.5389999999999997,4.7,5.2530000000000001,null,"-","-","-",1.4330000000000001,16.957999999999998,18.912022269906629]
[null,"1 - Starting in 4Q25, Cash‑in figures have been adjusted on a retroactive basis to ensure full alignment with the updated methodological framework."]
[]
[null,"R$ billion","1Q20","2Q20","3Q20","4Q20","1Q21","2Q21","3Q21","4Q21","1Q22","2Q22","3Q22","4Q22","1Q23","2Q23","3Q23","4Q23","1Q24",{"$f":"$T$15","v":"2Q24"},{"$f":"U32","v":"3Q24"},"4Q24",{"$f":"W32","v":"1Q25"},{"$f":"X32","v":"2Q25"},"3Q25",{"$f":"Z32","v":"4Q25"},null,2020,2021,2022,2023,2024,2025]
[null,"Total Deposits",null,null,null,{"$f":"ROUND(SUM(F40:F41),3)","v":5.0730000000000004},4.9800000000000004,5.8920000000000003,7.1630000000000003,8.8350000000000009,11.182,15.492000000000001,19.402000000000001,20.661999999999999,18.603000000000002,18.291,21.568999999999999,27.571000000000002,30.561,34.243000000000002,34.201000000000001,36.119999999999997,{"$f":"ROUND(SUM(W40:W41),3)","v":33.881999999999998},37.176000000000002,39.450000000000003,{"$f":"ROUND(SUM(Z40:Z41),3)","v":40.671999999999997},null,5.0730000000000004,8.8350000000000009,20.663,27.571000000000002,36.119999999999997,40.671999999999997]
[null,"Checking Accounts","-","-","-",4.3070000000000004,3.536,4.1020000000000003,4.4930000000000003,5.7009999999999996,5.468,6.0810000000000004,6.734,8.6669999999999998,7.9249999999999998,8.2579999999999991,9.6549999999999994,11.382999999999999,10.855,11.509,10.512,12.031000000000001,10.314,10.53,10.48,12.244,null,4.3070000000000004,5.7009999999999996,8.6669999999999998,11.382999999999999,12.031000000000001,{"$f":"ROUND(Z40,3)","v":12.244}]
[null,"Banking Issuances","-","-","-",0.76600000000000001,1.444,1.79,2.67,3.1339999999999999,5.7140000000000004,9.4109999999999996,12.667999999999999,11.994999999999999,10.678000000000001,10.032999999999999,11.914,16.187999999999999,19.706,22.734000000000002,23.689,24.088999999999999,23.568000000000001,26.646000000000001,28.969000000000001,28.428000000000001,null,0.76600000000000001,3.1339999999999999,11.994999999999999,16.187999999999999,24.088999999999999,{"$f":"ROUND(Z41,3)","v":28.428000000000001}]
[null,"APY | Checking Accounts","-","-","-","-","-","-","-","-","-","-","-","-",0.73,0.73,0.72,0.72,0.69,0.68,0.47299999999999998,0.47299999999999998,0.48599999999999999,0.4748,0.42,0.438,null,null,null,null,"-",0.57099999999999995,0.45400000000000001]
[null,"APY | Total Deposits","-","-","-","-","-","-","-","-","-","-","-","-",0.93899999999999995,0.94299999999999995,0.93400000000000005,0.94399999999999995,0.95099999999999996,0.94699999999999995,0.89200000000000002,0.90100000000000002,0.90200000000000002,0.89219999999999999,0.88300000000000001,0.86899999999999999,null,null,null,null,"-",0.93799999999999994,0.88700000000000001]
[null,"Other Fundings","-","-","-","-","-","-","-","-","-","-","-","-",{"$f":"ROUND(('Balance Sheet'!O33+'Balance Sheet'!O36+'Balance Sheet'!O47+'Balance Sheet'!O52)/1000,3)","v":0.35699999999999998},{"$f":"ROUND(('Balance Sheet'!P33+'Balance Sheet'!P36+'Balance Sheet'!P47+'Balance Sheet'!P52)/1000,3)","v":0.44700000000000001},{"$f":"ROUND(('Balance Sheet'!Q33+'Balance Sheet'!Q36+'Balance Sheet'!Q47+'Balance Sheet'!Q52)/1000,3)","v":0.47699999999999998},{"$f":"ROUND(('Balance Sheet'!R33+'Balance Sheet'!R36+'Balance Sheet'!R47+'Balance Sheet'!R52)/1000,3)","v":0.53100000000000003},{"$f":"ROUND(('Balance Sheet'!S33+'Balance Sheet'!S35+'Balance Sheet'!S36+'Balance Sheet'!S47+'Balance Sheet'!S52)/1000,3)","v":1.2949999999999999},{"$f":"ROUND(('Balance Sheet'!T33+'Balance Sheet'!T36+'Balance Sheet'!T47+'Balance Sheet'!T52)/1000,3)","v":3.11},{"$f":"ROUND(('Balance Sheet'!U33+'Balance Sheet'!U36+'Balance Sheet'!U47+'Balance Sheet'!U52)/1000,3)","v":3.94},{"$f":"ROUND(('Balance Sheet'!V33+'Balance Sheet'!V36+'Balance Sheet'!V47+'Balance Sheet'!V52)/1000,3)","v":6.6879999999999997},{"$f":"ROUND(('Balance Sheet'!W33+'Balance Sheet'!W36+'Balance Sheet'!W47+'Balance Sheet'!W52)/1000,3)","v":6.5369999999999999},5.681,4.25,4.0670000000000002,null,"-","-",{"$f":"ROUND(('Balance Sheet'!AD33+'Balance Sheet'!AD35+'Balance Sheet'!AD36+'Balance Sheet'!AD47+'Balance Sheet'!AD52)/1000,3)","v":0.59399999999999997},{"$f":"ROUND(('Balance Sheet'!AE33+'Balance Sheet'!AE35+'Balance Sheet'!AE36+'Balance Sheet'!AE47+'Balance Sheet'!AE52)/1000,3)","v":0.66600000000000004},{"$f":"ROUND(('Balance Sheet'!AF33+'Balance Sheet'!AF36+'Balance Sheet'!AF47+'Balance Sheet'!AF52)/1000,3)","v":6.6879999999999997},{"$f":"ROUND(('Balance Sheet'!AG33+'Balance Sheet'!AG36+'Balance Sheet'!AG47+'Balance Sheet'!AG52)/1000,3)","v":4.0670000000000002}]
[null,"Total Funding",{"$f":"IFERROR(C39+C44,\"-\")","v":"-"},{"$f":"IFERROR(D39+D44,\"-\")","v":"-"},"-","-","-","-","-","-","-","-","-","-",{"$f":"ROUND(IFERROR(O39+O44,\"-\"),3)","v":18.96},18.738,22.045999999999999,28.102,31.856000000000002,37.353000000000002,38.140999999999998,42.808,40.418999999999997,42.856999999999999,43.7,{"$f":"ROUND(IFERROR(Z39+Z44,\"-\"),3)","v":44.738999999999997},null,{"$f":"IFERROR(AB39+AB44,\"-\")","v":"-"},{"$f":"IFERROR(AC39+AC44,\"-\")","v":"-"},{"$f":"ROUND(IFERROR(AD39+AD44,\"-\"),3)","v":21.257000000000001},{"$f":"ROUND(IFERROR(AE39+AE44,\"-\"),3)","v":28.236999999999998},{"$f":"ROUND(IFERROR(AF39+AF44,\"-\"),3)","v":42.808},{"$f":"ROUND(IFERROR(AG39+AG44,\"-\"),3)","v":44.738999999999997}]
[9,"1 - include other sources: Borrowings. Certificate of Deposits with Related Parties. Senior FIDC quotas and others. Does not include Accounts Receivable securitization"]
[]
[null,"R$ billion","1Q20","2Q20","3Q20","4Q20","1Q21","2Q21","3Q21","4Q21","1Q22","2Q22","3Q22","4Q22","1Q23","2Q23","3Q23","4Q23","1Q24",{"$f":"$T$15","v":"2Q24"},{"$f":"U38","v":"3Q24"},"4Q24",{"$f":"W38","v":"1Q25"},"2Q25","3Q25",{"$f":"Z38","v":"4Q25"},null,2020,2021,2022,2023,2024,2025]
[null,"Total Deposits","-","-","-","-","-","-","-","-",{"$f":"ROUND(K39,3)","v":11.182},15.492000000000001,19.402000000000001,20.661999999999999,18.603000000000002,18.291,21.568999999999999,27.571000000000002,30.561,34.243000000000002,34.201000000000001,36.119999999999997,{"$f":"ROUND(W39,3)","v":33.881999999999998},{"$f":"ROUND(X39,3)","v":37.176000000000002},39.450000000000003,{"$f":"ROUND(Z39,3)","v":40.671999999999997},null,5.0730000000000004,8.8350000000000009,20.663,27.571000000000002,36.119999999999997,40.671999999999997]
[null,"On Platform","-","-","-","-","-","-","-","-",{"$f":"ROUND(K49-K51,3)","v":9.391},12.545999999999999,14.365,16.981000000000002,15.638999999999999,15.669,18.241,21.428999999999998,22.73,26.042999999999999,28.027000000000001,29.300999999999998,{"$f":"ROUND(W49-W51,3)","v":28.677},{"$f":"ROUND(X49-X51,3)","v":31.675999999999998},35.097000000000001,38.716000000000001,null,"-","-",16.981999999999999,21.43,29.300999999999998,38.716000000000001]
[null,"Off Platform","-","-","-","-","-","-","-","-",1.7909999999999999,2.9460000000000002,5.0369999999999999,3.681,2.964,2.6219999999999999,3.3279999999999998,6.1420000000000003,7.8310000000000004,8.1999999999999993,6.1740000000000004,6.8179999999999996,5.2050000000000001,5.5,4.3529999999999998,1.956,null,"-","-",3.681,6.1420000000000003,6.8179999999999996,1.956]
[]
[null,"R$ billion","1Q20","2Q20","3Q20","4Q20","1Q21","2Q21","3Q21","4Q21","1Q22","2Q22","3Q22","4Q22","1Q23","2Q23","3Q23","4Q23","1Q24",{"$f":"$T$15","v":"2Q24"},{"$f":"U38","v":"3Q24"},"4Q24",{"$f":"W38","v":"1Q25"},{"$f":"X38","v":"2Q25"},"3Q25",{"$f":"Z38","v":"4Q25"},null,2020,2021,2022,2023,2024,2025]
[null,"Credit Portfolio",0.504,0.47899999999999998,0.48599999999999999,0.61199999999999999,0.77100000000000002,1.1160000000000001,1.5529999999999999,1.907,2.0550000000000002,2.2749999999999999,2.653,2.7210000000000001,2.718,2.609,2.4620000000000002,2.5289999999999999,2.7229999999999999,2.8940000000000001,3.198,3.4369999999999998,3.6509999999999998,3.8730000000000002,4.1530000000000005,4.5629999999999997,null,0.61199999999999999,1.907,2.7210000000000001,2.5289999999999999,3.4369999999999998,4.5629999999999997]
[null,"Working Capital",0.33800000000000002,0.29399999999999998,0.27700000000000002,0.33100000000000002,0.41299999999999998,0.627,0.88300000000000001,1.07,1.0089999999999999,0.91900000000000004,0.81299999999999994,0.74299999999999999,0.67200000000000004,0.625,0.47099999999999997,0.41,0.34100000000000003,0.20200000000000001,0.16200000000000001,0.14299999999999999,0.16500000000000001,0.20100000000000001,0.35,0.38700000000000001,null,0.33100000000000002,1.07,0.74299999999999999,0.41,0.14299999999999999,0.38700000000000001]
[null,"Credit Cards",0.33800000000000002,0.17100000000000001,0.189,0.25700000000000001,0.33400000000000002,0.45900000000000002,0.60399999999999998,0.72599999999999998,0.85199999999999998,0.91900000000000004,1.014,1.113,1.087,0.88600000000000001,0.81599999999999995,0.76300000000000001,0.71499999999999997,0.70099999999999996,0.70399999999999996,0.77800000000000002,0.76900000000000002,0.79500000000000004,0.82899999999999996,0.9,null,0.25700000000000001,0.72599999999999998,1.113,0.76300000000000001,0.77800000000000002,0.90900000000000003]
[null,"Payroll Loan + FGTS",1.0999999999999999E-2,1.4E-2,0.02,2.3E-2,2.5000000000000001E-2,0.03,6.6000000000000003E-2,0.111,0.19400000000000001,0.437,0.82599999999999996,0.86499999999999999,{"$f":"ROUND(O54-SUM(O55:O56),3)","v":0.95899999999999996},1.0980000000000001,1.175,1.3560000000000001,1.667,1.9910000000000001,2.3319999999999999,2.516,{"$f":"ROUND(W54-SUM(W55:W56),3)","v":2.7170000000000001},{"$f":"ROUND(X54-SUM(X55:X56),3)","v":2.8769999999999998},2.9740000000000002,3.2669999999999999,null,2.3E-2,0.111,0.86499999999999999,1.3560000000000001,2.516,3.2669999999999999]
[null,"NPL 90+ | Secured Products","-","-","-","-","-","-","-","-",0.01,0.01,4.0000000000000001E-3,7.0000000000000001E-3,1.0999999999999999E-2,1.2E-2,1.0999999999999999E-2,1.0999999999999999E-2,8.9999999999999993E-3,7.0000000000000001E-3,6.0000000000000001E-3,6.0000000000000001E-3,8.0000000000000002E-3,0.01,8.9999999999999993E-3,1.0999999999999999E-2,null,"-","-",7.0000000000000001E-3,1.0999999999999999E-2,6.0000000000000001E-3,{"$f":"ROUND(Z58,3)","v":1.0999999999999999E-2}]
[null,"NPL 90+ | Total Credit Portfolio","-","-","-","-","-","-","-","-",0.224,0.26300000000000001,0.23599999999999999,0.20599999999999999,0.17899999999999999,0.14399999999999999,0.107,7.4999999999999997E-2,4.4999999999999998E-2,3.2000000000000001E-2,2.5000000000000001E-2,2.3E-2,2.3E-2,2.5000000000000001E-2,2.5999999999999999E-2,2.9000000000000001E-2,null,"-","-",0.20599999999999999,7.4999999999999997E-2,2.3E-2,{"$f":"ROUND(Z59,3)","v":2.9000000000000001E-2}]
[null,"Prepayment to Merchants¹","-","-","-","-","-","-","-","-",{"$f":"ROUND(('Balance Sheet'!K11+'Balance Sheet'!K20)/1000-K54-SUM('Balance Sheet'!K31+'Balance Sheet'!K46)/1000,3)","v":10.683999999999999},{"$f":"ROUND(('Balance Sheet'!L11+'Balance Sheet'!L20)/1000-L54-SUM('Balance Sheet'!L31+'Balance Sheet'!L46)/1000,3)","v":14.901999999999999},{"$f":"ROUND(('Balance Sheet'!M11+'Balance Sheet'!M20)/1000-M54-SUM('Balance Sheet'!M31+'Balance Sheet'!M46)/1000,3)","v":17.701000000000001},{"$f":"ROUND(('Balance Sheet'!N11+'Balance Sheet'!N20)/1000-N54-SUM('Balance Sheet'!N31+'Balance Sheet'!N46)/1000,3)","v":16.2},{"$f":"ROUND(('Balance Sheet'!O11+'Balance Sheet'!O20)/1000-O54-SUM('Balance Sheet'!O31+'Balance Sheet'!O46)/1000,3)","v":23.271000000000001},{"$f":"ROUND(('Balance Sheet'!P11+'Balance Sheet'!P20)/1000-P54-SUM('Balance Sheet'!P31+'Balance Sheet'!P46)/1000,3)","v":23.248000000000001},{"$f":"ROUND(('Balance Sheet'!Q11+'Balance Sheet'!Q20)/1000-Q54-SUM('Balance Sheet'!Q31+'Balance Sheet'!Q46)/1000,3)","v":26.847999999999999},{"$f":"ROUND(('Balance Sheet'!R11+'Balance Sheet'!R20)/1000-R54-SUM('Balance Sheet'!R31+'Balance Sheet'!R46)/1000,3)","v":30.221},{"$f":"ROUND(('Balance Sheet'!S11+'Balance Sheet'!S20)/1000-S54-SUM('Balance Sheet'!S31+'Balance Sheet'!S46)/1000,3)","v":31.460999999999999},{"$f":"ROUND(('Balance Sheet'!T11+'Balance Sheet'!T20)/1000-T54-SUM('Balance Sheet'!T31+'Balance Sheet'!T46)/1000,3)","v":39.854999999999997},{"$f":"ROUND(('Balance Sheet'!U11+'Balance Sheet'!U20)/1000-U54-SUM('Balance Sheet'!U31+'Balance Sheet'!U46)/1000,3)","v":40.902999999999999},{"$f":"ROUND(('Balance Sheet'!V11+'Balance Sheet'!V20)/1000-V54-SUM('Balance Sheet'!V31+'Balance Sheet'!V46)/1000,3)","v":41.570999999999998},{"$f":"ROUND(('Balance Sheet'!W11+'Balance Sheet'!W20)/1000-W54-SUM('Balance Sheet'!W31+'Balance Sheet'!W46)/1000,3)","v":38.939},{"$f":"ROUND(('Balance Sheet'!X11+'Balance Sheet'!X20)/1000-X54-SUM('Balance Sheet'!X31+'Balance Sheet'!X46)/1000,3)","v":40.326999999999998},44.95,45.17,null,"-","-",{"$f":"ROUND(('Balance Sheet'!AD11+'Balance Sheet'!AD20)/1000-AD54-SUM('Balance Sheet'!AD31+'Balance Sheet'!AD46)/1000,3)","v":16.2},{"$f":"ROUND(('Balance Sheet'!AE11+'Balance Sheet'!AE20)/1000-AE54-SUM('Balance Sheet'!AE31+'Balance Sheet'!AE46)/1000,3)","v":30.221},{"$f":"ROUND(('Balance Sheet'!AF11+'Balance Sheet'!AF20)/1000-AF54-SUM('Balance Sheet'!AF31+'Balance Sheet'!AF46)/1000,3)","v":41.570999999999998},{"$f":"ROUND(SUM(Z60\n\n),3)","v":45.17}]
[null,"Expanded Credit Portfolio",{"$f":"IFERROR(C54+C60,\"-\")","v":"-"},{"$f":"IFERROR(D54+D60,\"-\")","v":"-"},"-","-","-","-","-","-",{"$f":"ROUND(IFERROR(K54+K60,\"-\"),3)","v":12.739000000000001},17.177,20.353999999999999,18.920999999999999,25.989000000000001,25.856999999999999,29.31,32.75,34.183999999999997,42.749000000000002,44.100999999999999,45.008000000000003,42.59,44.2,49.101999999999997,{"$f":"ROUND(IFERROR(Z54+Z60,\"-\"),3)","v":49.732999999999997},null,{"$f":"IFERROR(AB54+AB60,\"-\")","v":"-"},{"$f":"IFERROR(AC54+AC60,\"-\")","v":"-"},{"$f":"ROUND(IFERROR(AD54+AD60,\"-\"),3)","v":18.920999999999999},{"$f":"ROUND(IFERROR(AE54+AE60,\"-\"),3)","v":32.75},{"$f":"ROUND(IFERROR(AF54+AF60,\"-\"),3)","v":45.008000000000003},{"$f":"ROUND(IFERROR(AG54+AG60,\"-\"),3)","v":49.732999999999997}]
[9,"1 - Net of Accounts Receivable securitization"]

{"sheet":"Balance Sheet","index":2,"n_rows":69,"n_cols":33,"rows_kept":69,"cut":false,"hidden":false,"merged":[]}
[]
[null,"BALANCE SHEET"]
[null,"http://investors.pagbank.com/"]
[]
[null,"R$ million","1Q20","2Q20","3Q20","4Q20","1Q21","2Q21","3Q21","4Q21","1Q22","2Q22","3Q22","4Q22","1Q23","2Q23","3Q23","4Q23","1Q24","2Q24","3Q24","4Q24","1Q25","2Q25","3Q25","4Q25",null,2020,2021,2022,2023,2024,2025]
[null,"Assets",14468.128000000001,16343.758,18624.563999999998,22324.321,21976.496999999999,24186.038,26960.098999999998,31075.804,33807.506999999998,39195.79,43275.883000000002,45329.319000000003,43191.629000000001,42836.3,47326.985999999997,55108.093000000001,59165.055999999997,66478.145000000004,67219.48,72900.616999999998,69137.846999999994,71193.206000000006,72285.248000000007,74409.523000000001,null,22324.321,31075.804,45329.319000000003,55108.093000000001,{"$f":"ROUND(SUM(AF7,AF18),3)","v":72900.642999999996},{"$f":"ROUND(SUM(AG7,AG18),3)","v":74409.523000000001}]
[null,"Current Assets",13146.371999999999,14604.749,16383.245999999999,19247.080999999998,18643.261999999999,20627.07,23007.457999999999,26719.334999999999,28871.72,33955.021999999997,37709.290999999997,39767.074999999997,37507.593999999997,36897.781000000003,41164.805,48728.828000000001,52397.906000000003,58983.201999999997,59379.85,64620.915000000001,60426.716,62214.69,{"$f":"ROUND(SUM(Y8:Y17),3)","v":63192.343999999997},64933.053,null,19247.080999999998,26719.334999999999,39767.074999999997,48728.828000000001,{"$f":"ROUND(SUM(AF8:AF17),3)","v":64620.875999999997},{"$f":"ROUND(SUM(AG8:AG17),3)","v":64933.053}]
[null,"Cash and Cash Equivalents",3043.1529999999998,2665.317,1595.1479999999999,1640.0650000000001,1260.278,1195.5440000000001,1122.3879999999999,1794.3620000000001,1483.0920000000001,1191.9860000000001,1404.519,1829.097,1816.164,1724.0809999999999,1974.6179999999999,2899.06,4366.3590000000004,1374.2180000000001,720.10599999999999,927.66800000000001,954.12300000000005,1128.2070000000001,1427.3030000000001,1857.5070000000001,null,1640.0650000000001,1794.3620000000001,1829.097,2899.06,{"$f":"ROUND(V8,3)","v":927.66800000000001},{"$f":"ROUND(Z8,3)","v":1857.5070000000001}]
[null,"Financial Investments",499.78199999999998,658.05,863.31100000000004,979.83699999999999,965.11199999999997,1009.984,1000.877,782.64700000000005,1131.788,1046.558,1073.816,1103.299,726,872,979,782.61199999999997,1898,1237,664,487.92399999999998,658.36500000000001,448.012,459.07499999999999,590.01400000000001,null,979.83699999999999,782.64700000000005,1103.299,782.61199999999997,487.92399999999998,590.01400000000001]
[null,"Compulsory reserve",0,0,0,0,0,0,0,0,0,0,0,0,1063,1122,1078,2525.971,2501,3607,4174,4761.4040000000005,4027.5259999999998,4426.0259999999998,4087.7469999999998,4271.5810000000001,null,null,null,null,2525.971,4761.4040000000005,4271.5810000000001]
[null,"Accounts Receivable",9268.5709999999999,10890.968000000001,13538.587,16042.97,15824.05,17644.093000000001,20122.691999999999,23428.522000000001,25528.929,31024.816999999999,34569.771999999997,36248.589,34002.110999999997,33440.463000000003,37521.292000000001,41757.203999999998,42856.567000000003,52051.025999999998,52975.902000000002,56167.3,52462.5,53986.5,54786.6,55563.067000000003,null,16042.97,23428.522000000001,36248.589,41757.203999999998,56167.3,55563.067000000003]
[null,"Credit Portfolio ",null,null,null,null,null,null,null,null,null,null,null,null,null,null,null,null,null,null,null,1461.2,1552.1,1657.1,1838.6,2039.2149999999999,null,null,null,null,null,1461.2,2039.2149999999999]
[null,"Derivative Financial Instruments",0,0,0,0,0,0,0,0,1.329,4.4290000000000003,0,0,0,0,0,0,0,20.934000000000001,18.420999999999999,58.47,0.80900000000000005,0,0,4.9240000000000004,null,0,0,0,0,58.47,4.9240000000000004]
[null,"Receivables from Related Parties",0,0,0,0,0,0,0,0,0,0,0,0,0,2.1640000000000001,4.399,4.3070000000000004,4.17,5.74,7.47,9.0820000000000007,10.865,10.597,10.353999999999999,10.102,null,0,0,0,4.3070000000000004,9.0820000000000007,10.102]
[null,"Inventories",70.210999999999999,73.623999999999995,34.89,30.428999999999998,53.045999999999999,72.971000000000004,86.213999999999999,49.536999999999999,49.274000000000001,47.89,52.061999999999998,13.28,21.613,32.79,26.195,33.536999999999999,29.736000000000001,30.21,29.741,1.6419999999999999,0.86899999999999999,0.95699999999999996,1.002,0,null,30.428999999999998,49.536999999999999,13.28,33.536999999999999,1.6419999999999999,0]
[null,"Taxes Recoverable",193.321,254.09899999999999,285.08600000000001,388.97500000000002,383.23099999999999,565.05399999999997,545.68200000000002,469.49,434.38400000000001,440.23099999999999,460.24799999999999,410.80099999999999,448.28300000000002,421.45499999999998,379.14100000000002,563.30499999999995,584.16600000000005,466.10399999999998,594.11199999999997,551.72199999999998,545.476,364.887,365.92,366.10500000000002,null,388.97500000000002,469.49,410.80099999999999,563.30499999999995,551.72199999999998,366.10500000000002]
[null,"Other Receivables",71.334000000000003,62.692,66.224000000000004,164.80500000000001,157.54499999999999,139.42500000000001,129.60400000000001,194.77600000000001,242.923,199.11099999999999,148.87299999999999,162.00899999999999,155.77199999999999,154.61099999999999,180.839,162.83199999999999,158.38300000000001,191.096,195.77099999999999,194.464,214.09299999999999,192.42500000000001,215.74299999999999,230.53800000000001,null,164.80500000000001,194.77600000000001,162.00899999999999,162.83199999999999,194.464,230.53800000000001]
[null,"Non-Current Assets",1321.7560000000001,1739.009,2241.317,3077.241,3333.2350000000001,3558.9679999999998,3952.6419999999998,4356.4690000000001,4935.7870000000003,5240.7690000000002,5566.5919999999996,5562.2439999999997,5684.0360000000001,5938.5190000000002,6162.1819999999998,6379.2650000000003,6767.1509999999998,7494.942,7839.6289999999999,8279.7019999999993,8711.1309999999994,8978.5159999999996,9092.9539999999997,9476.4699999999993,null,3077.241,4356.4690000000001,5562.2439999999997,6379.2650000000003,{"$f":"ROUND(SUM(AF19:AF28),3)","v":8279.7669999999998},9476.4699999999993]
[null,"Judicial Deposits",6.7510000000000003,5.98,6.8,7.4489999999999998,37.698999999999998,38.255000000000003,38.412999999999997,40.223999999999997,41.148000000000003,41.024999999999999,44.061999999999998,44.857999999999997,44.21,49.558999999999997,49.634,50.991999999999997,56.927,61.334000000000003,69.52,79.590999999999994,81.034999999999997,90.204999999999998,111.983,116.22,null,7.4489999999999998,40.223999999999997,44.857999999999997,50.991999999999997,{"$f":"ROUND(V19,3)","v":79.590999999999994},116.22]
[null,"Accounts Receivable",23.73,17.896999999999998,27.847000000000001,33.57,44.451000000000001,53.186999999999998,179.85499999999999,228.88,390.428,511.56599999999997,731.36099999999999,745.54600000000005,803.08,918.07399999999996,1000.115,1143.779,1391.1030000000001,1699.502,2011.58,483.2,462.2,428.89999999999986,430.9,498.4,null,33.57,228.88,745.54600000000005,1143.779,483.2,498.4]
[null,"Credit Portfolio ",null,null,null,null,null,null,null,null,null,null,null,null,null,null,null,null,null,null,null,1691.6,1815.2,1921.7,1999.7,2167.1999999999998,null,null,null,null,null,1691.6,2167.1999999999998]
[null,"Tax Receivable",0,0,0,0,0,0,0,0,0,0,0,0,0,0,0,0,0,200.637,123.318,318.197,497.63099999999997,679.4,695.375,745.55499999999995,null,0,0,0,0,318.197,745.55499999999995]
[null,"Receivables from related parties",0,0,0,0,0,0,0,0,0,0,0,0,0,13.393000000000001,28.024000000000001,27.974,27.942,26.253,24.442,22.766999999999999,20.942,19.3,17.468,15.8,null,null,null,null,27.974,22.766999999999999,15.8]
[null,"Other receivables",10.893000000000001,10.095000000000001,12.074999999999999,10.292999999999999,9.3260000000000005,8.9510000000000005,14.093999999999999,11.71,9.89,24.295999999999999,15.589,18.506,27.164000000000001,25.071999999999999,20.826000000000001,35.584000000000003,44.798999999999999,77.302999999999997,81.186999999999998,89.902000000000001,92.506,89.7,103.005,134.92699999999999,null,10.292999999999999,11.71,18.506,35.584000000000003,89.902000000000001,134.92699999999999]
[null,"Deferred Income Tax and Social Contribution",0,104.24,97.61,83.296000000000006,77.225999999999999,88.082999999999998,88.748999999999995,120.762,114.309,103.133,102.952,99.411000000000001,102.105,97.748999999999995,101.541,98.855999999999995,97.638999999999996,104.443,86.953000000000003,95.872,85.103999999999999,80.400000000000006,75.132999999999996,86.978999999999999,null,83.296000000000006,120.762,99.411000000000001,98.855999999999995,95.872,86.978999999999999]
[null,"Investment",1.5,1.5,1.5,16.399999999999999,16.399999999999999,16.155000000000001,15.956,15.666,15.512,14.728,1.5740000000000001,1.651,1.7629999999999999,1.8109999999999999,0,0,0,0,0,0,0,0,0,0,null,16.399999999999999,15.666,1.651,0,0,0]
[null,"Property and Equipment",607.23299999999995,889.54100000000005,1275.0719999999999,1802.6130000000001,1944.095,2047.63,2148.2950000000001,2289.0520000000001,2578.5250000000001,2646.6480000000001,2671.7570000000001,2493.4989999999998,2437.9839999999999,2473.7130000000002,2478.114,2451.011,2505.7199999999998,2593.9679999999998,2616.1129999999998,2572.3359999999998,2659.2040000000002,2617.1999999999998,2588.7979999999998,2539.0770000000002,null,1802.6130000000001,2289.0520000000001,2493.4989999999998,2451.011,2572.3359999999998,2539.0770000000002]
[null,"Intangible Assets",671.65,709.755,820.41399999999999,1123.6199999999999,1204.039,1306.7070000000001,1467.279,1650.1759999999999,1785.9760000000001,1899.3720000000001,1999.296,2158.7730000000001,2267.7289999999998,2359.1469999999999,2483.9270000000001,2571.069,2643.02,2731.5010000000002,2826.518,2926.3020000000001,2997.3490000000002,3051.9,3070.6179999999999,3172.4029999999998,null,1123.6199999999999,1650.1759999999999,2158.7730000000001,2571.069,2926.3020000000001,3172.4029999999998]
[null,"Liabilities and Equity",14468.130999999999,16343.758,18624.563999999998,22324.321,21976.496999999999,24186.038,26960.098000000002,31075.806,33807.506999999998,39195.79,43275.883000000002,45329.345000000001,43191.627,42836.3,47326.985000000001,55108.093000000001,59165.055,66478.142999999996,67219.482000000004,72900.616999999998,69137.849000000002,71193.206000000006,72285.248999999996,74409.523000000001,null,22324.321,31075.806,45329.345000000001,55108.093000000001,72900.616999999998,74409.523000000001]
[null,"Current Liabilities",5297.7669999999998,6620.5810000000001,8487.875,11574.477000000001,10714.138000000001,12568.656999999999,14820.597,19002.919000000002,20926.444,-221.27199999999999,28286.841,29740.348999999998,25703.236000000001,25889.510999999999,28665.419000000002,34431.919000000002,36515.928,39856.42,39167.387000000002,42744.482000000004,39647.017999999996,43716.593999999997,44501.017999999996,47783.052000000003,null,11574.477000000001,19002.919000000002,29740.348999999998,34431.919000000002,42744.482000000004,47783.052000000003]
[null,"Payables to Third Parties",4691.26,5649.366,7660.0249999999996,10101.51,8747.5709999999999,9817.0370000000003,11068.114,13217.15,13180.321,14359.487999999999,14947.305,17988.138999999999,8722.598,8373.8680000000004,9051.9110000000001,9965.6029999999992,9858.1929999999993,10948.73,10820.191000000001,11557.647999999999,10248.555,10132.757,9906.6869999999999,10837.816000000001,null,10101.51,13217.15,17988.138999999999,9965.6029999999992,{"$f":"ROUND(V31,3)","v":11557.647999999999},10837.816000000001]
[null,"Checking Accounts",0,0,0,0,0,0,0,0,0,0,0,0,7924.9679999999998,8257.77,9654.7160000000003,11382.924000000001,10854.99,11508.734,10512.394,12030.573,10314.392,10529.876,10480.421,12243.699000000001,null,null,null,null,11382.924000000001,12030.573,12243.699000000001]
[null,"Obligations to FIDC quota holders",null,null,null,null,null,null,null,null,null,null,null,null,null,null,null,null,null,null,null,134.375,139.001,144.262,0,1171.463,null,null,null,null,null,134.375,1171.463]
[null,"Trade Payables",279.262,227.23500000000001,214.68600000000001,335.53899999999999,305.70699999999999,343.93799999999999,377.589,578.00400000000002,557.654,507.35500000000002,371.73,449.10199999999998,437.46899999999999,465.07100000000003,439.35899999999998,513.91999999999996,526.32600000000002,638.928,606.322,663.22900000000004,559.65800000000002,536.17100000000005,549.29200000000003,606.74300000000005,null,335.53899999999999,578.00400000000002,449.10199999999998,513.91999999999996,663.22900000000004,606.74300000000005]
[null,"Payables to Related Parties",35.767000000000003,145.39699999999999,130.83600000000001,58.335999999999999,79.653000000000006,288.16899999999998,369.50099999999998,543.62099999999998,282.767,270.29399999999998,450.98700000000002,593.90599999999995,360.26499999999999,74.117000000000004,78.358999999999995,135.47800000000001,105.054,118.80500000000001,85.111000000000004,116.383,81.094999999999999,93.78,184.15799999999999,321.28199999999998,null,58.335999999999999,543.62099999999998,593.90599999999995,135.47800000000001,116.383,321.28199999999998]
[null,"Borrowings",0,0,0,0,0,0,0,1005.787,1110.3720000000001,1205.57,986.69500000000005,0,195.65100000000001,291.90100000000001,192.77799999999999,189.42699999999999,900.11199999999997,2457.7550000000001,2971.3249999999998,4521.5029999999997,4370.4949999999999,3448.5219999999999,2398.16,2436.846,null,0,1005.787,0,189.42699999999999,4521.5029999999997,2436.846]
[null,"Derivative Financial Instruments",0,0,0,0,0,0,0,14.317,192.74299999999999,143.48500000000001,157.01300000000001,22.289000000000001,26.414999999999999,32.744999999999997,28.091000000000001,40.945,17.440000000000001,7.891,16.445,69.968999999999994,109.791,61.231999999999999,150.49799999999999,123.95099999999999,null,0,14.317,22.289000000000001,40.945,69.968999999999994,123.95099999999999]
[null,"Deposits",0,318.54000000000002,133.68799999999999,571.99599999999998,1157.905,1547.009,2458.3760000000002,3056.444,5145.8639999999996,7689.2330000000002,10795.295,10100.599,7521.5609999999997,7813.0969999999998,8577.4449999999997,11365.373,13473.325999999999,13305.19,13295.865,12677.098,12955.85,17682.235000000001,19767.387999999999,18947.864000000001,null,571.99599999999998,3056.444,10100.599,11365.373,12677.098,18947.864000000001]
[null,"Salaries and Social Charges",71.233999999999995,95.322999999999993,107.21299999999999,175.19800000000001,152.869,217.834,247.28299999999999,259.72399999999999,182.97399999999999,251.43,300.75900000000001,292.77800000000002,205.17699999999999,276.45400000000001,333.84699999999998,345.24799999999999,232.339,311.92500000000001,392.86599999999999,402.64299999999997,261.93,337.30599999999998,360.35300000000001,383.53,null,175.19800000000001,259.72399999999999,292.77800000000002,345.24799999999999,402.64299999999997,383.53]
[null,"Taxes and Contributions",124.956,26.856999999999999,28.227,26.042000000000002,30.45,30.248000000000001,38.231000000000002,63.933999999999997,55.948999999999998,53.115000000000002,73.466999999999999,89.778999999999996,99.972999999999999,83.269000000000005,82.921999999999997,240.67099999999999,273.94400000000002,343.64699999999999,237.68600000000001,280.762,289.42399999999998,252.261,259.35000000000002,297.952,null,26.042000000000002,63.933999999999997,89.778999999999996,240.67099999999999,280.762,{"$f":"ROUND(Z40,3)","v":297.952}]
[null,"Provision for Contingencies",14.715999999999999,13.571,14.553000000000001,17.062999999999999,19.782,20.091999999999999,24.407,27.652999999999999,29.791,33.158999999999999,42.781999999999996,46.232999999999997,54.703000000000003,61.847999999999999,70.162999999999997,91.49,102.71299999999999,44.067,40.685000000000002,43.82,72.802999999999997,80.328999999999994,91.381,87.290999999999997,null,17.062999999999999,27.652999999999999,46.232999999999997,91.49,43.82,87.290999999999997]
[null,"Dividends Payable and Interest on own Capital",0,0,0,0,0,0,0,0,0,0,0,0,0,0,0,0,0,0,0,0,0,191.13300000000001,185.714,184.68600000000001,null,0,0,0,0,0,184.68600000000001]
[null,"Deferred Revenue",0,0,0,186.21899999999999,193.77,195.15199999999999,180.98400000000001,162.566,147.489,137.63900000000001,131.88800000000001,126.042,125.339,124.97799999999999,125.801,128.46100000000001,130.625,134.642,133.631,128.84899999999999,118.892,112.81699999999999,100.878,97.727000000000004,null,186.21899999999999,162.566,126.042,128.46100000000001,128.84899999999999,97.727000000000004]
[null,"Other Liabilities",80.572000000000003,144.291,198.64599999999999,102.57299999999999,26.431000000000001,109.178,56.112000000000002,73.72,40.518999999999998,29.786000000000001,28.920999999999999,31.483000000000001,29.117999999999999,34.393000000000001,30.027000000000001,32.378999999999998,40.866,36.106000000000002,54.866,117.63,125.13200000000001,113.914,66.738,42.201000000000001,null,102.57299999999999,73.72,31.483000000000001,32.378999999999998,117.63,42.201000000000001]
[null,"Non-Current Liabilities",816.71699999999998,1054.693,1187.6220000000001,1422.3889999999999,1582.066,1608.2860000000001,1682.71,1570.6880000000001,2089.799,3325.9059999999999,3477.4180000000001,3746.846,5281.2250000000004,4421.2430000000004,5793.3590000000004,7435.4889999999996,8879.7759999999998,12303.832,13609.273999999999,15487.763000000001,14547.983,12892.911,12896.245999999999,11986.901,null,1422.3889999999999,1570.6880000000001,3746.846,7435.4889999999996,15487.763000000001,11986.901]
[null,"Payables to Third Parties",0,0,0,0,0,0,0,0,0,0,0,84.759,93.522999999999996,127.45,159.43799999999999,185.86099999999999,204.98699999999999,53.155999999999999,66.712000000000003,84.57,86.024000000000001,82.69,46.811999999999998,55.930999999999997,null,0,0,84.759,185.86099999999999,{"$f":"ROUND(V46,3)","v":84.57},55.930999999999997]
[null,"Obligations to FIDC quota holders",null,null,null,null,null,null,null,null,null,null,null,null,null,null,null,null,null,null,null,1017.009,1049.4100000000001,1086.268,1128.7170000000001,0,null,null,null,null,0,1017.009,0]
[null,"Deferred Income Tax and Social Contribution",766.38800000000003,968.78499999999997,1035.0119999999999,1132.595,1183.838,1259.056,1350.46,1391.76,1421.7049999999999,1482.53,1530.326,1564.2280000000001,1613.5340000000001,1666.395,1755.4290000000001,1832.087,1897.1769999999999,1848.6189999999999,1870.519,1790.3620000000001,1673.66,1607.4259999999999,1629.087,1793.6379999999999,null,1132.595,1391.76,1564.2280000000001,1832.087,1790.3620000000001,1793.6379999999999]
[null,"Provision for Contingencies",0,0,0,11.741,12.632999999999999,12.815,12.807,13.91,13.656000000000001,14.116,14.526,14.37,14.827,6.8680000000000003,6.3140000000000001,5.7290000000000001,5.484,70.977000000000004,57.77,71.14,58.728000000000002,70.221999999999994,87.293000000000006,121.342,null,11.741,13.91,14.37,5.7290000000000001,71.14,121.342]
[null,"Deposits",0,0,61.616999999999997,194.09,288.87599999999998,242.512,211.76900000000001,77.552000000000007,568.51499999999999,1735.212,1843.4010000000001,1894.6890000000001,3156.5349999999999,2219.4050000000002,3337.0230000000001,4823.067,6232.7730000000001,9428.8019999999997,10393.486000000001,11412.137000000001,10611.975,8963.6329999999998,9202.1110000000008,9480.1299999999992,null,194.09,77.552000000000007,1894.6890000000001,4823.067,11412.137000000001,9480.1299999999992]
[null,"Deferred Revenue",0,0,0,27.335999999999999,25.484999999999999,26.757000000000001,21.876000000000001,17.3,16.751000000000001,19.812999999999999,19.106000000000002,17.486000000000001,17.792000000000002,17.792999999999999,18.074000000000002,17.724,20.024000000000001,20.823,19.515999999999998,16.579000000000001,14.332000000000001,10.113,13.053000000000001,12.253,null,27.335999999999999,17.3,17.486000000000001,17.724,16.579000000000001,12.253]
[null,"Payables to related parties",0,0,0,0,0,0,0,0,0,0,0,0,161.08500000000001,154.828,284.08199999999999,341.32600000000002,290.10599999999999,652.73400000000004,968.97500000000002,1014.8630000000001,978.43,1002.351,723.21699999999998,459.11599999999999,null,null,null,null,341.32600000000002,1014.8630000000001,459.11599999999999]
[null,"Other Liabilities",50.328000000000003,85.908000000000001,90.992000000000004,56.625999999999998,71.233000000000004,67.146000000000001,85.798000000000002,70.165000000000006,69.173000000000002,74.234999999999999,70.058000000000007,171.31299999999999,223.928,228.50399999999999,232.999,229.69399999999999,229.22499999999999,228.72,232.297,81.103999999999999,75.424000000000007,70.206999999999994,65.956000000000003,64.492000000000004,null,56.625999999999998,70.165000000000006,171.31299999999999,229.69399999999999,81.103999999999999,64.492000000000004]
[null,"Equity",8353.6479999999992,8668.4850000000006,8949.0660000000007,9327.4560000000001,9680.2929999999997,10009.094999999999,10456.790999999999,10502.199000000001,10791.263000000001,11189.33,11511.624,11842.15,12207.165999999999,12525.546,12868.208000000001,13240.684999999999,13769.352000000001,14317.891,14442.82,14668.371999999999,14942.848,14583.7,14887.985000000001,14639.571,null,9327.4560000000001,10502.199000000001,11842.15,13240.684999999999,14668.371999999999,14639.571]
[null,"Share Capital",2.5999999999999999E-2,2.5999999999999999E-2,2.5999999999999999E-2,2.5999999999999999E-2,2.5999999999999999E-2,2.5999999999999999E-2,2.5999999999999999E-2,2.5999999999999999E-2,2.5999999999999999E-2,2.5999999999999999E-2,2.5999999999999999E-2,2.5999999999999999E-2,2.5999999999999999E-2,2.5999999999999999E-2,2.5999999999999999E-2,2.5999999999999999E-2,2.5999999999999999E-2,2.5999999999999999E-2,2.5999999999999999E-2,2.5999999999999999E-2,2.5999999999999999E-2,2.5999999999999999E-2,2.5999999999999999E-2,2.5999999999999999E-2,null,2.5999999999999999E-2,2.5999999999999999E-2,2.5999999999999999E-2,2.5999999999999999E-2,{"$f":"ROUND(V55,3)","v":2.5999999999999999E-2},2.5999999999999999E-2]
[null,"Net Parent Investment",0,0,0,0,0,0,0,0,0,0,0,0,0,0,0,0,0,0,0,0,0,0,0,0,null,0,0,0,0,0,0]
[null,"Capital Reserve",5807.884,5826.4769999999999,5773.2,5784.2879999999996,5852.84,5909.9939999999997,6035.11,6076.2860000000001,6014.2160000000003,6054.0129999999999,6089.36,6102.5720000000001,6029.4369999999999,6062.3029999999999,6097.3909999999996,6132.7460000000001,6002.4139999999998,6046.5510000000004,6090.6210000000001,6133.8630000000003,6003.2910000000002,4821.9750000000004,4826.4399999999996,4875.1109999999999,null,5784.2879999999996,6076.2860000000001,6102.5720000000001,6132.7460000000001,6133.8630000000003,4875.1109999999999]
[null,"Other Comprehensive Income",0.32700000000000001,0.23599999999999999,0.17499999999999999,0.49099999999999999,0.72599999999999998,0.21199999999999999,0.57699999999999996,0.64500000000000002,-2.593,-11.596,-8.5429999999999993,-0.13800000000000001,0.17699999999999999,-1.099,-7.0000000000000007E-2,-0.47299999999999998,-1.119,-0.36099999999999999,-22.936,-82.914000000000001,-134.489,-162.69300000000001,-179.661,-207.87799999999999,null,0.49099999999999999,0.64500000000000002,-0.13800000000000001,-0.47299999999999998,-82.914000000000001,-207.87799999999999]
[null,"Legal Reserve",0,0,0,0,0,0,0,0,0,0,0,2.5999999999999999E-2,0,0,0,0,0,0,0,0,0,0,0,0,null,0,0,2.5999999999999999E-2,0,0,0]
[null,"Equity Valuation Adjustments",-22.372,-22.373000000000001,-22.373000000000001,-22.373000000000001,-22.373000000000001,-22.372,-22.373000000000001,-22.372,-22.373000000000001,-22.373000000000001,-22.373000000000001,-22.373000000000001,-22.372,-22.373000000000001,-22.372,-22.372,-22.372,-22.372,-22.372,-22.372,-22.372,-22.372,-22.372,-22.373000000000001,null,-22.373000000000001,-22.372,-22.373000000000001,-22.372,-22.372,-22.373000000000001]
[null,"Profit Retention Reserve",2631.5349999999999,2927.6680000000001,3190.9720000000002,3566.5189999999998,3837.7860000000001,4109.835,4431.2259999999997,4732.6239999999998,5082.5420000000004,5449.4639999999999,5829.7510000000002,6237.3879999999999,6607.2359999999999,6992.326,7403.0559999999996,7891.076,8373.6219999999994,8877.2669999999998,9408.4189999999999,10007.444,10532.536,10642.125,11006.861000000001,11324.061,null,3566.5189999999998,4732.6239999999998,6237.3879999999999,7891.076,10007.444,11324.061]
[null,"Profit of the Period",0,0,0,0,0,0,0,0,0,0,0,0,0,0,0,0,0,0,0,0,0,0,0,0,null,0,0,0,0,0,0]
[null,"Treasury Shares",-86.042000000000002,-86.042000000000002,-15.598000000000001,-13.609,-0.88600000000000001,-0.87,-0.19900000000000001,-285.01100000000002,-280.55500000000001,-280.20400000000001,-376.59800000000001,-475.351,-407.33699999999999,-505.63799999999998,-609.82399999999996,-760.31700000000001,-583.22,-583.22,-1010.939,-1367.6769999999999,-1436.144,-695.36099999999999,-743.30899999999997,-1329.377,null,-13.609,-285.01100000000002,-475.351,-760.31700000000001,-1367.6769999999999,-1329.377]
[null,"Non-controlling interests",22.288,22.492999999999999,22.664000000000001,12.113,12.173999999999999,12.271000000000001,12.423999999999999,0,0,0,0,0,0,0,0,0,0,0,0,0,0,0,0,0,null,12.113,0,0,0,0,0]
[]
[null,"GAAP | R$ million","1Q20","2Q20","3Q20","4Q20","1Q21","2Q21","3Q21","4Q21","1Q22","2Q22","3Q22","4Q22","1Q23","2Q23","3Q23","4Q23","1Q24",{"$f":"T5","v":"2Q24"},{"$f":"U5","v":"3Q24"},"4Q24",{"$f":"W5","v":"1Q25"},"2Q25","3Q25","4Q25",null,2020,2021,2022,2023,2024,2024]
[null,"Cash Position",8143.9759999999997,8264.3250000000007,8169.5619999999999,7828.8450000000003,7899.5389999999998,8296.25,8687.5519999999997,8863.1620000000003,8336.42,8641.9390000000003,9049.759,9836.0550000000003,{"$f":"ROUND(IFERROR(SUM(O68:O69),\"-\"),3)","v":9706.1039999999994},9838.3819999999996,10473.623,8629.4549999999999,8970.2080000000005,8651.4879999999994,8295.17,8865.3680000000004,9207.3549999999996,{"$f":"ROUND(IFERROR(SUM(X68:X69),\"-\"),3)","v":19199.349999999999},19470.447,{"$f":"ROUND(IFERROR(SUM(Z68:Z69),\"-\"),3)","v":20832.865000000002},null,7828.8450000000003,8863.1620000000003,9836.0550000000003,8629.4560000000001,8865.3680000000004,{"$f":"ROUND(IFERROR(SUM(AG68:AG69),\"-\"),3)","v":20832.865000000002}]
[null,"Assets",12835.236000000001,14232.232,16024.893,18696.441999999999,18093.891,19902.807000000001,22425.812000000002,26234.411,28534.236000000001,33774.927000000003,37779.468000000001,39926.531000000003,{"$f":"ROUND(SUM(O8:O9,O20,O11),3)","v":37347.355000000003},36954.618000000002,41475.025000000001,46582.654999999999,50512.029000000002,56361.745999999999,56371.588000000003,{"$f":"ROUND(SUM(V8:V9,V11,V12,V20:V21),3)","v":61218.892},{"$f":"ROUND(SUM(W8:W9,W11,W12,W20:W21),3)","v":57904.487999999998},{"$f":"ROUND(SUM(X8:X9,X11,X12,X20:X21),3)","v":59570.419000000002},{"$f":"ROUND(SUM(Y8:Y9,Y11,Y12,Y20:Y21),3)","v":60942.178},{"$f":"ROUND(SUM(Z8:Z9,Z11,Z12,Z20:Z21),3)","v":62715.402999999998},null,18696.441999999999,26234.411,39926.531000000003,46582.656000000003,61218.866000000002,{"$f":"ROUND(SUM(AG8:AG9,AG11,AG12,AG20:AG21),3)","v":62715.402999999998}]
[null,"Liabilities",-4691.26,-5967.9059999999999,-7855.3310000000001,-10867.597,-10194.352000000001,-11606.558000000001,-13738.26,-17371.249,-20197.815999999999,-25132.988000000001,-28729.708999999999,-30090.474999999999,{"$f":"ROUND(-(O31+O36+O37+O38+O46+O50+O32),3)","v":-27641.251},-27116.236000000001,-31001.401999999998,-37953.199999999997,-41541.821000000004,-47710.258000000002,-48076.417999999998,{"$f":"ROUND(-SUM(V31,V36:V38,V46,V50),3)","v":-40322.925000000003},{"$f":"ROUND(-SUM(W31,W36:W38,W46,W50),3)","v":-38382.69},{"$f":"ROUND(-SUM(X31,X36:X38,X46,X50),3)","v":-40371.069000000003},{"$f":"ROUND(-SUM(Y31,Y36:Y38,Y46,Y50),3)","v":-41471.656000000003},{"$f":"ROUND(-SUM(Z31,Z36:Z38,Z46,Z50),3)","v":-41882.538},null,{"$f":"ROUND(-SUM(AB31,AB36:AB38,AB46,AB50),3)","v":-10867.596},-17371.25,-30090.474999999999,-26570.276000000002,-40322.925000000003,-41882.538]

{"sheet":"Income Statement","index":3,"n_rows":148,"n_cols":33,"rows_kept":148,"cut":false,"hidden":false,"merged":[]}
[]
[null,"INCOME STATEMENT"]
[null,"http://investors.pagbank.com/"]
[]
[null,"GAAP | R$ million","1Q20","2Q20","3Q20","4Q20","1Q21","2Q21","3Q21","4Q21","1Q22","2Q22","3Q22","4Q22","1Q23","2Q23","3Q23","4Q23","1Q24","2Q24","3Q24","4Q24","1Q25","2Q25","3Q25","4Q25",null,2020,2021,2022,2023,2024,2025]
[null,"Net Revenue from Transaction Activities and Other Services",966.80399999999997,856.46199999999999,1211.971,1473.4829999999999,1384.97,1548.1279999999999,1792.164,2059.549,2054.5839999999998,2255.6889999999999,2292.078,2304.0569999999998,2150.9540000000002,2166.011,2269.2919999999999,2440.9290000000001,2369.3000000000002,2311.9650000000001,2259.8760000000002,2242.1,2013.97,1988.7070000000001,1992.614,2163.46,null,"-",6784.8119999999999,8906.4060000000009,9027.2420000000002,9183.2819999999992,8158.6540000000005]
[null,"Net Revenue from Sales",0,0,0,0,0,0,0,0,0,0,0,0,0,0,0,0,0,0,0,0,0,0,0,0,null,"-",0,0,0,0,0]
[null,"Financial Income",562.26800000000003,459.24700000000001,544.75599999999997,611.08900000000006,656.98299999999995,786.61,937.74,1133.08,1330.7919999999999,1610.1010000000001,1697.222,1614.617,1534.202,1594.9739999999999,1691.2729999999999,1832.597,1832,2113.085,2444.7779999999998,2760.6,2697.3,2902.268,2923.2330000000002,3061.8110000000001,null,"-",3514.413,6252.7349999999997,6653.0460000000003,9150.4269999999997,11584.606]
[null,"Other Financial Income",58.222999999999999,41.734999999999999,24.747,3.8889999999999998,25.248000000000001,34.831000000000003,45.860999999999997,43.527999999999999,41.576000000000001,44.767000000000003,46.125999999999998,43.304000000000002,64.513999999999996,64.927999999999997,65.581000000000003,73.085999999999999,105.1,131.65700000000001,126.83799999999999,112.4,138.88999999999999,167.196,189.56299999999999,171.505,null,"-",149.46700000000001,175.773,268.113,475.923,667.25199999999995]
[null,"Total Revenue and Income",1587.2950000000001,1357.444,1781.473,2088.4609999999998,2067.201,2369.569,2775.7649999999999,3236.1570000000002,3426.9520000000002,3910.558,4035.4259999999999,3961.9780000000001,3749.67,3825.913,4026.1460000000002,4346.6310000000003,4306.3999999999996,4556.7070000000003,4831.491,5115.1000000000004,4850.16,5058.17,5105.4110000000001,5396.7759999999998,null,"-",10448.691999999999,15334.914000000001,15948.401,18809.632000000001,20410.511999999999]
[null,null,null,null,null,null,null,null,null,null,null,null,null,null,null,null,null,null,null,null,null,null,null,null,null,null,null,"-"]
[null,"Total Revenue and Income (ex-ITC)","-","-","-","-",1221.309,1404.4659999999999,1663.614,1838.152,2123.973,2496.3530000000001,2663.8090000000002,2483.7179999999998,2360.9110000000001,2411.6840000000002,2517.7060000000001,2701.9520000000002,2679.8589999999999,2795.7919999999999,2980.5639999999999,3155.3890000000001,3134.7359999999999,3322.17,3410.5549999999998,3546.6280000000002,null,"-",6751.6769999999997,9947.3989999999994,9992.2929999999997,11611.539000000001,13413.99]
[null,"Cost of Sales and Services",-768.63599999999997,-793.27599999999995,-1057.2329999999999,-1153.1400000000001,-1146.085,-1295.0170000000001,-1502.018,-1832.7739999999999,-1739.3789999999999,-1900.3009999999999,-1862.164,-1969.0519999999999,-1929.298,-1926.0719999999999,-2033.309,-2243.9,-2170.6999999999998,-2332.1550000000002,-2455.3270000000002,-2585.1,-2360.29,-2411,-2395.6860000000001,-2529.1179999999999,null,"-",-5775.8950000000004,-7470.8950000000004,-8132.58,-9543.3150000000005,-9696.0939999999991]
[null,"Selling Expenses",-189.02199999999999,-111.202,-151.626,-165.613,-368.11200000000002,-363.77,-367.89299999999997,-424.13200000000001,-480.65,-499.101,-530.83900000000006,-435.48399999999998,-317.90800000000002,-321.44200000000001,-378.24,-412.22399999999999,-437.4,-467.31900000000002,-486.99200000000002,-467.9,-423.1,-452.37900000000002,-443.73899999999998,-454.959,null,"-",-1523.9079999999999,-1946.075,-1429.816,-1859.59,-1774.145]
[null,"Administrative Expenses",-85.784999999999997,-94.265000000000001,-197.10900000000001,-186.74700000000001,-189.07,-225.899,-273.02800000000002,-189.56100000000001,-165.33099999999999,-203.93700000000001,-185.34399999999999,-114.068,-171.35400000000001,-203.4,-206.333,-151.61099999999999,-230.6,-216.23599999999999,-268.54300000000001,-257,-242.83,-227,-190.017,-201.46899999999999,null,"-",-877.55799999999999,-668.67899999999997,-732.68899999999996,-972.25099999999998,-860.96600000000001]
[null,"Financial Costs",-45.561999999999998,-17.873000000000001,-16.256,-29.542000000000002,-44.387999999999998,-133.785,-209.82300000000001,-402.64,-620.62800000000004,-755.56,-920.65599999999995,-854.70899999999995,-812.971,-795.59699999999998,-819.93700000000001,-841.02099999999996,-827.1,-863.42100000000005,-964.33500000000004,-1091.8,-1177.82,-1280,-1394.9780000000001,-1376.4690000000001,null,"-",-790.63499999999999,-3151.5520000000001,-3269.556,-3746.6880000000001,-5228.7920000000004]
[null,"Other Expenses, Net",-2.1360000000000001,71.608000000000004,-7.0590000000000002,-39.65,40.805999999999997,-12.952,-1.821,-18.731999999999999,-4.4909999999999997,-108.95099999999999,-111.123,-113.833,-82.162999999999997,-94.117000000000004,-76.262,-114.111,-68.2,-99.850999999999999,-62.756,-77.099999999999994,-66.209999999999994,-73,-44.558,-117.73,null,"-",7.3010000000000002,-338.39699999999999,-366.65300000000002,-307.85899999999998,-301.09100000000001]
[null,"Total Costs and Expenses",-1091.1410000000001,-945.00800000000004,-1429.2829999999999,-1574.692,-1706.8489999999999,-2031.424,-2354.5830000000001,-2867.84,-3010.4780000000001,-3467.8490000000002,-3610.125,-3487.1460000000002,-3313.694,-3340.6280000000002,-3514.0819999999999,-3762.8670000000002,-3734,-3978.982,-4237.9530000000004,-4478.8999999999996,-4270.25,-4443,-4468.9799999999996,-4679.7449999999999,null,"-",-8960.6949999999997,-13575.598,-13931.294,-16429.703000000001,-17861.088]
[null,"Total Costs and Expenses (ex-ITC)","-","-","-","-",-321.87900000000002,-483.29599999999999,-562.41800000000001,-808.29100000000005,-955.89400000000001,-1212.1600000000001,-1318.047,-1183.0889999999999,-1924.9349999999999,-1926.3989999999999,-2005.6420000000001,-2118.1880000000001,-2107.4589999999998,-2218.067,-2387.0250000000001,-2519.1889999999999,-2554.826,-2707,-2774.1239999999998,-2829.373,null,"-",-4639.5439999999999,-8008.6710000000003,-7975.1859999999997,-9231.61,-10864.566000000001]
[null,"Depreciation and Amortization",-59.6,-81.400000000000006,-101.52800000000001,-133.822,-158.298,-181.52,-203.27699999999999,-225.5,-249.02199999999999,-280.56599999999997,-294.416,-306.649,-317.43400000000003,-325.572,-346.47899999999998,-366.17500000000001,-371.512,-391.17200000000003,-413.02600000000001,-425.2,-439.00799999999998,-452,-457.90800000000002,-458.75200000000001,null,"-",-768.59500000000003,-1130.654,-1355.6610000000001,-1600.932,-1807.5139999999999]
[null,"EBT",496.154,412.43700000000001,352.19099999999997,513.77,360.35199999999998,338.14499999999998,421.18299999999999,368.31700000000001,416.47399999999999,442.709,425.30099999999999,474.83199999999999,435.976,485.28399999999999,512.06399999999996,583.76400000000001,572.4,577.72500000000002,593.53899999999999,636.20000000000005,579.91,616.24599999999998,636.43100000000004,717.255,null,"-",1487.9970000000001,1759.316,2017.107,2379.9290000000001,2549.424]
[null,"Current Income Tax and Social Contribution",-3.8010000000000002,-17.966999999999999,-13.348000000000001,-27.722999999999999,-19.966000000000001,-1.6719999999999999,-7.6509999999999998,-90.512,-28.651,0.53,1.6040000000000001,-34.200000000000003,-18.056000000000001,-42.238999999999997,-16.827000000000002,-24.731000000000002,-23.3,-131.303,-11.167999999999999,-95.4,-134.83000000000001,-125.26600000000001,-46.767000000000003,-47.408999999999999,null,"-",-119.801,-60.718000000000004,-101.846,-261.21100000000001,-354.27199999999999]
[null,"Deferred Income Tax and Social Contribution",-135.43899999999999,-98.156999999999996,-75.412000000000006,-110.544,-69.058999999999997,-64.361000000000004,-91.983000000000004,23.460999999999999,-37.901000000000003,-76.316999999999993,-46.616999999999997,-32.994999999999997,-48.137999999999998,-57.929000000000002,-84.512,-70.992000000000004,-66.5,57.222999999999999,-51.22,58.1,80.02,45.779000000000003,-35.179000000000002,-167.405,null,"-",-201.94200000000001,-193.83,-261.577,-2.35,-76.790000000000006]
[null,"Income Tax and Social Contribution",-139.24,-116.124,-88.760999999999996,-138.267,-89.025000000000006,-66.033000000000001,-99.635000000000005,-67.051000000000002,-66.552000000000007,-75.787000000000006,-45.012999999999998,-67.194999999999993,-66.192999999999998,-100.16800000000001,-101.339,-95.722999999999999,-89.8,-74.08,-62.387999999999998,-37.299999999999997,-54.81,-79.486999999999995,-81.945999999999998,-214.81399999999999,null,"-",-321.74400000000003,-254.548,-363.423,-263.56099999999998,-431.06200000000001]
[null,"Net Income",356.91399999999999,296.31200000000001,263.43,375.50200000000001,271.327,272.11200000000002,321.548,301.267,349.92200000000003,366.92200000000003,380.28699999999998,407.637,369.78300000000002,385.11599999999999,410.72500000000002,488.041,482.6,503.64499999999998,531.15099999999995,598.9,525.20000000000005,537,554.48400000000004,502.02499999999998,null,"-",1166.2539999999999,1504.768,1653.684,2116.3679999999999,2118.3620000000001]
[]
[null,"INCOME STATEMENT - Costs and Expenses by Nature | GAAP"]
[null,"http://investors.pagbank.com/"]
[]
[null,"GAAP - Costs and Expenses by Nature| R$ million","1Q20","2Q20","3Q20","4Q20","1Q21","2Q21","3Q21","4Q21","1Q22","2Q22","3Q22","4Q22","1Q23","2Q23","3Q23","4Q23","1Q24","2Q24","3Q24","4Q24","1Q25","2Q25","3Q25","4Q25",null,2020,2021,2022,2023,2024,2025]
[null,"Net Revenue from Transaction Activities and Other Services","-","-","-","-",1384.97,1548.1279999999999,1792.164,2059.549,2054.5839999999998,2255.6889999999999,2292.078,2304.0569999999998,2150.9540000000002,2166.011,2269.2919999999999,2440.9290000000001,2369.3000000000002,2311.9650000000001,2259.8760000000002,2242.1,2013.97,1989,1992.614,2163.46,null,"-",6784.8119999999999,8906.4069999999992,9027.2420000000002,9183.2819999999992,8158.6540000000005]
[null,"Net Revenue from Sales","-","-","-","-",0,0,0,0,0,0,0,0,0,0,0,0,0,0,0,0,0,0,0,0,null,"-",0,0,0,0,0]
[null,"Financial Income","-","-","-","-",656.98299999999995,786.61,937.74,1133.08,1330.7919999999999,1610.1010000000001,1697.222,1614.617,1534.202,1594.9739999999999,1691.2729999999999,1832.597,1832,2113.085,2444.7779999999998,2760.6,2697.3,2902.268,2923.2330000000002,3061.8110000000001,null,"-",3514.413,6252.7330000000002,6653.0460000000003,9150.4269999999997,11584.606]
[null,"Other Financial Income","-","-","-","-",25.248000000000001,34.831000000000003,45.860999999999997,43.527999999999999,41.576000000000001,44.767000000000003,46.125999999999998,43.304000000000002,64.513999999999996,64.927999999999997,65.581000000000003,73.085999999999999,105.1,131.65700000000001,126.83799999999999,112.4,138.88999999999999,167.196,189.56299999999999,171.505,null,"-",149.46700000000001,175.773,268.113,475.923,667.25199999999995]
[null,"Total Revenue and Income","-","-","-","-",2067.201,2369.569,2775.7649999999999,3236.1570000000002,3426.9520000000002,3910.558,4035.4259999999999,3961.9780000000001,3749.67,3825.913,4026.1460000000002,4346.6109999999999,4306.3999999999996,4556.7070000000003,4831.491,5115.1000000000004,4850.16,5058.1710000000003,5105.4110000000001,5396.7759999999998,null,"-",10448.691999999999,15334.914000000001,15948.401,18809.632000000001,20410.511999999999]
[null,"Total Revenue and Income (ex-ITC)","-","-","-","-",1361.4749999999999,1541.4190000000001,1790.5709999999999,2058.2109999999998,2196.5520000000001,2545.4929999999999,2655.9009999999998,2549.453,2360.9110000000001,2411.6840000000002,2517.7060000000001,2701.9319999999998,2679.8589999999999,2795.7919999999999,2980.5639999999999,3155.3890000000001,3134.7359999999999,3322.1709999999998,3410.5549999999998,3546.404,null,"-",6127.5420000000004,9767.9869999999992,9992.2929999999997,11611.539000000001,13413.99]
[null,"Transaction Costs","-","-","-","-",-845.89200000000005,-965.10299999999995,-1112.1510000000001,-1398.0050000000001,-1302.9780000000001,-1414.2049999999999,-1371.617,-1478.261,-1388.76,-1414.229,-1508.441,-1644.6790000000001,-1626.5409999999999,-1760.914,-1850.9269999999999,-1959.711,-1715.424,-1736,-1694.856,-1850.3720000000001,null,"-",-4321.1499999999996,-5566.9269999999997,-5956.1080000000002,-7198.0929999999998,-6996.5219999999999]
[null,"Financial Costs","-","-","-","-",-44.387999999999998,-133.785,-209.82300000000001,-402.64,-620.62800000000004,-755.56,-920.65599999999995,-854.70899999999995,-812.971,-795.62699999999995,-819.93700000000001,-841.02099999999996,-827.13300000000004,-863.42100000000005,-964.33500000000004,-1091.8,-1177.779,-1280,-1394.9770000000001,-1376.4690000000001,null,"-",-790.63499999999999,-3151.5520000000001,-3269.556,-3746.6880000000001,-5228.7920000000004]
[null,"Total Losses","-","-","-","-",-173.13300000000001,-147.02699999999999,-129.89099999999999,-214.21700000000001,-249.715,-270.48399999999998,-272.75200000000001,-191.536,-126.544,-121.658,-165.26,-122.58499999999999,-102.73699999999999,-112.956,-119.64400000000001,-120.7,-83.450999999999993,-98,-88.320999999999998,-111.617,null,"-",-664.26800000000003,-984.48699999999997,-536.048,-456.07900000000001,-380.93799999999999]
[null,"Gross Profit¹","-","-","-","-",1003.789,1123.654,1323.9010000000001,1221.2950000000001,1253.6310000000001,1470.31,1470.402,1437.472,1421.396,1494.3979999999999,1532.509,1738.327,1749.9880000000001,1819.415,1896.585,1942.89,1873.5060000000001,1944.171,1927.2570000000001,2058.3180000000002,null,"-",4672.6379999999999,5631.9480000000003,6186.6890000000003,7408.7719999999999,7804.26]
[null,"Operating Expenses (Marketing, Personnel and Others)","-","-","-","-",-485.12299999999999,-604.00599999999997,-699.41300000000001,-627.49800000000005,-588.26300000000003,-653.91800000000001,-709.529,-590.31899999999996,-606.15,-618.78499999999997,-610.30100000000004,-731.596,-750.03300000000002,-810.78399999999999,-853.303,-850.11,-816.697,-841.03899999999999,-794.35799999999995,-838.92899999999997,null,"-",-2416.0390000000002,-2542.029,-2566.8310000000001,-3264.23,-3291.2429999999999]
[null,"Depreciation and Amortization + POS Write-Offs","-","-","-","-",-158.298,-181.52,-203.27699999999999,-225.5,-249.02199999999999,-373.70699999999999,-335.58100000000002,-372.24900000000002,-379.69,-390.31200000000001,-410.226,-422.99,-427.70699999999999,-430.84199999999998,-449.75099999999998,-456.49,-476.71699999999998,-488,-496.43599999999998,-502.55099999999999,null,"-",-768.59500000000003,-1330.559,-1603.2190000000001,-1764.79,-1963.5930000000001]
[null,"EBT","-","-","-","-",416.47399999999999,416.47399999999999,416.47399999999999,416.47399999999999,416.47399999999999,442.709,425.30099999999999,474.83199999999999,436.03800000000001,485.262,512.06500000000005,583.74199999999996,572.36800000000005,577.726,593.53899999999999,636.29600000000005,579.90800000000002,616.24599999999998,636.43200000000002,716.83799999999997,null,"-",1487.9970000000001,1759.3150000000001,2017.107,2379.9650000000001,2549.7950000000001]
[null,"Current Income Tax and Social Contribution","-","-","-","-",-19.966000000000001,-1.6719999999999999,-7.6509999999999998,-90.512,-28.651,0.53,1.6040000000000001,-34.200000000000003,-18.056000000000001,-42.238999999999997,-16.827000000000002,-24.731000000000002,-23.3,-131.303,-11.167999999999999,-95.4,-134.83000000000001,-125.26600000000001,-46.767000000000003,-47.405999999999999,null,"-",-119.801,-60.718000000000004,-101.846,-261.21100000000001,-354.27199999999999]
[null,"Deferred Income Tax and Social Contribution","-","-","-","-",-69.058999999999997,-64.361000000000004,-91.983000000000004,23.460999999999999,-37.901000000000003,-76.316999999999993,-46.616999999999997,-32.994999999999997,-48.137999999999998,-57.929000000000002,-84.512,-70.992000000000004,-66.5,57.222999999999999,-51.22,58.1,80.02,45.779000000000003,-35.179000000000002,-167.405,null,"-",-201.94200000000001,-193.83,-261.577,-2.35,-76.790000000000006]
[null,"Income Tax and Social Contribution","-","-","-","-",-66.552000000000007,-66.552000000000007,-66.552000000000007,-66.552000000000007,-66.552000000000007,-75.787000000000006,-45.012999999999998,-67.194999999999993,-66.192999999999998,-100.16800000000001,-101.339,-95.722999999999999,-89.8,-74.08,-62.387999999999998,-37.299999999999997,-54.81,-79.486999999999995,-81.945999999999998,-214.81200000000001,null,"-",-321.74400000000003,-254.548,-363.423,-263.56099999999998,-431.06200000000001]
[null,"Net Income","-","-","-","-",349.92200000000003,349.92200000000003,349.92200000000003,349.92200000000003,349.92200000000003,366.92200000000003,380.28699999999998,407.637,369.84500000000003,385.09399999999999,410.726,488.01900000000001,482.56799999999998,503.64600000000002,531.15099999999995,598.99599999999998,525.09799999999996,537,554.48599999999999,502.02600000000001,null,"-",1166.2539999999999,1504.768,1653.684,2116.3679999999999,2118.3620000000001]
[]
[null,"GAAP | Earnings per Share (EPS)","1Q20","2Q20","3Q20","4Q20","1Q21","2Q21","3Q21","4Q21","1Q22","2Q22","3Q22","4Q22","1Q23","2Q23","3Q23","4Q23","1Q24","2Q24","3Q24","4Q24","1Q25","2Q25","3Q25","4Q25",null,2020,2021,2022,2023,2024,2025]
[null,"Weighted Average Number of Outstanding Common Shares | million",329,329.00099999999998,329.09,329.29199999999997,329.97300000000001,330.09199999999998,330.39800000000002,330.31099999999998,331.07900000000001,331.79700000000003,326.72399999999999,327.11,324.70400000000001,323.52199999999999,321.846,317.154,316.93900000000002,319.06900000000002,317.55200000000002,310.8,303.58100000000002,297.69,291.87200000000001,287.65100000000001,null,"-",330.31099999999998,327.11,321.80599999999998,316.096,295.19799999999998]
[null,"Basic EPS",1.085,0.90100000000000002,0.8,1.1399999999999999,0.82199999999999995,0.82399999999999995,0.97299999999999998,0.91200000000000003,1.0569999999999999,1.1060000000000001,1.1639999999999999,1.246,1.139,1.19,1.276,1.5169999999999999,1.5229999999999999,1.579,1.673,1.927,1.73,1.8029999999999999,1.9,1.75,null,"-",3.5310000000000001,4.5999999999999996,5.1390000000000002,6.6950000000000003,7.1820000000000004]
[null,"Weighted Average Number of Common Shares for Diluted EPS | million",330.05700000000002,329.93299999999999,329.63799999999998,329.81400000000002,330.35,330.399,332.41199999999998,332.17500000000001,333.13799999999998,333.21199999999999,328.89800000000002,329.23500000000001,327.52199999999999,325.48,323.774,319.084,321.18599999999998,323.10000000000002,320.66699999999997,313.89999999999998,305.57499999999999,300.69099999999997,294.91000000000003,290.65600000000001,null,"-",332.17500000000001,329.23500000000001,323.95600000000002,319.51100000000002,297.95800000000003]
[null,"Diluted EPS",1.081,0.89800000000000002,0.79900000000000004,1.139,0.82099999999999995,0.82399999999999995,0.96699999999999997,0.90700000000000003,1.05,1.101,1.1559999999999999,1.238,1.129,1.1830000000000001,1.2689999999999999,1.506,1.5029999999999999,1.5589999999999999,1.6559999999999999,1.9079999999999999,1.718,1.7849999999999999,1.88,1.73,null,"-",3.5110000000000001,4.5709999999999997,5.1050000000000004,6.6239999999999997,7.1139999999999999]
[null,"1 - Starting 1Q24, Gross Profit no longer excludes Other Financial Income. This change is neutral for the reported result as it has no impact on Earnings Before Tax (EBT) and Net Income. Previous quarters are shown under the new criteria, for comparison."]
[]
[]
[null,"INCOME STATEMENT - Costs and Expenses by Nature | NON-GAAP"]
[null,"http://investors.pagbank.com/"]
[]
[null,"NON-GAAP | R$ million","1Q20","2Q20","3Q20","4Q20","1Q21","2Q21","3Q21","4Q21","1Q22","2Q22","3Q22","4Q22","1Q23","2Q23","3Q23","4Q23","1Q24","2Q24","3Q24","4Q24","1Q25","2Q25","3Q25","4Q25",null,2020,2021,2022,2023,2024,2025]
[null,"Net Revenue from Transaction Activities and Other Services",966.80399999999997,856.46199999999999,1211.971,1473.4829999999999,1384.97,1548.127,1792.164,2059.549,2054.5839999999998,2255.6889999999999,2292.078,2304.0569999999998,2150.9540000000002,2166.011,2269.2919999999999,2440.9290000000001,2369.3000000000002,2311.9650000000001,2259.8760000000002,2242.1,2013.97,1988.7070000000001,1992.614,2163.46,null,"-",6784.8109999999997,8906.4069999999992,9027.2469999999994,9183.4410000000007,8158.6540000000005]
[null,"Net Revenue from Sales",0,0,0,0,0,0,0,0,0,0,0,0,0,0,0,0,0,0,0,0,0,0,0,0,null,"-",0,0,0,0,0]
[null,"Financial Income",562.26800000000003,459.24700000000001,544.75599999999997,611.08900000000006,656.98299999999995,786.60900000000004,937.74,1133.08,1330.7919999999999,1610.1010000000001,1697.222,1614.617,1534.202,1594.9739999999999,1691.2729999999999,1832.597,1832,2113.085,2444.7779999999998,2760.6,2697.3,2902.268,2923.2330000000002,3061.8110000000001,null,"-",3514.4119999999998,6252.7330000000002,6653.0460000000003,9150.4619999999995,11584.606]
[null,"Other Financial Income",58.222999999999999,41.734999999999999,24.747,3.8889999999999998,25.248000000000001,34.862000000000002,45.860999999999997,43.527999999999999,41.576000000000001,44.767000000000003,46.125999999999998,43.304000000000002,64.513999999999996,64.927999999999997,65.581000000000003,73.085999999999999,105.1,131.65700000000001,126.83799999999999,112.4,138.88999999999999,167.196,189.56299999999999,171.505,null,"-",149.49799999999999,175.773,268.10899999999998,475.79599999999999,667.25199999999995]
[null,"Total Revenue and Income",1587.2950000000001,1357.444,1781.473,2088.4609999999998,2067.201,2369.5990000000002,2775.7649999999999,3236.1570000000002,3426.9520000000002,3910.558,4035.4259999999999,3961.9780000000001,3749.67,3825.913,4026.1460000000002,4346.6109999999999,4306.3999999999996,4556.7070000000003,4831.491,5115.1000000000004,4850.16,5058.1710000000003,5105.4110000000001,5396.7759999999998,null,"-",10448.722,15334.914000000001,15948.402,18809.698,20410.511999999999]
[]
[null,"Total Revenue and Income (ex-ITC)","-","-","-","-",1221.309,1404.4659999999999,1663.614,1838.152,2123.973,2496.3530000000001,2663.8090000000002,2483.7179999999998,2360.9110000000001,2411.6840000000002,2517.7060000000001,2701.9520000000002,2679.8589999999999,2795.7919999999999,2980.5639999999999,3155.3890000000001,3134.7359999999999,3322.17,3410.5549999999998,3546.6280000000002,null,"-",6751.6769999999997,9947.3989999999994,9992.2929999999997,11611.539000000001,13413.99]
[null,"Cost of Sales and Services",-766.43399999999997,-790.95500000000004,-1051.9739999999999,-1142.8019999999999,-1140.3499999999999,-1286.76,-1490.5139999999999,-1829.675,-1737.2329999999999,-1896.28,-1911.222,-1973.586,-1923.3589999999999,-1923.481,-2028.106,-2240.422,-2164.5,-2326.1619999999998,-2448.62,-2579.8000000000002,-2351.6089999999999,-2406.2550000000001,-2394.8359999999998,-2519.0520000000001,null,"-",-5747.299,-7470.8950000000004,-8132.58,-9519.0810000000001,-9671.7520000000004]
[null,"Selling Expenses",-189.02199999999999,-111.202,-151.24700000000001,-164.9,-367.404,-363.61799999999999,-367.77600000000001,-423.75299999999999,-480.36900000000003,-499.05700000000002,-530.83900000000006,-435.48399999999998,-316.15800000000002,-319.93099999999998,-376.71199999999999,-410.62099999999998,-435.3,-466.03800000000001,-485.19200000000001,-444.1,-419.65699999999998,-450.846,-443.46899999999999,-452.73599999999999,null,"-",-1522.5519999999999,-1945.749,-1423.4,-1853.5309999999999,-1766.7070000000001]
[null,"Administrative Expenses",-72.692999999999998,-80.47,-101.366,-115.36799999999999,-110.97499999999999,-125.634,-137.50399999999999,-142.94300000000001,-135.38999999999999,-152.791,-141.14699999999999,-114.93600000000001,-145.459,-161.751,-165.67500000000001,-107.485,-178.9,-165.43799999999999,-214.995,-237.2,-211.29400000000001,-189.81100000000001,-165.416,-162.91900000000001,null,"-",-517.05700000000002,-544.26499999999999,-580.37900000000002,-773.73299999999995,-729.43899999999996]
[null,"Financial Costs",-45.561999999999998,-17.873000000000001,-16.256,-29.542000000000002,-44.387999999999998,-133.785,-209.82300000000001,-402.64,-620.62800000000004,-755.56,-920.65599999999995,-854.70899999999995,-812.971,-795.59699999999998,-819.93700000000001,-841.02099999999996,-827.1,-863.42100000000005,-964.33500000000004,-1091.8,-1177.8230000000001,-1279.5229999999999,-1394.9780000000001,-1376.4670000000001,null,"-",-790.63499999999999,-3151.5520000000001,-3269.6559999999999,-3746.6559999999999,-5228.7920000000004]
[null,"Other Expenses, Net",-2.1360000000000001,71.608000000000004,-7.0590000000000002,-39.511000000000003,40.805999999999997,-10.981,-1.821,-18.731999999999999,-4.4909999999999997,-108.95099999999999,-59.252000000000002,-102.884,-82.162999999999997,-94.117000000000004,-78.989000000000004,-114.111,-68.2,-99.85,-62.756,-77.099999999999994,-66.197999999999993,-72.605000000000004,-44.558,-117.73,null,"-",9.2729999999999997,-333.40600000000001,-351.97800000000001,-307.90699999999998,-301.09100000000001]
[null,"Total Costs and Expenses",-1075.847,-928.89099999999996,-1327.9010000000001,-1492.1220000000001,-1622.3109999999999,-1920.778,-2207.4369999999999,-2817.7440000000001,-2978.1109999999999,-3412.6370000000002,-3563.1149999999998,-3481.6,-3280.11,-3294.877,-3469.42,-3713.6610000000001,-3674,-3920.9090000000001,-4175.8980000000001,-4430,-4226.5810000000001,-4399.0389999999998,-4443.2569999999996,-4628.9040000000005,null,"-",-8568.2710000000006,-13435.463,-13758.067999999999,-16200.906999999999,-17697.780999999999]
[null,"Total Costs and Expenses (ex-ITC)","-","-","-","-",-776.41899999999998,-955.67499999999995,-1095.2860000000001,-1419.739,-1675.1320000000001,-1998.433,-2191.498,-2003.3389999999999,-1891.35,-1880.6479999999999,-1960.98,-2068.982,-2047.4590000000001,-2159.9940000000001,-2324.971,-2470.2890000000002,-2511.1570000000002,-2663.0390000000002,-2748.4009999999998,-2778.5320000000002,null,"-",-4247.12,-7868.5360000000001,-7801.96,-9002.8140000000003,-10701.259]
[null,"Depreciation and Amortization",-59.6,-81.400000000000006,-101.52800000000001,-133.822,-158.298,-181.52,-203.27699999999999,-225.5,-244.44499999999999,-275.95,-289.83800000000002,-270.166,-302.60399999999998,-309.56400000000002,-328.91500000000002,-348.54899999999998,-352.93799999999999,-371.35899999999998,-392.30200000000002,-404.88799999999998,-418.01,-429.58499999999998,-434.964,-438.55200000000002,null,"-",-768.59500000000003,-1080.3989999999999,-1289.633,-1521.4870000000001,-1721.1110000000001]
[null,"EBT",511.44799999999998,428.553,453.572,596.33900000000006,444.89,448.82100000000003,568.32799999999997,418.41300000000001,448.84100000000001,497.92,472.31099999999998,480.37900000000002,469.56099999999998,531.03599999999994,556.726,632.95100000000002,632.4,635.798,655.59299999999996,685.1,623.57000000000005,659.13300000000004,662.154,767.87199999999996,null,"-",1880.451,1899.451,2190.3339999999998,2608.8910000000001,2712.7310000000002]
[null,"Current Income Tax and Social Contribution",-3.8010000000000002,-17.966999999999999,-13.348000000000001,-27.722999999999999,-19.966000000000001,-1.6719999999999999,-7.6509999999999998,-90.512,-27.067,0.53,1.6040000000000001,-34.200000000000003,-18.056000000000001,-42.238999999999997,-16.837,-24.731000000000002,-23.3,-131.28899999999999,-11.154,-95.385999999999996,-149.666,-139.84700000000001,-55.512999999999998,-64.757999999999996,null,"-",-119.801,-59.134,-101.863,-261.17099999999999,-409.78399999999999]
[null,"Deferred Income Tax and Social Contribution",-140.63900000000001,-103.596,-109.84099999999999,-138.57,-97.802000000000007,-101.98,-142.01300000000001,6.4279999999999999,-50.49,-95.088999999999999,-62.600999999999999,-34.881,-59.555999999999997,-73.480999999999995,-99.716999999999999,-87.721999999999994,-86.9,37.478000000000002,-72.317999999999998,41.6,80.02,45.779000000000003,-35.179000000000002,-25.1,null,"-",-335.36700000000002,-243.06,-320.47699999999998,-80.141000000000005,65.519000000000005]
[null,"Income Tax and Social Contribution",-144.44,-121.563,-123.19,-166.29400000000001,-117.768,-103.65300000000001,-149.66399999999999,-84.082999999999998,-77.557000000000002,-94.558999999999997,-60.997,-69.081000000000003,-77.611999999999995,-115.72,-116.554,-112.45399999999999,-110.2,-93.811000000000007,-83.471999999999994,-53.786000000000001,-69.646000000000001,-94.067999999999998,-90.692999999999998,-89.858000000000004,null,"-",-455.16800000000001,-302.19400000000002,-422.34,-341.31200000000001,-344.26499999999999]
[null,"Net Income | Non-GAAP",367.00799999999998,306.99,330.38200000000001,430.04500000000002,327.12099999999998,345.16800000000001,418.66399999999999,334.33,371.28399999999999,403.36099999999999,411.31400000000002,411.298,391.94900000000001,415.315,440.17200000000003,520.49699999999996,522.20000000000005,541.98699999999997,572.12099999999998,631.31399999999996,553.92399999999998,565.06500000000005,571.46100000000001,678.01400000000001,null,"-",1425.2829999999999,1597.2570000000001,1767.9939999999999,2267.5790000000002,2368.4659999999999]
[]
[]
[null,"NON-GAAP Effects | R$ million","1Q20","2Q20","3Q20","4Q20","1Q21","2Q21","3Q21","4Q21","1Q22","2Q22","3Q22","4Q22","1Q23","2Q23","3Q23","4Q23","1Q24","2Q24","3Q24","4Q24","1Q25","2Q25","3Q25","4Q25",null,2020,2021,2022,2023,2024,2025]
[null,"Net Revenue from Transaction Activities and Other Services",0,0,0,0,0,0,0,0,0,0,0,0,0,0,0,0,0,0,0,0,0,0,0,0,null,"-",1E-3,-1E-3,-5.0000000000000001E-3,-0.159,0]
[null,"Net Revenue from Sales",0,0,0,0,0,0,0,0,0,0,0,0,0,0,0,0,0,0,0,0,0,0,0,0,null,"-",0,0,0,0,0]
[null,"Financial Income",0,0,0,0,0,0,0,0,0,0,0,0,0,0,0,0,0,0,0,0,0,0,0,0,null,"-",1E-3,2E-3,0,-3.5000000000000003E-2,0]
[null,"Other Financial Income",0,0,0,0,0,0,0,0,0,0,0,0,0,0,0,0,0,0,0,0,0,0,0,0,null,"-",-3.1E-2,0,4.0000000000000001E-3,0.127,0]
[null,"Total Revenue and Income",0,0,0,0,0,0,0,0,0,0,0,0,0,0,0,0.02,0,0,0,0,0,0,0,0.224,null,"-",-0.03,0,-1E-3,-6.6000000000000003E-2,0]
[null,"Total Revenue and Income (ex-ITC)",0,0,0,0,0,0,0,0,0,0,0,0,0,0,0,0.02,0,0,0,0,0,-1E-3,0,0.224,null,"-",624.13499999999999,179.41200000000001,0,0,0]
[null,"Cost of Sales and Services",-2.202,-2.3210000000000002,-5.2590000000000003,-10.337999999999999,-5.7350000000000003,-8.2579999999999991,-11.504,-3.0990000000000002,-2.1459999999999999,-4.0209999999999999,49.058,4.5339999999999998,-5.9390000000000001,-2.5910000000000002,-5.2030000000000003,-3.4780000000000002,-6.2,-5.9930000000000003,-6.7069999999999999,-5.3,-8.6809999999999992,-4.7450000000000001,-0.85,-10.066000000000001,null,"-",-28.594999999999999,0,0,-24.234000000000002,-24.341999999999999]
[null,"Selling Expenses",0,0,-0.379,-0.71299999999999997,-0.70799999999999996,-0.152,-0.11700000000000001,-0.379,-0.28100000000000003,-4.3999999999999997E-2,0,0,-1.75,-1.5109999999999999,-1.528,-1.603,-2.1,-1.2809999999999999,-1.8,-23.8,-3.4430000000000001,-1.5329999999999999,-0.27100000000000002,-2.2229999999999999,null,"-",-1.3560000000000001,-0.32600000000000001,-6.4160000000000004,-6.0590000000000002,-7.4379999999999997]
[null,"Administrative Expenses",-13.092000000000001,-13.795999999999999,-95.742999999999995,-71.379000000000005,-78.094999999999999,-100.264,-135.524,-46.618000000000002,-29.940999999999999,-51.146000000000001,-44.195999999999998,0.86799999999999999,-25.895,-41.649000000000001,-40.658000000000001,-44.125999999999998,-51.7,-50.798000000000002,-53.546999999999997,-19.8,-31.536000000000001,-37.189,-24.602,-38.549999999999997,null,"-",-360.50099999999998,-124.414,-152.31,-198.518,-131.52699999999999]
[null,"Financial Costs",0,0,0,0,0,0,0,0,0,0,0,0,0,0,0,0,0,0,0,0,3.0000000000000001E-3,-0.47699999999999998,0,-1E-3,null,"-",0,0,0.1,-3.2000000000000001E-2,0]
[null,"Other Expenses, Net",0,0,0,-0.13900000000000001,0,-1.9710000000000001,0,0,0,0,-51.871000000000002,-10.949,0,0,2.7269999999999999,0,0,-1E-3,0,0,-1.2E-2,-0.39500000000000002,0,0,null,"-",-1.9710000000000001,-4.9909999999999997,-14.675000000000001,4.8000000000000001E-2,0]
[null,"Total Costs and Expenses",-15.294,-16.116,-101.381,-82.569000000000003,-84.537999999999997,-110.646,-147.14500000000001,-50.095999999999997,-32.366999999999997,-55.212000000000003,-47.01,-5.5469999999999997,-33.585000000000001,-45.750999999999998,-44.661999999999999,-49.207000000000001,-60,-58.073,-62.054000000000002,-48.9,-43.668999999999997,-43.960999999999999,-25.722999999999999,-50.841000000000001,null,"-",-392.42399999999998,-140.13499999999999,-173.226,-228.79599999999999,-163.30699999999999]
[null,"Total Costs and Expenses (ex-ITC)",null,null,null,null,454.541,472.38,532.86800000000005,611.44899999999996,719.23800000000006,786.27200000000005,873.45100000000002,820.25,-33.585000000000001,-45.750999999999998,-44.661999999999999,-49.207000000000001,-60,-58.073,-62.054000000000002,-48.9,-43.668999999999997,-43.960999999999999,-25.722999999999999,-50.841000000000001,null,"-",-392.42399999999998,-140.13499999999999,-173.226,-228.79599999999999,-163.30699999999999]
[null,"Depreciation and Amortization",0,0,0,0,0,0,0,0,-4.5780000000000003,-4.617,-4.5780000000000003,-36.482999999999997,-14.83,-16.007999999999999,-17.564,-17.626000000000001,-18.574000000000002,-19.812999999999999,-20.724,-20.312000000000001,-20.998000000000001,-22.414999999999999,-22.943999999999999,-20.2,null,"-",0,-50.255000000000003,-66.028000000000006,-79.444999999999993,-86.403000000000006]
[null,"EBT",-15.294,-16.116,-101.381,-82.569000000000003,-84.537999999999997,-110.646,-147.14500000000001,-50.095999999999997,-32.366999999999997,-55.212000000000003,-47.01,-5.5469999999999997,-33.585000000000001,-45.750999999999998,-44.661999999999999,-49.186999999999998,-60,-58.073,-62.054000000000002,-48.9,-43.66,-42.887,-25.722999999999999,-50.616999999999997,null,"-",-392.45400000000001,-140.13499999999999,-173.227,-228.96199999999999,-163.30699999999999]
[null,"Current Income Tax and Social Contribution",0,0,0,0,0,0,0,0,-1.5840000000000001,0,0,0,0,0,0.01,0,0,-1.4E-2,-1.4E-2,-1.4E-2,14.836,14.581,8.7460000000000004,17.350999999999999,null,"-",0,-1.5840000000000001,1.7000000000000001E-2,-0.04,55.512]
[null,"Deferred Income Tax and Social Contribution",5.2,5.4390000000000001,34.429000000000002,28.026,28.742999999999999,37.619,50.029000000000003,17.033000000000001,12.589,18.771999999999998,15.983000000000001,1.8859999999999999,11.419,15.552,15.206,16.73,20.399999999999999,19.745000000000001,21.097999999999999,16.5,0,0,0,-142.30500000000001,null,"-",133.42400000000001,49.23,58.9,77.790999999999997,-142.309]
[null,"Income Tax and Social Contribution",5.2,5.4390000000000001,34.429000000000002,28.026,28.742999999999999,37.619,50.029000000000003,17.033000000000001,11.005000000000001,18.771999999999998,15.983000000000001,1.8859999999999999,11.419,15.552,15.215,16.73,20.399999999999999,19.731000000000002,21.084,16.486000000000001,14.836,14.581,8.7469999999999999,-124.95399999999999,null,"-",133.42400000000001,47.646000000000001,58.917000000000002,77.751000000000005,-86.796999999999997]
[null,"Net Income | Non-GAAP",-10.093999999999999,-10.678000000000001,-66.951999999999998,-54.542999999999999,-55.795000000000002,-73.025999999999996,-97.116,-33.063000000000002,-21.361999999999998,-36.44,-31.027000000000001,-3.661,-22.103999999999999,-30.221,-29.446000000000002,-32.478000000000002,-39.631999999999998,-38.341000000000001,-40.97,-32.317999999999998,-28.826000000000001,-28.065000000000001,-16.975000000000001,-175.988,null,"-",-259.029,-92.489000000000004,-114.31,-151.21100000000001,-250.10400000000001]
[]
[]
[null,"NON-GAAP - Costs and Expenses by Nature| R$ million","1Q20","2Q20","3Q20","4Q20","1Q21","2Q21","3Q21","4Q21","1Q22","2Q22","3Q22","4Q22","1Q23","2Q23","3Q23","4Q23","1Q24","2Q24","3Q24","4Q24","1Q25","2Q25","3Q25","4Q25",null,2020,2021,2022,2023,2024,2025]
[null,"Net Revenue from Transaction Activities and Other Services","-","-","-","-","-","-","-","-",2054.5839999999998,2255.6889999999999,2292.078,2304.0569999999998,2150.9540000000002,2166.011,2269.2919999999999,2440.9290000000001,2369.3000000000002,2311.9650000000001,2259.8760000000002,2242.1,2013.97,1988.7070000000001,1992.614,2163.46,null,"-",6784.8109999999997,8906.4069999999992,9027.2469999999994,9183.4410000000007,8158.6540000000005]
[null,"Net Revenue from Sales","-","-","-","-","-","-","-","-",0,0,0,0,0,0,0,0,0,0,0,0,0,0,0,0,null,"-",0,0,0,0,0]
[null,"Financial Income","-","-","-","-","-","-","-","-",1330.7919999999999,1610.1010000000001,1697.222,1614.617,1534.202,1594.9739999999999,1691.2729999999999,1832.597,1832,2113.085,2444.7779999999998,2760.6,2697.3,2902.268,2923.2330000000002,3061.8110000000001,null,"-",3514.4119999999998,6252.7330000000002,6653.0460000000003,9150.4619999999995,11584.606]
[null,"Other Financial Income","-","-","-","-","-","-","-","-",41.576000000000001,44.767000000000003,46.125999999999998,43.304000000000002,64.513999999999996,64.927999999999997,65.581000000000003,73.085999999999999,105.1,131.65700000000001,126.83799999999999,112.4,138.88999999999999,167.196,189.56299999999999,171.505,null,"-",149.49799999999999,175.773,268.10899999999998,475.79599999999999,667.25199999999995]
[null,"Total Revenue and Income","-","-","-","-","-","-","-","-",3426.9520000000002,3910.558,4035.4259999999999,3961.9780000000001,3749.67,3825.913,4026.1460000000002,4346.6109999999999,4306.3999999999996,4556.7070000000003,4831.491,5115.1000000000004,4850.16,5058.1710000000003,5105.4110000000001,5396.7759999999998,null,"-",10448.691999999999,15334.914000000001,15948.401,18809.632000000001,20410.511999999999]
[null,"Total Revenue and Income (ex-ITC)",0,0,0,0,0,0,0,0,0,0,0,0,2360.9110000000001,2411.6840000000002,2517.7060000000001,2701.9520000000002,2679.8589999999999,2795.7919999999999,2980.5639999999999,3155.3890000000001,3134.7359999999999,3322.17,3410.5549999999998,3546.6280000000002,null,"-",6751.6769999999997,9947.3989999999994,9992.2929999999997,11611.539000000001,13413.99]
[null,"Transactions Costs","-","-","-","-","-","-","-","-",-1302.9780000000001,-1414.2049999999999,-1371.617,-1478.261,-1388.76,-1414.229,-1508.441,-1644.6790000000001,-1626.5409999999999,-1760.914,-1850.9269999999999,-1959.711,-1715.424,-1735.904,-1694.856,-1850.3720000000001,null,"-",-4321.1499999999996,-5566.9269999999997,-5956.1080000000002,-7198.0929999999998,-6996.5219999999999]
[null,"Financial Costs","-","-","-","-","-","-","-","-",-620.62800000000004,-755.56,-920.65599999999995,-854.70899999999995,-812.971,-795.62699999999995,-819.93700000000001,-841.02099999999996,-827.13300000000004,-863.42100000000005,-964.29899999999998,-1091.8,-1177.7639999999999,-1279.567,-1394.9770000000001,-1376.4690000000001,null,"-",-790.63499999999999,-3151.5520000000001,-3269.556,-3746.6880000000001,-5228.777]
[null,"Total Losses","-","-","-","-","-","-","-","-",-249.715,-270.48399999999998,-272.75200000000001,-191.536,-126.544,-121.658,-165.26,-122.58499999999999,-102.73699999999999,-112.956,-119.64400000000001,-120.7,-83.450999999999993,-97.548000000000002,-88.320999999999998,-111.617,null,"-",-664.26800000000003,-984.48699999999997,-536.048,-456.07900000000001,-380.93799999999999]
[null,"Gross Profit¹","-","-","-","-","-","-","-","-",1253.6310000000001,1470.31,1470.402,1437.472,3782.3069999999998,3906.0819999999999,4050.2139999999999,4440.2790000000005,4429.8469999999998,4615.2079999999996,4877.1859999999997,1942.8889999999999,1873.521,1945.152,1927.2560000000001,2058.3180000000002,null,"-",4672.6379999999999,5631.9480000000003,6186.6890000000003,7408.7719999999999,7804.2749999999996]
[null,"Operating Expenses (Marketing, Personnel and Others)","-","-","-","-","-","-","-","-",-560.34500000000003,-603.29899999999998,-667.08799999999997,-621.327,-587.03300000000002,-589.09100000000001,-583.12099999999998,-700.005,-708.49300000000005,-772.48299999999995,-811.96500000000003,-821.64400000000001,-794.20899999999995,-820.49400000000003,-791.57500000000005,-808.11599999999999,null,"-","-",-2452.0590000000002,-2459.2170000000001,-3114.6149999999998,-3214.393]
[null,"Depreciation and Amortization + POS Write-Offs","-","-","-","-","-","-","-","-",-244.44499999999999,-369.09100000000001,-331.00299999999999,-335.76600000000002,-364.86,-374.26400000000001,-392.66199999999998,-405.37099999999998,-409.13299999999998,-411.05799999999999,-429.02699999999999,-436.178,-455.71899999999999,-465.62799999999999,-473.49200000000002,-482.351,null,"-","-",-1280.3050000000001,-1537.191,-1685.367,-1877.19]
[null,"EBT","-","-","-","-","-","-","-","-",448.84100000000001,497.92,472.31099999999998,480.37900000000002,2830.413,2942.7260000000001,3074.4319999999998,3334.9029999999998,3312.221,3431.6660000000002,3636.1930000000002,685.06700000000001,623.59299999999996,659.07899999999995,662.19,767.85199999999998,null,"-",1880.451,1899.451,2190.2809999999999,2608.79,2712.6930000000002]
[null,"Current Income Tax and Social Contribution","-","-","-","-","-","-","-","-",-27.067,0.53,1.6040000000000001,-34.200000000000003,-18.056000000000001,-42.238999999999997,-16.837,-24.731000000000002,-23.3,-131.28899999999999,-11.154,-95.385999999999996,-149.666,-139.84700000000001,-55.512999999999998,-64.757999999999996,null,"-",-119.801,-59.134,-101.863,-261.17099999999999,-409.78399999999999]
[null,"Deferred Income Tax and Social Contribution","-","-","-","-","-","-","-","-",-50.49,-95.088999999999999,-62.600999999999999,-34.881,-59.555999999999997,-73.480999999999995,-99.716999999999999,-87.721999999999994,-86.9,37.478000000000002,-72.317999999999998,41.6,80.02,45.779000000000003,-35.179000000000002,-25.1,null,"-",-335.36700000000002,-243.06,-320.47699999999998,-80.141000000000005,65.519000000000005]
[null,"Income Tax and Social Contribution","-","-","-","-","-","-","-","-",-77.557000000000002,-94.558999999999997,-60.997,-69.081000000000003,-77.611999999999995,-115.72,-116.554,-112.45399999999999,-110.2,-93.811000000000007,-83.471999999999994,-53.786000000000001,-69.646000000000001,-94.067999999999998,-90.692999999999998,-89.858000000000004,null,"-",-455.16800000000001,-302.19400000000002,-422.34,-341.26900000000001,-344.26499999999999]
[null,"Net Income | Non-GAAP","-","-","-","-","-","-","-","-",371.28399999999999,403.36099999999999,411.31400000000002,411.298,391.94900000000001,415.315,440.17200000000003,520.49699999999996,522.20000000000005,541.98699999999997,572.12099999999998,631.31399999999996,553.92399999999998,565.06500000000005,571.46100000000001,678.01400000000001,null,"-",1425.2829999999999,1597.2570000000001,1767.9939999999999,2267.5790000000002,2368.4659999999999]
[]
[null,"Non-GAAP | Earnings per Share (EPS)","1Q20","2Q20","3Q20","4Q20","1Q21","2Q21","3Q21","4Q21","1Q22","2Q22","3Q22","4Q22","1Q23","2Q23","3Q23","4Q23","1Q24","2Q24","3Q24","4Q24","1Q25","2Q25","3Q25","4Q25",null,2020,2021,2022,2023,2024,2025]
[null,"Weighted Average Number of Outstanding Common Shares | million",329,329.00099999999998,329.09,329.29199999999997,329.97300000000001,330.09199999999998,330.39800000000002,330.31099999999998,331.07900000000001,331.79700000000003,326.72399999999999,327.11,324.70400000000001,323.52199999999999,321.846,317.154,316.93900000000002,319.06900000000002,317.55200000000002,310.8,303.58100000000002,297.69,291.87200000000001,287.65100000000001,null,"-",330.31099999999998,327.11,321.80599999999998,316.096,295.19799999999998]
[null,"Basic EPS",1.1160000000000001,0.93300000000000005,1.004,1.306,0.82199999999999995,0.82399999999999995,0.97299999999999998,0.91200000000000003,1.121,1.216,1.2589999999999999,1.2569999999999999,1.2070000000000001,1.284,1.3680000000000001,1.617,1.6479999999999999,1.6990000000000001,1.802,2.0310000000000001,1.825,1.8979999999999999,1.9510000000000001,2.3570000000000002,null,"-",4.3150000000000004,4.883,5.4939999999999998,7.1740000000000004,8.0229999999999997]
[null,"Weighted Average Number of Common Shares for Diluted EPS | million",330.05700000000002,329.93299999999999,329.63799999999998,329.81400000000002,330.35,330.399,332.41199999999998,332.17500000000001,333.13799999999998,333.21199999999999,328.89800000000002,329.23500000000001,327.52199999999999,325.48,323.774,319.084,321.18599999999998,323.10000000000002,320.66699999999997,313.89999999999998,305.57499999999999,300.69099999999997,294.91000000000003,290.65600000000001,null,"-",332.17500000000001,329.23500000000001,323.95600000000002,319.51100000000002,297.95800000000003]
[null,"Diluted EPS",1.1120000000000001,0.93,1.002,1.304,0.82099999999999995,0.82399999999999995,0.96699999999999997,0.90700000000000003,1.115,1.2110000000000001,1.2509999999999999,1.2490000000000001,1.1970000000000001,1.276,1.36,1.607,1.6259999999999999,1.677,1.784,2.0110000000000001,1.8129999999999999,1.879,1.931,2.3330000000000002,null,"-",4.2910000000000004,4.851,5.4580000000000002,7.0970000000000004,7.95]
[null,"1 - Starting 1Q24, Gross Profit no longer excludes Other Financial Income. This change is neutral for the reported result as it has no impact on Earnings Before Tax (EBT) and Net Income. Previous quarters are shown under the new criteria, for comparison."]
[]
[]
[null,"Gross Profit - Non-GAAP | R$ Million",null,null,null,null,null,null,null,null,"1Q22","2Q22","3Q22","4Q22","1Q23","2Q23","3Q23","4Q23","1Q24","2Q24","3Q24","4Q24","1Q25","2Q25","3Q25","4Q25",null,null,null,2022,2023,2024,2025]
[null,"Payments",null,null,null,null,null,null,null,null,3052.81,3522.0279999999998,3613.5349999999999,3556.88,1965.799,2103.73,2192.0140000000001,2377.0070000000001,2315.16,2361.4160000000002,2485.0940000000001,2642.1350000000002,2552.373,2682.9789999999998,2666.9279999999999,2789.752,null,"-",null,8533.5110000000004,8638.5910000000003,9803.7389999999996,10691.447]
[null,"Banking",null,null,null,null,null,null,null,null,374.14100000000002,388.53,421.89100000000002,405.09800000000001,395.11200000000002,307.95400000000001,325.69200000000001,324.94499999999999,364.69900000000001,434.37599999999998,495.47,513.25400000000002,582.36300000000006,639.19100000000003,743.62699999999995,756.87599999999998,null,"-",null,1413.8869999999999,1353.702,1807.8,2722.5430000000001]
[null,"Total Revenue and Income (ex-ITC)",null,null,null,null,null,null,null,null,3426.9520000000002,3910.558,4035.4259999999999,3961.9780000000001,2360.9110000000001,2411.6840000000002,2517.7060000000001,2701.9520000000002,2679.8589999999999,2795.7919999999999,2980.5639999999999,3155.3890000000001,3134.7359999999999,3322.17,3410.5549999999998,3546.6280000000002,null,"-",null,9947.3989999999994,9992.2929999999997,11611.539000000001,13413.99]
[null,"Transaction Costs",null,null,null,null,null,null,null,null,-1302.9780000000001,-1414.2049999999999,-1371.617,-1478.261,-1388.76,-1414.229,-1508.441,-1644.6790000000001,-1626.5409999999999,-1760.914,-1850.9269999999999,-1959.711,-1715.424,-1735.904,-1694.856,-1850.3720000000001,null,"-",null,-5566.9269999999997,-5956.1080000000002,-7198.0929999999998,-6996.5219999999999]
[null,"Financial Costs",null,null,null,null,null,null,null,null,-620.62800000000004,-755.56,-920.65599999999995,-854.70899999999995,-812.971,-795.62699999999995,-819.93700000000001,-841.02099999999996,-827.13300000000004,-863.42100000000005,-964.29899999999998,-1091.8,-1177.7639999999999,-1279.567,-1394.9770000000001,-1376.4690000000001,null,"-",null,-3151.5520000000001,-3269.556,-3746.6880000000001,-5228.777]
[null,"Total Losses",null,null,null,null,null,null,null,null,-249.715,-270.48399999999998,-272.75200000000001,-191.536,-126.544,-121.658,-165.26,-122.58499999999999,-102.73699999999999,-112.956,-119.64400000000001,-120.7,-83.450999999999993,-97.548000000000002,-88.320999999999998,-111.617,null,"-",null,-984.48699999999997,-536.048,-456.07900000000001,-380.93799999999999]
[null,"Gross Profit",null,null,null,null,null,null,null,null,1253.6310000000001,1470.31,1470.402,1437.472,1421.396,1494.3979999999999,1532.509,1738.347,1749.9880000000001,1819.415,1896.6210000000001,1942.8889999999999,1873.521,1945.0550000000001,1927.2560000000001,2058.5419999999999,null,"-",null,5811.36,6186.6890000000003,7408.7719999999999,7804.2749999999996]
[null,"Payments",null,null,null,null,null,null,null,null,1164.107,1355.077,1311.7550000000001,1230.5740000000001,1178.163,1318.7270000000001,1366.2660000000001,1541.729,1529.5429999999999,1558.643,1558.8589999999999,1589.2139999999999,1465.008,1490.0909999999999,1390.3910000000001,1514.4849999999999,null,"-",null,5237.42,5404.9229999999998,6236.116,5858.6980000000003]
[null,"% of Payments Revenue and Income",null,null,null,null,null,null,null,null,0.38100000000000001,0.38500000000000001,0.36299999999999999,0.34599999999999997,0.59899999999999998,0.627,0.623,0.64900000000000002,0.66100000000000003,0.66,0.627,0.34499999999999997,0.34300000000000003,0.54500000000000004,0.52100000000000002,0.54300000000000004,null,"-",null,0.376,0.37,0.36699999999999999,0.54800000000000004]
[null,"Banking",null,null,null,null,null,null,null,null,89.524000000000001,115.232,158.64699999999999,206.898,243.233,175.672,166.24299999999999,196.61799999999999,220.44499999999999,260.77300000000002,337.76299999999998,353.67500000000001,408.51299999999998,454.964,536.86599999999999,544.05700000000002,null,"-",null,394.52800000000002,781.76599999999996,1172.6559999999999,1945.577]
[null,"% of Banking Revenue and Income",null,null,null,null,null,null,null,null,0.23899999999999999,0.29699999999999999,0.376,0.51100000000000001,0.61599999999999999,0.56999999999999995,0.51,0.60499999999999998,0.60399999999999998,0.6,0.68200000000000005,0.68899999999999995,0.70099999999999996,0.72099999999999997,0.72199999999999998,0.71899999999999997,null,"-",null,0.27900000000000003,0.57799999999999996,0.64900000000000002,0.71499999999999997]
[null,"Gross Profit Margin"]
[null,"% of TPV",null,null,null,null,null,null,null,null,1.6E-2,1.6E-2,1.6E-2,1.4999999999999999E-2,1.6E-2,1.6E-2,1.4999999999999999E-2,1.4999999999999999E-2,1.6E-2,1.4999999999999999E-2,1.4E-2,1.2999999999999999E-2,1.4E-2,1.4999999999999999E-2,1.4999999999999999E-2,1.4E-2,null,"-",null,1.6E-2,1.6E-2,1.4E-2,1.4999999999999999E-2]
[null,"% of Total Revenue and Income",null,null,null,null,null,null,null,null,0.59,0.58899999999999997,0.55200000000000005,0.57899999999999996,0.60199999999999998,0.62,0.60899999999999999,0.64300000000000002,0.65300000000000002,0.65100000000000002,0.63600000000000001,0.61599999999999999,0.59799999999999998,0.58499999999999996,0.56499999999999995,0.57999999999999996,null,"-",null,0.36699999999999999,0.38800000000000001,0.39400000000000002,0.58199999999999996]
[]
[null,"TPV",null,null,null,null,null,null,null,null,80100,89200,90300,94273,88455,93061,99836,113711,111737,124390,136286.67199999999,146006.717,129230.84,129578,129847.141,142400,null,"-",null,353900,394300,518400,530459.50600000005]

{"sheet":"Opex and Capex","index":4,"n_rows":80,"n_cols":16384,"rows_kept":80,"cut":false,"hidden":false,"merged":[]}
[]
[null,"TOTAL COSTS AND EXPENSES"]
[null,"http://investors.pagbank.com/"]
[]
[null,"GAAP | R$ million","1Q20","2Q20","3Q20","4Q20","1Q21","2Q21","3Q21","4Q21","1Q22","2Q22","3Q22","4Q22","1Q23","2Q23","3Q23","4Q23","1Q24","2Q24","3Q24","4Q24","1Q25","2Q25","3Q25","4Q25",null,2021,2022,2023,2024,2025]
[null,"Transactions Costs",-556.43399999999997,-589.41999999999996,-801.85299999999995,-825.72799999999995,-845.89200000000005,-965.10299999999995,-1112.1510000000001,-1398.0050000000001,-1302.9780000000001,-1414.2049999999999,-1371.617,-1478.261,-1388.76,-1414.229,-1508.441,-1644.6880000000001,-1626.576,-1760.93,-1850.924,-1959.7,-1715.424,-1735.855,-1694.89,-1850.376,null,-4321.1499999999996,-5566.9,-5956.1080000000002,-7198.01,-6996.5219999999999]
[null,"Card Interchange",-341.31700000000001,-327.67200000000003,-475.81299999999999,-535.64,-566.72400000000005,-676.52,-820.95699999999999,-980.07500000000005,-1018.6,-1143.7919999999999,-1159.2629999999999,-1183.6959999999999,-1115.5150000000001,-1125.537,-1205.9480000000001,-1358.4739999999999,-1334.229,-1453.99,-1541.7619999999999,-1614.7,-1445.856,-1435.2,"n.a","n.a",null,-3044.2759999999998,-4505.29,-4805.4740000000002,-5944.6840000000002,"n.a"]
[null,"Card Scheme Fee ",-91.352000000000004,-91.638000000000005,-121.86799999999999,-132.541,-139.00200000000001,-151.62899999999999,-164.23699999999999,-197.87100000000001,-211.8,-221.27199999999999,-220.26300000000001,-228.828,-222.66300000000001,-231.48099999999999,-244.02799999999999,-271.02100000000002,-257.01900000000001,-274.29599999999999,-285.596,-288.60000000000002,-250.28899999999999,-282.2,"n.a","n.a",null,-652.73900000000003,-882.09100000000001,-969.19299999999998,-1105.432,"n.a"]
[null,"Others",-123.765,-170.11099999999999,-204.172,-157.547,-140.166,-136.953,-126.95699999999999,-220.059,-72.578000000000003,-49.14,7.9089999999999998,-65.736000000000004,-50.581000000000003,-57.210999999999999,-58.465000000000003,-15.194000000000001,-35.328000000000003,-32.643999999999998,-23.565999999999999,-56.4,-19.279,-18.454999999999998,"n.a","n.a",null,-624.13499999999999,-179.54599999999999,-181.45099999999999,-147.89400000000001,"n.a"]
[null,"Financial Costs",-45.561999999999998,-17.873000000000001,-16.256,-29.542000000000002,-44.387999999999998,-133.785,-209.82300000000001,-402.64,-620.62800000000004,-755.56,-920.65599999999995,-854.70899999999995,-812.971,-795.62699999999995,-819.93700000000001,-841.12099999999998,-827.13300000000004,-863.42100000000005,-964.29899999999998,-1091.8,-1177.7639999999999,-1279.567,-1394.9770000000001,-1376.4690000000001,null,-790.63499999999999,-3151.5520000000001,-3269.556,-3746.6880000000001,-5228.7920000000004]
[null,"Securitization of Receivables",null,null,null,null,null,null,null,null,null,null,null,null,-213.54400000000001,-245.334,-248.67599999999999,-245.95599999999999,-162.042,-92.647000000000006,-82.674000000000007,-154.30000000000001,-158.16900000000001,-148.53399999999999,-58.279000000000003,-132.893,null,null,null,-953.50900000000001,-491.66199999999998,-497.875]
[null,"Accrued Interest on Deposits",null,null,null,null,null,null,null,null,null,null,null,null,-560.89599999999996,-525.27700000000004,-550.91899999999998,-583.11699999999996,-628.649,-723.17100000000005,-755.71500000000003,-798.1,-847.21,-938.19200000000001,-1176.5,-1112.71,null,null,null,-2220.2089999999998,-2905.6350000000002,-4074.61]
[null,"Others",null,null,null,null,null,null,null,null,null,null,null,null,-38.53,-25.015999999999998,-20.343,-12.048999999999999,-36.442,-47.603000000000002,-125.91,-139.4,-172.38399999999999,-192.89099999999999,-160.20099999999999,-130.86500000000001,null,null,null,-95.938000000000002,-349.35500000000002,-656.34199999999998]
[null,"Opex and Other Costs",-359.36900000000003,-195.98500000000001,-427.15800000000002,-510.00400000000002,-485.12299999999999,-604.00599999999997,-699.41300000000001,-627.49800000000005,-588.26300000000003,-653.91800000000001,-709.529,-590.31899999999996,-606.15,-618.82500000000005,-610.30100000000004,-731.58900000000006,-750.03300000000002,-810.755,-853.303,-850.11,-816.697,-841.08900000000006,-794.35500000000002,-838.89400000000001,null,-2416.0390000000002,-2542.1289999999999,-2567.1999999999998,-3258.9209999999998,-3291.2429999999999]
[null,"Cost of Goods Sold",0,0,0,0,0,0,0,0,0,0,0,0,0,0,0,0,0,0,0,0,0,0,0,0,null,0,0,0,0,0]
[null,"Marketing and Advertising",-156.16499999999999,-98.004000000000005,-115.93600000000001,-140.68700000000001,-190.14099999999999,-212.69800000000001,-210.44,-177.79599999999999,-172.36500000000001,-167.441,-199.947,-177.958,-117.749,-129.327,-139.84200000000001,-193.749,-209.303,-220.27600000000001,-223.46299999999999,-205.3,-210.274,-225.51,-218.66499999999999,-214.35400000000001,null,-791.07500000000005,-717.73199999999997,-580.66700000000003,-858.32100000000003,-868.803]
[null,"Personnel Expenses",-105.062,-98.391000000000005,-205.88,-209.79900000000001,-231.66200000000001,-248.57,-335.50200000000001,-258.50700000000001,-255.46199999999999,-291.87,-277.79700000000003,-207.524,-271.92700000000002,-275.7,-274.31400000000002,-300.09300000000002,-334.68900000000002,-351.17899999999997,-372.73399999999998,-362.7,-347.846,-347.37299999999999,-309.93599999999998,-322.303,null,-1074.241,-1032.732,-1122.1279999999999,-1421.2529999999999,-1327.4580000000001]
[null,"Other (Expenses) Income, Net",-98.141999999999996,0.40899999999999997,-105.343,-159.518,-63.32,-142.738,-153.47,-191.19499999999999,-160.43700000000001,-194.607,-231.785,-204.83699999999999,-216.47499999999999,-213.798,-196.14500000000001,-237.74600000000001,-206.041,-239.3,-257.10599999999999,-282.20999999999998,-258.774,-268.20600000000002,-265.76600000000002,-302.23700000000002,null,-550.72299999999996,-791.66499999999996,-864.16399999999999,-979.34699999999998,-1094.982]
[null,"Total Losses",-70.171000000000006,-60.323999999999998,-82.472999999999999,-75.34,-173.13300000000001,-147.02699999999999,-129.89099999999999,-214.21700000000001,-249.715,-270.48399999999998,-272.75200000000001,-191.536,-126.544,-121.658,-165.02500000000001,-122.58499999999999,-102.73699999999999,-112.956,-119.64400000000001,-120.7,-83.450999999999993,-97.548000000000002,-88.320999999999998,-111.617,null,-664.26800000000003,-984.48699999999997,-536.048,-456.07900000000001,-380.93799999999999]
[null,"Chargebacks",null,null,null,null,null,null,null,null,-88.947999999999993,-115.01600000000001,-126.294,-111.988,-86.3,-115.3,-136,-93.823999999999998,-72.117000000000004,-75.665999999999997,-91.795000000000002,-106.1,-62.213000000000001,-69.789000000000001,-52.692,-66.95,null,"-",-442.24599999999998,-426.73899999999998,-345.69200000000001,-251.64500000000001]
[null,"Expected Credit Losses",null,null,null,null,null,null,null,null,-160.76599999999999,-155.46799999999999,-146.458,-79.549000000000007,-40.244,-6.3579999999999997,-29.024999999999999,-28.760999999999999,-30.62,-37.29,-27.849,-14.6,-21.238,-27.759,-35.628999999999998,-44.667000000000002,null,"-",-542.24099999999999,-109.307,-110.36,-129.29300000000001]
[null,"Depreciation and Amortization",-59.6,-81.400000000000006,-101.52800000000001,-133.822,-158.298,-181.52,-203.27699999999999,-225.5,-249.02199999999999,-280.56599999999997,-294.416,-306.649,-317.43400000000003,-325.572,-346.47899999999998,-366.17500000000001,-371.512,-391.17200000000003,-413.02600000000001,-425.2,-439.00799999999998,-451.846,-457.90800000000002,-458.75200000000001,null,-768.59500000000003,-1130.69,-1355.653,-1600.932,-1807.5139999999999]
[null,"POS Write-offs",null,null,null,null,null,null,null,null,null,-93.141000000000005,-41.164999999999999,-65.599999999999994,-62.256,-64.7,-63.747,-56.822000000000003,-56.195,-39.698999999999998,-36.725000000000001,-31.29,-37.709000000000003,-36.042999999999999,-38.515000000000001,-43.798999999999999,null,0,-199.90600000000001,-246.77099999999999,-163.89099999999999,-156.07900000000001]
[null,"Total Costs and Expenses",-1091.136,-945.00199999999995,-1429.269,-1574.4359999999999,-1706.8330000000001,-2031.442,-2354.5540000000001,-2867.86,-3010.6060000000002,-3467.873,-3610.1350000000002,-3487.0740000000001,-3313.694,-3340.6280000000002,-3514.0819999999999,-3762.8670000000002,-3734,-3978.982,-4237.9530000000004,-4478.8999999999996,-4270.25,-4441.9480000000003,-4468.9780000000001,-4679.8779999999997,null,-8429.2549999999992,-13575.598,-13931.294,-16429.703000000001,-17861.088]
[null,"Total Costs and Expenses (ex-ITC)",-658.46699999999998,-525.69299999999998,-831.58799999999997,-906.255,-1001.107,-1203.2919999999999,-1369.36,-1689.914,-1780.2059999999999,-2102.808,-2230.6089999999999,-2074.549,-1975.5160000000001,-1983.61,-2064.1060000000002,-2133.373,-2142.752,-2250.6959999999999,-2410.5940000000001,-2575.6,-2554.826,-2706.0929999999998,-2774.0880000000002,-2829.5010000000002,null,-4732.24,-8188.3069999999998,-8156.5739999999996,-9379.5869999999995,-10864.566000000001]
[]
[null,"GAAP | R$ million","1Q20","2Q20","3Q20","4Q20","1Q21","2Q21","3Q21","4Q21","1Q22","2Q22","3Q22","4Q22","1Q23","2Q23","3Q23","4Q23","1Q24","2Q24","3Q24","4Q24","1Q25","2Q25","3Q25","4Q25",null,2021,2022,2023,2024,2025]
[null,"Cost of Sales and Services",-768.59299999999996,-793.28499999999997,-1057.232,-1153.1400000000001,-1146.1189999999999,-1295.0619999999999,-1502.0060000000001,-1832.77,-1739.373,-1900.347,-1862.173,-1969.8679999999999,-1929.298,-1926.0719999999999,-2033.309,-2243.9,-2170.6999999999998,-2332.1550000000002,-2455.3270000000002,-2585.1,-2360.29,-2410.7669999999998,-2395.6860000000001,-2529.3510000000001,null,-5775.9570000000003,-7470.8950000000004,-8132.58,-9543.3150000000005,-9696.0939999999991]
[null,"Selling Expenses",-189.02099999999999,-111.202,-151.626,-165.60900000000001,-368.05,-363.82499999999999,-367.88200000000001,-424.101,-480.61200000000002,-499.07900000000001,-530.83900000000006,-434.96300000000002,-317.90800000000002,-321.44200000000001,-378.24,-412.22399999999999,-437.4,-467.31900000000002,-486.99200000000002,-467.9,-423.1,-452.37900000000002,-443.74,-454.959,null,-1523.8579999999999,-1946.075,-1429.816,-1859.59,-1774.1780000000001]
[null,"Administrative Expenses",-85.787000000000006,-94.266999999999996,-197.08,-186.64699999999999,-189.08099999999999,-225.81700000000001,-273.02300000000002,-8.4760000000000009,-165.30199999999999,-203.93700000000001,-185.34399999999999,-113.70099999999999,-171.35400000000001,-203.4,-206.333,-151.61099999999999,-230.6,-216.23599999999999,-268.54300000000001,-257,-242.83,-226.65,-190.017,-201.46899999999999,null,-696.39700000000005,-668.67899999999997,-732.68899999999996,-972.25099999999998,-860.96600000000001]
[null,"Financial Costs",-45.561999999999998,-17.873000000000001,-16.256,-29.542000000000002,-44.387999999999998,-133.785,-209.82300000000001,-71.084999999999994,-620.62800000000004,-755.56,-920.65599999999995,-854.70899999999995,-812.971,-795.59699999999998,-819.93700000000001,-841.02099999999996,-827.1,-863.42100000000005,-964.33500000000004,-1091.8,-1177.82,-1279.5229999999999,-1394.9770000000001,-1376.4690000000001,null,-459.08,-3151.5520000000001,-3269.556,-3746.6880000000001,-5228.7920000000004]
[null,"Other Expenses, Net",-2.1360000000000001,71.608999999999995,-7.0590000000000002,-39.511000000000003,40.805999999999997,-12.952,-1.821,5.0000000000000001E-3,-4.6909999999999998,-108.95099999999999,-111.123,-113.833,-82.162999999999997,-94.117000000000004,-76.262,-114.111,-68.2,-99.850999999999999,-62.756,-77.099999999999994,-66.209999999999994,-72.605000000000004,-44.558,-117.73,null,26.038,-338.39699999999999,-366.65300000000002,-307.85899999999998,-301.10300000000001]
[null,"Total Costs and Expenses",-1091.0989999999999,-945.01800000000003,-1429.2529999999999,-1574.45,-1706.8330000000001,-2031.442,-2354.5540000000001,-2867.86,-3010.6060000000002,-3467.873,-3610.1350000000002,-3487.0740000000001,-3313.694,-3340.6280000000002,-3514.0819999999999,-3762.8670000000002,-3734,-3978.982,-4237.9530000000004,-4478.8999999999996,-4270.25,-4441.924,-4468.9780000000001,-4679.9780000000001,null,-8429.2549999999992,-13575.598,-13931.294,-16429.703000000001,-17861.088]
[null,"Total Costs and Expenses (ex-ITC)",-658.43,-525.70899999999995,-831.572,-906.26800000000003,-1001.107,-1203.2919999999999,-1369.36,-1689.914,-1780.2059999999999,-2102.808,-2230.6089999999999,-2074.549,-1924.9349999999999,-1926.3989999999999,-2005.6410000000001,-2118.1790000000001,-2107.424,-2218.0520000000001,-2387.029,-2519.1999999999998,-2554.826,-2706.069,-2774.0880000000002,-2829.6019999999999,null,-4108.1040000000003,-8008.6980000000003,-7975.1859999999997,-9231.6929999999993,-10864.566000000001]
[]
[null,"Non-GAAP | R$ million","1Q20","2Q20","3Q20","4Q20","1Q21","2Q21","3Q21","4Q21","1Q22","2Q22","3Q22","4Q22","1Q23","2Q23","3Q23","4Q23","1Q24","2Q24","3Q24","4Q24","1Q25","2Q25","3Q25","4Q25",null,2021,2022,2023,2024,2025]
[null,"Transactions Costs",null,null,null,null,null,null,null,null,-1302.9780000000001,-1414.2049999999999,-1371.617,-1478.261,-1388.76,-1414.229,-1508.441,-1644.6880000000001,-1626.576,-1760.93,-1850.924,-1959.7,-1715.424,-1735.855,-1694.89,-1850.376,null,null,-5567.06,-5956.1180000000004,-7198.13,-6996.5219999999999]
[null,"Card Interchange",null,null,null,null,null,null,null,null,-1435.2,-1435.2,-1435.2,-1435.2,-1115.5150000000001,-1125.537,-1205.9480000000001,-1358.4739999999999,-1334.229,-1453.99,-1541.7619999999999,-1614.7,-1445.856,-1435.2,"n.a","n.a",null,null,-5740.8,-4805.4740000000002,-5944.6819999999998,"n.a"]
[null,"Card Scheme Fee ",null,null,null,null,null,null,null,null,-211.8,-221.27199999999999,-220.26300000000001,-228.828,-222.66300000000001,-231.48099999999999,-244.02799999999999,-271.02100000000002,-257.01900000000001,-274.29599999999999,-285.596,-288.60000000000002,-250.28899999999999,-282.2,"n.a","n.a",null,null,-882.16300000000001,-969.19399999999996,-1105.51,"n.a"]
[null,"Others",null,null,null,null,null,null,null,null,344.02199999999999,242.268,283.846,185.768,-50.581000000000003,-57.210999999999999,-58.465000000000003,-15.194000000000001,-35.328000000000003,-32.643999999999998,-23.565999999999999,-56.4,-19.279,-18.454999999999998,"n.a","n.a",null,null,1055.903,-181.45099999999999,-147.93799999999999,"n.a"]
[null,"Financial Costs",null,null,null,null,null,null,null,null,-620.62800000000004,-755.56,-920.65599999999995,-854.70899999999995,-812.971,-795.62699999999995,-819.93700000000001,-841.12099999999998,-827.13300000000004,-863.42100000000005,-964.29899999999998,-1091.8,-1177.7639999999999,-1279.567,-1394.9770000000001,-1376.4690000000001,null,null,-3151.5520000000001,-3269.6559999999999,-3746.6529999999998,-5228.777]
[null,"Securitization of Receivables",null,null,null,null,null,null,null,null,null,null,null,null,-213.54400000000001,-245.334,-248.67599999999999,-245.95599999999999,-162.042,-92.647000000000006,-82.674000000000007,-154.30000000000001,-158.16900000000001,-148.53399999999999,-58.279000000000003,-132.893,null,null,null,-953.50900000000001,-491.66199999999998,-497.875]
[null,"Accrued Interest on Deposits",null,null,null,null,null,null,null,null,null,null,null,null,-560.89599999999996,-525.27700000000004,-550.91899999999998,-583.11699999999996,-628.649,-723.17100000000005,-755.71500000000003,-798.1,-847.21,-938.19200000000001,-1176.498,-1112.71,null,null,null,-2220.2089999999998,-2905.6350000000002,-4074.61]
[null,"Others",null,null,null,null,null,null,null,null,null,null,null,null,-38.53,-25.015999999999998,-20.343,-12.048999999999999,-36.442,-47.603000000000002,-125.91,-139.4,-172.38399999999999,-192.89099999999999,-160.20099999999999,-130.86500000000001,null,null,null,-95.938000000000002,-349.35500000000002,-656.34199999999998]
[null,"Opex and Other Costs",null,null,null,null,null,null,null,null,-560.36699999999996,-603.322,-666.49699999999996,-632.27599999999995,-587.03300000000002,-589.09100000000001,-583.12099999999998,-700.005,-708.49300000000005,-772.48299999999995,-811.96500000000003,-821.64400000000001,-794.20899999999995,-820.49400000000003,-791.57500000000005,-808.11599999999999,null,null,-2462.4630000000002,-2459.25,-3114.585,-3214.393]
[null,"Cost of Goods Sold",null,null,null,null,null,null,null,null,0,0,0,0,0,0,0,0,0,0,0,0,0,0,0,0,null,null,0,0,0,0]
[null,"Marketing and Advertising",null,null,null,null,null,null,null,null,-172.36500000000001,-167.441,-199.947,-177.958,-117.749,-129.327,-139.84200000000001,-193.749,-209.303,-220.27600000000001,-223.46299999999999,-205.279,-210.274,-225.51,-218.66499999999999,-214.35400000000001,null,null,-717.71,-580.66700000000003,-858.32100000000003,-868.803]
[null,"Personnel Expenses",null,null,null,null,null,null,null,null,-227.672,-241.27500000000001,-234.76499999999999,-249.38200000000001,-253.16499999999999,-245.96700000000001,-244.607,-268.50900000000001,-293.24900000000002,-312.90600000000001,-331.40300000000002,-335.39600000000002,-325.178,-326.76400000000001,-307.15600000000001,-291.459,null,null,-953.09400000000005,-1012.248,-1272.954,-1250.558]
[null,"Other (Expenses) Income, Net",null,null,null,null,null,null,null,null,-160.33000000000001,-194.607,-231.785,-204.93700000000001,-216.12,-213.798,-198.672,-237.74600000000001,-205.941,-239.30099999999999,-257.09800000000001,-280.96899999999999,-258.75599999999997,-268.22000000000003,-265.75299999999999,-302.30200000000002,null,null,-791.65899999999999,-866.33600000000001,-983.31,-1095.0319999999999]
[null,"Total Losses",null,null,null,null,null,null,null,null,-249.715,-270.48399999999998,-272.75200000000001,-191.536,-126.544,-121.658,-165.02500000000001,-122.58499999999999,-102.73699999999999,-112.956,-119.64400000000001,-120.7,-83.450999999999993,-97.548000000000002,-88.320999999999998,-111.617,null,null,-984.48699999999997,-535.81200000000001,-456.03699999999998,-380.93799999999999]
[null,"Chargebacks",null,null,null,null,null,null,null,null,-88.947999999999993,-115.01600000000001,-126.294,-111.988,-86.3,-115.3,-136,-93.823999999999998,-72.117000000000004,-75.665999999999997,-91.795000000000002,-106.1,-62.213000000000001,-69.789000000000001,-52.692,-66.95,null,null,-442.24599999999998,-431.42399999999998,-345.678,-251.64500000000001]
[null,"Expected Credit Losses (ECL)",null,null,null,null,null,null,null,null,-160.76599999999999,-155.46799999999999,-146.458,-79.549000000000007,-40.244,-6.3579999999999997,-29.024999999999999,-28.760999999999999,-30.62,-37.29,-27.849,-14.6,-21.238,-27.759,-35.628999999999998,-44.667000000000002,null,null,-542.24099999999999,-104.38800000000001,-110.36,-129.29300000000001]
[null,"Depreciation and Amortization",null,null,null,null,null,null,null,null,-244.44499999999999,-275.95,-289.83800000000002,-270.166,-302.60399999999998,-309.56400000000002,-328.91500000000002,-348.54899999999998,-352.93799999999999,-371.35899999999998,-392.30200000000002,-404.88799999999998,-418.01,-429.58499999999998,-434.964,-438.55200000000002,null,null,-1080.3989999999999,-1289.633,-1521.4870000000001,-1721.1110000000001]
[null,"POS Write-offs",null,null,null,null,null,null,null,null,0,-93.141000000000005,-41.164999999999999,-65.599999999999994,-62.256,-64.7,-63.747,-56.822000000000003,-56.195,-39.698999999999998,-36.725000000000001,-31.29,-37.709000000000003,-36.042999999999999,-38.527999999999999,-43.798999999999999,null,null,-199.90600000000001,-247.52500000000001,-163.90899999999999,-156.07900000000001]
[null,"Total Costs and Expenses",null,null,null,null,null,null,null,null,-2978.1320000000001,-3412.6610000000001,-3562.5250000000001,-3492.549,-3280.1680000000001,-3294.87,-3469.1860000000001,-3713.77,-3674.0720000000001,-3920.8490000000002,-4175.8590000000004,-4430.0219999999999,-4226.567,-4399.0929999999998,-4443.2539999999999,-4628.9059999999999,null,null,-13445.867,-13757.994000000001,-16200.802,-17697.819]
[null,"Total Costs and Expenses (ex-ITC)",null,null,null,null,null,null,null,null,-1331.1320000000001,-1756.1890000000001,-1907.0619999999999,-1828.52,-1891.4079999999999,-1880.6410000000001,-1960.7449999999999,-2069.0819999999999,-2047.4960000000001,-2159.9189999999999,-2324.9349999999999,-2470.3220000000001,-2511.143,-2663.2379999999998,-2748.364,-2778.529,null,null,-7878.8059999999996,-7801.8760000000002,-9002.6720000000005,-10701.297]
[]
[null,"Non-GAAP | R$ million","1Q20","2Q20","3Q20","4Q20","1Q21","2Q21","3Q21","4Q21","1Q22","2Q22","3Q22","4Q22","1Q23","2Q23","3Q23","4Q23","1Q24","2Q24","3Q24","4Q24","1Q25","2Q25","3Q25","4Q25",null,2021,2022,2023,2024,2025]
[null,"Cost of Sales and Services",null,null,null,null,null,null,null,null,-1302.9780000000001,-1414.2049999999999,-1371.617,-1478.261,-1929.298,-1926.0719999999999,-2033.309,-2243.9,-2170.6999999999998,-2332.1550000000002,-2455.3270000000002,-2585.1,-2351.6089999999999,-2406.2550000000001,-2394.8359999999998,-2519.0520000000001,null,null,-7470.8950000000004,-8132.58,-9519.0810000000001,-9671.7520000000004]
[null,"Selling Expenses",null,null,null,null,null,null,null,null,-480.36900000000003,-499.05700000000002,-530.83900000000006,-435.48399999999998,-316.15800000000002,-319.91800000000001,-376.70299999999997,-410.62099999999998,-435.3,-466.03800000000001,-485.18099999999998,-444.08300000000003,-419.65699999999998,-450.846,-443.46899999999999,-452.73599999999999,null,null,-1945.749,-1423.4,-1853.5309999999999,-1766.7070000000001]
[null,"Administrative Expenses",null,null,null,null,null,null,null,null,-135.38999999999999,-152.791,-141.14699999999999,-114.93600000000001,-145.459,-161.751,-165.684,-107.485,-178.934,-165.43799999999999,-214.947,-237.24600000000001,-211.29400000000001,-189.81100000000001,-165.416,-162.91900000000001,null,null,-544.26499999999999,-580.37900000000002,-773.73299999999995,-729.43899999999996]
[null,"Financial Costs",null,null,null,null,null,null,null,null,-620.62800000000004,-755.56,-920.65599999999995,-854.70899999999995,-812.971,-795.62699999999995,-819.93700000000001,-841.12099999999998,-827.13300000000004,-863.42100000000005,-964.29899999999998,-1091.8,-1177.8230000000001,-1279.5229999999999,-1394.9780000000001,-1376.4670000000001,null,null,-3151.5520000000001,-3269.6559999999999,-3746.6559999999999,-5228.7920000000004]
[null,"Other Expenses, Net",null,null,null,null,null,null,null,null,-438.767,-591.04899999999998,-598.26599999999996,-609.15800000000002,-76.281999999999996,-91.501999999999995,-73.552000000000007,-110.642,-62.005000000000003,-93.796999999999997,-56.106000000000002,-71.793000000000006,-66.197999999999993,-72.605000000000004,-44.558,-117.73,null,null,-333.40600000000001,-351.97800000000001,-307.90699999999998,-301.09100000000001]
[null,"Total Costs and Expenses",null,null,null,null,null,null,null,null,-2978.1320000000001,-3412.6610000000001,-3562.5250000000001,-3492.549,-3280.1680000000001,-3294.87,-3469.1860000000001,-3713.77,-3674.0720000000001,-3920.8490000000002,-4175.8590000000004,-4430.0219999999999,-4226.5810000000001,-4399.0389999999998,-4443.2569999999996,-4628.9059999999999,null,null,-13445.867,-13757.994000000001,-16200.906999999999,-17697.781999999999]
[null,"Total Costs and Expenses (ex-ITC)",null,null,null,null,null,null,null,null,-1331.1320000000001,-1756.1890000000001,-1907.0619999999999,-1828.52,-1891.4079999999999,-1880.6410000000001,-1960.7449999999999,-2069.0819999999999,-2047.4960000000001,-2159.9189999999999,-2324.9349999999999,-2470.3220000000001,-2511.1570000000002,-2663.1840000000002,-2748.3670000000002,-2778.529,null,null,-7878.8059999999996,-7801.8760000000002,-9002.777,-10701.26]
[]
[null,"CAPITAL EXPENDITURES"]
[null,"http://investors.pagbank.com/"]
[]
[null,"R$ million","1Q20","2Q20","3Q20","4Q20","1Q21","2Q21","3Q21","4Q21","1Q22","2Q22","3Q22","4Q22","1Q23","2Q23","3Q23","4Q23","1Q24","2Q24","3Q24","4Q24","1Q25","2Q25","3Q25","4Q25",null,2021,2022,2023,2024,2025]
[null,"Total Revenue and Income",1587.2950000000001,1357.444,1781.473,2088.4609999999998,2067.201,2369.5990000000002,2775.7649999999999,3236.1570000000002,3426.9520000000002,3910.558,4035.4259999999999,3961.9780000000001,3749.6689999999999,3825.913,4026.1460000000002,4346.6109999999999,4306.3999999999996,4556.7070000000003,4831.491,5115.1000000000004,4850.16,5058.17,5105.41,5396.7759999999998,null,10448.722,15334.914000000001,15948.401,18809.632000000001,20410.516]
[null,"Total Revenue and Income (ex-ITC)",null,null,null,null,null,null,null,null,null,null,null,null,2360.9110000000001,2411.6840000000002,2517.7060000000001,2701.9520000000002,2679.8589999999999,2795.7919999999999,2980.5639999999999,3155.3890000000001,3134.7359999999999,3322.17,3410.5549999999998,3546.6280000000002,null,6751.6769999999997,9947.3989999999994,9992.2929999999997,11611.539000000001,13413.99,{"$f":"ROUND('Income Statement'!AG12,3)","v":13413.99},{"$f":"ROUND('Income Statement'!AH12,3)","v":0},{"$f":"ROUND('Income Statement'!AI12,3)","v":0},{"$f":"ROUND('Income Statement'!AJ12,3)","v":0},{"$f":"ROUND('Income Statement'!AK12,3)","v":0},{"$f":"ROUND('Income Statement'!AL12,3)","v":0},{"$f":"ROUND('Income Statement'!AM12,3)","v":0},{"$f":"ROUND('Income Statement'!AN12,3)","v":0},{"$f":"ROUND('Income Statement'!AO12,3)","v":0},{"$f":"ROUND('Income Statement'!AP12,3)","v":0},{"$f":"ROUND('Income Statement'!AQ12,3)","v":0},{"$f":"ROUND('Income Statement'!AR12,3)","v":0},{"$f":"ROUND('Income Statement'!AS12,3)","v":0},{"$f":"ROUND('Income Statement'!AT12,3)","v":0},{"$f":"ROUND('Income Statement'!AU12,3)","v":0},{"$f":"ROUND('Income Statement'!AV12,3)","v":0},{"$f":"ROUND('Income Statement'!AW12,3)","v":0},{"$f":"ROUND('Income Statement'!AX12,3)","v":0},{"$f":"ROUND('Income Statement'!AY12,3)","v":0},{"$f":"ROUND('Income Statement'!AZ12,3)","v":0},{"$f":"ROUND('Income Statement'!BA12,3)","v":0},{"$f":"ROUND('Income Statement'!BB12,3)","v":0},{"$f":"ROUND('Income Statement'!BC12,3)","v":0},{"$f":"ROUND('Income Statement'!BD12,3)","v":0},{"$f":"ROUND('Income Statement'!BE12,3)","v":0},{"$f":"ROUND('Income Statement'!BF12,3)","v":0},{"$f":"ROUND('Income Statement'!BG12,3)","v":0},{"$f":"ROUND('Income Statement'!BH12,3)","v":0},{"$f":"ROUND('Income Statement'!BI12,3)","v":0},{"$f":"ROUND('Income Statement'!BJ12,3)","v":0},{"$f":"ROUND('Income Statement'!BK12,3)","v":0},{"$f":"ROUND('Income Statement'!BL12,3)","v":0},{"$f":"ROUND('Income Statement'!BM12,3)","v":0},{"$f":"ROUND('Income Statement'!BN12,3)","v":0},{"$f":"ROUND('Income Statement'!BO12,3)","v":0},{"$f":"ROUND('Income Statement'!BP12,3)","v":0},{"$f":"ROUND('Income Statement'!BQ12,3)","v":0},{"$f":"ROUND('Income Statement'!BR12,3)","v":0},{"$f":"ROUND('Income Statement'!BS12,3)","v":0},{"$f":"ROUND('Income Statement'!BT12,3)","v":0},{"$f":"ROUND('Income Statement'!BU12,3)","v":0},{"$f":"ROUND('Income Statement'!BV12,3)","v":0},{"$f":"ROUND('Income Statement'!BW12,3)","v":0},{"$f":"ROUND('Income Statement'!BX12,3)","v":0},{"$f":"ROUND('Income Statement'!BY12,3)","v":0},{"$f":"ROUND('Income Statement'!BZ12,3)","v":0},{"$f":"ROUND('Income Statement'!CA12,3)","v":0},{"$f":"ROUND('Income Statement'!CB12,3)","v":0},{"$f":"ROUND('Income Statement'!CC12,3)","v":0},{"$f":"ROUND('Income Statement'!CD12,3)","v":0},{"$f":"ROUND('Income Statement'!CE12,3)","v":0},{"$f":"ROUND('Income Statement'!CF12,3)","v":0},{"$f":"ROUND('Income Statement'!CG12,3)","v":0},{"$f":"ROUND('Income Statement'!CH12,3)","v":0},{"$f":"ROUND('Income Statement'!CI12,3)","v":0},{"$f":"ROUND('Income Statement'!CJ12,3)","v":0},{"$f":"ROUND('Income Statement'!CK12,3)","v":0},{"$f":"ROUND('Income Statement'!CL12,3)","v":0},{"$f":"ROUND('Income Statement'!CM12,3)","v":0},{"$f":"ROUND('Income Statement'!CN12,3)","v":0},{"$f":"ROUND('Income Statement'!CO12,3)","v":0},{"$f":"ROUND('Income Statement'!CP12,3)","v":0},{"$f":"ROUND('Income Statement'!CQ12,3)","v":0},{"$f":"ROUND('Income Statement'!CR12,3)","v":0},{"$f":"ROUND('Income Statement'!CS12,3)","v":0},{"$f":"ROUND('Income Statement'!CT12,3)","v":0},{"$f":"ROUND('Income Statement'!CU12,3)","v":0},{"$f":"ROUND('Income Statement'!CV12,3)","v":0},{"$f":"ROUND('Income Statement'!CW12,3)","v":0},{"$f":"ROUND('Income Statement'!CX12,3)","v":0},{"$f":"ROUND('Income Statement'!CY12,3)","v":0},{"$f":"ROUND('Income Statement'!CZ12,3)","v":0},{"$f":"ROUND('Income Statement'!DA12,3)","v":0},{"$f":"ROUND('Income Statement'!DB12,3)","v":0},{"$f":"ROUND('Income Statement'!DC12,3)","v":0},{"$f":"ROUND('Income Statement'!DD12,3)","v":0},{"$f":"ROUND('Income Statement'!DE12,3)","v":0},{"$f":"ROUND('Income Statement'!DF12,3)","v":0},{"$f":"ROUND('Income Statement'!DG12,3)","v":0},{"$f":"ROUND('Income Statement'!DH12,3)","v":0},{"$f":"ROUND('Income Statement'!DI12,3)","v":0},{"$f":"ROUND('Income Statement'!DJ12,3)","v":0},{"$f":"ROUND('Income Statement'!DK12,3)","v":0},{"$f":"ROUND('Income Statement'!DL12,3)","v":0},{"$f":"ROUND('Income Statement'!DM12,3)","v":0},{"$f":"ROUND('Income Statement'!DN12,3)","v":0},{"$f":"ROUND('Income Statement'!DO12,3)","v":0},{"$f":"ROUND('Income Statement'!DP12,3)","v":0},{"$f":"ROUND('Income Statement'!DQ12,3)","v":0},{"$f":"ROUND('Income Statement'!DR12,3)","v":0},{"$f":"ROUND('Income Statement'!DS12,3)","v":0},{"$f":"ROUND('Income Statement'!DT12,3)","v":0},{"$f":"ROUND('Income Statement'!DU12,3)","v":0},{"$f":"ROUND('Income Statement'!DV12,3)","v":0},{"$f":"ROUND('Income Statement'!DW12,3)","v":0},{"$f":"ROUND('Income Statement'!DX12,3)","v":0},{"$f":"ROUND('Income Statement'!DY12,3)","v":0},{"$f":"ROUND('Income Statement'!DZ12,3)","v":0},{"$f":"ROUND('Income Statement'!EA12,3)","v":0},{"$f":"ROUND('Income Statement'!EB12,3)","v":0},{"$f":"ROUND('Income Statement'!EC12,3)","v":0},{"$f":"ROUND('Income Statement'!ED12,3)","v":0},{"$f":"ROUND('Income Statement'!EE12,3)","v":0},{"$f":"ROUND('Income Statement'!EF12,3)","v":0},{"$f":"ROUND('Income Statement'!EG12,3)","v":0},{"$f":"ROUND('Income Statement'!EH12,3)","v":0},{"$f":"ROUND('Income Statement'!EI12,3)","v":0},{"$f":"ROUND('Income Statement'!EJ12,3)","v":0},{"$f":"ROUND('Income Statement'!EK12,3)","v":0},{"$f":"ROUND('Income Statement'!EL12,3)","v":0},{"$f":"ROUND('Income Statement'!EM12,3)","v":0},{"$f":"ROUND('Income Statement'!EN12,3)","v":0},{"$f":"ROUND('Income Statement'!EO12,3)","v":0},{"$f":"ROUND('Income Statement'!EP12,3)","v":0},{"$f":"ROUND('Income Statement'!EQ12,3)","v":0},{"$f":"ROUND('Income Statement'!ER12,3)","v":0},{"$f":"ROUND('Income Statement'!ES12,3)","v":0},{"$f":"ROUND('Income Statement'!ET12,3)","v":0},{"$f":"ROUND('Income Statement'!EU12,3)","v":0},{"$f":"ROUND('Income Statement'!EV12,3)","v":0},{"$f":"ROUND('Income Statement'!EW12,3)","v":0},{"$f":"ROUND('Income Statement'!EX12,3)","v":0},{"$f":"ROUND('Income Statement'!EY12,3)","v":0},{"$f":"ROUND('Income Statement'!EZ12,3)","v":0},{"$f":"ROUND('Income Statement'!FA12,3)","v":0},{"$f":"ROUND('Income Statement'!FB12,3)","v":0},{"$f":"ROUND('Income Statement'!FC12,3)","v":0},{"$f":"ROUND('Income Statement'!FD12,3)","v":0},{"$f":"ROUND('Income Statement'!FE12,3)","v":0},{"$f":"ROUND('Income Statement'!FF12,3)","v":0},{"$f":"ROUND('Income Statement'!FG12,3)","v":0},{"$f":"ROUND('Income Statement'!FH12,3)","v":0},{"$f":"ROUND('Income Statement'!FI12,3)","v":0},{"$f":"ROUND('Income Statement'!FJ12,3)","v":0},{"$f":"ROUND('Income Statement'!FK12,3)","v":0},{"$f":"ROUND('Income Statement'!FL12,3)","v":0},{"$f":"ROUND('Income Statement'!FM12,3)","v":0},{"$f":"ROUND('Income Statement'!FN12,3)","v":0},{"$f":"ROUND('Income Statement'!FO12,3)","v":0},{"$f":"ROUND('Income Statement'!FP12,3)","v":0},{"$f":"ROUND('Income Statement'!FQ12,3)","v":0},{"$f":"ROUND('Income Statement'!FR12,3)","v":0},{"$f":"ROUND('Income Statement'!FS12,3)","v":0},{"$f":"ROUND('Income Statement'!FT12,3)","v":0},{"$f":"ROUND('Income Statement'!FU12,3)","v":0},{"$f":"ROUND('Income Statement'!FV12,3)","v":0},{"$f":"ROUND('Income Statement'!FW12,3)","v":0},{"$f":"ROUND('Income Statement'!FX12,3)","v":0},{"$f":"ROUND('Income Statement'!FY12,3)","v":0},{"$f":"ROUND('Income Statement'!FZ12,3)","v":0},{"$f":"ROUND('Income Statement'!GA12,3)","v":0},{"$f":"ROUND('Income Statement'!GB12,3)","v":0},{"$f":"ROUND('Income Statement'!GC12,3)","v":0},{"$f":"ROUND('Income Statement'!GD12,3)","v":0},{"$f":"ROUND('Income Statement'!GE12,3)","v":0},{"$f":"ROUND('Income Statement'!GF12,3)","v":0},{"$f":"ROUND('Income Statement'!GG12,3)","v":0},{"$f":"ROUND('Income Statement'!GH12,3)","v":0},{"$f":"ROUND('Income Statement'!GI12,3)","v":0},{"$f":"ROUND('Income Statement'!GJ12,3)","v":0},{"$f":"ROUND('Income Statement'!GK12,3)","v":0},{"$f":"ROUND('Income Statement'!GL12,3)","v":0},{"$f":"ROUND('Income Statement'!GM12,3)","v":0},{"$f":"ROUND('Income Statement'!GN12,3)","v":0},{"$f":"ROUND('Income Statement'!GO12,3)","v":0},{"$f":"ROUND('Income Statement'!GP12,3)","v":0},{"$f":"ROUND('Income Statement'!GQ12,3)","v":0},{"$f":"ROUND('Income Statement'!GR12,3)","v":0},{"$f":"ROUND('Income Statement'!GS12,3)","v":0},{"$f":"ROUND('Income Statement'!GT12,3)","v":0},{"$f":"ROUND('Income Statement'!GU12,3)","v":0},{"$f":"ROUND('Income Statement'!GV12,3)","v":0},{"$f":"ROUND('Income Statement'!GW12,3)","v":0},{"$f":"ROUND('Income Statement'!GX12,3)","v":0},{"$f":"ROUND('Income Statement'!GY12,3)","v":0},{"$f":"ROUND('Income Statement'!GZ12,3)","v":0},{"$f":"ROUND('Income Statement'!HA12,3)","v":0},{"$f":"ROUND('Income Statement'!HB12,3)","v":0},{"$f":"ROUND('Income Statement'!HC12,3)","v":0},{"$f":"ROUND('Income Statement'!HD12,3)","v":0},{"$f":"ROUND('Income Statement'!HE12,3)","v":0},{"$f":"ROUND('Income Statement'!HF12,3)","v":0},{"$f":"ROUND('Income Statement'!HG12,3)","v":0},{"$f":"ROUND('Income Statement'!HH12,3)","v":0},{"$f":"ROUND('Income Statement'!HI12,3)","v":0},{"$f":"ROUND('Income Statement'!HJ12,3)","v":0},{"$f":"ROUND('Income Statement'!HK12,3)","v":0},{"$f":"ROUND('Income Statement'!HL12,3)","v":0},{"$f":"ROUND('Income Statement'!HM12,3)","v":0},{"$f":"ROUND('Income Statement'!HN12,3)","v":0},{"$f":"ROUND('Income Statement'!HO12,3)","v":0},{"$f":"ROUND('Income Statement'!HP12,3)","v":0},{"$f":"ROUND('Income Statement'!HQ12,3)","v":0},{"$f":"ROUND('Income Statement'!HR12,3)","v":0},{"$f":"ROUND('Income Statement'!HS12,3)","v":0},{"$f":"ROUND('Income Statement'!HT12,3)","v":0},{"$f":"ROUND('Income Statement'!HU12,3)","v":0},{"$f":"ROUND('Income Statement'!HV12,3)","v":0},{"$f":"ROUND('Income Statement'!HW12,3)","v":0},{"$f":"ROUND('Income Statement'!HX12,3)","v":0},{"$f":"ROUND('Income Statement'!HY12,3)","v":0},{"$f":"ROUND('Income Statement'!HZ12,3)","v":0},{"$f":"ROUND('Income Statement'!IA12,3)","v":0},{"$f":"ROUND('Income Statement'!IB12,3)","v":0},{"$f":"ROUND('Income Statement'!IC12,3)","v":0},{"$f":"ROUND('Income Statement'!ID12,3)","v":0},{"$f":"ROUND('Income Statement'!IE12,3)","v":0},{"$f":"ROUND('Income Statement'!IF12,3)","v":0},{"$f":"ROUND('Income Statement'!IG12,3)","v":0},{"$f":"ROUND('Income Statement'!IH12,3)","v":0},{"$f":"ROUND('Income Statement'!II12,3)","v":0},{"$f":"ROUND('Income Statement'!IJ12,3)","v":0},{"$f":"ROUND('Income Statement'!IK12,3)","v":0},{"$f":"ROUND('Income Statement'!IL12,3)","v":0},{"$f":"ROUND('Income Statement'!IM12,3)","v":0},{"$f":"ROUND('Income Statement'!IN12,3)","v":0},{"$f":"ROUND('Income Statement'!IO12,3)","v":0},{"$f":"ROUND('Income Statement'!IP12,3)","v":0},{"$f":"ROUND('Income Statement'!IQ12,3)","v":0},{"$f":"ROUND('Income Statement'!IR12,3)","v":0},{"$f":"ROUND('Income Statement'!IS12,3)","v":0},{"$f":"ROUND('Income Statement'!IT12,3)","v":0},{"$f":"ROUND('Income Statement'!IU12,3)","v":0},{"$f":"ROUND('Income Statement'!IV12,3)","v":0},{"$f":"ROUND('Income Statement'!IW12,3)","v":0},{"$f":"ROUND('Income Statement'!IX12,3)","v":0},{"$f":"ROUND('Income Statement'!IY12,3)","v":0},{"$f":"ROUND('Income Statement'!IZ12,3)","v":0},{"$f":"ROUND('Income Statement'!JA12,3)","v":0},{"$f":"ROUND('Income Statement'!JB12,3)","v":0},{"$f":"ROUND('Income Statement'!JC12,3)","v":0},{"$f":"ROUND('Income Statement'!JD12,3)","v":0},{"$f":"ROUND('Income Statement'!JE12,3)","v":0},{"$f":"ROUND('Income Statement'!JF12,3)","v":0},{"$f":"ROUND('Income Statement'!JG12,3)","v":0},{"$f":"ROUND('Income Statement'!JH12,3)","v":0},{"$f":"ROUND('Income Statement'!JI12,3)","v":0},{"$f":"ROUND('Income Statement'!JJ12,3)","v":0},{"$f":"ROUND('Income Statement'!JK12,3)","v":0},{"$f":"ROUND('Income Statement'!JL12,3)","v":0},{"$f":"ROUND('Income Statement'!JM12,3)","v":0},{"$f":"ROUND('Income Statement'!JN12,3)","v":0},{"$f":"ROUND('Income Statement'!JO12,3)","v":0},{"$f":"ROUND('Income Statement'!JP12,3)","v":0},{"$f":"ROUND('Income Statement'!JQ12,3)","v":0},{"$f":"ROUND('Income Statement'!JR12,3)","v":0},{"$f":"ROUND('Income Statement'!JS12,3)","v":0},{"$f":"ROUND('Income Statement'!JT12,3)","v":0},{"$f":"ROUND('Income Statement'!JU12,3)","v":0},{"$f":"ROUND('Income Statement'!JV12,3)","v":0},{"$f":"ROUND('Income Statement'!JW12,3)","v":0},{"$f":"ROUND('Income Statement'!JX12,3)","v":0},{"$f":"ROUND('Income Statement'!JY12,3)","v":0},{"$f":"ROUND('Income Statement'!JZ12,3)","v":0},{"$f":"ROUND('Income Statement'!KA12,3)","v":0},{"$f":"ROUND('Income Statement'!KB12,3)","v":0},{"$f":"ROUND('Income Statement'!KC12,3)","v":0},{"$f":"ROUND('Income Statement'!KD12,3)","v":0},{"$f":"ROUND('Income Statement'!KE12,3)","v":0},{"$f":"ROUND('Income Statement'!KF12,3)","v":0},{"$f":"ROUND('Income Statement'!KG12,3)","v":0},{"$f":"ROUND('Income Statement'!KH12,3)","v":0},{"$f":"ROUND('Income Statement'!KI12,3)","v":0},{"$f":"ROUND('Income Statement'!KJ12,3)","v":0},{"$f":"ROUND('Income Statement'!KK12,3)","v":0},{"$f":"ROUND('Income Statement'!KL12,3)","v":0},{"$f":"ROUND('Income Statement'!KM12,3)","v":0},{"$f":"ROUND('Income Statement'!KN12,3)","v":0},{"$f":"ROUND('Income Statement'!KO12,3)","v":0},{"$f":"ROUND('Income Statement'!KP12,3)","v":0},{"$f":"ROUND('Income Statement'!KQ12,3)","v":0},{"$f":"ROUND('Income Statement'!KR12,3)","v":0},{"$f":"ROUND('Income Statement'!KS12,3)","v":0},{"$f":"ROUND('Income Statement'!KT12,3)","v":0},{"$f":"ROUND('Income Statement'!KU12,3)","v":0},{"$f":"ROUND('Income Statement'!KV12,3)","v":0},{"$f":"ROUND('Income Statement'!KW12,3)","v":0},{"$f":"ROUND('Income Statement'!KX12,3)","v":0},{"$f":"ROUND('Income Statement'!KY12,3)","v":0},{"$f":"ROUND('Income Statement'!KZ12,3)","v":0},{"$f":"ROUND('Income Statement'!LA12,3)","v":0},{"$f":"ROUND('Income Statement'!LB12,3)","v":0},{"$f":"ROUND('Income Statement'!LC12,3)","v":0},{"$f":"ROUND('Income Statement'!LD12,3)","v":0},{"$f":"ROUND('Income Statement'!LE12,3)","v":0},{"$f":"ROUND('Income Statement'!LF12,3)","v":0},{"$f":"ROUND('Income Statement'!LG12,3)","v":0},{"$f":"ROUND('Income Statement'!LH12,3)","v":0},{"$f":"ROUND('Income Statement'!LI12,3)","v":0},{"$f":"ROUND('Income Statement'!LJ12,3)","v":0},{"$f":"ROUND('Income Statement'!LK12,3)","v":0},{"$f":"ROUND('Income Statement'!LL12,3)","v":0},{"$f":"ROUND('Income Statement'!LM12,3)","v":0},{"$f":"ROUND('Income Statement'!LN12,3)","v":0},{"$f":"ROUND('Income Statement'!LO12,3)","v":0},{"$f":"ROUND('Income Statement'!LP12,3)","v":0},{"$f":"ROUND('Income Statement'!LQ12,3)","v":0},{"$f":"ROUND('Income Statement'!LR12,3)","v":0},{"$f":"ROUND('Income Statement'!LS12,3)","v":0},{"$f":"ROUND('Income Statement'!LT12,3)","v":0},{"$f":"ROUND('Income Statement'!LU12,3)","v":0},{"$f":"ROUND('Income Statement'!LV12,3)","v":0},{"$f":"ROUND('Income Statement'!LW12,3)","v":0},{"$f":"ROUND('Income Statement'!LX12,3)","v":0},{"$f":"ROUND('Income Statement'!LY12,3)","v":0},{"$f":"ROUND('Income Statement'!LZ12,3)","v":0},{"$f":"ROUND('Income Statement'!MA12,3)","v":0},{"$f":"ROUND('Income Statement'!MB12,3)","v":0},{"$f":"ROUND('Income Statement'!MC12,3)","v":0},{"$f":"ROUND('Income Statement'!MD12,3)","v":0},{"$f":"ROUND('Income Statement'!ME12,3)","v":0},{"$f":"ROUND('Income Statement'!MF12,3)","v":0},{"$f":"ROUND('Income Statement'!MG12,3)","v":0},{"$f":"ROUND('Income Statement'!MH12,3)","v":0},{"$f":"ROUND('Income Statement'!MI12,3)","v":0},{"$f":"ROUND('Income Statement'!MJ12,3)","v":0},{"$f":"ROUND('Income Statement'!MK12,3)","v":0},{"$f":"ROUND('Income Statement'!ML12,3)","v":0},{"$f":"ROUND('Income Statement'!MM12,3)","v":0},{"$f":"ROUND('Income Statement'!MN12,3)","v":0},{"$f":"ROUND('Income Statement'!MO12,3)","v":0},{"$f":"ROUND('Income Statement'!MP12,3)","v":0},{"$f":"ROUND('Income Statement'!MQ12,3)","v":0},{"$f":"ROUND('Income Statement'!MR12,3)","v":0},{"$f":"ROUND('Income Statement'!MS12,3)","v":0},{"$f":"ROUND('Income Statement'!MT12,3)","v":0},{"$f":"ROUND('Income Statement'!MU12,3)","v":0},{"$f":"ROUND('Income Statement'!MV12,3)","v":0},{"$f":"ROUND('Income Statement'!MW12,3)","v":0},{"$f":"ROUND('Income Statement'!MX12,3)","v":0},{"$f":"ROUND('Income Statement'!MY12,3)","v":0},{"$f":"ROUND('Income Statement'!MZ12,3)","v":0},{"$f":"ROUND('Income Statement'!NA12,3)","v":0},{"$f":"ROUND('Income Statement'!NB12,3)","v":0},{"$f":"ROUND('Income Statement'!NC12,3)","v":0},{"$f":"ROUND('Income Statement'!ND12,3)","v":0},{"$f":"ROUND('Income Statement'!NE12,3)","v":0},{"$f":"ROUND('Income Statement'!NF12,3)","v":0},{"$f":"ROUND('Income Statement'!NG12,3)","v":0},{"$f":"ROUND('Income Statement'!NH12,3)","v":0},{"$f":"ROUND('Income Statement'!NI12,3)","v":0},{"$f":"ROUND('Income Statement'!NJ12,3)","v":0},{"$f":"ROUND('Income Statement'!NK12,3)","v":0},{"$f":"ROUND('Income Statement'!NL12,3)","v":0},{"$f":"ROUND('Income Statement'!NM12,3)","v":0},{"$f":"ROUND('Income Statement'!NN12,3)","v":0},{"$f":"ROUND('Income Statement'!NO12,3)","v":0},{"$f":"ROUND('Income Statement'!NP12,3)","v":0},{"$f":"ROUND('Income Statement'!NQ12,3)","v":0},{"$f":"ROUND('Income Statement'!NR12,3)","v":0},{"$f":"ROUND('Income Statement'!NS12,3)","v":0},{"$f":"ROUND('Income Statement'!NT12,3)","v":0},{"$f":"ROUND('Income Statement'!NU12,3)","v":0},{"$f":"ROUND('Income Statement'!NV12,3)","v":0},{"$f":"ROUND('Income Statement'!NW12,3)","v":0},{"$f":"ROUND('Income Statement'!NX12,3)","v":0},{"$f":"ROUND('Income Statement'!NY12,3)","v":0},{"$f":"ROUND('Income Statement'!NZ12,3)","v":0},{"$f":"ROUND('Income Statement'!OA12,3)","v":0},{"$f":"ROUND('Income Statement'!OB12,3)","v":0},{"$f":"ROUND('Income Statement'!OC12,3)","v":0},{"$f":"ROUND('Income Statement'!OD12,3)","v":0},{"$f":"ROUND('Income Statement'!OE12,3)","v":0},{"$f":"ROUND('Income Statement'!OF12,3)","v":0},{"$f":"ROUND('Income Statement'!OG12,3)","v":0},{"$f":"ROUND('Income Statement'!OH12,3)","v":0},{"$f":"ROUND('Income Statement'!OI12,3)","v":0},{"$f":"ROUND('Income Statement'!OJ12,3)","v":0},{"$f":"ROUND('Income Statement'!OK12,3)","v":0},{"$f":"ROUND('Income Statement'!OL12,3)","v":0},{"$f":"ROUND('Income Statement'!OM12,3)","v":0},{"$f":"ROUND('Income Statement'!ON12,3)","v":0},{"$f":"ROUND('Income Statement'!OO12,3)","v":0},{"$f":"ROUND('Income Statement'!OP12,3)","v":0},{"$f":"ROUND('Income Statement'!OQ12,3)","v":0},{"$f":"ROUND('Income Statement'!OR12,3)","v":0},{"$f":"ROUND('Income Statement'!OS12,3)","v":0},{"$f":"ROUND('Income Statement'!OT12,3)","v":0},{"$f":"ROUND('Income Statement'!OU12,3)","v":0},{"$f":"ROUND('Income Statement'!OV12,3)","v":0},{"$f":"ROUND('Income Statement'!OW12,3)","v":0},{"$f":"ROUND('Income Statement'!OX12,3)","v":0},{"$f":"ROUND('Income Statement'!OY12,3)","v":0},{"$f":"ROUND('Income Statement'!OZ12,3)","v":0},{"$f":"ROUND('Income Statement'!PA12,3)","v":0},{"$f":"ROUND('Income Statement'!PB12,3)","v":0},{"$f":"ROUND('Income Statement'!PC12,3)","v":0},{"$f":"ROUND('Income Statement'!PD12,3)","v":0},{"$f":"ROUND('Income Statement'!PE12,3)","v":0},{"$f":"ROUND('Income Statement'!PF12,3)","v":0},{"$f":"ROUND('Income Statement'!PG12,3)","v":0},{"$f":"ROUND('Income Statement'!PH12,3)","v":0},{"$f":"ROUND('Income Statement'!PI12,3)","v":0},{"$f":"ROUND('Income Statement'!PJ12,3)","v":0},{"$f":"ROUND('Income Statement'!PK12,3)","v":0},{"$f":"ROUND('Income Statement'!PL12,3)","v":0},{"$f":"ROUND('Income Statement'!PM12,3)","v":0},{"$f":"ROUND('Income Statement'!PN12,3)","v":0},{"$f":"ROUND('Income Statement'!PO12,3)","v":0},{"$f":"ROUND('Income Statement'!PP12,3)","v":0},{"$f":"ROUND('Income Statement'!PQ12,3)","v":0},{"$f":"ROUND('Income Statement'!PR12,3)","v":0},{"$f":"ROUND('Income Statement'!PS12,3)","v":0},{"$f":"ROUND('Income Statement'!PT12,3)","v":0},{"$f":"ROUND('Income Statement'!PU12,3)","v":0},{"$f":"ROUND('Income Statement'!PV12,3)","v":0},{"$f":"ROUND('Income Statement'!PW12,3)","v":0},{"$f":"ROUND('Income Statement'!PX12,3)","v":0},{"$f":"ROUND('Income Statement'!PY12,3)","v":0},{"$f":"ROUND('Income Statement'!PZ12,3)","v":0},{"$f":"ROUND('Income Statement'!QA12,3)","v":0},{"$f":"ROUND('Income Statement'!QB12,3)","v":0},{"$f":"ROUND('Income Statement'!QC12,3)","v":0},{"$f":"ROUND('Income Statement'!QD12,3)","v":0},{"$f":"ROUND('Income Statement'!QE12,3)","v":0},{"$f":"ROUND('Income Statement'!QF12,3)","v":0},{"$f":"ROUND('Income Statement'!QG12,3)","v":0},{"$f":"ROUND('Income Statement'!QH12,3)","v":0},{"$f":"ROUND('Income Statement'!QI12,3)","v":0},{"$f":"ROUND('Income Statement'!QJ12,3)","v":0},{"$f":"ROUND('Income Statement'!QK12,3)","v":0},{"$f":"ROUND('Income Statement'!QL12,3)","v":0},{"$f":"ROUND('Income Statement'!QM12,3)","v":0},{"$f":"ROUND('Income Statement'!QN12,3)","v":0},{"$f":"ROUND('Income Statement'!QO12,3)","v":0},{"$f":"ROUND('Income Statement'!QP12,3)","v":0},{"$f":"ROUND('Income Statement'!QQ12,3)","v":0},{"$f":"ROUND('Income Statement'!QR12,3)","v":0},{"$f":"ROUND('Income Statement'!QS12,3)","v":0},{"$f":"ROUND('Income Statement'!QT12,3)","v":0},{"$f":"ROUND('Income Statement'!QU12,3)","v":0},{"$f":"ROUND('Income Statement'!QV12,3)","v":0},{"$f":"ROUND('Income Statement'!QW12,3)","v":0},{"$f":"ROUND('Income Statement'!QX12,3)","v":0},{"$f":"ROUND('Income Statement'!QY12,3)","v":0},{"$f":"ROUND('Income Statement'!QZ12,3)","v":0},{"$f":"ROUND('Income Statement'!RA12,3)","v":0},{"$f":"ROUND('Income Statement'!RB12,3)","v":0},{"$f":"ROUND('Income Statement'!RC12,3)","v":0},{"$f":"ROUND('Income Statement'!RD12,3)","v":0},{"$f":"ROUND('Income Statement'!RE12,3)","v":0},{"$f":"ROUND('Income Statement'!RF12,3)","v":0},{"$f":"ROUND('Income Statement'!RG12,3)","v":0},{"$f":"ROUND('Income Statement'!RH12,3)","v":0},{"$f":"ROUND('Income Statement'!RI12,3)","v":0},{"$f":"ROUND('Income Statement'!RJ12,3)","v":0},{"$f":"ROUND('Income Statement'!RK12,3)","v":0},{"$f":"ROUND('Income Statement'!RL12,3)","v":0},{"$f":"ROUND('Income Statement'!RM12,3)","v":0},{"$f":"ROUND('Income Statement'!RN12,3)","v":0},{"$f":"ROUND('Income Statement'!RO12,3)","v":0},{"$f":"ROUND('Income Statement'!RP12,3)","v":0},{"$f":"ROUND('Income Statement'!RQ12,3)","v":0},{"$f":"ROUND('Income Statement'!RR12,3)","v":0},{"$f":"ROUND('Income Statement'!RS12,3)","v":0},{"$f":"ROUND('Income Statement'!RT12,3)","v":0},{"$f":"ROUND('Income Statement'!RU12,3)","v":0},{"$f":"ROUND('Income Statement'!RV12,3)","v":0},{"$f":"ROUND('Income Statement'!RW12,3)","v":0},{"$f":"ROUND('Income Statement'!RX12,3)","v":0},{"$f":"ROUND('Income Statement'!RY12,3)","v":0},{"$f":"ROUND('Income Statement'!RZ12,3)","v":0},{"$f":"ROUND('Income Statement'!SA12,3)","v":0},{"$f":"ROUND('Income Statement'!SB12,3)","v":0},{"$f":"ROUND('Income Statement'!SC12,3)","v":0},{"$f":"ROUND('Income Statement'!SD12,3)","v":0},{"$f":"ROUND('Income Statement'!SE12,3)","v":0},{"$f":"ROUND('Income Statement'!SF12,3)","v":0},{"$f":"ROUND('Income Statement'!SG12,3)","v":0},{"$f":"ROUND('Income Statement'!SH12,3)","v":0},{"$f":"ROUND('Income Statement'!SI12,3)","v":0},{"$f":"ROUND('Income Statement'!SJ12,3)","v":0},{"$f":"ROUND('Income Statement'!SK12,3)","v":0},{"$f":"ROUND('Income Statement'!SL12,3)","v":0},{"$f":"ROUND('Income Statement'!SM12,3)","v":0},{"$f":"ROUND('Income Statement'!SN12,3)","v":0},{"$f":"ROUND('Income Statement'!SO12,3)","v":0},{"$f":"ROUND('Income Statement'!SP12,3)","v":0},{"$f":"ROUND('Income Statement'!SQ12,3)","v":0},{"$f":"ROUND('Income Statement'!SR12,3)","v":0},{"$f":"ROUND('Income Statement'!SS12,3)","v":0},{"$f":"ROUND('Income Statement'!ST12,3)","v":0},{"$f":"ROUND('Income Statement'!SU12,3)","v":0},{"$f":"ROUND('Income Statement'!SV12,3)","v":0},{"$f":"ROUND('Income Statement'!SW12,3)","v":0},{"$f":"ROUND('Income Statement'!SX12,3)","v":0},{"$f":"ROUND('Income Statement'!SY12,3)","v":0},{"$f":"ROUND('Income Statement'!SZ12,3)","v":0},{"$f":"ROUND('Income Statement'!TA12,3)","v":0},{"$f":"ROUND('Income Statement'!TB12,3)","v":0},{"$f":"ROUND('Income Statement'!TC12,3)","v":0},{"$f":"ROUND('Income Statement'!TD12,3)","v":0},{"$f":"ROUND('Income Statement'!TE12,3)","v":0},{"$f":"ROUND('Income Statement'!TF12,3)","v":0},{"$f":"ROUND('Income Statement'!TG12,3)","v":0},{"$f":"ROUND('Income Statement'!TH12,3)","v":0},{"$f":"ROUND('Income Statement'!TI12,3)","v":0},{"$f":"ROUND('Income Statement'!TJ12,3)","v":0},{"$f":"ROUND('Income Statement'!TK12,3)","v":0},{"$f":"ROUND('Income Statement'!TL12,3)","v":0},{"$f":"ROUND('Income Statement'!TM12,3)","v":0},{"$f":"ROUND('Income Statement'!TN12,3)","v":0},{"$f":"ROUND('Income Statement'!TO12,3)","v":0},{"$f":"ROUND('Income Statement'!TP12,3)","v":0},{"$f":"ROUND('Income Statement'!TQ12,3)","v":0},{"$f":"ROUND('Income Statement'!TR12,3)","v":0},{"$f":"ROUND('Income Statement'!TS12,3)","v":0},{"$f":"ROUND('Income Statement'!TT12,3)","v":0},{"$f":"ROUND('Income Statement'!TU12,3)","v":0},{"$f":"ROUND('Income Statement'!TV12,3)","v":0},{"$f":"ROUND('Income Statement'!TW12,3)","v":0},{"$f":"ROUND('Income Statement'!TX12,3)","v":0},{"$f":"ROUND('Income Statement'!TY12,3)","v":0},{"$f":"ROUND('Income Statement'!TZ12,3)","v":0},{"$f":"ROUND('Income Statement'!UA12,3)","v":0},{"$f":"ROUND('Income Statement'!UB12,3)","v":0},{"$f":"ROUND('Income Statement'!UC12,3)","v":0},{"$f":"ROUND('Income Statement'!UD12,3)","v":0},{"$f":"ROUND('Income Statement'!UE12,3)","v":0},{"$f":"ROUND('Income Statement'!UF12,3)","v":0},{"$f":"ROUND('Income Statement'!UG12,3)","v":0},{"$f":"ROUND('Income Statement'!UH12,3)","v":0},{"$f":"ROUND('Income Statement'!UI12,3)","v":0},{"$f":"ROUND('Income Statement'!UJ12,3)","v":0},{"$f":"ROUND('Income Statement'!UK12,3)","v":0},{"$f":"ROUND('Income Statement'!UL12,3)","v":0},{"$f":"ROUND('Income Statement'!UM12,3)","v":0},{"$f":"ROUND('Income Statement'!UN12,3)","v":0},{"$f":"ROUND('Income Statement'!UO12,3)","v":0},{"$f":"ROUND('Income Statement'!UP12,3)","v":0},{"$f":"ROUND('Income Statement'!UQ12,3)","v":0},{"$f":"ROUND('Income Statement'!UR12,3)","v":0},{"$f":"ROUND('Income Statement'!US12,3)","v":0},{"$f":"ROUND('Income Statement'!UT12,3)","v":0},{"$f":"ROUND('Income Statement'!UU12,3)","v":0},{"$f":"ROUND('Income Statement'!UV12,3)","v":0},{"$f":"ROUND('Income Statement'!UW12,3)","v":0},{"$f":"ROUND('Income Statement'!UX12,3)","v":0},{"$f":"ROUND('Income Statement'!UY12,3)","v":0},{"$f":"ROUND('Income Statement'!UZ12,3)","v":0},{"$f":"ROUND('Income Statement'!VA12,3)","v":0},{"$f":"ROUND('Income Statement'!VB12,3)","v":0},{"$f":"ROUND('Income Statement'!VC12,3)","v":0},{"$f":"ROUND('Income Statement'!VD12,3)","v":0},{"$f":"ROUND('Income Statement'!VE12,3)","v":0},{"$f":"ROUND('Income Statement'!VF12,3)","v":0},{"$f":"ROUND('Income Statement'!VG12,3)","v":0},{"$f":"ROUND('Income Statement'!VH12,3)","v":0},{"$f":"ROUND('Income Statement'!VI12,3)","v":0},{"$f":"ROUND('Income Statement'!VJ12,3)","v":0},{"$f":"ROUND('Income Statement'!VK12,3)","v":0},{"$f":"ROUND('Income Statement'!VL12,3)","v":0},{"$f":"ROUND('Income Statement'!VM12,3)","v":0},{"$f":"ROUND('Income Statement'!VN12,3)","v":0},{"$f":"ROUND('Income Statement'!VO12,3)","v":0},{"$f":"ROUND('Income Statement'!VP12,3)","v":0},{"$f":"ROUND('Income Statement'!VQ12,3)","v":0},{"$f":"ROUND('Income Statement'!VR12,3)","v":0},{"$f":"ROUND('Income Statement'!VS12,3)","v":0},{"$f":"ROUND('Income Statement'!VT12,3)","v":0},{"$f":"ROUND('Income Statement'!VU12,3)","v":0},{"$f":"ROUND('Income Statement'!VV12,3)","v":0},{"$f":"ROUND('Income Statement'!VW12,3)","v":0},{"$f":"ROUND('Income Statement'!VX12,3)","v":0},{"$f":"ROUND('Income Statement'!VY12,3)","v":0},{"$f":"ROUND('Income Statement'!VZ12,3)","v":0},{"$f":"ROUND('Income Statement'!WA12,3)","v":0},{"$f":"ROUND('Income Statement'!WB12,3)","v":0},{"$f":"ROUND('Income Statement'!WC12,3)","v":0},{"$f":"ROUND('Income Statement'!WD12,3)","v":0},{"$f":"ROUND('Income Statement'!WE12,3)","v":0},{"$f":"ROUND('Income Statement'!WF12,3)","v":0},{"$f":"ROUND('Income Statement'!WG12,3)","v":0},{"$f":"ROUND('Income Statement'!WH12,3)","v":0},{"$f":"ROUND('Income Statement'!WI12,3)","v":0},{"$f":"ROUND('Income Statement'!WJ12,3)","v":0},{"$f":"ROUND('Income Statement'!WK12,3)","v":0},{"$f":"ROUND('Income Statement'!WL12,3)","v":0},{"$f":"ROUND('Income Statement'!WM12,3)","v":0},{"$f":"ROUND('Income Statement'!WN12,3)","v":0},{"$f":"ROUND('Income Statement'!WO12,3)","v":0},{"$f":"ROUND('Income Statement'!WP12,3)","v":0},{"$f":"ROUND('Income Statement'!WQ12,3)","v":0},{"$f":"ROUND('Income Statement'!WR12,3)","v":0},{"$f":"ROUND('Income Statement'!WS12,3)","v":0},{"$f":"ROUND('Income Statement'!WT12,3)","v":0},{"$f":"ROUND('Income Statement'!WU12,3)","v":0},{"$f":"ROUND('Income Statement'!WV12,3)","v":0},{"$f":"ROUND('Income Statement'!WW12,3)","v":0},{"$f":"ROUND('Income Statement'!WX12,3)","v":0},{"$f":"ROUND('Income Statement'!WY12,3)","v":0},{"$f":"ROUND('Income Statement'!WZ12,3)","v":0},{"$f":"ROUND('Income Statement'!XA12,3)","v":0},{"$f":"ROUND('Income Statement'!XB12,3)","v":0},{"$f":"ROUND('Income Statement'!XC12,3)","v":0},{"$f":"ROUND('Income Statement'!XD12,3)","v":0},{"$f":"ROUND('Income Statement'!XE12,3)","v":0},{"$f":"ROUND('Income Statement'!XF12,3)","v":0},{"$f":"ROUND('Income Statement'!XG12,3)","v":0},{"$f":"ROUND('Income Statement'!XH12,3)","v":0},{"$f":"ROUND('Income Statement'!XI12,3)","v":0},{"$f":"ROUND('Income Statement'!XJ12,3)","v":0},{"$f":"ROUND('Income Statement'!XK12,3)","v":0},{"$f":"ROUND('Income Statement'!XL12,3)","v":0},{"$f":"ROUND('Income Statement'!XM12,3)","v":0},{"$f":"ROUND('Income Statement'!XN12,3)","v":0},{"$f":"ROUND('Income Statement'!XO12,3)","v":0},{"$f":"ROUND('Income Statement'!XP12,3)","v":0},{"$f":"ROUND('Income Statement'!XQ12,3)","v":0},{"$f":"ROUND('Income Statement'!XR12,3)","v":0},{"$f":"ROUND('Income Statement'!XS12,3)","v":0},{"$f":"ROUND('Income Statement'!XT12,3)","v":0},{"$f":"ROUND('Income Statement'!XU12,3)","v":0},{"$f":"ROUND('Income Statement'!XV12,3)","v":0},{"$f":"ROUND('Income Statement'!XW12,3)","v":0},{"$f":"ROUND('Income Statement'!XX12,3)","v":0},{"$f":"ROUND('Income Statement'!XY12,3)","v":0},{"$f":"ROUND('Income Statement'!XZ12,3)","v":0},{"$f":"ROUND('Income Statement'!YA12,3)","v":0},{"$f":"ROUND('Income Statement'!YB12,3)","v":0},{"$f":"ROUND('Income Statement'!YC12,3)","v":0},{"$f":"ROUND('Income Statement'!YD12,3)","v":0},{"$f":"ROUND('Income Statement'!YE12,3)","v":0},{"$f":"ROUND('Income Statement'!YF12,3)","v":0},{"$f":"ROUND('Income Statement'!YG12,3)","v":0},{"$f":"ROUND('Income Statement'!YH12,3)","v":0},{"$f":"ROUND('Income Statement'!YI12,3)","v":0},{"$f":"ROUND('Income Statement'!YJ12,3)","v":0},{"$f":"ROUND('Income Statement'!YK12,3)","v":0},{"$f":"ROUND('Income Statement'!YL12,3)","v":0},{"$f":"ROUND('Income Statement'!YM12,3)","v":0},{"$f":"ROUND('Income Statement'!YN12,3)","v":0},{"$f":"ROUND('Income Statement'!YO12,3)","v":0},{"$f":"ROUND('Income Statement'!YP12,3)","v":0},{"$f":"ROUND('Income Statement'!YQ12,3)","v":0},{"$f":"ROUND('Income Statement'!YR12,3)","v":0},{"$f":"ROUND('Income Statement'!YS12,3)","v":0},{"$f":"ROUND('Income Statement'!YT12,3)","v":0},{"$f":"ROUND('Income Statement'!YU12,3)","v":0},{"$f":"ROUND('Income Statement'!YV12,3)","v":0},{"$f":"ROUND('Income Statement'!YW12,3)","v":0},{"$f":"ROUND('Income Statement'!YX12,3)","v":0},{"$f":"ROUND('Income Statement'!YY12,3)","v":0},{"$f":"ROUND('Income Statement'!YZ12,3)","v":0},{"$f":"ROUND('Income Statement'!ZA12,3)","v":0},{"$f":"ROUND('Income Statement'!ZB12,3)","v":0},{"$f":"ROUND('Income Statement'!ZC12,3)","v":0},{"$f":"ROUND('Income Statement'!ZD12,3)","v":0},{"$f":"ROUND('Income Statement'!ZE12,3)","v":0},{"$f":"ROUND('Income Statement'!ZF12,3)","v":0},{"$f":"ROUND('Income Statement'!ZG12,3)","v":0},{"$f":"ROUND('Income Statement'!ZH12,3)","v":0},{"$f":"ROUND('Income Statement'!ZI12,3)","v":0},{"$f":"ROUND('Income Statement'!ZJ12,3)","v":0},{"$f":"ROUND('Income Statement'!ZK12,3)","v":0},{"$f":"ROUND('Income Statement'!ZL12,3)","v":0},{"$f":"ROUND('Income Statement'!ZM12,3)","v":0},{"$f":"ROUND('Income Statement'!ZN12,3)","v":0},{"$f":"ROUND('Income Statement'!ZO12,3)","v":0},{"$f":"ROUND('Income Statement'!ZP12,3)","v":0},{"$f":"ROUND('Income Statement'!ZQ12,3)","v":0},{"$f":"ROUND('Income Statement'!ZR12,3)","v":0},{"$f":"ROUND('Income Statement'!ZS12,3)","v":0},{"$f":"ROUND('Income Statement'!ZT12,3)","v":0},{"$f":"ROUND('Income Statement'!ZU12,3)","v":0},{"$f":"ROUND('Income Statement'!ZV12,3)","v":0},{"$f":"ROUND('Income Statement'!ZW12,3)","v":0},{"$f":"ROUND('Income Statement'!ZX12,3)","v":0},{"$f":"ROUND('Income Statement'!ZY12,3)","v":0},{"$f":"ROUND('Income Statement'!ZZ12,3)","v":0},{"$f":"ROUND('Income Statement'!AAA12,3)","v":0},{"$f":"ROUND('Income Statement'!AAB12,3)","v":0},{"$f":"ROUND('Income Statement'!AAC12,3)","v":0},{"$f":"ROUND('Income Statement'!AAD12,3)","v":0},{"$f":"ROUND('Income Statement'!AAE12,3)","v":0},{"$f":"ROUND('Income Statement'!AAF12,3)","v":0},{"$f":"ROUND('Income Statement'!AAG12,3)","v":0},{"$f":"ROUND('Income Statement'!AAH12,3)","v":0},{"$f":"ROUND('Income Statement'!AAI12,3)","v":0},{"$f":"ROUND('Income Statement'!AAJ12,3)","v":0},{"$f":"ROUND('Income Statement'!AAK12,3)","v":0},{"$f":"ROUND('Income Statement'!AAL12,3)","v":0},{"$f":"ROUND('Income Statement'!AAM12,3)","v":0},{"$f":"ROUND('Income Statement'!AAN12,3)","v":0},{"$f":"ROUND('Income Statement'!AAO12,3)","v":0},{"$f":"ROUND('Income Statement'!AAP12,3)","v":0},{"$f":"ROUND('Income Statement'!AAQ12,3)","v":0},{"$f":"ROUND('Income Statement'!AAR12,3)","v":0},{"$f":"ROUND('Income Statement'!AAS12,3)","v":0},{"$f":"ROUND('Income Statement'!AAT12,3)","v":0},{"$f":"ROUND('Income Statement'!AAU12,3)","v":0},{"$f":"ROUND('Income Statement'!AAV12,3)","v":0},{"$f":"ROUND('Income Statement'!AAW12,3)","v":0},{"$f":"ROUND('Income Statement'!AAX12,3)","v":0},{"$f":"ROUND('Income Statement'!AAY12,3)","v":0},{"$f":"ROUND('Income Statement'!AAZ12,3)","v":0},{"$f":"ROUND('Income Statement'!ABA12,3)","v":0},{"$f":"ROUND('Income Statement'!ABB12,3)","v":0},{"$f":"ROUND('Income Statement'!ABC12,3)","v":0},{"$f":"ROUND('Income Statement'!ABD12,3)","v":0},{"$f":"ROUND('Income Statement'!ABE12,3)","v":0},{"$f":"ROUND('Income Statement'!ABF12,3)","v":0},{"$f":"ROUND('Income Statement'!ABG12,3)","v":0},{"$f":"ROUND('Income Statement'!ABH12,3)","v":0},{"$f":"ROUND('Income Statement'!ABI12,3)","v":0},{"$f":"ROUND('Income Statement'!ABJ12,3)","v":0},{"$f":"ROUND('Income Statement'!ABK12,3)","v":0},{"$f":"ROUND('Income Statement'!ABL12,3)","v":0},{"$f":"ROUND('Income Statement'!ABM12,3)","v":0},{"$f":"ROUND('Income Statement'!ABN12,3)","v":0},{"$f":"ROUND('Income Statement'!ABO12,3)","v":0},{"$f":"ROUND('Income Statement'!ABP12,3)","v":0},{"$f":"ROUND('Income Statement'!ABQ12,3)","v":0},{"$f":"ROUND('Income Statement'!ABR12,3)","v":0},{"$f":"ROUND('Income Statement'!ABS12,3)","v":0},{"$f":"ROUND('Income Statement'!ABT12,3)","v":0},{"$f":"ROUND('Income Statement'!ABU12,3)","v":0},{"$f":"ROUND('Income Statement'!ABV12,3)","v":0},{"$f":"ROUND('Income Statement'!ABW12,3)","v":0},{"$f":"ROUND('Income Statement'!ABX12,3)","v":0},{"$f":"ROUND('Income Statement'!ABY12,3)","v":0},{"$f":"ROUND('Income Statement'!ABZ12,3)","v":0},{"$f":"ROUND('Income Statement'!ACA12,3)","v":0},{"$f":"ROUND('Income Statement'!ACB12,3)","v":0},{"$f":"ROUND('Income Statement'!ACC12,3)","v":0},{"$f":"ROUND('Income Statement'!ACD12,3)","v":0},{"$f":"ROUND('Income Statement'!ACE12,3)","v":0},{"$f":"ROUND('Income Statement'!ACF12,3)","v":0},{"$f":"ROUND('Income Statement'!ACG12,3)","v":0},{"$f":"ROUND('Income Statement'!ACH12,3)","v":0},{"$f":"ROUND('Income Statement'!ACI12,3)","v":0},{"$f":"ROUND('Income Statement'!ACJ12,3)","v":0},{"$f":"ROUND('Income Statement'!ACK12,3)","v":0},{"$f":"ROUND('Income Statement'!ACL12,3)","v":0},{"$f":"ROUND('Income Statement'!ACM12,3)","v":0},{"$f":"ROUND('Income Statement'!ACN12,3)","v":0},{"$f":"ROUND('Income Statement'!ACO12,3)","v":0},{"$f":"ROUND('Income Statement'!ACP12,3)","v":0},{"$f":"ROUND('Income Statement'!ACQ12,3)","v":0},{"$f":"ROUND('Income Statement'!ACR12,3)","v":0},{"$f":"ROUND('Income Statement'!ACS12,3)","v":0},{"$f":"ROUND('Income Statement'!ACT12,3)","v":0},{"$f":"ROUND('Income Statement'!ACU12,3)","v":0},{"$f":"ROUND('Income Statement'!ACV12,3)","v":0},{"$f":"ROUND('Income Statement'!ACW12,3)","v":0},{"$f":"ROUND('Income Statement'!ACX12,3)","v":0},{"$f":"ROUND('Income Statement'!ACY12,3)","v":0},{"$f":"ROUND('Income Statement'!ACZ12,3)","v":0},{"$f":"ROUND('Income Statement'!ADA12,3)","v":0},{"$f":"ROUND('Income Statement'!ADB12,3)","v":0},{"$f":"ROUND('Income Statement'!ADC12,3)","v":0},{"$f":"ROUND('Income Statement'!ADD12,3)","v":0},{"$f":"ROUND('Income Statement'!ADE12,3)","v":0},{"$f":"ROUND('Income Statement'!ADF12,3)","v":0},{"$f":"ROUND('Income Statement'!ADG12,3)","v":0},{"$f":"ROUND('Income Statement'!ADH12,3)","v":0},{"$f":"ROUND('Income Statement'!ADI12,3)","v":0},{"$f":"ROUND('Income Statement'!ADJ12,3)","v":0},{"$f":"ROUND('Income Statement'!ADK12,3)","v":0},{"$f":"ROUND('Income Statement'!ADL12,3)","v":0},{"$f":"ROUND('Income Statement'!ADM12,3)","v":0},{"$f":"ROUND('Income Statement'!ADN12,3)","v":0},{"$f":"ROUND('Income Statement'!ADO12,3)","v":0},{"$f":"ROUND('Income Statement'!ADP12,3)","v":0},{"$f":"ROUND('Income Statement'!ADQ12,3)","v":0},{"$f":"ROUND('Income Statement'!ADR12,3)","v":0},{"$f":"ROUND('Income Statement'!ADS12,3)","v":0},{"$f":"ROUND('Income Statement'!ADT12,3)","v":0},{"$f":"ROUND('Income Statement'!ADU12,3)","v":0},{"$f":"ROUND('Income Statement'!ADV12,3)","v":0},{"$f":"ROUND('Income Statement'!ADW12,3)","v":0},{"$f":"ROUND('Income Statement'!ADX12,3)","v":0},{"$f":"ROUND('Income Statement'!ADY12,3)","v":0},{"$f":"ROUND('Income Statement'!ADZ12,3)","v":0},{"$f":"ROUND('Income Statement'!AEA12,3)","v":0},{"$f":"ROUND('Income Statement'!AEB12,3)","v":0},{"$f":"ROUND('Income Statement'!AEC12,3)","v":0},{"$f":"ROUND('Income Statement'!AED12,3)","v":0},{"$f":"ROUND('Income Statement'!AEE12,3)","v":0},{"$f":"ROUND('Income Statement'!AEF12,3)","v":0},{"$f":"ROUND('Income Statement'!AEG12,3)","v":0},{"$f":"ROUND('Income Statement'!AEH12,3)","v":0},{"$f":"ROUND('Income Statement'!AEI12,3)","v":0},{"$f":"ROUND('Income Statement'!AEJ12,3)","v":0},{"$f":"ROUND('Income Statement'!AEK12,3)","v":0},{"$f":"ROUND('Income Statement'!AEL12,3)","v":0},{"$f":"ROUND('Income Statement'!AEM12,3)","v":0},{"$f":"ROUND('Income Statement'!AEN12,3)","v":0},{"$f":"ROUND('Income Statement'!AEO12,3)","v":0},{"$f":"ROUND('Income Statement'!AEP12,3)","v":0},{"$f":"ROUND('Income Statement'!AEQ12,3)","v":0},{"$f":"ROUND('Income Statement'!AER12,3)","v":0},{"$f":"ROUND('Income Statement'!AES12,3)","v":0},{"$f":"ROUND('Income Statement'!AET12,3)","v":0},{"$f":"ROUND('Income Statement'!AEU12,3)","v":0},{"$f":"ROUND('Income Statement'!AEV12,3)","v":0},{"$f":"ROUND('Income Statement'!AEW12,3)","v":0},{"$f":"ROUND('Income Statement'!AEX12,3)","v":0},{"$f":"ROUND('Income Statement'!AEY12,3)","v":0},{"$f":"ROUND('Income Statement'!AEZ12,3)","v":0},{"$f":"ROUND('Income Statement'!AFA12,3)","v":0},{"$f":"ROUND('Income Statement'!AFB12,3)","v":0},{"$f":"ROUND('Income Statement'!AFC12,3)","v":0},{"$f":"ROUND('Income Statement'!AFD12,3)","v":0},{"$f":"ROUND('Income Statement'!AFE12,3)","v":0},{"$f":"ROUND('Income Statement'!AFF12,3)","v":0},{"$f":"ROUND('Income Statement'!AFG12,3)","v":0},{"$f":"ROUND('Income Statement'!AFH12,3)","v":0},{"$f":"ROUND('Income Statement'!AFI12,3)","v":0},{"$f":"ROUND('Income Statement'!AFJ12,3)","v":0},{"$f":"ROUND('Income Statement'!AFK12,3)","v":0},{"$f":"ROUND('Income Statement'!AFL12,3)","v":0},{"$f":"ROUND('Income Statement'!AFM12,3)","v":0},{"$f":"ROUND('Income Statement'!AFN12,3)","v":0},{"$f":"ROUND('Income Statement'!AFO12,3)","v":0},{"$f":"ROUND('Income Statement'!AFP12,3)","v":0},{"$f":"ROUND('Income Statement'!AFQ12,3)","v":0},{"$f":"ROUND('Income Statement'!AFR12,3)","v":0},{"$f":"ROUND('Income Statement'!AFS12,3)","v":0},{"$f":"ROUND('Income Statement'!AFT12,3)","v":0},{"$f":"ROUND('Income Statement'!AFU12,3)","v":0},{"$f":"ROUND('Income Statement'!AFV12,3)","v":0},{"$f":"ROUND('Income Statement'!AFW12,3)","v":0},{"$f":"ROUND('Income Statement'!AFX12,3)","v":0},{"$f":"ROUND('Income Statement'!AFY12,3)","v":0},{"$f":"ROUND('Income Statement'!AFZ12,3)","v":0},{"$f":"ROUND('Income Statement'!AGA12,3)","v":0},{"$f":"ROUND('Income Statement'!AGB12,3)","v":0},{"$f":"ROUND('Income Statement'!AGC12,3)","v":0},{"$f":"ROUND('Income Statement'!AGD12,3)","v":0},{"$f":"ROUND('Income Statement'!AGE12,3)","v":0},{"$f":"ROUND('Income Statement'!AGF12,3)","v":0},{"$f":"ROUND('Income Statement'!AGG12,3)","v":0},{"$f":"ROUND('Income Statement'!AGH12,3)","v":0},{"$f":"ROUND('Income Statement'!AGI12,3)","v":0},{"$f":"ROUND('Income Statement'!AGJ12,3)","v":0},{"$f":"ROUND('Income Statement'!AGK12,3)","v":0},{"$f":"ROUND('Income Statement'!AGL12,3)","v":0},{"$f":"ROUND('Income Statement'!AGM12,3)","v":0},{"$f":"ROUND('Income Statement'!AGN12,3)","v":0},{"$f":"ROUND('Income Statement'!AGO12,3)","v":0},{"$f":"ROUND('Income Statement'!AGP12,3)","v":0},{"$f":"ROUND('Income Statement'!AGQ12,3)","v":0},{"$f":"ROUND('Income Statement'!AGR12,3)","v":0},{"$f":"ROUND('Income Statement'!AGS12,3)","v":0},{"$f":"ROUND('Income Statement'!AGT12,3)","v":0},{"$f":"ROUND('Income Statement'!AGU12,3)","v":0},{"$f":"ROUND('Income Statement'!AGV12,3)","v":0},{"$f":"ROUND('Income Statement'!AGW12,3)","v":0},{"$f":"ROUND('Income Statement'!AGX12,3)","v":0},{"$f":"ROUND('Income Statement'!AGY12,3)","v":0},{"$f":"ROUND('Income Statement'!AGZ12,3)","v":0},{"$f":"ROUND('Income Statement'!AHA12,3)","v":0},{"$f":"ROUND('Income Statement'!AHB12,3)","v":0},{"$f":"ROUND('Income Statement'!AHC12,3)","v":0},{"$f":"ROUND('Income Statement'!AHD12,3)","v":0},{"$f":"ROUND('Income Statement'!AHE12,3)","v":0},{"$f":"ROUND('Income Statement'!AHF12,3)","v":0},{"$f":"ROUND('Income Statement'!AHG12,3)","v":0},{"$f":"ROUND('Income Statement'!AHH12,3)","v":0},{"$f":"ROUND('Income Statement'!AHI12,3)","v":0},{"$f":"ROUND('Income Statement'!AHJ12,3)","v":0},{"$f":"ROUND('Income Statement'!AHK12,3)","v":0},{"$f":"ROUND('Income Statement'!AHL12,3)","v":0},{"$f":"ROUND('Income Statement'!AHM12,3)","v":0},{"$f":"ROUND('Income Statement'!AHN12,3)","v":0},{"$f":"ROUND('Income Statement'!AHO12,3)","v":0},{"$f":"ROUND('Income Statement'!AHP12,3)","v":0},{"$f":"ROUND('Income Statement'!AHQ12,3)","v":0},{"$f":"ROUND('Income Statement'!AHR12,3)","v":0},{"$f":"ROUND('Income Statement'!AHS12,3)","v":0},{"$f":"ROUND('Income Statement'!AHT12,3)","v":0},{"$f":"ROUND('Income Statement'!AHU12,3)","v":0},{"$f":"ROUND('Income Statement'!AHV12,3)","v":0},{"$f":"ROUND('Income Statement'!AHW12,3)","v":0},{"$f":"ROUND('Income Statement'!AHX12,3)","v":0},{"$f":"ROUND('Income Statement'!AHY12,3)","v":0},{"$f":"ROUND('Income Statement'!AHZ12,3)","v":0},{"$f":"ROUND('Income Statement'!AIA12,3)","v":0},{"$f":"ROUND('Income Statement'!AIB12,3)","v":0},{"$f":"ROUND('Income Statement'!AIC12,3)","v":0},{"$f":"ROUND('Income Statement'!AID12,3)","v":0},{"$f":"ROUND('Income Statement'!AIE12,3)","v":0},{"$f":"ROUND('Income Statement'!AIF12,3)","v":0},{"$f":"ROUND('Income Statement'!AIG12,3)","v":0},{"$f":"ROUND('Income Statement'!AIH12,3)","v":0},{"$f":"ROUND('Income Statement'!AII12,3)","v":0},{"$f":"ROUND('Income Statement'!AIJ12,3)","v":0},{"$f":"ROUND('Income Statement'!AIK12,3)","v":0},{"$f":"ROUND('Income Statement'!AIL12,3)","v":0},{"$f":"ROUND('Income Statement'!AIM12,3)","v":0},{"$f":"ROUND('Income Statement'!AIN12,3)","v":0},{"$f":"ROUND('Income Statement'!AIO12,3)","v":0},{"$f":"ROUND('Income Statement'!AIP12,3)","v":0},{"$f":"ROUND('Income Statement'!AIQ12,3)","v":0},{"$f":"ROUND('Income Statement'!AIR12,3)","v":0},{"$f":"ROUND('Income Statement'!AIS12,3)","v":0},{"$f":"ROUND('Income Statement'!AIT12,3)","v":0},{"$f":"ROUND('Income Statement'!AIU12,3)","v":0},{"$f":"ROUND('Income Statement'!AIV12,3)","v":0},{"$f":"ROUND('Income Statement'!AIW12,3)","v":0},{"$f":"ROUND('Income Statement'!AIX12,3)","v":0},{"$f":"ROUND('Income Statement'!AIY12,3)","v":0},{"$f":"ROUND('Income Statement'!AIZ12,3)","v":0},{"$f":"ROUND('Income Statement'!AJA12,3)","v":0},{"$f":"ROUND('Income Statement'!AJB12,3)","v":0},{"$f":"ROUND('Income Statement'!AJC12,3)","v":0},{"$f":"ROUND('Income Statement'!AJD12,3)","v":0},{"$f":"ROUND('Income Statement'!AJE12,3)","v":0},{"$f":"ROUND('Income Statement'!AJF12,3)","v":0},{"$f":"ROUND('Income Statement'!AJG12,3)","v":0},{"$f":"ROUND('Income Statement'!AJH12,3)","v":0},{"$f":"ROUND('Income Statement'!AJI12,3)","v":0},{"$f":"ROUND('Income Statement'!AJJ12,3)","v":0},{"$f":"ROUND('Income Statement'!AJK12,3)","v":0},{"$f":"ROUND('Income Statement'!AJL12,3)","v":0},{"$f":"ROUND('Income Statement'!AJM12,3)","v":0},{"$f":"ROUND('Income Statement'!AJN12,3)","v":0},{"$f":"ROUND('Income Statement'!AJO12,3)","v":0},{"$f":"ROUND('Income Statement'!AJP12,3)","v":0},{"$f":"ROUND('Income Statement'!AJQ12,3)","v":0},{"$f":"ROUND('Income Statement'!AJR12,3)","v":0},{"$f":"ROUND('Income Statement'!AJS12,3)","v":0},{"$f":"ROUND('Income Statement'!AJT12,3)","v":0},{"$f":"ROUND('Income Statement'!AJU12,3)","v":0},{"$f":"ROUND('Income Statement'!AJV12,3)","v":0},{"$f":"ROUND('Income Statement'!AJW12,3)","v":0},{"$f":"ROUND('Income Statement'!AJX12,3)","v":0},{"$f":"ROUND('Income Statement'!AJY12,3)","v":0},{"$f":"ROUND('Income Statement'!AJZ12,3)","v":0},{"$f":"ROUND('Income Statement'!AKA12,3)","v":0},{"$f":"ROUND('Income Statement'!AKB12,3)","v":0},{"$f":"ROUND('Income Statement'!AKC12,3)","v":0},{"$f":"ROUND('Income Statement'!AKD12,3)","v":0},{"$f":"ROUND('Income Statement'!AKE12,3)","v":0},{"$f":"ROUND('Income Statement'!AKF12,3)","v":0},{"$f":"ROUND('Income Statement'!AKG12,3)","v":0},{"$f":"ROUND('Income Statement'!AKH12,3)","v":0},{"$f":"ROUND('Income Statement'!AKI12,3)","v":0},{"$f":"ROUND('Income Statement'!AKJ12,3)","v":0},{"$f":"ROUND('Income Statement'!AKK12,3)","v":0},{"$f":"ROUND('Income Statement'!AKL12,3)","v":0},{"$f":"ROUND('Income Statement'!AKM12,3)","v":0},{"$f":"ROUND('Income Statement'!AKN12,3)","v":0},{"$f":"ROUND('Income Statement'!AKO12,3)","v":0},{"$f":"ROUND('Income Statement'!AKP12,3)","v":0},{"$f":"ROUND('Income Statement'!AKQ12,3)","v":0},{"$f":"ROUND('Income Statement'!AKR12,3)","v":0},{"$f":"ROUND('Income Statement'!AKS12,3)","v":0},{"$f":"ROUND('Income Statement'!AKT12,3)","v":0},{"$f":"ROUND('Income Statement'!AKU12,3)","v":0},{"$f":"ROUND('Income Statement'!AKV12,3)","v":0},{"$f":"ROUND('Income Statement'!AKW12,3)","v":0},{"$f":"ROUND('Income Statement'!AKX12,3)","v":0},{"$f":"ROUND('Income Statement'!AKY12,3)","v":0},{"$f":"ROUND('Income Statement'!AKZ12,3)","v":0},{"$f":"ROUND('Income Statement'!ALA12,3)","v":0},{"$f":"ROUND('Income Statement'!ALB12,3)","v":0},{"$f":"ROUND('Income Statement'!ALC12,3)","v":0},{"$f":"ROUND('Income Statement'!ALD12,3)","v":0},{"$f":"ROUND('Income Statement'!ALE12,3)","v":0},{"$f":"ROUND('Income Statement'!ALF12,3)","v":0},{"$f":"ROUND('Income Statement'!ALG12,3)","v":0},{"$f":"ROUND('Income Statement'!ALH12,3)","v":0},{"$f":"ROUND('Income Statement'!ALI12,3)","v":0},{"$f":"ROUND('Income Statement'!ALJ12,3)","v":0},{"$f":"ROUND('Income Statement'!ALK12,3)","v":0},{"$f":"ROUND('Income Statement'!ALL12,3)","v":0},{"$f":"ROUND('Income Statement'!ALM12,3)","v":0},{"$f":"ROUND('Income Statement'!ALN12,3)","v":0},{"$f":"ROUND('Income Statement'!ALO12,3)","v":0},{"$f":"ROUND('Income Statement'!ALP12,3)","v":0},{"$f":"ROUND('Income Statement'!ALQ12,3)","v":0},{"$f":"ROUND('Income Statement'!ALR12,3)","v":0},{"$f":"ROUND('Income Statement'!ALS12,3)","v":0},{"$f":"ROUND('Income Statement'!ALT12,3)","v":0},{"$f":"ROUND('Income Statement'!ALU12,3)","v":0},{"$f":"ROUND('Income Statement'!ALV12,3)","v":0},{"$f":"ROUND('Income Statement'!ALW12,3)","v":0},{"$f":"ROUND('Income Statement'!ALX12,3)","v":0},{"$f":"ROUND('Income Statement'!ALY12,3)","v":0},{"$f":"ROUND('Income Statement'!ALZ12,3)","v":0},{"$f":"ROUND('Income Statement'!AMA12,3)","v":0},{"$f":"ROUND('Income Statement'!AMB12,3)","v":0},{"$f":"ROUND('Income Statement'!AMC12,3)","v":0},{"$f":"ROUND('Income Statement'!AMD12,3)","v":0},{"$f":"ROUND('Income Statement'!AME12,3)","v":0},{"$f":"ROUND('Income Statement'!AMF12,3)","v":0},{"$f":"ROUND('Income Statement'!AMG12,3)","v":0},{"$f":"ROUND('Income Statement'!AMH12,3)","v":0},{"$f":"ROUND('Income Statement'!AMI12,3)","v":0},{"$f":"ROUND('Income Statement'!AMJ12,3)","v":0},{"$f":"ROUND('Income Statement'!AMK12,3)","v":0},{"$f":"ROUND('Income Statement'!AML12,3)","v":0},{"$f":"ROUND('Income Statement'!AMM12,3)","v":0},{"$f":"ROUND('Income Statement'!AMN12,3)","v":0},{"$f":"ROUND('Income Statement'!AMO12,3)","v":0},{"$f":"ROUND('Income Statement'!AMP12,3)","v":0},{"$f":"ROUND('Income Statement'!AMQ12,3)","v":0},{"$f":"ROUND('Income Statement'!AMR12,3)","v":0},{"$f":"ROUND('Income Statement'!AMS12,3)","v":0},{"$f":"ROUND('Income Statement'!AMT12,3)","v":0},{"$f":"ROUND('Income Statement'!AMU12,3)","v":0},{"$f":"ROUND('Income Statement'!AMV12,3)","v":0},{"$f":"ROUND('Income Statement'!AMW12,3)","v":0},{"$f":"ROUND('Income Statement'!AMX12,3)","v":0},{"$f":"ROUND('Income Statement'!AMY12,3)","v":0},{"$f":"ROUND('Income Statement'!AMZ12,3)","v":0},{"$f":"ROUND('Income Statement'!ANA12,3)","v":0},{"$f":"ROUND('Income Statement'!ANB12,3)","v":0},{"$f":"ROUND('Income Statement'!ANC12,3)","v":0},{"$f":"ROUND('Income Statement'!AND12,3)","v":0},{"$f":"ROUND('Income Statement'!ANE12,3)","v":0},{"$f":"ROUND('Income Statement'!ANF12,3)","v":0},{"$f":"ROUND('Income Statement'!ANG12,3)","v":0},{"$f":"ROUND('Income Statement'!ANH12,3)","v":0},{"$f":"ROUND('Income Statement'!ANI12,3)","v":0},{"$f":"ROUND('Income Statement'!ANJ12,3)","v":0},{"$f":"ROUND('Income Statement'!ANK12,3)","v":0},{"$f":"ROUND('Income Statement'!ANL12,3)","v":0},{"$f":"ROUND('Income Statement'!ANM12,3)","v":0},{"$f":"ROUND('Income Statement'!ANN12,3)","v":0},{"$f":"ROUND('Income Statement'!ANO12,3)","v":0},{"$f":"ROUND('Income Statement'!ANP12,3)","v":0},{"$f":"ROUND('Income Statement'!ANQ12,3)","v":0},{"$f":"ROUND('Income Statement'!ANR12,3)","v":0},{"$f":"ROUND('Income Statement'!ANS12,3)","v":0},{"$f":"ROUND('Income Statement'!ANT12,3)","v":0},{"$f":"ROUND('Income Statement'!ANU12,3)","v":0},{"$f":"ROUND('Income Statement'!ANV12,3)","v":0},{"$f":"ROUND('Income Statement'!ANW12,3)","v":0},{"$f":"ROUND('Income Statement'!ANX12,3)","v":0},{"$f":"ROUND('Income Statement'!ANY12,3)","v":0},{"$f":"ROUND('Income Statement'!ANZ12,3)","v":0},{"$f":"ROUND('Income Statement'!AOA12,3)","v":0},{"$f":"ROUND('Income Statement'!AOB12,3)","v":0},{"$f":"ROUND('Income Statement'!AOC12,3)","v":0},{"$f":"ROUND('Income Statement'!AOD12,3)","v":0},{"$f":"ROUND('Income Statement'!AOE12,3)","v":0},{"$f":"ROUND('Income Statement'!AOF12,3)","v":0},{"$f":"ROUND('Income Statement'!AOG12,3)","v":0},{"$f":"ROUND('Income Statement'!AOH12,3)","v":0},{"$f":"ROUND('Income Statement'!AOI12,3)","v":0},{"$f":"ROUND('Income Statement'!AOJ12,3)","v":0},{"$f":"ROUND('Income Statement'!AOK12,3)","v":0},{"$f":"ROUND('Income Statement'!AOL12,3)","v":0},{"$f":"ROUND('Income Statement'!AOM12,3)","v":0},{"$f":"ROUND('Income Statement'!AON12,3)","v":0},{"$f":"ROUND('Income Statement'!AOO12,3)","v":0},{"$f":"ROUND('Income Statement'!AOP12,3)","v":0},{"$f":"ROUND('Income Statement'!AOQ12,3)","v":0},{"$f":"ROUND('Income Statement'!AOR12,3)","v":0},{"$f":"ROUND('Income Statement'!AOS12,3)","v":0},{"$f":"ROUND('Income Statement'!AOT12,3)","v":0},{"$f":"ROUND('Income Statement'!AOU12,3)","v":0},{"$f":"ROUND('Income Statement'!AOV12,3)","v":0},{"$f":"ROUND('Income Statement'!AOW12,3)","v":0},{"$f":"ROUND('Income Statement'!AOX12,3)","v":0},{"$f":"ROUND('Income Statement'!AOY12,3)","v":0},{"$f":"ROUND('Income Statement'!AOZ12,3)","v":0},{"$f":"ROUND('Income Statement'!APA12,3)","v":0},{"$f":"ROUND('Income Statement'!APB12,3)","v":0},{"$f":"ROUND('Income Statement'!APC12,3)","v":0},{"$f":"ROUND('Income Statement'!APD12,3)","v":0},{"$f":"ROUND('Income Statement'!APE12,3)","v":0},{"$f":"ROUND('Income Statement'!APF12,3)","v":0},{"$f":"ROUND('Income Statement'!APG12,3)","v":0},{"$f":"ROUND('Income Statement'!APH12,3)","v":0},{"$f":"ROUND('Income Statement'!API12,3)","v":0},{"$f":"ROUND('Income Statement'!APJ12,3)","v":0},{"$f":"ROUND('Income Statement'!APK12,3)","v":0},{"$f":"ROUND('Income Statement'!APL12,3)","v":0},{"$f":"ROUND('Income Statement'!APM12,3)","v":0},{"$f":"ROUND('Income Statement'!APN12,3)","v":0},{"$f":"ROUND('Income Statement'!APO12,3)","v":0},{"$f":"ROUND('Income Statement'!APP12,3)","v":0},{"$f":"ROUND('Income Statement'!APQ12,3)","v":0},{"$f":"ROUND('Income Statement'!APR12,3)","v":0},{"$f":"ROUND('Income Statement'!APS12,3)","v":0},{"$f":"ROUND('Income Statement'!APT12,3)","v":0},{"$f":"ROUND('Income Statement'!APU12,3)","v":0},{"$f":"ROUND('Income Statement'!APV12,3)","v":0},{"$f":"ROUND('Income Statement'!APW12,3)","v":0},{"$f":"ROUND('Income Statement'!APX12,3)","v":0},{"$f":"ROUND('Income Statement'!APY12,3)","v":0},{"$f":"ROUND('Income Statement'!APZ12,3)","v":0},{"$f":"ROUND('Income Statement'!AQA12,3)","v":0},{"$f":"ROUND('Income Statement'!AQB12,3)","v":0},{"$f":"ROUND('Income Statement'!AQC12,3)","v":0},{"$f":"ROUND('Income Statement'!AQD12,3)","v":0},{"$f":"ROUND('Income Statement'!AQE12,3)","v":0},{"$f":"ROUND('Income Statement'!AQF12,3)","v":0},{"$f":"ROUND('Income Statement'!AQG12,3)","v":0},{"$f":"ROUND('Income Statement'!AQH12,3)","v":0},{"$f":"ROUND('Income Statement'!AQI12,3)","v":0},{"$f":"ROUND('Income Statement'!AQJ12,3)","v":0},{"$f":"ROUND('Income Statement'!AQK12,3)","v":0},{"$f":"ROUND('Income Statement'!AQL12,3)","v":0},{"$f":"ROUND('Income Statement'!AQM12,3)","v":0},{"$f":"ROUND('Income Statement'!AQN12,3)","v":0},{"$f":"ROUND('Income Statement'!AQO12,3)","v":0},{"$f":"ROUND('Income Statement'!AQP12,3)","v":0},{"$f":"ROUND('Income Statement'!AQQ12,3)","v":0},{"$f":"ROUND('Income Statement'!AQR12,3)","v":0},{"$f":"ROUND('Income Statement'!AQS12,3)","v":0},{"$f":"ROUND('Income Statement'!AQT12,3)","v":0},{"$f":"ROUND('Income Statement'!AQU12,3)","v":0},{"$f":"ROUND('Income Statement'!AQV12,3)","v":0},{"$f":"ROUND('Income Statement'!AQW12,3)","v":0},{"$f":"ROUND('Income Statement'!AQX12,3)","v":0},{"$f":"ROUND('Income Statement'!AQY12,3)","v":0},{"$f":"ROUND('Income Statement'!AQZ12,3)","v":0},{"$f":"ROUND('Income Statement'!ARA12,3)","v":0},{"$f":"ROUND('Income Statement'!ARB12,3)","v":0},{"$f":"ROUND('Income Statement'!ARC12,3)","v":0},{"$f":"ROUND('Income Statement'!ARD12,3)","v":0},{"$f":"ROUND('Income Statement'!ARE12,3)","v":0},{"$f":"ROUND('Income Statement'!ARF12,3)","v":0},{"$f":"ROUND('Income Statement'!ARG12,3)","v":0},{"$f":"ROUND('Income Statement'!ARH12,3)","v":0},{"$f":"ROUND('Income Statement'!ARI12,3)","v":0},{"$f":"ROUND('Income Statement'!ARJ12,3)","v":0},{"$f":"ROUND('Income Statement'!ARK12,3)","v":0},{"$f":"ROUND('Income Statement'!ARL12,3)","v":0},{"$f":"ROUND('Income Statement'!ARM12,3)","v":0},{"$f":"ROUND('Income Statement'!ARN12,3)","v":0},{"$f":"ROUND('Income Statement'!ARO12,3)","v":0},{"$f":"ROUND('Income Statement'!ARP12,3)","v":0},{"$f":"ROUND('Income Statement'!ARQ12,3)","v":0},{"$f":"ROUND('Income Statement'!ARR12,3)","v":0},{"$f":"ROUND('Income Statement'!ARS12,3)","v":0},{"$f":"ROUND('Income Statement'!ART12,3)","v":0},{"$f":"ROUND('Income Statement'!ARU12,3)","v":0},{"$f":"ROUND('Income Statement'!ARV12,3)","v":0},{"$f":"ROUND('Income Statement'!ARW12,3)","v":0},{"$f":"ROUND('Income Statement'!ARX12,3)","v":0},{"$f":"ROUND('Income Statement'!ARY12,3)","v":0},{"$f":"ROUND('Income Statement'!ARZ12,3)","v":0},{"$f":"ROUND('Income Statement'!ASA12,3)","v":0},{"$f":"ROUND('Income Statement'!ASB12,3)","v":0},{"$f":"ROUND('Income Statement'!ASC12,3)","v":0},{"$f":"ROUND('Income Statement'!ASD12,3)","v":0},{"$f":"ROUND('Income Statement'!ASE12,3)","v":0},{"$f":"ROUND('Income Statement'!ASF12,3)","v":0},{"$f":"ROUND('Income Statement'!ASG12,3)","v":0},{"$f":"ROUND('Income Statement'!ASH12,3)","v":0},{"$f":"ROUND('Income Statement'!ASI12,3)","v":0},{"$f":"ROUND('Income Statement'!ASJ12,3)","v":0},{"$f":"ROUND('Income Statement'!ASK12,3)","v":0},{"$f":"ROUND('Income Statement'!ASL12,3)","v":0},{"$f":"ROUND('Income Statement'!ASM12,3)","v":0},{"$f":"ROUND('Income Statement'!ASN12,3)","v":0},{"$f":"ROUND('Income Statement'!ASO12,3)","v":0},{"$f":"ROUND('Income Statement'!ASP12,3)","v":0},{"$f":"ROUND('Income Statement'!ASQ12,3)","v":0},{"$f":"ROUND('Income Statement'!ASR12,3)","v":0},{"$f":"ROUND('Income Statement'!ASS12,3)","v":0},{"$f":"ROUND('Income Statement'!AST12,3)","v":0},{"$f":"ROUND('Income Statement'!ASU12,3)","v":0},{"$f":"ROUND('Income Statement'!ASV12,3)","v":0},{"$f":"ROUND('Income Statement'!ASW12,3)","v":0},{"$f":"ROUND('Income Statement'!ASX12,3)","v":0},{"$f":"ROUND('Income Statement'!ASY12,3)","v":0},{"$f":"ROUND('Income Statement'!ASZ12,3)","v":0},{"$f":"ROUND('Income Statement'!ATA12,3)","v":0},{"$f":"ROUND('Income Statement'!ATB12,3)","v":0},{"$f":"ROUND('Income Statement'!ATC12,3)","v":0},{"$f":"ROUND('Income Statement'!ATD12,3)","v":0},{"$f":"ROUND('Income Statement'!ATE12,3)","v":0},{"$f":"ROUND('Income Statement'!ATF12,3)","v":0},{"$f":"ROUND('Income Statement'!ATG12,3)","v":0},{"$f":"ROUND('Income Statement'!ATH12,3)","v":0},{"$f":"ROUND('Income Statement'!ATI12,3)","v":0},{"$f":"ROUND('Income Statement'!ATJ12,3)","v":0},{"$f":"ROUND('Income Statement'!ATK12,3)","v":0},{"$f":"ROUND('Income Statement'!ATL12,3)","v":0},{"$f":"ROUND('Income Statement'!ATM12,3)","v":0},{"$f":"ROUND('Income Statement'!ATN12,3)","v":0},{"$f":"ROUND('Income Statement'!ATO12,3)","v":0},{"$f":"ROUND('Income Statement'!ATP12,3)","v":0},{"$f":"ROUND('Income Statement'!ATQ12,3)","v":0},{"$f":"ROUND('Income Statement'!ATR12,3)","v":0},{"$f":"ROUND('Income Statement'!ATS12,3)","v":0},{"$f":"ROUND('Income Statement'!ATT12,3)","v":0},{"$f":"ROUND('Income Statement'!ATU12,3)","v":0},{"$f":"ROUND('Income Statement'!ATV12,3)","v":0},{"$f":"ROUND('Income Statement'!ATW12,3)","v":0},{"$f":"ROUND('Income Statement'!ATX12,3)","v":0},{"$f":"ROUND('Income Statement'!ATY12,3)","v":0},{"$f":"ROUND('Income Statement'!ATZ12,3)","v":0},{"$f":"ROUND('Income Statement'!AUA12,3)","v":0},{"$f":"ROUND('Income Statement'!AUB12,3)","v":0},{"$f":"ROUND('Income Statement'!AUC12,3)","v":0},{"$f":"ROUND('Income Statement'!AUD12,3)","v":0},{"$f":"ROUND('Income Statement'!AUE12,3)","v":0},{"$f":"ROUND('Income Statement'!AUF12,3)","v":0},{"$f":"ROUND('Income Statement'!AUG12,3)","v":0},{"$f":"ROUND('Income Statement'!AUH12,3)","v":0},{"$f":"ROUND('Income Statement'!AUI12,3)","v":0},{"$f":"ROUND('Income Statement'!AUJ12,3)","v":0},{"$f":"ROUND('Income Statement'!AUK12,3)","v":0},{"$f":"ROUND('Income Statement'!AUL12,3)","v":0},{"$f":"ROUND('Income Statement'!AUM12,3)","v":0},{"$f":"ROUND('Income Statement'!AUN12,3)","v":0},{"$f":"ROUND('Income Statement'!AUO12,3)","v":0},{"$f":"ROUND('Income Statement'!AUP12,3)","v":0},{"$f":"ROUND('Income Statement'!AUQ12,3)","v":0},{"$f":"ROUND('Income Statement'!AUR12,3)","v":0},{"$f":"ROUND('Income Statement'!AUS12,3)","v":0},{"$f":"ROUND('Income Statement'!AUT12,3)","v":0},{"$f":"ROUND('Income Statement'!AUU12,3)","v":0},{"$f":"ROUND('Income Statement'!AUV12,3)","v":0},{"$f":"ROUND('Income Statement'!AUW12,3)","v":0},{"$f":"ROUND('Income Statement'!AUX12,3)","v":0},{"$f":"ROUND('Income Statement'!AUY12,3)","v":0},{"$f":"ROUND('Income Statement'!AUZ12,3)","v":0},{"$f":"ROUND('Income Statement'!AVA12,3)","v":0},{"$f":"ROUND('Income Statement'!AVB12,3)","v":0},{"$f":"ROUND('Income Statement'!AVC12,3)","v":0},{"$f":"ROUND('Income Statement'!AVD12,3)","v":0},{"$f":"ROUND('Income Statement'!AVE12,3)","v":0},{"$f":"ROUND('Income Statement'!AVF12,3)","v":0},{"$f":"ROUND('Income Statement'!AVG12,3)","v":0},{"$f":"ROUND('Income Statement'!AVH12,3)","v":0},{"$f":"ROUND('Income Statement'!AVI12,3)","v":0},{"$f":"ROUND('Income Statement'!AVJ12,3)","v":0},{"$f":"ROUND('Income Statement'!AVK12,3)","v":0},{"$f":"ROUND('Income Statement'!AVL12,3)","v":0},{"$f":"ROUND('Income Statement'!AVM12,3)","v":0},{"$f":"ROUND('Income Statement'!AVN12,3)","v":0},{"$f":"ROUND('Income Statement'!AVO12,3)","v":0},{"$f":"ROUND('Income Statement'!AVP12,3)","v":0},{"$f":"ROUND('Income Statement'!AVQ12,3)","v":0},{"$f":"ROUND('Income Statement'!AVR12,3)","v":0},{"$f":"ROUND('Income Statement'!AVS12,3)","v":0},{"$f":"ROUND('Income Statement'!AVT12,3)","v":0},{"$f":"ROUND('Income Statement'!AVU12,3)","v":0},{"$f":"ROUND('Income Statement'!AVV12,3)","v":0},{"$f":"ROUND('Income Statement'!AVW12,3)","v":0},{"$f":"ROUND('Income Statement'!AVX12,3)","v":0},{"$f":"ROUND('Income Statement'!AVY12,3)","v":0},{"$f":"ROUND('Income Statement'!AVZ12,3)","v":0},{"$f":"ROUND('Income Statement'!AWA12,3)","v":0},{"$f":"ROUND('Income Statement'!AWB12,3)","v":0},{"$f":"ROUND('Income Statement'!AWC12,3)","v":0},{"$f":"ROUND('Income Statement'!AWD12,3)","v":0},{"$f":"ROUND('Income Statement'!AWE12,3)","v":0},{"$f":"ROUND('Income Statement'!AWF12,3)","v":0},{"$f":"ROUND('Income Statement'!AWG12,3)","v":0},{"$f":"ROUND('Income Statement'!AWH12,3)","v":0},{"$f":"ROUND('Income Statement'!AWI12,3)","v":0},{"$f":"ROUND('Income Statement'!AWJ12,3)","v":0},{"$f":"ROUND('Income Statement'!AWK12,3)","v":0},{"$f":"ROUND('Income Statement'!AWL12,3)","v":0},{"$f":"ROUND('Income Statement'!AWM12,3)","v":0},{"$f":"ROUND('Income Statement'!AWN12,3)","v":0},{"$f":"ROUND('Income Statement'!AWO12,3)","v":0},{"$f":"ROUND('Income Statement'!AWP12,3)","v":0},{"$f":"ROUND('Income Statement'!AWQ12,3)","v":0},{"$f":"ROUND('Income Statement'!AWR12,3)","v":0},{"$f":"ROUND('Income Statement'!AWS12,3)","v":0},{"$f":"ROUND('Income Statement'!AWT12,3)","v":0},{"$f":"ROUND('Income Statement'!AWU12,3)","v":0},{"$f":"ROUND('Income Statement'!AWV12,3)","v":0},{"$f":"ROUND('Income Statement'!AWW12,3)","v":0},{"$f":"ROUND('Income Statement'!AWX12,3)","v":0},{"$f":"ROUND('Income Statement'!AWY12,3)","v":0},{"$f":"ROUND('Income Statement'!AWZ12,3)","v":0},{"$f":"ROUND('Income Statement'!AXA12,3)","v":0},{"$f":"ROUND('Income Statement'!AXB12,3)","v":0},{"$f":"ROUND('Income Statement'!AXC12,3)","v":0},{"$f":"ROUND('Income Statement'!AXD12,3)","v":0},{"$f":"ROUND('Income Statement'!AXE12,3)","v":0},{"$f":"ROUND('Income Statement'!AXF12,3)","v":0},{"$f":"ROUND('Income Statement'!AXG12,3)","v":0},{"$f":"ROUND('Income Statement'!AXH12,3)","v":0},{"$f":"ROUND('Income Statement'!AXI12,3)","v":0},{"$f":"ROUND('Income Statement'!AXJ12,3)","v":0},{"$f":"ROUND('Income Statement'!AXK12,3)","v":0},{"$f":"ROUND('Income Statement'!AXL12,3)","v":0},{"$f":"ROUND('Income Statement'!AXM12,3)","v":0},{"$f":"ROUND('Income Statement'!AXN12,3)","v":0},{"$f":"ROUND('Income Statement'!AXO12,3)","v":0},{"$f":"ROUND('Income Statement'!AXP12,3)","v":0},{"$f":"ROUND('Income Statement'!AXQ12,3)","v":0},{"$f":"ROUND('Income Statement'!AXR12,3)","v":0},{"$f":"ROUND('Income Statement'!AXS12,3)","v":0},{"$f":"ROUND('Income Statement'!AXT12,3)","v":0},{"$f":"ROUND('Income Statement'!AXU12,3)","v":0},{"$f":"ROUND('Income Statement'!AXV12,3)","v":0},{"$f":"ROUND('Income Statement'!AXW12,3)","v":0},{"$f":"ROUND('Income Statement'!AXX12,3)","v":0},{"$f":"ROUND('Income Statement'!AXY12,3)","v":0},{"$f":"ROUND('Income Statement'!AXZ12,3)","v":0},{"$f":"ROUND('Income Statement'!AYA12,3)","v":0},{"$f":"ROUND('Income Statement'!AYB12,3)","v":0},{"$f":"ROUND('Income Statement'!AYC12,3)","v":0},{"$f":"ROUND('Income Statement'!AYD12,3)","v":0},{"$f":"ROUND('Income Statement'!AYE12,3)","v":0},{"$f":"ROUND('Income Statement'!AYF12,3)","v":0},{"$f":"ROUND('Income Statement'!AYG12,3)","v":0},{"$f":"ROUND('Income Statement'!AYH12,3)","v":0},{"$f":"ROUND('Income Statement'!AYI12,3)","v":0},{"$f":"ROUND('Income Statement'!AYJ12,3)","v":0},{"$f":"ROUND('Income Statement'!AYK12,3)","v":0},{"$f":"ROUND('Income Statement'!AYL12,3)","v":0},{"$f":"ROUND('Income Statement'!AYM12,3)","v":0},{"$f":"ROUND('Income Statement'!AYN12,3)","v":0},{"$f":"ROUND('Income Statement'!AYO12,3)","v":0},{"$f":"ROUND('Income Statement'!AYP12,3)","v":0},{"$f":"ROUND('Income Statement'!AYQ12,3)","v":0},{"$f":"ROUND('Income Statement'!AYR12,3)","v":0},{"$f":"ROUND('Income Statement'!AYS12,3)","v":0},{"$f":"ROUND('Income Statement'!AYT12,3)","v":0},{"$f":"ROUND('Income Statement'!AYU12,3)","v":0},{"$f":"ROUND('Income Statement'!AYV12,3)","v":0},{"$f":"ROUND('Income Statement'!AYW12,3)","v":0},{"$f":"ROUND('Income Statement'!AYX12,3)","v":0},{"$f":"ROUND('Income Statement'!AYY12,3)","v":0},{"$f":"ROUND('Income Statement'!AYZ12,3)","v":0},{"$f":"ROUND('Income Statement'!AZA12,3)","v":0},{"$f":"ROUND('Income Statement'!AZB12,3)","v":0},{"$f":"ROUND('Income Statement'!AZC12,3)","v":0},{"$f":"ROUND('Income Statement'!AZD12,3)","v":0},{"$f":"ROUND('Income Statement'!AZE12,3)","v":0},{"$f":"ROUND('Income Statement'!AZF12,3)","v":0},{"$f":"ROUND('Income Statement'!AZG12,3)","v":0},{"$f":"ROUND('Income Statement'!AZH12,3)","v":0},{"$f":"ROUND('Income Statement'!AZI12,3)","v":0},{"$f":"ROUND('Income Statement'!AZJ12,3)","v":0},{"$f":"ROUND('Income Statement'!AZK12,3)","v":0},{"$f":"ROUND('Income Statement'!AZL12,3)","v":0},{"$f":"ROUND('Income Statement'!AZM12,3)","v":0},{"$f":"ROUND('Income Statement'!AZN12,3)","v":0},{"$f":"ROUND('Income Statement'!AZO12,3)","v":0},{"$f":"ROUND('Income Statement'!AZP12,3)","v":0},{"$f":"ROUND('Income Statement'!AZQ12,3)","v":0},{"$f":"ROUND('Income Statement'!AZR12,3)","v":0},{"$f":"ROUND('Income Statement'!AZS12,3)","v":0},{"$f":"ROUND('Income Statement'!AZT12,3)","v":0},{"$f":"ROUND('Income Statement'!AZU12,3)","v":0},{"$f":"ROUND('Income Statement'!AZV12,3)","v":0},{"$f":"ROUND('Income Statement'!AZW12,3)","v":0},{"$f":"ROUND('Income Statement'!AZX12,3)","v":0},{"$f":"ROUND('Income Statement'!AZY12,3)","v":0},{"$f":"ROUND('Income Statement'!AZZ12,3)","v":0},{"$f":"ROUND('Income Statement'!BAA12,3)","v":0},{"$f":"ROUND('Income Statement'!BAB12,3)","v":0},{"$f":"ROUND('Income Statement'!BAC12,3)","v":0},{"$f":"ROUND('Income Statement'!BAD12,3)","v":0},{"$f":"ROUND('Income Statement'!BAE12,3)","v":0},{"$f":"ROUND('Income Statement'!BAF12,3)","v":0},{"$f":"ROUND('Income Statement'!BAG12,3)","v":0},{"$f":"ROUND('Income Statement'!BAH12,3)","v":0},{"$f":"ROUND('Income Statement'!BAI12,3)","v":0},{"$f":"ROUND('Income Statement'!BAJ12,3)","v":0},{"$f":"ROUND('Income Statement'!BAK12,3)","v":0},{"$f":"ROUND('Income Statement'!BAL12,3)","v":0},{"$f":"ROUND('Income Statement'!BAM12,3)","v":0},{"$f":"ROUND('Income Statement'!BAN12,3)","v":0},{"$f":"ROUND('Income Statement'!BAO12,3)","v":0},{"$f":"ROUND('Income Statement'!BAP12,3)","v":0},{"$f":"ROUND('Income Statement'!BAQ12,3)","v":0},{"$f":"ROUND('Income Statement'!BAR12,3)","v":0},{"$f":"ROUND('Income Statement'!BAS12,3)","v":0},{"$f":"ROUND('Income Statement'!BAT12,3)","v":0},{"$f":"ROUND('Income Statement'!BAU12,3)","v":0},{"$f":"ROUND('Income Statement'!BAV12,3)","v":0},{"$f":"ROUND('Income Statement'!BAW12,3)","v":0},{"$f":"ROUND('Income Statement'!BAX12,3)","v":0},{"$f":"ROUND('Income Statement'!BAY12,3)","v":0},{"$f":"ROUND('Income Statement'!BAZ12,3)","v":0},{"$f":"ROUND('Income Statement'!BBA12,3)","v":0},{"$f":"ROUND('Income Statement'!BBB12,3)","v":0},{"$f":"ROUND('Income Statement'!BBC12,3)","v":0},{"$f":"ROUND('Income Statement'!BBD12,3)","v":0},{"$f":"ROUND('Income Statement'!BBE12,3)","v":0},{"$f":"ROUND('Income Statement'!BBF12,3)","v":0},{"$f":"ROUND('Income Statement'!BBG12,3)","v":0},{"$f":"ROUND('Income Statement'!BBH12,3)","v":0},{"$f":"ROUND('Income Statement'!BBI12,3)","v":0},{"$f":"ROUND('Income Statement'!BBJ12,3)","v":0},{"$f":"ROUND('Income Statement'!BBK12,3)","v":0},{"$f":"ROUND('Income Statement'!BBL12,3)","v":0},{"$f":"ROUND('Income Statement'!BBM12,3)","v":0},{"$f":"ROUND('Income Statement'!BBN12,3)","v":0},{"$f":"ROUND('Income Statement'!BBO12,3)","v":0},{"$f":"ROUND('Income Statement'!BBP12,3)","v":0},{"$f":"ROUND('Income Statement'!BBQ12,3)","v":0},{"$f":"ROUND('Income Statement'!BBR12,3)","v":0},{"$f":"ROUND('Income Statement'!BBS12,3)","v":0},{"$f":"ROUND('Income Statement'!BBT12,3)","v":0},{"$f":"ROUND('Income Statement'!BBU12,3)","v":0},{"$f":"ROUND('Income Statement'!BBV12,3)","v":0},{"$f":"ROUND('Income Statement'!BBW12,3)","v":0},{"$f":"ROUND('Income Statement'!BBX12,3)","v":0},{"$f":"ROUND('Income Statement'!BBY12,3)","v":0},{"$f":"ROUND('Income Statement'!BBZ12,3)","v":0},{"$f":"ROUND('Income Statement'!BCA12,3)","v":0},{"$f":"ROUND('Income Statement'!BCB12,3)","v":0},{"$f":"ROUND('Income Statement'!BCC12,3)","v":0},{"$f":"ROUND('Income Statement'!BCD12,3)","v":0},{"$f":"ROUND('Income Statement'!BCE12,3)","v":0},{"$f":"ROUND('Income Statement'!BCF12,3)","v":0},{"$f":"ROUND('Income Statement'!BCG12,3)","v":0},{"$f":"ROUND('Income Statement'!BCH12,3)","v":0},{"$f":"ROUND('Income Statement'!BCI12,3)","v":0},{"$f":"ROUND('Income Statement'!BCJ12,3)","v":0},{"$f":"ROUND('Income Statement'!BCK12,3)","v":0},{"$f":"ROUND('Income Statement'!BCL12,3)","v":0},{"$f":"ROUND('Income Statement'!BCM12,3)","v":0},{"$f":"ROUND('Income Statement'!BCN12,3)","v":0},{"$f":"ROUND('Income Statement'!BCO12,3)","v":0},{"$f":"ROUND('Income Statement'!BCP12,3)","v":0},{"$f":"ROUND('Income Statement'!BCQ12,3)","v":0},{"$f":"ROUND('Income Statement'!BCR12,3)","v":0},{"$f":"ROUND('Income Statement'!BCS12,3)","v":0},{"$f":"ROUND('Income Statement'!BCT12,3)","v":0},{"$f":"ROUND('Income Statement'!BCU12,3)","v":0},{"$f":"ROUND('Income Statement'!BCV12,3)","v":0},{"$f":"ROUND('Income Statement'!BCW12,3)","v":0},{"$f":"ROUND('Income Statement'!BCX12,3)","v":0},{"$f":"ROUND('Income Statement'!BCY12,3)","v":0},{"$f":"ROUND('Income Statement'!BCZ12,3)","v":0},{"$f":"ROUND('Income Statement'!BDA12,3)","v":0},{"$f":"ROUND('Income Statement'!BDB12,3)","v":0},{"$f":"ROUND('Income Statement'!BDC12,3)","v":0},{"$f":"ROUND('Income Statement'!BDD12,3)","v":0},{"$f":"ROUND('Income Statement'!BDE12,3)","v":0},{"$f":"ROUND('Income Statement'!BDF12,3)","v":0},{"$f":"ROUND('Income Statement'!BDG12,3)","v":0},{"$f":"ROUND('Income Statement'!BDH12,3)","v":0},{"$f":"ROUND('Income Statement'!BDI12,3)","v":0},{"$f":"ROUND('Income Statement'!BDJ12,3)","v":0},{"$f":"ROUND('Income Statement'!BDK12,3)","v":0},{"$f":"ROUND('Income Statement'!BDL12,3)","v":0},{"$f":"ROUND('Income Statement'!BDM12,3)","v":0},{"$f":"ROUND('Income Statement'!BDN12,3)","v":0},{"$f":"ROUND('Income Statement'!BDO12,3)","v":0},{"$f":"ROUND('Income Statement'!BDP12,3)","v":0},{"$f":"ROUND('Income Statement'!BDQ12,3)","v":0},{"$f":"ROUND('Income Statement'!BDR12,3)","v":0},{"$f":"ROUND('Income Statement'!BDS12,3)","v":0},{"$f":"ROUND('Income Statement'!BDT12,3)","v":0},{"$f":"ROUND('Income Statement'!BDU12,3)","v":0},{"$f":"ROUND('Income Statement'!BDV12,3)","v":0},{"$f":"ROUND('Income Statement'!BDW12,3)","v":0},{"$f":"ROUND('Income Statement'!BDX12,3)","v":0},{"$f":"ROUND('Income Statement'!BDY12,3)","v":0},{"$f":"ROUND('Income Statement'!BDZ12,3)","v":0},{"$f":"ROUND('Income Statement'!BEA12,3)","v":0},{"$f":"ROUND('Income Statement'!BEB12,3)","v":0},{"$f":"ROUND('Income Statement'!BEC12,3)","v":0},{"$f":"ROUND('Income Statement'!BED12,3)","v":0},{"$f":"ROUND('Income Statement'!BEE12,3)","v":0},{"$f":"ROUND('Income Statement'!BEF12,3)","v":0},{"$f":"ROUND('Income Statement'!BEG12,3)","v":0},{"$f":"ROUND('Income Statement'!BEH12,3)","v":0},{"$f":"ROUND('Income Statement'!BEI12,3)","v":0},{"$f":"ROUND('Income Statement'!BEJ12,3)","v":0},{"$f":"ROUND('Income Statement'!BEK12,3)","v":0},{"$f":"ROUND('Income Statement'!BEL12,3)","v":0},{"$f":"ROUND('Income Statement'!BEM12,3)","v":0},{"$f":"ROUND('Income Statement'!BEN12,3)","v":0},{"$f":"ROUND('Income Statement'!BEO12,3)","v":0},{"$f":"ROUND('Income Statement'!BEP12,3)","v":0},{"$f":"ROUND('Income Statement'!BEQ12,3)","v":0},{"$f":"ROUND('Income Statement'!BER12,3)","v":0},{"$f":"ROUND('Income Statement'!BES12,3)","v":0},{"$f":"ROUND('Income Statement'!BET12,3)","v":0},{"$f":"ROUND('Income Statement'!BEU12,3)","v":0},{"$f":"ROUND('Income Statement'!BEV12,3)","v":0},{"$f":"ROUND('Income Statement'!BEW12,3)","v":0},{"$f":"ROUND('Income Statement'!BEX12,3)","v":0},{"$f":"ROUND('Income Statement'!BEY12,3)","v":0},{"$f":"ROUND('Income Statement'!BEZ12,3)","v":0},{"$f":"ROUND('Income Statement'!BFA12,3)","v":0},{"$f":"ROUND('Income Statement'!BFB12,3)","v":0},{"$f":"ROUND('Income Statement'!BFC12,3)","v":0},{"$f":"ROUND('Income Statement'!BFD12,3)","v":0},{"$f":"ROUND('Income Statement'!BFE12,3)","v":0},{"$f":"ROUND('Income Statement'!BFF12,3)","v":0},{"$f":"ROUND('Income Statement'!BFG12,3)","v":0},{"$f":"ROUND('Income Statement'!BFH12,3)","v":0},{"$f":"ROUND('Income Statement'!BFI12,3)","v":0},{"$f":"ROUND('Income Statement'!BFJ12,3)","v":0},{"$f":"ROUND('Income Statement'!BFK12,3)","v":0},{"$f":"ROUND('Income Statement'!BFL12,3)","v":0},{"$f":"ROUND('Income Statement'!BFM12,3)","v":0},{"$f":"ROUND('Income Statement'!BFN12,3)","v":0},{"$f":"ROUND('Income Statement'!BFO12,3)","v":0},{"$f":"ROUND('Income Statement'!BFP12,3)","v":0},{"$f":"ROUND('Income Statement'!BFQ12,3)","v":0},{"$f":"ROUND('Income Statement'!BFR12,3)","v":0},{"$f":"ROUND('Income Statement'!BFS12,3)","v":0},{"$f":"ROUND('Income Statement'!BFT12,3)","v":0},{"$f":"ROUND('Income Statement'!BFU12,3)","v":0},{"$f":"ROUND('Income Statement'!BFV12,3)","v":0},{"$f":"ROUND('Income Statement'!BFW12,3)","v":0},{"$f":"ROUND('Income Statement'!BFX12,3)","v":0},{"$f":"ROUND('Income Statement'!BFY12,3)","v":0},{"$f":"ROUND('Income Statement'!BFZ12,3)","v":0},{"$f":"ROUND('Income Statement'!BGA12,3)","v":0},{"$f":"ROUND('Income Statement'!BGB12,3)","v":0},{"$f":"ROUND('Income Statement'!BGC12,3)","v":0},{"$f":"ROUND('Income Statement'!BGD12,3)","v":0},{"$f":"ROUND('Income Statement'!BGE12,3)","v":0},{"$f":"ROUND('Income Statement'!BGF12,3)","v":0},{"$f":"ROUND('Income Statement'!BGG12,3)","v":0},{"$f":"ROUND('Income Statement'!BGH12,3)","v":0},{"$f":"ROUND('Income Statement'!BGI12,3)","v":0},{"$f":"ROUND('Income Statement'!BGJ12,3)","v":0},{"$f":"ROUND('Income Statement'!BGK12,3)","v":0},{"$f":"ROUND('Income Statement'!BGL12,3)","v":0},{"$f":"ROUND('Income Statement'!BGM12,3)","v":0},{"$f":"ROUND('Income Statement'!BGN12,3)","v":0},{"$f":"ROUND('Income Statement'!BGO12,3)","v":0},{"$f":"ROUND('Income Statement'!BGP12,3)","v":0},{"$f":"ROUND('Income Statement'!BGQ12,3)","v":0},{"$f":"ROUND('Income Statement'!BGR12,3)","v":0},{"$f":"ROUND('Income Statement'!BGS12,3)","v":0},{"$f":"ROUND('Income Statement'!BGT12,3)","v":0},{"$f":"ROUND('Income Statement'!BGU12,3)","v":0},{"$f":"ROUND('Income Statement'!BGV12,3)","v":0},{"$f":"ROUND('Income Statement'!BGW12,3)","v":0},{"$f":"ROUND('Income Statement'!BGX12,3)","v":0},{"$f":"ROUND('Income Statement'!BGY12,3)","v":0},{"$f":"ROUND('Income Statement'!BGZ12,3)","v":0},{"$f":"ROUND('Income Statement'!BHA12,3)","v":0},{"$f":"ROUND('Income Statement'!BHB12,3)","v":0},{"$f":"ROUND('Income Statement'!BHC12,3)","v":0},{"$f":"ROUND('Income Statement'!BHD12,3)","v":0},{"$f":"ROUND('Income Statement'!BHE12,3)","v":0},{"$f":"ROUND('Income Statement'!BHF12,3)","v":0},{"$f":"ROUND('Income Statement'!BHG12,3)","v":0},{"$f":"ROUND('Income Statement'!BHH12,3)","v":0},{"$f":"ROUND('Income Statement'!BHI12,3)","v":0},{"$f":"ROUND('Income Statement'!BHJ12,3)","v":0},{"$f":"ROUND('Income Statement'!BHK12,3)","v":0},{"$f":"ROUND('Income Statement'!BHL12,3)","v":0},{"$f":"ROUND('Income Statement'!BHM12,3)","v":0},{"$f":"ROUND('Income Statement'!BHN12,3)","v":0},{"$f":"ROUND('Income Statement'!BHO12,3)","v":0},{"$f":"ROUND('Income Statement'!BHP12,3)","v":0},{"$f":"ROUND('Income Statement'!BHQ12,3)","v":0},{"$f":"ROUND('Income Statement'!BHR12,3)","v":0},{"$f":"ROUND('Income Statement'!BHS12,3)","v":0},{"$f":"ROUND('Income Statement'!BHT12,3)","v":0},{"$f":"ROUND('Income Statement'!BHU12,3)","v":0},{"$f":"ROUND('Income Statement'!BHV12,3)","v":0},{"$f":"ROUND('Income Statement'!BHW12,3)","v":0},{"$f":"ROUND('Income Statement'!BHX12,3)","v":0},{"$f":"ROUND('Income Statement'!BHY12,3)","v":0},{"$f":"ROUND('Income Statement'!BHZ12,3)","v":0},{"$f":"ROUND('Income Statement'!BIA12,3)","v":0},{"$f":"ROUND('Income Statement'!BIB12,3)","v":0},{"$f":"ROUND('Income Statement'!BIC12,3)","v":0},{"$f":"ROUND('Income Statement'!BID12,3)","v":0},{"$f":"ROUND('Income Statement'!BIE12,3)","v":0},{"$f":"ROUND('Income Statement'!BIF12,3)","v":0},{"$f":"ROUND('Income Statement'!BIG12,3)","v":0},{"$f":"ROUND('Income Statement'!BIH12,3)","v":0},{"$f":"ROUND('Income Statement'!BII12,3)","v":0},{"$f":"ROUND('Income Statement'!BIJ12,3)","v":0},{"$f":"ROUND('Income Statement'!BIK12,3)","v":0},{"$f":"ROUND('Income Statement'!BIL12,3)","v":0},{"$f":"ROUND('Income Statement'!BIM12,3)","v":0},{"$f":"ROUND('Income Statement'!BIN12,3)","v":0},{"$f":"ROUND('Income Statement'!BIO12,3)","v":0},{"$f":"ROUND('Income Statement'!BIP12,3)","v":0},{"$f":"ROUND('Income Statement'!BIQ12,3)","v":0},{"$f":"ROUND('Income Statement'!BIR12,3)","v":0},{"$f":"ROUND('Income Statement'!BIS12,3)","v":0},{"$f":"ROUND('Income Statement'!BIT12,3)","v":0},{"$f":"ROUND('Income Statement'!BIU12,3)","v":0},{"$f":"ROUND('Income Statement'!BIV12,3)","v":0},{"$f":"ROUND('Income Statement'!BIW12,3)","v":0},{"$f":"ROUND('Income Statement'!BIX12,3)","v":0},{"$f":"ROUND('Income Statement'!BIY12,3)","v":0},{"$f":"ROUND('Income Statement'!BIZ12,3)","v":0},{"$f":"ROUND('Income Statement'!BJA12,3)","v":0},{"$f":"ROUND('Income Statement'!BJB12,3)","v":0},{"$f":"ROUND('Income Statement'!BJC12,3)","v":0},{"$f":"ROUND('Income Statement'!BJD12,3)","v":0},{"$f":"ROUND('Income Statement'!BJE12,3)","v":0},{"$f":"ROUND('Income Statement'!BJF12,3)","v":0},{"$f":"ROUND('Income Statement'!BJG12,3)","v":0},{"$f":"ROUND('Income Statement'!BJH12,3)","v":0},{"$f":"ROUND('Income Statement'!BJI12,3)","v":0},{"$f":"ROUND('Income Statement'!BJJ12,3)","v":0},{"$f":"ROUND('Income Statement'!BJK12,3)","v":0},{"$f":"ROUND('Income Statement'!BJL12,3)","v":0},{"$f":"ROUND('Income Statement'!BJM12,3)","v":0},{"$f":"ROUND('Income Statement'!BJN12,3)","v":0},{"$f":"ROUND('Income Statement'!BJO12,3)","v":0},{"$f":"ROUND('Income Statement'!BJP12,3)","v":0},{"$f":"ROUND('Income Statement'!BJQ12,3)","v":0},{"$f":"ROUND('Income Statement'!BJR12,3)","v":0},{"$f":"ROUND('Income Statement'!BJS12,3)","v":0},{"$f":"ROUND('Income Statement'!BJT12,3)","v":0},{"$f":"ROUND('Income Statement'!BJU12,3)","v":0},{"$f":"ROUND('Income Statement'!BJV12,3)","v":0},{"$f":"ROUND('Income Statement'!BJW12,3)","v":0},{"$f":"ROUND('Income Statement'!BJX12,3)","v":0},{"$f":"ROUND('Income Statement'!BJY12,3)","v":0},{"$f":"ROUND('Income Statement'!BJZ12,3)","v":0},{"$f":"ROUND('Income Statement'!BKA12,3)","v":0},{"$f":"ROUND('Income Statement'!BKB12,3)","v":0},{"$f":"ROUND('Income Statement'!BKC12,3)","v":0},{"$f":"ROUND('Income Statement'!BKD12,3)","v":0},{"$f":"ROUND('Income Statement'!BKE12,3)","v":0},{"$f":"ROUND('Income Statement'!BKF12,3)","v":0},{"$f":"ROUND('Income Statement'!BKG12,3)","v":0},{"$f":"ROUND('Income Statement'!BKH12,3)","v":0},{"$f":"ROUND('Income Statement'!BKI12,3)","v":0},{"$f":"ROUND('Income Statement'!BKJ12,3)","v":0},{"$f":"ROUND('Income Statement'!BKK12,3)","v":0},{"$f":"ROUND('Income Statement'!BKL12,3)","v":0},{"$f":"ROUND('Income Statement'!BKM12,3)","v":0},{"$f":"ROUND('Income Statement'!BKN12,3)","v":0},{"$f":"ROUND('Income Statement'!BKO12,3)","v":0},{"$f":"ROUND('Income Statement'!BKP12,3)","v":0},{"$f":"ROUND('Income Statement'!BKQ12,3)","v":0},{"$f":"ROUND('Income Statement'!BKR12,3)","v":0},{"$f":"ROUND('Income Statement'!BKS12,3)","v":0},{"$f":"ROUND('Income Statement'!BKT12,3)","v":0},{"$f":"ROUND('Income Statement'!BKU12,3)","v":0},{"$f":"ROUND('Income Statement'!BKV12,3)","v":0},{"$f":"ROUND('Income Statement'!BKW12,3)","v":0},{"$f":"ROUND('Income Statement'!BKX12,3)","v":0},{"$f":"ROUND('Income Statement'!BKY12,3)","v":0},{"$f":"ROUND('Income Statement'!BKZ12,3)","v":0},{"$f":"ROUND('Income Statement'!BLA12,3)","v":0},{"$f":"ROUND('Income Statement'!BLB12,3)","v":0},{"$f":"ROUND('Income Statement'!BLC12,3)","v":0},{"$f":"ROUND('Income Statement'!BLD12,3)","v":0},{"$f":"ROUND('Income Statement'!BLE12,3)","v":0},{"$f":"ROUND('Income Statement'!BLF12,3)","v":0},{"$f":"ROUND('Income Statement'!BLG12,3)","v":0},{"$f":"ROUND('Income Statement'!BLH12,3)","v":0},{"$f":"ROUND('Income Statement'!BLI12,3)","v":0},{"$f":"ROUND('Income Statement'!BLJ12,3)","v":0},{"$f":"ROUND('Income Statement'!BLK12,3)","v":0},{"$f":"ROUND('Income Statement'!BLL12,3)","v":0},{"$f":"ROUND('Income Statement'!BLM12,3)","v":0},{"$f":"ROUND('Income Statement'!BLN12,3)","v":0},{"$f":"ROUND('Income Statement'!BLO12,3)","v":0},{"$f":"ROUND('Income Statement'!BLP12,3)","v":0},{"$f":"ROUND('Income Statement'!BLQ12,3)","v":0},{"$f":"ROUND('Income Statement'!BLR12,3)","v":0},{"$f":"ROUND('Income Statement'!BLS12,3)","v":0},{"$f":"ROUND('Income Statement'!BLT12,3)","v":0},{"$f":"ROUND('Income Statement'!BLU12,3)","v":0},{"$f":"ROUND('Income Statement'!BLV12,3)","v":0},{"$f":"ROUND('Income Statement'!BLW12,3)","v":0},{"$f":"ROUND('Income Statement'!BLX12,3)","v":0},{"$f":"ROUND('Income Statement'!BLY12,3)","v":0},{"$f":"ROUND('Income Statement'!BLZ12,3)","v":0},{"$f":"ROUND('Income Statement'!BMA12,3)","v":0},{"$f":"ROUND('Income Statement'!BMB12,3)","v":0},{"$f":"ROUND('Income Statement'!BMC12,3)","v":0},{"$f":"ROUND('Income Statement'!BMD12,3)","v":0},{"$f":"ROUND('Income Statement'!BME12,3)","v":0},{"$f":"ROUND('Income Statement'!BMF12,3)","v":0},{"$f":"ROUND('Income Statement'!BMG12,3)","v":0},{"$f":"ROUND('Income Statement'!BMH12,3)","v":0},{"$f":"ROUND('Income Statement'!BMI12,3)","v":0},{"$f":"ROUND('Income Statement'!BMJ12,3)","v":0},{"$f":"ROUND('Income Statement'!BMK12,3)","v":0},{"$f":"ROUND('Income Statement'!BML12,3)","v":0},{"$f":"ROUND('Income Statement'!BMM12,3)","v":0},{"$f":"ROUND('Income Statement'!BMN12,3)","v":0},{"$f":"ROUND('Income Statement'!BMO12,3)","v":0},{"$f":"ROUND('Income Statement'!BMP12,3)","v":0},{"$f":"ROUND('Income Statement'!BMQ12,3)","v":0},{"$f":"ROUND('Income Statement'!BMR12,3)","v":0},{"$f":"ROUND('Income Statement'!BMS12,3)","v":0},{"$f":"ROUND('Income Statement'!BMT12,3)","v":0},{"$f":"ROUND('Income Statement'!BMU12,3)","v":0},{"$f":"ROUND('Income Statement'!BMV12,3)","v":0},{"$f":"ROUND('Income Statement'!BMW12,3)","v":0},{"$f":"ROUND('Income Statement'!BMX12,3)","v":0},{"$f":"ROUND('Income Statement'!BMY12,3)","v":0},{"$f":"ROUND('Income Statement'!BMZ12,3)","v":0},{"$f":"ROUND('Income Statement'!BNA12,3)","v":0},{"$f":"ROUND('Income Statement'!BNB12,3)","v":0},{"$f":"ROUND('Income Statement'!BNC12,3)","v":0},{"$f":"ROUND('Income Statement'!BND12,3)","v":0},{"$f":"ROUND('Income Statement'!BNE12,3)","v":0},{"$f":"ROUND('Income Statement'!BNF12,3)","v":0},{"$f":"ROUND('Income Statement'!BNG12,3)","v":0},{"$f":"ROUND('Income Statement'!BNH12,3)","v":0},{"$f":"ROUND('Income Statement'!BNI12,3)","v":0},{"$f":"ROUND('Income Statement'!BNJ12,3)","v":0},{"$f":"ROUND('Income Statement'!BNK12,3)","v":0},{"$f":"ROUND('Income Statement'!BNL12,3)","v":0},{"$f":"ROUND('Income Statement'!BNM12,3)","v":0},{"$f":"ROUND('Income Statement'!BNN12,3)","v":0},{"$f":"ROUND('Income Statement'!BNO12,3)","v":0},{"$f":"ROUND('Income Statement'!BNP12,3)","v":0},{"$f":"ROUND('Income Statement'!BNQ12,3)","v":0},{"$f":"ROUND('Income Statement'!BNR12,3)","v":0},{"$f":"ROUND('Income Statement'!BNS12,3)","v":0},{"$f":"ROUND('Income Statement'!BNT12,3)","v":0},{"$f":"ROUND('Income Statement'!BNU12,3)","v":0},{"$f":"ROUND('Income Statement'!BNV12,3)","v":0},{"$f":"ROUND('Income Statement'!BNW12,3)","v":0},{"$f":"ROUND('Income Statement'!BNX12,3)","v":0},{"$f":"ROUND('Income Statement'!BNY12,3)","v":0},{"$f":"ROUND('Income Statement'!BNZ12,3)","v":0},{"$f":"ROUND('Income Statement'!BOA12,3)","v":0},{"$f":"ROUND('Income Statement'!BOB12,3)","v":0},{"$f":"ROUND('Income Statement'!BOC12,3)","v":0},{"$f":"ROUND('Income Statement'!BOD12,3)","v":0},{"$f":"ROUND('Income Statement'!BOE12,3)","v":0},{"$f":"ROUND('Income Statement'!BOF12,3)","v":0},{"$f":"ROUND('Income Statement'!BOG12,3)","v":0},{"$f":"ROUND('Income Statement'!BOH12,3)","v":0},{"$f":"ROUND('Income Statement'!BOI12,3)","v":0},{"$f":"ROUND('Income Statement'!BOJ12,3)","v":0},{"$f":"ROUND('Income Statement'!BOK12,3)","v":0},{"$f":"ROUND('Income Statement'!BOL12,3)","v":0},{"$f":"ROUND('Income Statement'!BOM12,3)","v":0},{"$f":"ROUND('Income Statement'!BON12,3)","v":0},{"$f":"ROUND('Income Statement'!BOO12,3)","v":0},{"$f":"ROUND('Income Statement'!BOP12,3)","v":0},{"$f":"ROUND('Income Statement'!BOQ12,3)","v":0},{"$f":"ROUND('Income Statement'!BOR12,3)","v":0},{"$f":"ROUND('Income Statement'!BOS12,3)","v":0},{"$f":"ROUND('Income Statement'!BOT12,3)","v":0},{"$f":"ROUND('Income Statement'!BOU12,3)","v":0},{"$f":"ROUND('Income Statement'!BOV12,3)","v":0},{"$f":"ROUND('Income Statement'!BOW12,3)","v":0},{"$f":"ROUND('Income Statement'!BOX12,3)","v":0},{"$f":"ROUND('Income Statement'!BOY12,3)","v":0},{"$f":"ROUND('Income Statement'!BOZ12,3)","v":0},{"$f":"ROUND('Income Statement'!BPA12,3)","v":0},{"$f":"ROUND('Income Statement'!BPB12,3)","v":0},{"$f":"ROUND('Income Statement'!BPC12,3)","v":0},{"$f":"ROUND('Income Statement'!BPD12,3)","v":0},{"$f":"ROUND('Income Statement'!BPE12,3)","v":0},{"$f":"ROUND('Income Statement'!BPF12,3)","v":0},{"$f":"ROUND('Income Statement'!BPG12,3)","v":0},{"$f":"ROUND('Income Statement'!BPH12,3)","v":0},{"$f":"ROUND('Income Statement'!BPI12,3)","v":0},{"$f":"ROUND('Income Statement'!BPJ12,3)","v":0},{"$f":"ROUND('Income Statement'!BPK12,3)","v":0},{"$f":"ROUND('Income Statement'!BPL12,3)","v":0},{"$f":"ROUND('Income Statement'!BPM12,3)","v":0},{"$f":"ROUND('Income Statement'!BPN12,3)","v":0},{"$f":"ROUND('Income Statement'!BPO12,3)","v":0},{"$f":"ROUND('Income Statement'!BPP12,3)","v":0},{"$f":"ROUND('Income Statement'!BPQ12,3)","v":0},{"$f":"ROUND('Income Statement'!BPR12,3)","v":0},{"$f":"ROUND('Income Statement'!BPS12,3)","v":0},{"$f":"ROUND('Income Statement'!BPT12,3)","v":0},{"$f":"ROUND('Income Statement'!BPU12,3)","v":0},{"$f":"ROUND('Income Statement'!BPV12,3)","v":0},{"$f":"ROUND('Income Statement'!BPW12,3)","v":0},{"$f":"ROUND('Income Statement'!BPX12,3)","v":0},{"$f":"ROUND('Income Statement'!BPY12,3)","v":0},{"$f":"ROUND('Income Statement'!BPZ12,3)","v":0},{"$f":"ROUND('Income Statement'!BQA12,3)","v":0},{"$f":"ROUND('Income Statement'!BQB12,3)","v":0},{"$f":"ROUND('Income Statement'!BQC12,3)","v":0},{"$f":"ROUND('Income Statement'!BQD12,3)","v":0},{"$f":"ROUND('Income Statement'!BQE12,3)","v":0},{"$f":"ROUND('Income Statement'!BQF12,3)","v":0},{"$f":"ROUND('Income Statement'!BQG12,3)","v":0},{"$f":"ROUND('Income Statement'!BQH12,3)","v":0},{"$f":"ROUND('Income Statement'!BQI12,3)","v":0},{"$f":"ROUND('Income Statement'!BQJ12,3)","v":0},{"$f":"ROUND('Income Statement'!BQK12,3)","v":0},{"$f":"ROUND('Income Statement'!BQL12,3)","v":0},{"$f":"ROUND('Income Statement'!BQM12,3)","v":0},{"$f":"ROUND('Income Statement'!BQN12,3)","v":0},{"$f":"ROUND('Income Statement'!BQO12,3)","v":0},{"$f":"ROUND('Income Statement'!BQP12,3)","v":0},{"$f":"ROUND('Income Statement'!BQQ12,3)","v":0},{"$f":"ROUND('Income Statement'!BQR12,3)","v":0},{"$f":"ROUND('Income Statement'!BQS12,3)","v":0},{"$f":"ROUND('Income Statement'!BQT12,3)","v":0},{"$f":"ROUND('Income Statement'!BQU12,3)","v":0},{"$f":"ROUND('Income Statement'!BQV12,3)","v":0},{"$f":"ROUND('Income Statement'!BQW12,3)","v":0},{"$f":"ROUND('Income Statement'!BQX12,3)","v":0},{"$f":"ROUND('Income Statement'!BQY12,3)","v":0},{"$f":"ROUND('Income Statement'!BQZ12,3)","v":0},{"$f":"ROUND('Income Statement'!BRA12,3)","v":0},{"$f":"ROUND('Income Statement'!BRB12,3)","v":0},{"$f":"ROUND('Income Statement'!BRC12,3)","v":0},{"$f":"ROUND('Income Statement'!BRD12,3)","v":0},{"$f":"ROUND('Income Statement'!BRE12,3)","v":0},{"$f":"ROUND('Income Statement'!BRF12,3)","v":0},{"$f":"ROUND('Income Statement'!BRG12,3)","v":0},{"$f":"ROUND('Income Statement'!BRH12,3)","v":0},{"$f":"ROUND('Income Statement'!BRI12,3)","v":0},{"$f":"ROUND('Income Statement'!BRJ12,3)","v":0},{"$f":"ROUND('Income Statement'!BRK12,3)","v":0},{"$f":"ROUND('Income Statement'!BRL12,3)","v":0},{"$f":"ROUND('Income Statement'!BRM12,3)","v":0},{"$f":"ROUND('Income Statement'!BRN12,3)","v":0},{"$f":"ROUND('Income Statement'!BRO12,3)","v":0},{"$f":"ROUND('Income Statement'!BRP12,3)","v":0},{"$f":"ROUND('Income Statement'!BRQ12,3)","v":0},{"$f":"ROUND('Income Statement'!BRR12,3)","v":0},{"$f":"ROUND('Income Statement'!BRS12,3)","v":0},{"$f":"ROUND('Income Statement'!BRT12,3)","v":0},{"$f":"ROUND('Income Statement'!BRU12,3)","v":0},{"$f":"ROUND('Income Statement'!BRV12,3)","v":0},{"$f":"ROUND('Income Statement'!BRW12,3)","v":0},{"$f":"ROUND('Income Statement'!BRX12,3)","v":0},{"$f":"ROUND('Income Statement'!BRY12,3)","v":0},{"$f":"ROUND('Income Statement'!BRZ12,3)","v":0},{"$f":"ROUND('Income Statement'!BSA12,3)","v":0},{"$f":"ROUND('Income Statement'!BSB12,3)","v":0},{"$f":"ROUND('Income Statement'!BSC12,3)","v":0},{"$f":"ROUND('Income Statement'!BSD12,3)","v":0},{"$f":"ROUND('Income Statement'!BSE12,3)","v":0},{"$f":"ROUND('Income Statement'!BSF12,3)","v":0},{"$f":"ROUND('Income Statement'!BSG12,3)","v":0},{"$f":"ROUND('Income Statement'!BSH12,3)","v":0},{"$f":"ROUND('Income Statement'!BSI12,3)","v":0},{"$f":"ROUND('Income Statement'!BSJ12,3)","v":0},{"$f":"ROUND('Income Statement'!BSK12,3)","v":0},{"$f":"ROUND('Income Statement'!BSL12,3)","v":0},{"$f":"ROUND('Income Statement'!BSM12,3)","v":0},{"$f":"ROUND('Income Statement'!BSN12,3)","v":0},{"$f":"ROUND('Income Statement'!BSO12,3)","v":0},{"$f":"ROUND('Income Statement'!BSP12,3)","v":0},{"$f":"ROUND('Income Statement'!BSQ12,3)","v":0},{"$f":"ROUND('Income Statement'!BSR12,3)","v":0},{"$f":"ROUND('Income Statement'!BSS12,3)","v":0},{"$f":"ROUND('Income Statement'!BST12,3)","v":0},{"$f":"ROUND('Income Statement'!BSU12,3)","v":0},{"$f":"ROUND('Income Statement'!BSV12,3)","v":0},{"$f":"ROUND('Income Statement'!BSW12,3)","v":0},{"$f":"ROUND('Income Statement'!BSX12,3)","v":0},{"$f":"ROUND('Income Statement'!BSY12,3)","v":0},{"$f":"ROUND('Income Statement'!BSZ12,3)","v":0},{"$f":"ROUND('Income Statement'!BTA12,3)","v":0},{"$f":"ROUND('Income Statement'!BTB12,3)","v":0},{"$f":"ROUND('Income Statement'!BTC12,3)","v":0},{"$f":"ROUND('Income Statement'!BTD12,3)","v":0},{"$f":"ROUND('Income Statement'!BTE12,3)","v":0},{"$f":"ROUND('Income Statement'!BTF12,3)","v":0},{"$f":"ROUND('Income Statement'!BTG12,3)","v":0},{"$f":"ROUND('Income Statement'!BTH12,3)","v":0},{"$f":"ROUND('Income Statement'!BTI12,3)","v":0},{"$f":"ROUND('Income Statement'!BTJ12,3)","v":0},{"$f":"ROUND('Income Statement'!BTK12,3)","v":0},{"$f":"ROUND('Income Statement'!BTL12,3)","v":0},{"$f":"ROUND('Income Statement'!BTM12,3)","v":0},{"$f":"ROUND('Income Statement'!BTN12,3)","v":0},{"$f":"ROUND('Income Statement'!BTO12,3)","v":0},{"$f":"ROUND('Income Statement'!BTP12,3)","v":0},{"$f":"ROUND('Income Statement'!BTQ12,3)","v":0},{"$f":"ROUND('Income Statement'!BTR12,3)","v":0},{"$f":"ROUND('Income Statement'!BTS12,3)","v":0},{"$f":"ROUND('Income Statement'!BTT12,3)","v":0},{"$f":"ROUND('Income Statement'!BTU12,3)","v":0},{"$f":"ROUND('Income Statement'!BTV12,3)","v":0},{"$f":"ROUND('Income Statement'!BTW12,3)","v":0},{"$f":"ROUND('Income Statement'!BTX12,3)","v":0},{"$f":"ROUND('Income Statement'!BTY12,3)","v":0},{"$f":"ROUND('Income Statement'!BTZ12,3)","v":0},{"$f":"ROUND('Income Statement'!BUA12,3)","v":0},{"$f":"ROUND('Income Statement'!BUB12,3)","v":0},{"$f":"ROUND('Income Statement'!BUC12,3)","v":0},{"$f":"ROUND('Income Statement'!BUD12,3)","v":0},{"$f":"ROUND('Income Statement'!BUE12,3)","v":0},{"$f":"ROUND('Income Statement'!BUF12,3)","v":0},{"$f":"ROUND('Income Statement'!BUG12,3)","v":0},{"$f":"ROUND('Income Statement'!BUH12,3)","v":0},{"$f":"ROUND('Income Statement'!BUI12,3)","v":0},{"$f":"ROUND('Income Statement'!BUJ12,3)","v":0},{"$f":"ROUND('Income Statement'!BUK12,3)","v":0},{"$f":"ROUND('Income Statement'!BUL12,3)","v":0},{"$f":"ROUND('Income Statement'!BUM12,3)","v":0},{"$f":"ROUND('Income Statement'!BUN12,3)","v":0},{"$f":"ROUND('Income Statement'!BUO12,3)","v":0},{"$f":"ROUND('Income Statement'!BUP12,3)","v":0},{"$f":"ROUND('Income Statement'!BUQ12,3)","v":0},{"$f":"ROUND('Income Statement'!BUR12,3)","v":0},{"$f":"ROUND('Income Statement'!BUS12,3)","v":0},{"$f":"ROUND('Income Statement'!BUT12,3)","v":0},{"$f":"ROUND('Income Statement'!BUU12,3)","v":0},{"$f":"ROUND('Income Statement'!BUV12,3)","v":0},{"$f":"ROUND('Income Statement'!BUW12,3)","v":0},{"$f":"ROUND('Income Statement'!BUX12,3)","v":0},{"$f":"ROUND('Income Statement'!BUY12,3)","v":0},{"$f":"ROUND('Income Statement'!BUZ12,3)","v":0},{"$f":"ROUND('Income Statement'!BVA12,3)","v":0},{"$f":"ROUND('Income Statement'!BVB12,3)","v":0},{"$f":"ROUND('Income Statement'!BVC12,3)","v":0},{"$f":"ROUND('Income Statement'!BVD12,3)","v":0},{"$f":"ROUND('Income Statement'!BVE12,3)","v":0},{"$f":"ROUND('Income Statement'!BVF12,3)","v":0},{"$f":"ROUND('Income Statement'!BVG12,3)","v":0},{"$f":"ROUND('Income Statement'!BVH12,3)","v":0},{"$f":"ROUND('Income Statement'!BVI12,3)","v":0},{"$f":"ROUND('Income Statement'!BVJ12,3)","v":0},{"$f":"ROUND('Income Statement'!BVK12,3)","v":0},{"$f":"ROUND('Income Statement'!BVL12,3)","v":0},{"$f":"ROUND('Income Statement'!BVM12,3)","v":0},{"$f":"ROUND('Income Statement'!BVN12,3)","v":0},{"$f":"ROUND('Income Statement'!BVO12,3)","v":0},{"$f":"ROUND('Income Statement'!BVP12,3)","v":0},{"$f":"ROUND('Income Statement'!BVQ12,3)","v":0},{"$f":"ROUND('Income Statement'!BVR12,3)","v":0},{"$f":"ROUND('Income Statement'!BVS12,3)","v":0},{"$f":"ROUND('Income Statement'!BVT12,3)","v":0},{"$f":"ROUND('Income Statement'!BVU12,3)","v":0},{"$f":"ROUND('Income Statement'!BVV12,3)","v":0},{"$f":"ROUND('Income Statement'!BVW12,3)","v":0},{"$f":"ROUND('Income Statement'!BVX12,3)","v":0},{"$f":"ROUND('Income Statement'!BVY12,3)","v":0},{"$f":"ROUND('Income Statement'!BVZ12,3)","v":0},{"$f":"ROUND('Income Statement'!BWA12,3)","v":0},{"$f":"ROUND('Income Statement'!BWB12,3)","v":0},{"$f":"ROUND('Income Statement'!BWC12,3)","v":0},{"$f":"ROUND('Income Statement'!BWD12,3)","v":0},{"$f":"ROUND('Income Statement'!BWE12,3)","v":0},{"$f":"ROUND('Income Statement'!BWF12,3)","v":0},{"$f":"ROUND('Income Statement'!BWG12,3)","v":0},{"$f":"ROUND('Income Statement'!BWH12,3)","v":0},{"$f":"ROUND('Income Statement'!BWI12,3)","v":0},{"$f":"ROUND('Income Statement'!BWJ12,3)","v":0},{"$f":"ROUND('Income Statement'!BWK12,3)","v":0},{"$f":"ROUND('Income Statement'!BWL12,3)","v":0},{"$f":"ROUND('Income Statement'!BWM12,3)","v":0},{"$f":"ROUND('Income Statement'!BWN12,3)","v":0},{"$f":"ROUND('Income Statement'!BWO12,3)","v":0},{"$f":"ROUND('Income Statement'!BWP12,3)","v":0},{"$f":"ROUND('Income Statement'!BWQ12,3)","v":0},{"$f":"ROUND('Income Statement'!BWR12,3)","v":0},{"$f":"ROUND('Income Statement'!BWS12,3)","v":0},{"$f":"ROUND('Income Statement'!BWT12,3)","v":0},{"$f":"ROUND('Income Statement'!BWU12,3)","v":0},{"$f":"ROUND('Income Statement'!BWV12,3)","v":0},{"$f":"ROUND('Income Statement'!BWW12,3)","v":0},{"$f":"ROUND('Income Statement'!BWX12,3)","v":0},{"$f":"ROUND('Income Statement'!BWY12,3)","v":0},{"$f":"ROUND('Income Statement'!BWZ12,3)","v":0},{"$f":"ROUND('Income Statement'!BXA12,3)","v":0},{"$f":"ROUND('Income Statement'!BXB12,3)","v":0},{"$f":"ROUND('Income Statement'!BXC12,3)","v":0},{"$f":"ROUND('Income Statement'!BXD12,3)","v":0},{"$f":"ROUND('Income Statement'!BXE12,3)","v":0},{"$f":"ROUND('Income Statement'!BXF12,3)","v":0},{"$f":"ROUND('Income Statement'!BXG12,3)","v":0},{"$f":"ROUND('Income Statement'!BXH12,3)","v":0},{"$f":"ROUND('Income Statement'!BXI12,3)","v":0},{"$f":"ROUND('Income Statement'!BXJ12,3)","v":0},{"$f":"ROUND('Income Statement'!BXK12,3)","v":0},{"$f":"ROUND('Income Statement'!BXL12,3)","v":0},{"$f":"ROUND('Income Statement'!BXM12,3)","v":0},{"$f":"ROUND('Income Statement'!BXN12,3)","v":0},{"$f":"ROUND('Income Statement'!BXO12,3)","v":0},{"$f":"ROUND('Income Statement'!BXP12,3)","v":0},{"$f":"ROUND('Income Statement'!BXQ12,3)","v":0},{"$f":"ROUND('Income Statement'!BXR12,3)","v":0},{"$f":"ROUND('Income Statement'!BXS12,3)","v":0},{"$f":"ROUND('Income Statement'!BXT12,3)","v":0},{"$f":"ROUND('Income Statement'!BXU12,3)","v":0},{"$f":"ROUND('Income Statement'!BXV12,3)","v":0},{"$f":"ROUND('Income Statement'!BXW12,3)","v":0},{"$f":"ROUND('Income Statement'!BXX12,3)","v":0},{"$f":"ROUND('Income Statement'!BXY12,3)","v":0},{"$f":"ROUND('Income Statement'!BXZ12,3)","v":0},{"$f":"ROUND('Income Statement'!BYA12,3)","v":0},{"$f":"ROUND('Income Statement'!BYB12,3)","v":0},{"$f":"ROUND('Income Statement'!BYC12,3)","v":0},{"$f":"ROUND('Income Statement'!BYD12,3)","v":0},{"$f":"ROUND('Income Statement'!BYE12,3)","v":0},{"$f":"ROUND('Income Statement'!BYF12,3)","v":0},{"$f":"ROUND('Income Statement'!BYG12,3)","v":0},{"$f":"ROUND('Income Statement'!BYH12,3)","v":0},{"$f":"ROUND('Income Statement'!BYI12,3)","v":0},{"$f":"ROUND('Income Statement'!BYJ12,3)","v":0},{"$f":"ROUND('Income Statement'!BYK12,3)","v":0},{"$f":"ROUND('Income Statement'!BYL12,3)","v":0},{"$f":"ROUND('Income Statement'!BYM12,3)","v":0},{"$f":"ROUND('Income Statement'!BYN12,3)","v":0},{"$f":"ROUND('Income Statement'!BYO12,3)","v":0},{"$f":"ROUND('Income Statement'!BYP12,3)","v":0},{"$f":"ROUND('Income Statement'!BYQ12,3)","v":0},{"$f":"ROUND('Income Statement'!BYR12,3)","v":0},{"$f":"ROUND('Income Statement'!BYS12,3)","v":0},{"$f":"ROUND('Income Statement'!BYT12,3)","v":0},{"$f":"ROUND('Income Statement'!BYU12,3)","v":0},{"$f":"ROUND('Income Statement'!BYV12,3)","v":0},{"$f":"ROUND('Income Statement'!BYW12,3)","v":0},{"$f":"ROUND('Income Statement'!BYX12,3)","v":0},{"$f":"ROUND('Income Statement'!BYY12,3)","v":0},{"$f":"ROUND('Income Statement'!BYZ12,3)","v":0},{"$f":"ROUND('Income Statement'!BZA12,3)","v":0},{"$f":"ROUND('Income Statement'!BZB12,3)","v":0},{"$f":"ROUND('Income Statement'!BZC12,3)","v":0},{"$f":"ROUND('Income Statement'!BZD12,3)","v":0},{"$f":"ROUND('Income Statement'!BZE12,3)","v":0},{"$f":"ROUND('Income Statement'!BZF12,3)","v":0},{"$f":"ROUND('Income Statement'!BZG12,3)","v":0},{"$f":"ROUND('Income Statement'!BZH12,3)","v":0},{"$f":"ROUND('Income Statement'!BZI12,3)","v":0},{"$f":"ROUND('Income Statement'!BZJ12,3)","v":0},{"$f":"ROUND('Income Statement'!BZK12,3)","v":0},{"$f":"ROUND('Income Statement'!BZL12,3)","v":0},{"$f":"ROUND('Income Statement'!BZM12,3)","v":0},{"$f":"ROUND('Income Statement'!BZN12,3)","v":0},{"$f":"ROUND('Income Statement'!BZO12,3)","v":0},{"$f":"ROUND('Income Statement'!BZP12,3)","v":0},{"$f":"ROUND('Income Statement'!BZQ12,3)","v":0},{"$f":"ROUND('Income Statement'!BZR12,3)","v":0},{"$f":"ROUND('Income Statement'!BZS12,3)","v":0},{"$f":"ROUND('Income Statement'!BZT12,3)","v":0},{"$f":"ROUND('Income Statement'!BZU12,3)","v":0},{"$f":"ROUND('Income Statement'!BZV12,3)","v":0},{"$f":"ROUND('Income Statement'!BZW12,3)","v":0},{"$f":"ROUND('Income Statement'!BZX12,3)","v":0},{"$f":"ROUND('Income Statement'!BZY12,3)","v":0},{"$f":"ROUND('Income Statement'!BZZ12,3)","v":0},{"$f":"ROUND('Income Statement'!CAA12,3)","v":0},{"$f":"ROUND('Income Statement'!CAB12,3)","v":0},{"$f":"ROUND('Income Statement'!CAC12,3)","v":0},{"$f":"ROUND('Income Statement'!CAD12,3)","v":0},{"$f":"ROUND('Income Statement'!CAE12,3)","v":0},{"$f":"ROUND('Income Statement'!CAF12,3)","v":0},{"$f":"ROUND('Income Statement'!CAG12,3)","v":0},{"$f":"ROUND('Income Statement'!CAH12,3)","v":0},{"$f":"ROUND('Income Statement'!CAI12,3)","v":0},{"$f":"ROUND('Income Statement'!CAJ12,3)","v":0},{"$f":"ROUND('Income Statement'!CAK12,3)","v":0},{"$f":"ROUND('Income Statement'!CAL12,3)","v":0},{"$f":"ROUND('Income Statement'!CAM12,3)","v":0},{"$f":"ROUND('Income Statement'!CAN12,3)","v":0},{"$f":"ROUND('Income Statement'!CAO12,3)","v":0},{"$f":"ROUND('Income Statement'!CAP12,3)","v":0},{"$f":"ROUND('Income Statement'!CAQ12,3)","v":0},{"$f":"ROUND('Income Statement'!CAR12,3)","v":0},{"$f":"ROUND('Income Statement'!CAS12,3)","v":0},{"$f":"ROUND('Income Statement'!CAT12,3)","v":0},{"$f":"ROUND('Income Statement'!CAU12,3)","v":0},{"$f":"ROUND('Income Statement'!CAV12,3)","v":0},{"$f":"ROUND('Income Statement'!CAW12,3)","v":0},{"$f":"ROUND('Income Statement'!CAX12,3)","v":0},{"$f":"ROUND('Income Statement'!CAY12,3)","v":0},{"$f":"ROUND('Income Statement'!CAZ12,3)","v":0},{"$f":"ROUND('Income Statement'!CBA12,3)","v":0},{"$f":"ROUND('Income Statement'!CBB12,3)","v":0},{"$f":"ROUND('Income Statement'!CBC12,3)","v":0},{"$f":"ROUND('Income Statement'!CBD12,3)","v":0},{"$f":"ROUND('Income Statement'!CBE12,3)","v":0},{"$f":"ROUND('Income Statement'!CBF12,3)","v":0},{"$f":"ROUND('Income Statement'!CBG12,3)","v":0},{"$f":"ROUND('Income Statement'!CBH12,3)","v":0},{"$f":"ROUND('Income Statement'!CBI12,3)","v":0},{"$f":"ROUND('Income Statement'!CBJ12,3)","v":0},{"$f":"ROUND('Income Statement'!CBK12,3)","v":0},{"$f":"ROUND('Income Statement'!CBL12,3)","v":0},{"$f":"ROUND('Income Statement'!CBM12,3)","v":0},{"$f":"ROUND('Income Statement'!CBN12,3)","v":0},{"$f":"ROUND('Income Statement'!CBO12,3)","v":0},{"$f":"ROUND('Income Statement'!CBP12,3)","v":0},{"$f":"ROUND('Income Statement'!CBQ12,3)","v":0},{"$f":"ROUND('Income Statement'!CBR12,3)","v":0},{"$f":"ROUND('Income Statement'!CBS12,3)","v":0},{"$f":"ROUND('Income Statement'!CBT12,3)","v":0},{"$f":"ROUND('Income Statement'!CBU12,3)","v":0},{"$f":"ROUND('Income Statement'!CBV12,3)","v":0},{"$f":"ROUND('Income Statement'!CBW12,3)","v":0},{"$f":"ROUND('Income Statement'!CBX12,3)","v":0},{"$f":"ROUND('Income Statement'!CBY12,3)","v":0},{"$f":"ROUND('Income Statement'!CBZ12,3)","v":0},{"$f":"ROUND('Income Statement'!CCA12,3)","v":0},{"$f":"ROUND('Income Statement'!CCB12,3)","v":0},{"$f":"ROUND('Income Statement'!CCC12,3)","v":0},{"$f":"ROUND('Income Statement'!CCD12,3)","v":0},{"$f":"ROUND('Income Statement'!CCE12,3)","v":0},{"$f":"ROUND('Income Statement'!CCF12,3)","v":0},{"$f":"ROUND('Income Statement'!CCG12,3)","v":0},{"$f":"ROUND('Income Statement'!CCH12,3)","v":0},{"$f":"ROUND('Income Statement'!CCI12,3)","v":0},{"$f":"ROUND('Income Statement'!CCJ12,3)","v":0},{"$f":"ROUND('Income Statement'!CCK12,3)","v":0},{"$f":"ROUND('Income Statement'!CCL12,3)","v":0},{"$f":"ROUND('Income Statement'!CCM12,3)","v":0},{"$f":"ROUND('Income Statement'!CCN12,3)","v":0},{"$f":"ROUND('Income Statement'!CCO12,3)","v":0},{"$f":"ROUND('Income Statement'!CCP12,3)","v":0},{"$f":"ROUND('Income Statement'!CCQ12,3)","v":0},{"$f":"ROUND('Income Statement'!CCR12,3)","v":0},{"$f":"ROUND('Income Statement'!CCS12,3)","v":0},{"$f":"ROUND('Income Statement'!CCT12,3)","v":0},{"$f":"ROUND('Income Statement'!CCU12,3)","v":0},{"$f":"ROUND('Income Statement'!CCV12,3)","v":0},{"$f":"ROUND('Income Statement'!CCW12,3)","v":0},{"$f":"ROUND('Income Statement'!CCX12,3)","v":0},{"$f":"ROUND('Income Statement'!CCY12,3)","v":0},{"$f":"ROUND('Income Statement'!CCZ12,3)","v":0},{"$f":"ROUND('Income Statement'!CDA12,3)","v":0},{"$f":"ROUND('Income Statement'!CDB12,3)","v":0},{"$f":"ROUND('Income Statement'!CDC12,3)","v":0},{"$f":"ROUND('Income Statement'!CDD12,3)","v":0},{"$f":"ROUND('Income Statement'!CDE12,3)","v":0},{"$f":"ROUND('Income Statement'!CDF12,3)","v":0},{"$f":"ROUND('Income Statement'!CDG12,3)","v":0},{"$f":"ROUND('Income Statement'!CDH12,3)","v":0},{"$f":"ROUND('Income Statement'!CDI12,3)","v":0},{"$f":"ROUND('Income Statement'!CDJ12,3)","v":0},{"$f":"ROUND('Income Statement'!CDK12,3)","v":0},{"$f":"ROUND('Income Statement'!CDL12,3)","v":0},{"$f":"ROUND('Income Statement'!CDM12,3)","v":0},{"$f":"ROUND('Income Statement'!CDN12,3)","v":0},{"$f":"ROUND('Income Statement'!CDO12,3)","v":0},{"$f":"ROUND('Income Statement'!CDP12,3)","v":0},{"$f":"ROUND('Income Statement'!CDQ12,3)","v":0},{"$f":"ROUND('Income Statement'!CDR12,3)","v":0},{"$f":"ROUND('Income Statement'!CDS12,3)","v":0},{"$f":"ROUND('Income Statement'!CDT12,3)","v":0},{"$f":"ROUND('Income Statement'!CDU12,3)","v":0},{"$f":"ROUND('Income Statement'!CDV12,3)","v":0},{"$f":"ROUND('Income Statement'!CDW12,3)","v":0},{"$f":"ROUND('Income Statement'!CDX12,3)","v":0},{"$f":"ROUND('Income Statement'!CDY12,3)","v":0},{"$f":"ROUND('Income Statement'!CDZ12,3)","v":0},{"$f":"ROUND('Income Statement'!CEA12,3)","v":0},{"$f":"ROUND('Income Statement'!CEB12,3)","v":0},{"$f":"ROUND('Income Statement'!CEC12,3)","v":0},{"$f":"ROUND('Income Statement'!CED12,3)","v":0},{"$f":"ROUND('Income Statement'!CEE12,3)","v":0},{"$f":"ROUND('Income Statement'!CEF12,3)","v":0},{"$f":"ROUND('Income Statement'!CEG12,3)","v":0},{"$f":"ROUND('Income Statement'!CEH12,3)","v":0},{"$f":"ROUND('Income Statement'!CEI12,3)","v":0},{"$f":"ROUND('Income Statement'!CEJ12,3)","v":0},{"$f":"ROUND('Income Statement'!CEK12,3)","v":0},{"$f":"ROUND('Income Statement'!CEL12,3)","v":0},{"$f":"ROUND('Income Statement'!CEM12,3)","v":0},{"$f":"ROUND('Income Statement'!CEN12,3)","v":0},{"$f":"ROUND('Income Statement'!CEO12,3)","v":0},{"$f":"ROUND('Income Statement'!CEP12,3)","v":0},{"$f":"ROUND('Income Statement'!CEQ12,3)","v":0},{"$f":"ROUND('Income Statement'!CER12,3)","v":0},{"$f":"ROUND('Income Statement'!CES12,3)","v":0},{"$f":"ROUND('Income Statement'!CET12,3)","v":0},{"$f":"ROUND('Income Statement'!CEU12,3)","v":0},{"$f":"ROUND('Income Statement'!CEV12,3)","v":0},{"$f":"ROUND('Income Statement'!CEW12,3)","v":0},{"$f":"ROUND('Income Statement'!CEX12,3)","v":0},{"$f":"ROUND('Income Statement'!CEY12,3)","v":0},{"$f":"ROUND('Income Statement'!CEZ12,3)","v":0},{"$f":"ROUND('Income Statement'!CFA12,3)","v":0},{"$f":"ROUND('Income Statement'!CFB12,3)","v":0},{"$f":"ROUND('Income Statement'!CFC12,3)","v":0},{"$f":"ROUND('Income Statement'!CFD12,3)","v":0},{"$f":"ROUND('Income Statement'!CFE12,3)","v":0},{"$f":"ROUND('Income Statement'!CFF12,3)","v":0},{"$f":"ROUND('Income Statement'!CFG12,3)","v":0},{"$f":"ROUND('Income Statement'!CFH12,3)","v":0},{"$f":"ROUND('Income Statement'!CFI12,3)","v":0},{"$f":"ROUND('Income Statement'!CFJ12,3)","v":0},{"$f":"ROUND('Income Statement'!CFK12,3)","v":0},{"$f":"ROUND('Income Statement'!CFL12,3)","v":0},{"$f":"ROUND('Income Statement'!CFM12,3)","v":0},{"$f":"ROUND('Income Statement'!CFN12,3)","v":0},{"$f":"ROUND('Income Statement'!CFO12,3)","v":0},{"$f":"ROUND('Income Statement'!CFP12,3)","v":0},{"$f":"ROUND('Income Statement'!CFQ12,3)","v":0},{"$f":"ROUND('Income Statement'!CFR12,3)","v":0},{"$f":"ROUND('Income Statement'!CFS12,3)","v":0},{"$f":"ROUND('Income Statement'!CFT12,3)","v":0},{"$f":"ROUND('Income Statement'!CFU12,3)","v":0},{"$f":"ROUND('Income Statement'!CFV12,3)","v":0},{"$f":"ROUND('Income Statement'!CFW12,3)","v":0},{"$f":"ROUND('Income Statement'!CFX12,3)","v":0},{"$f":"ROUND('Income Statement'!CFY12,3)","v":0},{"$f":"ROUND('Income Statement'!CFZ12,3)","v":0},{"$f":"ROUND('Income Statement'!CGA12,3)","v":0},{"$f":"ROUND('Income Statement'!CGB12,3)","v":0},{"$f":"ROUND('Income Statement'!CGC12,3)","v":0},{"$f":"ROUND('Income Statement'!CGD12,3)","v":0},{"$f":"ROUND('Income Statement'!CGE12,3)","v":0},{"$f":"ROUND('Income Statement'!CGF12,3)","v":0},{"$f":"ROUND('Income Statement'!CGG12,3)","v":0},{"$f":"ROUND('Income Statement'!CGH12,3)","v":0},{"$f":"ROUND('Income Statement'!CGI12,3)","v":0},{"$f":"ROUND('Income Statement'!CGJ12,3)","v":0},{"$f":"ROUND('Income Statement'!CGK12,3)","v":0},{"$f":"ROUND('Income Statement'!CGL12,3)","v":0},{"$f":"ROUND('Income Statement'!CGM12,3)","v":0},{"$f":"ROUND('Income Statement'!CGN12,3)","v":0},{"$f":"ROUND('Income Statement'!CGO12,3)","v":0},{"$f":"ROUND('Income Statement'!CGP12,3)","v":0},{"$f":"ROUND('Income Statement'!CGQ12,3)","v":0},{"$f":"ROUND('Income Statement'!CGR12,3)","v":0},{"$f":"ROUND('Income Statement'!CGS12,3)","v":0},{"$f":"ROUND('Income Statement'!CGT12,3)","v":0},{"$f":"ROUND('Income Statement'!CGU12,3)","v":0},{"$f":"ROUND('Income Statement'!CGV12,3)","v":0},{"$f":"ROUND('Income Statement'!CGW12,3)","v":0},{"$f":"ROUND('Income Statement'!CGX12,3)","v":0},{"$f":"ROUND('Income Statement'!CGY12,3)","v":0},{"$f":"ROUND('Income Statement'!CGZ12,3)","v":0},{"$f":"ROUND('Income Statement'!CHA12,3)","v":0},{"$f":"ROUND('Income Statement'!CHB12,3)","v":0},{"$f":"ROUND('Income Statement'!CHC12,3)","v":0},{"$f":"ROUND('Income Statement'!CHD12,3)","v":0},{"$f":"ROUND('Income Statement'!CHE12,3)","v":0},{"$f":"ROUND('Income Statement'!CHF12,3)","v":0},{"$f":"ROUND('Income Statement'!CHG12,3)","v":0},{"$f":"ROUND('Income Statement'!CHH12,3)","v":0},{"$f":"ROUND('Income Statement'!CHI12,3)","v":0},{"$f":"ROUND('Income Statement'!CHJ12,3)","v":0},{"$f":"ROUND('Income Statement'!CHK12,3)","v":0},{"$f":"ROUND('Income Statement'!CHL12,3)","v":0},{"$f":"ROUND('Income Statement'!CHM12,3)","v":0},{"$f":"ROUND('Income Statement'!CHN12,3)","v":0},{"$f":"ROUND('Income Statement'!CHO12,3)","v":0},{"$f":"ROUND('Income Statement'!CHP12,3)","v":0},{"$f":"ROUND('Income Statement'!CHQ12,3)","v":0},{"$f":"ROUND('Income Statement'!CHR12,3)","v":0},{"$f":"ROUND('Income Statement'!CHS12,3)","v":0},{"$f":"ROUND('Income Statement'!CHT12,3)","v":0},{"$f":"ROUND('Income Statement'!CHU12,3)","v":0},{"$f":"ROUND('Income Statement'!CHV12,3)","v":0},{"$f":"ROUND('Income Statement'!CHW12,3)","v":0},{"$f":"ROUND('Income Statement'!CHX12,3)","v":0},{"$f":"ROUND('Income Statement'!CHY12,3)","v":0},{"$f":"ROUND('Income Statement'!CHZ12,3)","v":0},{"$f":"ROUND('Income Statement'!CIA12,3)","v":0},{"$f":"ROUND('Income Statement'!CIB12,3)","v":0},{"$f":"ROUND('Income Statement'!CIC12,3)","v":0},{"$f":"ROUND('Income Statement'!CID12,3)","v":0},{"$f":"ROUND('Income Statement'!CIE12,3)","v":0},{"$f":"ROUND('Income Statement'!CIF12,3)","v":0},{"$f":"ROUND('Income Statement'!CIG12,3)","v":0},{"$f":"ROUND('Income Statement'!CIH12,3)","v":0},{"$f":"ROUND('Income Statement'!CII12,3)","v":0},{"$f":"ROUND('Income Statement'!CIJ12,3)","v":0},{"$f":"ROUND('Income Statement'!CIK12,3)","v":0},{"$f":"ROUND('Income Statement'!CIL12,3)","v":0},{"$f":"ROUND('Income Statement'!CIM12,3)","v":0},{"$f":"ROUND('Income Statement'!CIN12,3)","v":0},{"$f":"ROUND('Income Statement'!CIO12,3)","v":0},{"$f":"ROUND('Income Statement'!CIP12,3)","v":0},{"$f":"ROUND('Income Statement'!CIQ12,3)","v":0},{"$f":"ROUND('Income Statement'!CIR12,3)","v":0},{"$f":"ROUND('Income Statement'!CIS12,3)","v":0},{"$f":"ROUND('Income Statement'!CIT12,3)","v":0},{"$f":"ROUND('Income Statement'!CIU12,3)","v":0},{"$f":"ROUND('Income Statement'!CIV12,3)","v":0},{"$f":"ROUND('Income Statement'!CIW12,3)","v":0},{"$f":"ROUND('Income Statement'!CIX12,3)","v":0},{"$f":"ROUND('Income Statement'!CIY12,3)","v":0},{"$f":"ROUND('Income Statement'!CIZ12,3)","v":0},{"$f":"ROUND('Income Statement'!CJA12,3)","v":0},{"$f":"ROUND('Income Statement'!CJB12,3)","v":0},{"$f":"ROUND('Income Statement'!CJC12,3)","v":0},{"$f":"ROUND('Income Statement'!CJD12,3)","v":0},{"$f":"ROUND('Income Statement'!CJE12,3)","v":0},{"$f":"ROUND('Income Statement'!CJF12,3)","v":0},{"$f":"ROUND('Income Statement'!CJG12,3)","v":0},{"$f":"ROUND('Income Statement'!CJH12,3)","v":0},{"$f":"ROUND('Income Statement'!CJI12,3)","v":0},{"$f":"ROUND('Income Statement'!CJJ12,3)","v":0},{"$f":"ROUND('Income Statement'!CJK12,3)","v":0},{"$f":"ROUND('Income Statement'!CJL12,3)","v":0},{"$f":"ROUND('Income Statement'!CJM12,3)","v":0},{"$f":"ROUND('Income Statement'!CJN12,3)","v":0},{"$f":"ROUND('Income Statement'!CJO12,3)","v":0},{"$f":"ROUND('Income Statement'!CJP12,3)","v":0},{"$f":"ROUND('Income Statement'!CJQ12,3)","v":0},{"$f":"ROUND('Income Statement'!CJR12,3)","v":0},{"$f":"ROUND('Income Statement'!CJS12,3)","v":0},{"$f":"ROUND('Income Statement'!CJT12,3)","v":0},{"$f":"ROUND('Income Statement'!CJU12,3)","v":0},{"$f":"ROUND('Income Statement'!CJV12,3)","v":0},{"$f":"ROUND('Income Statement'!CJW12,3)","v":0},{"$f":"ROUND('Income Statement'!CJX12,3)","v":0},{"$f":"ROUND('Income Statement'!CJY12,3)","v":0},{"$f":"ROUND('Income Statement'!CJZ12,3)","v":0},{"$f":"ROUND('Income Statement'!CKA12,3)","v":0},{"$f":"ROUND('Income Statement'!CKB12,3)","v":0},{"$f":"ROUND('Income Statement'!CKC12,3)","v":0},{"$f":"ROUND('Income Statement'!CKD12,3)","v":0},{"$f":"ROUND('Income Statement'!CKE12,3)","v":0},{"$f":"ROUND('Income Statement'!CKF12,3)","v":0},{"$f":"ROUND('Income Statement'!CKG12,3)","v":0},{"$f":"ROUND('Income Statement'!CKH12,3)","v":0},{"$f":"ROUND('Income Statement'!CKI12,3)","v":0},{"$f":"ROUND('Income Statement'!CKJ12,3)","v":0},{"$f":"ROUND('Income Statement'!CKK12,3)","v":0},{"$f":"ROUND('Income Statement'!CKL12,3)","v":0},{"$f":"ROUND('Income Statement'!CKM12,3)","v":0},{"$f":"ROUND('Income Statement'!CKN12,3)","v":0},{"$f":"ROUND('Income Statement'!CKO12,3)","v":0},{"$f":"ROUND('Income Statement'!CKP12,3)","v":0},{"$f":"ROUND('Income Statement'!CKQ12,3)","v":0},{"$f":"ROUND('Income Statement'!CKR12,3)","v":0},{"$f":"ROUND('Income Statement'!CKS12,3)","v":0},{"$f":"ROUND('Income Statement'!CKT12,3)","v":0},{"$f":"ROUND('Income Statement'!CKU12,3)","v":0},{"$f":"ROUND('Income Statement'!CKV12,3)","v":0},{"$f":"ROUND('Income Statement'!CKW12,3)","v":0},{"$f":"ROUND('Income Statement'!CKX12,3)","v":0},{"$f":"ROUND('Income Statement'!CKY12,3)","v":0},{"$f":"ROUND('Income Statement'!CKZ12,3)","v":0},{"$f":"ROUND('Income Statement'!CLA12,3)","v":0},{"$f":"ROUND('Income Statement'!CLB12,3)","v":0},{"$f":"ROUND('Income Statement'!CLC12,3)","v":0},{"$f":"ROUND('Income Statement'!CLD12,3)","v":0},{"$f":"ROUND('Income Statement'!CLE12,3)","v":0},{"$f":"ROUND('Income Statement'!CLF12,3)","v":0},{"$f":"ROUND('Income Statement'!CLG12,3)","v":0},{"$f":"ROUND('Income Statement'!CLH12,3)","v":0},{"$f":"ROUND('Income Statement'!CLI12,3)","v":0},{"$f":"ROUND('Income Statement'!CLJ12,3)","v":0},{"$f":"ROUND('Income Statement'!CLK12,3)","v":0},{"$f":"ROUND('Income Statement'!CLL12,3)","v":0},{"$f":"ROUND('Income Statement'!CLM12,3)","v":0},{"$f":"ROUND('Income Statement'!CLN12,3)","v":0},{"$f":"ROUND('Income Statement'!CLO12,3)","v":0},{"$f":"ROUND('Income Statement'!CLP12,3)","v":0},{"$f":"ROUND('Income Statement'!CLQ12,3)","v":0},{"$f":"ROUND('Income Statement'!CLR12,3)","v":0},{"$f":"ROUND('Income Statement'!CLS12,3)","v":0},{"$f":"ROUND('Income Statement'!CLT12,3)","v":0},{"$f":"ROUND('Income Statement'!CLU12,3)","v":0},{"$f":"ROUND('Income Statement'!CLV12,3)","v":0},{"$f":"ROUND('Income Statement'!CLW12,3)","v":0},{"$f":"ROUND('Income Statement'!CLX12,3)","v":0},{"$f":"ROUND('Income Statement'!CLY12,3)","v":0},{"$f":"ROUND('Income Statement'!CLZ12,3)","v":0},{"$f":"ROUND('Income Statement'!CMA12,3)","v":0},{"$f":"ROUND('Income Statement'!CMB12,3)","v":0},{"$f":"ROUND('Income Statement'!CMC12,3)","v":0},{"$f":"ROUND('Income Statement'!CMD12,3)","v":0},{"$f":"ROUND('Income Statement'!CME12,3)","v":0},{"$f":"ROUND('Income Statement'!CMF12,3)","v":0},{"$f":"ROUND('Income Statement'!CMG12,3)","v":0},{"$f":"ROUND('Income Statement'!CMH12,3)","v":0},{"$f":"ROUND('Income Statement'!CMI12,3)","v":0},{"$f":"ROUND('Income Statement'!CMJ12,3)","v":0},{"$f":"ROUND('Income Statement'!CMK12,3)","v":0},{"$f":"ROUND('Income Statement'!CML12,3)","v":0},{"$f":"ROUND('Income Statement'!CMM12,3)","v":0},{"$f":"ROUND('Income Statement'!CMN12,3)","v":0},{"$f":"ROUND('Income Statement'!CMO12,3)","v":0},{"$f":"ROUND('Income Statement'!CMP12,3)","v":0},{"$f":"ROUND('Income Statement'!CMQ12,3)","v":0},{"$f":"ROUND('Income Statement'!CMR12,3)","v":0},{"$f":"ROUND('Income Statement'!CMS12,3)","v":0},{"$f":"ROUND('Income Statement'!CMT12,3)","v":0},{"$f":"ROUND('Income Statement'!CMU12,3)","v":0},{"$f":"ROUND('Income Statement'!CMV12,3)","v":0},{"$f":"ROUND('Income Statement'!CMW12,3)","v":0},{"$f":"ROUND('Income Statement'!CMX12,3)","v":0},{"$f":"ROUND('Income Statement'!CMY12,3)","v":0},{"$f":"ROUND('Income Statement'!CMZ12,3)","v":0},{"$f":"ROUND('Income Statement'!CNA12,3)","v":0},{"$f":"ROUND('Income Statement'!CNB12,3)","v":0},{"$f":"ROUND('Income Statement'!CNC12,3)","v":0},{"$f":"ROUND('Income Statement'!CND12,3)","v":0},{"$f":"ROUND('Income Statement'!CNE12,3)","v":0},{"$f":"ROUND('Income Statement'!CNF12,3)","v":0},{"$f":"ROUND('Income Statement'!CNG12,3)","v":0},{"$f":"ROUND('Income Statement'!CNH12,3)","v":0},{"$f":"ROUND('Income Statement'!CNI12,3)","v":0},{"$f":"ROUND('Income Statement'!CNJ12,3)","v":0},{"$f":"ROUND('Income Statement'!CNK12,3)","v":0},{"$f":"ROUND('Income Statement'!CNL12,3)","v":0},{"$f":"ROUND('Income Statement'!CNM12,3)","v":0},{"$f":"ROUND('Income Statement'!CNN12,3)","v":0},{"$f":"ROUND('Income Statement'!CNO12,3)","v":0},{"$f":"ROUND('Income Statement'!CNP12,3)","v":0},{"$f":"ROUND('Income Statement'!CNQ12,3)","v":0},{"$f":"ROUND('Income Statement'!CNR12,3)","v":0},{"$f":"ROUND('Income Statement'!CNS12,3)","v":0},{"$f":"ROUND('Income Statement'!CNT12,3)","v":0},{"$f":"ROUND('Income Statement'!CNU12,3)","v":0},{"$f":"ROUND('Income Statement'!CNV12,3)","v":0},{"$f":"ROUND('Income Statement'!CNW12,3)","v":0},{"$f":"ROUND('Income Statement'!CNX12,3)","v":0},{"$f":"ROUND('Income Statement'!CNY12,3)","v":0},{"$f":"ROUND('Income Statement'!CNZ12,3)","v":0},{"$f":"ROUND('Income Statement'!COA12,3)","v":0},{"$f":"ROUND('Income Statement'!COB12,3)","v":0},{"$f":"ROUND('Income Statement'!COC12,3)","v":0},{"$f":"ROUND('Income Statement'!COD12,3)","v":0},{"$f":"ROUND('Income Statement'!COE12,3)","v":0},{"$f":"ROUND('Income Statement'!COF12,3)","v":0},{"$f":"ROUND('Income Statement'!COG12,3)","v":0},{"$f":"ROUND('Income Statement'!COH12,3)","v":0},{"$f":"ROUND('Income Statement'!COI12,3)","v":0},{"$f":"ROUND('Income Statement'!COJ12,3)","v":0},{"$f":"ROUND('Income Statement'!COK12,3)","v":0},{"$f":"ROUND('Income Statement'!COL12,3)","v":0},{"$f":"ROUND('Income Statement'!COM12,3)","v":0},{"$f":"ROUND('Income Statement'!CON12,3)","v":0},{"$f":"ROUND('Income Statement'!COO12,3)","v":0},{"$f":"ROUND('Income Statement'!COP12,3)","v":0},{"$f":"ROUND('Income Statement'!COQ12,3)","v":0},{"$f":"ROUND('Income Statement'!COR12,3)","v":0},{"$f":"ROUND('Income Statement'!COS12,3)","v":0},{"$f":"ROUND('Income Statement'!COT12,3)","v":0},{"$f":"ROUND('Income Statement'!COU12,3)","v":0},{"$f":"ROUND('Income Statement'!COV12,3)","v":0},{"$f":"ROUND('Income Statement'!COW12,3)","v":0},{"$f":"ROUND('Income Statement'!COX12,3)","v":0},{"$f":"ROUND('Income Statement'!COY12,3)","v":0},{"$f":"ROUND('Income Statement'!COZ12,3)","v":0},{"$f":"ROUND('Income Statement'!CPA12,3)","v":0},{"$f":"ROUND('Income Statement'!CPB12,3)","v":0},{"$f":"ROUND('Income Statement'!CPC12,3)","v":0},{"$f":"ROUND('Income Statement'!CPD12,3)","v":0},{"$f":"ROUND('Income Statement'!CPE12,3)","v":0},{"$f":"ROUND('Income Statement'!CPF12,3)","v":0},{"$f":"ROUND('Income Statement'!CPG12,3)","v":0},{"$f":"ROUND('Income Statement'!CPH12,3)","v":0},{"$f":"ROUND('Income Statement'!CPI12,3)","v":0},{"$f":"ROUND('Income Statement'!CPJ12,3)","v":0},{"$f":"ROUND('Income Statement'!CPK12,3)","v":0},{"$f":"ROUND('Income Statement'!CPL12,3)","v":0},{"$f":"ROUND('Income Statement'!CPM12,3)","v":0},{"$f":"ROUND('Income Statement'!CPN12,3)","v":0},{"$f":"ROUND('Income Statement'!CPO12,3)","v":0},{"$f":"ROUND('Income Statement'!CPP12,3)","v":0},{"$f":"ROUND('Income Statement'!CPQ12,3)","v":0},{"$f":"ROUND('Income Statement'!CPR12,3)","v":0},{"$f":"ROUND('Income Statement'!CPS12,3)","v":0},{"$f":"ROUND('Income Statement'!CPT12,3)","v":0},{"$f":"ROUND('Income Statement'!CPU12,3)","v":0},{"$f":"ROUND('Income Statement'!CPV12,3)","v":0},{"$f":"ROUND('Income Statement'!CPW12,3)","v":0},{"$f":"ROUND('Income Statement'!CPX12,3)","v":0},{"$f":"ROUND('Income Statement'!CPY12,3)","v":0},{"$f":"ROUND('Income Statement'!CPZ12,3)","v":0},{"$f":"ROUND('Income Statement'!CQA12,3)","v":0},{"$f":"ROUND('Income Statement'!CQB12,3)","v":0},{"$f":"ROUND('Income Statement'!CQC12,3)","v":0},{"$f":"ROUND('Income Statement'!CQD12,3)","v":0},{"$f":"ROUND('Income Statement'!CQE12,3)","v":0},{"$f":"ROUND('Income Statement'!CQF12,3)","v":0},{"$f":"ROUND('Income Statement'!CQG12,3)","v":0},{"$f":"ROUND('Income Statement'!CQH12,3)","v":0},{"$f":"ROUND('Income Statement'!CQI12,3)","v":0},{"$f":"ROUND('Income Statement'!CQJ12,3)","v":0},{"$f":"ROUND('Income Statement'!CQK12,3)","v":0},{"$f":"ROUND('Income Statement'!CQL12,3)","v":0},{"$f":"ROUND('Income Statement'!CQM12,3)","v":0},{"$f":"ROUND('Income Statement'!CQN12,3)","v":0},{"$f":"ROUND('Income Statement'!CQO12,3)","v":0},{"$f":"ROUND('Income Statement'!CQP12,3)","v":0},{"$f":"ROUND('Income Statement'!CQQ12,3)","v":0},{"$f":"ROUND('Income Statement'!CQR12,3)","v":0},{"$f":"ROUND('Income Statement'!CQS12,3)","v":0},{"$f":"ROUND('Income Statement'!CQT12,3)","v":0},{"$f":"ROUND('Income Statement'!CQU12,3)","v":0},{"$f":"ROUND('Income Statement'!CQV12,3)","v":0},{"$f":"ROUND('Income Statement'!CQW12,3)","v":0},{"$f":"ROUND('Income Statement'!CQX12,3)","v":0},{"$f":"ROUND('Income Statement'!CQY12,3)","v":0},{"$f":"ROUND('Income Statement'!CQZ12,3)","v":0},{"$f":"ROUND('Income Statement'!CRA12,3)","v":0},{"$f":"ROUND('Income Statement'!CRB12,3)","v":0},{"$f":"ROUND('Income Statement'!CRC12,3)","v":0},{"$f":"ROUND('Income Statement'!CRD12,3)","v":0},{"$f":"ROUND('Income Statement'!CRE12,3)","v":0},{"$f":"ROUND('Income Statement'!CRF12,3)","v":0},{"$f":"ROUND('Income Statement'!CRG12,3)","v":0},{"$f":"ROUND('Income Statement'!CRH12,3)","v":0},{"$f":"ROUND('Income Statement'!CRI12,3)","v":0},{"$f":"ROUND('Income Statement'!CRJ12,3)","v":0},{"$f":"ROUND('Income Statement'!CRK12,3)","v":0},{"$f":"ROUND('Income Statement'!CRL12,3)","v":0},{"$f":"ROUND('Income Statement'!CRM12,3)","v":0},{"$f":"ROUND('Income Statement'!CRN12,3)","v":0},{"$f":"ROUND('Income Statement'!CRO12,3)","v":0},{"$f":"ROUND('Income Statement'!CRP12,3)","v":0},{"$f":"ROUND('Income Statement'!CRQ12,3)","v":0},{"$f":"ROUND('Income Statement'!CRR12,3)","v":0},{"$f":"ROUND('Income Statement'!CRS12,3)","v":0},{"$f":"ROUND('Income Statement'!CRT12,3)","v":0},{"$f":"ROUND('Income Statement'!CRU12,3)","v":0},{"$f":"ROUND('Income Statement'!CRV12,3)","v":0},{"$f":"ROUND('Income Statement'!CRW12,3)","v":0},{"$f":"ROUND('Income Statement'!CRX12,3)","v":0},{"$f":"ROUND('Income Statement'!CRY12,3)","v":0},{"$f":"ROUND('Income Statement'!CRZ12,3)","v":0},{"$f":"ROUND('Income Statement'!CSA12,3)","v":0},{"$f":"ROUND('Income Statement'!CSB12,3)","v":0},{"$f":"ROUND('Income Statement'!CSC12,3)","v":0},{"$f":"ROUND('Income Statement'!CSD12,3)","v":0},{"$f":"ROUND('Income Statement'!CSE12,3)","v":0},{"$f":"ROUND('Income Statement'!CSF12,3)","v":0},{"$f":"ROUND('Income Statement'!CSG12,3)","v":0},{"$f":"ROUND('Income Statement'!CSH12,3)","v":0},{"$f":"ROUND('Income Statement'!CSI12,3)","v":0},{"$f":"ROUND('Income Statement'!CSJ12,3)","v":0},{"$f":"ROUND('Income Statement'!CSK12,3)","v":0},{"$f":"ROUND('Income Statement'!CSL12,3)","v":0},{"$f":"ROUND('Income Statement'!CSM12,3)","v":0},{"$f":"ROUND('Income Statement'!CSN12,3)","v":0},{"$f":"ROUND('Income Statement'!CSO12,3)","v":0},{"$f":"ROUND('Income Statement'!CSP12,3)","v":0},{"$f":"ROUND('Income Statement'!CSQ12,3)","v":0},{"$f":"ROUND('Income Statement'!CSR12,3)","v":0},{"$f":"ROUND('Income Statement'!CSS12,3)","v":0},{"$f":"ROUND('Income Statement'!CST12,3)","v":0},{"$f":"ROUND('Income Statement'!CSU12,3)","v":0},{"$f":"ROUND('Income Statement'!CSV12,3)","v":0},{"$f":"ROUND('Income Statement'!CSW12,3)","v":0},{"$f":"ROUND('Income Statement'!CSX12,3)","v":0},{"$f":"ROUND('Income Statement'!CSY12,3)","v":0},{"$f":"ROUND('Income Statement'!CSZ12,3)","v":0},{"$f":"ROUND('Income Statement'!CTA12,3)","v":0},{"$f":"ROUND('Income Statement'!CTB12,3)","v":0},{"$f":"ROUND('Income Statement'!CTC12,3)","v":0},{"$f":"ROUND('Income Statement'!CTD12,3)","v":0},{"$f":"ROUND('Income Statement'!CTE12,3)","v":0},{"$f":"ROUND('Income Statement'!CTF12,3)","v":0},{"$f":"ROUND('Income Statement'!CTG12,3)","v":0},{"$f":"ROUND('Income Statement'!CTH12,3)","v":0},{"$f":"ROUND('Income Statement'!CTI12,3)","v":0},{"$f":"ROUND('Income Statement'!CTJ12,3)","v":0},{"$f":"ROUND('Income Statement'!CTK12,3)","v":0},{"$f":"ROUND('Income Statement'!CTL12,3)","v":0},{"$f":"ROUND('Income Statement'!CTM12,3)","v":0},{"$f":"ROUND('Income Statement'!CTN12,3)","v":0},{"$f":"ROUND('Income Statement'!CTO12,3)","v":0},{"$f":"ROUND('Income Statement'!CTP12,3)","v":0},{"$f":"ROUND('Income Statement'!CTQ12,3)","v":0},{"$f":"ROUND('Income Statement'!CTR12,3)","v":0},{"$f":"ROUND('Income Statement'!CTS12,3)","v":0},{"$f":"ROUND('Income Statement'!CTT12,3)","v":0},{"$f":"ROUND('Income Statement'!CTU12,3)","v":0},{"$f":"ROUND('Income Statement'!CTV12,3)","v":0},{"$f":"ROUND('Income Statement'!CTW12,3)","v":0},{"$f":"ROUND('Income Statement'!CTX12,3)","v":0},{"$f":"ROUND('Income Statement'!CTY12,3)","v":0},{"$f":"ROUND('Income Statement'!CTZ12,3)","v":0},{"$f":"ROUND('Income Statement'!CUA12,3)","v":0},{"$f":"ROUND('Income Statement'!CUB12,3)","v":0},{"$f":"ROUND('Income Statement'!CUC12,3)","v":0},{"$f":"ROUND('Income Statement'!CUD12,3)","v":0},{"$f":"ROUND('Income Statement'!CUE12,3)","v":0},{"$f":"ROUND('Income Statement'!CUF12,3)","v":0},{"$f":"ROUND('Income Statement'!CUG12,3)","v":0},{"$f":"ROUND('Income Statement'!CUH12,3)","v":0},{"$f":"ROUND('Income Statement'!CUI12,3)","v":0},{"$f":"ROUND('Income Statement'!CUJ12,3)","v":0},{"$f":"ROUND('Income Statement'!CUK12,3)","v":0},{"$f":"ROUND('Income Statement'!CUL12,3)","v":0},{"$f":"ROUND('Income Statement'!CUM12,3)","v":0},{"$f":"ROUND('Income Statement'!CUN12,3)","v":0},{"$f":"ROUND('Income Statement'!CUO12,3)","v":0},{"$f":"ROUND('Income Statement'!CUP12,3)","v":0},{"$f":"ROUND('Income Statement'!CUQ12,3)","v":0},{"$f":"ROUND('Income Statement'!CUR12,3)","v":0},{"$f":"ROUND('Income Statement'!CUS12,3)","v":0},{"$f":"ROUND('Income Statement'!CUT12,3)","v":0},{"$f":"ROUND('Income Statement'!CUU12,3)","v":0},{"$f":"ROUND('Income Statement'!CUV12,3)","v":0},{"$f":"ROUND('Income Statement'!CUW12,3)","v":0},{"$f":"ROUND('Income Statement'!CUX12,3)","v":0},{"$f":"ROUND('Income Statement'!CUY12,3)","v":0},{"$f":"ROUND('Income Statement'!CUZ12,3)","v":0},{"$f":"ROUND('Income Statement'!CVA12,3)","v":0},{"$f":"ROUND('Income Statement'!CVB12,3)","v":0},{"$f":"ROUND('Income Statement'!CVC12,3)","v":0},{"$f":"ROUND('Income Statement'!CVD12,3)","v":0},{"$f":"ROUND('Income Statement'!CVE12,3)","v":0},{"$f":"ROUND('Income Statement'!CVF12,3)","v":0},{"$f":"ROUND('Income Statement'!CVG12,3)","v":0},{"$f":"ROUND('Income Statement'!CVH12,3)","v":0},{"$f":"ROUND('Income Statement'!CVI12,3)","v":0},{"$f":"ROUND('Income Statement'!CVJ12,3)","v":0},{"$f":"ROUND('Income Statement'!CVK12,3)","v":0},{"$f":"ROUND('Income Statement'!CVL12,3)","v":0},{"$f":"ROUND('Income Statement'!CVM12,3)","v":0},{"$f":"ROUND('Income Statement'!CVN12,3)","v":0},{"$f":"ROUND('Income Statement'!CVO12,3)","v":0},{"$f":"ROUND('Income Statement'!CVP12,3)","v":0},{"$f":"ROUND('Income Statement'!CVQ12,3)","v":0},{"$f":"ROUND('Income Statement'!CVR12,3)","v":0},{"$f":"ROUND('Income Statement'!CVS12,3)","v":0},{"$f":"ROUND('Income Statement'!CVT12,3)","v":0},{"$f":"ROUND('Income Statement'!CVU12,3)","v":0},{"$f":"ROUND('Income Statement'!CVV12,3)","v":0},{"$f":"ROUND('Income Statement'!CVW12,3)","v":0},{"$f":"ROUND('Income Statement'!CVX12,3)","v":0},{"$f":"ROUND('Income Statement'!CVY12,3)","v":0},{"$f":"ROUND('Income Statement'!CVZ12,3)","v":0},{"$f":"ROUND('Income Statement'!CWA12,3)","v":0},{"$f":"ROUND('Income Statement'!CWB12,3)","v":0},{"$f":"ROUND('Income Statement'!CWC12,3)","v":0},{"$f":"ROUND('Income Statement'!CWD12,3)","v":0},{"$f":"ROUND('Income Statement'!CWE12,3)","v":0},{"$f":"ROUND('Income Statement'!CWF12,3)","v":0},{"$f":"ROUND('Income Statement'!CWG12,3)","v":0},{"$f":"ROUND('Income Statement'!CWH12,3)","v":0},{"$f":"ROUND('Income Statement'!CWI12,3)","v":0},{"$f":"ROUND('Income Statement'!CWJ12,3)","v":0},{"$f":"ROUND('Income Statement'!CWK12,3)","v":0},{"$f":"ROUND('Income Statement'!CWL12,3)","v":0},{"$f":"ROUND('Income Statement'!CWM12,3)","v":0},{"$f":"ROUND('Income Statement'!CWN12,3)","v":0},{"$f":"ROUND('Income Statement'!CWO12,3)","v":0},{"$f":"ROUND('Income Statement'!CWP12,3)","v":0},{"$f":"ROUND('Income Statement'!CWQ12,3)","v":0},{"$f":"ROUND('Income Statement'!CWR12,3)","v":0},{"$f":"ROUND('Income Statement'!CWS12,3)","v":0},{"$f":"ROUND('Income Statement'!CWT12,3)","v":0},{"$f":"ROUND('Income Statement'!CWU12,3)","v":0},{"$f":"ROUND('Income Statement'!CWV12,3)","v":0},{"$f":"ROUND('Income Statement'!CWW12,3)","v":0},{"$f":"ROUND('Income Statement'!CWX12,3)","v":0},{"$f":"ROUND('Income Statement'!CWY12,3)","v":0},{"$f":"ROUND('Income Statement'!CWZ12,3)","v":0},{"$f":"ROUND('Income Statement'!CXA12,3)","v":0},{"$f":"ROUND('Income Statement'!CXB12,3)","v":0},{"$f":"ROUND('Income Statement'!CXC12,3)","v":0},{"$f":"ROUND('Income Statement'!CXD12,3)","v":0},{"$f":"ROUND('Income Statement'!CXE12,3)","v":0},{"$f":"ROUND('Income Statement'!CXF12,3)","v":0},{"$f":"ROUND('Income Statement'!CXG12,3)","v":0},{"$f":"ROUND('Income Statement'!CXH12,3)","v":0},{"$f":"ROUND('Income Statement'!CXI12,3)","v":0},{"$f":"ROUND('Income Statement'!CXJ12,3)","v":0},{"$f":"ROUND('Income Statement'!CXK12,3)","v":0},{"$f":"ROUND('Income Statement'!CXL12,3)","v":0},{"$f":"ROUND('Income Statement'!CXM12,3)","v":0},{"$f":"ROUND('Income Statement'!CXN12,3)","v":0},{"$f":"ROUND('Income Statement'!CXO12,3)","v":0},{"$f":"ROUND('Income Statement'!CXP12,3)","v":0},{"$f":"ROUND('Income Statement'!CXQ12,3)","v":0},{"$f":"ROUND('Income Statement'!CXR12,3)","v":0},{"$f":"ROUND('Income Statement'!CXS12,3)","v":0},{"$f":"ROUND('Income Statement'!CXT12,3)","v":0},{"$f":"ROUND('Income Statement'!CXU12,3)","v":0},{"$f":"ROUND('Income Statement'!CXV12,3)","v":0},{"$f":"ROUND('Income Statement'!CXW12,3)","v":0},{"$f":"ROUND('Income Statement'!CXX12,3)","v":0},{"$f":"ROUND('Income Statement'!CXY12,3)","v":0},{"$f":"ROUND('Income Statement'!CXZ12,3)","v":0},{"$f":"ROUND('Income Statement'!CYA12,3)","v":0},{"$f":"ROUND('Income Statement'!CYB12,3)","v":0},{"$f":"ROUND('Income Statement'!CYC12,3)","v":0},{"$f":"ROUND('Income Statement'!CYD12,3)","v":0},{"$f":"ROUND('Income Statement'!CYE12,3)","v":0},{"$f":"ROUND('Income Statement'!CYF12,3)","v":0},{"$f":"ROUND('Income Statement'!CYG12,3)","v":0},{"$f":"ROUND('Income Statement'!CYH12,3)","v":0},{"$f":"ROUND('Income Statement'!CYI12,3)","v":0},{"$f":"ROUND('Income Statement'!CYJ12,3)","v":0},{"$f":"ROUND('Income Statement'!CYK12,3)","v":0},{"$f":"ROUND('Income Statement'!CYL12,3)","v":0},{"$f":"ROUND('Income Statement'!CYM12,3)","v":0},{"$f":"ROUND('Income Statement'!CYN12,3)","v":0},{"$f":"ROUND('Income Statement'!CYO12,3)","v":0},{"$f":"ROUND('Income Statement'!CYP12,3)","v":0},{"$f":"ROUND('Income Statement'!CYQ12,3)","v":0},{"$f":"ROUND('Income Statement'!CYR12,3)","v":0},{"$f":"ROUND('Income Statement'!CYS12,3)","v":0},{"$f":"ROUND('Income Statement'!CYT12,3)","v":0},{"$f":"ROUND('Income Statement'!CYU12,3)","v":0},{"$f":"ROUND('Income Statement'!CYV12,3)","v":0},{"$f":"ROUND('Income Statement'!CYW12,3)","v":0},{"$f":"ROUND('Income Statement'!CYX12,3)","v":0},{"$f":"ROUND('Income Statement'!CYY12,3)","v":0},{"$f":"ROUND('Income Statement'!CYZ12,3)","v":0},{"$f":"ROUND('Income Statement'!CZA12,3)","v":0},{"$f":"ROUND('Income Statement'!CZB12,3)","v":0},{"$f":"ROUND('Income Statement'!CZC12,3)","v":0},{"$f":"ROUND('Income Statement'!CZD12,3)","v":0},{"$f":"ROUND('Income Statement'!CZE12,3)","v":0},{"$f":"ROUND('Income Statement'!CZF12,3)","v":0},{"$f":"ROUND('Income Statement'!CZG12,3)","v":0},{"$f":"ROUND('Income Statement'!CZH12,3)","v":0},{"$f":"ROUND('Income Statement'!CZI12,3)","v":0},{"$f":"ROUND('Income Statement'!CZJ12,3)","v":0},{"$f":"ROUND('Income Statement'!CZK12,3)","v":0},{"$f":"ROUND('Income Statement'!CZL12,3)","v":0},{"$f":"ROUND('Income Statement'!CZM12,3)","v":0},{"$f":"ROUND('Income Statement'!CZN12,3)","v":0},{"$f":"ROUND('Income Statement'!CZO12,3)","v":0},{"$f":"ROUND('Income Statement'!CZP12,3)","v":0},{"$f":"ROUND('Income Statement'!CZQ12,3)","v":0},{"$f":"ROUND('Income Statement'!CZR12,3)","v":0},{"$f":"ROUND('Income Statement'!CZS12,3)","v":0},{"$f":"ROUND('Income Statement'!CZT12,3)","v":0},{"$f":"ROUND('Income Statement'!CZU12,3)","v":0},{"$f":"ROUND('Income Statement'!CZV12,3)","v":0},{"$f":"ROUND('Income Statement'!CZW12,3)","v":0},{"$f":"ROUND('Income Statement'!CZX12,3)","v":0},{"$f":"ROUND('Income Statement'!CZY12,3)","v":0},{"$f":"ROUND('Income Statement'!CZZ12,3)","v":0},{"$f":"ROUND('Income Statement'!DAA12,3)","v":0},{"$f":"ROUND('Income Statement'!DAB12,3)","v":0},{"$f":"ROUND('Income Statement'!DAC12,3)","v":0},{"$f":"ROUND('Income Statement'!DAD12,3)","v":0},{"$f":"ROUND('Income Statement'!DAE12,3)","v":0},{"$f":"ROUND('Income Statement'!DAF12,3)","v":0},{"$f":"ROUND('Income Statement'!DAG12,3)","v":0},{"$f":"ROUND('Income Statement'!DAH12,3)","v":0},{"$f":"ROUND('Income Statement'!DAI12,3)","v":0},{"$f":"ROUND('Income Statement'!DAJ12,3)","v":0},{"$f":"ROUND('Income Statement'!DAK12,3)","v":0},{"$f":"ROUND('Income Statement'!DAL12,3)","v":0},{"$f":"ROUND('Income Statement'!DAM12,3)","v":0},{"$f":"ROUND('Income Statement'!DAN12,3)","v":0},{"$f":"ROUND('Income Statement'!DAO12,3)","v":0},{"$f":"ROUND('Income Statement'!DAP12,3)","v":0},{"$f":"ROUND('Income Statement'!DAQ12,3)","v":0},{"$f":"ROUND('Income Statement'!DAR12,3)","v":0},{"$f":"ROUND('Income Statement'!DAS12,3)","v":0},{"$f":"ROUND('Income Statement'!DAT12,3)","v":0},{"$f":"ROUND('Income Statement'!DAU12,3)","v":0},{"$f":"ROUND('Income Statement'!DAV12,3)","v":0},{"$f":"ROUND('Income Statement'!DAW12,3)","v":0},{"$f":"ROUND('Income Statement'!DAX12,3)","v":0},{"$f":"ROUND('Income Statement'!DAY12,3)","v":0},{"$f":"ROUND('Income Statement'!DAZ12,3)","v":0},{"$f":"ROUND('Income Statement'!DBA12,3)","v":0},{"$f":"ROUND('Income Statement'!DBB12,3)","v":0},{"$f":"ROUND('Income Statement'!DBC12,3)","v":0},{"$f":"ROUND('Income Statement'!DBD12,3)","v":0},{"$f":"ROUND('Income Statement'!DBE12,3)","v":0},{"$f":"ROUND('Income Statement'!DBF12,3)","v":0},{"$f":"ROUND('Income Statement'!DBG12,3)","v":0},{"$f":"ROUND('Income Statement'!DBH12,3)","v":0},{"$f":"ROUND('Income Statement'!DBI12,3)","v":0},{"$f":"ROUND('Income Statement'!DBJ12,3)","v":0},{"$f":"ROUND('Income Statement'!DBK12,3)","v":0},{"$f":"ROUND('Income Statement'!DBL12,3)","v":0},{"$f":"ROUND('Income Statement'!DBM12,3)","v":0},{"$f":"ROUND('Income Statement'!DBN12,3)","v":0},{"$f":"ROUND('Income Statement'!DBO12,3)","v":0},{"$f":"ROUND('Income Statement'!DBP12,3)","v":0},{"$f":"ROUND('Income Statement'!DBQ12,3)","v":0},{"$f":"ROUND('Income Statement'!DBR12,3)","v":0},{"$f":"ROUND('Income Statement'!DBS12,3)","v":0},{"$f":"ROUND('Income Statement'!DBT12,3)","v":0},{"$f":"ROUND('Income Statement'!DBU12,3)","v":0},{"$f":"ROUND('Income Statement'!DBV12,3)","v":0},{"$f":"ROUND('Income Statement'!DBW12,3)","v":0},{"$f":"ROUND('Income Statement'!DBX12,3)","v":0},{"$f":"ROUND('Income Statement'!DBY12,3)","v":0},{"$f":"ROUND('Income Statement'!DBZ12,3)","v":0},{"$f":"ROUND('Income Statement'!DCA12,3)","v":0},{"$f":"ROUND('Income Statement'!DCB12,3)","v":0},{"$f":"ROUND('Income Statement'!DCC12,3)","v":0},{"$f":"ROUND('Income Statement'!DCD12,3)","v":0},{"$f":"ROUND('Income Statement'!DCE12,3)","v":0},{"$f":"ROUND('Income Statement'!DCF12,3)","v":0},{"$f":"ROUND('Income Statement'!DCG12,3)","v":0},{"$f":"ROUND('Income Statement'!DCH12,3)","v":0},{"$f":"ROUND('Income Statement'!DCI12,3)","v":0},{"$f":"ROUND('Income Statement'!DCJ12,3)","v":0},{"$f":"ROUND('Income Statement'!DCK12,3)","v":0},{"$f":"ROUND('Income Statement'!DCL12,3)","v":0},{"$f":"ROUND('Income Statement'!DCM12,3)","v":0},{"$f":"ROUND('Income Statement'!DCN12,3)","v":0},{"$f":"ROUND('Income Statement'!DCO12,3)","v":0},{"$f":"ROUND('Income Statement'!DCP12,3)","v":0},{"$f":"ROUND('Income Statement'!DCQ12,3)","v":0},{"$f":"ROUND('Income Statement'!DCR12,3)","v":0},{"$f":"ROUND('Income Statement'!DCS12,3)","v":0},{"$f":"ROUND('Income Statement'!DCT12,3)","v":0},{"$f":"ROUND('Income Statement'!DCU12,3)","v":0},{"$f":"ROUND('Income Statement'!DCV12,3)","v":0},{"$f":"ROUND('Income Statement'!DCW12,3)","v":0},{"$f":"ROUND('Income Statement'!DCX12,3)","v":0},{"$f":"ROUND('Income Statement'!DCY12,3)","v":0},{"$f":"ROUND('Income Statement'!DCZ12,3)","v":0},{"$f":"ROUND('Income Statement'!DDA12,3)","v":0},{"$f":"ROUND('Income Statement'!DDB12,3)","v":0},{"$f":"ROUND('Income Statement'!DDC12,3)","v":0},{"$f":"ROUND('Income Statement'!DDD12,3)","v":0},{"$f":"ROUND('Income Statement'!DDE12,3)","v":0},{"$f":"ROUND('Income Statement'!DDF12,3)","v":0},{"$f":"ROUND('Income Statement'!DDG12,3)","v":0},{"$f":"ROUND('Income Statement'!DDH12,3)","v":0},{"$f":"ROUND('Income Statement'!DDI12,3)","v":0},{"$f":"ROUND('Income Statement'!DDJ12,3)","v":0},{"$f":"ROUND('Income Statement'!DDK12,3)","v":0},{"$f":"ROUND('Income Statement'!DDL12,3)","v":0},{"$f":"ROUND('Income Statement'!DDM12,3)","v":0},{"$f":"ROUND('Income Statement'!DDN12,3)","v":0},{"$f":"ROUND('Income Statement'!DDO12,3)","v":0},{"$f":"ROUND('Income Statement'!DDP12,3)","v":0},{"$f":"ROUND('Income Statement'!DDQ12,3)","v":0},{"$f":"ROUND('Income Statement'!DDR12,3)","v":0},{"$f":"ROUND('Income Statement'!DDS12,3)","v":0},{"$f":"ROUND('Income Statement'!DDT12,3)","v":0},{"$f":"ROUND('Income Statement'!DDU12,3)","v":0},{"$f":"ROUND('Income Statement'!DDV12,3)","v":0},{"$f":"ROUND('Income Statement'!DDW12,3)","v":0},{"$f":"ROUND('Income Statement'!DDX12,3)","v":0},{"$f":"ROUND('Income Statement'!DDY12,3)","v":0},{"$f":"ROUND('Income Statement'!DDZ12,3)","v":0},{"$f":"ROUND('Income Statement'!DEA12,3)","v":0},{"$f":"ROUND('Income Statement'!DEB12,3)","v":0},{"$f":"ROUND('Income Statement'!DEC12,3)","v":0},{"$f":"ROUND('Income Statement'!DED12,3)","v":0},{"$f":"ROUND('Income Statement'!DEE12,3)","v":0},{"$f":"ROUND('Income Statement'!DEF12,3)","v":0},{"$f":"ROUND('Income Statement'!DEG12,3)","v":0},{"$f":"ROUND('Income Statement'!DEH12,3)","v":0},{"$f":"ROUND('Income Statement'!DEI12,3)","v":0},{"$f":"ROUND('Income Statement'!DEJ12,3)","v":0},{"$f":"ROUND('Income Statement'!DEK12,3)","v":0},{"$f":"ROUND('Income Statement'!DEL12,3)","v":0},{"$f":"ROUND('Income Statement'!DEM12,3)","v":0},{"$f":"ROUND('Income Statement'!DEN12,3)","v":0},{"$f":"ROUND('Income Statement'!DEO12,3)","v":0},{"$f":"ROUND('Income Statement'!DEP12,3)","v":0},{"$f":"ROUND('Income Statement'!DEQ12,3)","v":0},{"$f":"ROUND('Income Statement'!DER12,3)","v":0},{"$f":"ROUND('Income Statement'!DES12,3)","v":0},{"$f":"ROUND('Income Statement'!DET12,3)","v":0},{"$f":"ROUND('Income Statement'!DEU12,3)","v":0},{"$f":"ROUND('Income Statement'!DEV12,3)","v":0},{"$f":"ROUND('Income Statement'!DEW12,3)","v":0},{"$f":"ROUND('Income Statement'!DEX12,3)","v":0},{"$f":"ROUND('Income Statement'!DEY12,3)","v":0},{"$f":"ROUND('Income Statement'!DEZ12,3)","v":0},{"$f":"ROUND('Income Statement'!DFA12,3)","v":0},{"$f":"ROUND('Income Statement'!DFB12,3)","v":0},{"$f":"ROUND('Income Statement'!DFC12,3)","v":0},{"$f":"ROUND('Income Statement'!DFD12,3)","v":0},{"$f":"ROUND('Income Statement'!DFE12,3)","v":0},{"$f":"ROUND('Income Statement'!DFF12,3)","v":0},{"$f":"ROUND('Income Statement'!DFG12,3)","v":0},{"$f":"ROUND('Income Statement'!DFH12,3)","v":0},{"$f":"ROUND('Income Statement'!DFI12,3)","v":0},{"$f":"ROUND('Income Statement'!DFJ12,3)","v":0},{"$f":"ROUND('Income Statement'!DFK12,3)","v":0},{"$f":"ROUND('Income Statement'!DFL12,3)","v":0},{"$f":"ROUND('Income Statement'!DFM12,3)","v":0},{"$f":"ROUND('Income Statement'!DFN12,3)","v":0},{"$f":"ROUND('Income Statement'!DFO12,3)","v":0},{"$f":"ROUND('Income Statement'!DFP12,3)","v":0},{"$f":"ROUND('Income Statement'!DFQ12,3)","v":0},{"$f":"ROUND('Income Statement'!DFR12,3)","v":0},{"$f":"ROUND('Income Statement'!DFS12,3)","v":0},{"$f":"ROUND('Income Statement'!DFT12,3)","v":0},{"$f":"ROUND('Income Statement'!DFU12,3)","v":0},{"$f":"ROUND('Income Statement'!DFV12,3)","v":0},{"$f":"ROUND('Income Statement'!DFW12,3)","v":0},{"$f":"ROUND('Income Statement'!DFX12,3)","v":0},{"$f":"ROUND('Income Statement'!DFY12,3)","v":0},{"$f":"ROUND('Income Statement'!DFZ12,3)","v":0},{"$f":"ROUND('Income Statement'!DGA12,3)","v":0},{"$f":"ROUND('Income Statement'!DGB12,3)","v":0},{"$f":"ROUND('Income Statement'!DGC12,3)","v":0},{"$f":"ROUND('Income Statement'!DGD12,3)","v":0},{"$f":"ROUND('Income Statement'!DGE12,3)","v":0},{"$f":"ROUND('Income Statement'!DGF12,3)","v":0},{"$f":"ROUND('Income Statement'!DGG12,3)","v":0},{"$f":"ROUND('Income Statement'!DGH12,3)","v":0},{"$f":"ROUND('Income Statement'!DGI12,3)","v":0},{"$f":"ROUND('Income Statement'!DGJ12,3)","v":0},{"$f":"ROUND('Income Statement'!DGK12,3)","v":0},{"$f":"ROUND('Income Statement'!DGL12,3)","v":0},{"$f":"ROUND('Income Statement'!DGM12,3)","v":0},{"$f":"ROUND('Income Statement'!DGN12,3)","v":0},{"$f":"ROUND('Income Statement'!DGO12,3)","v":0},{"$f":"ROUND('Income Statement'!DGP12,3)","v":0},{"$f":"ROUND('Income Statement'!DGQ12,3)","v":0},{"$f":"ROUND('Income Statement'!DGR12,3)","v":0},{"$f":"ROUND('Income Statement'!DGS12,3)","v":0},{"$f":"ROUND('Income Statement'!DGT12,3)","v":0},{"$f":"ROUND('Income Statement'!DGU12,3)","v":0},{"$f":"ROUND('Income Statement'!DGV12,3)","v":0},{"$f":"ROUND('Income Statement'!DGW12,3)","v":0},{"$f":"ROUND('Income Statement'!DGX12,3)","v":0},{"$f":"ROUND('Income Statement'!DGY12,3)","v":0},{"$f":"ROUND('Income Statement'!DGZ12,3)","v":0},{"$f":"ROUND('Income Statement'!DHA12,3)","v":0},{"$f":"ROUND('Income Statement'!DHB12,3)","v":0},{"$f":"ROUND('Income Statement'!DHC12,3)","v":0},{"$f":"ROUND('Income Statement'!DHD12,3)","v":0},{"$f":"ROUND('Income Statement'!DHE12,3)","v":0},{"$f":"ROUND('Income Statement'!DHF12,3)","v":0},{"$f":"ROUND('Income Statement'!DHG12,3)","v":0},{"$f":"ROUND('Income Statement'!DHH12,3)","v":0},{"$f":"ROUND('Income Statement'!DHI12,3)","v":0},{"$f":"ROUND('Income Statement'!DHJ12,3)","v":0},{"$f":"ROUND('Income Statement'!DHK12,3)","v":0},{"$f":"ROUND('Income Statement'!DHL12,3)","v":0},{"$f":"ROUND('Income Statement'!DHM12,3)","v":0},{"$f":"ROUND('Income Statement'!DHN12,3)","v":0},{"$f":"ROUND('Income Statement'!DHO12,3)","v":0},{"$f":"ROUND('Income Statement'!DHP12,3)","v":0},{"$f":"ROUND('Income Statement'!DHQ12,3)","v":0},{"$f":"ROUND('Income Statement'!DHR12,3)","v":0},{"$f":"ROUND('Income Statement'!DHS12,3)","v":0},{"$f":"ROUND('Income Statement'!DHT12,3)","v":0},{"$f":"ROUND('Income Statement'!DHU12,3)","v":0},{"$f":"ROUND('Income Statement'!DHV12,3)","v":0},{"$f":"ROUND('Income Statement'!DHW12,3)","v":0},{"$f":"ROUND('Income Statement'!DHX12,3)","v":0},{"$f":"ROUND('Income Statement'!DHY12,3)","v":0},{"$f":"ROUND('Income Statement'!DHZ12,3)","v":0},{"$f":"ROUND('Income Statement'!DIA12,3)","v":0},{"$f":"ROUND('Income Statement'!DIB12,3)","v":0},{"$f":"ROUND('Income Statement'!DIC12,3)","v":0},{"$f":"ROUND('Income Statement'!DID12,3)","v":0},{"$f":"ROUND('Income Statement'!DIE12,3)","v":0},{"$f":"ROUND('Income Statement'!DIF12,3)","v":0},{"$f":"ROUND('Income Statement'!DIG12,3)","v":0},{"$f":"ROUND('Income Statement'!DIH12,3)","v":0},{"$f":"ROUND('Income Statement'!DII12,3)","v":0},{"$f":"ROUND('Income Statement'!DIJ12,3)","v":0},{"$f":"ROUND('Income Statement'!DIK12,3)","v":0},{"$f":"ROUND('Income Statement'!DIL12,3)","v":0},{"$f":"ROUND('Income Statement'!DIM12,3)","v":0},{"$f":"ROUND('Income Statement'!DIN12,3)","v":0},{"$f":"ROUND('Income Statement'!DIO12,3)","v":0},{"$f":"ROUND('Income Statement'!DIP12,3)","v":0},{"$f":"ROUND('Income Statement'!DIQ12,3)","v":0},{"$f":"ROUND('Income Statement'!DIR12,3)","v":0},{"$f":"ROUND('Income Statement'!DIS12,3)","v":0},{"$f":"ROUND('Income Statement'!DIT12,3)","v":0},{"$f":"ROUND('Income Statement'!DIU12,3)","v":0},{"$f":"ROUND('Income Statement'!DIV12,3)","v":0},{"$f":"ROUND('Income Statement'!DIW12,3)","v":0},{"$f":"ROUND('Income Statement'!DIX12,3)","v":0},{"$f":"ROUND('Income Statement'!DIY12,3)","v":0},{"$f":"ROUND('Income Statement'!DIZ12,3)","v":0},{"$f":"ROUND('Income Statement'!DJA12,3)","v":0},{"$f":"ROUND('Income Statement'!DJB12,3)","v":0},{"$f":"ROUND('Income Statement'!DJC12,3)","v":0},{"$f":"ROUND('Income Statement'!DJD12,3)","v":0},{"$f":"ROUND('Income Statement'!DJE12,3)","v":0},{"$f":"ROUND('Income Statement'!DJF12,3)","v":0},{"$f":"ROUND('Income Statement'!DJG12,3)","v":0},{"$f":"ROUND('Income Statement'!DJH12,3)","v":0},{"$f":"ROUND('Income Statement'!DJI12,3)","v":0},{"$f":"ROUND('Income Statement'!DJJ12,3)","v":0},{"$f":"ROUND('Income Statement'!DJK12,3)","v":0},{"$f":"ROUND('Income Statement'!DJL12,3)","v":0},{"$f":"ROUND('Income Statement'!DJM12,3)","v":0},{"$f":"ROUND('Income Statement'!DJN12,3)","v":0},{"$f":"ROUND('Income Statement'!DJO12,3)","v":0},{"$f":"ROUND('Income Statement'!DJP12,3)","v":0},{"$f":"ROUND('Income Statement'!DJQ12,3)","v":0},{"$f":"ROUND('Income Statement'!DJR12,3)","v":0},{"$f":"ROUND('Income Statement'!DJS12,3)","v":0},{"$f":"ROUND('Income Statement'!DJT12,3)","v":0},{"$f":"ROUND('Income Statement'!DJU12,3)","v":0},{"$f":"ROUND('Income Statement'!DJV12,3)","v":0},{"$f":"ROUND('Income Statement'!DJW12,3)","v":0},{"$f":"ROUND('Income Statement'!DJX12,3)","v":0},{"$f":"ROUND('Income Statement'!DJY12,3)","v":0},{"$f":"ROUND('Income Statement'!DJZ12,3)","v":0},{"$f":"ROUND('Income Statement'!DKA12,3)","v":0},{"$f":"ROUND('Income Statement'!DKB12,3)","v":0},{"$f":"ROUND('Income Statement'!DKC12,3)","v":0},{"$f":"ROUND('Income Statement'!DKD12,3)","v":0},{"$f":"ROUND('Income Statement'!DKE12,3)","v":0},{"$f":"ROUND('Income Statement'!DKF12,3)","v":0},{"$f":"ROUND('Income Statement'!DKG12,3)","v":0},{"$f":"ROUND('Income Statement'!DKH12,3)","v":0},{"$f":"ROUND('Income Statement'!DKI12,3)","v":0},{"$f":"ROUND('Income Statement'!DKJ12,3)","v":0},{"$f":"ROUND('Income Statement'!DKK12,3)","v":0},{"$f":"ROUND('Income Statement'!DKL12,3)","v":0},{"$f":"ROUND('Income Statement'!DKM12,3)","v":0},{"$f":"ROUND('Income Statement'!DKN12,3)","v":0},{"$f":"ROUND('Income Statement'!DKO12,3)","v":0},{"$f":"ROUND('Income Statement'!DKP12,3)","v":0},{"$f":"ROUND('Income Statement'!DKQ12,3)","v":0},{"$f":"ROUND('Income Statement'!DKR12,3)","v":0},{"$f":"ROUND('Income Statement'!DKS12,3)","v":0},{"$f":"ROUND('Income Statement'!DKT12,3)","v":0},{"$f":"ROUND('Income Statement'!DKU12,3)","v":0},{"$f":"ROUND('Income Statement'!DKV12,3)","v":0},{"$f":"ROUND('Income Statement'!DKW12,3)","v":0},{"$f":"ROUND('Income Statement'!DKX12,3)","v":0},{"$f":"ROUND('Income Statement'!DKY12,3)","v":0},{"$f":"ROUND('Income Statement'!DKZ12,3)","v":0},{"$f":"ROUND('Income Statement'!DLA12,3)","v":0},{"$f":"ROUND('Income Statement'!DLB12,3)","v":0},{"$f":"ROUND('Income Statement'!DLC12,3)","v":0},{"$f":"ROUND('Income Statement'!DLD12,3)","v":0},{"$f":"ROUND('Income Statement'!DLE12,3)","v":0},{"$f":"ROUND('Income Statement'!DLF12,3)","v":0},{"$f":"ROUND('Income Statement'!DLG12,3)","v":0},{"$f":"ROUND('Income Statement'!DLH12,3)","v":0},{"$f":"ROUND('Income Statement'!DLI12,3)","v":0},{"$f":"ROUND('Income Statement'!DLJ12,3)","v":0},{"$f":"ROUND('Income Statement'!DLK12,3)","v":0},{"$f":"ROUND('Income Statement'!DLL12,3)","v":0},{"$f":"ROUND('Income Statement'!DLM12,3)","v":0},{"$f":"ROUND('Income Statement'!DLN12,3)","v":0},{"$f":"ROUND('Income Statement'!DLO12,3)","v":0},{"$f":"ROUND('Income Statement'!DLP12,3)","v":0},{"$f":"ROUND('Income Statement'!DLQ12,3)","v":0},{"$f":"ROUND('Income Statement'!DLR12,3)","v":0},{"$f":"ROUND('Income Statement'!DLS12,3)","v":0},{"$f":"ROUND('Income Statement'!DLT12,3)","v":0},{"$f":"ROUND('Income Statement'!DLU12,3)","v":0},{"$f":"ROUND('Income Statement'!DLV12,3)","v":0},{"$f":"ROUND('Income Statement'!DLW12,3)","v":0},{"$f":"ROUND('Income Statement'!DLX12,3)","v":0},{"$f":"ROUND('Income Statement'!DLY12,3)","v":0},{"$f":"ROUND('Income Statement'!DLZ12,3)","v":0},{"$f":"ROUND('Income Statement'!DMA12,3)","v":0},{"$f":"ROUND('Income Statement'!DMB12,3)","v":0},{"$f":"ROUND('Income Statement'!DMC12,3)","v":0},{"$f":"ROUND('Income Statement'!DMD12,3)","v":0},{"$f":"ROUND('Income Statement'!DME12,3)","v":0},{"$f":"ROUND('Income Statement'!DMF12,3)","v":0},{"$f":"ROUND('Income Statement'!DMG12,3)","v":0},{"$f":"ROUND('Income Statement'!DMH12,3)","v":0},{"$f":"ROUND('Income Statement'!DMI12,3)","v":0},{"$f":"ROUND('Income Statement'!DMJ12,3)","v":0},{"$f":"ROUND('Income Statement'!DMK12,3)","v":0},{"$f":"ROUND('Income Statement'!DML12,3)","v":0},{"$f":"ROUND('Income Statement'!DMM12,3)","v":0},{"$f":"ROUND('Income Statement'!DMN12,3)","v":0},{"$f":"ROUND('Income Statement'!DMO12,3)","v":0},{"$f":"ROUND('Income Statement'!DMP12,3)","v":0},{"$f":"ROUND('Income Statement'!DMQ12,3)","v":0},{"$f":"ROUND('Income Statement'!DMR12,3)","v":0},{"$f":"ROUND('Income Statement'!DMS12,3)","v":0},{"$f":"ROUND('Income Statement'!DMT12,3)","v":0},{"$f":"ROUND('Income Statement'!DMU12,3)","v":0},{"$f":"ROUND('Income Statement'!DMV12,3)","v":0},{"$f":"ROUND('Income Statement'!DMW12,3)","v":0},{"$f":"ROUND('Income Statement'!DMX12,3)","v":0},{"$f":"ROUND('Income Statement'!DMY12,3)","v":0},{"$f":"ROUND('Income Statement'!DMZ12,3)","v":0},{"$f":"ROUND('Income Statement'!DNA12,3)","v":0},{"$f":"ROUND('Income Statement'!DNB12,3)","v":0},{"$f":"ROUND('Income Statement'!DNC12,3)","v":0},{"$f":"ROUND('Income Statement'!DND12,3)","v":0},{"$f":"ROUND('Income Statement'!DNE12,3)","v":0},{"$f":"ROUND('Income Statement'!DNF12,3)","v":0},{"$f":"ROUND('Income Statement'!DNG12,3)","v":0},{"$f":"ROUND('Income Statement'!DNH12,3)","v":0},{"$f":"ROUND('Income Statement'!DNI12,3)","v":0},{"$f":"ROUND('Income Statement'!DNJ12,3)","v":0},{"$f":"ROUND('Income Statement'!DNK12,3)","v":0},{"$f":"ROUND('Income Statement'!DNL12,3)","v":0},{"$f":"ROUND('Income Statement'!DNM12,3)","v":0},{"$f":"ROUND('Income Statement'!DNN12,3)","v":0},{"$f":"ROUND('Income Statement'!DNO12,3)","v":0},{"$f":"ROUND('Income Statement'!DNP12,3)","v":0},{"$f":"ROUND('Income Statement'!DNQ12,3)","v":0},{"$f":"ROUND('Income Statement'!DNR12,3)","v":0},{"$f":"ROUND('Income Statement'!DNS12,3)","v":0},{"$f":"ROUND('Income Statement'!DNT12,3)","v":0},{"$f":"ROUND('Income Statement'!DNU12,3)","v":0},{"$f":"ROUND('Income Statement'!DNV12,3)","v":0},{"$f":"ROUND('Income Statement'!DNW12,3)","v":0},{"$f":"ROUND('Income Statement'!DNX12,3)","v":0},{"$f":"ROUND('Income Statement'!DNY12,3)","v":0},{"$f":"ROUND('Income Statement'!DNZ12,3)","v":0},{"$f":"ROUND('Income Statement'!DOA12,3)","v":0},{"$f":"ROUND('Income Statement'!DOB12,3)","v":0},{"$f":"ROUND('Income Statement'!DOC12,3)","v":0},{"$f":"ROUND('Income Statement'!DOD12,3)","v":0},{"$f":"ROUND('Income Statement'!DOE12,3)","v":0},{"$f":"ROUND('Income Statement'!DOF12,3)","v":0},{"$f":"ROUND('Income Statement'!DOG12,3)","v":0},{"$f":"ROUND('Income Statement'!DOH12,3)","v":0},{"$f":"ROUND('Income Statement'!DOI12,3)","v":0},{"$f":"ROUND('Income Statement'!DOJ12,3)","v":0},{"$f":"ROUND('Income Statement'!DOK12,3)","v":0},{"$f":"ROUND('Income Statement'!DOL12,3)","v":0},{"$f":"ROUND('Income Statement'!DOM12,3)","v":0},{"$f":"ROUND('Income Statement'!DON12,3)","v":0},{"$f":"ROUND('Income Statement'!DOO12,3)","v":0},{"$f":"ROUND('Income Statement'!DOP12,3)","v":0},{"$f":"ROUND('Income Statement'!DOQ12,3)","v":0},{"$f":"ROUND('Income Statement'!DOR12,3)","v":0},{"$f":"ROUND('Income Statement'!DOS12,3)","v":0},{"$f":"ROUND('Income Statement'!DOT12,3)","v":0},{"$f":"ROUND('Income Statement'!DOU12,3)","v":0},{"$f":"ROUND('Income Statement'!DOV12,3)","v":0},{"$f":"ROUND('Income Statement'!DOW12,3)","v":0},{"$f":"ROUND('Income Statement'!DOX12,3)","v":0},{"$f":"ROUND('Income Statement'!DOY12,3)","v":0},{"$f":"ROUND('Income Statement'!DOZ12,3)","v":0},{"$f":"ROUND('Income Statement'!DPA12,3)","v":0},{"$f":"ROUND('Income Statement'!DPB12,3)","v":0},{"$f":"ROUND('Income Statement'!DPC12,3)","v":0},{"$f":"ROUND('Income Statement'!DPD12,3)","v":0},{"$f":"ROUND('Income Statement'!DPE12,3)","v":0},{"$f":"ROUND('Income Statement'!DPF12,3)","v":0},{"$f":"ROUND('Income Statement'!DPG12,3)","v":0},{"$f":"ROUND('Income Statement'!DPH12,3)","v":0},{"$f":"ROUND('Income Statement'!DPI12,3)","v":0},{"$f":"ROUND('Income Statement'!DPJ12,3)","v":0},{"$f":"ROUND('Income Statement'!DPK12,3)","v":0},{"$f":"ROUND('Income Statement'!DPL12,3)","v":0},{"$f":"ROUND('Income Statement'!DPM12,3)","v":0},{"$f":"ROUND('Income Statement'!DPN12,3)","v":0},{"$f":"ROUND('Income Statement'!DPO12,3)","v":0},{"$f":"ROUND('Income Statement'!DPP12,3)","v":0},{"$f":"ROUND('Income Statement'!DPQ12,3)","v":0},{"$f":"ROUND('Income Statement'!DPR12,3)","v":0},{"$f":"ROUND('Income Statement'!DPS12,3)","v":0},{"$f":"ROUND('Income Statement'!DPT12,3)","v":0},{"$f":"ROUND('Income Statement'!DPU12,3)","v":0},{"$f":"ROUND('Income Statement'!DPV12,3)","v":0},{"$f":"ROUND('Income Statement'!DPW12,3)","v":0},{"$f":"ROUND('Income Statement'!DPX12,3)","v":0},{"$f":"ROUND('Income Statement'!DPY12,3)","v":0},{"$f":"ROUND('Income Statement'!DPZ12,3)","v":0},{"$f":"ROUND('Income Statement'!DQA12,3)","v":0},{"$f":"ROUND('Income Statement'!DQB12,3)","v":0},{"$f":"ROUND('Income Statement'!DQC12,3)","v":0},{"$f":"ROUND('Income Statement'!DQD12,3)","v":0},{"$f":"ROUND('Income Statement'!DQE12,3)","v":0},{"$f":"ROUND('Income Statement'!DQF12,3)","v":0},{"$f":"ROUND('Income Statement'!DQG12,3)","v":0},{"$f":"ROUND('Income Statement'!DQH12,3)","v":0},{"$f":"ROUND('Income Statement'!DQI12,3)","v":0},{"$f":"ROUND('Income Statement'!DQJ12,3)","v":0},{"$f":"ROUND('Income Statement'!DQK12,3)","v":0},{"$f":"ROUND('Income Statement'!DQL12,3)","v":0},{"$f":"ROUND('Income Statement'!DQM12,3)","v":0},{"$f":"ROUND('Income Statement'!DQN12,3)","v":0},{"$f":"ROUND('Income Statement'!DQO12,3)","v":0},{"$f":"ROUND('Income Statement'!DQP12,3)","v":0},{"$f":"ROUND('Income Statement'!DQQ12,3)","v":0},{"$f":"ROUND('Income Statement'!DQR12,3)","v":0},{"$f":"ROUND('Income Statement'!DQS12,3)","v":0},{"$f":"ROUND('Income Statement'!DQT12,3)","v":0},{"$f":"ROUND('Income Statement'!DQU12,3)","v":0},{"$f":"ROUND('Income Statement'!DQV12,3)","v":0},{"$f":"ROUND('Income Statement'!DQW12,3)","v":0},{"$f":"ROUND('Income Statement'!DQX12,3)","v":0},{"$f":"ROUND('Income Statement'!DQY12,3)","v":0},{"$f":"ROUND('Income Statement'!DQZ12,3)","v":0},{"$f":"ROUND('Income Statement'!DRA12,3)","v":0},{"$f":"ROUND('Income Statement'!DRB12,3)","v":0},{"$f":"ROUND('Income Statement'!DRC12,3)","v":0},{"$f":"ROUND('Income Statement'!DRD12,3)","v":0},{"$f":"ROUND('Income Statement'!DRE12,3)","v":0},{"$f":"ROUND('Income Statement'!DRF12,3)","v":0},{"$f":"ROUND('Income Statement'!DRG12,3)","v":0},{"$f":"ROUND('Income Statement'!DRH12,3)","v":0},{"$f":"ROUND('Income Statement'!DRI12,3)","v":0},{"$f":"ROUND('Income Statement'!DRJ12,3)","v":0},{"$f":"ROUND('Income Statement'!DRK12,3)","v":0},{"$f":"ROUND('Income Statement'!DRL12,3)","v":0},{"$f":"ROUND('Income Statement'!DRM12,3)","v":0},{"$f":"ROUND('Income Statement'!DRN12,3)","v":0},{"$f":"ROUND('Income Statement'!DRO12,3)","v":0},{"$f":"ROUND('Income Statement'!DRP12,3)","v":0},{"$f":"ROUND('Income Statement'!DRQ12,3)","v":0},{"$f":"ROUND('Income Statement'!DRR12,3)","v":0},{"$f":"ROUND('Income Statement'!DRS12,3)","v":0},{"$f":"ROUND('Income Statement'!DRT12,3)","v":0},{"$f":"ROUND('Income Statement'!DRU12,3)","v":0},{"$f":"ROUND('Income Statement'!DRV12,3)","v":0},{"$f":"ROUND('Income Statement'!DRW12,3)","v":0},{"$f":"ROUND('Income Statement'!DRX12,3)","v":0},{"$f":"ROUND('Income Statement'!DRY12,3)","v":0},{"$f":"ROUND('Income Statement'!DRZ12,3)","v":0},{"$f":"ROUND('Income Statement'!DSA12,3)","v":0},{"$f":"ROUND('Income Statement'!DSB12,3)","v":0},{"$f":"ROUND('Income Statement'!DSC12,3)","v":0},{"$f":"ROUND('Income Statement'!DSD12,3)","v":0},{"$f":"ROUND('Income Statement'!DSE12,3)","v":0},{"$f":"ROUND('Income Statement'!DSF12,3)","v":0},{"$f":"ROUND('Income Statement'!DSG12,3)","v":0},{"$f":"ROUND('Income Statement'!DSH12,3)","v":0},{"$f":"ROUND('Income Statement'!DSI12,3)","v":0},{"$f":"ROUND('Income Statement'!DSJ12,3)","v":0},{"$f":"ROUND('Income Statement'!DSK12,3)","v":0},{"$f":"ROUND('Income Statement'!DSL12,3)","v":0},{"$f":"ROUND('Income Statement'!DSM12,3)","v":0},{"$f":"ROUND('Income Statement'!DSN12,3)","v":0},{"$f":"ROUND('Income Statement'!DSO12,3)","v":0},{"$f":"ROUND('Income Statement'!DSP12,3)","v":0},{"$f":"ROUND('Income Statement'!DSQ12,3)","v":0},{"$f":"ROUND('Income Statement'!DSR12,3)","v":0},{"$f":"ROUND('Income Statement'!DSS12,3)","v":0},{"$f":"ROUND('Income Statement'!DST12,3)","v":0},{"$f":"ROUND('Income Statement'!DSU12,3)","v":0},{"$f":"ROUND('Income Statement'!DSV12,3)","v":0},{"$f":"ROUND('Income Statement'!DSW12,3)","v":0},{"$f":"ROUND('Income Statement'!DSX12,3)","v":0},{"$f":"ROUND('Income Statement'!DSY12,3)","v":0},{"$f":"ROUND('Income Statement'!DSZ12,3)","v":0},{"$f":"ROUND('Income Statement'!DTA12,3)","v":0},{"$f":"ROUND('Income Statement'!DTB12,3)","v":0},{"$f":"ROUND('Income Statement'!DTC12,3)","v":0},{"$f":"ROUND('Income Statement'!DTD12,3)","v":0},{"$f":"ROUND('Income Statement'!DTE12,3)","v":0},{"$f":"ROUND('Income Statement'!DTF12,3)","v":0},{"$f":"ROUND('Income Statement'!DTG12,3)","v":0},{"$f":"ROUND('Income Statement'!DTH12,3)","v":0},{"$f":"ROUND('Income Statement'!DTI12,3)","v":0},{"$f":"ROUND('Income Statement'!DTJ12,3)","v":0},{"$f":"ROUND('Income Statement'!DTK12,3)","v":0},{"$f":"ROUND('Income Statement'!DTL12,3)","v":0},{"$f":"ROUND('Income Statement'!DTM12,3)","v":0},{"$f":"ROUND('Income Statement'!DTN12,3)","v":0},{"$f":"ROUND('Income Statement'!DTO12,3)","v":0},{"$f":"ROUND('Income Statement'!DTP12,3)","v":0},{"$f":"ROUND('Income Statement'!DTQ12,3)","v":0},{"$f":"ROUND('Income Statement'!DTR12,3)","v":0},{"$f":"ROUND('Income Statement'!DTS12,3)","v":0},{"$f":"ROUND('Income Statement'!DTT12,3)","v":0},{"$f":"ROUND('Income Statement'!DTU12,3)","v":0},{"$f":"ROUND('Income Statement'!DTV12,3)","v":0},{"$f":"ROUND('Income Statement'!DTW12,3)","v":0},{"$f":"ROUND('Income Statement'!DTX12,3)","v":0},{"$f":"ROUND('Income Statement'!DTY12,3)","v":0},{"$f":"ROUND('Income Statement'!DTZ12,3)","v":0},{"$f":"ROUND('Income Statement'!DUA12,3)","v":0},{"$f":"ROUND('Income Statement'!DUB12,3)","v":0},{"$f":"ROUND('Income Statement'!DUC12,3)","v":0},{"$f":"ROUND('Income Statement'!DUD12,3)","v":0},{"$f":"ROUND('Income Statement'!DUE12,3)","v":0},{"$f":"ROUND('Income Statement'!DUF12,3)","v":0},{"$f":"ROUND('Income Statement'!DUG12,3)","v":0},{"$f":"ROUND('Income Statement'!DUH12,3)","v":0},{"$f":"ROUND('Income Statement'!DUI12,3)","v":0},{"$f":"ROUND('Income Statement'!DUJ12,3)","v":0},{"$f":"ROUND('Income Statement'!DUK12,3)","v":0},{"$f":"ROUND('Income Statement'!DUL12,3)","v":0},{"$f":"ROUND('Income Statement'!DUM12,3)","v":0},{"$f":"ROUND('Income Statement'!DUN12,3)","v":0},{"$f":"ROUND('Income Statement'!DUO12,3)","v":0},{"$f":"ROUND('Income Statement'!DUP12,3)","v":0},{"$f":"ROUND('Income Statement'!DUQ12,3)","v":0},{"$f":"ROUND('Income Statement'!DUR12,3)","v":0},{"$f":"ROUND('Income Statement'!DUS12,3)","v":0},{"$f":"ROUND('Income Statement'!DUT12,3)","v":0},{"$f":"ROUND('Income Statement'!DUU12,3)","v":0},{"$f":"ROUND('Income Statement'!DUV12,3)","v":0},{"$f":"ROUND('Income Statement'!DUW12,3)","v":0},{"$f":"ROUND('Income Statement'!DUX12,3)","v":0},{"$f":"ROUND('Income Statement'!DUY12,3)","v":0},{"$f":"ROUND('Income Statement'!DUZ12,3)","v":0},{"$f":"ROUND('Income Statement'!DVA12,3)","v":0},{"$f":"ROUND('Income Statement'!DVB12,3)","v":0},{"$f":"ROUND('Income Statement'!DVC12,3)","v":0},{"$f":"ROUND('Income Statement'!DVD12,3)","v":0},{"$f":"ROUND('Income Statement'!DVE12,3)","v":0},{"$f":"ROUND('Income Statement'!DVF12,3)","v":0},{"$f":"ROUND('Income Statement'!DVG12,3)","v":0},{"$f":"ROUND('Income Statement'!DVH12,3)","v":0},{"$f":"ROUND('Income Statement'!DVI12,3)","v":0},{"$f":"ROUND('Income Statement'!DVJ12,3)","v":0},{"$f":"ROUND('Income Statement'!DVK12,3)","v":0},{"$f":"ROUND('Income Statement'!DVL12,3)","v":0},{"$f":"ROUND('Income Statement'!DVM12,3)","v":0},{"$f":"ROUND('Income Statement'!DVN12,3)","v":0},{"$f":"ROUND('Income Statement'!DVO12,3)","v":0},{"$f":"ROUND('Income Statement'!DVP12,3)","v":0},{"$f":"ROUND('Income Statement'!DVQ12,3)","v":0},{"$f":"ROUND('Income Statement'!DVR12,3)","v":0},{"$f":"ROUND('Income Statement'!DVS12,3)","v":0},{"$f":"ROUND('Income Statement'!DVT12,3)","v":0},{"$f":"ROUND('Income Statement'!DVU12,3)","v":0},{"$f":"ROUND('Income Statement'!DVV12,3)","v":0},{"$f":"ROUND('Income Statement'!DVW12,3)","v":0},{"$f":"ROUND('Income Statement'!DVX12,3)","v":0},{"$f":"ROUND('Income Statement'!DVY12,3)","v":0},{"$f":"ROUND('Income Statement'!DVZ12,3)","v":0},{"$f":"ROUND('Income Statement'!DWA12,3)","v":0},{"$f":"ROUND('Income Statement'!DWB12,3)","v":0},{"$f":"ROUND('Income Statement'!DWC12,3)","v":0},{"$f":"ROUND('Income Statement'!DWD12,3)","v":0},{"$f":"ROUND('Income Statement'!DWE12,3)","v":0},{"$f":"ROUND('Income Statement'!DWF12,3)","v":0},{"$f":"ROUND('Income Statement'!DWG12,3)","v":0},{"$f":"ROUND('Income Statement'!DWH12,3)","v":0},{"$f":"ROUND('Income Statement'!DWI12,3)","v":0},{"$f":"ROUND('Income Statement'!DWJ12,3)","v":0},{"$f":"ROUND('Income Statement'!DWK12,3)","v":0},{"$f":"ROUND('Income Statement'!DWL12,3)","v":0},{"$f":"ROUND('Income Statement'!DWM12,3)","v":0},{"$f":"ROUND('Income Statement'!DWN12,3)","v":0},{"$f":"ROUND('Income Statement'!DWO12,3)","v":0},{"$f":"ROUND('Income Statement'!DWP12,3)","v":0},{"$f":"ROUND('Income Statement'!DWQ12,3)","v":0},{"$f":"ROUND('Income Statement'!DWR12,3)","v":0},{"$f":"ROUND('Income Statement'!DWS12,3)","v":0},{"$f":"ROUND('Income Statement'!DWT12,3)","v":0},{"$f":"ROUND('Income Statement'!DWU12,3)","v":0},{"$f":"ROUND('Income Statement'!DWV12,3)","v":0},{"$f":"ROUND('Income Statement'!DWW12,3)","v":0},{"$f":"ROUND('Income Statement'!DWX12,3)","v":0},{"$f":"ROUND('Income Statement'!DWY12,3)","v":0},{"$f":"ROUND('Income Statement'!DWZ12,3)","v":0},{"$f":"ROUND('Income Statement'!DXA12,3)","v":0},{"$f":"ROUND('Income Statement'!DXB12,3)","v":0},{"$f":"ROUND('Income Statement'!DXC12,3)","v":0},{"$f":"ROUND('Income Statement'!DXD12,3)","v":0},{"$f":"ROUND('Income Statement'!DXE12,3)","v":0},{"$f":"ROUND('Income Statement'!DXF12,3)","v":0},{"$f":"ROUND('Income Statement'!DXG12,3)","v":0},{"$f":"ROUND('Income Statement'!DXH12,3)","v":0},{"$f":"ROUND('Income Statement'!DXI12,3)","v":0},{"$f":"ROUND('Income Statement'!DXJ12,3)","v":0},{"$f":"ROUND('Income Statement'!DXK12,3)","v":0},{"$f":"ROUND('Income Statement'!DXL12,3)","v":0},{"$f":"ROUND('Income Statement'!DXM12,3)","v":0},{"$f":"ROUND('Income Statement'!DXN12,3)","v":0},{"$f":"ROUND('Income Statement'!DXO12,3)","v":0},{"$f":"ROUND('Income Statement'!DXP12,3)","v":0},{"$f":"ROUND('Income Statement'!DXQ12,3)","v":0},{"$f":"ROUND('Income Statement'!DXR12,3)","v":0},{"$f":"ROUND('Income Statement'!DXS12,3)","v":0},{"$f":"ROUND('Income Statement'!DXT12,3)","v":0},{"$f":"ROUND('Income Statement'!DXU12,3)","v":0},{"$f":"ROUND('Income Statement'!DXV12,3)","v":0},{"$f":"ROUND('Income Statement'!DXW12,3)","v":0},{"$f":"ROUND('Income Statement'!DXX12,3)","v":0},{"$f":"ROUND('Income Statement'!DXY12,3)","v":0},{"$f":"ROUND('Income Statement'!DXZ12,3)","v":0},{"$f":"ROUND('Income Statement'!DYA12,3)","v":0},{"$f":"ROUND('Income Statement'!DYB12,3)","v":0},{"$f":"ROUND('Income Statement'!DYC12,3)","v":0},{"$f":"ROUND('Income Statement'!DYD12,3)","v":0},{"$f":"ROUND('Income Statement'!DYE12,3)","v":0},{"$f":"ROUND('Income Statement'!DYF12,3)","v":0},{"$f":"ROUND('Income Statement'!DYG12,3)","v":0},{"$f":"ROUND('Income Statement'!DYH12,3)","v":0},{"$f":"ROUND('Income Statement'!DYI12,3)","v":0},{"$f":"ROUND('Income Statement'!DYJ12,3)","v":0},{"$f":"ROUND('Income Statement'!DYK12,3)","v":0},{"$f":"ROUND('Income Statement'!DYL12,3)","v":0},{"$f":"ROUND('Income Statement'!DYM12,3)","v":0},{"$f":"ROUND('Income Statement'!DYN12,3)","v":0},{"$f":"ROUND('Income Statement'!DYO12,3)","v":0},{"$f":"ROUND('Income Statement'!DYP12,3)","v":0},{"$f":"ROUND('Income Statement'!DYQ12,3)","v":0},{"$f":"ROUND('Income Statement'!DYR12,3)","v":0},{"$f":"ROUND('Income Statement'!DYS12,3)","v":0},{"$f":"ROUND('Income Statement'!DYT12,3)","v":0},{"$f":"ROUND('Income Statement'!DYU12,3)","v":0},{"$f":"ROUND('Income Statement'!DYV12,3)","v":0},{"$f":"ROUND('Income Statement'!DYW12,3)","v":0},{"$f":"ROUND('Income Statement'!DYX12,3)","v":0},{"$f":"ROUND('Income Statement'!DYY12,3)","v":0},{"$f":"ROUND('Income Statement'!DYZ12,3)","v":0},{"$f":"ROUND('Income Statement'!DZA12,3)","v":0},{"$f":"ROUND('Income Statement'!DZB12,3)","v":0},{"$f":"ROUND('Income Statement'!DZC12,3)","v":0},{"$f":"ROUND('Income Statement'!DZD12,3)","v":0},{"$f":"ROUND('Income Statement'!DZE12,3)","v":0},{"$f":"ROUND('Income Statement'!DZF12,3)","v":0},{"$f":"ROUND('Income Statement'!DZG12,3)","v":0},{"$f":"ROUND('Income Statement'!DZH12,3)","v":0},{"$f":"ROUND('Income Statement'!DZI12,3)","v":0},{"$f":"ROUND('Income Statement'!DZJ12,3)","v":0},{"$f":"ROUND('Income Statement'!DZK12,3)","v":0},{"$f":"ROUND('Income Statement'!DZL12,3)","v":0},{"$f":"ROUND('Income Statement'!DZM12,3)","v":0},{"$f":"ROUND('Income Statement'!DZN12,3)","v":0},{"$f":"ROUND('Income Statement'!DZO12,3)","v":0},{"$f":"ROUND('Income Statement'!DZP12,3)","v":0},{"$f":"ROUND('Income Statement'!DZQ12,3)","v":0},{"$f":"ROUND('Income Statement'!DZR12,3)","v":0},{"$f":"ROUND('Income Statement'!DZS12,3)","v":0},{"$f":"ROUND('Income Statement'!DZT12,3)","v":0},{"$f":"ROUND('Income Statement'!DZU12,3)","v":0},{"$f":"ROUND('Income Statement'!DZV12,3)","v":0},{"$f":"ROUND('Income Statement'!DZW12,3)","v":0},{"$f":"ROUND('Income Statement'!DZX12,3)","v":0},{"$f":"ROUND('Income Statement'!DZY12,3)","v":0},{"$f":"ROUND('Income Statement'!DZZ12,3)","v":0},{"$f":"ROUND('Income Statement'!EAA12,3)","v":0},{"$f":"ROUND('Income Statement'!EAB12,3)","v":0},{"$f":"ROUND('Income Statement'!EAC12,3)","v":0},{"$f":"ROUND('Income Statement'!EAD12,3)","v":0},{"$f":"ROUND('Income Statement'!EAE12,3)","v":0},{"$f":"ROUND('Income Statement'!EAF12,3)","v":0},{"$f":"ROUND('Income Statement'!EAG12,3)","v":0},{"$f":"ROUND('Income Statement'!EAH12,3)","v":0},{"$f":"ROUND('Income Statement'!EAI12,3)","v":0},{"$f":"ROUND('Income Statement'!EAJ12,3)","v":0},{"$f":"ROUND('Income Statement'!EAK12,3)","v":0},{"$f":"ROUND('Income Statement'!EAL12,3)","v":0},{"$f":"ROUND('Income Statement'!EAM12,3)","v":0},{"$f":"ROUND('Income Statement'!EAN12,3)","v":0},{"$f":"ROUND('Income Statement'!EAO12,3)","v":0},{"$f":"ROUND('Income Statement'!EAP12,3)","v":0},{"$f":"ROUND('Income Statement'!EAQ12,3)","v":0},{"$f":"ROUND('Income Statement'!EAR12,3)","v":0},{"$f":"ROUND('Income Statement'!EAS12,3)","v":0},{"$f":"ROUND('Income Statement'!EAT12,3)","v":0},{"$f":"ROUND('Income Statement'!EAU12,3)","v":0},{"$f":"ROUND('Income Statement'!EAV12,3)","v":0},{"$f":"ROUND('Income Statement'!EAW12,3)","v":0},{"$f":"ROUND('Income Statement'!EAX12,3)","v":0},{"$f":"ROUND('Income Statement'!EAY12,3)","v":0},{"$f":"ROUND('Income Statement'!EAZ12,3)","v":0},{"$f":"ROUND('Income Statement'!EBA12,3)","v":0},{"$f":"ROUND('Income Statement'!EBB12,3)","v":0},{"$f":"ROUND('Income Statement'!EBC12,3)","v":0},{"$f":"ROUND('Income Statement'!EBD12,3)","v":0},{"$f":"ROUND('Income Statement'!EBE12,3)","v":0},{"$f":"ROUND('Income Statement'!EBF12,3)","v":0},{"$f":"ROUND('Income Statement'!EBG12,3)","v":0},{"$f":"ROUND('Income Statement'!EBH12,3)","v":0},{"$f":"ROUND('Income Statement'!EBI12,3)","v":0},{"$f":"ROUND('Income Statement'!EBJ12,3)","v":0},{"$f":"ROUND('Income Statement'!EBK12,3)","v":0},{"$f":"ROUND('Income Statement'!EBL12,3)","v":0},{"$f":"ROUND('Income Statement'!EBM12,3)","v":0},{"$f":"ROUND('Income Statement'!EBN12,3)","v":0},{"$f":"ROUND('Income Statement'!EBO12,3)","v":0},{"$f":"ROUND('Income Statement'!EBP12,3)","v":0},{"$f":"ROUND('Income Statement'!EBQ12,3)","v":0},{"$f":"ROUND('Income Statement'!EBR12,3)","v":0},{"$f":"ROUND('Income Statement'!EBS12,3)","v":0},{"$f":"ROUND('Income Statement'!EBT12,3)","v":0},{"$f":"ROUND('Income Statement'!EBU12,3)","v":0},{"$f":"ROUND('Income Statement'!EBV12,3)","v":0},{"$f":"ROUND('Income Statement'!EBW12,3)","v":0},{"$f":"ROUND('Income Statement'!EBX12,3)","v":0},{"$f":"ROUND('Income Statement'!EBY12,3)","v":0},{"$f":"ROUND('Income Statement'!EBZ12,3)","v":0},{"$f":"ROUND('Income Statement'!ECA12,3)","v":0},{"$f":"ROUND('Income Statement'!ECB12,3)","v":0},{"$f":"ROUND('Income Statement'!ECC12,3)","v":0},{"$f":"ROUND('Income Statement'!ECD12,3)","v":0},{"$f":"ROUND('Income Statement'!ECE12,3)","v":0},{"$f":"ROUND('Income Statement'!ECF12,3)","v":0},{"$f":"ROUND('Income Statement'!ECG12,3)","v":0},{"$f":"ROUND('Income Statement'!ECH12,3)","v":0},{"$f":"ROUND('Income Statement'!ECI12,3)","v":0},{"$f":"ROUND('Income Statement'!ECJ12,3)","v":0},{"$f":"ROUND('Income Statement'!ECK12,3)","v":0},{"$f":"ROUND('Income Statement'!ECL12,3)","v":0},{"$f":"ROUND('Income Statement'!ECM12,3)","v":0},{"$f":"ROUND('Income Statement'!ECN12,3)","v":0},{"$f":"ROUND('Income Statement'!ECO12,3)","v":0},{"$f":"ROUND('Income Statement'!ECP12,3)","v":0},{"$f":"ROUND('Income Statement'!ECQ12,3)","v":0},{"$f":"ROUND('Income Statement'!ECR12,3)","v":0},{"$f":"ROUND('Income Statement'!ECS12,3)","v":0},{"$f":"ROUND('Income Statement'!ECT12,3)","v":0},{"$f":"ROUND('Income Statement'!ECU12,3)","v":0},{"$f":"ROUND('Income Statement'!ECV12,3)","v":0},{"$f":"ROUND('Income Statement'!ECW12,3)","v":0},{"$f":"ROUND('Income Statement'!ECX12,3)","v":0},{"$f":"ROUND('Income Statement'!ECY12,3)","v":0},{"$f":"ROUND('Income Statement'!ECZ12,3)","v":0},{"$f":"ROUND('Income Statement'!EDA12,3)","v":0},{"$f":"ROUND('Income Statement'!EDB12,3)","v":0},{"$f":"ROUND('Income Statement'!EDC12,3)","v":0},{"$f":"ROUND('Income Statement'!EDD12,3)","v":0},{"$f":"ROUND('Income Statement'!EDE12,3)","v":0},{"$f":"ROUND('Income Statement'!EDF12,3)","v":0},{"$f":"ROUND('Income Statement'!EDG12,3)","v":0},{"$f":"ROUND('Income Statement'!EDH12,3)","v":0},{"$f":"ROUND('Income Statement'!EDI12,3)","v":0},{"$f":"ROUND('Income Statement'!EDJ12,3)","v":0},{"$f":"ROUND('Income Statement'!EDK12,3)","v":0},{"$f":"ROUND('Income Statement'!EDL12,3)","v":0},{"$f":"ROUND('Income Statement'!EDM12,3)","v":0},{"$f":"ROUND('Income Statement'!EDN12,3)","v":0},{"$f":"ROUND('Income Statement'!EDO12,3)","v":0},{"$f":"ROUND('Income Statement'!EDP12,3)","v":0},{"$f":"ROUND('Income Statement'!EDQ12,3)","v":0},{"$f":"ROUND('Income Statement'!EDR12,3)","v":0},{"$f":"ROUND('Income Statement'!EDS12,3)","v":0},{"$f":"ROUND('Income Statement'!EDT12,3)","v":0},{"$f":"ROUND('Income Statement'!EDU12,3)","v":0},{"$f":"ROUND('Income Statement'!EDV12,3)","v":0},{"$f":"ROUND('Income Statement'!EDW12,3)","v":0},{"$f":"ROUND('Income Statement'!EDX12,3)","v":0},{"$f":"ROUND('Income Statement'!EDY12,3)","v":0},{"$f":"ROUND('Income Statement'!EDZ12,3)","v":0},{"$f":"ROUND('Income Statement'!EEA12,3)","v":0},{"$f":"ROUND('Income Statement'!EEB12,3)","v":0},{"$f":"ROUND('Income Statement'!EEC12,3)","v":0},{"$f":"ROUND('Income Statement'!EED12,3)","v":0},{"$f":"ROUND('Income Statement'!EEE12,3)","v":0},{"$f":"ROUND('Income Statement'!EEF12,3)","v":0},{"$f":"ROUND('Income Statement'!EEG12,3)","v":0},{"$f":"ROUND('Income Statement'!EEH12,3)","v":0},{"$f":"ROUND('Income Statement'!EEI12,3)","v":0},{"$f":"ROUND('Income Statement'!EEJ12,3)","v":0},{"$f":"ROUND('Income Statement'!EEK12,3)","v":0},{"$f":"ROUND('Income Statement'!EEL12,3)","v":0},{"$f":"ROUND('Income Statement'!EEM12,3)","v":0},{"$f":"ROUND('Income Statement'!EEN12,3)","v":0},{"$f":"ROUND('Income Statement'!EEO12,3)","v":0},{"$f":"ROUND('Income Statement'!EEP12,3)","v":0},{"$f":"ROUND('Income Statement'!EEQ12,3)","v":0},{"$f":"ROUND('Income Statement'!EER12,3)","v":0},{"$f":"ROUND('Income Statement'!EES12,3)","v":0},{"$f":"ROUND('Income Statement'!EET12,3)","v":0},{"$f":"ROUND('Income Statement'!EEU12,3)","v":0},{"$f":"ROUND('Income Statement'!EEV12,3)","v":0},{"$f":"ROUND('Income Statement'!EEW12,3)","v":0},{"$f":"ROUND('Income Statement'!EEX12,3)","v":0},{"$f":"ROUND('Income Statement'!EEY12,3)","v":0},{"$f":"ROUND('Income Statement'!EEZ12,3)","v":0},{"$f":"ROUND('Income Statement'!EFA12,3)","v":0},{"$f":"ROUND('Income Statement'!EFB12,3)","v":0},{"$f":"ROUND('Income Statement'!EFC12,3)","v":0},{"$f":"ROUND('Income Statement'!EFD12,3)","v":0},{"$f":"ROUND('Income Statement'!EFE12,3)","v":0},{"$f":"ROUND('Income Statement'!EFF12,3)","v":0},{"$f":"ROUND('Income Statement'!EFG12,3)","v":0},{"$f":"ROUND('Income Statement'!EFH12,3)","v":0},{"$f":"ROUND('Income Statement'!EFI12,3)","v":0},{"$f":"ROUND('Income Statement'!EFJ12,3)","v":0},{"$f":"ROUND('Income Statement'!EFK12,3)","v":0},{"$f":"ROUND('Income Statement'!EFL12,3)","v":0},{"$f":"ROUND('Income Statement'!EFM12,3)","v":0},{"$f":"ROUND('Income Statement'!EFN12,3)","v":0},{"$f":"ROUND('Income Statement'!EFO12,3)","v":0},{"$f":"ROUND('Income Statement'!EFP12,3)","v":0},{"$f":"ROUND('Income Statement'!EFQ12,3)","v":0},{"$f":"ROUND('Income Statement'!EFR12,3)","v":0},{"$f":"ROUND('Income Statement'!EFS12,3)","v":0},{"$f":"ROUND('Income Statement'!EFT12,3)","v":0},{"$f":"ROUND('Income Statement'!EFU12,3)","v":0},{"$f":"ROUND('Income Statement'!EFV12,3)","v":0},{"$f":"ROUND('Income Statement'!EFW12,3)","v":0},{"$f":"ROUND('Income Statement'!EFX12,3)","v":0},{"$f":"ROUND('Income Statement'!EFY12,3)","v":0},{"$f":"ROUND('Income Statement'!EFZ12,3)","v":0},{"$f":"ROUND('Income Statement'!EGA12,3)","v":0},{"$f":"ROUND('Income Statement'!EGB12,3)","v":0},{"$f":"ROUND('Income Statement'!EGC12,3)","v":0},{"$f":"ROUND('Income Statement'!EGD12,3)","v":0},{"$f":"ROUND('Income Statement'!EGE12,3)","v":0},{"$f":"ROUND('Income Statement'!EGF12,3)","v":0},{"$f":"ROUND('Income Statement'!EGG12,3)","v":0},{"$f":"ROUND('Income Statement'!EGH12,3)","v":0},{"$f":"ROUND('Income Statement'!EGI12,3)","v":0},{"$f":"ROUND('Income Statement'!EGJ12,3)","v":0},{"$f":"ROUND('Income Statement'!EGK12,3)","v":0},{"$f":"ROUND('Income Statement'!EGL12,3)","v":0},{"$f":"ROUND('Income Statement'!EGM12,3)","v":0},{"$f":"ROUND('Income Statement'!EGN12,3)","v":0},{"$f":"ROUND('Income Statement'!EGO12,3)","v":0},{"$f":"ROUND('Income Statement'!EGP12,3)","v":0},{"$f":"ROUND('Income Statement'!EGQ12,3)","v":0},{"$f":"ROUND('Income Statement'!EGR12,3)","v":0},{"$f":"ROUND('Income Statement'!EGS12,3)","v":0},{"$f":"ROUND('Income Statement'!EGT12,3)","v":0},{"$f":"ROUND('Income Statement'!EGU12,3)","v":0},{"$f":"ROUND('Income Statement'!EGV12,3)","v":0},{"$f":"ROUND('Income Statement'!EGW12,3)","v":0},{"$f":"ROUND('Income Statement'!EGX12,3)","v":0},{"$f":"ROUND('Income Statement'!EGY12,3)","v":0},{"$f":"ROUND('Income Statement'!EGZ12,3)","v":0},{"$f":"ROUND('Income Statement'!EHA12,3)","v":0},{"$f":"ROUND('Income Statement'!EHB12,3)","v":0},{"$f":"ROUND('Income Statement'!EHC12,3)","v":0},{"$f":"ROUND('Income Statement'!EHD12,3)","v":0},{"$f":"ROUND('Income Statement'!EHE12,3)","v":0},{"$f":"ROUND('Income Statement'!EHF12,3)","v":0},{"$f":"ROUND('Income Statement'!EHG12,3)","v":0},{"$f":"ROUND('Income Statement'!EHH12,3)","v":0},{"$f":"ROUND('Income Statement'!EHI12,3)","v":0},{"$f":"ROUND('Income Statement'!EHJ12,3)","v":0},{"$f":"ROUND('Income Statement'!EHK12,3)","v":0},{"$f":"ROUND('Income Statement'!EHL12,3)","v":0},{"$f":"ROUND('Income Statement'!EHM12,3)","v":0},{"$f":"ROUND('Income Statement'!EHN12,3)","v":0},{"$f":"ROUND('Income Statement'!EHO12,3)","v":0},{"$f":"ROUND('Income Statement'!EHP12,3)","v":0},{"$f":"ROUND('Income Statement'!EHQ12,3)","v":0},{"$f":"ROUND('Income Statement'!EHR12,3)","v":0},{"$f":"ROUND('Income Statement'!EHS12,3)","v":0},{"$f":"ROUND('Income Statement'!EHT12,3)","v":0},{"$f":"ROUND('Income Statement'!EHU12,3)","v":0},{"$f":"ROUND('Income Statement'!EHV12,3)","v":0},{"$f":"ROUND('Income Statement'!EHW12,3)","v":0},{"$f":"ROUND('Income Statement'!EHX12,3)","v":0},{"$f":"ROUND('Income Statement'!EHY12,3)","v":0},{"$f":"ROUND('Income Statement'!EHZ12,3)","v":0},{"$f":"ROUND('Income Statement'!EIA12,3)","v":0},{"$f":"ROUND('Income Statement'!EIB12,3)","v":0},{"$f":"ROUND('Income Statement'!EIC12,3)","v":0},{"$f":"ROUND('Income Statement'!EID12,3)","v":0},{"$f":"ROUND('Income Statement'!EIE12,3)","v":0},{"$f":"ROUND('Income Statement'!EIF12,3)","v":0},{"$f":"ROUND('Income Statement'!EIG12,3)","v":0},{"$f":"ROUND('Income Statement'!EIH12,3)","v":0},{"$f":"ROUND('Income Statement'!EII12,3)","v":0},{"$f":"ROUND('Income Statement'!EIJ12,3)","v":0},{"$f":"ROUND('Income Statement'!EIK12,3)","v":0},{"$f":"ROUND('Income Statement'!EIL12,3)","v":0},{"$f":"ROUND('Income Statement'!EIM12,3)","v":0},{"$f":"ROUND('Income Statement'!EIN12,3)","v":0},{"$f":"ROUND('Income Statement'!EIO12,3)","v":0},{"$f":"ROUND('Income Statement'!EIP12,3)","v":0},{"$f":"ROUND('Income Statement'!EIQ12,3)","v":0},{"$f":"ROUND('Income Statement'!EIR12,3)","v":0},{"$f":"ROUND('Income Statement'!EIS12,3)","v":0},{"$f":"ROUND('Income Statement'!EIT12,3)","v":0},{"$f":"ROUND('Income Statement'!EIU12,3)","v":0},{"$f":"ROUND('Income Statement'!EIV12,3)","v":0},{"$f":"ROUND('Income Statement'!EIW12,3)","v":0},{"$f":"ROUND('Income Statement'!EIX12,3)","v":0},{"$f":"ROUND('Income Statement'!EIY12,3)","v":0},{"$f":"ROUND('Income Statement'!EIZ12,3)","v":0},{"$f":"ROUND('Income Statement'!EJA12,3)","v":0},{"$f":"ROUND('Income Statement'!EJB12,3)","v":0},{"$f":"ROUND('Income Statement'!EJC12,3)","v":0},{"$f":"ROUND('Income Statement'!EJD12,3)","v":0},{"$f":"ROUND('Income Statement'!EJE12,3)","v":0},{"$f":"ROUND('Income Statement'!EJF12,3)","v":0},{"$f":"ROUND('Income Statement'!EJG12,3)","v":0},{"$f":"ROUND('Income Statement'!EJH12,3)","v":0},{"$f":"ROUND('Income Statement'!EJI12,3)","v":0},{"$f":"ROUND('Income Statement'!EJJ12,3)","v":0},{"$f":"ROUND('Income Statement'!EJK12,3)","v":0},{"$f":"ROUND('Income Statement'!EJL12,3)","v":0},{"$f":"ROUND('Income Statement'!EJM12,3)","v":0},{"$f":"ROUND('Income Statement'!EJN12,3)","v":0},{"$f":"ROUND('Income Statement'!EJO12,3)","v":0},{"$f":"ROUND('Income Statement'!EJP12,3)","v":0},{"$f":"ROUND('Income Statement'!EJQ12,3)","v":0},{"$f":"ROUND('Income Statement'!EJR12,3)","v":0},{"$f":"ROUND('Income Statement'!EJS12,3)","v":0},{"$f":"ROUND('Income Statement'!EJT12,3)","v":0},{"$f":"ROUND('Income Statement'!EJU12,3)","v":0},{"$f":"ROUND('Income Statement'!EJV12,3)","v":0},{"$f":"ROUND('Income Statement'!EJW12,3)","v":0},{"$f":"ROUND('Income Statement'!EJX12,3)","v":0},{"$f":"ROUND('Income Statement'!EJY12,3)","v":0},{"$f":"ROUND('Income Statement'!EJZ12,3)","v":0},{"$f":"ROUND('Income Statement'!EKA12,3)","v":0},{"$f":"ROUND('Income Statement'!EKB12,3)","v":0},{"$f":"ROUND('Income Statement'!EKC12,3)","v":0},{"$f":"ROUND('Income Statement'!EKD12,3)","v":0},{"$f":"ROUND('Income Statement'!EKE12,3)","v":0},{"$f":"ROUND('Income Statement'!EKF12,3)","v":0},{"$f":"ROUND('Income Statement'!EKG12,3)","v":0},{"$f":"ROUND('Income Statement'!EKH12,3)","v":0},{"$f":"ROUND('Income Statement'!EKI12,3)","v":0},{"$f":"ROUND('Income Statement'!EKJ12,3)","v":0},{"$f":"ROUND('Income Statement'!EKK12,3)","v":0},{"$f":"ROUND('Income Statement'!EKL12,3)","v":0},{"$f":"ROUND('Income Statement'!EKM12,3)","v":0},{"$f":"ROUND('Income Statement'!EKN12,3)","v":0},{"$f":"ROUND('Income Statement'!EKO12,3)","v":0},{"$f":"ROUND('Income Statement'!EKP12,3)","v":0},{"$f":"ROUND('Income Statement'!EKQ12,3)","v":0},{"$f":"ROUND('Income Statement'!EKR12,3)","v":0},{"$f":"ROUND('Income Statement'!EKS12,3)","v":0},{"$f":"ROUND('Income Statement'!EKT12,3)","v":0},{"$f":"ROUND('Income Statement'!EKU12,3)","v":0},{"$f":"ROUND('Income Statement'!EKV12,3)","v":0},{"$f":"ROUND('Income Statement'!EKW12,3)","v":0},{"$f":"ROUND('Income Statement'!EKX12,3)","v":0},{"$f":"ROUND('Income Statement'!EKY12,3)","v":0},{"$f":"ROUND('Income Statement'!EKZ12,3)","v":0},{"$f":"ROUND('Income Statement'!ELA12,3)","v":0},{"$f":"ROUND('Income Statement'!ELB12,3)","v":0},{"$f":"ROUND('Income Statement'!ELC12,3)","v":0},{"$f":"ROUND('Income Statement'!ELD12,3)","v":0},{"$f":"ROUND('Income Statement'!ELE12,3)","v":0},{"$f":"ROUND('Income Statement'!ELF12,3)","v":0},{"$f":"ROUND('Income Statement'!ELG12,3)","v":0},{"$f":"ROUND('Income Statement'!ELH12,3)","v":0},{"$f":"ROUND('Income Statement'!ELI12,3)","v":0},{"$f":"ROUND('Income Statement'!ELJ12,3)","v":0},{"$f":"ROUND('Income Statement'!ELK12,3)","v":0},{"$f":"ROUND('Income Statement'!ELL12,3)","v":0},{"$f":"ROUND('Income Statement'!ELM12,3)","v":0},{"$f":"ROUND('Income Statement'!ELN12,3)","v":0},{"$f":"ROUND('Income Statement'!ELO12,3)","v":0},{"$f":"ROUND('Income Statement'!ELP12,3)","v":0},{"$f":"ROUND('Income Statement'!ELQ12,3)","v":0},{"$f":"ROUND('Income Statement'!ELR12,3)","v":0},{"$f":"ROUND('Income Statement'!ELS12,3)","v":0},{"$f":"ROUND('Income Statement'!ELT12,3)","v":0},{"$f":"ROUND('Income Statement'!ELU12,3)","v":0},{"$f":"ROUND('Income Statement'!ELV12,3)","v":0},{"$f":"ROUND('Income Statement'!ELW12,3)","v":0},{"$f":"ROUND('Income Statement'!ELX12,3)","v":0},{"$f":"ROUND('Income Statement'!ELY12,3)","v":0},{"$f":"ROUND('Income Statement'!ELZ12,3)","v":0},{"$f":"ROUND('Income Statement'!EMA12,3)","v":0},{"$f":"ROUND('Income Statement'!EMB12,3)","v":0},{"$f":"ROUND('Income Statement'!EMC12,3)","v":0},{"$f":"ROUND('Income Statement'!EMD12,3)","v":0},{"$f":"ROUND('Income Statement'!EME12,3)","v":0},{"$f":"ROUND('Income Statement'!EMF12,3)","v":0},{"$f":"ROUND('Income Statement'!EMG12,3)","v":0},{"$f":"ROUND('Income Statement'!EMH12,3)","v":0},{"$f":"ROUND('Income Statement'!EMI12,3)","v":0},{"$f":"ROUND('Income Statement'!EMJ12,3)","v":0},{"$f":"ROUND('Income Statement'!EMK12,3)","v":0},{"$f":"ROUND('Income Statement'!EML12,3)","v":0},{"$f":"ROUND('Income Statement'!EMM12,3)","v":0},{"$f":"ROUND('Income Statement'!EMN12,3)","v":0},{"$f":"ROUND('Income Statement'!EMO12,3)","v":0},{"$f":"ROUND('Income Statement'!EMP12,3)","v":0},{"$f":"ROUND('Income Statement'!EMQ12,3)","v":0},{"$f":"ROUND('Income Statement'!EMR12,3)","v":0},{"$f":"ROUND('Income Statement'!EMS12,3)","v":0},{"$f":"ROUND('Income Statement'!EMT12,3)","v":0},{"$f":"ROUND('Income Statement'!EMU12,3)","v":0},{"$f":"ROUND('Income Statement'!EMV12,3)","v":0},{"$f":"ROUND('Income Statement'!EMW12,3)","v":0},{"$f":"ROUND('Income Statement'!EMX12,3)","v":0},{"$f":"ROUND('Income Statement'!EMY12,3)","v":0},{"$f":"ROUND('Income Statement'!EMZ12,3)","v":0},{"$f":"ROUND('Income Statement'!ENA12,3)","v":0},{"$f":"ROUND('Income Statement'!ENB12,3)","v":0},{"$f":"ROUND('Income Statement'!ENC12,3)","v":0},{"$f":"ROUND('Income Statement'!END12,3)","v":0},{"$f":"ROUND('Income Statement'!ENE12,3)","v":0},{"$f":"ROUND('Income Statement'!ENF12,3)","v":0},{"$f":"ROUND('Income Statement'!ENG12,3)","v":0},{"$f":"ROUND('Income Statement'!ENH12,3)","v":0},{"$f":"ROUND('Income Statement'!ENI12,3)","v":0},{"$f":"ROUND('Income Statement'!ENJ12,3)","v":0},{"$f":"ROUND('Income Statement'!ENK12,3)","v":0},{"$f":"ROUND('Income Statement'!ENL12,3)","v":0},{"$f":"ROUND('Income Statement'!ENM12,3)","v":0},{"$f":"ROUND('Income Statement'!ENN12,3)","v":0},{"$f":"ROUND('Income Statement'!ENO12,3)","v":0},{"$f":"ROUND('Income Statement'!ENP12,3)","v":0},{"$f":"ROUND('Income Statement'!ENQ12,3)","v":0},{"$f":"ROUND('Income Statement'!ENR12,3)","v":0},{"$f":"ROUND('Income Statement'!ENS12,3)","v":0},{"$f":"ROUND('Income Statement'!ENT12,3)","v":0},{"$f":"ROUND('Income Statement'!ENU12,3)","v":0},{"$f":"ROUND('Income Statement'!ENV12,3)","v":0},{"$f":"ROUND('Income Statement'!ENW12,3)","v":0},{"$f":"ROUND('Income Statement'!ENX12,3)","v":0},{"$f":"ROUND('Income Statement'!ENY12,3)","v":0},{"$f":"ROUND('Income Statement'!ENZ12,3)","v":0},{"$f":"ROUND('Income Statement'!EOA12,3)","v":0},{"$f":"ROUND('Income Statement'!EOB12,3)","v":0},{"$f":"ROUND('Income Statement'!EOC12,3)","v":0},{"$f":"ROUND('Income Statement'!EOD12,3)","v":0},{"$f":"ROUND('Income Statement'!EOE12,3)","v":0},{"$f":"ROUND('Income Statement'!EOF12,3)","v":0},{"$f":"ROUND('Income Statement'!EOG12,3)","v":0},{"$f":"ROUND('Income Statement'!EOH12,3)","v":0},{"$f":"ROUND('Income Statement'!EOI12,3)","v":0},{"$f":"ROUND('Income Statement'!EOJ12,3)","v":0},{"$f":"ROUND('Income Statement'!EOK12,3)","v":0},{"$f":"ROUND('Income Statement'!EOL12,3)","v":0},{"$f":"ROUND('Income Statement'!EOM12,3)","v":0},{"$f":"ROUND('Income Statement'!EON12,3)","v":0},{"$f":"ROUND('Income Statement'!EOO12,3)","v":0},{"$f":"ROUND('Income Statement'!EOP12,3)","v":0},{"$f":"ROUND('Income Statement'!EOQ12,3)","v":0},{"$f":"ROUND('Income Statement'!EOR12,3)","v":0},{"$f":"ROUND('Income Statement'!EOS12,3)","v":0},{"$f":"ROUND('Income Statement'!EOT12,3)","v":0},{"$f":"ROUND('Income Statement'!EOU12,3)","v":0},{"$f":"ROUND('Income Statement'!EOV12,3)","v":0},{"$f":"ROUND('Income Statement'!EOW12,3)","v":0},{"$f":"ROUND('Income Statement'!EOX12,3)","v":0},{"$f":"ROUND('Income Statement'!EOY12,3)","v":0},{"$f":"ROUND('Income Statement'!EOZ12,3)","v":0},{"$f":"ROUND('Income Statement'!EPA12,3)","v":0},{"$f":"ROUND('Income Statement'!EPB12,3)","v":0},{"$f":"ROUND('Income Statement'!EPC12,3)","v":0},{"$f":"ROUND('Income Statement'!EPD12,3)","v":0},{"$f":"ROUND('Income Statement'!EPE12,3)","v":0},{"$f":"ROUND('Income Statement'!EPF12,3)","v":0},{"$f":"ROUND('Income Statement'!EPG12,3)","v":0},{"$f":"ROUND('Income Statement'!EPH12,3)","v":0},{"$f":"ROUND('Income Statement'!EPI12,3)","v":0},{"$f":"ROUND('Income Statement'!EPJ12,3)","v":0},{"$f":"ROUND('Income Statement'!EPK12,3)","v":0},{"$f":"ROUND('Income Statement'!EPL12,3)","v":0},{"$f":"ROUND('Income Statement'!EPM12,3)","v":0},{"$f":"ROUND('Income Statement'!EPN12,3)","v":0},{"$f":"ROUND('Income Statement'!EPO12,3)","v":0},{"$f":"ROUND('Income Statement'!EPP12,3)","v":0},{"$f":"ROUND('Income Statement'!EPQ12,3)","v":0},{"$f":"ROUND('Income Statement'!EPR12,3)","v":0},{"$f":"ROUND('Income Statement'!EPS12,3)","v":0},{"$f":"ROUND('Income Statement'!EPT12,3)","v":0},{"$f":"ROUND('Income Statement'!EPU12,3)","v":0},{"$f":"ROUND('Income Statement'!EPV12,3)","v":0},{"$f":"ROUND('Income Statement'!EPW12,3)","v":0},{"$f":"ROUND('Income Statement'!EPX12,3)","v":0},{"$f":"ROUND('Income Statement'!EPY12,3)","v":0},{"$f":"ROUND('Income Statement'!EPZ12,3)","v":0},{"$f":"ROUND('Income Statement'!EQA12,3)","v":0},{"$f":"ROUND('Income Statement'!EQB12,3)","v":0},{"$f":"ROUND('Income Statement'!EQC12,3)","v":0},{"$f":"ROUND('Income Statement'!EQD12,3)","v":0},{"$f":"ROUND('Income Statement'!EQE12,3)","v":0},{"$f":"ROUND('Income Statement'!EQF12,3)","v":0},{"$f":"ROUND('Income Statement'!EQG12,3)","v":0},{"$f":"ROUND('Income Statement'!EQH12,3)","v":0},{"$f":"ROUND('Income Statement'!EQI12,3)","v":0},{"$f":"ROUND('Income Statement'!EQJ12,3)","v":0},{"$f":"ROUND('Income Statement'!EQK12,3)","v":0},{"$f":"ROUND('Income Statement'!EQL12,3)","v":0},{"$f":"ROUND('Income Statement'!EQM12,3)","v":0},{"$f":"ROUND('Income Statement'!EQN12,3)","v":0},{"$f":"ROUND('Income Statement'!EQO12,3)","v":0},{"$f":"ROUND('Income Statement'!EQP12,3)","v":0},{"$f":"ROUND('Income Statement'!EQQ12,3)","v":0},{"$f":"ROUND('Income Statement'!EQR12,3)","v":0},{"$f":"ROUND('Income Statement'!EQS12,3)","v":0},{"$f":"ROUND('Income Statement'!EQT12,3)","v":0},{"$f":"ROUND('Income Statement'!EQU12,3)","v":0},{"$f":"ROUND('Income Statement'!EQV12,3)","v":0},{"$f":"ROUND('Income Statement'!EQW12,3)","v":0},{"$f":"ROUND('Income Statement'!EQX12,3)","v":0},{"$f":"ROUND('Income Statement'!EQY12,3)","v":0},{"$f":"ROUND('Income Statement'!EQZ12,3)","v":0},{"$f":"ROUND('Income Statement'!ERA12,3)","v":0},{"$f":"ROUND('Income Statement'!ERB12,3)","v":0},{"$f":"ROUND('Income Statement'!ERC12,3)","v":0},{"$f":"ROUND('Income Statement'!ERD12,3)","v":0},{"$f":"ROUND('Income Statement'!ERE12,3)","v":0},{"$f":"ROUND('Income Statement'!ERF12,3)","v":0},{"$f":"ROUND('Income Statement'!ERG12,3)","v":0},{"$f":"ROUND('Income Statement'!ERH12,3)","v":0},{"$f":"ROUND('Income Statement'!ERI12,3)","v":0},{"$f":"ROUND('Income Statement'!ERJ12,3)","v":0},{"$f":"ROUND('Income Statement'!ERK12,3)","v":0},{"$f":"ROUND('Income Statement'!ERL12,3)","v":0},{"$f":"ROUND('Income Statement'!ERM12,3)","v":0},{"$f":"ROUND('Income Statement'!ERN12,3)","v":0},{"$f":"ROUND('Income Statement'!ERO12,3)","v":0},{"$f":"ROUND('Income Statement'!ERP12,3)","v":0},{"$f":"ROUND('Income Statement'!ERQ12,3)","v":0},{"$f":"ROUND('Income Statement'!ERR12,3)","v":0},{"$f":"ROUND('Income Statement'!ERS12,3)","v":0},{"$f":"ROUND('Income Statement'!ERT12,3)","v":0},{"$f":"ROUND('Income Statement'!ERU12,3)","v":0},{"$f":"ROUND('Income Statement'!ERV12,3)","v":0},{"$f":"ROUND('Income Statement'!ERW12,3)","v":0},{"$f":"ROUND('Income Statement'!ERX12,3)","v":0},{"$f":"ROUND('Income Statement'!ERY12,3)","v":0},{"$f":"ROUND('Income Statement'!ERZ12,3)","v":0},{"$f":"ROUND('Income Statement'!ESA12,3)","v":0},{"$f":"ROUND('Income Statement'!ESB12,3)","v":0},{"$f":"ROUND('Income Statement'!ESC12,3)","v":0},{"$f":"ROUND('Income Statement'!ESD12,3)","v":0},{"$f":"ROUND('Income Statement'!ESE12,3)","v":0},{"$f":"ROUND('Income Statement'!ESF12,3)","v":0},{"$f":"ROUND('Income Statement'!ESG12,3)","v":0},{"$f":"ROUND('Income Statement'!ESH12,3)","v":0},{"$f":"ROUND('Income Statement'!ESI12,3)","v":0},{"$f":"ROUND('Income Statement'!ESJ12,3)","v":0},{"$f":"ROUND('Income Statement'!ESK12,3)","v":0},{"$f":"ROUND('Income Statement'!ESL12,3)","v":0},{"$f":"ROUND('Income Statement'!ESM12,3)","v":0},{"$f":"ROUND('Income Statement'!ESN12,3)","v":0},{"$f":"ROUND('Income Statement'!ESO12,3)","v":0},{"$f":"ROUND('Income Statement'!ESP12,3)","v":0},{"$f":"ROUND('Income Statement'!ESQ12,3)","v":0},{"$f":"ROUND('Income Statement'!ESR12,3)","v":0},{"$f":"ROUND('Income Statement'!ESS12,3)","v":0},{"$f":"ROUND('Income Statement'!EST12,3)","v":0},{"$f":"ROUND('Income Statement'!ESU12,3)","v":0},{"$f":"ROUND('Income Statement'!ESV12,3)","v":0},{"$f":"ROUND('Income Statement'!ESW12,3)","v":0},{"$f":"ROUND('Income Statement'!ESX12,3)","v":0},{"$f":"ROUND('Income Statement'!ESY12,3)","v":0},{"$f":"ROUND('Income Statement'!ESZ12,3)","v":0},{"$f":"ROUND('Income Statement'!ETA12,3)","v":0},{"$f":"ROUND('Income Statement'!ETB12,3)","v":0},{"$f":"ROUND('Income Statement'!ETC12,3)","v":0},{"$f":"ROUND('Income Statement'!ETD12,3)","v":0},{"$f":"ROUND('Income Statement'!ETE12,3)","v":0},{"$f":"ROUND('Income Statement'!ETF12,3)","v":0},{"$f":"ROUND('Income Statement'!ETG12,3)","v":0},{"$f":"ROUND('Income Statement'!ETH12,3)","v":0},{"$f":"ROUND('Income Statement'!ETI12,3)","v":0},{"$f":"ROUND('Income Statement'!ETJ12,3)","v":0},{"$f":"ROUND('Income Statement'!ETK12,3)","v":0},{"$f":"ROUND('Income Statement'!ETL12,3)","v":0},{"$f":"ROUND('Income Statement'!ETM12,3)","v":0},{"$f":"ROUND('Income Statement'!ETN12,3)","v":0},{"$f":"ROUND('Income Statement'!ETO12,3)","v":0},{"$f":"ROUND('Income Statement'!ETP12,3)","v":0},{"$f":"ROUND('Income Statement'!ETQ12,3)","v":0},{"$f":"ROUND('Income Statement'!ETR12,3)","v":0},{"$f":"ROUND('Income Statement'!ETS12,3)","v":0},{"$f":"ROUND('Income Statement'!ETT12,3)","v":0},{"$f":"ROUND('Income Statement'!ETU12,3)","v":0},{"$f":"ROUND('Income Statement'!ETV12,3)","v":0},{"$f":"ROUND('Income Statement'!ETW12,3)","v":0},{"$f":"ROUND('Income Statement'!ETX12,3)","v":0},{"$f":"ROUND('Income Statement'!ETY12,3)","v":0},{"$f":"ROUND('Income Statement'!ETZ12,3)","v":0},{"$f":"ROUND('Income Statement'!EUA12,3)","v":0},{"$f":"ROUND('Income Statement'!EUB12,3)","v":0},{"$f":"ROUND('Income Statement'!EUC12,3)","v":0},{"$f":"ROUND('Income Statement'!EUD12,3)","v":0},{"$f":"ROUND('Income Statement'!EUE12,3)","v":0},{"$f":"ROUND('Income Statement'!EUF12,3)","v":0},{"$f":"ROUND('Income Statement'!EUG12,3)","v":0},{"$f":"ROUND('Income Statement'!EUH12,3)","v":0},{"$f":"ROUND('Income Statement'!EUI12,3)","v":0},{"$f":"ROUND('Income Statement'!EUJ12,3)","v":0},{"$f":"ROUND('Income Statement'!EUK12,3)","v":0},{"$f":"ROUND('Income Statement'!EUL12,3)","v":0},{"$f":"ROUND('Income Statement'!EUM12,3)","v":0},{"$f":"ROUND('Income Statement'!EUN12,3)","v":0},{"$f":"ROUND('Income Statement'!EUO12,3)","v":0},{"$f":"ROUND('Income Statement'!EUP12,3)","v":0},{"$f":"ROUND('Income Statement'!EUQ12,3)","v":0},{"$f":"ROUND('Income Statement'!EUR12,3)","v":0},{"$f":"ROUND('Income Statement'!EUS12,3)","v":0},{"$f":"ROUND('Income Statement'!EUT12,3)","v":0},{"$f":"ROUND('Income Statement'!EUU12,3)","v":0},{"$f":"ROUND('Income Statement'!EUV12,3)","v":0},{"$f":"ROUND('Income Statement'!EUW12,3)","v":0},{"$f":"ROUND('Income Statement'!EUX12,3)","v":0},{"$f":"ROUND('Income Statement'!EUY12,3)","v":0},{"$f":"ROUND('Income Statement'!EUZ12,3)","v":0},{"$f":"ROUND('Income Statement'!EVA12,3)","v":0},{"$f":"ROUND('Income Statement'!EVB12,3)","v":0},{"$f":"ROUND('Income Statement'!EVC12,3)","v":0},{"$f":"ROUND('Income Statement'!EVD12,3)","v":0},{"$f":"ROUND('Income Statement'!EVE12,3)","v":0},{"$f":"ROUND('Income Statement'!EVF12,3)","v":0},{"$f":"ROUND('Income Statement'!EVG12,3)","v":0},{"$f":"ROUND('Income Statement'!EVH12,3)","v":0},{"$f":"ROUND('Income Statement'!EVI12,3)","v":0},{"$f":"ROUND('Income Statement'!EVJ12,3)","v":0},{"$f":"ROUND('Income Statement'!EVK12,3)","v":0},{"$f":"ROUND('Income Statement'!EVL12,3)","v":0},{"$f":"ROUND('Income Statement'!EVM12,3)","v":0},{"$f":"ROUND('Income Statement'!EVN12,3)","v":0},{"$f":"ROUND('Income Statement'!EVO12,3)","v":0},{"$f":"ROUND('Income Statement'!EVP12,3)","v":0},{"$f":"ROUND('Income Statement'!EVQ12,3)","v":0},{"$f":"ROUND('Income Statement'!EVR12,3)","v":0},{"$f":"ROUND('Income Statement'!EVS12,3)","v":0},{"$f":"ROUND('Income Statement'!EVT12,3)","v":0},{"$f":"ROUND('Income Statement'!EVU12,3)","v":0},{"$f":"ROUND('Income Statement'!EVV12,3)","v":0},{"$f":"ROUND('Income Statement'!EVW12,3)","v":0},{"$f":"ROUND('Income Statement'!EVX12,3)","v":0},{"$f":"ROUND('Income Statement'!EVY12,3)","v":0},{"$f":"ROUND('Income Statement'!EVZ12,3)","v":0},{"$f":"ROUND('Income Statement'!EWA12,3)","v":0},{"$f":"ROUND('Income Statement'!EWB12,3)","v":0},{"$f":"ROUND('Income Statement'!EWC12,3)","v":0},{"$f":"ROUND('Income Statement'!EWD12,3)","v":0},{"$f":"ROUND('Income Statement'!EWE12,3)","v":0},{"$f":"ROUND('Income Statement'!EWF12,3)","v":0},{"$f":"ROUND('Income Statement'!EWG12,3)","v":0},{"$f":"ROUND('Income Statement'!EWH12,3)","v":0},{"$f":"ROUND('Income Statement'!EWI12,3)","v":0},{"$f":"ROUND('Income Statement'!EWJ12,3)","v":0},{"$f":"ROUND('Income Statement'!EWK12,3)","v":0},{"$f":"ROUND('Income Statement'!EWL12,3)","v":0},{"$f":"ROUND('Income Statement'!EWM12,3)","v":0},{"$f":"ROUND('Income Statement'!EWN12,3)","v":0},{"$f":"ROUND('Income Statement'!EWO12,3)","v":0},{"$f":"ROUND('Income Statement'!EWP12,3)","v":0},{"$f":"ROUND('Income Statement'!EWQ12,3)","v":0},{"$f":"ROUND('Income Statement'!EWR12,3)","v":0},{"$f":"ROUND('Income Statement'!EWS12,3)","v":0},{"$f":"ROUND('Income Statement'!EWT12,3)","v":0},{"$f":"ROUND('Income Statement'!EWU12,3)","v":0},{"$f":"ROUND('Income Statement'!EWV12,3)","v":0},{"$f":"ROUND('Income Statement'!EWW12,3)","v":0},{"$f":"ROUND('Income Statement'!EWX12,3)","v":0},{"$f":"ROUND('Income Statement'!EWY12,3)","v":0},{"$f":"ROUND('Income Statement'!EWZ12,3)","v":0},{"$f":"ROUND('Income Statement'!EXA12,3)","v":0},{"$f":"ROUND('Income Statement'!EXB12,3)","v":0},{"$f":"ROUND('Income Statement'!EXC12,3)","v":0},{"$f":"ROUND('Income Statement'!EXD12,3)","v":0},{"$f":"ROUND('Income Statement'!EXE12,3)","v":0},{"$f":"ROUND('Income Statement'!EXF12,3)","v":0},{"$f":"ROUND('Income Statement'!EXG12,3)","v":0},{"$f":"ROUND('Income Statement'!EXH12,3)","v":0},{"$f":"ROUND('Income Statement'!EXI12,3)","v":0},{"$f":"ROUND('Income Statement'!EXJ12,3)","v":0},{"$f":"ROUND('Income Statement'!EXK12,3)","v":0},{"$f":"ROUND('Income Statement'!EXL12,3)","v":0},{"$f":"ROUND('Income Statement'!EXM12,3)","v":0},{"$f":"ROUND('Income Statement'!EXN12,3)","v":0},{"$f":"ROUND('Income Statement'!EXO12,3)","v":0},{"$f":"ROUND('Income Statement'!EXP12,3)","v":0},{"$f":"ROUND('Income Statement'!EXQ12,3)","v":0},{"$f":"ROUND('Income Statement'!EXR12,3)","v":0},{"$f":"ROUND('Income Statement'!EXS12,3)","v":0},{"$f":"ROUND('Income Statement'!EXT12,3)","v":0},{"$f":"ROUND('Income Statement'!EXU12,3)","v":0},{"$f":"ROUND('Income Statement'!EXV12,3)","v":0},{"$f":"ROUND('Income Statement'!EXW12,3)","v":0},{"$f":"ROUND('Income Statement'!EXX12,3)","v":0},{"$f":"ROUND('Income Statement'!EXY12,3)","v":0},{"$f":"ROUND('Income Statement'!EXZ12,3)","v":0},{"$f":"ROUND('Income Statement'!EYA12,3)","v":0},{"$f":"ROUND('Income Statement'!EYB12,3)","v":0},{"$f":"ROUND('Income Statement'!EYC12,3)","v":0},{"$f":"ROUND('Income Statement'!EYD12,3)","v":0},{"$f":"ROUND('Income Statement'!EYE12,3)","v":0},{"$f":"ROUND('Income Statement'!EYF12,3)","v":0},{"$f":"ROUND('Income Statement'!EYG12,3)","v":0},{"$f":"ROUND('Income Statement'!EYH12,3)","v":0},{"$f":"ROUND('Income Statement'!EYI12,3)","v":0},{"$f":"ROUND('Income Statement'!EYJ12,3)","v":0},{"$f":"ROUND('Income Statement'!EYK12,3)","v":0},{"$f":"ROUND('Income Statement'!EYL12,3)","v":0},{"$f":"ROUND('Income Statement'!EYM12,3)","v":0},{"$f":"ROUND('Income Statement'!EYN12,3)","v":0},{"$f":"ROUND('Income Statement'!EYO12,3)","v":0},{"$f":"ROUND('Income Statement'!EYP12,3)","v":0},{"$f":"ROUND('Income Statement'!EYQ12,3)","v":0},{"$f":"ROUND('Income Statement'!EYR12,3)","v":0},{"$f":"ROUND('Income Statement'!EYS12,3)","v":0},{"$f":"ROUND('Income Statement'!EYT12,3)","v":0},{"$f":"ROUND('Income Statement'!EYU12,3)","v":0},{"$f":"ROUND('Income Statement'!EYV12,3)","v":0},{"$f":"ROUND('Income Statement'!EYW12,3)","v":0},{"$f":"ROUND('Income Statement'!EYX12,3)","v":0},{"$f":"ROUND('Income Statement'!EYY12,3)","v":0},{"$f":"ROUND('Income Statement'!EYZ12,3)","v":0},{"$f":"ROUND('Income Statement'!EZA12,3)","v":0},{"$f":"ROUND('Income Statement'!EZB12,3)","v":0},{"$f":"ROUND('Income Statement'!EZC12,3)","v":0},{"$f":"ROUND('Income Statement'!EZD12,3)","v":0},{"$f":"ROUND('Income Statement'!EZE12,3)","v":0},{"$f":"ROUND('Income Statement'!EZF12,3)","v":0},{"$f":"ROUND('Income Statement'!EZG12,3)","v":0},{"$f":"ROUND('Income Statement'!EZH12,3)","v":0},{"$f":"ROUND('Income Statement'!EZI12,3)","v":0},{"$f":"ROUND('Income Statement'!EZJ12,3)","v":0},{"$f":"ROUND('Income Statement'!EZK12,3)","v":0},{"$f":"ROUND('Income Statement'!EZL12,3)","v":0},{"$f":"ROUND('Income Statement'!EZM12,3)","v":0},{"$f":"ROUND('Income Statement'!EZN12,3)","v":0},{"$f":"ROUND('Income Statement'!EZO12,3)","v":0},{"$f":"ROUND('Income Statement'!EZP12,3)","v":0},{"$f":"ROUND('Income Statement'!EZQ12,3)","v":0},{"$f":"ROUND('Income Statement'!EZR12,3)","v":0},{"$f":"ROUND('Income Statement'!EZS12,3)","v":0},{"$f":"ROUND('Income Statement'!EZT12,3)","v":0},{"$f":"ROUND('Income Statement'!EZU12,3)","v":0},{"$f":"ROUND('Income Statement'!EZV12,3)","v":0},{"$f":"ROUND('Income Statement'!EZW12,3)","v":0},{"$f":"ROUND('Income Statement'!EZX12,3)","v":0},{"$f":"ROUND('Income Statement'!EZY12,3)","v":0},{"$f":"ROUND('Income Statement'!EZZ12,3)","v":0},{"$f":"ROUND('Income Statement'!FAA12,3)","v":0},{"$f":"ROUND('Income Statement'!FAB12,3)","v":0},{"$f":"ROUND('Income Statement'!FAC12,3)","v":0},{"$f":"ROUND('Income Statement'!FAD12,3)","v":0},{"$f":"ROUND('Income Statement'!FAE12,3)","v":0},{"$f":"ROUND('Income Statement'!FAF12,3)","v":0},{"$f":"ROUND('Income Statement'!FAG12,3)","v":0},{"$f":"ROUND('Income Statement'!FAH12,3)","v":0},{"$f":"ROUND('Income Statement'!FAI12,3)","v":0},{"$f":"ROUND('Income Statement'!FAJ12,3)","v":0},{"$f":"ROUND('Income Statement'!FAK12,3)","v":0},{"$f":"ROUND('Income Statement'!FAL12,3)","v":0},{"$f":"ROUND('Income Statement'!FAM12,3)","v":0},{"$f":"ROUND('Income Statement'!FAN12,3)","v":0},{"$f":"ROUND('Income Statement'!FAO12,3)","v":0},{"$f":"ROUND('Income Statement'!FAP12,3)","v":0},{"$f":"ROUND('Income Statement'!FAQ12,3)","v":0},{"$f":"ROUND('Income Statement'!FAR12,3)","v":0},{"$f":"ROUND('Income Statement'!FAS12,3)","v":0},{"$f":"ROUND('Income Statement'!FAT12,3)","v":0},{"$f":"ROUND('Income Statement'!FAU12,3)","v":0},{"$f":"ROUND('Income Statement'!FAV12,3)","v":0},{"$f":"ROUND('Income Statement'!FAW12,3)","v":0},{"$f":"ROUND('Income Statement'!FAX12,3)","v":0},{"$f":"ROUND('Income Statement'!FAY12,3)","v":0},{"$f":"ROUND('Income Statement'!FAZ12,3)","v":0},{"$f":"ROUND('Income Statement'!FBA12,3)","v":0},{"$f":"ROUND('Income Statement'!FBB12,3)","v":0},{"$f":"ROUND('Income Statement'!FBC12,3)","v":0},{"$f":"ROUND('Income Statement'!FBD12,3)","v":0},{"$f":"ROUND('Income Statement'!FBE12,3)","v":0},{"$f":"ROUND('Income Statement'!FBF12,3)","v":0},{"$f":"ROUND('Income Statement'!FBG12,3)","v":0},{"$f":"ROUND('Income Statement'!FBH12,3)","v":0},{"$f":"ROUND('Income Statement'!FBI12,3)","v":0},{"$f":"ROUND('Income Statement'!FBJ12,3)","v":0},{"$f":"ROUND('Income Statement'!FBK12,3)","v":0},{"$f":"ROUND('Income Statement'!FBL12,3)","v":0},{"$f":"ROUND('Income Statement'!FBM12,3)","v":0},{"$f":"ROUND('Income Statement'!FBN12,3)","v":0},{"$f":"ROUND('Income Statement'!FBO12,3)","v":0},{"$f":"ROUND('Income Statement'!FBP12,3)","v":0},{"$f":"ROUND('Income Statement'!FBQ12,3)","v":0},{"$f":"ROUND('Income Statement'!FBR12,3)","v":0},{"$f":"ROUND('Income Statement'!FBS12,3)","v":0},{"$f":"ROUND('Income Statement'!FBT12,3)","v":0},{"$f":"ROUND('Income Statement'!FBU12,3)","v":0},{"$f":"ROUND('Income Statement'!FBV12,3)","v":0},{"$f":"ROUND('Income Statement'!FBW12,3)","v":0},{"$f":"ROUND('Income Statement'!FBX12,3)","v":0},{"$f":"ROUND('Income Statement'!FBY12,3)","v":0},{"$f":"ROUND('Income Statement'!FBZ12,3)","v":0},{"$f":"ROUND('Income Statement'!FCA12,3)","v":0},{"$f":"ROUND('Income Statement'!FCB12,3)","v":0},{"$f":"ROUND('Income Statement'!FCC12,3)","v":0},{"$f":"ROUND('Income Statement'!FCD12,3)","v":0},{"$f":"ROUND('Income Statement'!FCE12,3)","v":0},{"$f":"ROUND('Income Statement'!FCF12,3)","v":0},{"$f":"ROUND('Income Statement'!FCG12,3)","v":0},{"$f":"ROUND('Income Statement'!FCH12,3)","v":0},{"$f":"ROUND('Income Statement'!FCI12,3)","v":0},{"$f":"ROUND('Income Statement'!FCJ12,3)","v":0},{"$f":"ROUND('Income Statement'!FCK12,3)","v":0},{"$f":"ROUND('Income Statement'!FCL12,3)","v":0},{"$f":"ROUND('Income Statement'!FCM12,3)","v":0},{"$f":"ROUND('Income Statement'!FCN12,3)","v":0},{"$f":"ROUND('Income Statement'!FCO12,3)","v":0},{"$f":"ROUND('Income Statement'!FCP12,3)","v":0},{"$f":"ROUND('Income Statement'!FCQ12,3)","v":0},{"$f":"ROUND('Income Statement'!FCR12,3)","v":0},{"$f":"ROUND('Income Statement'!FCS12,3)","v":0},{"$f":"ROUND('Income Statement'!FCT12,3)","v":0},{"$f":"ROUND('Income Statement'!FCU12,3)","v":0},{"$f":"ROUND('Income Statement'!FCV12,3)","v":0},{"$f":"ROUND('Income Statement'!FCW12,3)","v":0},{"$f":"ROUND('Income Statement'!FCX12,3)","v":0},{"$f":"ROUND('Income Statement'!FCY12,3)","v":0},{"$f":"ROUND('Income Statement'!FCZ12,3)","v":0},{"$f":"ROUND('Income Statement'!FDA12,3)","v":0},{"$f":"ROUND('Income Statement'!FDB12,3)","v":0},{"$f":"ROUND('Income Statement'!FDC12,3)","v":0},{"$f":"ROUND('Income Statement'!FDD12,3)","v":0},{"$f":"ROUND('Income Statement'!FDE12,3)","v":0},{"$f":"ROUND('Income Statement'!FDF12,3)","v":0},{"$f":"ROUND('Income Statement'!FDG12,3)","v":0},{"$f":"ROUND('Income Statement'!FDH12,3)","v":0},{"$f":"ROUND('Income Statement'!FDI12,3)","v":0},{"$f":"ROUND('Income Statement'!FDJ12,3)","v":0},{"$f":"ROUND('Income Statement'!FDK12,3)","v":0},{"$f":"ROUND('Income Statement'!FDL12,3)","v":0},{"$f":"ROUND('Income Statement'!FDM12,3)","v":0},{"$f":"ROUND('Income Statement'!FDN12,3)","v":0},{"$f":"ROUND('Income Statement'!FDO12,3)","v":0},{"$f":"ROUND('Income Statement'!FDP12,3)","v":0},{"$f":"ROUND('Income Statement'!FDQ12,3)","v":0},{"$f":"ROUND('Income Statement'!FDR12,3)","v":0},{"$f":"ROUND('Income Statement'!FDS12,3)","v":0},{"$f":"ROUND('Income Statement'!FDT12,3)","v":0},{"$f":"ROUND('Income Statement'!FDU12,3)","v":0},{"$f":"ROUND('Income Statement'!FDV12,3)","v":0},{"$f":"ROUND('Income Statement'!FDW12,3)","v":0},{"$f":"ROUND('Income Statement'!FDX12,3)","v":0},{"$f":"ROUND('Income Statement'!FDY12,3)","v":0},{"$f":"ROUND('Income Statement'!FDZ12,3)","v":0},{"$f":"ROUND('Income Statement'!FEA12,3)","v":0},{"$f":"ROUND('Income Statement'!FEB12,3)","v":0},{"$f":"ROUND('Income Statement'!FEC12,3)","v":0},{"$f":"ROUND('Income Statement'!FED12,3)","v":0},{"$f":"ROUND('Income Statement'!FEE12,3)","v":0},{"$f":"ROUND('Income Statement'!FEF12,3)","v":0},{"$f":"ROUND('Income Statement'!FEG12,3)","v":0},{"$f":"ROUND('Income Statement'!FEH12,3)","v":0},{"$f":"ROUND('Income Statement'!FEI12,3)","v":0},{"$f":"ROUND('Income Statement'!FEJ12,3)","v":0},{"$f":"ROUND('Income Statement'!FEK12,3)","v":0},{"$f":"ROUND('Income Statement'!FEL12,3)","v":0},{"$f":"ROUND('Income Statement'!FEM12,3)","v":0},{"$f":"ROUND('Income Statement'!FEN12,3)","v":0},{"$f":"ROUND('Income Statement'!FEO12,3)","v":0},{"$f":"ROUND('Income Statement'!FEP12,3)","v":0},{"$f":"ROUND('Income Statement'!FEQ12,3)","v":0},{"$f":"ROUND('Income Statement'!FER12,3)","v":0},{"$f":"ROUND('Income Statement'!FES12,3)","v":0},{"$f":"ROUND('Income Statement'!FET12,3)","v":0},{"$f":"ROUND('Income Statement'!FEU12,3)","v":0},{"$f":"ROUND('Income Statement'!FEV12,3)","v":0},{"$f":"ROUND('Income Statement'!FEW12,3)","v":0},{"$f":"ROUND('Income Statement'!FEX12,3)","v":0},{"$f":"ROUND('Income Statement'!FEY12,3)","v":0},{"$f":"ROUND('Income Statement'!FEZ12,3)","v":0},{"$f":"ROUND('Income Statement'!FFA12,3)","v":0},{"$f":"ROUND('Income Statement'!FFB12,3)","v":0},{"$f":"ROUND('Income Statement'!FFC12,3)","v":0},{"$f":"ROUND('Income Statement'!FFD12,3)","v":0},{"$f":"ROUND('Income Statement'!FFE12,3)","v":0},{"$f":"ROUND('Income Statement'!FFF12,3)","v":0},{"$f":"ROUND('Income Statement'!FFG12,3)","v":0},{"$f":"ROUND('Income Statement'!FFH12,3)","v":0},{"$f":"ROUND('Income Statement'!FFI12,3)","v":0},{"$f":"ROUND('Income Statement'!FFJ12,3)","v":0},{"$f":"ROUND('Income Statement'!FFK12,3)","v":0},{"$f":"ROUND('Income Statement'!FFL12,3)","v":0},{"$f":"ROUND('Income Statement'!FFM12,3)","v":0},{"$f":"ROUND('Income Statement'!FFN12,3)","v":0},{"$f":"ROUND('Income Statement'!FFO12,3)","v":0},{"$f":"ROUND('Income Statement'!FFP12,3)","v":0},{"$f":"ROUND('Income Statement'!FFQ12,3)","v":0},{"$f":"ROUND('Income Statement'!FFR12,3)","v":0},{"$f":"ROUND('Income Statement'!FFS12,3)","v":0},{"$f":"ROUND('Income Statement'!FFT12,3)","v":0},{"$f":"ROUND('Income Statement'!FFU12,3)","v":0},{"$f":"ROUND('Income Statement'!FFV12,3)","v":0},{"$f":"ROUND('Income Statement'!FFW12,3)","v":0},{"$f":"ROUND('Income Statement'!FFX12,3)","v":0},{"$f":"ROUND('Income Statement'!FFY12,3)","v":0},{"$f":"ROUND('Income Statement'!FFZ12,3)","v":0},{"$f":"ROUND('Income Statement'!FGA12,3)","v":0},{"$f":"ROUND('Income Statement'!FGB12,3)","v":0},{"$f":"ROUND('Income Statement'!FGC12,3)","v":0},{"$f":"ROUND('Income Statement'!FGD12,3)","v":0},{"$f":"ROUND('Income Statement'!FGE12,3)","v":0},{"$f":"ROUND('Income Statement'!FGF12,3)","v":0},{"$f":"ROUND('Income Statement'!FGG12,3)","v":0},{"$f":"ROUND('Income Statement'!FGH12,3)","v":0},{"$f":"ROUND('Income Statement'!FGI12,3)","v":0},{"$f":"ROUND('Income Statement'!FGJ12,3)","v":0},{"$f":"ROUND('Income Statement'!FGK12,3)","v":0},{"$f":"ROUND('Income Statement'!FGL12,3)","v":0},{"$f":"ROUND('Income Statement'!FGM12,3)","v":0},{"$f":"ROUND('Income Statement'!FGN12,3)","v":0},{"$f":"ROUND('Income Statement'!FGO12,3)","v":0},{"$f":"ROUND('Income Statement'!FGP12,3)","v":0},{"$f":"ROUND('Income Statement'!FGQ12,3)","v":0},{"$f":"ROUND('Income Statement'!FGR12,3)","v":0},{"$f":"ROUND('Income Statement'!FGS12,3)","v":0},{"$f":"ROUND('Income Statement'!FGT12,3)","v":0},{"$f":"ROUND('Income Statement'!FGU12,3)","v":0},{"$f":"ROUND('Income Statement'!FGV12,3)","v":0},{"$f":"ROUND('Income Statement'!FGW12,3)","v":0},{"$f":"ROUND('Income Statement'!FGX12,3)","v":0},{"$f":"ROUND('Income Statement'!FGY12,3)","v":0},{"$f":"ROUND('Income Statement'!FGZ12,3)","v":0},{"$f":"ROUND('Income Statement'!FHA12,3)","v":0},{"$f":"ROUND('Income Statement'!FHB12,3)","v":0},{"$f":"ROUND('Income Statement'!FHC12,3)","v":0},{"$f":"ROUND('Income Statement'!FHD12,3)","v":0},{"$f":"ROUND('Income Statement'!FHE12,3)","v":0},{"$f":"ROUND('Income Statement'!FHF12,3)","v":0},{"$f":"ROUND('Income Statement'!FHG12,3)","v":0},{"$f":"ROUND('Income Statement'!FHH12,3)","v":0},{"$f":"ROUND('Income Statement'!FHI12,3)","v":0},{"$f":"ROUND('Income Statement'!FHJ12,3)","v":0},{"$f":"ROUND('Income Statement'!FHK12,3)","v":0},{"$f":"ROUND('Income Statement'!FHL12,3)","v":0},{"$f":"ROUND('Income Statement'!FHM12,3)","v":0},{"$f":"ROUND('Income Statement'!FHN12,3)","v":0},{"$f":"ROUND('Income Statement'!FHO12,3)","v":0},{"$f":"ROUND('Income Statement'!FHP12,3)","v":0},{"$f":"ROUND('Income Statement'!FHQ12,3)","v":0},{"$f":"ROUND('Income Statement'!FHR12,3)","v":0},{"$f":"ROUND('Income Statement'!FHS12,3)","v":0},{"$f":"ROUND('Income Statement'!FHT12,3)","v":0},{"$f":"ROUND('Income Statement'!FHU12,3)","v":0},{"$f":"ROUND('Income Statement'!FHV12,3)","v":0},{"$f":"ROUND('Income Statement'!FHW12,3)","v":0},{"$f":"ROUND('Income Statement'!FHX12,3)","v":0},{"$f":"ROUND('Income Statement'!FHY12,3)","v":0},{"$f":"ROUND('Income Statement'!FHZ12,3)","v":0},{"$f":"ROUND('Income Statement'!FIA12,3)","v":0},{"$f":"ROUND('Income Statement'!FIB12,3)","v":0},{"$f":"ROUND('Income Statement'!FIC12,3)","v":0},{"$f":"ROUND('Income Statement'!FID12,3)","v":0},{"$f":"ROUND('Income Statement'!FIE12,3)","v":0},{"$f":"ROUND('Income Statement'!FIF12,3)","v":0},{"$f":"ROUND('Income Statement'!FIG12,3)","v":0},{"$f":"ROUND('Income Statement'!FIH12,3)","v":0},{"$f":"ROUND('Income Statement'!FII12,3)","v":0},{"$f":"ROUND('Income Statement'!FIJ12,3)","v":0},{"$f":"ROUND('Income Statement'!FIK12,3)","v":0},{"$f":"ROUND('Income Statement'!FIL12,3)","v":0},{"$f":"ROUND('Income Statement'!FIM12,3)","v":0},{"$f":"ROUND('Income Statement'!FIN12,3)","v":0},{"$f":"ROUND('Income Statement'!FIO12,3)","v":0},{"$f":"ROUND('Income Statement'!FIP12,3)","v":0},{"$f":"ROUND('Income Statement'!FIQ12,3)","v":0},{"$f":"ROUND('Income Statement'!FIR12,3)","v":0},{"$f":"ROUND('Income Statement'!FIS12,3)","v":0},{"$f":"ROUND('Income Statement'!FIT12,3)","v":0},{"$f":"ROUND('Income Statement'!FIU12,3)","v":0},{"$f":"ROUND('Income Statement'!FIV12,3)","v":0},{"$f":"ROUND('Income Statement'!FIW12,3)","v":0},{"$f":"ROUND('Income Statement'!FIX12,3)","v":0},{"$f":"ROUND('Income Statement'!FIY12,3)","v":0},{"$f":"ROUND('Income Statement'!FIZ12,3)","v":0},{"$f":"ROUND('Income Statement'!FJA12,3)","v":0},{"$f":"ROUND('Income Statement'!FJB12,3)","v":0},{"$f":"ROUND('Income Statement'!FJC12,3)","v":0},{"$f":"ROUND('Income Statement'!FJD12,3)","v":0},{"$f":"ROUND('Income Statement'!FJE12,3)","v":0},{"$f":"ROUND('Income Statement'!FJF12,3)","v":0},{"$f":"ROUND('Income Statement'!FJG12,3)","v":0},{"$f":"ROUND('Income Statement'!FJH12,3)","v":0},{"$f":"ROUND('Income Statement'!FJI12,3)","v":0},{"$f":"ROUND('Income Statement'!FJJ12,3)","v":0},{"$f":"ROUND('Income Statement'!FJK12,3)","v":0},{"$f":"ROUND('Income Statement'!FJL12,3)","v":0},{"$f":"ROUND('Income Statement'!FJM12,3)","v":0},{"$f":"ROUND('Income Statement'!FJN12,3)","v":0},{"$f":"ROUND('Income Statement'!FJO12,3)","v":0},{"$f":"ROUND('Income Statement'!FJP12,3)","v":0},{"$f":"ROUND('Income Statement'!FJQ12,3)","v":0},{"$f":"ROUND('Income Statement'!FJR12,3)","v":0},{"$f":"ROUND('Income Statement'!FJS12,3)","v":0},{"$f":"ROUND('Income Statement'!FJT12,3)","v":0},{"$f":"ROUND('Income Statement'!FJU12,3)","v":0},{"$f":"ROUND('Income Statement'!FJV12,3)","v":0},{"$f":"ROUND('Income Statement'!FJW12,3)","v":0},{"$f":"ROUND('Income Statement'!FJX12,3)","v":0},{"$f":"ROUND('Income Statement'!FJY12,3)","v":0},{"$f":"ROUND('Income Statement'!FJZ12,3)","v":0},{"$f":"ROUND('Income Statement'!FKA12,3)","v":0},{"$f":"ROUND('Income Statement'!FKB12,3)","v":0},{"$f":"ROUND('Income Statement'!FKC12,3)","v":0},{"$f":"ROUND('Income Statement'!FKD12,3)","v":0},{"$f":"ROUND('Income Statement'!FKE12,3)","v":0},{"$f":"ROUND('Income Statement'!FKF12,3)","v":0},{"$f":"ROUND('Income Statement'!FKG12,3)","v":0},{"$f":"ROUND('Income Statement'!FKH12,3)","v":0},{"$f":"ROUND('Income Statement'!FKI12,3)","v":0},{"$f":"ROUND('Income Statement'!FKJ12,3)","v":0},{"$f":"ROUND('Income Statement'!FKK12,3)","v":0},{"$f":"ROUND('Income Statement'!FKL12,3)","v":0},{"$f":"ROUND('Income Statement'!FKM12,3)","v":0},{"$f":"ROUND('Income Statement'!FKN12,3)","v":0},{"$f":"ROUND('Income Statement'!FKO12,3)","v":0},{"$f":"ROUND('Income Statement'!FKP12,3)","v":0},{"$f":"ROUND('Income Statement'!FKQ12,3)","v":0},{"$f":"ROUND('Income Statement'!FKR12,3)","v":0},{"$f":"ROUND('Income Statement'!FKS12,3)","v":0},{"$f":"ROUND('Income Statement'!FKT12,3)","v":0},{"$f":"ROUND('Income Statement'!FKU12,3)","v":0},{"$f":"ROUND('Income Statement'!FKV12,3)","v":0},{"$f":"ROUND('Income Statement'!FKW12,3)","v":0},{"$f":"ROUND('Income Statement'!FKX12,3)","v":0},{"$f":"ROUND('Income Statement'!FKY12,3)","v":0},{"$f":"ROUND('Income Statement'!FKZ12,3)","v":0},{"$f":"ROUND('Income Statement'!FLA12,3)","v":0},{"$f":"ROUND('Income Statement'!FLB12,3)","v":0},{"$f":"ROUND('Income Statement'!FLC12,3)","v":0},{"$f":"ROUND('Income Statement'!FLD12,3)","v":0},{"$f":"ROUND('Income Statement'!FLE12,3)","v":0},{"$f":"ROUND('Income Statement'!FLF12,3)","v":0},{"$f":"ROUND('Income Statement'!FLG12,3)","v":0},{"$f":"ROUND('Income Statement'!FLH12,3)","v":0},{"$f":"ROUND('Income Statement'!FLI12,3)","v":0},{"$f":"ROUND('Income Statement'!FLJ12,3)","v":0},{"$f":"ROUND('Income Statement'!FLK12,3)","v":0},{"$f":"ROUND('Income Statement'!FLL12,3)","v":0},{"$f":"ROUND('Income Statement'!FLM12,3)","v":0},{"$f":"ROUND('Income Statement'!FLN12,3)","v":0},{"$f":"ROUND('Income Statement'!FLO12,3)","v":0},{"$f":"ROUND('Income Statement'!FLP12,3)","v":0},{"$f":"ROUND('Income Statement'!FLQ12,3)","v":0},{"$f":"ROUND('Income Statement'!FLR12,3)","v":0},{"$f":"ROUND('Income Statement'!FLS12,3)","v":0},{"$f":"ROUND('Income Statement'!FLT12,3)","v":0},{"$f":"ROUND('Income Statement'!FLU12,3)","v":0},{"$f":"ROUND('Income Statement'!FLV12,3)","v":0},{"$f":"ROUND('Income Statement'!FLW12,3)","v":0},{"$f":"ROUND('Income Statement'!FLX12,3)","v":0},{"$f":"ROUND('Income Statement'!FLY12,3)","v":0},{"$f":"ROUND('Income Statement'!FLZ12,3)","v":0},{"$f":"ROUND('Income Statement'!FMA12,3)","v":0},{"$f":"ROUND('Income Statement'!FMB12,3)","v":0},{"$f":"ROUND('Income Statement'!FMC12,3)","v":0},{"$f":"ROUND('Income Statement'!FMD12,3)","v":0},{"$f":"ROUND('Income Statement'!FME12,3)","v":0},{"$f":"ROUND('Income Statement'!FMF12,3)","v":0},{"$f":"ROUND('Income Statement'!FMG12,3)","v":0},{"$f":"ROUND('Income Statement'!FMH12,3)","v":0},{"$f":"ROUND('Income Statement'!FMI12,3)","v":0},{"$f":"ROUND('Income Statement'!FMJ12,3)","v":0},{"$f":"ROUND('Income Statement'!FMK12,3)","v":0},{"$f":"ROUND('Income Statement'!FML12,3)","v":0},{"$f":"ROUND('Income Statement'!FMM12,3)","v":0},{"$f":"ROUND('Income Statement'!FMN12,3)","v":0},{"$f":"ROUND('Income Statement'!FMO12,3)","v":0},{"$f":"ROUND('Income Statement'!FMP12,3)","v":0},{"$f":"ROUND('Income Statement'!FMQ12,3)","v":0},{"$f":"ROUND('Income Statement'!FMR12,3)","v":0},{"$f":"ROUND('Income Statement'!FMS12,3)","v":0},{"$f":"ROUND('Income Statement'!FMT12,3)","v":0},{"$f":"ROUND('Income Statement'!FMU12,3)","v":0},{"$f":"ROUND('Income Statement'!FMV12,3)","v":0},{"$f":"ROUND('Income Statement'!FMW12,3)","v":0},{"$f":"ROUND('Income Statement'!FMX12,3)","v":0},{"$f":"ROUND('Income Statement'!FMY12,3)","v":0},{"$f":"ROUND('Income Statement'!FMZ12,3)","v":0},{"$f":"ROUND('Income Statement'!FNA12,3)","v":0},{"$f":"ROUND('Income Statement'!FNB12,3)","v":0},{"$f":"ROUND('Income Statement'!FNC12,3)","v":0},{"$f":"ROUND('Income Statement'!FND12,3)","v":0},{"$f":"ROUND('Income Statement'!FNE12,3)","v":0},{"$f":"ROUND('Income Statement'!FNF12,3)","v":0},{"$f":"ROUND('Income Statement'!FNG12,3)","v":0},{"$f":"ROUND('Income Statement'!FNH12,3)","v":0},{"$f":"ROUND('Income Statement'!FNI12,3)","v":0},{"$f":"ROUND('Income Statement'!FNJ12,3)","v":0},{"$f":"ROUND('Income Statement'!FNK12,3)","v":0},{"$f":"ROUND('Income Statement'!FNL12,3)","v":0},{"$f":"ROUND('Income Statement'!FNM12,3)","v":0},{"$f":"ROUND('Income Statement'!FNN12,3)","v":0},{"$f":"ROUND('Income Statement'!FNO12,3)","v":0},{"$f":"ROUND('Income Statement'!FNP12,3)","v":0},{"$f":"ROUND('Income Statement'!FNQ12,3)","v":0},{"$f":"ROUND('Income Statement'!FNR12,3)","v":0},{"$f":"ROUND('Income Statement'!FNS12,3)","v":0},{"$f":"ROUND('Income Statement'!FNT12,3)","v":0},{"$f":"ROUND('Income Statement'!FNU12,3)","v":0},{"$f":"ROUND('Income Statement'!FNV12,3)","v":0},{"$f":"ROUND('Income Statement'!FNW12,3)","v":0},{"$f":"ROUND('Income Statement'!FNX12,3)","v":0},{"$f":"ROUND('Income Statement'!FNY12,3)","v":0},{"$f":"ROUND('Income Statement'!FNZ12,3)","v":0},{"$f":"ROUND('Income Statement'!FOA12,3)","v":0},{"$f":"ROUND('Income Statement'!FOB12,3)","v":0},{"$f":"ROUND('Income Statement'!FOC12,3)","v":0},{"$f":"ROUND('Income Statement'!FOD12,3)","v":0},{"$f":"ROUND('Income Statement'!FOE12,3)","v":0},{"$f":"ROUND('Income Statement'!FOF12,3)","v":0},{"$f":"ROUND('Income Statement'!FOG12,3)","v":0},{"$f":"ROUND('Income Statement'!FOH12,3)","v":0},{"$f":"ROUND('Income Statement'!FOI12,3)","v":0},{"$f":"ROUND('Income Statement'!FOJ12,3)","v":0},{"$f":"ROUND('Income Statement'!FOK12,3)","v":0},{"$f":"ROUND('Income Statement'!FOL12,3)","v":0},{"$f":"ROUND('Income Statement'!FOM12,3)","v":0},{"$f":"ROUND('Income Statement'!FON12,3)","v":0},{"$f":"ROUND('Income Statement'!FOO12,3)","v":0},{"$f":"ROUND('Income Statement'!FOP12,3)","v":0},{"$f":"ROUND('Income Statement'!FOQ12,3)","v":0},{"$f":"ROUND('Income Statement'!FOR12,3)","v":0},{"$f":"ROUND('Income Statement'!FOS12,3)","v":0},{"$f":"ROUND('Income Statement'!FOT12,3)","v":0},{"$f":"ROUND('Income Statement'!FOU12,3)","v":0},{"$f":"ROUND('Income Statement'!FOV12,3)","v":0},{"$f":"ROUND('Income Statement'!FOW12,3)","v":0},{"$f":"ROUND('Income Statement'!FOX12,3)","v":0},{"$f":"ROUND('Income Statement'!FOY12,3)","v":0},{"$f":"ROUND('Income Statement'!FOZ12,3)","v":0},{"$f":"ROUND('Income Statement'!FPA12,3)","v":0},{"$f":"ROUND('Income Statement'!FPB12,3)","v":0},{"$f":"ROUND('Income Statement'!FPC12,3)","v":0},{"$f":"ROUND('Income Statement'!FPD12,3)","v":0},{"$f":"ROUND('Income Statement'!FPE12,3)","v":0},{"$f":"ROUND('Income Statement'!FPF12,3)","v":0},{"$f":"ROUND('Income Statement'!FPG12,3)","v":0},{"$f":"ROUND('Income Statement'!FPH12,3)","v":0},{"$f":"ROUND('Income Statement'!FPI12,3)","v":0},{"$f":"ROUND('Income Statement'!FPJ12,3)","v":0},{"$f":"ROUND('Income Statement'!FPK12,3)","v":0},{"$f":"ROUND('Income Statement'!FPL12,3)","v":0},{"$f":"ROUND('Income Statement'!FPM12,3)","v":0},{"$f":"ROUND('Income Statement'!FPN12,3)","v":0},{"$f":"ROUND('Income Statement'!FPO12,3)","v":0},{"$f":"ROUND('Income Statement'!FPP12,3)","v":0},{"$f":"ROUND('Income Statement'!FPQ12,3)","v":0},{"$f":"ROUND('Income Statement'!FPR12,3)","v":0},{"$f":"ROUND('Income Statement'!FPS12,3)","v":0},{"$f":"ROUND('Income Statement'!FPT12,3)","v":0},{"$f":"ROUND('Income Statement'!FPU12,3)","v":0},{"$f":"ROUND('Income Statement'!FPV12,3)","v":0},{"$f":"ROUND('Income Statement'!FPW12,3)","v":0},{"$f":"ROUND('Income Statement'!FPX12,3)","v":0},{"$f":"ROUND('Income Statement'!FPY12,3)","v":0},{"$f":"ROUND('Income Statement'!FPZ12,3)","v":0},{"$f":"ROUND('Income Statement'!FQA12,3)","v":0},{"$f":"ROUND('Income Statement'!FQB12,3)","v":0},{"$f":"ROUND('Income Statement'!FQC12,3)","v":0},{"$f":"ROUND('Income Statement'!FQD12,3)","v":0},{"$f":"ROUND('Income Statement'!FQE12,3)","v":0},{"$f":"ROUND('Income Statement'!FQF12,3)","v":0},{"$f":"ROUND('Income Statement'!FQG12,3)","v":0},{"$f":"ROUND('Income Statement'!FQH12,3)","v":0},{"$f":"ROUND('Income Statement'!FQI12,3)","v":0},{"$f":"ROUND('Income Statement'!FQJ12,3)","v":0},{"$f":"ROUND('Income Statement'!FQK12,3)","v":0},{"$f":"ROUND('Income Statement'!FQL12,3)","v":0},{"$f":"ROUND('Income Statement'!FQM12,3)","v":0},{"$f":"ROUND('Income Statement'!FQN12,3)","v":0},{"$f":"ROUND('Income Statement'!FQO12,3)","v":0},{"$f":"ROUND('Income Statement'!FQP12,3)","v":0},{"$f":"ROUND('Income Statement'!FQQ12,3)","v":0},{"$f":"ROUND('Income Statement'!FQR12,3)","v":0},{"$f":"ROUND('Income Statement'!FQS12,3)","v":0},{"$f":"ROUND('Income Statement'!FQT12,3)","v":0},{"$f":"ROUND('Income Statement'!FQU12,3)","v":0},{"$f":"ROUND('Income Statement'!FQV12,3)","v":0},{"$f":"ROUND('Income Statement'!FQW12,3)","v":0},{"$f":"ROUND('Income Statement'!FQX12,3)","v":0},{"$f":"ROUND('Income Statement'!FQY12,3)","v":0},{"$f":"ROUND('Income Statement'!FQZ12,3)","v":0},{"$f":"ROUND('Income Statement'!FRA12,3)","v":0},{"$f":"ROUND('Income Statement'!FRB12,3)","v":0},{"$f":"ROUND('Income Statement'!FRC12,3)","v":0},{"$f":"ROUND('Income Statement'!FRD12,3)","v":0},{"$f":"ROUND('Income Statement'!FRE12,3)","v":0},{"$f":"ROUND('Income Statement'!FRF12,3)","v":0},{"$f":"ROUND('Income Statement'!FRG12,3)","v":0},{"$f":"ROUND('Income Statement'!FRH12,3)","v":0},{"$f":"ROUND('Income Statement'!FRI12,3)","v":0},{"$f":"ROUND('Income Statement'!FRJ12,3)","v":0},{"$f":"ROUND('Income Statement'!FRK12,3)","v":0},{"$f":"ROUND('Income Statement'!FRL12,3)","v":0},{"$f":"ROUND('Income Statement'!FRM12,3)","v":0},{"$f":"ROUND('Income Statement'!FRN12,3)","v":0},{"$f":"ROUND('Income Statement'!FRO12,3)","v":0},{"$f":"ROUND('Income Statement'!FRP12,3)","v":0},{"$f":"ROUND('Income Statement'!FRQ12,3)","v":0},{"$f":"ROUND('Income Statement'!FRR12,3)","v":0},{"$f":"ROUND('Income Statement'!FRS12,3)","v":0},{"$f":"ROUND('Income Statement'!FRT12,3)","v":0},{"$f":"ROUND('Income Statement'!FRU12,3)","v":0},{"$f":"ROUND('Income Statement'!FRV12,3)","v":0},{"$f":"ROUND('Income Statement'!FRW12,3)","v":0},{"$f":"ROUND('Income Statement'!FRX12,3)","v":0},{"$f":"ROUND('Income Statement'!FRY12,3)","v":0},{"$f":"ROUND('Income Statement'!FRZ12,3)","v":0},{"$f":"ROUND('Income Statement'!FSA12,3)","v":0},{"$f":"ROUND('Income Statement'!FSB12,3)","v":0},{"$f":"ROUND('Income Statement'!FSC12,3)","v":0},{"$f":"ROUND('Income Statement'!FSD12,3)","v":0},{"$f":"ROUND('Income Statement'!FSE12,3)","v":0},{"$f":"ROUND('Income Statement'!FSF12,3)","v":0},{"$f":"ROUND('Income Statement'!FSG12,3)","v":0},{"$f":"ROUND('Income Statement'!FSH12,3)","v":0},{"$f":"ROUND('Income Statement'!FSI12,3)","v":0},{"$f":"ROUND('Income Statement'!FSJ12,3)","v":0},{"$f":"ROUND('Income Statement'!FSK12,3)","v":0},{"$f":"ROUND('Income Statement'!FSL12,3)","v":0},{"$f":"ROUND('Income Statement'!FSM12,3)","v":0},{"$f":"ROUND('Income Statement'!FSN12,3)","v":0},{"$f":"ROUND('Income Statement'!FSO12,3)","v":0},{"$f":"ROUND('Income Statement'!FSP12,3)","v":0},{"$f":"ROUND('Income Statement'!FSQ12,3)","v":0},{"$f":"ROUND('Income Statement'!FSR12,3)","v":0},{"$f":"ROUND('Income Statement'!FSS12,3)","v":0},{"$f":"ROUND('Income Statement'!FST12,3)","v":0},{"$f":"ROUND('Income Statement'!FSU12,3)","v":0},{"$f":"ROUND('Income Statement'!FSV12,3)","v":0},{"$f":"ROUND('Income Statement'!FSW12,3)","v":0},{"$f":"ROUND('Income Statement'!FSX12,3)","v":0},{"$f":"ROUND('Income Statement'!FSY12,3)","v":0},{"$f":"ROUND('Income Statement'!FSZ12,3)","v":0},{"$f":"ROUND('Income Statement'!FTA12,3)","v":0},{"$f":"ROUND('Income Statement'!FTB12,3)","v":0},{"$f":"ROUND('Income Statement'!FTC12,3)","v":0},{"$f":"ROUND('Income Statement'!FTD12,3)","v":0},{"$f":"ROUND('Income Statement'!FTE12,3)","v":0},{"$f":"ROUND('Income Statement'!FTF12,3)","v":0},{"$f":"ROUND('Income Statement'!FTG12,3)","v":0},{"$f":"ROUND('Income Statement'!FTH12,3)","v":0},{"$f":"ROUND('Income Statement'!FTI12,3)","v":0},{"$f":"ROUND('Income Statement'!FTJ12,3)","v":0},{"$f":"ROUND('Income Statement'!FTK12,3)","v":0},{"$f":"ROUND('Income Statement'!FTL12,3)","v":0},{"$f":"ROUND('Income Statement'!FTM12,3)","v":0},{"$f":"ROUND('Income Statement'!FTN12,3)","v":0},{"$f":"ROUND('Income Statement'!FTO12,3)","v":0},{"$f":"ROUND('Income Statement'!FTP12,3)","v":0},{"$f":"ROUND('Income Statement'!FTQ12,3)","v":0},{"$f":"ROUND('Income Statement'!FTR12,3)","v":0},{"$f":"ROUND('Income Statement'!FTS12,3)","v":0},{"$f":"ROUND('Income Statement'!FTT12,3)","v":0},{"$f":"ROUND('Income Statement'!FTU12,3)","v":0},{"$f":"ROUND('Income Statement'!FTV12,3)","v":0},{"$f":"ROUND('Income Statement'!FTW12,3)","v":0},{"$f":"ROUND('Income Statement'!FTX12,3)","v":0},{"$f":"ROUND('Income Statement'!FTY12,3)","v":0},{"$f":"ROUND('Income Statement'!FTZ12,3)","v":0},{"$f":"ROUND('Income Statement'!FUA12,3)","v":0},{"$f":"ROUND('Income Statement'!FUB12,3)","v":0},{"$f":"ROUND('Income Statement'!FUC12,3)","v":0},{"$f":"ROUND('Income Statement'!FUD12,3)","v":0},{"$f":"ROUND('Income Statement'!FUE12,3)","v":0},{"$f":"ROUND('Income Statement'!FUF12,3)","v":0},{"$f":"ROUND('Income Statement'!FUG12,3)","v":0},{"$f":"ROUND('Income Statement'!FUH12,3)","v":0},{"$f":"ROUND('Income Statement'!FUI12,3)","v":0},{"$f":"ROUND('Income Statement'!FUJ12,3)","v":0},{"$f":"ROUND('Income Statement'!FUK12,3)","v":0},{"$f":"ROUND('Income Statement'!FUL12,3)","v":0},{"$f":"ROUND('Income Statement'!FUM12,3)","v":0},{"$f":"ROUND('Income Statement'!FUN12,3)","v":0},{"$f":"ROUND('Income Statement'!FUO12,3)","v":0},{"$f":"ROUND('Income Statement'!FUP12,3)","v":0},{"$f":"ROUND('Income Statement'!FUQ12,3)","v":0},{"$f":"ROUND('Income Statement'!FUR12,3)","v":0},{"$f":"ROUND('Income Statement'!FUS12,3)","v":0},{"$f":"ROUND('Income Statement'!FUT12,3)","v":0},{"$f":"ROUND('Income Statement'!FUU12,3)","v":0},{"$f":"ROUND('Income Statement'!FUV12,3)","v":0},{"$f":"ROUND('Income Statement'!FUW12,3)","v":0},{"$f":"ROUND('Income Statement'!FUX12,3)","v":0},{"$f":"ROUND('Income Statement'!FUY12,3)","v":0},{"$f":"ROUND('Income Statement'!FUZ12,3)","v":0},{"$f":"ROUND('Income Statement'!FVA12,3)","v":0},{"$f":"ROUND('Income Statement'!FVB12,3)","v":0},{"$f":"ROUND('Income Statement'!FVC12,3)","v":0},{"$f":"ROUND('Income Statement'!FVD12,3)","v":0},{"$f":"ROUND('Income Statement'!FVE12,3)","v":0},{"$f":"ROUND('Income Statement'!FVF12,3)","v":0},{"$f":"ROUND('Income Statement'!FVG12,3)","v":0},{"$f":"ROUND('Income Statement'!FVH12,3)","v":0},{"$f":"ROUND('Income Statement'!FVI12,3)","v":0},{"$f":"ROUND('Income Statement'!FVJ12,3)","v":0},{"$f":"ROUND('Income Statement'!FVK12,3)","v":0},{"$f":"ROUND('Income Statement'!FVL12,3)","v":0},{"$f":"ROUND('Income Statement'!FVM12,3)","v":0},{"$f":"ROUND('Income Statement'!FVN12,3)","v":0},{"$f":"ROUND('Income Statement'!FVO12,3)","v":0},{"$f":"ROUND('Income Statement'!FVP12,3)","v":0},{"$f":"ROUND('Income Statement'!FVQ12,3)","v":0},{"$f":"ROUND('Income Statement'!FVR12,3)","v":0},{"$f":"ROUND('Income Statement'!FVS12,3)","v":0},{"$f":"ROUND('Income Statement'!FVT12,3)","v":0},{"$f":"ROUND('Income Statement'!FVU12,3)","v":0},{"$f":"ROUND('Income Statement'!FVV12,3)","v":0},{"$f":"ROUND('Income Statement'!FVW12,3)","v":0},{"$f":"ROUND('Income Statement'!FVX12,3)","v":0},{"$f":"ROUND('Income Statement'!FVY12,3)","v":0},{"$f":"ROUND('Income Statement'!FVZ12,3)","v":0},{"$f":"ROUND('Income Statement'!FWA12,3)","v":0},{"$f":"ROUND('Income Statement'!FWB12,3)","v":0},{"$f":"ROUND('Income Statement'!FWC12,3)","v":0},{"$f":"ROUND('Income Statement'!FWD12,3)","v":0},{"$f":"ROUND('Income Statement'!FWE12,3)","v":0},{"$f":"ROUND('Income Statement'!FWF12,3)","v":0},{"$f":"ROUND('Income Statement'!FWG12,3)","v":0},{"$f":"ROUND('Income Statement'!FWH12,3)","v":0},{"$f":"ROUND('Income Statement'!FWI12,3)","v":0},{"$f":"ROUND('Income Statement'!FWJ12,3)","v":0},{"$f":"ROUND('Income Statement'!FWK12,3)","v":0},{"$f":"ROUND('Income Statement'!FWL12,3)","v":0},{"$f":"ROUND('Income Statement'!FWM12,3)","v":0},{"$f":"ROUND('Income Statement'!FWN12,3)","v":0},{"$f":"ROUND('Income Statement'!FWO12,3)","v":0},{"$f":"ROUND('Income Statement'!FWP12,3)","v":0},{"$f":"ROUND('Income Statement'!FWQ12,3)","v":0},{"$f":"ROUND('Income Statement'!FWR12,3)","v":0},{"$f":"ROUND('Income Statement'!FWS12,3)","v":0},{"$f":"ROUND('Income Statement'!FWT12,3)","v":0},{"$f":"ROUND('Income Statement'!FWU12,3)","v":0},{"$f":"ROUND('Income Statement'!FWV12,3)","v":0},{"$f":"ROUND('Income Statement'!FWW12,3)","v":0},{"$f":"ROUND('Income Statement'!FWX12,3)","v":0},{"$f":"ROUND('Income Statement'!FWY12,3)","v":0},{"$f":"ROUND('Income Statement'!FWZ12,3)","v":0},{"$f":"ROUND('Income Statement'!FXA12,3)","v":0},{"$f":"ROUND('Income Statement'!FXB12,3)","v":0},{"$f":"ROUND('Income Statement'!FXC12,3)","v":0},{"$f":"ROUND('Income Statement'!FXD12,3)","v":0},{"$f":"ROUND('Income Statement'!FXE12,3)","v":0},{"$f":"ROUND('Income Statement'!FXF12,3)","v":0},{"$f":"ROUND('Income Statement'!FXG12,3)","v":0},{"$f":"ROUND('Income Statement'!FXH12,3)","v":0},{"$f":"ROUND('Income Statement'!FXI12,3)","v":0},{"$f":"ROUND('Income Statement'!FXJ12,3)","v":0},{"$f":"ROUND('Income Statement'!FXK12,3)","v":0},{"$f":"ROUND('Income Statement'!FXL12,3)","v":0},{"$f":"ROUND('Income Statement'!FXM12,3)","v":0},{"$f":"ROUND('Income Statement'!FXN12,3)","v":0},{"$f":"ROUND('Income Statement'!FXO12,3)","v":0},{"$f":"ROUND('Income Statement'!FXP12,3)","v":0},{"$f":"ROUND('Income Statement'!FXQ12,3)","v":0},{"$f":"ROUND('Income Statement'!FXR12,3)","v":0},{"$f":"ROUND('Income Statement'!FXS12,3)","v":0},{"$f":"ROUND('Income Statement'!FXT12,3)","v":0},{"$f":"ROUND('Income Statement'!FXU12,3)","v":0},{"$f":"ROUND('Income Statement'!FXV12,3)","v":0},{"$f":"ROUND('Income Statement'!FXW12,3)","v":0},{"$f":"ROUND('Income Statement'!FXX12,3)","v":0},{"$f":"ROUND('Income Statement'!FXY12,3)","v":0},{"$f":"ROUND('Income Statement'!FXZ12,3)","v":0},{"$f":"ROUND('Income Statement'!FYA12,3)","v":0},{"$f":"ROUND('Income Statement'!FYB12,3)","v":0},{"$f":"ROUND('Income Statement'!FYC12,3)","v":0},{"$f":"ROUND('Income Statement'!FYD12,3)","v":0},{"$f":"ROUND('Income Statement'!FYE12,3)","v":0},{"$f":"ROUND('Income Statement'!FYF12,3)","v":0},{"$f":"ROUND('Income Statement'!FYG12,3)","v":0},{"$f":"ROUND('Income Statement'!FYH12,3)","v":0},{"$f":"ROUND('Income Statement'!FYI12,3)","v":0},{"$f":"ROUND('Income Statement'!FYJ12,3)","v":0},{"$f":"ROUND('Income Statement'!FYK12,3)","v":0},{"$f":"ROUND('Income Statement'!FYL12,3)","v":0},{"$f":"ROUND('Income Statement'!FYM12,3)","v":0},{"$f":"ROUND('Income Statement'!FYN12,3)","v":0},{"$f":"ROUND('Income Statement'!FYO12,3)","v":0},{"$f":"ROUND('Income Statement'!FYP12,3)","v":0},{"$f":"ROUND('Income Statement'!FYQ12,3)","v":0},{"$f":"ROUND('Income Statement'!FYR12,3)","v":0},{"$f":"ROUND('Income Statement'!FYS12,3)","v":0},{"$f":"ROUND('Income Statement'!FYT12,3)","v":0},{"$f":"ROUND('Income Statement'!FYU12,3)","v":0},{"$f":"ROUND('Income Statement'!FYV12,3)","v":0},{"$f":"ROUND('Income Statement'!FYW12,3)","v":0},{"$f":"ROUND('Income Statement'!FYX12,3)","v":0},{"$f":"ROUND('Income Statement'!FYY12,3)","v":0},{"$f":"ROUND('Income Statement'!FYZ12,3)","v":0},{"$f":"ROUND('Income Statement'!FZA12,3)","v":0},{"$f":"ROUND('Income Statement'!FZB12,3)","v":0},{"$f":"ROUND('Income Statement'!FZC12,3)","v":0},{"$f":"ROUND('Income Statement'!FZD12,3)","v":0},{"$f":"ROUND('Income Statement'!FZE12,3)","v":0},{"$f":"ROUND('Income Statement'!FZF12,3)","v":0},{"$f":"ROUND('Income Statement'!FZG12,3)","v":0},{"$f":"ROUND('Income Statement'!FZH12,3)","v":0},{"$f":"ROUND('Income Statement'!FZI12,3)","v":0},{"$f":"ROUND('Income Statement'!FZJ12,3)","v":0},{"$f":"ROUND('Income Statement'!FZK12,3)","v":0},{"$f":"ROUND('Income Statement'!FZL12,3)","v":0},{"$f":"ROUND('Income Statement'!FZM12,3)","v":0},{"$f":"ROUND('Income Statement'!FZN12,3)","v":0},{"$f":"ROUND('Income Statement'!FZO12,3)","v":0},{"$f":"ROUND('Income Statement'!FZP12,3)","v":0},{"$f":"ROUND('Income Statement'!FZQ12,3)","v":0},{"$f":"ROUND('Income Statement'!FZR12,3)","v":0},{"$f":"ROUND('Income Statement'!FZS12,3)","v":0},{"$f":"ROUND('Income Statement'!FZT12,3)","v":0},{"$f":"ROUND('Income Statement'!FZU12,3)","v":0},{"$f":"ROUND('Income Statement'!FZV12,3)","v":0},{"$f":"ROUND('Income Statement'!FZW12,3)","v":0},{"$f":"ROUND('Income Statement'!FZX12,3)","v":0},{"$f":"ROUND('Income Statement'!FZY12,3)","v":0},{"$f":"ROUND('Income Statement'!FZZ12,3)","v":0},{"$f":"ROUND('Income Statement'!GAA12,3)","v":0},{"$f":"ROUND('Income Statement'!GAB12,3)","v":0},{"$f":"ROUND('Income Statement'!GAC12,3)","v":0},{"$f":"ROUND('Income Statement'!GAD12,3)","v":0},{"$f":"ROUND('Income Statement'!GAE12,3)","v":0},{"$f":"ROUND('Income Statement'!GAF12,3)","v":0},{"$f":"ROUND('Income Statement'!GAG12,3)","v":0},{"$f":"ROUND('Income Statement'!GAH12,3)","v":0},{"$f":"ROUND('Income Statement'!GAI12,3)","v":0},{"$f":"ROUND('Income Statement'!GAJ12,3)","v":0},{"$f":"ROUND('Income Statement'!GAK12,3)","v":0},{"$f":"ROUND('Income Statement'!GAL12,3)","v":0},{"$f":"ROUND('Income Statement'!GAM12,3)","v":0},{"$f":"ROUND('Income Statement'!GAN12,3)","v":0},{"$f":"ROUND('Income Statement'!GAO12,3)","v":0},{"$f":"ROUND('Income Statement'!GAP12,3)","v":0},{"$f":"ROUND('Income Statement'!GAQ12,3)","v":0},{"$f":"ROUND('Income Statement'!GAR12,3)","v":0},{"$f":"ROUND('Income Statement'!GAS12,3)","v":0},{"$f":"ROUND('Income Statement'!GAT12,3)","v":0},{"$f":"ROUND('Income Statement'!GAU12,3)","v":0},{"$f":"ROUND('Income Statement'!GAV12,3)","v":0},{"$f":"ROUND('Income Statement'!GAW12,3)","v":0},{"$f":"ROUND('Income Statement'!GAX12,3)","v":0},{"$f":"ROUND('Income Statement'!GAY12,3)","v":0},{"$f":"ROUND('Income Statement'!GAZ12,3)","v":0},{"$f":"ROUND('Income Statement'!GBA12,3)","v":0},{"$f":"ROUND('Income Statement'!GBB12,3)","v":0},{"$f":"ROUND('Income Statement'!GBC12,3)","v":0},{"$f":"ROUND('Income Statement'!GBD12,3)","v":0},{"$f":"ROUND('Income Statement'!GBE12,3)","v":0},{"$f":"ROUND('Income Statement'!GBF12,3)","v":0},{"$f":"ROUND('Income Statement'!GBG12,3)","v":0},{"$f":"ROUND('Income Statement'!GBH12,3)","v":0},{"$f":"ROUND('Income Statement'!GBI12,3)","v":0},{"$f":"ROUND('Income Statement'!GBJ12,3)","v":0},{"$f":"ROUND('Income Statement'!GBK12,3)","v":0},{"$f":"ROUND('Income Statement'!GBL12,3)","v":0},{"$f":"ROUND('Income Statement'!GBM12,3)","v":0},{"$f":"ROUND('Income Statement'!GBN12,3)","v":0},{"$f":"ROUND('Income Statement'!GBO12,3)","v":0},{"$f":"ROUND('Income Statement'!GBP12,3)","v":0},{"$f":"ROUND('Income Statement'!GBQ12,3)","v":0},{"$f":"ROUND('Income Statement'!GBR12,3)","v":0},{"$f":"ROUND('Income Statement'!GBS12,3)","v":0},{"$f":"ROUND('Income Statement'!GBT12,3)","v":0},{"$f":"ROUND('Income Statement'!GBU12,3)","v":0},{"$f":"ROUND('Income Statement'!GBV12,3)","v":0},{"$f":"ROUND('Income Statement'!GBW12,3)","v":0},{"$f":"ROUND('Income Statement'!GBX12,3)","v":0},{"$f":"ROUND('Income Statement'!GBY12,3)","v":0},{"$f":"ROUND('Income Statement'!GBZ12,3)","v":0},{"$f":"ROUND('Income Statement'!GCA12,3)","v":0},{"$f":"ROUND('Income Statement'!GCB12,3)","v":0},{"$f":"ROUND('Income Statement'!GCC12,3)","v":0},{"$f":"ROUND('Income Statement'!GCD12,3)","v":0},{"$f":"ROUND('Income Statement'!GCE12,3)","v":0},{"$f":"ROUND('Income Statement'!GCF12,3)","v":0},{"$f":"ROUND('Income Statement'!GCG12,3)","v":0},{"$f":"ROUND('Income Statement'!GCH12,3)","v":0},{"$f":"ROUND('Income Statement'!GCI12,3)","v":0},{"$f":"ROUND('Income Statement'!GCJ12,3)","v":0},{"$f":"ROUND('Income Statement'!GCK12,3)","v":0},{"$f":"ROUND('Income Statement'!GCL12,3)","v":0},{"$f":"ROUND('Income Statement'!GCM12,3)","v":0},{"$f":"ROUND('Income Statement'!GCN12,3)","v":0},{"$f":"ROUND('Income Statement'!GCO12,3)","v":0},{"$f":"ROUND('Income Statement'!GCP12,3)","v":0},{"$f":"ROUND('Income Statement'!GCQ12,3)","v":0},{"$f":"ROUND('Income Statement'!GCR12,3)","v":0},{"$f":"ROUND('Income Statement'!GCS12,3)","v":0},{"$f":"ROUND('Income Statement'!GCT12,3)","v":0},{"$f":"ROUND('Income Statement'!GCU12,3)","v":0},{"$f":"ROUND('Income Statement'!GCV12,3)","v":0},{"$f":"ROUND('Income Statement'!GCW12,3)","v":0},{"$f":"ROUND('Income Statement'!GCX12,3)","v":0},{"$f":"ROUND('Income Statement'!GCY12,3)","v":0},{"$f":"ROUND('Income Statement'!GCZ12,3)","v":0},{"$f":"ROUND('Income Statement'!GDA12,3)","v":0},{"$f":"ROUND('Income Statement'!GDB12,3)","v":0},{"$f":"ROUND('Income Statement'!GDC12,3)","v":0},{"$f":"ROUND('Income Statement'!GDD12,3)","v":0},{"$f":"ROUND('Income Statement'!GDE12,3)","v":0},{"$f":"ROUND('Income Statement'!GDF12,3)","v":0},{"$f":"ROUND('Income Statement'!GDG12,3)","v":0},{"$f":"ROUND('Income Statement'!GDH12,3)","v":0},{"$f":"ROUND('Income Statement'!GDI12,3)","v":0},{"$f":"ROUND('Income Statement'!GDJ12,3)","v":0},{"$f":"ROUND('Income Statement'!GDK12,3)","v":0},{"$f":"ROUND('Income Statement'!GDL12,3)","v":0},{"$f":"ROUND('Income Statement'!GDM12,3)","v":0},{"$f":"ROUND('Income Statement'!GDN12,3)","v":0},{"$f":"ROUND('Income Statement'!GDO12,3)","v":0},{"$f":"ROUND('Income Statement'!GDP12,3)","v":0},{"$f":"ROUND('Income Statement'!GDQ12,3)","v":0},{"$f":"ROUND('Income Statement'!GDR12,3)","v":0},{"$f":"ROUND('Income Statement'!GDS12,3)","v":0},{"$f":"ROUND('Income Statement'!GDT12,3)","v":0},{"$f":"ROUND('Income Statement'!GDU12,3)","v":0},{"$f":"ROUND('Income Statement'!GDV12,3)","v":0},{"$f":"ROUND('Income Statement'!GDW12,3)","v":0},{"$f":"ROUND('Income Statement'!GDX12,3)","v":0},{"$f":"ROUND('Income Statement'!GDY12,3)","v":0},{"$f":"ROUND('Income Statement'!GDZ12,3)","v":0},{"$f":"ROUND('Income Statement'!GEA12,3)","v":0},{"$f":"ROUND('Income Statement'!GEB12,3)","v":0},{"$f":"ROUND('Income Statement'!GEC12,3)","v":0},{"$f":"ROUND('Income Statement'!GED12,3)","v":0},{"$f":"ROUND('Income Statement'!GEE12,3)","v":0},{"$f":"ROUND('Income Statement'!GEF12,3)","v":0},{"$f":"ROUND('Income Statement'!GEG12,3)","v":0},{"$f":"ROUND('Income Statement'!GEH12,3)","v":0},{"$f":"ROUND('Income Statement'!GEI12,3)","v":0},{"$f":"ROUND('Income Statement'!GEJ12,3)","v":0},{"$f":"ROUND('Income Statement'!GEK12,3)","v":0},{"$f":"ROUND('Income Statement'!GEL12,3)","v":0},{"$f":"ROUND('Income Statement'!GEM12,3)","v":0},{"$f":"ROUND('Income Statement'!GEN12,3)","v":0},{"$f":"ROUND('Income Statement'!GEO12,3)","v":0},{"$f":"ROUND('Income Statement'!GEP12,3)","v":0},{"$f":"ROUND('Income Statement'!GEQ12,3)","v":0},{"$f":"ROUND('Income Statement'!GER12,3)","v":0},{"$f":"ROUND('Income Statement'!GES12,3)","v":0},{"$f":"ROUND('Income Statement'!GET12,3)","v":0},{"$f":"ROUND('Income Statement'!GEU12,3)","v":0},{"$f":"ROUND('Income Statement'!GEV12,3)","v":0},{"$f":"ROUND('Income Statement'!GEW12,3)","v":0},{"$f":"ROUND('Income Statement'!GEX12,3)","v":0},{"$f":"ROUND('Income Statement'!GEY12,3)","v":0},{"$f":"ROUND('Income Statement'!GEZ12,3)","v":0},{"$f":"ROUND('Income Statement'!GFA12,3)","v":0},{"$f":"ROUND('Income Statement'!GFB12,3)","v":0},{"$f":"ROUND('Income Statement'!GFC12,3)","v":0},{"$f":"ROUND('Income Statement'!GFD12,3)","v":0},{"$f":"ROUND('Income Statement'!GFE12,3)","v":0},{"$f":"ROUND('Income Statement'!GFF12,3)","v":0},{"$f":"ROUND('Income Statement'!GFG12,3)","v":0},{"$f":"ROUND('Income Statement'!GFH12,3)","v":0},{"$f":"ROUND('Income Statement'!GFI12,3)","v":0},{"$f":"ROUND('Income Statement'!GFJ12,3)","v":0},{"$f":"ROUND('Income Statement'!GFK12,3)","v":0},{"$f":"ROUND('Income Statement'!GFL12,3)","v":0},{"$f":"ROUND('Income Statement'!GFM12,3)","v":0},{"$f":"ROUND('Income Statement'!GFN12,3)","v":0},{"$f":"ROUND('Income Statement'!GFO12,3)","v":0},{"$f":"ROUND('Income Statement'!GFP12,3)","v":0},{"$f":"ROUND('Income Statement'!GFQ12,3)","v":0},{"$f":"ROUND('Income Statement'!GFR12,3)","v":0},{"$f":"ROUND('Income Statement'!GFS12,3)","v":0},{"$f":"ROUND('Income Statement'!GFT12,3)","v":0},{"$f":"ROUND('Income Statement'!GFU12,3)","v":0},{"$f":"ROUND('Income Statement'!GFV12,3)","v":0},{"$f":"ROUND('Income Statement'!GFW12,3)","v":0},{"$f":"ROUND('Income Statement'!GFX12,3)","v":0},{"$f":"ROUND('Income Statement'!GFY12,3)","v":0},{"$f":"ROUND('Income Statement'!GFZ12,3)","v":0},{"$f":"ROUND('Income Statement'!GGA12,3)","v":0},{"$f":"ROUND('Income Statement'!GGB12,3)","v":0},{"$f":"ROUND('Income Statement'!GGC12,3)","v":0},{"$f":"ROUND('Income Statement'!GGD12,3)","v":0},{"$f":"ROUND('Income Statement'!GGE12,3)","v":0},{"$f":"ROUND('Income Statement'!GGF12,3)","v":0},{"$f":"ROUND('Income Statement'!GGG12,3)","v":0},{"$f":"ROUND('Income Statement'!GGH12,3)","v":0},{"$f":"ROUND('Income Statement'!GGI12,3)","v":0},{"$f":"ROUND('Income Statement'!GGJ12,3)","v":0},{"$f":"ROUND('Income Statement'!GGK12,3)","v":0},{"$f":"ROUND('Income Statement'!GGL12,3)","v":0},{"$f":"ROUND('Income Statement'!GGM12,3)","v":0},{"$f":"ROUND('Income Statement'!GGN12,3)","v":0},{"$f":"ROUND('Income Statement'!GGO12,3)","v":0},{"$f":"ROUND('Income Statement'!GGP12,3)","v":0},{"$f":"ROUND('Income Statement'!GGQ12,3)","v":0},{"$f":"ROUND('Income Statement'!GGR12,3)","v":0},{"$f":"ROUND('Income Statement'!GGS12,3)","v":0},{"$f":"ROUND('Income Statement'!GGT12,3)","v":0},{"$f":"ROUND('Income Statement'!GGU12,3)","v":0},{"$f":"ROUND('Income Statement'!GGV12,3)","v":0},{"$f":"ROUND('Income Statement'!GGW12,3)","v":0},{"$f":"ROUND('Income Statement'!GGX12,3)","v":0},{"$f":"ROUND('Income Statement'!GGY12,3)","v":0},{"$f":"ROUND('Income Statement'!GGZ12,3)","v":0},{"$f":"ROUND('Income Statement'!GHA12,3)","v":0},{"$f":"ROUND('Income Statement'!GHB12,3)","v":0},{"$f":"ROUND('Income Statement'!GHC12,3)","v":0},{"$f":"ROUND('Income Statement'!GHD12,3)","v":0},{"$f":"ROUND('Income Statement'!GHE12,3)","v":0},{"$f":"ROUND('Income Statement'!GHF12,3)","v":0},{"$f":"ROUND('Income Statement'!GHG12,3)","v":0},{"$f":"ROUND('Income Statement'!GHH12,3)","v":0},{"$f":"ROUND('Income Statement'!GHI12,3)","v":0},{"$f":"ROUND('Income Statement'!GHJ12,3)","v":0},{"$f":"ROUND('Income Statement'!GHK12,3)","v":0},{"$f":"ROUND('Income Statement'!GHL12,3)","v":0},{"$f":"ROUND('Income Statement'!GHM12,3)","v":0},{"$f":"ROUND('Income Statement'!GHN12,3)","v":0},{"$f":"ROUND('Income Statement'!GHO12,3)","v":0},{"$f":"ROUND('Income Statement'!GHP12,3)","v":0},{"$f":"ROUND('Income Statement'!GHQ12,3)","v":0},{"$f":"ROUND('Income Statement'!GHR12,3)","v":0},{"$f":"ROUND('Income Statement'!GHS12,3)","v":0},{"$f":"ROUND('Income Statement'!GHT12,3)","v":0},{"$f":"ROUND('Income Statement'!GHU12,3)","v":0},{"$f":"ROUND('Income Statement'!GHV12,3)","v":0},{"$f":"ROUND('Income Statement'!GHW12,3)","v":0},{"$f":"ROUND('Income Statement'!GHX12,3)","v":0},{"$f":"ROUND('Income Statement'!GHY12,3)","v":0},{"$f":"ROUND('Income Statement'!GHZ12,3)","v":0},{"$f":"ROUND('Income Statement'!GIA12,3)","v":0},{"$f":"ROUND('Income Statement'!GIB12,3)","v":0},{"$f":"ROUND('Income Statement'!GIC12,3)","v":0},{"$f":"ROUND('Income Statement'!GID12,3)","v":0},{"$f":"ROUND('Income Statement'!GIE12,3)","v":0},{"$f":"ROUND('Income Statement'!GIF12,3)","v":0},{"$f":"ROUND('Income Statement'!GIG12,3)","v":0},{"$f":"ROUND('Income Statement'!GIH12,3)","v":0},{"$f":"ROUND('Income Statement'!GII12,3)","v":0},{"$f":"ROUND('Income Statement'!GIJ12,3)","v":0},{"$f":"ROUND('Income Statement'!GIK12,3)","v":0},{"$f":"ROUND('Income Statement'!GIL12,3)","v":0},{"$f":"ROUND('Income Statement'!GIM12,3)","v":0},{"$f":"ROUND('Income Statement'!GIN12,3)","v":0},{"$f":"ROUND('Income Statement'!GIO12,3)","v":0},{"$f":"ROUND('Income Statement'!GIP12,3)","v":0},{"$f":"ROUND('Income Statement'!GIQ12,3)","v":0},{"$f":"ROUND('Income Statement'!GIR12,3)","v":0},{"$f":"ROUND('Income Statement'!GIS12,3)","v":0},{"$f":"ROUND('Income Statement'!GIT12,3)","v":0},{"$f":"ROUND('Income Statement'!GIU12,3)","v":0},{"$f":"ROUND('Income Statement'!GIV12,3)","v":0},{"$f":"ROUND('Income Statement'!GIW12,3)","v":0},{"$f":"ROUND('Income Statement'!GIX12,3)","v":0},{"$f":"ROUND('Income Statement'!GIY12,3)","v":0},{"$f":"ROUND('Income Statement'!GIZ12,3)","v":0},{"$f":"ROUND('Income Statement'!GJA12,3)","v":0},{"$f":"ROUND('Income Statement'!GJB12,3)","v":0},{"$f":"ROUND('Income Statement'!GJC12,3)","v":0},{"$f":"ROUND('Income Statement'!GJD12,3)","v":0},{"$f":"ROUND('Income Statement'!GJE12,3)","v":0},{"$f":"ROUND('Income Statement'!GJF12,3)","v":0},{"$f":"ROUND('Income Statement'!GJG12,3)","v":0},{"$f":"ROUND('Income Statement'!GJH12,3)","v":0},{"$f":"ROUND('Income Statement'!GJI12,3)","v":0},{"$f":"ROUND('Income Statement'!GJJ12,3)","v":0},{"$f":"ROUND('Income Statement'!GJK12,3)","v":0},{"$f":"ROUND('Income Statement'!GJL12,3)","v":0},{"$f":"ROUND('Income Statement'!GJM12,3)","v":0},{"$f":"ROUND('Income Statement'!GJN12,3)","v":0},{"$f":"ROUND('Income Statement'!GJO12,3)","v":0},{"$f":"ROUND('Income Statement'!GJP12,3)","v":0},{"$f":"ROUND('Income Statement'!GJQ12,3)","v":0},{"$f":"ROUND('Income Statement'!GJR12,3)","v":0},{"$f":"ROUND('Income Statement'!GJS12,3)","v":0},{"$f":"ROUND('Income Statement'!GJT12,3)","v":0},{"$f":"ROUND('Income Statement'!GJU12,3)","v":0},{"$f":"ROUND('Income Statement'!GJV12,3)","v":0},{"$f":"ROUND('Income Statement'!GJW12,3)","v":0},{"$f":"ROUND('Income Statement'!GJX12,3)","v":0},{"$f":"ROUND('Income Statement'!GJY12,3)","v":0},{"$f":"ROUND('Income Statement'!GJZ12,3)","v":0},{"$f":"ROUND('Income Statement'!GKA12,3)","v":0},{"$f":"ROUND('Income Statement'!GKB12,3)","v":0},{"$f":"ROUND('Income Statement'!GKC12,3)","v":0},{"$f":"ROUND('Income Statement'!GKD12,3)","v":0},{"$f":"ROUND('Income Statement'!GKE12,3)","v":0},{"$f":"ROUND('Income Statement'!GKF12,3)","v":0},{"$f":"ROUND('Income Statement'!GKG12,3)","v":0},{"$f":"ROUND('Income Statement'!GKH12,3)","v":0},{"$f":"ROUND('Income Statement'!GKI12,3)","v":0},{"$f":"ROUND('Income Statement'!GKJ12,3)","v":0},{"$f":"ROUND('Income Statement'!GKK12,3)","v":0},{"$f":"ROUND('Income Statement'!GKL12,3)","v":0},{"$f":"ROUND('Income Statement'!GKM12,3)","v":0},{"$f":"ROUND('Income Statement'!GKN12,3)","v":0},{"$f":"ROUND('Income Statement'!GKO12,3)","v":0},{"$f":"ROUND('Income Statement'!GKP12,3)","v":0},{"$f":"ROUND('Income Statement'!GKQ12,3)","v":0},{"$f":"ROUND('Income Statement'!GKR12,3)","v":0},{"$f":"ROUND('Income Statement'!GKS12,3)","v":0},{"$f":"ROUND('Income Statement'!GKT12,3)","v":0},{"$f":"ROUND('Income Statement'!GKU12,3)","v":0},{"$f":"ROUND('Income Statement'!GKV12,3)","v":0},{"$f":"ROUND('Income Statement'!GKW12,3)","v":0},{"$f":"ROUND('Income Statement'!GKX12,3)","v":0},{"$f":"ROUND('Income Statement'!GKY12,3)","v":0},{"$f":"ROUND('Income Statement'!GKZ12,3)","v":0},{"$f":"ROUND('Income Statement'!GLA12,3)","v":0},{"$f":"ROUND('Income Statement'!GLB12,3)","v":0},{"$f":"ROUND('Income Statement'!GLC12,3)","v":0},{"$f":"ROUND('Income Statement'!GLD12,3)","v":0},{"$f":"ROUND('Income Statement'!GLE12,3)","v":0},{"$f":"ROUND('Income Statement'!GLF12,3)","v":0},{"$f":"ROUND('Income Statement'!GLG12,3)","v":0},{"$f":"ROUND('Income Statement'!GLH12,3)","v":0},{"$f":"ROUND('Income Statement'!GLI12,3)","v":0},{"$f":"ROUND('Income Statement'!GLJ12,3)","v":0},{"$f":"ROUND('Income Statement'!GLK12,3)","v":0},{"$f":"ROUND('Income Statement'!GLL12,3)","v":0},{"$f":"ROUND('Income Statement'!GLM12,3)","v":0},{"$f":"ROUND('Income Statement'!GLN12,3)","v":0},{"$f":"ROUND('Income Statement'!GLO12,3)","v":0},{"$f":"ROUND('Income Statement'!GLP12,3)","v":0},{"$f":"ROUND('Income Statement'!GLQ12,3)","v":0},{"$f":"ROUND('Income Statement'!GLR12,3)","v":0},{"$f":"ROUND('Income Statement'!GLS12,3)","v":0},{"$f":"ROUND('Income Statement'!GLT12,3)","v":0},{"$f":"ROUND('Income Statement'!GLU12,3)","v":0},{"$f":"ROUND('Income Statement'!GLV12,3)","v":0},{"$f":"ROUND('Income Statement'!GLW12,3)","v":0},{"$f":"ROUND('Income Statement'!GLX12,3)","v":0},{"$f":"ROUND('Income Statement'!GLY12,3)","v":0},{"$f":"ROUND('Income Statement'!GLZ12,3)","v":0},{"$f":"ROUND('Income Statement'!GMA12,3)","v":0},{"$f":"ROUND('Income Statement'!GMB12,3)","v":0},{"$f":"ROUND('Income Statement'!GMC12,3)","v":0},{"$f":"ROUND('Income Statement'!GMD12,3)","v":0},{"$f":"ROUND('Income Statement'!GME12,3)","v":0},{"$f":"ROUND('Income Statement'!GMF12,3)","v":0},{"$f":"ROUND('Income Statement'!GMG12,3)","v":0},{"$f":"ROUND('Income Statement'!GMH12,3)","v":0},{"$f":"ROUND('Income Statement'!GMI12,3)","v":0},{"$f":"ROUND('Income Statement'!GMJ12,3)","v":0},{"$f":"ROUND('Income Statement'!GMK12,3)","v":0},{"$f":"ROUND('Income Statement'!GML12,3)","v":0},{"$f":"ROUND('Income Statement'!GMM12,3)","v":0},{"$f":"ROUND('Income Statement'!GMN12,3)","v":0},{"$f":"ROUND('Income Statement'!GMO12,3)","v":0},{"$f":"ROUND('Income Statement'!GMP12,3)","v":0},{"$f":"ROUND('Income Statement'!GMQ12,3)","v":0},{"$f":"ROUND('Income Statement'!GMR12,3)","v":0},{"$f":"ROUND('Income Statement'!GMS12,3)","v":0},{"$f":"ROUND('Income Statement'!GMT12,3)","v":0},{"$f":"ROUND('Income Statement'!GMU12,3)","v":0},{"$f":"ROUND('Income Statement'!GMV12,3)","v":0},{"$f":"ROUND('Income Statement'!GMW12,3)","v":0},{"$f":"ROUND('Income Statement'!GMX12,3)","v":0},{"$f":"ROUND('Income Statement'!GMY12,3)","v":0},{"$f":"ROUND('Income Statement'!GMZ12,3)","v":0},{"$f":"ROUND('Income Statement'!GNA12,3)","v":0},{"$f":"ROUND('Income Statement'!GNB12,3)","v":0},{"$f":"ROUND('Income Statement'!GNC12,3)","v":0},{"$f":"ROUND('Income Statement'!GND12,3)","v":0},{"$f":"ROUND('Income Statement'!GNE12,3)","v":0},{"$f":"ROUND('Income Statement'!GNF12,3)","v":0},{"$f":"ROUND('Income Statement'!GNG12,3)","v":0},{"$f":"ROUND('Income Statement'!GNH12,3)","v":0},{"$f":"ROUND('Income Statement'!GNI12,3)","v":0},{"$f":"ROUND('Income Statement'!GNJ12,3)","v":0},{"$f":"ROUND('Income Statement'!GNK12,3)","v":0},{"$f":"ROUND('Income Statement'!GNL12,3)","v":0},{"$f":"ROUND('Income Statement'!GNM12,3)","v":0},{"$f":"ROUND('Income Statement'!GNN12,3)","v":0},{"$f":"ROUND('Income Statement'!GNO12,3)","v":0},{"$f":"ROUND('Income Statement'!GNP12,3)","v":0},{"$f":"ROUND('Income Statement'!GNQ12,3)","v":0},{"$f":"ROUND('Income Statement'!GNR12,3)","v":0},{"$f":"ROUND('Income Statement'!GNS12,3)","v":0},{"$f":"ROUND('Income Statement'!GNT12,3)","v":0},{"$f":"ROUND('Income Statement'!GNU12,3)","v":0},{"$f":"ROUND('Income Statement'!GNV12,3)","v":0},{"$f":"ROUND('Income Statement'!GNW12,3)","v":0},{"$f":"ROUND('Income Statement'!GNX12,3)","v":0},{"$f":"ROUND('Income Statement'!GNY12,3)","v":0},{"$f":"ROUND('Income Statement'!GNZ12,3)","v":0},{"$f":"ROUND('Income Statement'!GOA12,3)","v":0},{"$f":"ROUND('Income Statement'!GOB12,3)","v":0},{"$f":"ROUND('Income Statement'!GOC12,3)","v":0},{"$f":"ROUND('Income Statement'!GOD12,3)","v":0},{"$f":"ROUND('Income Statement'!GOE12,3)","v":0},{"$f":"ROUND('Income Statement'!GOF12,3)","v":0},{"$f":"ROUND('Income Statement'!GOG12,3)","v":0},{"$f":"ROUND('Income Statement'!GOH12,3)","v":0},{"$f":"ROUND('Income Statement'!GOI12,3)","v":0},{"$f":"ROUND('Income Statement'!GOJ12,3)","v":0},{"$f":"ROUND('Income Statement'!GOK12,3)","v":0},{"$f":"ROUND('Income Statement'!GOL12,3)","v":0},{"$f":"ROUND('Income Statement'!GOM12,3)","v":0},{"$f":"ROUND('Income Statement'!GON12,3)","v":0},{"$f":"ROUND('Income Statement'!GOO12,3)","v":0},{"$f":"ROUND('Income Statement'!GOP12,3)","v":0},{"$f":"ROUND('Income Statement'!GOQ12,3)","v":0},{"$f":"ROUND('Income Statement'!GOR12,3)","v":0},{"$f":"ROUND('Income Statement'!GOS12,3)","v":0},{"$f":"ROUND('Income Statement'!GOT12,3)","v":0},{"$f":"ROUND('Income Statement'!GOU12,3)","v":0},{"$f":"ROUND('Income Statement'!GOV12,3)","v":0},{"$f":"ROUND('Income Statement'!GOW12,3)","v":0},{"$f":"ROUND('Income Statement'!GOX12,3)","v":0},{"$f":"ROUND('Income Statement'!GOY12,3)","v":0},{"$f":"ROUND('Income Statement'!GOZ12,3)","v":0},{"$f":"ROUND('Income Statement'!GPA12,3)","v":0},{"$f":"ROUND('Income Statement'!GPB12,3)","v":0},{"$f":"ROUND('Income Statement'!GPC12,3)","v":0},{"$f":"ROUND('Income Statement'!GPD12,3)","v":0},{"$f":"ROUND('Income Statement'!GPE12,3)","v":0},{"$f":"ROUND('Income Statement'!GPF12,3)","v":0},{"$f":"ROUND('Income Statement'!GPG12,3)","v":0},{"$f":"ROUND('Income Statement'!GPH12,3)","v":0},{"$f":"ROUND('Income Statement'!GPI12,3)","v":0},{"$f":"ROUND('Income Statement'!GPJ12,3)","v":0},{"$f":"ROUND('Income Statement'!GPK12,3)","v":0},{"$f":"ROUND('Income Statement'!GPL12,3)","v":0},{"$f":"ROUND('Income Statement'!GPM12,3)","v":0},{"$f":"ROUND('Income Statement'!GPN12,3)","v":0},{"$f":"ROUND('Income Statement'!GPO12,3)","v":0},{"$f":"ROUND('Income Statement'!GPP12,3)","v":0},{"$f":"ROUND('Income Statement'!GPQ12,3)","v":0},{"$f":"ROUND('Income Statement'!GPR12,3)","v":0},{"$f":"ROUND('Income Statement'!GPS12,3)","v":0},{"$f":"ROUND('Income Statement'!GPT12,3)","v":0},{"$f":"ROUND('Income Statement'!GPU12,3)","v":0},{"$f":"ROUND('Income Statement'!GPV12,3)","v":0},{"$f":"ROUND('Income Statement'!GPW12,3)","v":0},{"$f":"ROUND('Income Statement'!GPX12,3)","v":0},{"$f":"ROUND('Income Statement'!GPY12,3)","v":0},{"$f":"ROUND('Income Statement'!GPZ12,3)","v":0},{"$f":"ROUND('Income Statement'!GQA12,3)","v":0},{"$f":"ROUND('Income Statement'!GQB12,3)","v":0},{"$f":"ROUND('Income Statement'!GQC12,3)","v":0},{"$f":"ROUND('Income Statement'!GQD12,3)","v":0},{"$f":"ROUND('Income Statement'!GQE12,3)","v":0},{"$f":"ROUND('Income Statement'!GQF12,3)","v":0},{"$f":"ROUND('Income Statement'!GQG12,3)","v":0},{"$f":"ROUND('Income Statement'!GQH12,3)","v":0},{"$f":"ROUND('Income Statement'!GQI12,3)","v":0},{"$f":"ROUND('Income Statement'!GQJ12,3)","v":0},{"$f":"ROUND('Income Statement'!GQK12,3)","v":0},{"$f":"ROUND('Income Statement'!GQL12,3)","v":0},{"$f":"ROUND('Income Statement'!GQM12,3)","v":0},{"$f":"ROUND('Income Statement'!GQN12,3)","v":0},{"$f":"ROUND('Income Statement'!GQO12,3)","v":0},{"$f":"ROUND('Income Statement'!GQP12,3)","v":0},{"$f":"ROUND('Income Statement'!GQQ12,3)","v":0},{"$f":"ROUND('Income Statement'!GQR12,3)","v":0},{"$f":"ROUND('Income Statement'!GQS12,3)","v":0},{"$f":"ROUND('Income Statement'!GQT12,3)","v":0},{"$f":"ROUND('Income Statement'!GQU12,3)","v":0},{"$f":"ROUND('Income Statement'!GQV12,3)","v":0},{"$f":"ROUND('Income Statement'!GQW12,3)","v":0},{"$f":"ROUND('Income Statement'!GQX12,3)","v":0},{"$f":"ROUND('Income Statement'!GQY12,3)","v":0},{"$f":"ROUND('Income Statement'!GQZ12,3)","v":0},{"$f":"ROUND('Income Statement'!GRA12,3)","v":0},{"$f":"ROUND('Income Statement'!GRB12,3)","v":0},{"$f":"ROUND('Income Statement'!GRC12,3)","v":0},{"$f":"ROUND('Income Statement'!GRD12,3)","v":0},{"$f":"ROUND('Income Statement'!GRE12,3)","v":0},{"$f":"ROUND('Income Statement'!GRF12,3)","v":0},{"$f":"ROUND('Income Statement'!GRG12,3)","v":0},{"$f":"ROUND('Income Statement'!GRH12,3)","v":0},{"$f":"ROUND('Income Statement'!GRI12,3)","v":0},{"$f":"ROUND('Income Statement'!GRJ12,3)","v":0},{"$f":"ROUND('Income Statement'!GRK12,3)","v":0},{"$f":"ROUND('Income Statement'!GRL12,3)","v":0},{"$f":"ROUND('Income Statement'!GRM12,3)","v":0},{"$f":"ROUND('Income Statement'!GRN12,3)","v":0},{"$f":"ROUND('Income Statement'!GRO12,3)","v":0},{"$f":"ROUND('Income Statement'!GRP12,3)","v":0},{"$f":"ROUND('Income Statement'!GRQ12,3)","v":0},{"$f":"ROUND('Income Statement'!GRR12,3)","v":0},{"$f":"ROUND('Income Statement'!GRS12,3)","v":0},{"$f":"ROUND('Income Statement'!GRT12,3)","v":0},{"$f":"ROUND('Income Statement'!GRU12,3)","v":0},{"$f":"ROUND('Income Statement'!GRV12,3)","v":0},{"$f":"ROUND('Income Statement'!GRW12,3)","v":0},{"$f":"ROUND('Income Statement'!GRX12,3)","v":0},{"$f":"ROUND('Income Statement'!GRY12,3)","v":0},{"$f":"ROUND('Income Statement'!GRZ12,3)","v":0},{"$f":"ROUND('Income Statement'!GSA12,3)","v":0},{"$f":"ROUND('Income Statement'!GSB12,3)","v":0},{"$f":"ROUND('Income Statement'!GSC12,3)","v":0},{"$f":"ROUND('Income Statement'!GSD12,3)","v":0},{"$f":"ROUND('Income Statement'!GSE12,3)","v":0},{"$f":"ROUND('Income Statement'!GSF12,3)","v":0},{"$f":"ROUND('Income Statement'!GSG12,3)","v":0},{"$f":"ROUND('Income Statement'!GSH12,3)","v":0},{"$f":"ROUND('Income Statement'!GSI12,3)","v":0},{"$f":"ROUND('Income Statement'!GSJ12,3)","v":0},{"$f":"ROUND('Income Statement'!GSK12,3)","v":0},{"$f":"ROUND('Income Statement'!GSL12,3)","v":0},{"$f":"ROUND('Income Statement'!GSM12,3)","v":0},{"$f":"ROUND('Income Statement'!GSN12,3)","v":0},{"$f":"ROUND('Income Statement'!GSO12,3)","v":0},{"$f":"ROUND('Income Statement'!GSP12,3)","v":0},{"$f":"ROUND('Income Statement'!GSQ12,3)","v":0},{"$f":"ROUND('Income Statement'!GSR12,3)","v":0},{"$f":"ROUND('Income Statement'!GSS12,3)","v":0},{"$f":"ROUND('Income Statement'!GST12,3)","v":0},{"$f":"ROUND('Income Statement'!GSU12,3)","v":0},{"$f":"ROUND('Income Statement'!GSV12,3)","v":0},{"$f":"ROUND('Income Statement'!GSW12,3)","v":0},{"$f":"ROUND('Income Statement'!GSX12,3)","v":0},{"$f":"ROUND('Income Statement'!GSY12,3)","v":0},{"$f":"ROUND('Income Statement'!GSZ12,3)","v":0},{"$f":"ROUND('Income Statement'!GTA12,3)","v":0},{"$f":"ROUND('Income Statement'!GTB12,3)","v":0},{"$f":"ROUND('Income Statement'!GTC12,3)","v":0},{"$f":"ROUND('Income Statement'!GTD12,3)","v":0},{"$f":"ROUND('Income Statement'!GTE12,3)","v":0},{"$f":"ROUND('Income Statement'!GTF12,3)","v":0},{"$f":"ROUND('Income Statement'!GTG12,3)","v":0},{"$f":"ROUND('Income Statement'!GTH12,3)","v":0},{"$f":"ROUND('Income Statement'!GTI12,3)","v":0},{"$f":"ROUND('Income Statement'!GTJ12,3)","v":0},{"$f":"ROUND('Income Statement'!GTK12,3)","v":0},{"$f":"ROUND('Income Statement'!GTL12,3)","v":0},{"$f":"ROUND('Income Statement'!GTM12,3)","v":0},{"$f":"ROUND('Income Statement'!GTN12,3)","v":0},{"$f":"ROUND('Income Statement'!GTO12,3)","v":0},{"$f":"ROUND('Income Statement'!GTP12,3)","v":0},{"$f":"ROUND('Income Statement'!GTQ12,3)","v":0},{"$f":"ROUND('Income Statement'!GTR12,3)","v":0},{"$f":"ROUND('Income Statement'!GTS12,3)","v":0},{"$f":"ROUND('Income Statement'!GTT12,3)","v":0},{"$f":"ROUND('Income Statement'!GTU12,3)","v":0},{"$f":"ROUND('Income Statement'!GTV12,3)","v":0},{"$f":"ROUND('Income Statement'!GTW12,3)","v":0},{"$f":"ROUND('Income Statement'!GTX12,3)","v":0},{"$f":"ROUND('Income Statement'!GTY12,3)","v":0},{"$f":"ROUND('Income Statement'!GTZ12,3)","v":0},{"$f":"ROUND('Income Statement'!GUA12,3)","v":0},{"$f":"ROUND('Income Statement'!GUB12,3)","v":0},{"$f":"ROUND('Income Statement'!GUC12,3)","v":0},{"$f":"ROUND('Income Statement'!GUD12,3)","v":0},{"$f":"ROUND('Income Statement'!GUE12,3)","v":0},{"$f":"ROUND('Income Statement'!GUF12,3)","v":0},{"$f":"ROUND('Income Statement'!GUG12,3)","v":0},{"$f":"ROUND('Income Statement'!GUH12,3)","v":0},{"$f":"ROUND('Income Statement'!GUI12,3)","v":0},{"$f":"ROUND('Income Statement'!GUJ12,3)","v":0},{"$f":"ROUND('Income Statement'!GUK12,3)","v":0},{"$f":"ROUND('Income Statement'!GUL12,3)","v":0},{"$f":"ROUND('Income Statement'!GUM12,3)","v":0},{"$f":"ROUND('Income Statement'!GUN12,3)","v":0},{"$f":"ROUND('Income Statement'!GUO12,3)","v":0},{"$f":"ROUND('Income Statement'!GUP12,3)","v":0},{"$f":"ROUND('Income Statement'!GUQ12,3)","v":0},{"$f":"ROUND('Income Statement'!GUR12,3)","v":0},{"$f":"ROUND('Income Statement'!GUS12,3)","v":0},{"$f":"ROUND('Income Statement'!GUT12,3)","v":0},{"$f":"ROUND('Income Statement'!GUU12,3)","v":0},{"$f":"ROUND('Income Statement'!GUV12,3)","v":0},{"$f":"ROUND('Income Statement'!GUW12,3)","v":0},{"$f":"ROUND('Income Statement'!GUX12,3)","v":0},{"$f":"ROUND('Income Statement'!GUY12,3)","v":0},{"$f":"ROUND('Income Statement'!GUZ12,3)","v":0},{"$f":"ROUND('Income Statement'!GVA12,3)","v":0},{"$f":"ROUND('Income Statement'!GVB12,3)","v":0},{"$f":"ROUND('Income Statement'!GVC12,3)","v":0},{"$f":"ROUND('Income Statement'!GVD12,3)","v":0},{"$f":"ROUND('Income Statement'!GVE12,3)","v":0},{"$f":"ROUND('Income Statement'!GVF12,3)","v":0},{"$f":"ROUND('Income Statement'!GVG12,3)","v":0},{"$f":"ROUND('Income Statement'!GVH12,3)","v":0},{"$f":"ROUND('Income Statement'!GVI12,3)","v":0},{"$f":"ROUND('Income Statement'!GVJ12,3)","v":0},{"$f":"ROUND('Income Statement'!GVK12,3)","v":0},{"$f":"ROUND('Income Statement'!GVL12,3)","v":0},{"$f":"ROUND('Income Statement'!GVM12,3)","v":0},{"$f":"ROUND('Income Statement'!GVN12,3)","v":0},{"$f":"ROUND('Income Statement'!GVO12,3)","v":0},{"$f":"ROUND('Income Statement'!GVP12,3)","v":0},{"$f":"ROUND('Income Statement'!GVQ12,3)","v":0},{"$f":"ROUND('Income Statement'!GVR12,3)","v":0},{"$f":"ROUND('Income Statement'!GVS12,3)","v":0},{"$f":"ROUND('Income Statement'!GVT12,3)","v":0},{"$f":"ROUND('Income Statement'!GVU12,3)","v":0},{"$f":"ROUND('Income Statement'!GVV12,3)","v":0},{"$f":"ROUND('Income Statement'!GVW12,3)","v":0},{"$f":"ROUND('Income Statement'!GVX12,3)","v":0},{"$f":"ROUND('Income Statement'!GVY12,3)","v":0},{"$f":"ROUND('Income Statement'!GVZ12,3)","v":0},{"$f":"ROUND('Income Statement'!GWA12,3)","v":0},{"$f":"ROUND('Income Statement'!GWB12,3)","v":0},{"$f":"ROUND('Income Statement'!GWC12,3)","v":0},{"$f":"ROUND('Income Statement'!GWD12,3)","v":0},{"$f":"ROUND('Income Statement'!GWE12,3)","v":0},{"$f":"ROUND('Income Statement'!GWF12,3)","v":0},{"$f":"ROUND('Income Statement'!GWG12,3)","v":0},{"$f":"ROUND('Income Statement'!GWH12,3)","v":0},{"$f":"ROUND('Income Statement'!GWI12,3)","v":0},{"$f":"ROUND('Income Statement'!GWJ12,3)","v":0},{"$f":"ROUND('Income Statement'!GWK12,3)","v":0},{"$f":"ROUND('Income Statement'!GWL12,3)","v":0},{"$f":"ROUND('Income Statement'!GWM12,3)","v":0},{"$f":"ROUND('Income Statement'!GWN12,3)","v":0},{"$f":"ROUND('Income Statement'!GWO12,3)","v":0},{"$f":"ROUND('Income Statement'!GWP12,3)","v":0},{"$f":"ROUND('Income Statement'!GWQ12,3)","v":0},{"$f":"ROUND('Income Statement'!GWR12,3)","v":0},{"$f":"ROUND('Income Statement'!GWS12,3)","v":0},{"$f":"ROUND('Income Statement'!GWT12,3)","v":0},{"$f":"ROUND('Income Statement'!GWU12,3)","v":0},{"$f":"ROUND('Income Statement'!GWV12,3)","v":0},{"$f":"ROUND('Income Statement'!GWW12,3)","v":0},{"$f":"ROUND('Income Statement'!GWX12,3)","v":0},{"$f":"ROUND('Income Statement'!GWY12,3)","v":0},{"$f":"ROUND('Income Statement'!GWZ12,3)","v":0},{"$f":"ROUND('Income Statement'!GXA12,3)","v":0},{"$f":"ROUND('Income Statement'!GXB12,3)","v":0},{"$f":"ROUND('Income Statement'!GXC12,3)","v":0},{"$f":"ROUND('Income Statement'!GXD12,3)","v":0},{"$f":"ROUND('Income Statement'!GXE12,3)","v":0},{"$f":"ROUND('Income Statement'!GXF12,3)","v":0},{"$f":"ROUND('Income Statement'!GXG12,3)","v":0},{"$f":"ROUND('Income Statement'!GXH12,3)","v":0},{"$f":"ROUND('Income Statement'!GXI12,3)","v":0},{"$f":"ROUND('Income Statement'!GXJ12,3)","v":0},{"$f":"ROUND('Income Statement'!GXK12,3)","v":0},{"$f":"ROUND('Income Statement'!GXL12,3)","v":0},{"$f":"ROUND('Income Statement'!GXM12,3)","v":0},{"$f":"ROUND('Income Statement'!GXN12,3)","v":0},{"$f":"ROUND('Income Statement'!GXO12,3)","v":0},{"$f":"ROUND('Income Statement'!GXP12,3)","v":0},{"$f":"ROUND('Income Statement'!GXQ12,3)","v":0},{"$f":"ROUND('Income Statement'!GXR12,3)","v":0},{"$f":"ROUND('Income Statement'!GXS12,3)","v":0},{"$f":"ROUND('Income Statement'!GXT12,3)","v":0},{"$f":"ROUND('Income Statement'!GXU12,3)","v":0},{"$f":"ROUND('Income Statement'!GXV12,3)","v":0},{"$f":"ROUND('Income Statement'!GXW12,3)","v":0},{"$f":"ROUND('Income Statement'!GXX12,3)","v":0},{"$f":"ROUND('Income Statement'!GXY12,3)","v":0},{"$f":"ROUND('Income Statement'!GXZ12,3)","v":0},{"$f":"ROUND('Income Statement'!GYA12,3)","v":0},{"$f":"ROUND('Income Statement'!GYB12,3)","v":0},{"$f":"ROUND('Income Statement'!GYC12,3)","v":0},{"$f":"ROUND('Income Statement'!GYD12,3)","v":0},{"$f":"ROUND('Income Statement'!GYE12,3)","v":0},{"$f":"ROUND('Income Statement'!GYF12,3)","v":0},{"$f":"ROUND('Income Statement'!GYG12,3)","v":0},{"$f":"ROUND('Income Statement'!GYH12,3)","v":0},{"$f":"ROUND('Income Statement'!GYI12,3)","v":0},{"$f":"ROUND('Income Statement'!GYJ12,3)","v":0},{"$f":"ROUND('Income Statement'!GYK12,3)","v":0},{"$f":"ROUND('Income Statement'!GYL12,3)","v":0},{"$f":"ROUND('Income Statement'!GYM12,3)","v":0},{"$f":"ROUND('Income Statement'!GYN12,3)","v":0},{"$f":"ROUND('Income Statement'!GYO12,3)","v":0},{"$f":"ROUND('Income Statement'!GYP12,3)","v":0},{"$f":"ROUND('Income Statement'!GYQ12,3)","v":0},{"$f":"ROUND('Income Statement'!GYR12,3)","v":0},{"$f":"ROUND('Income Statement'!GYS12,3)","v":0},{"$f":"ROUND('Income Statement'!GYT12,3)","v":0},{"$f":"ROUND('Income Statement'!GYU12,3)","v":0},{"$f":"ROUND('Income Statement'!GYV12,3)","v":0},{"$f":"ROUND('Income Statement'!GYW12,3)","v":0},{"$f":"ROUND('Income Statement'!GYX12,3)","v":0},{"$f":"ROUND('Income Statement'!GYY12,3)","v":0},{"$f":"ROUND('Income Statement'!GYZ12,3)","v":0},{"$f":"ROUND('Income Statement'!GZA12,3)","v":0},{"$f":"ROUND('Income Statement'!GZB12,3)","v":0},{"$f":"ROUND('Income Statement'!GZC12,3)","v":0},{"$f":"ROUND('Income Statement'!GZD12,3)","v":0},{"$f":"ROUND('Income Statement'!GZE12,3)","v":0},{"$f":"ROUND('Income Statement'!GZF12,3)","v":0},{"$f":"ROUND('Income Statement'!GZG12,3)","v":0},{"$f":"ROUND('Income Statement'!GZH12,3)","v":0},{"$f":"ROUND('Income Statement'!GZI12,3)","v":0},{"$f":"ROUND('Income Statement'!GZJ12,3)","v":0},{"$f":"ROUND('Income Statement'!GZK12,3)","v":0},{"$f":"ROUND('Income Statement'!GZL12,3)","v":0},{"$f":"ROUND('Income Statement'!GZM12,3)","v":0},{"$f":"ROUND('Income Statement'!GZN12,3)","v":0},{"$f":"ROUND('Income Statement'!GZO12,3)","v":0},{"$f":"ROUND('Income Statement'!GZP12,3)","v":0},{"$f":"ROUND('Income Statement'!GZQ12,3)","v":0},{"$f":"ROUND('Income Statement'!GZR12,3)","v":0},{"$f":"ROUND('Income Statement'!GZS12,3)","v":0},{"$f":"ROUND('Income Statement'!GZT12,3)","v":0},{"$f":"ROUND('Income Statement'!GZU12,3)","v":0},{"$f":"ROUND('Income Statement'!GZV12,3)","v":0},{"$f":"ROUND('Income Statement'!GZW12,3)","v":0},{"$f":"ROUND('Income Statement'!GZX12,3)","v":0},{"$f":"ROUND('Income Statement'!GZY12,3)","v":0},{"$f":"ROUND('Income Statement'!GZZ12,3)","v":0},{"$f":"ROUND('Income Statement'!HAA12,3)","v":0},{"$f":"ROUND('Income Statement'!HAB12,3)","v":0},{"$f":"ROUND('Income Statement'!HAC12,3)","v":0},{"$f":"ROUND('Income Statement'!HAD12,3)","v":0},{"$f":"ROUND('Income Statement'!HAE12,3)","v":0},{"$f":"ROUND('Income Statement'!HAF12,3)","v":0},{"$f":"ROUND('Income Statement'!HAG12,3)","v":0},{"$f":"ROUND('Income Statement'!HAH12,3)","v":0},{"$f":"ROUND('Income Statement'!HAI12,3)","v":0},{"$f":"ROUND('Income Statement'!HAJ12,3)","v":0},{"$f":"ROUND('Income Statement'!HAK12,3)","v":0},{"$f":"ROUND('Income Statement'!HAL12,3)","v":0},{"$f":"ROUND('Income Statement'!HAM12,3)","v":0},{"$f":"ROUND('Income Statement'!HAN12,3)","v":0},{"$f":"ROUND('Income Statement'!HAO12,3)","v":0},{"$f":"ROUND('Income Statement'!HAP12,3)","v":0},{"$f":"ROUND('Income Statement'!HAQ12,3)","v":0},{"$f":"ROUND('Income Statement'!HAR12,3)","v":0},{"$f":"ROUND('Income Statement'!HAS12,3)","v":0},{"$f":"ROUND('Income Statement'!HAT12,3)","v":0},{"$f":"ROUND('Income Statement'!HAU12,3)","v":0},{"$f":"ROUND('Income Statement'!HAV12,3)","v":0},{"$f":"ROUND('Income Statement'!HAW12,3)","v":0},{"$f":"ROUND('Income Statement'!HAX12,3)","v":0},{"$f":"ROUND('Income Statement'!HAY12,3)","v":0},{"$f":"ROUND('Income Statement'!HAZ12,3)","v":0},{"$f":"ROUND('Income Statement'!HBA12,3)","v":0},{"$f":"ROUND('Income Statement'!HBB12,3)","v":0},{"$f":"ROUND('Income Statement'!HBC12,3)","v":0},{"$f":"ROUND('Income Statement'!HBD12,3)","v":0},{"$f":"ROUND('Income Statement'!HBE12,3)","v":0},{"$f":"ROUND('Income Statement'!HBF12,3)","v":0},{"$f":"ROUND('Income Statement'!HBG12,3)","v":0},{"$f":"ROUND('Income Statement'!HBH12,3)","v":0},{"$f":"ROUND('Income Statement'!HBI12,3)","v":0},{"$f":"ROUND('Income Statement'!HBJ12,3)","v":0},{"$f":"ROUND('Income Statement'!HBK12,3)","v":0},{"$f":"ROUND('Income Statement'!HBL12,3)","v":0},{"$f":"ROUND('Income Statement'!HBM12,3)","v":0},{"$f":"ROUND('Income Statement'!HBN12,3)","v":0},{"$f":"ROUND('Income Statement'!HBO12,3)","v":0},{"$f":"ROUND('Income Statement'!HBP12,3)","v":0},{"$f":"ROUND('Income Statement'!HBQ12,3)","v":0},{"$f":"ROUND('Income Statement'!HBR12,3)","v":0},{"$f":"ROUND('Income Statement'!HBS12,3)","v":0},{"$f":"ROUND('Income Statement'!HBT12,3)","v":0},{"$f":"ROUND('Income Statement'!HBU12,3)","v":0},{"$f":"ROUND('Income Statement'!HBV12,3)","v":0},{"$f":"ROUND('Income Statement'!HBW12,3)","v":0},{"$f":"ROUND('Income Statement'!HBX12,3)","v":0},{"$f":"ROUND('Income Statement'!HBY12,3)","v":0},{"$f":"ROUND('Income Statement'!HBZ12,3)","v":0},{"$f":"ROUND('Income Statement'!HCA12,3)","v":0},{"$f":"ROUND('Income Statement'!HCB12,3)","v":0},{"$f":"ROUND('Income Statement'!HCC12,3)","v":0},{"$f":"ROUND('Income Statement'!HCD12,3)","v":0},{"$f":"ROUND('Income Statement'!HCE12,3)","v":0},{"$f":"ROUND('Income Statement'!HCF12,3)","v":0},{"$f":"ROUND('Income Statement'!HCG12,3)","v":0},{"$f":"ROUND('Income Statement'!HCH12,3)","v":0},{"$f":"ROUND('Income Statement'!HCI12,3)","v":0},{"$f":"ROUND('Income Statement'!HCJ12,3)","v":0},{"$f":"ROUND('Income Statement'!HCK12,3)","v":0},{"$f":"ROUND('Income Statement'!HCL12,3)","v":0},{"$f":"ROUND('Income Statement'!HCM12,3)","v":0},{"$f":"ROUND('Income Statement'!HCN12,3)","v":0},{"$f":"ROUND('Income Statement'!HCO12,3)","v":0},{"$f":"ROUND('Income Statement'!HCP12,3)","v":0},{"$f":"ROUND('Income Statement'!HCQ12,3)","v":0},{"$f":"ROUND('Income Statement'!HCR12,3)","v":0},{"$f":"ROUND('Income Statement'!HCS12,3)","v":0},{"$f":"ROUND('Income Statement'!HCT12,3)","v":0},{"$f":"ROUND('Income Statement'!HCU12,3)","v":0},{"$f":"ROUND('Income Statement'!HCV12,3)","v":0},{"$f":"ROUND('Income Statement'!HCW12,3)","v":0},{"$f":"ROUND('Income Statement'!HCX12,3)","v":0},{"$f":"ROUND('Income Statement'!HCY12,3)","v":0},{"$f":"ROUND('Income Statement'!HCZ12,3)","v":0},{"$f":"ROUND('Income Statement'!HDA12,3)","v":0},{"$f":"ROUND('Income Statement'!HDB12,3)","v":0},{"$f":"ROUND('Income Statement'!HDC12,3)","v":0},{"$f":"ROUND('Income Statement'!HDD12,3)","v":0},{"$f":"ROUND('Income Statement'!HDE12,3)","v":0},{"$f":"ROUND('Income Statement'!HDF12,3)","v":0},{"$f":"ROUND('Income Statement'!HDG12,3)","v":0},{"$f":"ROUND('Income Statement'!HDH12,3)","v":0},{"$f":"ROUND('Income Statement'!HDI12,3)","v":0},{"$f":"ROUND('Income Statement'!HDJ12,3)","v":0},{"$f":"ROUND('Income Statement'!HDK12,3)","v":0},{"$f":"ROUND('Income Statement'!HDL12,3)","v":0},{"$f":"ROUND('Income Statement'!HDM12,3)","v":0},{"$f":"ROUND('Income Statement'!HDN12,3)","v":0},{"$f":"ROUND('Income Statement'!HDO12,3)","v":0},{"$f":"ROUND('Income Statement'!HDP12,3)","v":0},{"$f":"ROUND('Income Statement'!HDQ12,3)","v":0},{"$f":"ROUND('Income Statement'!HDR12,3)","v":0},{"$f":"ROUND('Income Statement'!HDS12,3)","v":0},{"$f":"ROUND('Income Statement'!HDT12,3)","v":0},{"$f":"ROUND('Income Statement'!HDU12,3)","v":0},{"$f":"ROUND('Income Statement'!HDV12,3)","v":0},{"$f":"ROUND('Income Statement'!HDW12,3)","v":0},{"$f":"ROUND('Income Statement'!HDX12,3)","v":0},{"$f":"ROUND('Income Statement'!HDY12,3)","v":0},{"$f":"ROUND('Income Statement'!HDZ12,3)","v":0},{"$f":"ROUND('Income Statement'!HEA12,3)","v":0},{"$f":"ROUND('Income Statement'!HEB12,3)","v":0},{"$f":"ROUND('Income Statement'!HEC12,3)","v":0},{"$f":"ROUND('Income Statement'!HED12,3)","v":0},{"$f":"ROUND('Income Statement'!HEE12,3)","v":0},{"$f":"ROUND('Income Statement'!HEF12,3)","v":0},{"$f":"ROUND('Income Statement'!HEG12,3)","v":0},{"$f":"ROUND('Income Statement'!HEH12,3)","v":0},{"$f":"ROUND('Income Statement'!HEI12,3)","v":0},{"$f":"ROUND('Income Statement'!HEJ12,3)","v":0},{"$f":"ROUND('Income Statement'!HEK12,3)","v":0},{"$f":"ROUND('Income Statement'!HEL12,3)","v":0},{"$f":"ROUND('Income Statement'!HEM12,3)","v":0},{"$f":"ROUND('Income Statement'!HEN12,3)","v":0},{"$f":"ROUND('Income Statement'!HEO12,3)","v":0},{"$f":"ROUND('Income Statement'!HEP12,3)","v":0},{"$f":"ROUND('Income Statement'!HEQ12,3)","v":0},{"$f":"ROUND('Income Statement'!HER12,3)","v":0},{"$f":"ROUND('Income Statement'!HES12,3)","v":0},{"$f":"ROUND('Income Statement'!HET12,3)","v":0},{"$f":"ROUND('Income Statement'!HEU12,3)","v":0},{"$f":"ROUND('Income Statement'!HEV12,3)","v":0},{"$f":"ROUND('Income Statement'!HEW12,3)","v":0},{"$f":"ROUND('Income Statement'!HEX12,3)","v":0},{"$f":"ROUND('Income Statement'!HEY12,3)","v":0},{"$f":"ROUND('Income Statement'!HEZ12,3)","v":0},{"$f":"ROUND('Income Statement'!HFA12,3)","v":0},{"$f":"ROUND('Income Statement'!HFB12,3)","v":0},{"$f":"ROUND('Income Statement'!HFC12,3)","v":0},{"$f":"ROUND('Income Statement'!HFD12,3)","v":0},{"$f":"ROUND('Income Statement'!HFE12,3)","v":0},{"$f":"ROUND('Income Statement'!HFF12,3)","v":0},{"$f":"ROUND('Income Statement'!HFG12,3)","v":0},{"$f":"ROUND('Income Statement'!HFH12,3)","v":0},{"$f":"ROUND('Income Statement'!HFI12,3)","v":0},{"$f":"ROUND('Income Statement'!HFJ12,3)","v":0},{"$f":"ROUND('Income Statement'!HFK12,3)","v":0},{"$f":"ROUND('Income Statement'!HFL12,3)","v":0},{"$f":"ROUND('Income Statement'!HFM12,3)","v":0},{"$f":"ROUND('Income Statement'!HFN12,3)","v":0},{"$f":"ROUND('Income Statement'!HFO12,3)","v":0},{"$f":"ROUND('Income Statement'!HFP12,3)","v":0},{"$f":"ROUND('Income Statement'!HFQ12,3)","v":0},{"$f":"ROUND('Income Statement'!HFR12,3)","v":0},{"$f":"ROUND('Income Statement'!HFS12,3)","v":0},{"$f":"ROUND('Income Statement'!HFT12,3)","v":0},{"$f":"ROUND('Income Statement'!HFU12,3)","v":0},{"$f":"ROUND('Income Statement'!HFV12,3)","v":0},{"$f":"ROUND('Income Statement'!HFW12,3)","v":0},{"$f":"ROUND('Income Statement'!HFX12,3)","v":0},{"$f":"ROUND('Income Statement'!HFY12,3)","v":0},{"$f":"ROUND('Income Statement'!HFZ12,3)","v":0},{"$f":"ROUND('Income Statement'!HGA12,3)","v":0},{"$f":"ROUND('Income Statement'!HGB12,3)","v":0},{"$f":"ROUND('Income Statement'!HGC12,3)","v":0},{"$f":"ROUND('Income Statement'!HGD12,3)","v":0},{"$f":"ROUND('Income Statement'!HGE12,3)","v":0},{"$f":"ROUND('Income Statement'!HGF12,3)","v":0},{"$f":"ROUND('Income Statement'!HGG12,3)","v":0},{"$f":"ROUND('Income Statement'!HGH12,3)","v":0},{"$f":"ROUND('Income Statement'!HGI12,3)","v":0},{"$f":"ROUND('Income Statement'!HGJ12,3)","v":0},{"$f":"ROUND('Income Statement'!HGK12,3)","v":0},{"$f":"ROUND('Income Statement'!HGL12,3)","v":0},{"$f":"ROUND('Income Statement'!HGM12,3)","v":0},{"$f":"ROUND('Income Statement'!HGN12,3)","v":0},{"$f":"ROUND('Income Statement'!HGO12,3)","v":0},{"$f":"ROUND('Income Statement'!HGP12,3)","v":0},{"$f":"ROUND('Income Statement'!HGQ12,3)","v":0},{"$f":"ROUND('Income Statement'!HGR12,3)","v":0},{"$f":"ROUND('Income Statement'!HGS12,3)","v":0},{"$f":"ROUND('Income Statement'!HGT12,3)","v":0},{"$f":"ROUND('Income Statement'!HGU12,3)","v":0},{"$f":"ROUND('Income Statement'!HGV12,3)","v":0},{"$f":"ROUND('Income Statement'!HGW12,3)","v":0},{"$f":"ROUND('Income Statement'!HGX12,3)","v":0},{"$f":"ROUND('Income Statement'!HGY12,3)","v":0},{"$f":"ROUND('Income Statement'!HGZ12,3)","v":0},{"$f":"ROUND('Income Statement'!HHA12,3)","v":0},{"$f":"ROUND('Income Statement'!HHB12,3)","v":0},{"$f":"ROUND('Income Statement'!HHC12,3)","v":0},{"$f":"ROUND('Income Statement'!HHD12,3)","v":0},{"$f":"ROUND('Income Statement'!HHE12,3)","v":0},{"$f":"ROUND('Income Statement'!HHF12,3)","v":0},{"$f":"ROUND('Income Statement'!HHG12,3)","v":0},{"$f":"ROUND('Income Statement'!HHH12,3)","v":0},{"$f":"ROUND('Income Statement'!HHI12,3)","v":0},{"$f":"ROUND('Income Statement'!HHJ12,3)","v":0},{"$f":"ROUND('Income Statement'!HHK12,3)","v":0},{"$f":"ROUND('Income Statement'!HHL12,3)","v":0},{"$f":"ROUND('Income Statement'!HHM12,3)","v":0},{"$f":"ROUND('Income Statement'!HHN12,3)","v":0},{"$f":"ROUND('Income Statement'!HHO12,3)","v":0},{"$f":"ROUND('Income Statement'!HHP12,3)","v":0},{"$f":"ROUND('Income Statement'!HHQ12,3)","v":0},{"$f":"ROUND('Income Statement'!HHR12,3)","v":0},{"$f":"ROUND('Income Statement'!HHS12,3)","v":0},{"$f":"ROUND('Income Statement'!HHT12,3)","v":0},{"$f":"ROUND('Income Statement'!HHU12,3)","v":0},{"$f":"ROUND('Income Statement'!HHV12,3)","v":0},{"$f":"ROUND('Income Statement'!HHW12,3)","v":0},{"$f":"ROUND('Income Statement'!HHX12,3)","v":0},{"$f":"ROUND('Income Statement'!HHY12,3)","v":0},{"$f":"ROUND('Income Statement'!HHZ12,3)","v":0},{"$f":"ROUND('Income Statement'!HIA12,3)","v":0},{"$f":"ROUND('Income Statement'!HIB12,3)","v":0},{"$f":"ROUND('Income Statement'!HIC12,3)","v":0},{"$f":"ROUND('Income Statement'!HID12,3)","v":0},{"$f":"ROUND('Income Statement'!HIE12,3)","v":0},{"$f":"ROUND('Income Statement'!HIF12,3)","v":0},{"$f":"ROUND('Income Statement'!HIG12,3)","v":0},{"$f":"ROUND('Income Statement'!HIH12,3)","v":0},{"$f":"ROUND('Income Statement'!HII12,3)","v":0},{"$f":"ROUND('Income Statement'!HIJ12,3)","v":0},{"$f":"ROUND('Income Statement'!HIK12,3)","v":0},{"$f":"ROUND('Income Statement'!HIL12,3)","v":0},{"$f":"ROUND('Income Statement'!HIM12,3)","v":0},{"$f":"ROUND('Income Statement'!HIN12,3)","v":0},{"$f":"ROUND('Income Statement'!HIO12,3)","v":0},{"$f":"ROUND('Income Statement'!HIP12,3)","v":0},{"$f":"ROUND('Income Statement'!HIQ12,3)","v":0},{"$f":"ROUND('Income Statement'!HIR12,3)","v":0},{"$f":"ROUND('Income Statement'!HIS12,3)","v":0},{"$f":"ROUND('Income Statement'!HIT12,3)","v":0},{"$f":"ROUND('Income Statement'!HIU12,3)","v":0},{"$f":"ROUND('Income Statement'!HIV12,3)","v":0},{"$f":"ROUND('Income Statement'!HIW12,3)","v":0},{"$f":"ROUND('Income Statement'!HIX12,3)","v":0},{"$f":"ROUND('Income Statement'!HIY12,3)","v":0},{"$f":"ROUND('Income Statement'!HIZ12,3)","v":0},{"$f":"ROUND('Income Statement'!HJA12,3)","v":0},{"$f":"ROUND('Income Statement'!HJB12,3)","v":0},{"$f":"ROUND('Income Statement'!HJC12,3)","v":0},{"$f":"ROUND('Income Statement'!HJD12,3)","v":0},{"$f":"ROUND('Income Statement'!HJE12,3)","v":0},{"$f":"ROUND('Income Statement'!HJF12,3)","v":0},{"$f":"ROUND('Income Statement'!HJG12,3)","v":0},{"$f":"ROUND('Income Statement'!HJH12,3)","v":0},{"$f":"ROUND('Income Statement'!HJI12,3)","v":0},{"$f":"ROUND('Income Statement'!HJJ12,3)","v":0},{"$f":"ROUND('Income Statement'!HJK12,3)","v":0},{"$f":"ROUND('Income Statement'!HJL12,3)","v":0},{"$f":"ROUND('Income Statement'!HJM12,3)","v":0},{"$f":"ROUND('Income Statement'!HJN12,3)","v":0},{"$f":"ROUND('Income Statement'!HJO12,3)","v":0},{"$f":"ROUND('Income Statement'!HJP12,3)","v":0},{"$f":"ROUND('Income Statement'!HJQ12,3)","v":0},{"$f":"ROUND('Income Statement'!HJR12,3)","v":0},{"$f":"ROUND('Income Statement'!HJS12,3)","v":0},{"$f":"ROUND('Income Statement'!HJT12,3)","v":0},{"$f":"ROUND('Income Statement'!HJU12,3)","v":0},{"$f":"ROUND('Income Statement'!HJV12,3)","v":0},{"$f":"ROUND('Income Statement'!HJW12,3)","v":0},{"$f":"ROUND('Income Statement'!HJX12,3)","v":0},{"$f":"ROUND('Income Statement'!HJY12,3)","v":0},{"$f":"ROUND('Income Statement'!HJZ12,3)","v":0},{"$f":"ROUND('Income Statement'!HKA12,3)","v":0},{"$f":"ROUND('Income Statement'!HKB12,3)","v":0},{"$f":"ROUND('Income Statement'!HKC12,3)","v":0},{"$f":"ROUND('Income Statement'!HKD12,3)","v":0},{"$f":"ROUND('Income Statement'!HKE12,3)","v":0},{"$f":"ROUND('Income Statement'!HKF12,3)","v":0},{"$f":"ROUND('Income Statement'!HKG12,3)","v":0},{"$f":"ROUND('Income Statement'!HKH12,3)","v":0},{"$f":"ROUND('Income Statement'!HKI12,3)","v":0},{"$f":"ROUND('Income Statement'!HKJ12,3)","v":0},{"$f":"ROUND('Income Statement'!HKK12,3)","v":0},{"$f":"ROUND('Income Statement'!HKL12,3)","v":0},{"$f":"ROUND('Income Statement'!HKM12,3)","v":0},{"$f":"ROUND('Income Statement'!HKN12,3)","v":0},{"$f":"ROUND('Income Statement'!HKO12,3)","v":0},{"$f":"ROUND('Income Statement'!HKP12,3)","v":0},{"$f":"ROUND('Income Statement'!HKQ12,3)","v":0},{"$f":"ROUND('Income Statement'!HKR12,3)","v":0},{"$f":"ROUND('Income Statement'!HKS12,3)","v":0},{"$f":"ROUND('Income Statement'!HKT12,3)","v":0},{"$f":"ROUND('Income Statement'!HKU12,3)","v":0},{"$f":"ROUND('Income Statement'!HKV12,3)","v":0},{"$f":"ROUND('Income Statement'!HKW12,3)","v":0},{"$f":"ROUND('Income Statement'!HKX12,3)","v":0},{"$f":"ROUND('Income Statement'!HKY12,3)","v":0},{"$f":"ROUND('Income Statement'!HKZ12,3)","v":0},{"$f":"ROUND('Income Statement'!HLA12,3)","v":0},{"$f":"ROUND('Income Statement'!HLB12,3)","v":0},{"$f":"ROUND('Income Statement'!HLC12,3)","v":0},{"$f":"ROUND('Income Statement'!HLD12,3)","v":0},{"$f":"ROUND('Income Statement'!HLE12,3)","v":0},{"$f":"ROUND('Income Statement'!HLF12,3)","v":0},{"$f":"ROUND('Income Statement'!HLG12,3)","v":0},{"$f":"ROUND('Income Statement'!HLH12,3)","v":0},{"$f":"ROUND('Income Statement'!HLI12,3)","v":0},{"$f":"ROUND('Income Statement'!HLJ12,3)","v":0},{"$f":"ROUND('Income Statement'!HLK12,3)","v":0},{"$f":"ROUND('Income Statement'!HLL12,3)","v":0},{"$f":"ROUND('Income Statement'!HLM12,3)","v":0},{"$f":"ROUND('Income Statement'!HLN12,3)","v":0},{"$f":"ROUND('Income Statement'!HLO12,3)","v":0},{"$f":"ROUND('Income Statement'!HLP12,3)","v":0},{"$f":"ROUND('Income Statement'!HLQ12,3)","v":0},{"$f":"ROUND('Income Statement'!HLR12,3)","v":0},{"$f":"ROUND('Income Statement'!HLS12,3)","v":0},{"$f":"ROUND('Income Statement'!HLT12,3)","v":0},{"$f":"ROUND('Income Statement'!HLU12,3)","v":0},{"$f":"ROUND('Income Statement'!HLV12,3)","v":0},{"$f":"ROUND('Income Statement'!HLW12,3)","v":0},{"$f":"ROUND('Income Statement'!HLX12,3)","v":0},{"$f":"ROUND('Income Statement'!HLY12,3)","v":0},{"$f":"ROUND('Income Statement'!HLZ12,3)","v":0},{"$f":"ROUND('Income Statement'!HMA12,3)","v":0},{"$f":"ROUND('Income Statement'!HMB12,3)","v":0},{"$f":"ROUND('Income Statement'!HMC12,3)","v":0},{"$f":"ROUND('Income Statement'!HMD12,3)","v":0},{"$f":"ROUND('Income Statement'!HME12,3)","v":0},{"$f":"ROUND('Income Statement'!HMF12,3)","v":0},{"$f":"ROUND('Income Statement'!HMG12,3)","v":0},{"$f":"ROUND('Income Statement'!HMH12,3)","v":0},{"$f":"ROUND('Income Statement'!HMI12,3)","v":0},{"$f":"ROUND('Income Statement'!HMJ12,3)","v":0},{"$f":"ROUND('Income Statement'!HMK12,3)","v":0},{"$f":"ROUND('Income Statement'!HML12,3)","v":0},{"$f":"ROUND('Income Statement'!HMM12,3)","v":0},{"$f":"ROUND('Income Statement'!HMN12,3)","v":0},{"$f":"ROUND('Income Statement'!HMO12,3)","v":0},{"$f":"ROUND('Income Statement'!HMP12,3)","v":0},{"$f":"ROUND('Income Statement'!HMQ12,3)","v":0},{"$f":"ROUND('Income Statement'!HMR12,3)","v":0},{"$f":"ROUND('Income Statement'!HMS12,3)","v":0},{"$f":"ROUND('Income Statement'!HMT12,3)","v":0},{"$f":"ROUND('Income Statement'!HMU12,3)","v":0},{"$f":"ROUND('Income Statement'!HMV12,3)","v":0},{"$f":"ROUND('Income Statement'!HMW12,3)","v":0},{"$f":"ROUND('Income Statement'!HMX12,3)","v":0},{"$f":"ROUND('Income Statement'!HMY12,3)","v":0},{"$f":"ROUND('Income Statement'!HMZ12,3)","v":0},{"$f":"ROUND('Income Statement'!HNA12,3)","v":0},{"$f":"ROUND('Income Statement'!HNB12,3)","v":0},{"$f":"ROUND('Income Statement'!HNC12,3)","v":0},{"$f":"ROUND('Income Statement'!HND12,3)","v":0},{"$f":"ROUND('Income Statement'!HNE12,3)","v":0},{"$f":"ROUND('Income Statement'!HNF12,3)","v":0},{"$f":"ROUND('Income Statement'!HNG12,3)","v":0},{"$f":"ROUND('Income Statement'!HNH12,3)","v":0},{"$f":"ROUND('Income Statement'!HNI12,3)","v":0},{"$f":"ROUND('Income Statement'!HNJ12,3)","v":0},{"$f":"ROUND('Income Statement'!HNK12,3)","v":0},{"$f":"ROUND('Income Statement'!HNL12,3)","v":0},{"$f":"ROUND('Income Statement'!HNM12,3)","v":0},{"$f":"ROUND('Income Statement'!HNN12,3)","v":0},{"$f":"ROUND('Income Statement'!HNO12,3)","v":0},{"$f":"ROUND('Income Statement'!HNP12,3)","v":0},{"$f":"ROUND('Income Statement'!HNQ12,3)","v":0},{"$f":"ROUND('Income Statement'!HNR12,3)","v":0},{"$f":"ROUND('Income Statement'!HNS12,3)","v":0},{"$f":"ROUND('Income Statement'!HNT12,3)","v":0},{"$f":"ROUND('Income Statement'!HNU12,3)","v":0},{"$f":"ROUND('Income Statement'!HNV12,3)","v":0},{"$f":"ROUND('Income Statement'!HNW12,3)","v":0},{"$f":"ROUND('Income Statement'!HNX12,3)","v":0},{"$f":"ROUND('Income Statement'!HNY12,3)","v":0},{"$f":"ROUND('Income Statement'!HNZ12,3)","v":0},{"$f":"ROUND('Income Statement'!HOA12,3)","v":0},{"$f":"ROUND('Income Statement'!HOB12,3)","v":0},{"$f":"ROUND('Income Statement'!HOC12,3)","v":0},{"$f":"ROUND('Income Statement'!HOD12,3)","v":0},{"$f":"ROUND('Income Statement'!HOE12,3)","v":0},{"$f":"ROUND('Income Statement'!HOF12,3)","v":0},{"$f":"ROUND('Income Statement'!HOG12,3)","v":0},{"$f":"ROUND('Income Statement'!HOH12,3)","v":0},{"$f":"ROUND('Income Statement'!HOI12,3)","v":0},{"$f":"ROUND('Income Statement'!HOJ12,3)","v":0},{"$f":"ROUND('Income Statement'!HOK12,3)","v":0},{"$f":"ROUND('Income Statement'!HOL12,3)","v":0},{"$f":"ROUND('Income Statement'!HOM12,3)","v":0},{"$f":"ROUND('Income Statement'!HON12,3)","v":0},{"$f":"ROUND('Income Statement'!HOO12,3)","v":0},{"$f":"ROUND('Income Statement'!HOP12,3)","v":0},{"$f":"ROUND('Income Statement'!HOQ12,3)","v":0},{"$f":"ROUND('Income Statement'!HOR12,3)","v":0},{"$f":"ROUND('Income Statement'!HOS12,3)","v":0},{"$f":"ROUND('Income Statement'!HOT12,3)","v":0},{"$f":"ROUND('Income Statement'!HOU12,3)","v":0},{"$f":"ROUND('Income Statement'!HOV12,3)","v":0},{"$f":"ROUND('Income Statement'!HOW12,3)","v":0},{"$f":"ROUND('Income Statement'!HOX12,3)","v":0},{"$f":"ROUND('Income Statement'!HOY12,3)","v":0},{"$f":"ROUND('Income Statement'!HOZ12,3)","v":0},{"$f":"ROUND('Income Statement'!HPA12,3)","v":0},{"$f":"ROUND('Income Statement'!HPB12,3)","v":0},{"$f":"ROUND('Income Statement'!HPC12,3)","v":0},{"$f":"ROUND('Income Statement'!HPD12,3)","v":0},{"$f":"ROUND('Income Statement'!HPE12,3)","v":0},{"$f":"ROUND('Income Statement'!HPF12,3)","v":0},{"$f":"ROUND('Income Statement'!HPG12,3)","v":0},{"$f":"ROUND('Income Statement'!HPH12,3)","v":0},{"$f":"ROUND('Income Statement'!HPI12,3)","v":0},{"$f":"ROUND('Income Statement'!HPJ12,3)","v":0},{"$f":"ROUND('Income Statement'!HPK12,3)","v":0},{"$f":"ROUND('Income Statement'!HPL12,3)","v":0},{"$f":"ROUND('Income Statement'!HPM12,3)","v":0},{"$f":"ROUND('Income Statement'!HPN12,3)","v":0},{"$f":"ROUND('Income Statement'!HPO12,3)","v":0},{"$f":"ROUND('Income Statement'!HPP12,3)","v":0},{"$f":"ROUND('Income Statement'!HPQ12,3)","v":0},{"$f":"ROUND('Income Statement'!HPR12,3)","v":0},{"$f":"ROUND('Income Statement'!HPS12,3)","v":0},{"$f":"ROUND('Income Statement'!HPT12,3)","v":0},{"$f":"ROUND('Income Statement'!HPU12,3)","v":0},{"$f":"ROUND('Income Statement'!HPV12,3)","v":0},{"$f":"ROUND('Income Statement'!HPW12,3)","v":0},{"$f":"ROUND('Income Statement'!HPX12,3)","v":0},{"$f":"ROUND('Income Statement'!HPY12,3)","v":0},{"$f":"ROUND('Income Statement'!HPZ12,3)","v":0},{"$f":"ROUND('Income Statement'!HQA12,3)","v":0},{"$f":"ROUND('Income Statement'!HQB12,3)","v":0},{"$f":"ROUND('Income Statement'!HQC12,3)","v":0},{"$f":"ROUND('Income Statement'!HQD12,3)","v":0},{"$f":"ROUND('Income Statement'!HQE12,3)","v":0},{"$f":"ROUND('Income Statement'!HQF12,3)","v":0},{"$f":"ROUND('Income Statement'!HQG12,3)","v":0},{"$f":"ROUND('Income Statement'!HQH12,3)","v":0},{"$f":"ROUND('Income Statement'!HQI12,3)","v":0},{"$f":"ROUND('Income Statement'!HQJ12,3)","v":0},{"$f":"ROUND('Income Statement'!HQK12,3)","v":0},{"$f":"ROUND('Income Statement'!HQL12,3)","v":0},{"$f":"ROUND('Income Statement'!HQM12,3)","v":0},{"$f":"ROUND('Income Statement'!HQN12,3)","v":0},{"$f":"ROUND('Income Statement'!HQO12,3)","v":0},{"$f":"ROUND('Income Statement'!HQP12,3)","v":0},{"$f":"ROUND('Income Statement'!HQQ12,3)","v":0},{"$f":"ROUND('Income Statement'!HQR12,3)","v":0},{"$f":"ROUND('Income Statement'!HQS12,3)","v":0},{"$f":"ROUND('Income Statement'!HQT12,3)","v":0},{"$f":"ROUND('Income Statement'!HQU12,3)","v":0},{"$f":"ROUND('Income Statement'!HQV12,3)","v":0},{"$f":"ROUND('Income Statement'!HQW12,3)","v":0},{"$f":"ROUND('Income Statement'!HQX12,3)","v":0},{"$f":"ROUND('Income Statement'!HQY12,3)","v":0},{"$f":"ROUND('Income Statement'!HQZ12,3)","v":0},{"$f":"ROUND('Income Statement'!HRA12,3)","v":0},{"$f":"ROUND('Income Statement'!HRB12,3)","v":0},{"$f":"ROUND('Income Statement'!HRC12,3)","v":0},{"$f":"ROUND('Income Statement'!HRD12,3)","v":0},{"$f":"ROUND('Income Statement'!HRE12,3)","v":0},{"$f":"ROUND('Income Statement'!HRF12,3)","v":0},{"$f":"ROUND('Income Statement'!HRG12,3)","v":0},{"$f":"ROUND('Income Statement'!HRH12,3)","v":0},{"$f":"ROUND('Income Statement'!HRI12,3)","v":0},{"$f":"ROUND('Income Statement'!HRJ12,3)","v":0},{"$f":"ROUND('Income Statement'!HRK12,3)","v":0},{"$f":"ROUND('Income Statement'!HRL12,3)","v":0},{"$f":"ROUND('Income Statement'!HRM12,3)","v":0},{"$f":"ROUND('Income Statement'!HRN12,3)","v":0},{"$f":"ROUND('Income Statement'!HRO12,3)","v":0},{"$f":"ROUND('Income Statement'!HRP12,3)","v":0},{"$f":"ROUND('Income Statement'!HRQ12,3)","v":0},{"$f":"ROUND('Income Statement'!HRR12,3)","v":0},{"$f":"ROUND('Income Statement'!HRS12,3)","v":0},{"$f":"ROUND('Income Statement'!HRT12,3)","v":0},{"$f":"ROUND('Income Statement'!HRU12,3)","v":0},{"$f":"ROUND('Income Statement'!HRV12,3)","v":0},{"$f":"ROUND('Income Statement'!HRW12,3)","v":0},{"$f":"ROUND('Income Statement'!HRX12,3)","v":0},{"$f":"ROUND('Income Statement'!HRY12,3)","v":0},{"$f":"ROUND('Income Statement'!HRZ12,3)","v":0},{"$f":"ROUND('Income Statement'!HSA12,3)","v":0},{"$f":"ROUND('Income Statement'!HSB12,3)","v":0},{"$f":"ROUND('Income Statement'!HSC12,3)","v":0},{"$f":"ROUND('Income Statement'!HSD12,3)","v":0},{"$f":"ROUND('Income Statement'!HSE12,3)","v":0},{"$f":"ROUND('Income Statement'!HSF12,3)","v":0},{"$f":"ROUND('Income Statement'!HSG12,3)","v":0},{"$f":"ROUND('Income Statement'!HSH12,3)","v":0},{"$f":"ROUND('Income Statement'!HSI12,3)","v":0},{"$f":"ROUND('Income Statement'!HSJ12,3)","v":0},{"$f":"ROUND('Income Statement'!HSK12,3)","v":0},{"$f":"ROUND('Income Statement'!HSL12,3)","v":0},{"$f":"ROUND('Income Statement'!HSM12,3)","v":0},{"$f":"ROUND('Income Statement'!HSN12,3)","v":0},{"$f":"ROUND('Income Statement'!HSO12,3)","v":0},{"$f":"ROUND('Income Statement'!HSP12,3)","v":0},{"$f":"ROUND('Income Statement'!HSQ12,3)","v":0},{"$f":"ROUND('Income Statement'!HSR12,3)","v":0},{"$f":"ROUND('Income Statement'!HSS12,3)","v":0},{"$f":"ROUND('Income Statement'!HST12,3)","v":0},{"$f":"ROUND('Income Statement'!HSU12,3)","v":0},{"$f":"ROUND('Income Statement'!HSV12,3)","v":0},{"$f":"ROUND('Income Statement'!HSW12,3)","v":0},{"$f":"ROUND('Income Statement'!HSX12,3)","v":0},{"$f":"ROUND('Income Statement'!HSY12,3)","v":0},{"$f":"ROUND('Income Statement'!HSZ12,3)","v":0},{"$f":"ROUND('Income Statement'!HTA12,3)","v":0},{"$f":"ROUND('Income Statement'!HTB12,3)","v":0},{"$f":"ROUND('Income Statement'!HTC12,3)","v":0},{"$f":"ROUND('Income Statement'!HTD12,3)","v":0},{"$f":"ROUND('Income Statement'!HTE12,3)","v":0},{"$f":"ROUND('Income Statement'!HTF12,3)","v":0},{"$f":"ROUND('Income Statement'!HTG12,3)","v":0},{"$f":"ROUND('Income Statement'!HTH12,3)","v":0},{"$f":"ROUND('Income Statement'!HTI12,3)","v":0},{"$f":"ROUND('Income Statement'!HTJ12,3)","v":0},{"$f":"ROUND('Income Statement'!HTK12,3)","v":0},{"$f":"ROUND('Income Statement'!HTL12,3)","v":0},{"$f":"ROUND('Income Statement'!HTM12,3)","v":0},{"$f":"ROUND('Income Statement'!HTN12,3)","v":0},{"$f":"ROUND('Income Statement'!HTO12,3)","v":0},{"$f":"ROUND('Income Statement'!HTP12,3)","v":0},{"$f":"ROUND('Income Statement'!HTQ12,3)","v":0},{"$f":"ROUND('Income Statement'!HTR12,3)","v":0},{"$f":"ROUND('Income Statement'!HTS12,3)","v":0},{"$f":"ROUND('Income Statement'!HTT12,3)","v":0},{"$f":"ROUND('Income Statement'!HTU12,3)","v":0},{"$f":"ROUND('Income Statement'!HTV12,3)","v":0},{"$f":"ROUND('Income Statement'!HTW12,3)","v":0},{"$f":"ROUND('Income Statement'!HTX12,3)","v":0},{"$f":"ROUND('Income Statement'!HTY12,3)","v":0},{"$f":"ROUND('Income Statement'!HTZ12,3)","v":0},{"$f":"ROUND('Income Statement'!HUA12,3)","v":0},{"$f":"ROUND('Income Statement'!HUB12,3)","v":0},{"$f":"ROUND('Income Statement'!HUC12,3)","v":0},{"$f":"ROUND('Income Statement'!HUD12,3)","v":0},{"$f":"ROUND('Income Statement'!HUE12,3)","v":0},{"$f":"ROUND('Income Statement'!HUF12,3)","v":0},{"$f":"ROUND('Income Statement'!HUG12,3)","v":0},{"$f":"ROUND('Income Statement'!HUH12,3)","v":0},{"$f":"ROUND('Income Statement'!HUI12,3)","v":0},{"$f":"ROUND('Income Statement'!HUJ12,3)","v":0},{"$f":"ROUND('Income Statement'!HUK12,3)","v":0},{"$f":"ROUND('Income Statement'!HUL12,3)","v":0},{"$f":"ROUND('Income Statement'!HUM12,3)","v":0},{"$f":"ROUND('Income Statement'!HUN12,3)","v":0},{"$f":"ROUND('Income Statement'!HUO12,3)","v":0},{"$f":"ROUND('Income Statement'!HUP12,3)","v":0},{"$f":"ROUND('Income Statement'!HUQ12,3)","v":0},{"$f":"ROUND('Income Statement'!HUR12,3)","v":0},{"$f":"ROUND('Income Statement'!HUS12,3)","v":0},{"$f":"ROUND('Income Statement'!HUT12,3)","v":0},{"$f":"ROUND('Income Statement'!HUU12,3)","v":0},{"$f":"ROUND('Income Statement'!HUV12,3)","v":0},{"$f":"ROUND('Income Statement'!HUW12,3)","v":0},{"$f":"ROUND('Income Statement'!HUX12,3)","v":0},{"$f":"ROUND('Income Statement'!HUY12,3)","v":0},{"$f":"ROUND('Income Statement'!HUZ12,3)","v":0},{"$f":"ROUND('Income Statement'!HVA12,3)","v":0},{"$f":"ROUND('Income Statement'!HVB12,3)","v":0},{"$f":"ROUND('Income Statement'!HVC12,3)","v":0},{"$f":"ROUND('Income Statement'!HVD12,3)","v":0},{"$f":"ROUND('Income Statement'!HVE12,3)","v":0},{"$f":"ROUND('Income Statement'!HVF12,3)","v":0},{"$f":"ROUND('Income Statement'!HVG12,3)","v":0},{"$f":"ROUND('Income Statement'!HVH12,3)","v":0},{"$f":"ROUND('Income Statement'!HVI12,3)","v":0},{"$f":"ROUND('Income Statement'!HVJ12,3)","v":0},{"$f":"ROUND('Income Statement'!HVK12,3)","v":0},{"$f":"ROUND('Income Statement'!HVL12,3)","v":0},{"$f":"ROUND('Income Statement'!HVM12,3)","v":0},{"$f":"ROUND('Income Statement'!HVN12,3)","v":0},{"$f":"ROUND('Income Statement'!HVO12,3)","v":0},{"$f":"ROUND('Income Statement'!HVP12,3)","v":0},{"$f":"ROUND('Income Statement'!HVQ12,3)","v":0},{"$f":"ROUND('Income Statement'!HVR12,3)","v":0},{"$f":"ROUND('Income Statement'!HVS12,3)","v":0},{"$f":"ROUND('Income Statement'!HVT12,3)","v":0},{"$f":"ROUND('Income Statement'!HVU12,3)","v":0},{"$f":"ROUND('Income Statement'!HVV12,3)","v":0},{"$f":"ROUND('Income Statement'!HVW12,3)","v":0},{"$f":"ROUND('Income Statement'!HVX12,3)","v":0},{"$f":"ROUND('Income Statement'!HVY12,3)","v":0},{"$f":"ROUND('Income Statement'!HVZ12,3)","v":0},{"$f":"ROUND('Income Statement'!HWA12,3)","v":0},{"$f":"ROUND('Income Statement'!HWB12,3)","v":0},{"$f":"ROUND('Income Statement'!HWC12,3)","v":0},{"$f":"ROUND('Income Statement'!HWD12,3)","v":0},{"$f":"ROUND('Income Statement'!HWE12,3)","v":0},{"$f":"ROUND('Income Statement'!HWF12,3)","v":0},{"$f":"ROUND('Income Statement'!HWG12,3)","v":0},{"$f":"ROUND('Income Statement'!HWH12,3)","v":0},{"$f":"ROUND('Income Statement'!HWI12,3)","v":0},{"$f":"ROUND('Income Statement'!HWJ12,3)","v":0},{"$f":"ROUND('Income Statement'!HWK12,3)","v":0},{"$f":"ROUND('Income Statement'!HWL12,3)","v":0},{"$f":"ROUND('Income Statement'!HWM12,3)","v":0},{"$f":"ROUND('Income Statement'!HWN12,3)","v":0},{"$f":"ROUND('Income Statement'!HWO12,3)","v":0},{"$f":"ROUND('Income Statement'!HWP12,3)","v":0},{"$f":"ROUND('Income Statement'!HWQ12,3)","v":0},{"$f":"ROUND('Income Statement'!HWR12,3)","v":0},{"$f":"ROUND('Income Statement'!HWS12,3)","v":0},{"$f":"ROUND('Income Statement'!HWT12,3)","v":0},{"$f":"ROUND('Income Statement'!HWU12,3)","v":0},{"$f":"ROUND('Income Statement'!HWV12,3)","v":0},{"$f":"ROUND('Income Statement'!HWW12,3)","v":0},{"$f":"ROUND('Income Statement'!HWX12,3)","v":0},{"$f":"ROUND('Income Statement'!HWY12,3)","v":0},{"$f":"ROUND('Income Statement'!HWZ12,3)","v":0},{"$f":"ROUND('Income Statement'!HXA12,3)","v":0},{"$f":"ROUND('Income Statement'!HXB12,3)","v":0},{"$f":"ROUND('Income Statement'!HXC12,3)","v":0},{"$f":"ROUND('Income Statement'!HXD12,3)","v":0},{"$f":"ROUND('Income Statement'!HXE12,3)","v":0},{"$f":"ROUND('Income Statement'!HXF12,3)","v":0},{"$f":"ROUND('Income Statement'!HXG12,3)","v":0},{"$f":"ROUND('Income Statement'!HXH12,3)","v":0},{"$f":"ROUND('Income Statement'!HXI12,3)","v":0},{"$f":"ROUND('Income Statement'!HXJ12,3)","v":0},{"$f":"ROUND('Income Statement'!HXK12,3)","v":0},{"$f":"ROUND('Income Statement'!HXL12,3)","v":0},{"$f":"ROUND('Income Statement'!HXM12,3)","v":0},{"$f":"ROUND('Income Statement'!HXN12,3)","v":0},{"$f":"ROUND('Income Statement'!HXO12,3)","v":0},{"$f":"ROUND('Income Statement'!HXP12,3)","v":0},{"$f":"ROUND('Income Statement'!HXQ12,3)","v":0},{"$f":"ROUND('Income Statement'!HXR12,3)","v":0},{"$f":"ROUND('Income Statement'!HXS12,3)","v":0},{"$f":"ROUND('Income Statement'!HXT12,3)","v":0},{"$f":"ROUND('Income Statement'!HXU12,3)","v":0},{"$f":"ROUND('Income Statement'!HXV12,3)","v":0},{"$f":"ROUND('Income Statement'!HXW12,3)","v":0},{"$f":"ROUND('Income Statement'!HXX12,3)","v":0},{"$f":"ROUND('Income Statement'!HXY12,3)","v":0},{"$f":"ROUND('Income Statement'!HXZ12,3)","v":0},{"$f":"ROUND('Income Statement'!HYA12,3)","v":0},{"$f":"ROUND('Income Statement'!HYB12,3)","v":0},{"$f":"ROUND('Income Statement'!HYC12,3)","v":0},{"$f":"ROUND('Income Statement'!HYD12,3)","v":0},{"$f":"ROUND('Income Statement'!HYE12,3)","v":0},{"$f":"ROUND('Income Statement'!HYF12,3)","v":0},{"$f":"ROUND('Income Statement'!HYG12,3)","v":0},{"$f":"ROUND('Income Statement'!HYH12,3)","v":0},{"$f":"ROUND('Income Statement'!HYI12,3)","v":0},{"$f":"ROUND('Income Statement'!HYJ12,3)","v":0},{"$f":"ROUND('Income Statement'!HYK12,3)","v":0},{"$f":"ROUND('Income Statement'!HYL12,3)","v":0},{"$f":"ROUND('Income Statement'!HYM12,3)","v":0},{"$f":"ROUND('Income Statement'!HYN12,3)","v":0},{"$f":"ROUND('Income Statement'!HYO12,3)","v":0},{"$f":"ROUND('Income Statement'!HYP12,3)","v":0},{"$f":"ROUND('Income Statement'!HYQ12,3)","v":0},{"$f":"ROUND('Income Statement'!HYR12,3)","v":0},{"$f":"ROUND('Income Statement'!HYS12,3)","v":0},{"$f":"ROUND('Income Statement'!HYT12,3)","v":0},{"$f":"ROUND('Income Statement'!HYU12,3)","v":0},{"$f":"ROUND('Income Statement'!HYV12,3)","v":0},{"$f":"ROUND('Income Statement'!HYW12,3)","v":0},{"$f":"ROUND('Income Statement'!HYX12,3)","v":0},{"$f":"ROUND('Income Statement'!HYY12,3)","v":0},{"$f":"ROUND('Income Statement'!HYZ12,3)","v":0},{"$f":"ROUND('Income Statement'!HZA12,3)","v":0},{"$f":"ROUND('Income Statement'!HZB12,3)","v":0},{"$f":"ROUND('Income Statement'!HZC12,3)","v":0},{"$f":"ROUND('Income Statement'!HZD12,3)","v":0},{"$f":"ROUND('Income Statement'!HZE12,3)","v":0},{"$f":"ROUND('Income Statement'!HZF12,3)","v":0},{"$f":"ROUND('Income Statement'!HZG12,3)","v":0},{"$f":"ROUND('Income Statement'!HZH12,3)","v":0},{"$f":"ROUND('Income Statement'!HZI12,3)","v":0},{"$f":"ROUND('Income Statement'!HZJ12,3)","v":0},{"$f":"ROUND('Income Statement'!HZK12,3)","v":0},{"$f":"ROUND('Income Statement'!HZL12,3)","v":0},{"$f":"ROUND('Income Statement'!HZM12,3)","v":0},{"$f":"ROUND('Income Statement'!HZN12,3)","v":0},{"$f":"ROUND('Income Statement'!HZO12,3)","v":0},{"$f":"ROUND('Income Statement'!HZP12,3)","v":0},{"$f":"ROUND('Income Statement'!HZQ12,3)","v":0},{"$f":"ROUND('Income Statement'!HZR12,3)","v":0},{"$f":"ROUND('Income Statement'!HZS12,3)","v":0},{"$f":"ROUND('Income Statement'!HZT12,3)","v":0},{"$f":"ROUND('Income Statement'!HZU12,3)","v":0},{"$f":"ROUND('Income Statement'!HZV12,3)","v":0},{"$f":"ROUND('Income Statement'!HZW12,3)","v":0},{"$f":"ROUND('Income Statement'!HZX12,3)","v":0},{"$f":"ROUND('Income Statement'!HZY12,3)","v":0},{"$f":"ROUND('Income Statement'!HZZ12,3)","v":0},{"$f":"ROUND('Income Statement'!IAA12,3)","v":0},{"$f":"ROUND('Income Statement'!IAB12,3)","v":0},{"$f":"ROUND('Income Statement'!IAC12,3)","v":0},{"$f":"ROUND('Income Statement'!IAD12,3)","v":0},{"$f":"ROUND('Income Statement'!IAE12,3)","v":0},{"$f":"ROUND('Income Statement'!IAF12,3)","v":0},{"$f":"ROUND('Income Statement'!IAG12,3)","v":0},{"$f":"ROUND('Income Statement'!IAH12,3)","v":0},{"$f":"ROUND('Income Statement'!IAI12,3)","v":0},{"$f":"ROUND('Income Statement'!IAJ12,3)","v":0},{"$f":"ROUND('Income Statement'!IAK12,3)","v":0},{"$f":"ROUND('Income Statement'!IAL12,3)","v":0},{"$f":"ROUND('Income Statement'!IAM12,3)","v":0},{"$f":"ROUND('Income Statement'!IAN12,3)","v":0},{"$f":"ROUND('Income Statement'!IAO12,3)","v":0},{"$f":"ROUND('Income Statement'!IAP12,3)","v":0},{"$f":"ROUND('Income Statement'!IAQ12,3)","v":0},{"$f":"ROUND('Income Statement'!IAR12,3)","v":0},{"$f":"ROUND('Income Statement'!IAS12,3)","v":0},{"$f":"ROUND('Income Statement'!IAT12,3)","v":0},{"$f":"ROUND('Income Statement'!IAU12,3)","v":0},{"$f":"ROUND('Income Statement'!IAV12,3)","v":0},{"$f":"ROUND('Income Statement'!IAW12,3)","v":0},{"$f":"ROUND('Income Statement'!IAX12,3)","v":0},{"$f":"ROUND('Income Statement'!IAY12,3)","v":0},{"$f":"ROUND('Income Statement'!IAZ12,3)","v":0},{"$f":"ROUND('Income Statement'!IBA12,3)","v":0},{"$f":"ROUND('Income Statement'!IBB12,3)","v":0},{"$f":"ROUND('Income Statement'!IBC12,3)","v":0},{"$f":"ROUND('Income Statement'!IBD12,3)","v":0},{"$f":"ROUND('Income Statement'!IBE12,3)","v":0},{"$f":"ROUND('Income Statement'!IBF12,3)","v":0},{"$f":"ROUND('Income Statement'!IBG12,3)","v":0},{"$f":"ROUND('Income Statement'!IBH12,3)","v":0},{"$f":"ROUND('Income Statement'!IBI12,3)","v":0},{"$f":"ROUND('Income Statement'!IBJ12,3)","v":0},{"$f":"ROUND('Income Statement'!IBK12,3)","v":0},{"$f":"ROUND('Income Statement'!IBL12,3)","v":0},{"$f":"ROUND('Income Statement'!IBM12,3)","v":0},{"$f":"ROUND('Income Statement'!IBN12,3)","v":0},{"$f":"ROUND('Income Statement'!IBO12,3)","v":0},{"$f":"ROUND('Income Statement'!IBP12,3)","v":0},{"$f":"ROUND('Income Statement'!IBQ12,3)","v":0},{"$f":"ROUND('Income Statement'!IBR12,3)","v":0},{"$f":"ROUND('Income Statement'!IBS12,3)","v":0},{"$f":"ROUND('Income Statement'!IBT12,3)","v":0},{"$f":"ROUND('Income Statement'!IBU12,3)","v":0},{"$f":"ROUND('Income Statement'!IBV12,3)","v":0},{"$f":"ROUND('Income Statement'!IBW12,3)","v":0},{"$f":"ROUND('Income Statement'!IBX12,3)","v":0},{"$f":"ROUND('Income Statement'!IBY12,3)","v":0},{"$f":"ROUND('Income Statement'!IBZ12,3)","v":0},{"$f":"ROUND('Income Statement'!ICA12,3)","v":0},{"$f":"ROUND('Income Statement'!ICB12,3)","v":0},{"$f":"ROUND('Income Statement'!ICC12,3)","v":0},{"$f":"ROUND('Income Statement'!ICD12,3)","v":0},{"$f":"ROUND('Income Statement'!ICE12,3)","v":0},{"$f":"ROUND('Income Statement'!ICF12,3)","v":0},{"$f":"ROUND('Income Statement'!ICG12,3)","v":0},{"$f":"ROUND('Income Statement'!ICH12,3)","v":0},{"$f":"ROUND('Income Statement'!ICI12,3)","v":0},{"$f":"ROUND('Income Statement'!ICJ12,3)","v":0},{"$f":"ROUND('Income Statement'!ICK12,3)","v":0},{"$f":"ROUND('Income Statement'!ICL12,3)","v":0},{"$f":"ROUND('Income Statement'!ICM12,3)","v":0},{"$f":"ROUND('Income Statement'!ICN12,3)","v":0},{"$f":"ROUND('Income Statement'!ICO12,3)","v":0},{"$f":"ROUND('Income Statement'!ICP12,3)","v":0},{"$f":"ROUND('Income Statement'!ICQ12,3)","v":0},{"$f":"ROUND('Income Statement'!ICR12,3)","v":0},{"$f":"ROUND('Income Statement'!ICS12,3)","v":0},{"$f":"ROUND('Income Statement'!ICT12,3)","v":0},{"$f":"ROUND('Income Statement'!ICU12,3)","v":0},{"$f":"ROUND('Income Statement'!ICV12,3)","v":0},{"$f":"ROUND('Income Statement'!ICW12,3)","v":0},{"$f":"ROUND('Income Statement'!ICX12,3)","v":0},{"$f":"ROUND('Income Statement'!ICY12,3)","v":0},{"$f":"ROUND('Income Statement'!ICZ12,3)","v":0},{"$f":"ROUND('Income Statement'!IDA12,3)","v":0},{"$f":"ROUND('Income Statement'!IDB12,3)","v":0},{"$f":"ROUND('Income Statement'!IDC12,3)","v":0},{"$f":"ROUND('Income Statement'!IDD12,3)","v":0},{"$f":"ROUND('Income Statement'!IDE12,3)","v":0},{"$f":"ROUND('Income Statement'!IDF12,3)","v":0},{"$f":"ROUND('Income Statement'!IDG12,3)","v":0},{"$f":"ROUND('Income Statement'!IDH12,3)","v":0},{"$f":"ROUND('Income Statement'!IDI12,3)","v":0},{"$f":"ROUND('Income Statement'!IDJ12,3)","v":0},{"$f":"ROUND('Income Statement'!IDK12,3)","v":0},{"$f":"ROUND('Income Statement'!IDL12,3)","v":0},{"$f":"ROUND('Income Statement'!IDM12,3)","v":0},{"$f":"ROUND('Income Statement'!IDN12,3)","v":0},{"$f":"ROUND('Income Statement'!IDO12,3)","v":0},{"$f":"ROUND('Income Statement'!IDP12,3)","v":0},{"$f":"ROUND('Income Statement'!IDQ12,3)","v":0},{"$f":"ROUND('Income Statement'!IDR12,3)","v":0},{"$f":"ROUND('Income Statement'!IDS12,3)","v":0},{"$f":"ROUND('Income Statement'!IDT12,3)","v":0},{"$f":"ROUND('Income Statement'!IDU12,3)","v":0},{"$f":"ROUND('Income Statement'!IDV12,3)","v":0},{"$f":"ROUND('Income Statement'!IDW12,3)","v":0},{"$f":"ROUND('Income Statement'!IDX12,3)","v":0},{"$f":"ROUND('Income Statement'!IDY12,3)","v":0},{"$f":"ROUND('Income Statement'!IDZ12,3)","v":0},{"$f":"ROUND('Income Statement'!IEA12,3)","v":0},{"$f":"ROUND('Income Statement'!IEB12,3)","v":0},{"$f":"ROUND('Income Statement'!IEC12,3)","v":0},{"$f":"ROUND('Income Statement'!IED12,3)","v":0},{"$f":"ROUND('Income Statement'!IEE12,3)","v":0},{"$f":"ROUND('Income Statement'!IEF12,3)","v":0},{"$f":"ROUND('Income Statement'!IEG12,3)","v":0},{"$f":"ROUND('Income Statement'!IEH12,3)","v":0},{"$f":"ROUND('Income Statement'!IEI12,3)","v":0},{"$f":"ROUND('Income Statement'!IEJ12,3)","v":0},{"$f":"ROUND('Income Statement'!IEK12,3)","v":0},{"$f":"ROUND('Income Statement'!IEL12,3)","v":0},{"$f":"ROUND('Income Statement'!IEM12,3)","v":0},{"$f":"ROUND('Income Statement'!IEN12,3)","v":0},{"$f":"ROUND('Income Statement'!IEO12,3)","v":0},{"$f":"ROUND('Income Statement'!IEP12,3)","v":0},{"$f":"ROUND('Income Statement'!IEQ12,3)","v":0},{"$f":"ROUND('Income Statement'!IER12,3)","v":0},{"$f":"ROUND('Income Statement'!IES12,3)","v":0},{"$f":"ROUND('Income Statement'!IET12,3)","v":0},{"$f":"ROUND('Income Statement'!IEU12,3)","v":0},{"$f":"ROUND('Income Statement'!IEV12,3)","v":0},{"$f":"ROUND('Income Statement'!IEW12,3)","v":0},{"$f":"ROUND('Income Statement'!IEX12,3)","v":0},{"$f":"ROUND('Income Statement'!IEY12,3)","v":0},{"$f":"ROUND('Income Statement'!IEZ12,3)","v":0},{"$f":"ROUND('Income Statement'!IFA12,3)","v":0},{"$f":"ROUND('Income Statement'!IFB12,3)","v":0},{"$f":"ROUND('Income Statement'!IFC12,3)","v":0},{"$f":"ROUND('Income Statement'!IFD12,3)","v":0},{"$f":"ROUND('Income Statement'!IFE12,3)","v":0},{"$f":"ROUND('Income Statement'!IFF12,3)","v":0},{"$f":"ROUND('Income Statement'!IFG12,3)","v":0},{"$f":"ROUND('Income Statement'!IFH12,3)","v":0},{"$f":"ROUND('Income Statement'!IFI12,3)","v":0},{"$f":"ROUND('Income Statement'!IFJ12,3)","v":0},{"$f":"ROUND('Income Statement'!IFK12,3)","v":0},{"$f":"ROUND('Income Statement'!IFL12,3)","v":0},{"$f":"ROUND('Income Statement'!IFM12,3)","v":0},{"$f":"ROUND('Income Statement'!IFN12,3)","v":0},{"$f":"ROUND('Income Statement'!IFO12,3)","v":0},{"$f":"ROUND('Income Statement'!IFP12,3)","v":0},{"$f":"ROUND('Income Statement'!IFQ12,3)","v":0},{"$f":"ROUND('Income Statement'!IFR12,3)","v":0},{"$f":"ROUND('Income Statement'!IFS12,3)","v":0},{"$f":"ROUND('Income Statement'!IFT12,3)","v":0},{"$f":"ROUND('Income Statement'!IFU12,3)","v":0},{"$f":"ROUND('Income Statement'!IFV12,3)","v":0},{"$f":"ROUND('Income Statement'!IFW12,3)","v":0},{"$f":"ROUND('Income Statement'!IFX12,3)","v":0},{"$f":"ROUND('Income Statement'!IFY12,3)","v":0},{"$f":"ROUND('Income Statement'!IFZ12,3)","v":0},{"$f":"ROUND('Income Statement'!IGA12,3)","v":0},{"$f":"ROUND('Income Statement'!IGB12,3)","v":0},{"$f":"ROUND('Income Statement'!IGC12,3)","v":0},{"$f":"ROUND('Income Statement'!IGD12,3)","v":0},{"$f":"ROUND('Income Statement'!IGE12,3)","v":0},{"$f":"ROUND('Income Statement'!IGF12,3)","v":0},{"$f":"ROUND('Income Statement'!IGG12,3)","v":0},{"$f":"ROUND('Income Statement'!IGH12,3)","v":0},{"$f":"ROUND('Income Statement'!IGI12,3)","v":0},{"$f":"ROUND('Income Statement'!IGJ12,3)","v":0},{"$f":"ROUND('Income Statement'!IGK12,3)","v":0},{"$f":"ROUND('Income Statement'!IGL12,3)","v":0},{"$f":"ROUND('Income Statement'!IGM12,3)","v":0},{"$f":"ROUND('Income Statement'!IGN12,3)","v":0},{"$f":"ROUND('Income Statement'!IGO12,3)","v":0},{"$f":"ROUND('Income Statement'!IGP12,3)","v":0},{"$f":"ROUND('Income Statement'!IGQ12,3)","v":0},{"$f":"ROUND('Income Statement'!IGR12,3)","v":0},{"$f":"ROUND('Income Statement'!IGS12,3)","v":0},{"$f":"ROUND('Income Statement'!IGT12,3)","v":0},{"$f":"ROUND('Income Statement'!IGU12,3)","v":0},{"$f":"ROUND('Income Statement'!IGV12,3)","v":0},{"$f":"ROUND('Income Statement'!IGW12,3)","v":0},{"$f":"ROUND('Income Statement'!IGX12,3)","v":0},{"$f":"ROUND('Income Statement'!IGY12,3)","v":0},{"$f":"ROUND('Income Statement'!IGZ12,3)","v":0},{"$f":"ROUND('Income Statement'!IHA12,3)","v":0},{"$f":"ROUND('Income Statement'!IHB12,3)","v":0},{"$f":"ROUND('Income Statement'!IHC12,3)","v":0},{"$f":"ROUND('Income Statement'!IHD12,3)","v":0},{"$f":"ROUND('Income Statement'!IHE12,3)","v":0},{"$f":"ROUND('Income Statement'!IHF12,3)","v":0},{"$f":"ROUND('Income Statement'!IHG12,3)","v":0},{"$f":"ROUND('Income Statement'!IHH12,3)","v":0},{"$f":"ROUND('Income Statement'!IHI12,3)","v":0},{"$f":"ROUND('Income Statement'!IHJ12,3)","v":0},{"$f":"ROUND('Income Statement'!IHK12,3)","v":0},{"$f":"ROUND('Income Statement'!IHL12,3)","v":0},{"$f":"ROUND('Income Statement'!IHM12,3)","v":0},{"$f":"ROUND('Income Statement'!IHN12,3)","v":0},{"$f":"ROUND('Income Statement'!IHO12,3)","v":0},{"$f":"ROUND('Income Statement'!IHP12,3)","v":0},{"$f":"ROUND('Income Statement'!IHQ12,3)","v":0},{"$f":"ROUND('Income Statement'!IHR12,3)","v":0},{"$f":"ROUND('Income Statement'!IHS12,3)","v":0},{"$f":"ROUND('Income Statement'!IHT12,3)","v":0},{"$f":"ROUND('Income Statement'!IHU12,3)","v":0},{"$f":"ROUND('Income Statement'!IHV12,3)","v":0},{"$f":"ROUND('Income Statement'!IHW12,3)","v":0},{"$f":"ROUND('Income Statement'!IHX12,3)","v":0},{"$f":"ROUND('Income Statement'!IHY12,3)","v":0},{"$f":"ROUND('Income Statement'!IHZ12,3)","v":0},{"$f":"ROUND('Income Statement'!IIA12,3)","v":0},{"$f":"ROUND('Income Statement'!IIB12,3)","v":0},{"$f":"ROUND('Income Statement'!IIC12,3)","v":0},{"$f":"ROUND('Income Statement'!IID12,3)","v":0},{"$f":"ROUND('Income Statement'!IIE12,3)","v":0},{"$f":"ROUND('Income Statement'!IIF12,3)","v":0},{"$f":"ROUND('Income Statement'!IIG12,3)","v":0},{"$f":"ROUND('Income Statement'!IIH12,3)","v":0},{"$f":"ROUND('Income Statement'!III12,3)","v":0},{"$f":"ROUND('Income Statement'!IIJ12,3)","v":0},{"$f":"ROUND('Income Statement'!IIK12,3)","v":0},{"$f":"ROUND('Income Statement'!IIL12,3)","v":0},{"$f":"ROUND('Income Statement'!IIM12,3)","v":0},{"$f":"ROUND('Income Statement'!IIN12,3)","v":0},{"$f":"ROUND('Income Statement'!IIO12,3)","v":0},{"$f":"ROUND('Income Statement'!IIP12,3)","v":0},{"$f":"ROUND('Income Statement'!IIQ12,3)","v":0},{"$f":"ROUND('Income Statement'!IIR12,3)","v":0},{"$f":"ROUND('Income Statement'!IIS12,3)","v":0},{"$f":"ROUND('Income Statement'!IIT12,3)","v":0},{"$f":"ROUND('Income Statement'!IIU12,3)","v":0},{"$f":"ROUND('Income Statement'!IIV12,3)","v":0},{"$f":"ROUND('Income Statement'!IIW12,3)","v":0},{"$f":"ROUND('Income Statement'!IIX12,3)","v":0},{"$f":"ROUND('Income Statement'!IIY12,3)","v":0},{"$f":"ROUND('Income Statement'!IIZ12,3)","v":0},{"$f":"ROUND('Income Statement'!IJA12,3)","v":0},{"$f":"ROUND('Income Statement'!IJB12,3)","v":0},{"$f":"ROUND('Income Statement'!IJC12,3)","v":0},{"$f":"ROUND('Income Statement'!IJD12,3)","v":0},{"$f":"ROUND('Income Statement'!IJE12,3)","v":0},{"$f":"ROUND('Income Statement'!IJF12,3)","v":0},{"$f":"ROUND('Income Statement'!IJG12,3)","v":0},{"$f":"ROUND('Income Statement'!IJH12,3)","v":0},{"$f":"ROUND('Income Statement'!IJI12,3)","v":0},{"$f":"ROUND('Income Statement'!IJJ12,3)","v":0},{"$f":"ROUND('Income Statement'!IJK12,3)","v":0},{"$f":"ROUND('Income Statement'!IJL12,3)","v":0},{"$f":"ROUND('Income Statement'!IJM12,3)","v":0},{"$f":"ROUND('Income Statement'!IJN12,3)","v":0},{"$f":"ROUND('Income Statement'!IJO12,3)","v":0},{"$f":"ROUND('Income Statement'!IJP12,3)","v":0},{"$f":"ROUND('Income Statement'!IJQ12,3)","v":0},{"$f":"ROUND('Income Statement'!IJR12,3)","v":0},{"$f":"ROUND('Income Statement'!IJS12,3)","v":0},{"$f":"ROUND('Income Statement'!IJT12,3)","v":0},{"$f":"ROUND('Income Statement'!IJU12,3)","v":0},{"$f":"ROUND('Income Statement'!IJV12,3)","v":0},{"$f":"ROUND('Income Statement'!IJW12,3)","v":0},{"$f":"ROUND('Income Statement'!IJX12,3)","v":0},{"$f":"ROUND('Income Statement'!IJY12,3)","v":0},{"$f":"ROUND('Income Statement'!IJZ12,3)","v":0},{"$f":"ROUND('Income Statement'!IKA12,3)","v":0},{"$f":"ROUND('Income Statement'!IKB12,3)","v":0},{"$f":"ROUND('Income Statement'!IKC12,3)","v":0},{"$f":"ROUND('Income Statement'!IKD12,3)","v":0},{"$f":"ROUND('Income Statement'!IKE12,3)","v":0},{"$f":"ROUND('Income Statement'!IKF12,3)","v":0},{"$f":"ROUND('Income Statement'!IKG12,3)","v":0},{"$f":"ROUND('Income Statement'!IKH12,3)","v":0},{"$f":"ROUND('Income Statement'!IKI12,3)","v":0},{"$f":"ROUND('Income Statement'!IKJ12,3)","v":0},{"$f":"ROUND('Income Statement'!IKK12,3)","v":0},{"$f":"ROUND('Income Statement'!IKL12,3)","v":0},{"$f":"ROUND('Income Statement'!IKM12,3)","v":0},{"$f":"ROUND('Income Statement'!IKN12,3)","v":0},{"$f":"ROUND('Income Statement'!IKO12,3)","v":0},{"$f":"ROUND('Income Statement'!IKP12,3)","v":0},{"$f":"ROUND('Income Statement'!IKQ12,3)","v":0},{"$f":"ROUND('Income Statement'!IKR12,3)","v":0},{"$f":"ROUND('Income Statement'!IKS12,3)","v":0},{"$f":"ROUND('Income Statement'!IKT12,3)","v":0},{"$f":"ROUND('Income Statement'!IKU12,3)","v":0},{"$f":"ROUND('Income Statement'!IKV12,3)","v":0},{"$f":"ROUND('Income Statement'!IKW12,3)","v":0},{"$f":"ROUND('Income Statement'!IKX12,3)","v":0},{"$f":"ROUND('Income Statement'!IKY12,3)","v":0},{"$f":"ROUND('Income Statement'!IKZ12,3)","v":0},{"$f":"ROUND('Income Statement'!ILA12,3)","v":0},{"$f":"ROUND('Income Statement'!ILB12,3)","v":0},{"$f":"ROUND('Income Statement'!ILC12,3)","v":0},{"$f":"ROUND('Income Statement'!ILD12,3)","v":0},{"$f":"ROUND('Income Statement'!ILE12,3)","v":0},{"$f":"ROUND('Income Statement'!ILF12,3)","v":0},{"$f":"ROUND('Income Statement'!ILG12,3)","v":0},{"$f":"ROUND('Income Statement'!ILH12,3)","v":0},{"$f":"ROUND('Income Statement'!ILI12,3)","v":0},{"$f":"ROUND('Income Statement'!ILJ12,3)","v":0},{"$f":"ROUND('Income Statement'!ILK12,3)","v":0},{"$f":"ROUND('Income Statement'!ILL12,3)","v":0},{"$f":"ROUND('Income Statement'!ILM12,3)","v":0},{"$f":"ROUND('Income Statement'!ILN12,3)","v":0},{"$f":"ROUND('Income Statement'!ILO12,3)","v":0},{"$f":"ROUND('Income Statement'!ILP12,3)","v":0},{"$f":"ROUND('Income Statement'!ILQ12,3)","v":0},{"$f":"ROUND('Income Statement'!ILR12,3)","v":0},{"$f":"ROUND('Income Statement'!ILS12,3)","v":0},{"$f":"ROUND('Income Statement'!ILT12,3)","v":0},{"$f":"ROUND('Income Statement'!ILU12,3)","v":0},{"$f":"ROUND('Income Statement'!ILV12,3)","v":0},{"$f":"ROUND('Income Statement'!ILW12,3)","v":0},{"$f":"ROUND('Income Statement'!ILX12,3)","v":0},{"$f":"ROUND('Income Statement'!ILY12,3)","v":0},{"$f":"ROUND('Income Statement'!ILZ12,3)","v":0},{"$f":"ROUND('Income Statement'!IMA12,3)","v":0},{"$f":"ROUND('Income Statement'!IMB12,3)","v":0},{"$f":"ROUND('Income Statement'!IMC12,3)","v":0},{"$f":"ROUND('Income Statement'!IMD12,3)","v":0},{"$f":"ROUND('Income Statement'!IME12,3)","v":0},{"$f":"ROUND('Income Statement'!IMF12,3)","v":0},{"$f":"ROUND('Income Statement'!IMG12,3)","v":0},{"$f":"ROUND('Income Statement'!IMH12,3)","v":0},{"$f":"ROUND('Income Statement'!IMI12,3)","v":0},{"$f":"ROUND('Income Statement'!IMJ12,3)","v":0},{"$f":"ROUND('Income Statement'!IMK12,3)","v":0},{"$f":"ROUND('Income Statement'!IML12,3)","v":0},{"$f":"ROUND('Income Statement'!IMM12,3)","v":0},{"$f":"ROUND('Income Statement'!IMN12,3)","v":0},{"$f":"ROUND('Income Statement'!IMO12,3)","v":0},{"$f":"ROUND('Income Statement'!IMP12,3)","v":0},{"$f":"ROUND('Income Statement'!IMQ12,3)","v":0},{"$f":"ROUND('Income Statement'!IMR12,3)","v":0},{"$f":"ROUND('Income Statement'!IMS12,3)","v":0},{"$f":"ROUND('Income Statement'!IMT12,3)","v":0},{"$f":"ROUND('Income Statement'!IMU12,3)","v":0},{"$f":"ROUND('Income Statement'!IMV12,3)","v":0},{"$f":"ROUND('Income Statement'!IMW12,3)","v":0},{"$f":"ROUND('Income Statement'!IMX12,3)","v":0},{"$f":"ROUND('Income Statement'!IMY12,3)","v":0},{"$f":"ROUND('Income Statement'!IMZ12,3)","v":0},{"$f":"ROUND('Income Statement'!INA12,3)","v":0},{"$f":"ROUND('Income Statement'!INB12,3)","v":0},{"$f":"ROUND('Income Statement'!INC12,3)","v":0},{"$f":"ROUND('Income Statement'!IND12,3)","v":0},{"$f":"ROUND('Income Statement'!INE12,3)","v":0},{"$f":"ROUND('Income Statement'!INF12,3)","v":0},{"$f":"ROUND('Income Statement'!ING12,3)","v":0},{"$f":"ROUND('Income Statement'!INH12,3)","v":0},{"$f":"ROUND('Income Statement'!INI12,3)","v":0},{"$f":"ROUND('Income Statement'!INJ12,3)","v":0},{"$f":"ROUND('Income Statement'!INK12,3)","v":0},{"$f":"ROUND('Income Statement'!INL12,3)","v":0},{"$f":"ROUND('Income Statement'!INM12,3)","v":0},{"$f":"ROUND('Income Statement'!INN12,3)","v":0},{"$f":"ROUND('Income Statement'!INO12,3)","v":0},{"$f":"ROUND('Income Statement'!INP12,3)","v":0},{"$f":"ROUND('Income Statement'!INQ12,3)","v":0},{"$f":"ROUND('Income Statement'!INR12,3)","v":0},{"$f":"ROUND('Income Statement'!INS12,3)","v":0},{"$f":"ROUND('Income Statement'!INT12,3)","v":0},{"$f":"ROUND('Income Statement'!INU12,3)","v":0},{"$f":"ROUND('Income Statement'!INV12,3)","v":0},{"$f":"ROUND('Income Statement'!INW12,3)","v":0},{"$f":"ROUND('Income Statement'!INX12,3)","v":0},{"$f":"ROUND('Income Statement'!INY12,3)","v":0},{"$f":"ROUND('Income Statement'!INZ12,3)","v":0},{"$f":"ROUND('Income Statement'!IOA12,3)","v":0},{"$f":"ROUND('Income Statement'!IOB12,3)","v":0},{"$f":"ROUND('Income Statement'!IOC12,3)","v":0},{"$f":"ROUND('Income Statement'!IOD12,3)","v":0},{"$f":"ROUND('Income Statement'!IOE12,3)","v":0},{"$f":"ROUND('Income Statement'!IOF12,3)","v":0},{"$f":"ROUND('Income Statement'!IOG12,3)","v":0},{"$f":"ROUND('Income Statement'!IOH12,3)","v":0},{"$f":"ROUND('Income Statement'!IOI12,3)","v":0},{"$f":"ROUND('Income Statement'!IOJ12,3)","v":0},{"$f":"ROUND('Income Statement'!IOK12,3)","v":0},{"$f":"ROUND('Income Statement'!IOL12,3)","v":0},{"$f":"ROUND('Income Statement'!IOM12,3)","v":0},{"$f":"ROUND('Income Statement'!ION12,3)","v":0},{"$f":"ROUND('Income Statement'!IOO12,3)","v":0},{"$f":"ROUND('Income Statement'!IOP12,3)","v":0},{"$f":"ROUND('Income Statement'!IOQ12,3)","v":0},{"$f":"ROUND('Income Statement'!IOR12,3)","v":0},{"$f":"ROUND('Income Statement'!IOS12,3)","v":0},{"$f":"ROUND('Income Statement'!IOT12,3)","v":0},{"$f":"ROUND('Income Statement'!IOU12,3)","v":0},{"$f":"ROUND('Income Statement'!IOV12,3)","v":0},{"$f":"ROUND('Income Statement'!IOW12,3)","v":0},{"$f":"ROUND('Income Statement'!IOX12,3)","v":0},{"$f":"ROUND('Income Statement'!IOY12,3)","v":0},{"$f":"ROUND('Income Statement'!IOZ12,3)","v":0},{"$f":"ROUND('Income Statement'!IPA12,3)","v":0},{"$f":"ROUND('Income Statement'!IPB12,3)","v":0},{"$f":"ROUND('Income Statement'!IPC12,3)","v":0},{"$f":"ROUND('Income Statement'!IPD12,3)","v":0},{"$f":"ROUND('Income Statement'!IPE12,3)","v":0},{"$f":"ROUND('Income Statement'!IPF12,3)","v":0},{"$f":"ROUND('Income Statement'!IPG12,3)","v":0},{"$f":"ROUND('Income Statement'!IPH12,3)","v":0},{"$f":"ROUND('Income Statement'!IPI12,3)","v":0},{"$f":"ROUND('Income Statement'!IPJ12,3)","v":0},{"$f":"ROUND('Income Statement'!IPK12,3)","v":0},{"$f":"ROUND('Income Statement'!IPL12,3)","v":0},{"$f":"ROUND('Income Statement'!IPM12,3)","v":0},{"$f":"ROUND('Income Statement'!IPN12,3)","v":0},{"$f":"ROUND('Income Statement'!IPO12,3)","v":0},{"$f":"ROUND('Income Statement'!IPP12,3)","v":0},{"$f":"ROUND('Income Statement'!IPQ12,3)","v":0},{"$f":"ROUND('Income Statement'!IPR12,3)","v":0},{"$f":"ROUND('Income Statement'!IPS12,3)","v":0},{"$f":"ROUND('Income Statement'!IPT12,3)","v":0},{"$f":"ROUND('Income Statement'!IPU12,3)","v":0},{"$f":"ROUND('Income Statement'!IPV12,3)","v":0},{"$f":"ROUND('Income Statement'!IPW12,3)","v":0},{"$f":"ROUND('Income Statement'!IPX12,3)","v":0},{"$f":"ROUND('Income Statement'!IPY12,3)","v":0},{"$f":"ROUND('Income Statement'!IPZ12,3)","v":0},{"$f":"ROUND('Income Statement'!IQA12,3)","v":0},{"$f":"ROUND('Income Statement'!IQB12,3)","v":0},{"$f":"ROUND('Income Statement'!IQC12,3)","v":0},{"$f":"ROUND('Income Statement'!IQD12,3)","v":0},{"$f":"ROUND('Income Statement'!IQE12,3)","v":0},{"$f":"ROUND('Income Statement'!IQF12,3)","v":0},{"$f":"ROUND('Income Statement'!IQG12,3)","v":0},{"$f":"ROUND('Income Statement'!IQH12,3)","v":0},{"$f":"ROUND('Income Statement'!IQI12,3)","v":0},{"$f":"ROUND('Income Statement'!IQJ12,3)","v":0},{"$f":"ROUND('Income Statement'!IQK12,3)","v":0},{"$f":"ROUND('Income Statement'!IQL12,3)","v":0},{"$f":"ROUND('Income Statement'!IQM12,3)","v":0},{"$f":"ROUND('Income Statement'!IQN12,3)","v":0},{"$f":"ROUND('Income Statement'!IQO12,3)","v":0},{"$f":"ROUND('Income Statement'!IQP12,3)","v":0},{"$f":"ROUND('Income Statement'!IQQ12,3)","v":0},{"$f":"ROUND('Income Statement'!IQR12,3)","v":0},{"$f":"ROUND('Income Statement'!IQS12,3)","v":0},{"$f":"ROUND('Income Statement'!IQT12,3)","v":0},{"$f":"ROUND('Income Statement'!IQU12,3)","v":0},{"$f":"ROUND('Income Statement'!IQV12,3)","v":0},{"$f":"ROUND('Income Statement'!IQW12,3)","v":0},{"$f":"ROUND('Income Statement'!IQX12,3)","v":0},{"$f":"ROUND('Income Statement'!IQY12,3)","v":0},{"$f":"ROUND('Income Statement'!IQZ12,3)","v":0},{"$f":"ROUND('Income Statement'!IRA12,3)","v":0},{"$f":"ROUND('Income Statement'!IRB12,3)","v":0},{"$f":"ROUND('Income Statement'!IRC12,3)","v":0},{"$f":"ROUND('Income Statement'!IRD12,3)","v":0},{"$f":"ROUND('Income Statement'!IRE12,3)","v":0},{"$f":"ROUND('Income Statement'!IRF12,3)","v":0},{"$f":"ROUND('Income Statement'!IRG12,3)","v":0},{"$f":"ROUND('Income Statement'!IRH12,3)","v":0},{"$f":"ROUND('Income Statement'!IRI12,3)","v":0},{"$f":"ROUND('Income Statement'!IRJ12,3)","v":0},{"$f":"ROUND('Income Statement'!IRK12,3)","v":0},{"$f":"ROUND('Income Statement'!IRL12,3)","v":0},{"$f":"ROUND('Income Statement'!IRM12,3)","v":0},{"$f":"ROUND('Income Statement'!IRN12,3)","v":0},{"$f":"ROUND('Income Statement'!IRO12,3)","v":0},{"$f":"ROUND('Income Statement'!IRP12,3)","v":0},{"$f":"ROUND('Income Statement'!IRQ12,3)","v":0},{"$f":"ROUND('Income Statement'!IRR12,3)","v":0},{"$f":"ROUND('Income Statement'!IRS12,3)","v":0},{"$f":"ROUND('Income Statement'!IRT12,3)","v":0},{"$f":"ROUND('Income Statement'!IRU12,3)","v":0},{"$f":"ROUND('Income Statement'!IRV12,3)","v":0},{"$f":"ROUND('Income Statement'!IRW12,3)","v":0},{"$f":"ROUND('Income Statement'!IRX12,3)","v":0},{"$f":"ROUND('Income Statement'!IRY12,3)","v":0},{"$f":"ROUND('Income Statement'!IRZ12,3)","v":0},{"$f":"ROUND('Income Statement'!ISA12,3)","v":0},{"$f":"ROUND('Income Statement'!ISB12,3)","v":0},{"$f":"ROUND('Income Statement'!ISC12,3)","v":0},{"$f":"ROUND('Income Statement'!ISD12,3)","v":0},{"$f":"ROUND('Income Statement'!ISE12,3)","v":0},{"$f":"ROUND('Income Statement'!ISF12,3)","v":0},{"$f":"ROUND('Income Statement'!ISG12,3)","v":0},{"$f":"ROUND('Income Statement'!ISH12,3)","v":0},{"$f":"ROUND('Income Statement'!ISI12,3)","v":0},{"$f":"ROUND('Income Statement'!ISJ12,3)","v":0},{"$f":"ROUND('Income Statement'!ISK12,3)","v":0},{"$f":"ROUND('Income Statement'!ISL12,3)","v":0},{"$f":"ROUND('Income Statement'!ISM12,3)","v":0},{"$f":"ROUND('Income Statement'!ISN12,3)","v":0},{"$f":"ROUND('Income Statement'!ISO12,3)","v":0},{"$f":"ROUND('Income Statement'!ISP12,3)","v":0},{"$f":"ROUND('Income Statement'!ISQ12,3)","v":0},{"$f":"ROUND('Income Statement'!ISR12,3)","v":0},{"$f":"ROUND('Income Statement'!ISS12,3)","v":0},{"$f":"ROUND('Income Statement'!IST12,3)","v":0},{"$f":"ROUND('Income Statement'!ISU12,3)","v":0},{"$f":"ROUND('Income Statement'!ISV12,3)","v":0},{"$f":"ROUND('Income Statement'!ISW12,3)","v":0},{"$f":"ROUND('Income Statement'!ISX12,3)","v":0},{"$f":"ROUND('Income Statement'!ISY12,3)","v":0},{"$f":"ROUND('Income Statement'!ISZ12,3)","v":0},{"$f":"ROUND('Income Statement'!ITA12,3)","v":0},{"$f":"ROUND('Income Statement'!ITB12,3)","v":0},{"$f":"ROUND('Income Statement'!ITC12,3)","v":0},{"$f":"ROUND('Income Statement'!ITD12,3)","v":0},{"$f":"ROUND('Income Statement'!ITE12,3)","v":0},{"$f":"ROUND('Income Statement'!ITF12,3)","v":0},{"$f":"ROUND('Income Statement'!ITG12,3)","v":0},{"$f":"ROUND('Income Statement'!ITH12,3)","v":0},{"$f":"ROUND('Income Statement'!ITI12,3)","v":0},{"$f":"ROUND('Income Statement'!ITJ12,3)","v":0},{"$f":"ROUND('Income Statement'!ITK12,3)","v":0},{"$f":"ROUND('Income Statement'!ITL12,3)","v":0},{"$f":"ROUND('Income Statement'!ITM12,3)","v":0},{"$f":"ROUND('Income Statement'!ITN12,3)","v":0},{"$f":"ROUND('Income Statement'!ITO12,3)","v":0},{"$f":"ROUND('Income Statement'!ITP12,3)","v":0},{"$f":"ROUND('Income Statement'!ITQ12,3)","v":0},{"$f":"ROUND('Income Statement'!ITR12,3)","v":0},{"$f":"ROUND('Income Statement'!ITS12,3)","v":0},{"$f":"ROUND('Income Statement'!ITT12,3)","v":0},{"$f":"ROUND('Income Statement'!ITU12,3)","v":0},{"$f":"ROUND('Income Statement'!ITV12,3)","v":0},{"$f":"ROUND('Income Statement'!ITW12,3)","v":0},{"$f":"ROUND('Income Statement'!ITX12,3)","v":0},{"$f":"ROUND('Income Statement'!ITY12,3)","v":0},{"$f":"ROUND('Income Statement'!ITZ12,3)","v":0},{"$f":"ROUND('Income Statement'!IUA12,3)","v":0},{"$f":"ROUND('Income Statement'!IUB12,3)","v":0},{"$f":"ROUND('Income Statement'!IUC12,3)","v":0},{"$f":"ROUND('Income Statement'!IUD12,3)","v":0},{"$f":"ROUND('Income Statement'!IUE12,3)","v":0},{"$f":"ROUND('Income Statement'!IUF12,3)","v":0},{"$f":"ROUND('Income Statement'!IUG12,3)","v":0},{"$f":"ROUND('Income Statement'!IUH12,3)","v":0},{"$f":"ROUND('Income Statement'!IUI12,3)","v":0},{"$f":"ROUND('Income Statement'!IUJ12,3)","v":0},{"$f":"ROUND('Income Statement'!IUK12,3)","v":0},{"$f":"ROUND('Income Statement'!IUL12,3)","v":0},{"$f":"ROUND('Income Statement'!IUM12,3)","v":0},{"$f":"ROUND('Income Statement'!IUN12,3)","v":0},{"$f":"ROUND('Income Statement'!IUO12,3)","v":0},{"$f":"ROUND('Income Statement'!IUP12,3)","v":0},{"$f":"ROUND('Income Statement'!IUQ12,3)","v":0},{"$f":"ROUND('Income Statement'!IUR12,3)","v":0},{"$f":"ROUND('Income Statement'!IUS12,3)","v":0},{"$f":"ROUND('Income Statement'!IUT12,3)","v":0},{"$f":"ROUND('Income Statement'!IUU12,3)","v":0},{"$f":"ROUND('Income Statement'!IUV12,3)","v":0},{"$f":"ROUND('Income Statement'!IUW12,3)","v":0},{"$f":"ROUND('Income Statement'!IUX12,3)","v":0},{"$f":"ROUND('Income Statement'!IUY12,3)","v":0},{"$f":"ROUND('Income Statement'!IUZ12,3)","v":0},{"$f":"ROUND('Income Statement'!IVA12,3)","v":0},{"$f":"ROUND('Income Statement'!IVB12,3)","v":0},{"$f":"ROUND('Income Statement'!IVC12,3)","v":0},{"$f":"ROUND('Income Statement'!IVD12,3)","v":0},{"$f":"ROUND('Income Statement'!IVE12,3)","v":0},{"$f":"ROUND('Income Statement'!IVF12,3)","v":0},{"$f":"ROUND('Income Statement'!IVG12,3)","v":0},{"$f":"ROUND('Income Statement'!IVH12,3)","v":0},{"$f":"ROUND('Income Statement'!IVI12,3)","v":0},{"$f":"ROUND('Income Statement'!IVJ12,3)","v":0},{"$f":"ROUND('Income Statement'!IVK12,3)","v":0},{"$f":"ROUND('Income Statement'!IVL12,3)","v":0},{"$f":"ROUND('Income Statement'!IVM12,3)","v":0},{"$f":"ROUND('Income Statement'!IVN12,3)","v":0},{"$f":"ROUND('Income Statement'!IVO12,3)","v":0},{"$f":"ROUND('Income Statement'!IVP12,3)","v":0},{"$f":"ROUND('Income Statement'!IVQ12,3)","v":0},{"$f":"ROUND('Income Statement'!IVR12,3)","v":0},{"$f":"ROUND('Income Statement'!IVS12,3)","v":0},{"$f":"ROUND('Income Statement'!IVT12,3)","v":0},{"$f":"ROUND('Income Statement'!IVU12,3)","v":0},{"$f":"ROUND('Income Statement'!IVV12,3)","v":0},{"$f":"ROUND('Income Statement'!IVW12,3)","v":0},{"$f":"ROUND('Income Statement'!IVX12,3)","v":0},{"$f":"ROUND('Income Statement'!IVY12,3)","v":0},{"$f":"ROUND('Income Statement'!IVZ12,3)","v":0},{"$f":"ROUND('Income Statement'!IWA12,3)","v":0},{"$f":"ROUND('Income Statement'!IWB12,3)","v":0},{"$f":"ROUND('Income Statement'!IWC12,3)","v":0},{"$f":"ROUND('Income Statement'!IWD12,3)","v":0},{"$f":"ROUND('Income Statement'!IWE12,3)","v":0},{"$f":"ROUND('Income Statement'!IWF12,3)","v":0},{"$f":"ROUND('Income Statement'!IWG12,3)","v":0},{"$f":"ROUND('Income Statement'!IWH12,3)","v":0},{"$f":"ROUND('Income Statement'!IWI12,3)","v":0},{"$f":"ROUND('Income Statement'!IWJ12,3)","v":0},{"$f":"ROUND('Income Statement'!IWK12,3)","v":0},{"$f":"ROUND('Income Statement'!IWL12,3)","v":0},{"$f":"ROUND('Income Statement'!IWM12,3)","v":0},{"$f":"ROUND('Income Statement'!IWN12,3)","v":0},{"$f":"ROUND('Income Statement'!IWO12,3)","v":0},{"$f":"ROUND('Income Statement'!IWP12,3)","v":0},{"$f":"ROUND('Income Statement'!IWQ12,3)","v":0},{"$f":"ROUND('Income Statement'!IWR12,3)","v":0},{"$f":"ROUND('Income Statement'!IWS12,3)","v":0},{"$f":"ROUND('Income Statement'!IWT12,3)","v":0},{"$f":"ROUND('Income Statement'!IWU12,3)","v":0},{"$f":"ROUND('Income Statement'!IWV12,3)","v":0},{"$f":"ROUND('Income Statement'!IWW12,3)","v":0},{"$f":"ROUND('Income Statement'!IWX12,3)","v":0},{"$f":"ROUND('Income Statement'!IWY12,3)","v":0},{"$f":"ROUND('Income Statement'!IWZ12,3)","v":0},{"$f":"ROUND('Income Statement'!IXA12,3)","v":0},{"$f":"ROUND('Income Statement'!IXB12,3)","v":0},{"$f":"ROUND('Income Statement'!IXC12,3)","v":0},{"$f":"ROUND('Income Statement'!IXD12,3)","v":0},{"$f":"ROUND('Income Statement'!IXE12,3)","v":0},{"$f":"ROUND('Income Statement'!IXF12,3)","v":0},{"$f":"ROUND('Income Statement'!IXG12,3)","v":0},{"$f":"ROUND('Income Statement'!IXH12,3)","v":0},{"$f":"ROUND('Income Statement'!IXI12,3)","v":0},{"$f":"ROUND('Income Statement'!IXJ12,3)","v":0},{"$f":"ROUND('Income Statement'!IXK12,3)","v":0},{"$f":"ROUND('Income Statement'!IXL12,3)","v":0},{"$f":"ROUND('Income Statement'!IXM12,3)","v":0},{"$f":"ROUND('Income Statement'!IXN12,3)","v":0},{"$f":"ROUND('Income Statement'!IXO12,3)","v":0},{"$f":"ROUND('Income Statement'!IXP12,3)","v":0},{"$f":"ROUND('Income Statement'!IXQ12,3)","v":0},{"$f":"ROUND('Income Statement'!IXR12,3)","v":0},{"$f":"ROUND('Income Statement'!IXS12,3)","v":0},{"$f":"ROUND('Income Statement'!IXT12,3)","v":0},{"$f":"ROUND('Income Statement'!IXU12,3)","v":0},{"$f":"ROUND('Income Statement'!IXV12,3)","v":0},{"$f":"ROUND('Income Statement'!IXW12,3)","v":0},{"$f":"ROUND('Income Statement'!IXX12,3)","v":0},{"$f":"ROUND('Income Statement'!IXY12,3)","v":0},{"$f":"ROUND('Income Statement'!IXZ12,3)","v":0},{"$f":"ROUND('Income Statement'!IYA12,3)","v":0},{"$f":"ROUND('Income Statement'!IYB12,3)","v":0},{"$f":"ROUND('Income Statement'!IYC12,3)","v":0},{"$f":"ROUND('Income Statement'!IYD12,3)","v":0},{"$f":"ROUND('Income Statement'!IYE12,3)","v":0},{"$f":"ROUND('Income Statement'!IYF12,3)","v":0},{"$f":"ROUND('Income Statement'!IYG12,3)","v":0},{"$f":"ROUND('Income Statement'!IYH12,3)","v":0},{"$f":"ROUND('Income Statement'!IYI12,3)","v":0},{"$f":"ROUND('Income Statement'!IYJ12,3)","v":0},{"$f":"ROUND('Income Statement'!IYK12,3)","v":0},{"$f":"ROUND('Income Statement'!IYL12,3)","v":0},{"$f":"ROUND('Income Statement'!IYM12,3)","v":0},{"$f":"ROUND('Income Statement'!IYN12,3)","v":0},{"$f":"ROUND('Income Statement'!IYO12,3)","v":0},{"$f":"ROUND('Income Statement'!IYP12,3)","v":0},{"$f":"ROUND('Income Statement'!IYQ12,3)","v":0},{"$f":"ROUND('Income Statement'!IYR12,3)","v":0},{"$f":"ROUND('Income Statement'!IYS12,3)","v":0},{"$f":"ROUND('Income Statement'!IYT12,3)","v":0},{"$f":"ROUND('Income Statement'!IYU12,3)","v":0},{"$f":"ROUND('Income Statement'!IYV12,3)","v":0},{"$f":"ROUND('Income Statement'!IYW12,3)","v":0},{"$f":"ROUND('Income Statement'!IYX12,3)","v":0},{"$f":"ROUND('Income Statement'!IYY12,3)","v":0},{"$f":"ROUND('Income Statement'!IYZ12,3)","v":0},{"$f":"ROUND('Income Statement'!IZA12,3)","v":0},{"$f":"ROUND('Income Statement'!IZB12,3)","v":0},{"$f":"ROUND('Income Statement'!IZC12,3)","v":0},{"$f":"ROUND('Income Statement'!IZD12,3)","v":0},{"$f":"ROUND('Income Statement'!IZE12,3)","v":0},{"$f":"ROUND('Income Statement'!IZF12,3)","v":0},{"$f":"ROUND('Income Statement'!IZG12,3)","v":0},{"$f":"ROUND('Income Statement'!IZH12,3)","v":0},{"$f":"ROUND('Income Statement'!IZI12,3)","v":0},{"$f":"ROUND('Income Statement'!IZJ12,3)","v":0},{"$f":"ROUND('Income Statement'!IZK12,3)","v":0},{"$f":"ROUND('Income Statement'!IZL12,3)","v":0},{"$f":"ROUND('Income Statement'!IZM12,3)","v":0},{"$f":"ROUND('Income Statement'!IZN12,3)","v":0},{"$f":"ROUND('Income Statement'!IZO12,3)","v":0},{"$f":"ROUND('Income Statement'!IZP12,3)","v":0},{"$f":"ROUND('Income Statement'!IZQ12,3)","v":0},{"$f":"ROUND('Income Statement'!IZR12,3)","v":0},{"$f":"ROUND('Income Statement'!IZS12,3)","v":0},{"$f":"ROUND('Income Statement'!IZT12,3)","v":0},{"$f":"ROUND('Income Statement'!IZU12,3)","v":0},{"$f":"ROUND('Income Statement'!IZV12,3)","v":0},{"$f":"ROUND('Income Statement'!IZW12,3)","v":0},{"$f":"ROUND('Income Statement'!IZX12,3)","v":0},{"$f":"ROUND('Income Statement'!IZY12,3)","v":0},{"$f":"ROUND('Income Statement'!IZZ12,3)","v":0},{"$f":"ROUND('Income Statement'!JAA12,3)","v":0},{"$f":"ROUND('Income Statement'!JAB12,3)","v":0},{"$f":"ROUND('Income Statement'!JAC12,3)","v":0},{"$f":"ROUND('Income Statement'!JAD12,3)","v":0},{"$f":"ROUND('Income Statement'!JAE12,3)","v":0},{"$f":"ROUND('Income Statement'!JAF12,3)","v":0},{"$f":"ROUND('Income Statement'!JAG12,3)","v":0},{"$f":"ROUND('Income Statement'!JAH12,3)","v":0},{"$f":"ROUND('Income Statement'!JAI12,3)","v":0},{"$f":"ROUND('Income Statement'!JAJ12,3)","v":0},{"$f":"ROUND('Income Statement'!JAK12,3)","v":0},{"$f":"ROUND('Income Statement'!JAL12,3)","v":0},{"$f":"ROUND('Income Statement'!JAM12,3)","v":0},{"$f":"ROUND('Income Statement'!JAN12,3)","v":0},{"$f":"ROUND('Income Statement'!JAO12,3)","v":0},{"$f":"ROUND('Income Statement'!JAP12,3)","v":0},{"$f":"ROUND('Income Statement'!JAQ12,3)","v":0},{"$f":"ROUND('Income Statement'!JAR12,3)","v":0},{"$f":"ROUND('Income Statement'!JAS12,3)","v":0},{"$f":"ROUND('Income Statement'!JAT12,3)","v":0},{"$f":"ROUND('Income Statement'!JAU12,3)","v":0},{"$f":"ROUND('Income Statement'!JAV12,3)","v":0},{"$f":"ROUND('Income Statement'!JAW12,3)","v":0},{"$f":"ROUND('Income Statement'!JAX12,3)","v":0},{"$f":"ROUND('Income Statement'!JAY12,3)","v":0},{"$f":"ROUND('Income Statement'!JAZ12,3)","v":0},{"$f":"ROUND('Income Statement'!JBA12,3)","v":0},{"$f":"ROUND('Income Statement'!JBB12,3)","v":0},{"$f":"ROUND('Income Statement'!JBC12,3)","v":0},{"$f":"ROUND('Income Statement'!JBD12,3)","v":0},{"$f":"ROUND('Income Statement'!JBE12,3)","v":0},{"$f":"ROUND('Income Statement'!JBF12,3)","v":0},{"$f":"ROUND('Income Statement'!JBG12,3)","v":0},{"$f":"ROUND('Income Statement'!JBH12,3)","v":0},{"$f":"ROUND('Income Statement'!JBI12,3)","v":0},{"$f":"ROUND('Income Statement'!JBJ12,3)","v":0},{"$f":"ROUND('Income Statement'!JBK12,3)","v":0},{"$f":"ROUND('Income Statement'!JBL12,3)","v":0},{"$f":"ROUND('Income Statement'!JBM12,3)","v":0},{"$f":"ROUND('Income Statement'!JBN12,3)","v":0},{"$f":"ROUND('Income Statement'!JBO12,3)","v":0},{"$f":"ROUND('Income Statement'!JBP12,3)","v":0},{"$f":"ROUND('Income Statement'!JBQ12,3)","v":0},{"$f":"ROUND('Income Statement'!JBR12,3)","v":0},{"$f":"ROUND('Income Statement'!JBS12,3)","v":0},{"$f":"ROUND('Income Statement'!JBT12,3)","v":0},{"$f":"ROUND('Income Statement'!JBU12,3)","v":0},{"$f":"ROUND('Income Statement'!JBV12,3)","v":0},{"$f":"ROUND('Income Statement'!JBW12,3)","v":0},{"$f":"ROUND('Income Statement'!JBX12,3)","v":0},{"$f":"ROUND('Income Statement'!JBY12,3)","v":0},{"$f":"ROUND('Income Statement'!JBZ12,3)","v":0},{"$f":"ROUND('Income Statement'!JCA12,3)","v":0},{"$f":"ROUND('Income Statement'!JCB12,3)","v":0},{"$f":"ROUND('Income Statement'!JCC12,3)","v":0},{"$f":"ROUND('Income Statement'!JCD12,3)","v":0},{"$f":"ROUND('Income Statement'!JCE12,3)","v":0},{"$f":"ROUND('Income Statement'!JCF12,3)","v":0},{"$f":"ROUND('Income Statement'!JCG12,3)","v":0},{"$f":"ROUND('Income Statement'!JCH12,3)","v":0},{"$f":"ROUND('Income Statement'!JCI12,3)","v":0},{"$f":"ROUND('Income Statement'!JCJ12,3)","v":0},{"$f":"ROUND('Income Statement'!JCK12,3)","v":0},{"$f":"ROUND('Income Statement'!JCL12,3)","v":0},{"$f":"ROUND('Income Statement'!JCM12,3)","v":0},{"$f":"ROUND('Income Statement'!JCN12,3)","v":0},{"$f":"ROUND('Income Statement'!JCO12,3)","v":0},{"$f":"ROUND('Income Statement'!JCP12,3)","v":0},{"$f":"ROUND('Income Statement'!JCQ12,3)","v":0},{"$f":"ROUND('Income Statement'!JCR12,3)","v":0},{"$f":"ROUND('Income Statement'!JCS12,3)","v":0},{"$f":"ROUND('Income Statement'!JCT12,3)","v":0},{"$f":"ROUND('Income Statement'!JCU12,3)","v":0},{"$f":"ROUND('Income Statement'!JCV12,3)","v":0},{"$f":"ROUND('Income Statement'!JCW12,3)","v":0},{"$f":"ROUND('Income Statement'!JCX12,3)","v":0},{"$f":"ROUND('Income Statement'!JCY12,3)","v":0},{"$f":"ROUND('Income Statement'!JCZ12,3)","v":0},{"$f":"ROUND('Income Statement'!JDA12,3)","v":0},{"$f":"ROUND('Income Statement'!JDB12,3)","v":0},{"$f":"ROUND('Income Statement'!JDC12,3)","v":0},{"$f":"ROUND('Income Statement'!JDD12,3)","v":0},{"$f":"ROUND('Income Statement'!JDE12,3)","v":0},{"$f":"ROUND('Income Statement'!JDF12,3)","v":0},{"$f":"ROUND('Income Statement'!JDG12,3)","v":0},{"$f":"ROUND('Income Statement'!JDH12,3)","v":0},{"$f":"ROUND('Income Statement'!JDI12,3)","v":0},{"$f":"ROUND('Income Statement'!JDJ12,3)","v":0},{"$f":"ROUND('Income Statement'!JDK12,3)","v":0},{"$f":"ROUND('Income Statement'!JDL12,3)","v":0},{"$f":"ROUND('Income Statement'!JDM12,3)","v":0},{"$f":"ROUND('Income Statement'!JDN12,3)","v":0},{"$f":"ROUND('Income Statement'!JDO12,3)","v":0},{"$f":"ROUND('Income Statement'!JDP12,3)","v":0},{"$f":"ROUND('Income Statement'!JDQ12,3)","v":0},{"$f":"ROUND('Income Statement'!JDR12,3)","v":0},{"$f":"ROUND('Income Statement'!JDS12,3)","v":0},{"$f":"ROUND('Income Statement'!JDT12,3)","v":0},{"$f":"ROUND('Income Statement'!JDU12,3)","v":0},{"$f":"ROUND('Income Statement'!JDV12,3)","v":0},{"$f":"ROUND('Income Statement'!JDW12,3)","v":0},{"$f":"ROUND('Income Statement'!JDX12,3)","v":0},{"$f":"ROUND('Income Statement'!JDY12,3)","v":0},{"$f":"ROUND('Income Statement'!JDZ12,3)","v":0},{"$f":"ROUND('Income Statement'!JEA12,3)","v":0},{"$f":"ROUND('Income Statement'!JEB12,3)","v":0},{"$f":"ROUND('Income Statement'!JEC12,3)","v":0},{"$f":"ROUND('Income Statement'!JED12,3)","v":0},{"$f":"ROUND('Income Statement'!JEE12,3)","v":0},{"$f":"ROUND('Income Statement'!JEF12,3)","v":0},{"$f":"ROUND('Income Statement'!JEG12,3)","v":0},{"$f":"ROUND('Income Statement'!JEH12,3)","v":0},{"$f":"ROUND('Income Statement'!JEI12,3)","v":0},{"$f":"ROUND('Income Statement'!JEJ12,3)","v":0},{"$f":"ROUND('Income Statement'!JEK12,3)","v":0},{"$f":"ROUND('Income Statement'!JEL12,3)","v":0},{"$f":"ROUND('Income Statement'!JEM12,3)","v":0},{"$f":"ROUND('Income Statement'!JEN12,3)","v":0},{"$f":"ROUND('Income Statement'!JEO12,3)","v":0},{"$f":"ROUND('Income Statement'!JEP12,3)","v":0},{"$f":"ROUND('Income Statement'!JEQ12,3)","v":0},{"$f":"ROUND('Income Statement'!JER12,3)","v":0},{"$f":"ROUND('Income Statement'!JES12,3)","v":0},{"$f":"ROUND('Income Statement'!JET12,3)","v":0},{"$f":"ROUND('Income Statement'!JEU12,3)","v":0},{"$f":"ROUND('Income Statement'!JEV12,3)","v":0},{"$f":"ROUND('Income Statement'!JEW12,3)","v":0},{"$f":"ROUND('Income Statement'!JEX12,3)","v":0},{"$f":"ROUND('Income Statement'!JEY12,3)","v":0},{"$f":"ROUND('Income Statement'!JEZ12,3)","v":0},{"$f":"ROUND('Income Statement'!JFA12,3)","v":0},{"$f":"ROUND('Income Statement'!JFB12,3)","v":0},{"$f":"ROUND('Income Statement'!JFC12,3)","v":0},{"$f":"ROUND('Income Statement'!JFD12,3)","v":0},{"$f":"ROUND('Income Statement'!JFE12,3)","v":0},{"$f":"ROUND('Income Statement'!JFF12,3)","v":0},{"$f":"ROUND('Income Statement'!JFG12,3)","v":0},{"$f":"ROUND('Income Statement'!JFH12,3)","v":0},{"$f":"ROUND('Income Statement'!JFI12,3)","v":0},{"$f":"ROUND('Income Statement'!JFJ12,3)","v":0},{"$f":"ROUND('Income Statement'!JFK12,3)","v":0},{"$f":"ROUND('Income Statement'!JFL12,3)","v":0},{"$f":"ROUND('Income Statement'!JFM12,3)","v":0},{"$f":"ROUND('Income Statement'!JFN12,3)","v":0},{"$f":"ROUND('Income Statement'!JFO12,3)","v":0},{"$f":"ROUND('Income Statement'!JFP12,3)","v":0},{"$f":"ROUND('Income Statement'!JFQ12,3)","v":0},{"$f":"ROUND('Income Statement'!JFR12,3)","v":0},{"$f":"ROUND('Income Statement'!JFS12,3)","v":0},{"$f":"ROUND('Income Statement'!JFT12,3)","v":0},{"$f":"ROUND('Income Statement'!JFU12,3)","v":0},{"$f":"ROUND('Income Statement'!JFV12,3)","v":0},{"$f":"ROUND('Income Statement'!JFW12,3)","v":0},{"$f":"ROUND('Income Statement'!JFX12,3)","v":0},{"$f":"ROUND('Income Statement'!JFY12,3)","v":0},{"$f":"ROUND('Income Statement'!JFZ12,3)","v":0},{"$f":"ROUND('Income Statement'!JGA12,3)","v":0},{"$f":"ROUND('Income Statement'!JGB12,3)","v":0},{"$f":"ROUND('Income Statement'!JGC12,3)","v":0},{"$f":"ROUND('Income Statement'!JGD12,3)","v":0},{"$f":"ROUND('Income Statement'!JGE12,3)","v":0},{"$f":"ROUND('Income Statement'!JGF12,3)","v":0},{"$f":"ROUND('Income Statement'!JGG12,3)","v":0},{"$f":"ROUND('Income Statement'!JGH12,3)","v":0},{"$f":"ROUND('Income Statement'!JGI12,3)","v":0},{"$f":"ROUND('Income Statement'!JGJ12,3)","v":0},{"$f":"ROUND('Income Statement'!JGK12,3)","v":0},{"$f":"ROUND('Income Statement'!JGL12,3)","v":0},{"$f":"ROUND('Income Statement'!JGM12,3)","v":0},{"$f":"ROUND('Income Statement'!JGN12,3)","v":0},{"$f":"ROUND('Income Statement'!JGO12,3)","v":0},{"$f":"ROUND('Income Statement'!JGP12,3)","v":0},{"$f":"ROUND('Income Statement'!JGQ12,3)","v":0},{"$f":"ROUND('Income Statement'!JGR12,3)","v":0},{"$f":"ROUND('Income Statement'!JGS12,3)","v":0},{"$f":"ROUND('Income Statement'!JGT12,3)","v":0},{"$f":"ROUND('Income Statement'!JGU12,3)","v":0},{"$f":"ROUND('Income Statement'!JGV12,3)","v":0},{"$f":"ROUND('Income Statement'!JGW12,3)","v":0},{"$f":"ROUND('Income Statement'!JGX12,3)","v":0},{"$f":"ROUND('Income Statement'!JGY12,3)","v":0},{"$f":"ROUND('Income Statement'!JGZ12,3)","v":0},{"$f":"ROUND('Income Statement'!JHA12,3)","v":0},{"$f":"ROUND('Income Statement'!JHB12,3)","v":0},{"$f":"ROUND('Income Statement'!JHC12,3)","v":0},{"$f":"ROUND('Income Statement'!JHD12,3)","v":0},{"$f":"ROUND('Income Statement'!JHE12,3)","v":0},{"$f":"ROUND('Income Statement'!JHF12,3)","v":0},{"$f":"ROUND('Income Statement'!JHG12,3)","v":0},{"$f":"ROUND('Income Statement'!JHH12,3)","v":0},{"$f":"ROUND('Income Statement'!JHI12,3)","v":0},{"$f":"ROUND('Income Statement'!JHJ12,3)","v":0},{"$f":"ROUND('Income Statement'!JHK12,3)","v":0},{"$f":"ROUND('Income Statement'!JHL12,3)","v":0},{"$f":"ROUND('Income Statement'!JHM12,3)","v":0},{"$f":"ROUND('Income Statement'!JHN12,3)","v":0},{"$f":"ROUND('Income Statement'!JHO12,3)","v":0},{"$f":"ROUND('Income Statement'!JHP12,3)","v":0},{"$f":"ROUND('Income Statement'!JHQ12,3)","v":0},{"$f":"ROUND('Income Statement'!JHR12,3)","v":0},{"$f":"ROUND('Income Statement'!JHS12,3)","v":0},{"$f":"ROUND('Income Statement'!JHT12,3)","v":0},{"$f":"ROUND('Income Statement'!JHU12,3)","v":0},{"$f":"ROUND('Income Statement'!JHV12,3)","v":0},{"$f":"ROUND('Income Statement'!JHW12,3)","v":0},{"$f":"ROUND('Income Statement'!JHX12,3)","v":0},{"$f":"ROUND('Income Statement'!JHY12,3)","v":0},{"$f":"ROUND('Income Statement'!JHZ12,3)","v":0},{"$f":"ROUND('Income Statement'!JIA12,3)","v":0},{"$f":"ROUND('Income Statement'!JIB12,3)","v":0},{"$f":"ROUND('Income Statement'!JIC12,3)","v":0},{"$f":"ROUND('Income Statement'!JID12,3)","v":0},{"$f":"ROUND('Income Statement'!JIE12,3)","v":0},{"$f":"ROUND('Income Statement'!JIF12,3)","v":0},{"$f":"ROUND('Income Statement'!JIG12,3)","v":0},{"$f":"ROUND('Income Statement'!JIH12,3)","v":0},{"$f":"ROUND('Income Statement'!JII12,3)","v":0},{"$f":"ROUND('Income Statement'!JIJ12,3)","v":0},{"$f":"ROUND('Income Statement'!JIK12,3)","v":0},{"$f":"ROUND('Income Statement'!JIL12,3)","v":0},{"$f":"ROUND('Income Statement'!JIM12,3)","v":0},{"$f":"ROUND('Income Statement'!JIN12,3)","v":0},{"$f":"ROUND('Income Statement'!JIO12,3)","v":0},{"$f":"ROUND('Income Statement'!JIP12,3)","v":0},{"$f":"ROUND('Income Statement'!JIQ12,3)","v":0},{"$f":"ROUND('Income Statement'!JIR12,3)","v":0},{"$f":"ROUND('Income Statement'!JIS12,3)","v":0},{"$f":"ROUND('Income Statement'!JIT12,3)","v":0},{"$f":"ROUND('Income Statement'!JIU12,3)","v":0},{"$f":"ROUND('Income Statement'!JIV12,3)","v":0},{"$f":"ROUND('Income Statement'!JIW12,3)","v":0},{"$f":"ROUND('Income Statement'!JIX12,3)","v":0},{"$f":"ROUND('Income Statement'!JIY12,3)","v":0},{"$f":"ROUND('Income Statement'!JIZ12,3)","v":0},{"$f":"ROUND('Income Statement'!JJA12,3)","v":0},{"$f":"ROUND('Income Statement'!JJB12,3)","v":0},{"$f":"ROUND('Income Statement'!JJC12,3)","v":0},{"$f":"ROUND('Income Statement'!JJD12,3)","v":0},{"$f":"ROUND('Income Statement'!JJE12,3)","v":0},{"$f":"ROUND('Income Statement'!JJF12,3)","v":0},{"$f":"ROUND('Income Statement'!JJG12,3)","v":0},{"$f":"ROUND('Income Statement'!JJH12,3)","v":0},{"$f":"ROUND('Income Statement'!JJI12,3)","v":0},{"$f":"ROUND('Income Statement'!JJJ12,3)","v":0},{"$f":"ROUND('Income Statement'!JJK12,3)","v":0},{"$f":"ROUND('Income Statement'!JJL12,3)","v":0},{"$f":"ROUND('Income Statement'!JJM12,3)","v":0},{"$f":"ROUND('Income Statement'!JJN12,3)","v":0},{"$f":"ROUND('Income Statement'!JJO12,3)","v":0},{"$f":"ROUND('Income Statement'!JJP12,3)","v":0},{"$f":"ROUND('Income Statement'!JJQ12,3)","v":0},{"$f":"ROUND('Income Statement'!JJR12,3)","v":0},{"$f":"ROUND('Income Statement'!JJS12,3)","v":0},{"$f":"ROUND('Income Statement'!JJT12,3)","v":0},{"$f":"ROUND('Income Statement'!JJU12,3)","v":0},{"$f":"ROUND('Income Statement'!JJV12,3)","v":0},{"$f":"ROUND('Income Statement'!JJW12,3)","v":0},{"$f":"ROUND('Income Statement'!JJX12,3)","v":0},{"$f":"ROUND('Income Statement'!JJY12,3)","v":0},{"$f":"ROUND('Income Statement'!JJZ12,3)","v":0},{"$f":"ROUND('Income Statement'!JKA12,3)","v":0},{"$f":"ROUND('Income Statement'!JKB12,3)","v":0},{"$f":"ROUND('Income Statement'!JKC12,3)","v":0},{"$f":"ROUND('Income Statement'!JKD12,3)","v":0},{"$f":"ROUND('Income Statement'!JKE12,3)","v":0},{"$f":"ROUND('Income Statement'!JKF12,3)","v":0},{"$f":"ROUND('Income Statement'!JKG12,3)","v":0},{"$f":"ROUND('Income Statement'!JKH12,3)","v":0},{"$f":"ROUND('Income Statement'!JKI12,3)","v":0},{"$f":"ROUND('Income Statement'!JKJ12,3)","v":0},{"$f":"ROUND('Income Statement'!JKK12,3)","v":0},{"$f":"ROUND('Income Statement'!JKL12,3)","v":0},{"$f":"ROUND('Income Statement'!JKM12,3)","v":0},{"$f":"ROUND('Income Statement'!JKN12,3)","v":0},{"$f":"ROUND('Income Statement'!JKO12,3)","v":0},{"$f":"ROUND('Income Statement'!JKP12,3)","v":0},{"$f":"ROUND('Income Statement'!JKQ12,3)","v":0},{"$f":"ROUND('Income Statement'!JKR12,3)","v":0},{"$f":"ROUND('Income Statement'!JKS12,3)","v":0},{"$f":"ROUND('Income Statement'!JKT12,3)","v":0},{"$f":"ROUND('Income Statement'!JKU12,3)","v":0},{"$f":"ROUND('Income Statement'!JKV12,3)","v":0},{"$f":"ROUND('Income Statement'!JKW12,3)","v":0},{"$f":"ROUND('Income Statement'!JKX12,3)","v":0},{"$f":"ROUND('Income Statement'!JKY12,3)","v":0},{"$f":"ROUND('Income Statement'!JKZ12,3)","v":0},{"$f":"ROUND('Income Statement'!JLA12,3)","v":0},{"$f":"ROUND('Income Statement'!JLB12,3)","v":0},{"$f":"ROUND('Income Statement'!JLC12,3)","v":0},{"$f":"ROUND('Income Statement'!JLD12,3)","v":0},{"$f":"ROUND('Income Statement'!JLE12,3)","v":0},{"$f":"ROUND('Income Statement'!JLF12,3)","v":0},{"$f":"ROUND('Income Statement'!JLG12,3)","v":0},{"$f":"ROUND('Income Statement'!JLH12,3)","v":0},{"$f":"ROUND('Income Statement'!JLI12,3)","v":0},{"$f":"ROUND('Income Statement'!JLJ12,3)","v":0},{"$f":"ROUND('Income Statement'!JLK12,3)","v":0},{"$f":"ROUND('Income Statement'!JLL12,3)","v":0},{"$f":"ROUND('Income Statement'!JLM12,3)","v":0},{"$f":"ROUND('Income Statement'!JLN12,3)","v":0},{"$f":"ROUND('Income Statement'!JLO12,3)","v":0},{"$f":"ROUND('Income Statement'!JLP12,3)","v":0},{"$f":"ROUND('Income Statement'!JLQ12,3)","v":0},{"$f":"ROUND('Income Statement'!JLR12,3)","v":0},{"$f":"ROUND('Income Statement'!JLS12,3)","v":0},{"$f":"ROUND('Income Statement'!JLT12,3)","v":0},{"$f":"ROUND('Income Statement'!JLU12,3)","v":0},{"$f":"ROUND('Income Statement'!JLV12,3)","v":0},{"$f":"ROUND('Income Statement'!JLW12,3)","v":0},{"$f":"ROUND('Income Statement'!JLX12,3)","v":0},{"$f":"ROUND('Income Statement'!JLY12,3)","v":0},{"$f":"ROUND('Income Statement'!JLZ12,3)","v":0},{"$f":"ROUND('Income Statement'!JMA12,3)","v":0},{"$f":"ROUND('Income Statement'!JMB12,3)","v":0},{"$f":"ROUND('Income Statement'!JMC12,3)","v":0},{"$f":"ROUND('Income Statement'!JMD12,3)","v":0},{"$f":"ROUND('Income Statement'!JME12,3)","v":0},{"$f":"ROUND('Income Statement'!JMF12,3)","v":0},{"$f":"ROUND('Income Statement'!JMG12,3)","v":0},{"$f":"ROUND('Income Statement'!JMH12,3)","v":0},{"$f":"ROUND('Income Statement'!JMI12,3)","v":0},{"$f":"ROUND('Income Statement'!JMJ12,3)","v":0},{"$f":"ROUND('Income Statement'!JMK12,3)","v":0},{"$f":"ROUND('Income Statement'!JML12,3)","v":0},{"$f":"ROUND('Income Statement'!JMM12,3)","v":0},{"$f":"ROUND('Income Statement'!JMN12,3)","v":0},{"$f":"ROUND('Income Statement'!JMO12,3)","v":0},{"$f":"ROUND('Income Statement'!JMP12,3)","v":0},{"$f":"ROUND('Income Statement'!JMQ12,3)","v":0},{"$f":"ROUND('Income Statement'!JMR12,3)","v":0},{"$f":"ROUND('Income Statement'!JMS12,3)","v":0},{"$f":"ROUND('Income Statement'!JMT12,3)","v":0},{"$f":"ROUND('Income Statement'!JMU12,3)","v":0},{"$f":"ROUND('Income Statement'!JMV12,3)","v":0},{"$f":"ROUND('Income Statement'!JMW12,3)","v":0},{"$f":"ROUND('Income Statement'!JMX12,3)","v":0},{"$f":"ROUND('Income Statement'!JMY12,3)","v":0},{"$f":"ROUND('Income Statement'!JMZ12,3)","v":0},{"$f":"ROUND('Income Statement'!JNA12,3)","v":0},{"$f":"ROUND('Income Statement'!JNB12,3)","v":0},{"$f":"ROUND('Income Statement'!JNC12,3)","v":0},{"$f":"ROUND('Income Statement'!JND12,3)","v":0},{"$f":"ROUND('Income Statement'!JNE12,3)","v":0},{"$f":"ROUND('Income Statement'!JNF12,3)","v":0},{"$f":"ROUND('Income Statement'!JNG12,3)","v":0},{"$f":"ROUND('Income Statement'!JNH12,3)","v":0},{"$f":"ROUND('Income Statement'!JNI12,3)","v":0},{"$f":"ROUND('Income Statement'!JNJ12,3)","v":0},{"$f":"ROUND('Income Statement'!JNK12,3)","v":0},{"$f":"ROUND('Income Statement'!JNL12,3)","v":0},{"$f":"ROUND('Income Statement'!JNM12,3)","v":0},{"$f":"ROUND('Income Statement'!JNN12,3)","v":0},{"$f":"ROUND('Income Statement'!JNO12,3)","v":0},{"$f":"ROUND('Income Statement'!JNP12,3)","v":0},{"$f":"ROUND('Income Statement'!JNQ12,3)","v":0},{"$f":"ROUND('Income Statement'!JNR12,3)","v":0},{"$f":"ROUND('Income Statement'!JNS12,3)","v":0},{"$f":"ROUND('Income Statement'!JNT12,3)","v":0},{"$f":"ROUND('Income Statement'!JNU12,3)","v":0},{"$f":"ROUND('Income Statement'!JNV12,3)","v":0},{"$f":"ROUND('Income Statement'!JNW12,3)","v":0},{"$f":"ROUND('Income Statement'!JNX12,3)","v":0},{"$f":"ROUND('Income Statement'!JNY12,3)","v":0},{"$f":"ROUND('Income Statement'!JNZ12,3)","v":0},{"$f":"ROUND('Income Statement'!JOA12,3)","v":0},{"$f":"ROUND('Income Statement'!JOB12,3)","v":0},{"$f":"ROUND('Income Statement'!JOC12,3)","v":0},{"$f":"ROUND('Income Statement'!JOD12,3)","v":0},{"$f":"ROUND('Income Statement'!JOE12,3)","v":0},{"$f":"ROUND('Income Statement'!JOF12,3)","v":0},{"$f":"ROUND('Income Statement'!JOG12,3)","v":0},{"$f":"ROUND('Income Statement'!JOH12,3)","v":0},{"$f":"ROUND('Income Statement'!JOI12,3)","v":0},{"$f":"ROUND('Income Statement'!JOJ12,3)","v":0},{"$f":"ROUND('Income Statement'!JOK12,3)","v":0},{"$f":"ROUND('Income Statement'!JOL12,3)","v":0},{"$f":"ROUND('Income Statement'!JOM12,3)","v":0},{"$f":"ROUND('Income Statement'!JON12,3)","v":0},{"$f":"ROUND('Income Statement'!JOO12,3)","v":0},{"$f":"ROUND('Income Statement'!JOP12,3)","v":0},{"$f":"ROUND('Income Statement'!JOQ12,3)","v":0},{"$f":"ROUND('Income Statement'!JOR12,3)","v":0},{"$f":"ROUND('Income Statement'!JOS12,3)","v":0},{"$f":"ROUND('Income Statement'!JOT12,3)","v":0},{"$f":"ROUND('Income Statement'!JOU12,3)","v":0},{"$f":"ROUND('Income Statement'!JOV12,3)","v":0},{"$f":"ROUND('Income Statement'!JOW12,3)","v":0},{"$f":"ROUND('Income Statement'!JOX12,3)","v":0},{"$f":"ROUND('Income Statement'!JOY12,3)","v":0},{"$f":"ROUND('Income Statement'!JOZ12,3)","v":0},{"$f":"ROUND('Income Statement'!JPA12,3)","v":0},{"$f":"ROUND('Income Statement'!JPB12,3)","v":0},{"$f":"ROUND('Income Statement'!JPC12,3)","v":0},{"$f":"ROUND('Income Statement'!JPD12,3)","v":0},{"$f":"ROUND('Income Statement'!JPE12,3)","v":0},{"$f":"ROUND('Income Statement'!JPF12,3)","v":0},{"$f":"ROUND('Income Statement'!JPG12,3)","v":0},{"$f":"ROUND('Income Statement'!JPH12,3)","v":0},{"$f":"ROUND('Income Statement'!JPI12,3)","v":0},{"$f":"ROUND('Income Statement'!JPJ12,3)","v":0},{"$f":"ROUND('Income Statement'!JPK12,3)","v":0},{"$f":"ROUND('Income Statement'!JPL12,3)","v":0},{"$f":"ROUND('Income Statement'!JPM12,3)","v":0},{"$f":"ROUND('Income Statement'!JPN12,3)","v":0},{"$f":"ROUND('Income Statement'!JPO12,3)","v":0},{"$f":"ROUND('Income Statement'!JPP12,3)","v":0},{"$f":"ROUND('Income Statement'!JPQ12,3)","v":0},{"$f":"ROUND('Income Statement'!JPR12,3)","v":0},{"$f":"ROUND('Income Statement'!JPS12,3)","v":0},{"$f":"ROUND('Income Statement'!JPT12,3)","v":0},{"$f":"ROUND('Income Statement'!JPU12,3)","v":0},{"$f":"ROUND('Income Statement'!JPV12,3)","v":0},{"$f":"ROUND('Income Statement'!JPW12,3)","v":0},{"$f":"ROUND('Income Statement'!JPX12,3)","v":0},{"$f":"ROUND('Income Statement'!JPY12,3)","v":0},{"$f":"ROUND('Income Statement'!JPZ12,3)","v":0},{"$f":"ROUND('Income Statement'!JQA12,3)","v":0},{"$f":"ROUND('Income Statement'!JQB12,3)","v":0},{"$f":"ROUND('Income Statement'!JQC12,3)","v":0},{"$f":"ROUND('Income Statement'!JQD12,3)","v":0},{"$f":"ROUND('Income Statement'!JQE12,3)","v":0},{"$f":"ROUND('Income Statement'!JQF12,3)","v":0},{"$f":"ROUND('Income Statement'!JQG12,3)","v":0},{"$f":"ROUND('Income Statement'!JQH12,3)","v":0},{"$f":"ROUND('Income Statement'!JQI12,3)","v":0},{"$f":"ROUND('Income Statement'!JQJ12,3)","v":0},{"$f":"ROUND('Income Statement'!JQK12,3)","v":0},{"$f":"ROUND('Income Statement'!JQL12,3)","v":0},{"$f":"ROUND('Income Statement'!JQM12,3)","v":0},{"$f":"ROUND('Income Statement'!JQN12,3)","v":0},{"$f":"ROUND('Income Statement'!JQO12,3)","v":0},{"$f":"ROUND('Income Statement'!JQP12,3)","v":0},{"$f":"ROUND('Income Statement'!JQQ12,3)","v":0},{"$f":"ROUND('Income Statement'!JQR12,3)","v":0},{"$f":"ROUND('Income Statement'!JQS12,3)","v":0},{"$f":"ROUND('Income Statement'!JQT12,3)","v":0},{"$f":"ROUND('Income Statement'!JQU12,3)","v":0},{"$f":"ROUND('Income Statement'!JQV12,3)","v":0},{"$f":"ROUND('Income Statement'!JQW12,3)","v":0},{"$f":"ROUND('Income Statement'!JQX12,3)","v":0},{"$f":"ROUND('Income Statement'!JQY12,3)","v":0},{"$f":"ROUND('Income Statement'!JQZ12,3)","v":0},{"$f":"ROUND('Income Statement'!JRA12,3)","v":0},{"$f":"ROUND('Income Statement'!JRB12,3)","v":0},{"$f":"ROUND('Income Statement'!JRC12,3)","v":0},{"$f":"ROUND('Income Statement'!JRD12,3)","v":0},{"$f":"ROUND('Income Statement'!JRE12,3)","v":0},{"$f":"ROUND('Income Statement'!JRF12,3)","v":0},{"$f":"ROUND('Income Statement'!JRG12,3)","v":0},{"$f":"ROUND('Income Statement'!JRH12,3)","v":0},{"$f":"ROUND('Income Statement'!JRI12,3)","v":0},{"$f":"ROUND('Income Statement'!JRJ12,3)","v":0},{"$f":"ROUND('Income Statement'!JRK12,3)","v":0},{"$f":"ROUND('Income Statement'!JRL12,3)","v":0},{"$f":"ROUND('Income Statement'!JRM12,3)","v":0},{"$f":"ROUND('Income Statement'!JRN12,3)","v":0},{"$f":"ROUND('Income Statement'!JRO12,3)","v":0},{"$f":"ROUND('Income Statement'!JRP12,3)","v":0},{"$f":"ROUND('Income Statement'!JRQ12,3)","v":0},{"$f":"ROUND('Income Statement'!JRR12,3)","v":0},{"$f":"ROUND('Income Statement'!JRS12,3)","v":0},{"$f":"ROUND('Income Statement'!JRT12,3)","v":0},{"$f":"ROUND('Income Statement'!JRU12,3)","v":0},{"$f":"ROUND('Income Statement'!JRV12,3)","v":0},{"$f":"ROUND('Income Statement'!JRW12,3)","v":0},{"$f":"ROUND('Income Statement'!JRX12,3)","v":0},{"$f":"ROUND('Income Statement'!JRY12,3)","v":0},{"$f":"ROUND('Income Statement'!JRZ12,3)","v":0},{"$f":"ROUND('Income Statement'!JSA12,3)","v":0},{"$f":"ROUND('Income Statement'!JSB12,3)","v":0},{"$f":"ROUND('Income Statement'!JSC12,3)","v":0},{"$f":"ROUND('Income Statement'!JSD12,3)","v":0},{"$f":"ROUND('Income Statement'!JSE12,3)","v":0},{"$f":"ROUND('Income Statement'!JSF12,3)","v":0},{"$f":"ROUND('Income Statement'!JSG12,3)","v":0},{"$f":"ROUND('Income Statement'!JSH12,3)","v":0},{"$f":"ROUND('Income Statement'!JSI12,3)","v":0},{"$f":"ROUND('Income Statement'!JSJ12,3)","v":0},{"$f":"ROUND('Income Statement'!JSK12,3)","v":0},{"$f":"ROUND('Income Statement'!JSL12,3)","v":0},{"$f":"ROUND('Income Statement'!JSM12,3)","v":0},{"$f":"ROUND('Income Statement'!JSN12,3)","v":0},{"$f":"ROUND('Income Statement'!JSO12,3)","v":0},{"$f":"ROUND('Income Statement'!JSP12,3)","v":0},{"$f":"ROUND('Income Statement'!JSQ12,3)","v":0},{"$f":"ROUND('Income Statement'!JSR12,3)","v":0},{"$f":"ROUND('Income Statement'!JSS12,3)","v":0},{"$f":"ROUND('Income Statement'!JST12,3)","v":0},{"$f":"ROUND('Income Statement'!JSU12,3)","v":0},{"$f":"ROUND('Income Statement'!JSV12,3)","v":0},{"$f":"ROUND('Income Statement'!JSW12,3)","v":0},{"$f":"ROUND('Income Statement'!JSX12,3)","v":0},{"$f":"ROUND('Income Statement'!JSY12,3)","v":0},{"$f":"ROUND('Income Statement'!JSZ12,3)","v":0},{"$f":"ROUND('Income Statement'!JTA12,3)","v":0},{"$f":"ROUND('Income Statement'!JTB12,3)","v":0},{"$f":"ROUND('Income Statement'!JTC12,3)","v":0},{"$f":"ROUND('Income Statement'!JTD12,3)","v":0},{"$f":"ROUND('Income Statement'!JTE12,3)","v":0},{"$f":"ROUND('Income Statement'!JTF12,3)","v":0},{"$f":"ROUND('Income Statement'!JTG12,3)","v":0},{"$f":"ROUND('Income Statement'!JTH12,3)","v":0},{"$f":"ROUND('Income Statement'!JTI12,3)","v":0},{"$f":"ROUND('Income Statement'!JTJ12,3)","v":0},{"$f":"ROUND('Income Statement'!JTK12,3)","v":0},{"$f":"ROUND('Income Statement'!JTL12,3)","v":0},{"$f":"ROUND('Income Statement'!JTM12,3)","v":0},{"$f":"ROUND('Income Statement'!JTN12,3)","v":0},{"$f":"ROUND('Income Statement'!JTO12,3)","v":0},{"$f":"ROUND('Income Statement'!JTP12,3)","v":0},{"$f":"ROUND('Income Statement'!JTQ12,3)","v":0},{"$f":"ROUND('Income Statement'!JTR12,3)","v":0},{"$f":"ROUND('Income Statement'!JTS12,3)","v":0},{"$f":"ROUND('Income Statement'!JTT12,3)","v":0},{"$f":"ROUND('Income Statement'!JTU12,3)","v":0},{"$f":"ROUND('Income Statement'!JTV12,3)","v":0},{"$f":"ROUND('Income Statement'!JTW12,3)","v":0},{"$f":"ROUND('Income Statement'!JTX12,3)","v":0},{"$f":"ROUND('Income Statement'!JTY12,3)","v":0},{"$f":"ROUND('Income Statement'!JTZ12,3)","v":0},{"$f":"ROUND('Income Statement'!JUA12,3)","v":0},{"$f":"ROUND('Income Statement'!JUB12,3)","v":0},{"$f":"ROUND('Income Statement'!JUC12,3)","v":0},{"$f":"ROUND('Income Statement'!JUD12,3)","v":0},{"$f":"ROUND('Income Statement'!JUE12,3)","v":0},{"$f":"ROUND('Income Statement'!JUF12,3)","v":0},{"$f":"ROUND('Income Statement'!JUG12,3)","v":0},{"$f":"ROUND('Income Statement'!JUH12,3)","v":0},{"$f":"ROUND('Income Statement'!JUI12,3)","v":0},{"$f":"ROUND('Income Statement'!JUJ12,3)","v":0},{"$f":"ROUND('Income Statement'!JUK12,3)","v":0},{"$f":"ROUND('Income Statement'!JUL12,3)","v":0},{"$f":"ROUND('Income Statement'!JUM12,3)","v":0},{"$f":"ROUND('Income Statement'!JUN12,3)","v":0},{"$f":"ROUND('Income Statement'!JUO12,3)","v":0},{"$f":"ROUND('Income Statement'!JUP12,3)","v":0},{"$f":"ROUND('Income Statement'!JUQ12,3)","v":0},{"$f":"ROUND('Income Statement'!JUR12,3)","v":0},{"$f":"ROUND('Income Statement'!JUS12,3)","v":0},{"$f":"ROUND('Income Statement'!JUT12,3)","v":0},{"$f":"ROUND('Income Statement'!JUU12,3)","v":0},{"$f":"ROUND('Income Statement'!JUV12,3)","v":0},{"$f":"ROUND('Income Statement'!JUW12,3)","v":0},{"$f":"ROUND('Income Statement'!JUX12,3)","v":0},{"$f":"ROUND('Income Statement'!JUY12,3)","v":0},{"$f":"ROUND('Income Statement'!JUZ12,3)","v":0},{"$f":"ROUND('Income Statement'!JVA12,3)","v":0},{"$f":"ROUND('Income Statement'!JVB12,3)","v":0},{"$f":"ROUND('Income Statement'!JVC12,3)","v":0},{"$f":"ROUND('Income Statement'!JVD12,3)","v":0},{"$f":"ROUND('Income Statement'!JVE12,3)","v":0},{"$f":"ROUND('Income Statement'!JVF12,3)","v":0},{"$f":"ROUND('Income Statement'!JVG12,3)","v":0},{"$f":"ROUND('Income Statement'!JVH12,3)","v":0},{"$f":"ROUND('Income Statement'!JVI12,3)","v":0},{"$f":"ROUND('Income Statement'!JVJ12,3)","v":0},{"$f":"ROUND('Income Statement'!JVK12,3)","v":0},{"$f":"ROUND('Income Statement'!JVL12,3)","v":0},{"$f":"ROUND('Income Statement'!JVM12,3)","v":0},{"$f":"ROUND('Income Statement'!JVN12,3)","v":0},{"$f":"ROUND('Income Statement'!JVO12,3)","v":0},{"$f":"ROUND('Income Statement'!JVP12,3)","v":0},{"$f":"ROUND('Income Statement'!JVQ12,3)","v":0},{"$f":"ROUND('Income Statement'!JVR12,3)","v":0},{"$f":"ROUND('Income Statement'!JVS12,3)","v":0},{"$f":"ROUND('Income Statement'!JVT12,3)","v":0},{"$f":"ROUND('Income Statement'!JVU12,3)","v":0},{"$f":"ROUND('Income Statement'!JVV12,3)","v":0},{"$f":"ROUND('Income Statement'!JVW12,3)","v":0},{"$f":"ROUND('Income Statement'!JVX12,3)","v":0},{"$f":"ROUND('Income Statement'!JVY12,3)","v":0},{"$f":"ROUND('Income Statement'!JVZ12,3)","v":0},{"$f":"ROUND('Income Statement'!JWA12,3)","v":0},{"$f":"ROUND('Income Statement'!JWB12,3)","v":0},{"$f":"ROUND('Income Statement'!JWC12,3)","v":0},{"$f":"ROUND('Income Statement'!JWD12,3)","v":0},{"$f":"ROUND('Income Statement'!JWE12,3)","v":0},{"$f":"ROUND('Income Statement'!JWF12,3)","v":0},{"$f":"ROUND('Income Statement'!JWG12,3)","v":0},{"$f":"ROUND('Income Statement'!JWH12,3)","v":0},{"$f":"ROUND('Income Statement'!JWI12,3)","v":0},{"$f":"ROUND('Income Statement'!JWJ12,3)","v":0},{"$f":"ROUND('Income Statement'!JWK12,3)","v":0},{"$f":"ROUND('Income Statement'!JWL12,3)","v":0},{"$f":"ROUND('Income Statement'!JWM12,3)","v":0},{"$f":"ROUND('Income Statement'!JWN12,3)","v":0},{"$f":"ROUND('Income Statement'!JWO12,3)","v":0},{"$f":"ROUND('Income Statement'!JWP12,3)","v":0},{"$f":"ROUND('Income Statement'!JWQ12,3)","v":0},{"$f":"ROUND('Income Statement'!JWR12,3)","v":0},{"$f":"ROUND('Income Statement'!JWS12,3)","v":0},{"$f":"ROUND('Income Statement'!JWT12,3)","v":0},{"$f":"ROUND('Income Statement'!JWU12,3)","v":0},{"$f":"ROUND('Income Statement'!JWV12,3)","v":0},{"$f":"ROUND('Income Statement'!JWW12,3)","v":0},{"$f":"ROUND('Income Statement'!JWX12,3)","v":0},{"$f":"ROUND('Income Statement'!JWY12,3)","v":0},{"$f":"ROUND('Income Statement'!JWZ12,3)","v":0},{"$f":"ROUND('Income Statement'!JXA12,3)","v":0},{"$f":"ROUND('Income Statement'!JXB12,3)","v":0},{"$f":"ROUND('Income Statement'!JXC12,3)","v":0},{"$f":"ROUND('Income Statement'!JXD12,3)","v":0},{"$f":"ROUND('Income Statement'!JXE12,3)","v":0},{"$f":"ROUND('Income Statement'!JXF12,3)","v":0},{"$f":"ROUND('Income Statement'!JXG12,3)","v":0},{"$f":"ROUND('Income Statement'!JXH12,3)","v":0},{"$f":"ROUND('Income Statement'!JXI12,3)","v":0},{"$f":"ROUND('Income Statement'!JXJ12,3)","v":0},{"$f":"ROUND('Income Statement'!JXK12,3)","v":0},{"$f":"ROUND('Income Statement'!JXL12,3)","v":0},{"$f":"ROUND('Income Statement'!JXM12,3)","v":0},{"$f":"ROUND('Income Statement'!JXN12,3)","v":0},{"$f":"ROUND('Income Statement'!JXO12,3)","v":0},{"$f":"ROUND('Income Statement'!JXP12,3)","v":0},{"$f":"ROUND('Income Statement'!JXQ12,3)","v":0},{"$f":"ROUND('Income Statement'!JXR12,3)","v":0},{"$f":"ROUND('Income Statement'!JXS12,3)","v":0},{"$f":"ROUND('Income Statement'!JXT12,3)","v":0},{"$f":"ROUND('Income Statement'!JXU12,3)","v":0},{"$f":"ROUND('Income Statement'!JXV12,3)","v":0},{"$f":"ROUND('Income Statement'!JXW12,3)","v":0},{"$f":"ROUND('Income Statement'!JXX12,3)","v":0},{"$f":"ROUND('Income Statement'!JXY12,3)","v":0},{"$f":"ROUND('Income Statement'!JXZ12,3)","v":0},{"$f":"ROUND('Income Statement'!JYA12,3)","v":0},{"$f":"ROUND('Income Statement'!JYB12,3)","v":0},{"$f":"ROUND('Income Statement'!JYC12,3)","v":0},{"$f":"ROUND('Income Statement'!JYD12,3)","v":0},{"$f":"ROUND('Income Statement'!JYE12,3)","v":0},{"$f":"ROUND('Income Statement'!JYF12,3)","v":0},{"$f":"ROUND('Income Statement'!JYG12,3)","v":0},{"$f":"ROUND('Income Statement'!JYH12,3)","v":0},{"$f":"ROUND('Income Statement'!JYI12,3)","v":0},{"$f":"ROUND('Income Statement'!JYJ12,3)","v":0},{"$f":"ROUND('Income Statement'!JYK12,3)","v":0},{"$f":"ROUND('Income Statement'!JYL12,3)","v":0},{"$f":"ROUND('Income Statement'!JYM12,3)","v":0},{"$f":"ROUND('Income Statement'!JYN12,3)","v":0},{"$f":"ROUND('Income Statement'!JYO12,3)","v":0},{"$f":"ROUND('Income Statement'!JYP12,3)","v":0},{"$f":"ROUND('Income Statement'!JYQ12,3)","v":0},{"$f":"ROUND('Income Statement'!JYR12,3)","v":0},{"$f":"ROUND('Income Statement'!JYS12,3)","v":0},{"$f":"ROUND('Income Statement'!JYT12,3)","v":0},{"$f":"ROUND('Income Statement'!JYU12,3)","v":0},{"$f":"ROUND('Income Statement'!JYV12,3)","v":0},{"$f":"ROUND('Income Statement'!JYW12,3)","v":0},{"$f":"ROUND('Income Statement'!JYX12,3)","v":0},{"$f":"ROUND('Income Statement'!JYY12,3)","v":0},{"$f":"ROUND('Income Statement'!JYZ12,3)","v":0},{"$f":"ROUND('Income Statement'!JZA12,3)","v":0},{"$f":"ROUND('Income Statement'!JZB12,3)","v":0},{"$f":"ROUND('Income Statement'!JZC12,3)","v":0},{"$f":"ROUND('Income Statement'!JZD12,3)","v":0},{"$f":"ROUND('Income Statement'!JZE12,3)","v":0},{"$f":"ROUND('Income Statement'!JZF12,3)","v":0},{"$f":"ROUND('Income Statement'!JZG12,3)","v":0},{"$f":"ROUND('Income Statement'!JZH12,3)","v":0},{"$f":"ROUND('Income Statement'!JZI12,3)","v":0},{"$f":"ROUND('Income Statement'!JZJ12,3)","v":0},{"$f":"ROUND('Income Statement'!JZK12,3)","v":0},{"$f":"ROUND('Income Statement'!JZL12,3)","v":0},{"$f":"ROUND('Income Statement'!JZM12,3)","v":0},{"$f":"ROUND('Income Statement'!JZN12,3)","v":0},{"$f":"ROUND('Income Statement'!JZO12,3)","v":0},{"$f":"ROUND('Income Statement'!JZP12,3)","v":0},{"$f":"ROUND('Income Statement'!JZQ12,3)","v":0},{"$f":"ROUND('Income Statement'!JZR12,3)","v":0},{"$f":"ROUND('Income Statement'!JZS12,3)","v":0},{"$f":"ROUND('Income Statement'!JZT12,3)","v":0},{"$f":"ROUND('Income Statement'!JZU12,3)","v":0},{"$f":"ROUND('Income Statement'!JZV12,3)","v":0},{"$f":"ROUND('Income Statement'!JZW12,3)","v":0},{"$f":"ROUND('Income Statement'!JZX12,3)","v":0},{"$f":"ROUND('Income Statement'!JZY12,3)","v":0},{"$f":"ROUND('Income Statement'!JZZ12,3)","v":0},{"$f":"ROUND('Income Statement'!KAA12,3)","v":0},{"$f":"ROUND('Income Statement'!KAB12,3)","v":0},{"$f":"ROUND('Income Statement'!KAC12,3)","v":0},{"$f":"ROUND('Income Statement'!KAD12,3)","v":0},{"$f":"ROUND('Income Statement'!KAE12,3)","v":0},{"$f":"ROUND('Income Statement'!KAF12,3)","v":0},{"$f":"ROUND('Income Statement'!KAG12,3)","v":0},{"$f":"ROUND('Income Statement'!KAH12,3)","v":0},{"$f":"ROUND('Income Statement'!KAI12,3)","v":0},{"$f":"ROUND('Income Statement'!KAJ12,3)","v":0},{"$f":"ROUND('Income Statement'!KAK12,3)","v":0},{"$f":"ROUND('Income Statement'!KAL12,3)","v":0},{"$f":"ROUND('Income Statement'!KAM12,3)","v":0},{"$f":"ROUND('Income Statement'!KAN12,3)","v":0},{"$f":"ROUND('Income Statement'!KAO12,3)","v":0},{"$f":"ROUND('Income Statement'!KAP12,3)","v":0},{"$f":"ROUND('Income Statement'!KAQ12,3)","v":0},{"$f":"ROUND('Income Statement'!KAR12,3)","v":0},{"$f":"ROUND('Income Statement'!KAS12,3)","v":0},{"$f":"ROUND('Income Statement'!KAT12,3)","v":0},{"$f":"ROUND('Income Statement'!KAU12,3)","v":0},{"$f":"ROUND('Income Statement'!KAV12,3)","v":0},{"$f":"ROUND('Income Statement'!KAW12,3)","v":0},{"$f":"ROUND('Income Statement'!KAX12,3)","v":0},{"$f":"ROUND('Income Statement'!KAY12,3)","v":0},{"$f":"ROUND('Income Statement'!KAZ12,3)","v":0},{"$f":"ROUND('Income Statement'!KBA12,3)","v":0},{"$f":"ROUND('Income Statement'!KBB12,3)","v":0},{"$f":"ROUND('Income Statement'!KBC12,3)","v":0},{"$f":"ROUND('Income Statement'!KBD12,3)","v":0},{"$f":"ROUND('Income Statement'!KBE12,3)","v":0},{"$f":"ROUND('Income Statement'!KBF12,3)","v":0},{"$f":"ROUND('Income Statement'!KBG12,3)","v":0},{"$f":"ROUND('Income Statement'!KBH12,3)","v":0},{"$f":"ROUND('Income Statement'!KBI12,3)","v":0},{"$f":"ROUND('Income Statement'!KBJ12,3)","v":0},{"$f":"ROUND('Income Statement'!KBK12,3)","v":0},{"$f":"ROUND('Income Statement'!KBL12,3)","v":0},{"$f":"ROUND('Income Statement'!KBM12,3)","v":0},{"$f":"ROUND('Income Statement'!KBN12,3)","v":0},{"$f":"ROUND('Income Statement'!KBO12,3)","v":0},{"$f":"ROUND('Income Statement'!KBP12,3)","v":0},{"$f":"ROUND('Income Statement'!KBQ12,3)","v":0},{"$f":"ROUND('Income Statement'!KBR12,3)","v":0},{"$f":"ROUND('Income Statement'!KBS12,3)","v":0},{"$f":"ROUND('Income Statement'!KBT12,3)","v":0},{"$f":"ROUND('Income Statement'!KBU12,3)","v":0},{"$f":"ROUND('Income Statement'!KBV12,3)","v":0},{"$f":"ROUND('Income Statement'!KBW12,3)","v":0},{"$f":"ROUND('Income Statement'!KBX12,3)","v":0},{"$f":"ROUND('Income Statement'!KBY12,3)","v":0},{"$f":"ROUND('Income Statement'!KBZ12,3)","v":0},{"$f":"ROUND('Income Statement'!KCA12,3)","v":0},{"$f":"ROUND('Income Statement'!KCB12,3)","v":0},{"$f":"ROUND('Income Statement'!KCC12,3)","v":0},{"$f":"ROUND('Income Statement'!KCD12,3)","v":0},{"$f":"ROUND('Income Statement'!KCE12,3)","v":0},{"$f":"ROUND('Income Statement'!KCF12,3)","v":0},{"$f":"ROUND('Income Statement'!KCG12,3)","v":0},{"$f":"ROUND('Income Statement'!KCH12,3)","v":0},{"$f":"ROUND('Income Statement'!KCI12,3)","v":0},{"$f":"ROUND('Income Statement'!KCJ12,3)","v":0},{"$f":"ROUND('Income Statement'!KCK12,3)","v":0},{"$f":"ROUND('Income Statement'!KCL12,3)","v":0},{"$f":"ROUND('Income Statement'!KCM12,3)","v":0},{"$f":"ROUND('Income Statement'!KCN12,3)","v":0},{"$f":"ROUND('Income Statement'!KCO12,3)","v":0},{"$f":"ROUND('Income Statement'!KCP12,3)","v":0},{"$f":"ROUND('Income Statement'!KCQ12,3)","v":0},{"$f":"ROUND('Income Statement'!KCR12,3)","v":0},{"$f":"ROUND('Income Statement'!KCS12,3)","v":0},{"$f":"ROUND('Income Statement'!KCT12,3)","v":0},{"$f":"ROUND('Income Statement'!KCU12,3)","v":0},{"$f":"ROUND('Income Statement'!KCV12,3)","v":0},{"$f":"ROUND('Income Statement'!KCW12,3)","v":0},{"$f":"ROUND('Income Statement'!KCX12,3)","v":0},{"$f":"ROUND('Income Statement'!KCY12,3)","v":0},{"$f":"ROUND('Income Statement'!KCZ12,3)","v":0},{"$f":"ROUND('Income Statement'!KDA12,3)","v":0},{"$f":"ROUND('Income Statement'!KDB12,3)","v":0},{"$f":"ROUND('Income Statement'!KDC12,3)","v":0},{"$f":"ROUND('Income Statement'!KDD12,3)","v":0},{"$f":"ROUND('Income Statement'!KDE12,3)","v":0},{"$f":"ROUND('Income Statement'!KDF12,3)","v":0},{"$f":"ROUND('Income Statement'!KDG12,3)","v":0},{"$f":"ROUND('Income Statement'!KDH12,3)","v":0},{"$f":"ROUND('Income Statement'!KDI12,3)","v":0},{"$f":"ROUND('Income Statement'!KDJ12,3)","v":0},{"$f":"ROUND('Income Statement'!KDK12,3)","v":0},{"$f":"ROUND('Income Statement'!KDL12,3)","v":0},{"$f":"ROUND('Income Statement'!KDM12,3)","v":0},{"$f":"ROUND('Income Statement'!KDN12,3)","v":0},{"$f":"ROUND('Income Statement'!KDO12,3)","v":0},{"$f":"ROUND('Income Statement'!KDP12,3)","v":0},{"$f":"ROUND('Income Statement'!KDQ12,3)","v":0},{"$f":"ROUND('Income Statement'!KDR12,3)","v":0},{"$f":"ROUND('Income Statement'!KDS12,3)","v":0},{"$f":"ROUND('Income Statement'!KDT12,3)","v":0},{"$f":"ROUND('Income Statement'!KDU12,3)","v":0},{"$f":"ROUND('Income Statement'!KDV12,3)","v":0},{"$f":"ROUND('Income Statement'!KDW12,3)","v":0},{"$f":"ROUND('Income Statement'!KDX12,3)","v":0},{"$f":"ROUND('Income Statement'!KDY12,3)","v":0},{"$f":"ROUND('Income Statement'!KDZ12,3)","v":0},{"$f":"ROUND('Income Statement'!KEA12,3)","v":0},{"$f":"ROUND('Income Statement'!KEB12,3)","v":0},{"$f":"ROUND('Income Statement'!KEC12,3)","v":0},{"$f":"ROUND('Income Statement'!KED12,3)","v":0},{"$f":"ROUND('Income Statement'!KEE12,3)","v":0},{"$f":"ROUND('Income Statement'!KEF12,3)","v":0},{"$f":"ROUND('Income Statement'!KEG12,3)","v":0},{"$f":"ROUND('Income Statement'!KEH12,3)","v":0},{"$f":"ROUND('Income Statement'!KEI12,3)","v":0},{"$f":"ROUND('Income Statement'!KEJ12,3)","v":0},{"$f":"ROUND('Income Statement'!KEK12,3)","v":0},{"$f":"ROUND('Income Statement'!KEL12,3)","v":0},{"$f":"ROUND('Income Statement'!KEM12,3)","v":0},{"$f":"ROUND('Income Statement'!KEN12,3)","v":0},{"$f":"ROUND('Income Statement'!KEO12,3)","v":0},{"$f":"ROUND('Income Statement'!KEP12,3)","v":0},{"$f":"ROUND('Income Statement'!KEQ12,3)","v":0},{"$f":"ROUND('Income Statement'!KER12,3)","v":0},{"$f":"ROUND('Income Statement'!KES12,3)","v":0},{"$f":"ROUND('Income Statement'!KET12,3)","v":0},{"$f":"ROUND('Income Statement'!KEU12,3)","v":0},{"$f":"ROUND('Income Statement'!KEV12,3)","v":0},{"$f":"ROUND('Income Statement'!KEW12,3)","v":0},{"$f":"ROUND('Income Statement'!KEX12,3)","v":0},{"$f":"ROUND('Income Statement'!KEY12,3)","v":0},{"$f":"ROUND('Income Statement'!KEZ12,3)","v":0},{"$f":"ROUND('Income Statement'!KFA12,3)","v":0},{"$f":"ROUND('Income Statement'!KFB12,3)","v":0},{"$f":"ROUND('Income Statement'!KFC12,3)","v":0},{"$f":"ROUND('Income Statement'!KFD12,3)","v":0},{"$f":"ROUND('Income Statement'!KFE12,3)","v":0},{"$f":"ROUND('Income Statement'!KFF12,3)","v":0},{"$f":"ROUND('Income Statement'!KFG12,3)","v":0},{"$f":"ROUND('Income Statement'!KFH12,3)","v":0},{"$f":"ROUND('Income Statement'!KFI12,3)","v":0},{"$f":"ROUND('Income Statement'!KFJ12,3)","v":0},{"$f":"ROUND('Income Statement'!KFK12,3)","v":0},{"$f":"ROUND('Income Statement'!KFL12,3)","v":0},{"$f":"ROUND('Income Statement'!KFM12,3)","v":0},{"$f":"ROUND('Income Statement'!KFN12,3)","v":0},{"$f":"ROUND('Income Statement'!KFO12,3)","v":0},{"$f":"ROUND('Income Statement'!KFP12,3)","v":0},{"$f":"ROUND('Income Statement'!KFQ12,3)","v":0},{"$f":"ROUND('Income Statement'!KFR12,3)","v":0},{"$f":"ROUND('Income Statement'!KFS12,3)","v":0},{"$f":"ROUND('Income Statement'!KFT12,3)","v":0},{"$f":"ROUND('Income Statement'!KFU12,3)","v":0},{"$f":"ROUND('Income Statement'!KFV12,3)","v":0},{"$f":"ROUND('Income Statement'!KFW12,3)","v":0},{"$f":"ROUND('Income Statement'!KFX12,3)","v":0},{"$f":"ROUND('Income Statement'!KFY12,3)","v":0},{"$f":"ROUND('Income Statement'!KFZ12,3)","v":0},{"$f":"ROUND('Income Statement'!KGA12,3)","v":0},{"$f":"ROUND('Income Statement'!KGB12,3)","v":0},{"$f":"ROUND('Income Statement'!KGC12,3)","v":0},{"$f":"ROUND('Income Statement'!KGD12,3)","v":0},{"$f":"ROUND('Income Statement'!KGE12,3)","v":0},{"$f":"ROUND('Income Statement'!KGF12,3)","v":0},{"$f":"ROUND('Income Statement'!KGG12,3)","v":0},{"$f":"ROUND('Income Statement'!KGH12,3)","v":0},{"$f":"ROUND('Income Statement'!KGI12,3)","v":0},{"$f":"ROUND('Income Statement'!KGJ12,3)","v":0},{"$f":"ROUND('Income Statement'!KGK12,3)","v":0},{"$f":"ROUND('Income Statement'!KGL12,3)","v":0},{"$f":"ROUND('Income Statement'!KGM12,3)","v":0},{"$f":"ROUND('Income Statement'!KGN12,3)","v":0},{"$f":"ROUND('Income Statement'!KGO12,3)","v":0},{"$f":"ROUND('Income Statement'!KGP12,3)","v":0},{"$f":"ROUND('Income Statement'!KGQ12,3)","v":0},{"$f":"ROUND('Income Statement'!KGR12,3)","v":0},{"$f":"ROUND('Income Statement'!KGS12,3)","v":0},{"$f":"ROUND('Income Statement'!KGT12,3)","v":0},{"$f":"ROUND('Income Statement'!KGU12,3)","v":0},{"$f":"ROUND('Income Statement'!KGV12,3)","v":0},{"$f":"ROUND('Income Statement'!KGW12,3)","v":0},{"$f":"ROUND('Income Statement'!KGX12,3)","v":0},{"$f":"ROUND('Income Statement'!KGY12,3)","v":0},{"$f":"ROUND('Income Statement'!KGZ12,3)","v":0},{"$f":"ROUND('Income Statement'!KHA12,3)","v":0},{"$f":"ROUND('Income Statement'!KHB12,3)","v":0},{"$f":"ROUND('Income Statement'!KHC12,3)","v":0},{"$f":"ROUND('Income Statement'!KHD12,3)","v":0},{"$f":"ROUND('Income Statement'!KHE12,3)","v":0},{"$f":"ROUND('Income Statement'!KHF12,3)","v":0},{"$f":"ROUND('Income Statement'!KHG12,3)","v":0},{"$f":"ROUND('Income Statement'!KHH12,3)","v":0},{"$f":"ROUND('Income Statement'!KHI12,3)","v":0},{"$f":"ROUND('Income Statement'!KHJ12,3)","v":0},{"$f":"ROUND('Income Statement'!KHK12,3)","v":0},{"$f":"ROUND('Income Statement'!KHL12,3)","v":0},{"$f":"ROUND('Income Statement'!KHM12,3)","v":0},{"$f":"ROUND('Income Statement'!KHN12,3)","v":0},{"$f":"ROUND('Income Statement'!KHO12,3)","v":0},{"$f":"ROUND('Income Statement'!KHP12,3)","v":0},{"$f":"ROUND('Income Statement'!KHQ12,3)","v":0},{"$f":"ROUND('Income Statement'!KHR12,3)","v":0},{"$f":"ROUND('Income Statement'!KHS12,3)","v":0},{"$f":"ROUND('Income Statement'!KHT12,3)","v":0},{"$f":"ROUND('Income Statement'!KHU12,3)","v":0},{"$f":"ROUND('Income Statement'!KHV12,3)","v":0},{"$f":"ROUND('Income Statement'!KHW12,3)","v":0},{"$f":"ROUND('Income Statement'!KHX12,3)","v":0},{"$f":"ROUND('Income Statement'!KHY12,3)","v":0},{"$f":"ROUND('Income Statement'!KHZ12,3)","v":0},{"$f":"ROUND('Income Statement'!KIA12,3)","v":0},{"$f":"ROUND('Income Statement'!KIB12,3)","v":0},{"$f":"ROUND('Income Statement'!KIC12,3)","v":0},{"$f":"ROUND('Income Statement'!KID12,3)","v":0},{"$f":"ROUND('Income Statement'!KIE12,3)","v":0},{"$f":"ROUND('Income Statement'!KIF12,3)","v":0},{"$f":"ROUND('Income Statement'!KIG12,3)","v":0},{"$f":"ROUND('Income Statement'!KIH12,3)","v":0},{"$f":"ROUND('Income Statement'!KII12,3)","v":0},{"$f":"ROUND('Income Statement'!KIJ12,3)","v":0},{"$f":"ROUND('Income Statement'!KIK12,3)","v":0},{"$f":"ROUND('Income Statement'!KIL12,3)","v":0},{"$f":"ROUND('Income Statement'!KIM12,3)","v":0},{"$f":"ROUND('Income Statement'!KIN12,3)","v":0},{"$f":"ROUND('Income Statement'!KIO12,3)","v":0},{"$f":"ROUND('Income Statement'!KIP12,3)","v":0},{"$f":"ROUND('Income Statement'!KIQ12,3)","v":0},{"$f":"ROUND('Income Statement'!KIR12,3)","v":0},{"$f":"ROUND('Income Statement'!KIS12,3)","v":0},{"$f":"ROUND('Income Statement'!KIT12,3)","v":0},{"$f":"ROUND('Income Statement'!KIU12,3)","v":0},{"$f":"ROUND('Income Statement'!KIV12,3)","v":0},{"$f":"ROUND('Income Statement'!KIW12,3)","v":0},{"$f":"ROUND('Income Statement'!KIX12,3)","v":0},{"$f":"ROUND('Income Statement'!KIY12,3)","v":0},{"$f":"ROUND('Income Statement'!KIZ12,3)","v":0},{"$f":"ROUND('Income Statement'!KJA12,3)","v":0},{"$f":"ROUND('Income Statement'!KJB12,3)","v":0},{"$f":"ROUND('Income Statement'!KJC12,3)","v":0},{"$f":"ROUND('Income Statement'!KJD12,3)","v":0},{"$f":"ROUND('Income Statement'!KJE12,3)","v":0},{"$f":"ROUND('Income Statement'!KJF12,3)","v":0},{"$f":"ROUND('Income Statement'!KJG12,3)","v":0},{"$f":"ROUND('Income Statement'!KJH12,3)","v":0},{"$f":"ROUND('Income Statement'!KJI12,3)","v":0},{"$f":"ROUND('Income Statement'!KJJ12,3)","v":0},{"$f":"ROUND('Income Statement'!KJK12,3)","v":0},{"$f":"ROUND('Income Statement'!KJL12,3)","v":0},{"$f":"ROUND('Income Statement'!KJM12,3)","v":0},{"$f":"ROUND('Income Statement'!KJN12,3)","v":0},{"$f":"ROUND('Income Statement'!KJO12,3)","v":0},{"$f":"ROUND('Income Statement'!KJP12,3)","v":0},{"$f":"ROUND('Income Statement'!KJQ12,3)","v":0},{"$f":"ROUND('Income Statement'!KJR12,3)","v":0},{"$f":"ROUND('Income Statement'!KJS12,3)","v":0},{"$f":"ROUND('Income Statement'!KJT12,3)","v":0},{"$f":"ROUND('Income Statement'!KJU12,3)","v":0},{"$f":"ROUND('Income Statement'!KJV12,3)","v":0},{"$f":"ROUND('Income Statement'!KJW12,3)","v":0},{"$f":"ROUND('Income Statement'!KJX12,3)","v":0},{"$f":"ROUND('Income Statement'!KJY12,3)","v":0},{"$f":"ROUND('Income Statement'!KJZ12,3)","v":0},{"$f":"ROUND('Income Statement'!KKA12,3)","v":0},{"$f":"ROUND('Income Statement'!KKB12,3)","v":0},{"$f":"ROUND('Income Statement'!KKC12,3)","v":0},{"$f":"ROUND('Income Statement'!KKD12,3)","v":0},{"$f":"ROUND('Income Statement'!KKE12,3)","v":0},{"$f":"ROUND('Income Statement'!KKF12,3)","v":0},{"$f":"ROUND('Income Statement'!KKG12,3)","v":0},{"$f":"ROUND('Income Statement'!KKH12,3)","v":0},{"$f":"ROUND('Income Statement'!KKI12,3)","v":0},{"$f":"ROUND('Income Statement'!KKJ12,3)","v":0},{"$f":"ROUND('Income Statement'!KKK12,3)","v":0},{"$f":"ROUND('Income Statement'!KKL12,3)","v":0},{"$f":"ROUND('Income Statement'!KKM12,3)","v":0},{"$f":"ROUND('Income Statement'!KKN12,3)","v":0},{"$f":"ROUND('Income Statement'!KKO12,3)","v":0},{"$f":"ROUND('Income Statement'!KKP12,3)","v":0},{"$f":"ROUND('Income Statement'!KKQ12,3)","v":0},{"$f":"ROUND('Income Statement'!KKR12,3)","v":0},{"$f":"ROUND('Income Statement'!KKS12,3)","v":0},{"$f":"ROUND('Income Statement'!KKT12,3)","v":0},{"$f":"ROUND('Income Statement'!KKU12,3)","v":0},{"$f":"ROUND('Income Statement'!KKV12,3)","v":0},{"$f":"ROUND('Income Statement'!KKW12,3)","v":0},{"$f":"ROUND('Income Statement'!KKX12,3)","v":0},{"$f":"ROUND('Income Statement'!KKY12,3)","v":0},{"$f":"ROUND('Income Statement'!KKZ12,3)","v":0},{"$f":"ROUND('Income Statement'!KLA12,3)","v":0},{"$f":"ROUND('Income Statement'!KLB12,3)","v":0},{"$f":"ROUND('Income Statement'!KLC12,3)","v":0},{"$f":"ROUND('Income Statement'!KLD12,3)","v":0},{"$f":"ROUND('Income Statement'!KLE12,3)","v":0},{"$f":"ROUND('Income Statement'!KLF12,3)","v":0},{"$f":"ROUND('Income Statement'!KLG12,3)","v":0},{"$f":"ROUND('Income Statement'!KLH12,3)","v":0},{"$f":"ROUND('Income Statement'!KLI12,3)","v":0},{"$f":"ROUND('Income Statement'!KLJ12,3)","v":0},{"$f":"ROUND('Income Statement'!KLK12,3)","v":0},{"$f":"ROUND('Income Statement'!KLL12,3)","v":0},{"$f":"ROUND('Income Statement'!KLM12,3)","v":0},{"$f":"ROUND('Income Statement'!KLN12,3)","v":0},{"$f":"ROUND('Income Statement'!KLO12,3)","v":0},{"$f":"ROUND('Income Statement'!KLP12,3)","v":0},{"$f":"ROUND('Income Statement'!KLQ12,3)","v":0},{"$f":"ROUND('Income Statement'!KLR12,3)","v":0},{"$f":"ROUND('Income Statement'!KLS12,3)","v":0},{"$f":"ROUND('Income Statement'!KLT12,3)","v":0},{"$f":"ROUND('Income Statement'!KLU12,3)","v":0},{"$f":"ROUND('Income Statement'!KLV12,3)","v":0},{"$f":"ROUND('Income Statement'!KLW12,3)","v":0},{"$f":"ROUND('Income Statement'!KLX12,3)","v":0},{"$f":"ROUND('Income Statement'!KLY12,3)","v":0},{"$f":"ROUND('Income Statement'!KLZ12,3)","v":0},{"$f":"ROUND('Income Statement'!KMA12,3)","v":0},{"$f":"ROUND('Income Statement'!KMB12,3)","v":0},{"$f":"ROUND('Income Statement'!KMC12,3)","v":0},{"$f":"ROUND('Income Statement'!KMD12,3)","v":0},{"$f":"ROUND('Income Statement'!KME12,3)","v":0},{"$f":"ROUND('Income Statement'!KMF12,3)","v":0},{"$f":"ROUND('Income Statement'!KMG12,3)","v":0},{"$f":"ROUND('Income Statement'!KMH12,3)","v":0},{"$f":"ROUND('Income Statement'!KMI12,3)","v":0},{"$f":"ROUND('Income Statement'!KMJ12,3)","v":0},{"$f":"ROUND('Income Statement'!KMK12,3)","v":0},{"$f":"ROUND('Income Statement'!KML12,3)","v":0},{"$f":"ROUND('Income Statement'!KMM12,3)","v":0},{"$f":"ROUND('Income Statement'!KMN12,3)","v":0},{"$f":"ROUND('Income Statement'!KMO12,3)","v":0},{"$f":"ROUND('Income Statement'!KMP12,3)","v":0},{"$f":"ROUND('Income Statement'!KMQ12,3)","v":0},{"$f":"ROUND('Income Statement'!KMR12,3)","v":0},{"$f":"ROUND('Income Statement'!KMS12,3)","v":0},{"$f":"ROUND('Income Statement'!KMT12,3)","v":0},{"$f":"ROUND('Income Statement'!KMU12,3)","v":0},{"$f":"ROUND('Income Statement'!KMV12,3)","v":0},{"$f":"ROUND('Income Statement'!KMW12,3)","v":0},{"$f":"ROUND('Income Statement'!KMX12,3)","v":0},{"$f":"ROUND('Income Statement'!KMY12,3)","v":0},{"$f":"ROUND('Income Statement'!KMZ12,3)","v":0},{"$f":"ROUND('Income Statement'!KNA12,3)","v":0},{"$f":"ROUND('Income Statement'!KNB12,3)","v":0},{"$f":"ROUND('Income Statement'!KNC12,3)","v":0},{"$f":"ROUND('Income Statement'!KND12,3)","v":0},{"$f":"ROUND('Income Statement'!KNE12,3)","v":0},{"$f":"ROUND('Income Statement'!KNF12,3)","v":0},{"$f":"ROUND('Income Statement'!KNG12,3)","v":0},{"$f":"ROUND('Income Statement'!KNH12,3)","v":0},{"$f":"ROUND('Income Statement'!KNI12,3)","v":0},{"$f":"ROUND('Income Statement'!KNJ12,3)","v":0},{"$f":"ROUND('Income Statement'!KNK12,3)","v":0},{"$f":"ROUND('Income Statement'!KNL12,3)","v":0},{"$f":"ROUND('Income Statement'!KNM12,3)","v":0},{"$f":"ROUND('Income Statement'!KNN12,3)","v":0},{"$f":"ROUND('Income Statement'!KNO12,3)","v":0},{"$f":"ROUND('Income Statement'!KNP12,3)","v":0},{"$f":"ROUND('Income Statement'!KNQ12,3)","v":0},{"$f":"ROUND('Income Statement'!KNR12,3)","v":0},{"$f":"ROUND('Income Statement'!KNS12,3)","v":0},{"$f":"ROUND('Income Statement'!KNT12,3)","v":0},{"$f":"ROUND('Income Statement'!KNU12,3)","v":0},{"$f":"ROUND('Income Statement'!KNV12,3)","v":0},{"$f":"ROUND('Income Statement'!KNW12,3)","v":0},{"$f":"ROUND('Income Statement'!KNX12,3)","v":0},{"$f":"ROUND('Income Statement'!KNY12,3)","v":0},{"$f":"ROUND('Income Statement'!KNZ12,3)","v":0},{"$f":"ROUND('Income Statement'!KOA12,3)","v":0},{"$f":"ROUND('Income Statement'!KOB12,3)","v":0},{"$f":"ROUND('Income Statement'!KOC12,3)","v":0},{"$f":"ROUND('Income Statement'!KOD12,3)","v":0},{"$f":"ROUND('Income Statement'!KOE12,3)","v":0},{"$f":"ROUND('Income Statement'!KOF12,3)","v":0},{"$f":"ROUND('Income Statement'!KOG12,3)","v":0},{"$f":"ROUND('Income Statement'!KOH12,3)","v":0},{"$f":"ROUND('Income Statement'!KOI12,3)","v":0},{"$f":"ROUND('Income Statement'!KOJ12,3)","v":0},{"$f":"ROUND('Income Statement'!KOK12,3)","v":0},{"$f":"ROUND('Income Statement'!KOL12,3)","v":0},{"$f":"ROUND('Income Statement'!KOM12,3)","v":0},{"$f":"ROUND('Income Statement'!KON12,3)","v":0},{"$f":"ROUND('Income Statement'!KOO12,3)","v":0},{"$f":"ROUND('Income Statement'!KOP12,3)","v":0},{"$f":"ROUND('Income Statement'!KOQ12,3)","v":0},{"$f":"ROUND('Income Statement'!KOR12,3)","v":0},{"$f":"ROUND('Income Statement'!KOS12,3)","v":0},{"$f":"ROUND('Income Statement'!KOT12,3)","v":0},{"$f":"ROUND('Income Statement'!KOU12,3)","v":0},{"$f":"ROUND('Income Statement'!KOV12,3)","v":0},{"$f":"ROUND('Income Statement'!KOW12,3)","v":0},{"$f":"ROUND('Income Statement'!KOX12,3)","v":0},{"$f":"ROUND('Income Statement'!KOY12,3)","v":0},{"$f":"ROUND('Income Statement'!KOZ12,3)","v":0},{"$f":"ROUND('Income Statement'!KPA12,3)","v":0},{"$f":"ROUND('Income Statement'!KPB12,3)","v":0},{"$f":"ROUND('Income Statement'!KPC12,3)","v":0},{"$f":"ROUND('Income Statement'!KPD12,3)","v":0},{"$f":"ROUND('Income Statement'!KPE12,3)","v":0},{"$f":"ROUND('Income Statement'!KPF12,3)","v":0},{"$f":"ROUND('Income Statement'!KPG12,3)","v":0},{"$f":"ROUND('Income Statement'!KPH12,3)","v":0},{"$f":"ROUND('Income Statement'!KPI12,3)","v":0},{"$f":"ROUND('Income Statement'!KPJ12,3)","v":0},{"$f":"ROUND('Income Statement'!KPK12,3)","v":0},{"$f":"ROUND('Income Statement'!KPL12,3)","v":0},{"$f":"ROUND('Income Statement'!KPM12,3)","v":0},{"$f":"ROUND('Income Statement'!KPN12,3)","v":0},{"$f":"ROUND('Income Statement'!KPO12,3)","v":0},{"$f":"ROUND('Income Statement'!KPP12,3)","v":0},{"$f":"ROUND('Income Statement'!KPQ12,3)","v":0},{"$f":"ROUND('Income Statement'!KPR12,3)","v":0},{"$f":"ROUND('Income Statement'!KPS12,3)","v":0},{"$f":"ROUND('Income Statement'!KPT12,3)","v":0},{"$f":"ROUND('Income Statement'!KPU12,3)","v":0},{"$f":"ROUND('Income Statement'!KPV12,3)","v":0},{"$f":"ROUND('Income Statement'!KPW12,3)","v":0},{"$f":"ROUND('Income Statement'!KPX12,3)","v":0},{"$f":"ROUND('Income Statement'!KPY12,3)","v":0},{"$f":"ROUND('Income Statement'!KPZ12,3)","v":0},{"$f":"ROUND('Income Statement'!KQA12,3)","v":0},{"$f":"ROUND('Income Statement'!KQB12,3)","v":0},{"$f":"ROUND('Income Statement'!KQC12,3)","v":0},{"$f":"ROUND('Income Statement'!KQD12,3)","v":0},{"$f":"ROUND('Income Statement'!KQE12,3)","v":0},{"$f":"ROUND('Income Statement'!KQF12,3)","v":0},{"$f":"ROUND('Income Statement'!KQG12,3)","v":0},{"$f":"ROUND('Income Statement'!KQH12,3)","v":0},{"$f":"ROUND('Income Statement'!KQI12,3)","v":0},{"$f":"ROUND('Income Statement'!KQJ12,3)","v":0},{"$f":"ROUND('Income Statement'!KQK12,3)","v":0},{"$f":"ROUND('Income Statement'!KQL12,3)","v":0},{"$f":"ROUND('Income Statement'!KQM12,3)","v":0},{"$f":"ROUND('Income Statement'!KQN12,3)","v":0},{"$f":"ROUND('Income Statement'!KQO12,3)","v":0},{"$f":"ROUND('Income Statement'!KQP12,3)","v":0},{"$f":"ROUND('Income Statement'!KQQ12,3)","v":0},{"$f":"ROUND('Income Statement'!KQR12,3)","v":0},{"$f":"ROUND('Income Statement'!KQS12,3)","v":0},{"$f":"ROUND('Income Statement'!KQT12,3)","v":0},{"$f":"ROUND('Income Statement'!KQU12,3)","v":0},{"$f":"ROUND('Income Statement'!KQV12,3)","v":0},{"$f":"ROUND('Income Statement'!KQW12,3)","v":0},{"$f":"ROUND('Income Statement'!KQX12,3)","v":0},{"$f":"ROUND('Income Statement'!KQY12,3)","v":0},{"$f":"ROUND('Income Statement'!KQZ12,3)","v":0},{"$f":"ROUND('Income Statement'!KRA12,3)","v":0},{"$f":"ROUND('Income Statement'!KRB12,3)","v":0},{"$f":"ROUND('Income Statement'!KRC12,3)","v":0},{"$f":"ROUND('Income Statement'!KRD12,3)","v":0},{"$f":"ROUND('Income Statement'!KRE12,3)","v":0},{"$f":"ROUND('Income Statement'!KRF12,3)","v":0},{"$f":"ROUND('Income Statement'!KRG12,3)","v":0},{"$f":"ROUND('Income Statement'!KRH12,3)","v":0},{"$f":"ROUND('Income Statement'!KRI12,3)","v":0},{"$f":"ROUND('Income Statement'!KRJ12,3)","v":0},{"$f":"ROUND('Income Statement'!KRK12,3)","v":0},{"$f":"ROUND('Income Statement'!KRL12,3)","v":0},{"$f":"ROUND('Income Statement'!KRM12,3)","v":0},{"$f":"ROUND('Income Statement'!KRN12,3)","v":0},{"$f":"ROUND('Income Statement'!KRO12,3)","v":0},{"$f":"ROUND('Income Statement'!KRP12,3)","v":0},{"$f":"ROUND('Income Statement'!KRQ12,3)","v":0},{"$f":"ROUND('Income Statement'!KRR12,3)","v":0},{"$f":"ROUND('Income Statement'!KRS12,3)","v":0},{"$f":"ROUND('Income Statement'!KRT12,3)","v":0},{"$f":"ROUND('Income Statement'!KRU12,3)","v":0},{"$f":"ROUND('Income Statement'!KRV12,3)","v":0},{"$f":"ROUND('Income Statement'!KRW12,3)","v":0},{"$f":"ROUND('Income Statement'!KRX12,3)","v":0},{"$f":"ROUND('Income Statement'!KRY12,3)","v":0},{"$f":"ROUND('Income Statement'!KRZ12,3)","v":0},{"$f":"ROUND('Income Statement'!KSA12,3)","v":0},{"$f":"ROUND('Income Statement'!KSB12,3)","v":0},{"$f":"ROUND('Income Statement'!KSC12,3)","v":0},{"$f":"ROUND('Income Statement'!KSD12,3)","v":0},{"$f":"ROUND('Income Statement'!KSE12,3)","v":0},{"$f":"ROUND('Income Statement'!KSF12,3)","v":0},{"$f":"ROUND('Income Statement'!KSG12,3)","v":0},{"$f":"ROUND('Income Statement'!KSH12,3)","v":0},{"$f":"ROUND('Income Statement'!KSI12,3)","v":0},{"$f":"ROUND('Income Statement'!KSJ12,3)","v":0},{"$f":"ROUND('Income Statement'!KSK12,3)","v":0},{"$f":"ROUND('Income Statement'!KSL12,3)","v":0},{"$f":"ROUND('Income Statement'!KSM12,3)","v":0},{"$f":"ROUND('Income Statement'!KSN12,3)","v":0},{"$f":"ROUND('Income Statement'!KSO12,3)","v":0},{"$f":"ROUND('Income Statement'!KSP12,3)","v":0},{"$f":"ROUND('Income Statement'!KSQ12,3)","v":0},{"$f":"ROUND('Income Statement'!KSR12,3)","v":0},{"$f":"ROUND('Income Statement'!KSS12,3)","v":0},{"$f":"ROUND('Income Statement'!KST12,3)","v":0},{"$f":"ROUND('Income Statement'!KSU12,3)","v":0},{"$f":"ROUND('Income Statement'!KSV12,3)","v":0},{"$f":"ROUND('Income Statement'!KSW12,3)","v":0},{"$f":"ROUND('Income Statement'!KSX12,3)","v":0},{"$f":"ROUND('Income Statement'!KSY12,3)","v":0},{"$f":"ROUND('Income Statement'!KSZ12,3)","v":0},{"$f":"ROUND('Income Statement'!KTA12,3)","v":0},{"$f":"ROUND('Income Statement'!KTB12,3)","v":0},{"$f":"ROUND('Income Statement'!KTC12,3)","v":0},{"$f":"ROUND('Income Statement'!KTD12,3)","v":0},{"$f":"ROUND('Income Statement'!KTE12,3)","v":0},{"$f":"ROUND('Income Statement'!KTF12,3)","v":0},{"$f":"ROUND('Income Statement'!KTG12,3)","v":0},{"$f":"ROUND('Income Statement'!KTH12,3)","v":0},{"$f":"ROUND('Income Statement'!KTI12,3)","v":0},{"$f":"ROUND('Income Statement'!KTJ12,3)","v":0},{"$f":"ROUND('Income Statement'!KTK12,3)","v":0},{"$f":"ROUND('Income Statement'!KTL12,3)","v":0},{"$f":"ROUND('Income Statement'!KTM12,3)","v":0},{"$f":"ROUND('Income Statement'!KTN12,3)","v":0},{"$f":"ROUND('Income Statement'!KTO12,3)","v":0},{"$f":"ROUND('Income Statement'!KTP12,3)","v":0},{"$f":"ROUND('Income Statement'!KTQ12,3)","v":0},{"$f":"ROUND('Income Statement'!KTR12,3)","v":0},{"$f":"ROUND('Income Statement'!KTS12,3)","v":0},{"$f":"ROUND('Income Statement'!KTT12,3)","v":0},{"$f":"ROUND('Income Statement'!KTU12,3)","v":0},{"$f":"ROUND('Income Statement'!KTV12,3)","v":0},{"$f":"ROUND('Income Statement'!KTW12,3)","v":0},{"$f":"ROUND('Income Statement'!KTX12,3)","v":0},{"$f":"ROUND('Income Statement'!KTY12,3)","v":0},{"$f":"ROUND('Income Statement'!KTZ12,3)","v":0},{"$f":"ROUND('Income Statement'!KUA12,3)","v":0},{"$f":"ROUND('Income Statement'!KUB12,3)","v":0},{"$f":"ROUND('Income Statement'!KUC12,3)","v":0},{"$f":"ROUND('Income Statement'!KUD12,3)","v":0},{"$f":"ROUND('Income Statement'!KUE12,3)","v":0},{"$f":"ROUND('Income Statement'!KUF12,3)","v":0},{"$f":"ROUND('Income Statement'!KUG12,3)","v":0},{"$f":"ROUND('Income Statement'!KUH12,3)","v":0},{"$f":"ROUND('Income Statement'!KUI12,3)","v":0},{"$f":"ROUND('Income Statement'!KUJ12,3)","v":0},{"$f":"ROUND('Income Statement'!KUK12,3)","v":0},{"$f":"ROUND('Income Statement'!KUL12,3)","v":0},{"$f":"ROUND('Income Statement'!KUM12,3)","v":0},{"$f":"ROUND('Income Statement'!KUN12,3)","v":0},{"$f":"ROUND('Income Statement'!KUO12,3)","v":0},{"$f":"ROUND('Income Statement'!KUP12,3)","v":0},{"$f":"ROUND('Income Statement'!KUQ12,3)","v":0},{"$f":"ROUND('Income Statement'!KUR12,3)","v":0},{"$f":"ROUND('Income Statement'!KUS12,3)","v":0},{"$f":"ROUND('Income Statement'!KUT12,3)","v":0},{"$f":"ROUND('Income Statement'!KUU12,3)","v":0},{"$f":"ROUND('Income Statement'!KUV12,3)","v":0},{"$f":"ROUND('Income Statement'!KUW12,3)","v":0},{"$f":"ROUND('Income Statement'!KUX12,3)","v":0},{"$f":"ROUND('Income Statement'!KUY12,3)","v":0},{"$f":"ROUND('Income Statement'!KUZ12,3)","v":0},{"$f":"ROUND('Income Statement'!KVA12,3)","v":0},{"$f":"ROUND('Income Statement'!KVB12,3)","v":0},{"$f":"ROUND('Income Statement'!KVC12,3)","v":0},{"$f":"ROUND('Income Statement'!KVD12,3)","v":0},{"$f":"ROUND('Income Statement'!KVE12,3)","v":0},{"$f":"ROUND('Income Statement'!KVF12,3)","v":0},{"$f":"ROUND('Income Statement'!KVG12,3)","v":0},{"$f":"ROUND('Income Statement'!KVH12,3)","v":0},{"$f":"ROUND('Income Statement'!KVI12,3)","v":0},{"$f":"ROUND('Income Statement'!KVJ12,3)","v":0},{"$f":"ROUND('Income Statement'!KVK12,3)","v":0},{"$f":"ROUND('Income Statement'!KVL12,3)","v":0},{"$f":"ROUND('Income Statement'!KVM12,3)","v":0},{"$f":"ROUND('Income Statement'!KVN12,3)","v":0},{"$f":"ROUND('Income Statement'!KVO12,3)","v":0},{"$f":"ROUND('Income Statement'!KVP12,3)","v":0},{"$f":"ROUND('Income Statement'!KVQ12,3)","v":0},{"$f":"ROUND('Income Statement'!KVR12,3)","v":0},{"$f":"ROUND('Income Statement'!KVS12,3)","v":0},{"$f":"ROUND('Income Statement'!KVT12,3)","v":0},{"$f":"ROUND('Income Statement'!KVU12,3)","v":0},{"$f":"ROUND('Income Statement'!KVV12,3)","v":0},{"$f":"ROUND('Income Statement'!KVW12,3)","v":0},{"$f":"ROUND('Income Statement'!KVX12,3)","v":0},{"$f":"ROUND('Income Statement'!KVY12,3)","v":0},{"$f":"ROUND('Income Statement'!KVZ12,3)","v":0},{"$f":"ROUND('Income Statement'!KWA12,3)","v":0},{"$f":"ROUND('Income Statement'!KWB12,3)","v":0},{"$f":"ROUND('Income Statement'!KWC12,3)","v":0},{"$f":"ROUND('Income Statement'!KWD12,3)","v":0},{"$f":"ROUND('Income Statement'!KWE12,3)","v":0},{"$f":"ROUND('Income Statement'!KWF12,3)","v":0},{"$f":"ROUND('Income Statement'!KWG12,3)","v":0},{"$f":"ROUND('Income Statement'!KWH12,3)","v":0},{"$f":"ROUND('Income Statement'!KWI12,3)","v":0},{"$f":"ROUND('Income Statement'!KWJ12,3)","v":0},{"$f":"ROUND('Income Statement'!KWK12,3)","v":0},{"$f":"ROUND('Income Statement'!KWL12,3)","v":0},{"$f":"ROUND('Income Statement'!KWM12,3)","v":0},{"$f":"ROUND('Income Statement'!KWN12,3)","v":0},{"$f":"ROUND('Income Statement'!KWO12,3)","v":0},{"$f":"ROUND('Income Statement'!KWP12,3)","v":0},{"$f":"ROUND('Income Statement'!KWQ12,3)","v":0},{"$f":"ROUND('Income Statement'!KWR12,3)","v":0},{"$f":"ROUND('Income Statement'!KWS12,3)","v":0},{"$f":"ROUND('Income Statement'!KWT12,3)","v":0},{"$f":"ROUND('Income Statement'!KWU12,3)","v":0},{"$f":"ROUND('Income Statement'!KWV12,3)","v":0},{"$f":"ROUND('Income Statement'!KWW12,3)","v":0},{"$f":"ROUND('Income Statement'!KWX12,3)","v":0},{"$f":"ROUND('Income Statement'!KWY12,3)","v":0},{"$f":"ROUND('Income Statement'!KWZ12,3)","v":0},{"$f":"ROUND('Income Statement'!KXA12,3)","v":0},{"$f":"ROUND('Income Statement'!KXB12,3)","v":0},{"$f":"ROUND('Income Statement'!KXC12,3)","v":0},{"$f":"ROUND('Income Statement'!KXD12,3)","v":0},{"$f":"ROUND('Income Statement'!KXE12,3)","v":0},{"$f":"ROUND('Income Statement'!KXF12,3)","v":0},{"$f":"ROUND('Income Statement'!KXG12,3)","v":0},{"$f":"ROUND('Income Statement'!KXH12,3)","v":0},{"$f":"ROUND('Income Statement'!KXI12,3)","v":0},{"$f":"ROUND('Income Statement'!KXJ12,3)","v":0},{"$f":"ROUND('Income Statement'!KXK12,3)","v":0},{"$f":"ROUND('Income Statement'!KXL12,3)","v":0},{"$f":"ROUND('Income Statement'!KXM12,3)","v":0},{"$f":"ROUND('Income Statement'!KXN12,3)","v":0},{"$f":"ROUND('Income Statement'!KXO12,3)","v":0},{"$f":"ROUND('Income Statement'!KXP12,3)","v":0},{"$f":"ROUND('Income Statement'!KXQ12,3)","v":0},{"$f":"ROUND('Income Statement'!KXR12,3)","v":0},{"$f":"ROUND('Income Statement'!KXS12,3)","v":0},{"$f":"ROUND('Income Statement'!KXT12,3)","v":0},{"$f":"ROUND('Income Statement'!KXU12,3)","v":0},{"$f":"ROUND('Income Statement'!KXV12,3)","v":0},{"$f":"ROUND('Income Statement'!KXW12,3)","v":0},{"$f":"ROUND('Income Statement'!KXX12,3)","v":0},{"$f":"ROUND('Income Statement'!KXY12,3)","v":0},{"$f":"ROUND('Income Statement'!KXZ12,3)","v":0},{"$f":"ROUND('Income Statement'!KYA12,3)","v":0},{"$f":"ROUND('Income Statement'!KYB12,3)","v":0},{"$f":"ROUND('Income Statement'!KYC12,3)","v":0},{"$f":"ROUND('Income Statement'!KYD12,3)","v":0},{"$f":"ROUND('Income Statement'!KYE12,3)","v":0},{"$f":"ROUND('Income Statement'!KYF12,3)","v":0},{"$f":"ROUND('Income Statement'!KYG12,3)","v":0},{"$f":"ROUND('Income Statement'!KYH12,3)","v":0},{"$f":"ROUND('Income Statement'!KYI12,3)","v":0},{"$f":"ROUND('Income Statement'!KYJ12,3)","v":0},{"$f":"ROUND('Income Statement'!KYK12,3)","v":0},{"$f":"ROUND('Income Statement'!KYL12,3)","v":0},{"$f":"ROUND('Income Statement'!KYM12,3)","v":0},{"$f":"ROUND('Income Statement'!KYN12,3)","v":0},{"$f":"ROUND('Income Statement'!KYO12,3)","v":0},{"$f":"ROUND('Income Statement'!KYP12,3)","v":0},{"$f":"ROUND('Income Statement'!KYQ12,3)","v":0},{"$f":"ROUND('Income Statement'!KYR12,3)","v":0},{"$f":"ROUND('Income Statement'!KYS12,3)","v":0},{"$f":"ROUND('Income Statement'!KYT12,3)","v":0},{"$f":"ROUND('Income Statement'!KYU12,3)","v":0},{"$f":"ROUND('Income Statement'!KYV12,3)","v":0},{"$f":"ROUND('Income Statement'!KYW12,3)","v":0},{"$f":"ROUND('Income Statement'!KYX12,3)","v":0},{"$f":"ROUND('Income Statement'!KYY12,3)","v":0},{"$f":"ROUND('Income Statement'!KYZ12,3)","v":0},{"$f":"ROUND('Income Statement'!KZA12,3)","v":0},{"$f":"ROUND('Income Statement'!KZB12,3)","v":0},{"$f":"ROUND('Income Statement'!KZC12,3)","v":0},{"$f":"ROUND('Income Statement'!KZD12,3)","v":0},{"$f":"ROUND('Income Statement'!KZE12,3)","v":0},{"$f":"ROUND('Income Statement'!KZF12,3)","v":0},{"$f":"ROUND('Income Statement'!KZG12,3)","v":0},{"$f":"ROUND('Income Statement'!KZH12,3)","v":0},{"$f":"ROUND('Income Statement'!KZI12,3)","v":0},{"$f":"ROUND('Income Statement'!KZJ12,3)","v":0},{"$f":"ROUND('Income Statement'!KZK12,3)","v":0},{"$f":"ROUND('Income Statement'!KZL12,3)","v":0},{"$f":"ROUND('Income Statement'!KZM12,3)","v":0},{"$f":"ROUND('Income Statement'!KZN12,3)","v":0},{"$f":"ROUND('Income Statement'!KZO12,3)","v":0},{"$f":"ROUND('Income Statement'!KZP12,3)","v":0},{"$f":"ROUND('Income Statement'!KZQ12,3)","v":0},{"$f":"ROUND('Income Statement'!KZR12,3)","v":0},{"$f":"ROUND('Income Statement'!KZS12,3)","v":0},{"$f":"ROUND('Income Statement'!KZT12,3)","v":0},{"$f":"ROUND('Income Statement'!KZU12,3)","v":0},{"$f":"ROUND('Income Statement'!KZV12,3)","v":0},{"$f":"ROUND('Income Statement'!KZW12,3)","v":0},{"$f":"ROUND('Income Statement'!KZX12,3)","v":0},{"$f":"ROUND('Income Statement'!KZY12,3)","v":0},{"$f":"ROUND('Income Statement'!KZZ12,3)","v":0},{"$f":"ROUND('Income Statement'!LAA12,3)","v":0},{"$f":"ROUND('Income Statement'!LAB12,3)","v":0},{"$f":"ROUND('Income Statement'!LAC12,3)","v":0},{"$f":"ROUND('Income Statement'!LAD12,3)","v":0},{"$f":"ROUND('Income Statement'!LAE12,3)","v":0},{"$f":"ROUND('Income Statement'!LAF12,3)","v":0},{"$f":"ROUND('Income Statement'!LAG12,3)","v":0},{"$f":"ROUND('Income Statement'!LAH12,3)","v":0},{"$f":"ROUND('Income Statement'!LAI12,3)","v":0},{"$f":"ROUND('Income Statement'!LAJ12,3)","v":0},{"$f":"ROUND('Income Statement'!LAK12,3)","v":0},{"$f":"ROUND('Income Statement'!LAL12,3)","v":0},{"$f":"ROUND('Income Statement'!LAM12,3)","v":0},{"$f":"ROUND('Income Statement'!LAN12,3)","v":0},{"$f":"ROUND('Income Statement'!LAO12,3)","v":0},{"$f":"ROUND('Income Statement'!LAP12,3)","v":0},{"$f":"ROUND('Income Statement'!LAQ12,3)","v":0},{"$f":"ROUND('Income Statement'!LAR12,3)","v":0},{"$f":"ROUND('Income Statement'!LAS12,3)","v":0},{"$f":"ROUND('Income Statement'!LAT12,3)","v":0},{"$f":"ROUND('Income Statement'!LAU12,3)","v":0},{"$f":"ROUND('Income Statement'!LAV12,3)","v":0},{"$f":"ROUND('Income Statement'!LAW12,3)","v":0},{"$f":"ROUND('Income Statement'!LAX12,3)","v":0},{"$f":"ROUND('Income Statement'!LAY12,3)","v":0},{"$f":"ROUND('Income Statement'!LAZ12,3)","v":0},{"$f":"ROUND('Income Statement'!LBA12,3)","v":0},{"$f":"ROUND('Income Statement'!LBB12,3)","v":0},{"$f":"ROUND('Income Statement'!LBC12,3)","v":0},{"$f":"ROUND('Income Statement'!LBD12,3)","v":0},{"$f":"ROUND('Income Statement'!LBE12,3)","v":0},{"$f":"ROUND('Income Statement'!LBF12,3)","v":0},{"$f":"ROUND('Income Statement'!LBG12,3)","v":0},{"$f":"ROUND('Income Statement'!LBH12,3)","v":0},{"$f":"ROUND('Income Statement'!LBI12,3)","v":0},{"$f":"ROUND('Income Statement'!LBJ12,3)","v":0},{"$f":"ROUND('Income Statement'!LBK12,3)","v":0},{"$f":"ROUND('Income Statement'!LBL12,3)","v":0},{"$f":"ROUND('Income Statement'!LBM12,3)","v":0},{"$f":"ROUND('Income Statement'!LBN12,3)","v":0},{"$f":"ROUND('Income Statement'!LBO12,3)","v":0},{"$f":"ROUND('Income Statement'!LBP12,3)","v":0},{"$f":"ROUND('Income Statement'!LBQ12,3)","v":0},{"$f":"ROUND('Income Statement'!LBR12,3)","v":0},{"$f":"ROUND('Income Statement'!LBS12,3)","v":0},{"$f":"ROUND('Income Statement'!LBT12,3)","v":0},{"$f":"ROUND('Income Statement'!LBU12,3)","v":0},{"$f":"ROUND('Income Statement'!LBV12,3)","v":0},{"$f":"ROUND('Income Statement'!LBW12,3)","v":0},{"$f":"ROUND('Income Statement'!LBX12,3)","v":0},{"$f":"ROUND('Income Statement'!LBY12,3)","v":0},{"$f":"ROUND('Income Statement'!LBZ12,3)","v":0},{"$f":"ROUND('Income Statement'!LCA12,3)","v":0},{"$f":"ROUND('Income Statement'!LCB12,3)","v":0},{"$f":"ROUND('Income Statement'!LCC12,3)","v":0},{"$f":"ROUND('Income Statement'!LCD12,3)","v":0},{"$f":"ROUND('Income Statement'!LCE12,3)","v":0},{"$f":"ROUND('Income Statement'!LCF12,3)","v":0},{"$f":"ROUND('Income Statement'!LCG12,3)","v":0},{"$f":"ROUND('Income Statement'!LCH12,3)","v":0},{"$f":"ROUND('Income Statement'!LCI12,3)","v":0},{"$f":"ROUND('Income Statement'!LCJ12,3)","v":0},{"$f":"ROUND('Income Statement'!LCK12,3)","v":0},{"$f":"ROUND('Income Statement'!LCL12,3)","v":0},{"$f":"ROUND('Income Statement'!LCM12,3)","v":0},{"$f":"ROUND('Income Statement'!LCN12,3)","v":0},{"$f":"ROUND('Income Statement'!LCO12,3)","v":0},{"$f":"ROUND('Income Statement'!LCP12,3)","v":0},{"$f":"ROUND('Income Statement'!LCQ12,3)","v":0},{"$f":"ROUND('Income Statement'!LCR12,3)","v":0},{"$f":"ROUND('Income Statement'!LCS12,3)","v":0},{"$f":"ROUND('Income Statement'!LCT12,3)","v":0},{"$f":"ROUND('Income Statement'!LCU12,3)","v":0},{"$f":"ROUND('Income Statement'!LCV12,3)","v":0},{"$f":"ROUND('Income Statement'!LCW12,3)","v":0},{"$f":"ROUND('Income Statement'!LCX12,3)","v":0},{"$f":"ROUND('Income Statement'!LCY12,3)","v":0},{"$f":"ROUND('Income Statement'!LCZ12,3)","v":0},{"$f":"ROUND('Income Statement'!LDA12,3)","v":0},{"$f":"ROUND('Income Statement'!LDB12,3)","v":0},{"$f":"ROUND('Income Statement'!LDC12,3)","v":0},{"$f":"ROUND('Income Statement'!LDD12,3)","v":0},{"$f":"ROUND('Income Statement'!LDE12,3)","v":0},{"$f":"ROUND('Income Statement'!LDF12,3)","v":0},{"$f":"ROUND('Income Statement'!LDG12,3)","v":0},{"$f":"ROUND('Income Statement'!LDH12,3)","v":0},{"$f":"ROUND('Income Statement'!LDI12,3)","v":0},{"$f":"ROUND('Income Statement'!LDJ12,3)","v":0},{"$f":"ROUND('Income Statement'!LDK12,3)","v":0},{"$f":"ROUND('Income Statement'!LDL12,3)","v":0},{"$f":"ROUND('Income Statement'!LDM12,3)","v":0},{"$f":"ROUND('Income Statement'!LDN12,3)","v":0},{"$f":"ROUND('Income Statement'!LDO12,3)","v":0},{"$f":"ROUND('Income Statement'!LDP12,3)","v":0},{"$f":"ROUND('Income Statement'!LDQ12,3)","v":0},{"$f":"ROUND('Income Statement'!LDR12,3)","v":0},{"$f":"ROUND('Income Statement'!LDS12,3)","v":0},{"$f":"ROUND('Income Statement'!LDT12,3)","v":0},{"$f":"ROUND('Income Statement'!LDU12,3)","v":0},{"$f":"ROUND('Income Statement'!LDV12,3)","v":0},{"$f":"ROUND('Income Statement'!LDW12,3)","v":0},{"$f":"ROUND('Income Statement'!LDX12,3)","v":0},{"$f":"ROUND('Income Statement'!LDY12,3)","v":0},{"$f":"ROUND('Income Statement'!LDZ12,3)","v":0},{"$f":"ROUND('Income Statement'!LEA12,3)","v":0},{"$f":"ROUND('Income Statement'!LEB12,3)","v":0},{"$f":"ROUND('Income Statement'!LEC12,3)","v":0},{"$f":"ROUND('Income Statement'!LED12,3)","v":0},{"$f":"ROUND('Income Statement'!LEE12,3)","v":0},{"$f":"ROUND('Income Statement'!LEF12,3)","v":0},{"$f":"ROUND('Income Statement'!LEG12,3)","v":0},{"$f":"ROUND('Income Statement'!LEH12,3)","v":0},{"$f":"ROUND('Income Statement'!LEI12,3)","v":0},{"$f":"ROUND('Income Statement'!LEJ12,3)","v":0},{"$f":"ROUND('Income Statement'!LEK12,3)","v":0},{"$f":"ROUND('Income Statement'!LEL12,3)","v":0},{"$f":"ROUND('Income Statement'!LEM12,3)","v":0},{"$f":"ROUND('Income Statement'!LEN12,3)","v":0},{"$f":"ROUND('Income Statement'!LEO12,3)","v":0},{"$f":"ROUND('Income Statement'!LEP12,3)","v":0},{"$f":"ROUND('Income Statement'!LEQ12,3)","v":0},{"$f":"ROUND('Income Statement'!LER12,3)","v":0},{"$f":"ROUND('Income Statement'!LES12,3)","v":0},{"$f":"ROUND('Income Statement'!LET12,3)","v":0},{"$f":"ROUND('Income Statement'!LEU12,3)","v":0},{"$f":"ROUND('Income Statement'!LEV12,3)","v":0},{"$f":"ROUND('Income Statement'!LEW12,3)","v":0},{"$f":"ROUND('Income Statement'!LEX12,3)","v":0},{"$f":"ROUND('Income Statement'!LEY12,3)","v":0},{"$f":"ROUND('Income Statement'!LEZ12,3)","v":0},{"$f":"ROUND('Income Statement'!LFA12,3)","v":0},{"$f":"ROUND('Income Statement'!LFB12,3)","v":0},{"$f":"ROUND('Income Statement'!LFC12,3)","v":0},{"$f":"ROUND('Income Statement'!LFD12,3)","v":0},{"$f":"ROUND('Income Statement'!LFE12,3)","v":0},{"$f":"ROUND('Income Statement'!LFF12,3)","v":0},{"$f":"ROUND('Income Statement'!LFG12,3)","v":0},{"$f":"ROUND('Income Statement'!LFH12,3)","v":0},{"$f":"ROUND('Income Statement'!LFI12,3)","v":0},{"$f":"ROUND('Income Statement'!LFJ12,3)","v":0},{"$f":"ROUND('Income Statement'!LFK12,3)","v":0},{"$f":"ROUND('Income Statement'!LFL12,3)","v":0},{"$f":"ROUND('Income Statement'!LFM12,3)","v":0},{"$f":"ROUND('Income Statement'!LFN12,3)","v":0},{"$f":"ROUND('Income Statement'!LFO12,3)","v":0},{"$f":"ROUND('Income Statement'!LFP12,3)","v":0},{"$f":"ROUND('Income Statement'!LFQ12,3)","v":0},{"$f":"ROUND('Income Statement'!LFR12,3)","v":0},{"$f":"ROUND('Income Statement'!LFS12,3)","v":0},{"$f":"ROUND('Income Statement'!LFT12,3)","v":0},{"$f":"ROUND('Income Statement'!LFU12,3)","v":0},{"$f":"ROUND('Income Statement'!LFV12,3)","v":0},{"$f":"ROUND('Income Statement'!LFW12,3)","v":0},{"$f":"ROUND('Income Statement'!LFX12,3)","v":0},{"$f":"ROUND('Income Statement'!LFY12,3)","v":0},{"$f":"ROUND('Income Statement'!LFZ12,3)","v":0},{"$f":"ROUND('Income Statement'!LGA12,3)","v":0},{"$f":"ROUND('Income Statement'!LGB12,3)","v":0},{"$f":"ROUND('Income Statement'!LGC12,3)","v":0},{"$f":"ROUND('Income Statement'!LGD12,3)","v":0},{"$f":"ROUND('Income Statement'!LGE12,3)","v":0},{"$f":"ROUND('Income Statement'!LGF12,3)","v":0},{"$f":"ROUND('Income Statement'!LGG12,3)","v":0},{"$f":"ROUND('Income Statement'!LGH12,3)","v":0},{"$f":"ROUND('Income Statement'!LGI12,3)","v":0},{"$f":"ROUND('Income Statement'!LGJ12,3)","v":0},{"$f":"ROUND('Income Statement'!LGK12,3)","v":0},{"$f":"ROUND('Income Statement'!LGL12,3)","v":0},{"$f":"ROUND('Income Statement'!LGM12,3)","v":0},{"$f":"ROUND('Income Statement'!LGN12,3)","v":0},{"$f":"ROUND('Income Statement'!LGO12,3)","v":0},{"$f":"ROUND('Income Statement'!LGP12,3)","v":0},{"$f":"ROUND('Income Statement'!LGQ12,3)","v":0},{"$f":"ROUND('Income Statement'!LGR12,3)","v":0},{"$f":"ROUND('Income Statement'!LGS12,3)","v":0},{"$f":"ROUND('Income Statement'!LGT12,3)","v":0},{"$f":"ROUND('Income Statement'!LGU12,3)","v":0},{"$f":"ROUND('Income Statement'!LGV12,3)","v":0},{"$f":"ROUND('Income Statement'!LGW12,3)","v":0},{"$f":"ROUND('Income Statement'!LGX12,3)","v":0},{"$f":"ROUND('Income Statement'!LGY12,3)","v":0},{"$f":"ROUND('Income Statement'!LGZ12,3)","v":0},{"$f":"ROUND('Income Statement'!LHA12,3)","v":0},{"$f":"ROUND('Income Statement'!LHB12,3)","v":0},{"$f":"ROUND('Income Statement'!LHC12,3)","v":0},{"$f":"ROUND('Income Statement'!LHD12,3)","v":0},{"$f":"ROUND('Income Statement'!LHE12,3)","v":0},{"$f":"ROUND('Income Statement'!LHF12,3)","v":0},{"$f":"ROUND('Income Statement'!LHG12,3)","v":0},{"$f":"ROUND('Income Statement'!LHH12,3)","v":0},{"$f":"ROUND('Income Statement'!LHI12,3)","v":0},{"$f":"ROUND('Income Statement'!LHJ12,3)","v":0},{"$f":"ROUND('Income Statement'!LHK12,3)","v":0},{"$f":"ROUND('Income Statement'!LHL12,3)","v":0},{"$f":"ROUND('Income Statement'!LHM12,3)","v":0},{"$f":"ROUND('Income Statement'!LHN12,3)","v":0},{"$f":"ROUND('Income Statement'!LHO12,3)","v":0},{"$f":"ROUND('Income Statement'!LHP12,3)","v":0},{"$f":"ROUND('Income Statement'!LHQ12,3)","v":0},{"$f":"ROUND('Income Statement'!LHR12,3)","v":0},{"$f":"ROUND('Income Statement'!LHS12,3)","v":0},{"$f":"ROUND('Income Statement'!LHT12,3)","v":0},{"$f":"ROUND('Income Statement'!LHU12,3)","v":0},{"$f":"ROUND('Income Statement'!LHV12,3)","v":0},{"$f":"ROUND('Income Statement'!LHW12,3)","v":0},{"$f":"ROUND('Income Statement'!LHX12,3)","v":0},{"$f":"ROUND('Income Statement'!LHY12,3)","v":0},{"$f":"ROUND('Income Statement'!LHZ12,3)","v":0},{"$f":"ROUND('Income Statement'!LIA12,3)","v":0},{"$f":"ROUND('Income Statement'!LIB12,3)","v":0},{"$f":"ROUND('Income Statement'!LIC12,3)","v":0},{"$f":"ROUND('Income Statement'!LID12,3)","v":0},{"$f":"ROUND('Income Statement'!LIE12,3)","v":0},{"$f":"ROUND('Income Statement'!LIF12,3)","v":0},{"$f":"ROUND('Income Statement'!LIG12,3)","v":0},{"$f":"ROUND('Income Statement'!LIH12,3)","v":0},{"$f":"ROUND('Income Statement'!LII12,3)","v":0},{"$f":"ROUND('Income Statement'!LIJ12,3)","v":0},{"$f":"ROUND('Income Statement'!LIK12,3)","v":0},{"$f":"ROUND('Income Statement'!LIL12,3)","v":0},{"$f":"ROUND('Income Statement'!LIM12,3)","v":0},{"$f":"ROUND('Income Statement'!LIN12,3)","v":0},{"$f":"ROUND('Income Statement'!LIO12,3)","v":0},{"$f":"ROUND('Income Statement'!LIP12,3)","v":0},{"$f":"ROUND('Income Statement'!LIQ12,3)","v":0},{"$f":"ROUND('Income Statement'!LIR12,3)","v":0},{"$f":"ROUND('Income Statement'!LIS12,3)","v":0},{"$f":"ROUND('Income Statement'!LIT12,3)","v":0},{"$f":"ROUND('Income Statement'!LIU12,3)","v":0},{"$f":"ROUND('Income Statement'!LIV12,3)","v":0},{"$f":"ROUND('Income Statement'!LIW12,3)","v":0},{"$f":"ROUND('Income Statement'!LIX12,3)","v":0},{"$f":"ROUND('Income Statement'!LIY12,3)","v":0},{"$f":"ROUND('Income Statement'!LIZ12,3)","v":0},{"$f":"ROUND('Income Statement'!LJA12,3)","v":0},{"$f":"ROUND('Income Statement'!LJB12,3)","v":0},{"$f":"ROUND('Income Statement'!LJC12,3)","v":0},{"$f":"ROUND('Income Statement'!LJD12,3)","v":0},{"$f":"ROUND('Income Statement'!LJE12,3)","v":0},{"$f":"ROUND('Income Statement'!LJF12,3)","v":0},{"$f":"ROUND('Income Statement'!LJG12,3)","v":0},{"$f":"ROUND('Income Statement'!LJH12,3)","v":0},{"$f":"ROUND('Income Statement'!LJI12,3)","v":0},{"$f":"ROUND('Income Statement'!LJJ12,3)","v":0},{"$f":"ROUND('Income Statement'!LJK12,3)","v":0},{"$f":"ROUND('Income Statement'!LJL12,3)","v":0},{"$f":"ROUND('Income Statement'!LJM12,3)","v":0},{"$f":"ROUND('Income Statement'!LJN12,3)","v":0},{"$f":"ROUND('Income Statement'!LJO12,3)","v":0},{"$f":"ROUND('Income Statement'!LJP12,3)","v":0},{"$f":"ROUND('Income Statement'!LJQ12,3)","v":0},{"$f":"ROUND('Income Statement'!LJR12,3)","v":0},{"$f":"ROUND('Income Statement'!LJS12,3)","v":0},{"$f":"ROUND('Income Statement'!LJT12,3)","v":0},{"$f":"ROUND('Income Statement'!LJU12,3)","v":0},{"$f":"ROUND('Income Statement'!LJV12,3)","v":0},{"$f":"ROUND('Income Statement'!LJW12,3)","v":0},{"$f":"ROUND('Income Statement'!LJX12,3)","v":0},{"$f":"ROUND('Income Statement'!LJY12,3)","v":0},{"$f":"ROUND('Income Statement'!LJZ12,3)","v":0},{"$f":"ROUND('Income Statement'!LKA12,3)","v":0},{"$f":"ROUND('Income Statement'!LKB12,3)","v":0},{"$f":"ROUND('Income Statement'!LKC12,3)","v":0},{"$f":"ROUND('Income Statement'!LKD12,3)","v":0},{"$f":"ROUND('Income Statement'!LKE12,3)","v":0},{"$f":"ROUND('Income Statement'!LKF12,3)","v":0},{"$f":"ROUND('Income Statement'!LKG12,3)","v":0},{"$f":"ROUND('Income Statement'!LKH12,3)","v":0},{"$f":"ROUND('Income Statement'!LKI12,3)","v":0},{"$f":"ROUND('Income Statement'!LKJ12,3)","v":0},{"$f":"ROUND('Income Statement'!LKK12,3)","v":0},{"$f":"ROUND('Income Statement'!LKL12,3)","v":0},{"$f":"ROUND('Income Statement'!LKM12,3)","v":0},{"$f":"ROUND('Income Statement'!LKN12,3)","v":0},{"$f":"ROUND('Income Statement'!LKO12,3)","v":0},{"$f":"ROUND('Income Statement'!LKP12,3)","v":0},{"$f":"ROUND('Income Statement'!LKQ12,3)","v":0},{"$f":"ROUND('Income Statement'!LKR12,3)","v":0},{"$f":"ROUND('Income Statement'!LKS12,3)","v":0},{"$f":"ROUND('Income Statement'!LKT12,3)","v":0},{"$f":"ROUND('Income Statement'!LKU12,3)","v":0},{"$f":"ROUND('Income Statement'!LKV12,3)","v":0},{"$f":"ROUND('Income Statement'!LKW12,3)","v":0},{"$f":"ROUND('Income Statement'!LKX12,3)","v":0},{"$f":"ROUND('Income Statement'!LKY12,3)","v":0},{"$f":"ROUND('Income Statement'!LKZ12,3)","v":0},{"$f":"ROUND('Income Statement'!LLA12,3)","v":0},{"$f":"ROUND('Income Statement'!LLB12,3)","v":0},{"$f":"ROUND('Income Statement'!LLC12,3)","v":0},{"$f":"ROUND('Income Statement'!LLD12,3)","v":0},{"$f":"ROUND('Income Statement'!LLE12,3)","v":0},{"$f":"ROUND('Income Statement'!LLF12,3)","v":0},{"$f":"ROUND('Income Statement'!LLG12,3)","v":0},{"$f":"ROUND('Income Statement'!LLH12,3)","v":0},{"$f":"ROUND('Income Statement'!LLI12,3)","v":0},{"$f":"ROUND('Income Statement'!LLJ12,3)","v":0},{"$f":"ROUND('Income Statement'!LLK12,3)","v":0},{"$f":"ROUND('Income Statement'!LLL12,3)","v":0},{"$f":"ROUND('Income Statement'!LLM12,3)","v":0},{"$f":"ROUND('Income Statement'!LLN12,3)","v":0},{"$f":"ROUND('Income Statement'!LLO12,3)","v":0},{"$f":"ROUND('Income Statement'!LLP12,3)","v":0},{"$f":"ROUND('Income Statement'!LLQ12,3)","v":0},{"$f":"ROUND('Income Statement'!LLR12,3)","v":0},{"$f":"ROUND('Income Statement'!LLS12,3)","v":0},{"$f":"ROUND('Income Statement'!LLT12,3)","v":0},{"$f":"ROUND('Income Statement'!LLU12,3)","v":0},{"$f":"ROUND('Income Statement'!LLV12,3)","v":0},{"$f":"ROUND('Income Statement'!LLW12,3)","v":0},{"$f":"ROUND('Income Statement'!LLX12,3)","v":0},{"$f":"ROUND('Income Statement'!LLY12,3)","v":0},{"$f":"ROUND('Income Statement'!LLZ12,3)","v":0},{"$f":"ROUND('Income Statement'!LMA12,3)","v":0},{"$f":"ROUND('Income Statement'!LMB12,3)","v":0},{"$f":"ROUND('Income Statement'!LMC12,3)","v":0},{"$f":"ROUND('Income Statement'!LMD12,3)","v":0},{"$f":"ROUND('Income Statement'!LME12,3)","v":0},{"$f":"ROUND('Income Statement'!LMF12,3)","v":0},{"$f":"ROUND('Income Statement'!LMG12,3)","v":0},{"$f":"ROUND('Income Statement'!LMH12,3)","v":0},{"$f":"ROUND('Income Statement'!LMI12,3)","v":0},{"$f":"ROUND('Income Statement'!LMJ12,3)","v":0},{"$f":"ROUND('Income Statement'!LMK12,3)","v":0},{"$f":"ROUND('Income Statement'!LML12,3)","v":0},{"$f":"ROUND('Income Statement'!LMM12,3)","v":0},{"$f":"ROUND('Income Statement'!LMN12,3)","v":0},{"$f":"ROUND('Income Statement'!LMO12,3)","v":0},{"$f":"ROUND('Income Statement'!LMP12,3)","v":0},{"$f":"ROUND('Income Statement'!LMQ12,3)","v":0},{"$f":"ROUND('Income Statement'!LMR12,3)","v":0},{"$f":"ROUND('Income Statement'!LMS12,3)","v":0},{"$f":"ROUND('Income Statement'!LMT12,3)","v":0},{"$f":"ROUND('Income Statement'!LMU12,3)","v":0},{"$f":"ROUND('Income Statement'!LMV12,3)","v":0},{"$f":"ROUND('Income Statement'!LMW12,3)","v":0},{"$f":"ROUND('Income Statement'!LMX12,3)","v":0},{"$f":"ROUND('Income Statement'!LMY12,3)","v":0},{"$f":"ROUND('Income Statement'!LMZ12,3)","v":0},{"$f":"ROUND('Income Statement'!LNA12,3)","v":0},{"$f":"ROUND('Income Statement'!LNB12,3)","v":0},{"$f":"ROUND('Income Statement'!LNC12,3)","v":0},{"$f":"ROUND('Income Statement'!LND12,3)","v":0},{"$f":"ROUND('Income Statement'!LNE12,3)","v":0},{"$f":"ROUND('Income Statement'!LNF12,3)","v":0},{"$f":"ROUND('Income Statement'!LNG12,3)","v":0},{"$f":"ROUND('Income Statement'!LNH12,3)","v":0},{"$f":"ROUND('Income Statement'!LNI12,3)","v":0},{"$f":"ROUND('Income Statement'!LNJ12,3)","v":0},{"$f":"ROUND('Income Statement'!LNK12,3)","v":0},{"$f":"ROUND('Income Statement'!LNL12,3)","v":0},{"$f":"ROUND('Income Statement'!LNM12,3)","v":0},{"$f":"ROUND('Income Statement'!LNN12,3)","v":0},{"$f":"ROUND('Income Statement'!LNO12,3)","v":0},{"$f":"ROUND('Income Statement'!LNP12,3)","v":0},{"$f":"ROUND('Income Statement'!LNQ12,3)","v":0},{"$f":"ROUND('Income Statement'!LNR12,3)","v":0},{"$f":"ROUND('Income Statement'!LNS12,3)","v":0},{"$f":"ROUND('Income Statement'!LNT12,3)","v":0},{"$f":"ROUND('Income Statement'!LNU12,3)","v":0},{"$f":"ROUND('Income Statement'!LNV12,3)","v":0},{"$f":"ROUND('Income Statement'!LNW12,3)","v":0},{"$f":"ROUND('Income Statement'!LNX12,3)","v":0},{"$f":"ROUND('Income Statement'!LNY12,3)","v":0},{"$f":"ROUND('Income Statement'!LNZ12,3)","v":0},{"$f":"ROUND('Income Statement'!LOA12,3)","v":0},{"$f":"ROUND('Income Statement'!LOB12,3)","v":0},{"$f":"ROUND('Income Statement'!LOC12,3)","v":0},{"$f":"ROUND('Income Statement'!LOD12,3)","v":0},{"$f":"ROUND('Income Statement'!LOE12,3)","v":0},{"$f":"ROUND('Income Statement'!LOF12,3)","v":0},{"$f":"ROUND('Income Statement'!LOG12,3)","v":0},{"$f":"ROUND('Income Statement'!LOH12,3)","v":0},{"$f":"ROUND('Income Statement'!LOI12,3)","v":0},{"$f":"ROUND('Income Statement'!LOJ12,3)","v":0},{"$f":"ROUND('Income Statement'!LOK12,3)","v":0},{"$f":"ROUND('Income Statement'!LOL12,3)","v":0},{"$f":"ROUND('Income Statement'!LOM12,3)","v":0},{"$f":"ROUND('Income Statement'!LON12,3)","v":0},{"$f":"ROUND('Income Statement'!LOO12,3)","v":0},{"$f":"ROUND('Income Statement'!LOP12,3)","v":0},{"$f":"ROUND('Income Statement'!LOQ12,3)","v":0},{"$f":"ROUND('Income Statement'!LOR12,3)","v":0},{"$f":"ROUND('Income Statement'!LOS12,3)","v":0},{"$f":"ROUND('Income Statement'!LOT12,3)","v":0},{"$f":"ROUND('Income Statement'!LOU12,3)","v":0},{"$f":"ROUND('Income Statement'!LOV12,3)","v":0},{"$f":"ROUND('Income Statement'!LOW12,3)","v":0},{"$f":"ROUND('Income Statement'!LOX12,3)","v":0},{"$f":"ROUND('Income Statement'!LOY12,3)","v":0},{"$f":"ROUND('Income Statement'!LOZ12,3)","v":0},{"$f":"ROUND('Income Statement'!LPA12,3)","v":0},{"$f":"ROUND('Income Statement'!LPB12,3)","v":0},{"$f":"ROUND('Income Statement'!LPC12,3)","v":0},{"$f":"ROUND('Income Statement'!LPD12,3)","v":0},{"$f":"ROUND('Income Statement'!LPE12,3)","v":0},{"$f":"ROUND('Income Statement'!LPF12,3)","v":0},{"$f":"ROUND('Income Statement'!LPG12,3)","v":0},{"$f":"ROUND('Income Statement'!LPH12,3)","v":0},{"$f":"ROUND('Income Statement'!LPI12,3)","v":0},{"$f":"ROUND('Income Statement'!LPJ12,3)","v":0},{"$f":"ROUND('Income Statement'!LPK12,3)","v":0},{"$f":"ROUND('Income Statement'!LPL12,3)","v":0},{"$f":"ROUND('Income Statement'!LPM12,3)","v":0},{"$f":"ROUND('Income Statement'!LPN12,3)","v":0},{"$f":"ROUND('Income Statement'!LPO12,3)","v":0},{"$f":"ROUND('Income Statement'!LPP12,3)","v":0},{"$f":"ROUND('Income Statement'!LPQ12,3)","v":0},{"$f":"ROUND('Income Statement'!LPR12,3)","v":0},{"$f":"ROUND('Income Statement'!LPS12,3)","v":0},{"$f":"ROUND('Income Statement'!LPT12,3)","v":0},{"$f":"ROUND('Income Statement'!LPU12,3)","v":0},{"$f":"ROUND('Income Statement'!LPV12,3)","v":0},{"$f":"ROUND('Income Statement'!LPW12,3)","v":0},{"$f":"ROUND('Income Statement'!LPX12,3)","v":0},{"$f":"ROUND('Income Statement'!LPY12,3)","v":0},{"$f":"ROUND('Income Statement'!LPZ12,3)","v":0},{"$f":"ROUND('Income Statement'!LQA12,3)","v":0},{"$f":"ROUND('Income Statement'!LQB12,3)","v":0},{"$f":"ROUND('Income Statement'!LQC12,3)","v":0},{"$f":"ROUND('Income Statement'!LQD12,3)","v":0},{"$f":"ROUND('Income Statement'!LQE12,3)","v":0},{"$f":"ROUND('Income Statement'!LQF12,3)","v":0},{"$f":"ROUND('Income Statement'!LQG12,3)","v":0},{"$f":"ROUND('Income Statement'!LQH12,3)","v":0},{"$f":"ROUND('Income Statement'!LQI12,3)","v":0},{"$f":"ROUND('Income Statement'!LQJ12,3)","v":0},{"$f":"ROUND('Income Statement'!LQK12,3)","v":0},{"$f":"ROUND('Income Statement'!LQL12,3)","v":0},{"$f":"ROUND('Income Statement'!LQM12,3)","v":0},{"$f":"ROUND('Income Statement'!LQN12,3)","v":0},{"$f":"ROUND('Income Statement'!LQO12,3)","v":0},{"$f":"ROUND('Income Statement'!LQP12,3)","v":0},{"$f":"ROUND('Income Statement'!LQQ12,3)","v":0},{"$f":"ROUND('Income Statement'!LQR12,3)","v":0},{"$f":"ROUND('Income Statement'!LQS12,3)","v":0},{"$f":"ROUND('Income Statement'!LQT12,3)","v":0},{"$f":"ROUND('Income Statement'!LQU12,3)","v":0},{"$f":"ROUND('Income Statement'!LQV12,3)","v":0},{"$f":"ROUND('Income Statement'!LQW12,3)","v":0},{"$f":"ROUND('Income Statement'!LQX12,3)","v":0},{"$f":"ROUND('Income Statement'!LQY12,3)","v":0},{"$f":"ROUND('Income Statement'!LQZ12,3)","v":0},{"$f":"ROUND('Income Statement'!LRA12,3)","v":0},{"$f":"ROUND('Income Statement'!LRB12,3)","v":0},{"$f":"ROUND('Income Statement'!LRC12,3)","v":0},{"$f":"ROUND('Income Statement'!LRD12,3)","v":0},{"$f":"ROUND('Income Statement'!LRE12,3)","v":0},{"$f":"ROUND('Income Statement'!LRF12,3)","v":0},{"$f":"ROUND('Income Statement'!LRG12,3)","v":0},{"$f":"ROUND('Income Statement'!LRH12,3)","v":0},{"$f":"ROUND('Income Statement'!LRI12,3)","v":0},{"$f":"ROUND('Income Statement'!LRJ12,3)","v":0},{"$f":"ROUND('Income Statement'!LRK12,3)","v":0},{"$f":"ROUND('Income Statement'!LRL12,3)","v":0},{"$f":"ROUND('Income Statement'!LRM12,3)","v":0},{"$f":"ROUND('Income Statement'!LRN12,3)","v":0},{"$f":"ROUND('Income Statement'!LRO12,3)","v":0},{"$f":"ROUND('Income Statement'!LRP12,3)","v":0},{"$f":"ROUND('Income Statement'!LRQ12,3)","v":0},{"$f":"ROUND('Income Statement'!LRR12,3)","v":0},{"$f":"ROUND('Income Statement'!LRS12,3)","v":0},{"$f":"ROUND('Income Statement'!LRT12,3)","v":0},{"$f":"ROUND('Income Statement'!LRU12,3)","v":0},{"$f":"ROUND('Income Statement'!LRV12,3)","v":0},{"$f":"ROUND('Income Statement'!LRW12,3)","v":0},{"$f":"ROUND('Income Statement'!LRX12,3)","v":0},{"$f":"ROUND('Income Statement'!LRY12,3)","v":0},{"$f":"ROUND('Income Statement'!LRZ12,3)","v":0},{"$f":"ROUND('Income Statement'!LSA12,3)","v":0},{"$f":"ROUND('Income Statement'!LSB12,3)","v":0},{"$f":"ROUND('Income Statement'!LSC12,3)","v":0},{"$f":"ROUND('Income Statement'!LSD12,3)","v":0},{"$f":"ROUND('Income Statement'!LSE12,3)","v":0},{"$f":"ROUND('Income Statement'!LSF12,3)","v":0},{"$f":"ROUND('Income Statement'!LSG12,3)","v":0},{"$f":"ROUND('Income Statement'!LSH12,3)","v":0},{"$f":"ROUND('Income Statement'!LSI12,3)","v":0},{"$f":"ROUND('Income Statement'!LSJ12,3)","v":0},{"$f":"ROUND('Income Statement'!LSK12,3)","v":0},{"$f":"ROUND('Income Statement'!LSL12,3)","v":0},{"$f":"ROUND('Income Statement'!LSM12,3)","v":0},{"$f":"ROUND('Income Statement'!LSN12,3)","v":0},{"$f":"ROUND('Income Statement'!LSO12,3)","v":0},{"$f":"ROUND('Income Statement'!LSP12,3)","v":0},{"$f":"ROUND('Income Statement'!LSQ12,3)","v":0},{"$f":"ROUND('Income Statement'!LSR12,3)","v":0},{"$f":"ROUND('Income Statement'!LSS12,3)","v":0},{"$f":"ROUND('Income Statement'!LST12,3)","v":0},{"$f":"ROUND('Income Statement'!LSU12,3)","v":0},{"$f":"ROUND('Income Statement'!LSV12,3)","v":0},{"$f":"ROUND('Income Statement'!LSW12,3)","v":0},{"$f":"ROUND('Income Statement'!LSX12,3)","v":0},{"$f":"ROUND('Income Statement'!LSY12,3)","v":0},{"$f":"ROUND('Income Statement'!LSZ12,3)","v":0},{"$f":"ROUND('Income Statement'!LTA12,3)","v":0},{"$f":"ROUND('Income Statement'!LTB12,3)","v":0},{"$f":"ROUND('Income Statement'!LTC12,3)","v":0},{"$f":"ROUND('Income Statement'!LTD12,3)","v":0},{"$f":"ROUND('Income Statement'!LTE12,3)","v":0},{"$f":"ROUND('Income Statement'!LTF12,3)","v":0},{"$f":"ROUND('Income Statement'!LTG12,3)","v":0},{"$f":"ROUND('Income Statement'!LTH12,3)","v":0},{"$f":"ROUND('Income Statement'!LTI12,3)","v":0},{"$f":"ROUND('Income Statement'!LTJ12,3)","v":0},{"$f":"ROUND('Income Statement'!LTK12,3)","v":0},{"$f":"ROUND('Income Statement'!LTL12,3)","v":0},{"$f":"ROUND('Income Statement'!LTM12,3)","v":0},{"$f":"ROUND('Income Statement'!LTN12,3)","v":0},{"$f":"ROUND('Income Statement'!LTO12,3)","v":0},{"$f":"ROUND('Income Statement'!LTP12,3)","v":0},{"$f":"ROUND('Income Statement'!LTQ12,3)","v":0},{"$f":"ROUND('Income Statement'!LTR12,3)","v":0},{"$f":"ROUND('Income Statement'!LTS12,3)","v":0},{"$f":"ROUND('Income Statement'!LTT12,3)","v":0},{"$f":"ROUND('Income Statement'!LTU12,3)","v":0},{"$f":"ROUND('Income Statement'!LTV12,3)","v":0},{"$f":"ROUND('Income Statement'!LTW12,3)","v":0},{"$f":"ROUND('Income Statement'!LTX12,3)","v":0},{"$f":"ROUND('Income Statement'!LTY12,3)","v":0},{"$f":"ROUND('Income Statement'!LTZ12,3)","v":0},{"$f":"ROUND('Income Statement'!LUA12,3)","v":0},{"$f":"ROUND('Income Statement'!LUB12,3)","v":0},{"$f":"ROUND('Income Statement'!LUC12,3)","v":0},{"$f":"ROUND('Income Statement'!LUD12,3)","v":0},{"$f":"ROUND('Income Statement'!LUE12,3)","v":0},{"$f":"ROUND('Income Statement'!LUF12,3)","v":0},{"$f":"ROUND('Income Statement'!LUG12,3)","v":0},{"$f":"ROUND('Income Statement'!LUH12,3)","v":0},{"$f":"ROUND('Income Statement'!LUI12,3)","v":0},{"$f":"ROUND('Income Statement'!LUJ12,3)","v":0},{"$f":"ROUND('Income Statement'!LUK12,3)","v":0},{"$f":"ROUND('Income Statement'!LUL12,3)","v":0},{"$f":"ROUND('Income Statement'!LUM12,3)","v":0},{"$f":"ROUND('Income Statement'!LUN12,3)","v":0},{"$f":"ROUND('Income Statement'!LUO12,3)","v":0},{"$f":"ROUND('Income Statement'!LUP12,3)","v":0},{"$f":"ROUND('Income Statement'!LUQ12,3)","v":0},{"$f":"ROUND('Income Statement'!LUR12,3)","v":0},{"$f":"ROUND('Income Statement'!LUS12,3)","v":0},{"$f":"ROUND('Income Statement'!LUT12,3)","v":0},{"$f":"ROUND('Income Statement'!LUU12,3)","v":0},{"$f":"ROUND('Income Statement'!LUV12,3)","v":0},{"$f":"ROUND('Income Statement'!LUW12,3)","v":0},{"$f":"ROUND('Income Statement'!LUX12,3)","v":0},{"$f":"ROUND('Income Statement'!LUY12,3)","v":0},{"$f":"ROUND('Income Statement'!LUZ12,3)","v":0},{"$f":"ROUND('Income Statement'!LVA12,3)","v":0},{"$f":"ROUND('Income Statement'!LVB12,3)","v":0},{"$f":"ROUND('Income Statement'!LVC12,3)","v":0},{"$f":"ROUND('Income Statement'!LVD12,3)","v":0},{"$f":"ROUND('Income Statement'!LVE12,3)","v":0},{"$f":"ROUND('Income Statement'!LVF12,3)","v":0},{"$f":"ROUND('Income Statement'!LVG12,3)","v":0},{"$f":"ROUND('Income Statement'!LVH12,3)","v":0},{"$f":"ROUND('Income Statement'!LVI12,3)","v":0},{"$f":"ROUND('Income Statement'!LVJ12,3)","v":0},{"$f":"ROUND('Income Statement'!LVK12,3)","v":0},{"$f":"ROUND('Income Statement'!LVL12,3)","v":0},{"$f":"ROUND('Income Statement'!LVM12,3)","v":0},{"$f":"ROUND('Income Statement'!LVN12,3)","v":0},{"$f":"ROUND('Income Statement'!LVO12,3)","v":0},{"$f":"ROUND('Income Statement'!LVP12,3)","v":0},{"$f":"ROUND('Income Statement'!LVQ12,3)","v":0},{"$f":"ROUND('Income Statement'!LVR12,3)","v":0},{"$f":"ROUND('Income Statement'!LVS12,3)","v":0},{"$f":"ROUND('Income Statement'!LVT12,3)","v":0},{"$f":"ROUND('Income Statement'!LVU12,3)","v":0},{"$f":"ROUND('Income Statement'!LVV12,3)","v":0},{"$f":"ROUND('Income Statement'!LVW12,3)","v":0},{"$f":"ROUND('Income Statement'!LVX12,3)","v":0},{"$f":"ROUND('Income Statement'!LVY12,3)","v":0},{"$f":"ROUND('Income Statement'!LVZ12,3)","v":0},{"$f":"ROUND('Income Statement'!LWA12,3)","v":0},{"$f":"ROUND('Income Statement'!LWB12,3)","v":0},{"$f":"ROUND('Income Statement'!LWC12,3)","v":0},{"$f":"ROUND('Income Statement'!LWD12,3)","v":0},{"$f":"ROUND('Income Statement'!LWE12,3)","v":0},{"$f":"ROUND('Income Statement'!LWF12,3)","v":0},{"$f":"ROUND('Income Statement'!LWG12,3)","v":0},{"$f":"ROUND('Income Statement'!LWH12,3)","v":0},{"$f":"ROUND('Income Statement'!LWI12,3)","v":0},{"$f":"ROUND('Income Statement'!LWJ12,3)","v":0},{"$f":"ROUND('Income Statement'!LWK12,3)","v":0},{"$f":"ROUND('Income Statement'!LWL12,3)","v":0},{"$f":"ROUND('Income Statement'!LWM12,3)","v":0},{"$f":"ROUND('Income Statement'!LWN12,3)","v":0},{"$f":"ROUND('Income Statement'!LWO12,3)","v":0},{"$f":"ROUND('Income Statement'!LWP12,3)","v":0},{"$f":"ROUND('Income Statement'!LWQ12,3)","v":0},{"$f":"ROUND('Income Statement'!LWR12,3)","v":0},{"$f":"ROUND('Income Statement'!LWS12,3)","v":0},{"$f":"ROUND('Income Statement'!LWT12,3)","v":0},{"$f":"ROUND('Income Statement'!LWU12,3)","v":0},{"$f":"ROUND('Income Statement'!LWV12,3)","v":0},{"$f":"ROUND('Income Statement'!LWW12,3)","v":0},{"$f":"ROUND('Income Statement'!LWX12,3)","v":0},{"$f":"ROUND('Income Statement'!LWY12,3)","v":0},{"$f":"ROUND('Income Statement'!LWZ12,3)","v":0},{"$f":"ROUND('Income Statement'!LXA12,3)","v":0},{"$f":"ROUND('Income Statement'!LXB12,3)","v":0},{"$f":"ROUND('Income Statement'!LXC12,3)","v":0},{"$f":"ROUND('Income Statement'!LXD12,3)","v":0},{"$f":"ROUND('Income Statement'!LXE12,3)","v":0},{"$f":"ROUND('Income Statement'!LXF12,3)","v":0},{"$f":"ROUND('Income Statement'!LXG12,3)","v":0},{"$f":"ROUND('Income Statement'!LXH12,3)","v":0},{"$f":"ROUND('Income Statement'!LXI12,3)","v":0},{"$f":"ROUND('Income Statement'!LXJ12,3)","v":0},{"$f":"ROUND('Income Statement'!LXK12,3)","v":0},{"$f":"ROUND('Income Statement'!LXL12,3)","v":0},{"$f":"ROUND('Income Statement'!LXM12,3)","v":0},{"$f":"ROUND('Income Statement'!LXN12,3)","v":0},{"$f":"ROUND('Income Statement'!LXO12,3)","v":0},{"$f":"ROUND('Income Statement'!LXP12,3)","v":0},{"$f":"ROUND('Income Statement'!LXQ12,3)","v":0},{"$f":"ROUND('Income Statement'!LXR12,3)","v":0},{"$f":"ROUND('Income Statement'!LXS12,3)","v":0},{"$f":"ROUND('Income Statement'!LXT12,3)","v":0},{"$f":"ROUND('Income Statement'!LXU12,3)","v":0},{"$f":"ROUND('Income Statement'!LXV12,3)","v":0},{"$f":"ROUND('Income Statement'!LXW12,3)","v":0},{"$f":"ROUND('Income Statement'!LXX12,3)","v":0},{"$f":"ROUND('Income Statement'!LXY12,3)","v":0},{"$f":"ROUND('Income Statement'!LXZ12,3)","v":0},{"$f":"ROUND('Income Statement'!LYA12,3)","v":0},{"$f":"ROUND('Income Statement'!LYB12,3)","v":0},{"$f":"ROUND('Income Statement'!LYC12,3)","v":0},{"$f":"ROUND('Income Statement'!LYD12,3)","v":0},{"$f":"ROUND('Income Statement'!LYE12,3)","v":0},{"$f":"ROUND('Income Statement'!LYF12,3)","v":0},{"$f":"ROUND('Income Statement'!LYG12,3)","v":0},{"$f":"ROUND('Income Statement'!LYH12,3)","v":0},{"$f":"ROUND('Income Statement'!LYI12,3)","v":0},{"$f":"ROUND('Income Statement'!LYJ12,3)","v":0},{"$f":"ROUND('Income Statement'!LYK12,3)","v":0},{"$f":"ROUND('Income Statement'!LYL12,3)","v":0},{"$f":"ROUND('Income Statement'!LYM12,3)","v":0},{"$f":"ROUND('Income Statement'!LYN12,3)","v":0},{"$f":"ROUND('Income Statement'!LYO12,3)","v":0},{"$f":"ROUND('Income Statement'!LYP12,3)","v":0},{"$f":"ROUND('Income Statement'!LYQ12,3)","v":0},{"$f":"ROUND('Income Statement'!LYR12,3)","v":0},{"$f":"ROUND('Income Statement'!LYS12,3)","v":0},{"$f":"ROUND('Income Statement'!LYT12,3)","v":0},{"$f":"ROUND('Income Statement'!LYU12,3)","v":0},{"$f":"ROUND('Income Statement'!LYV12,3)","v":0},{"$f":"ROUND('Income Statement'!LYW12,3)","v":0},{"$f":"ROUND('Income Statement'!LYX12,3)","v":0},{"$f":"ROUND('Income Statement'!LYY12,3)","v":0},{"$f":"ROUND('Income Statement'!LYZ12,3)","v":0},{"$f":"ROUND('Income Statement'!LZA12,3)","v":0},{"$f":"ROUND('Income Statement'!LZB12,3)","v":0},{"$f":"ROUND('Income Statement'!LZC12,3)","v":0},{"$f":"ROUND('Income Statement'!LZD12,3)","v":0},{"$f":"ROUND('Income Statement'!LZE12,3)","v":0},{"$f":"ROUND('Income Statement'!LZF12,3)","v":0},{"$f":"ROUND('Income Statement'!LZG12,3)","v":0},{"$f":"ROUND('Income Statement'!LZH12,3)","v":0},{"$f":"ROUND('Income Statement'!LZI12,3)","v":0},{"$f":"ROUND('Income Statement'!LZJ12,3)","v":0},{"$f":"ROUND('Income Statement'!LZK12,3)","v":0},{"$f":"ROUND('Income Statement'!LZL12,3)","v":0},{"$f":"ROUND('Income Statement'!LZM12,3)","v":0},{"$f":"ROUND('Income Statement'!LZN12,3)","v":0},{"$f":"ROUND('Income Statement'!LZO12,3)","v":0},{"$f":"ROUND('Income Statement'!LZP12,3)","v":0},{"$f":"ROUND('Income Statement'!LZQ12,3)","v":0},{"$f":"ROUND('Income Statement'!LZR12,3)","v":0},{"$f":"ROUND('Income Statement'!LZS12,3)","v":0},{"$f":"ROUND('Income Statement'!LZT12,3)","v":0},{"$f":"ROUND('Income Statement'!LZU12,3)","v":0},{"$f":"ROUND('Income Statement'!LZV12,3)","v":0},{"$f":"ROUND('Income Statement'!LZW12,3)","v":0},{"$f":"ROUND('Income Statement'!LZX12,3)","v":0},{"$f":"ROUND('Income Statement'!LZY12,3)","v":0},{"$f":"ROUND('Income Statement'!LZZ12,3)","v":0},{"$f":"ROUND('Income Statement'!MAA12,3)","v":0},{"$f":"ROUND('Income Statement'!MAB12,3)","v":0},{"$f":"ROUND('Income Statement'!MAC12,3)","v":0},{"$f":"ROUND('Income Statement'!MAD12,3)","v":0},{"$f":"ROUND('Income Statement'!MAE12,3)","v":0},{"$f":"ROUND('Income Statement'!MAF12,3)","v":0},{"$f":"ROUND('Income Statement'!MAG12,3)","v":0},{"$f":"ROUND('Income Statement'!MAH12,3)","v":0},{"$f":"ROUND('Income Statement'!MAI12,3)","v":0},{"$f":"ROUND('Income Statement'!MAJ12,3)","v":0},{"$f":"ROUND('Income Statement'!MAK12,3)","v":0},{"$f":"ROUND('Income Statement'!MAL12,3)","v":0},{"$f":"ROUND('Income Statement'!MAM12,3)","v":0},{"$f":"ROUND('Income Statement'!MAN12,3)","v":0},{"$f":"ROUND('Income Statement'!MAO12,3)","v":0},{"$f":"ROUND('Income Statement'!MAP12,3)","v":0},{"$f":"ROUND('Income Statement'!MAQ12,3)","v":0},{"$f":"ROUND('Income Statement'!MAR12,3)","v":0},{"$f":"ROUND('Income Statement'!MAS12,3)","v":0},{"$f":"ROUND('Income Statement'!MAT12,3)","v":0},{"$f":"ROUND('Income Statement'!MAU12,3)","v":0},{"$f":"ROUND('Income Statement'!MAV12,3)","v":0},{"$f":"ROUND('Income Statement'!MAW12,3)","v":0},{"$f":"ROUND('Income Statement'!MAX12,3)","v":0},{"$f":"ROUND('Income Statement'!MAY12,3)","v":0},{"$f":"ROUND('Income Statement'!MAZ12,3)","v":0},{"$f":"ROUND('Income Statement'!MBA12,3)","v":0},{"$f":"ROUND('Income Statement'!MBB12,3)","v":0},{"$f":"ROUND('Income Statement'!MBC12,3)","v":0},{"$f":"ROUND('Income Statement'!MBD12,3)","v":0},{"$f":"ROUND('Income Statement'!MBE12,3)","v":0},{"$f":"ROUND('Income Statement'!MBF12,3)","v":0},{"$f":"ROUND('Income Statement'!MBG12,3)","v":0},{"$f":"ROUND('Income Statement'!MBH12,3)","v":0},{"$f":"ROUND('Income Statement'!MBI12,3)","v":0},{"$f":"ROUND('Income Statement'!MBJ12,3)","v":0},{"$f":"ROUND('Income Statement'!MBK12,3)","v":0},{"$f":"ROUND('Income Statement'!MBL12,3)","v":0},{"$f":"ROUND('Income Statement'!MBM12,3)","v":0},{"$f":"ROUND('Income Statement'!MBN12,3)","v":0},{"$f":"ROUND('Income Statement'!MBO12,3)","v":0},{"$f":"ROUND('Income Statement'!MBP12,3)","v":0},{"$f":"ROUND('Income Statement'!MBQ12,3)","v":0},{"$f":"ROUND('Income Statement'!MBR12,3)","v":0},{"$f":"ROUND('Income Statement'!MBS12,3)","v":0},{"$f":"ROUND('Income Statement'!MBT12,3)","v":0},{"$f":"ROUND('Income Statement'!MBU12,3)","v":0},{"$f":"ROUND('Income Statement'!MBV12,3)","v":0},{"$f":"ROUND('Income Statement'!MBW12,3)","v":0},{"$f":"ROUND('Income Statement'!MBX12,3)","v":0},{"$f":"ROUND('Income Statement'!MBY12,3)","v":0},{"$f":"ROUND('Income Statement'!MBZ12,3)","v":0},{"$f":"ROUND('Income Statement'!MCA12,3)","v":0},{"$f":"ROUND('Income Statement'!MCB12,3)","v":0},{"$f":"ROUND('Income Statement'!MCC12,3)","v":0},{"$f":"ROUND('Income Statement'!MCD12,3)","v":0},{"$f":"ROUND('Income Statement'!MCE12,3)","v":0},{"$f":"ROUND('Income Statement'!MCF12,3)","v":0},{"$f":"ROUND('Income Statement'!MCG12,3)","v":0},{"$f":"ROUND('Income Statement'!MCH12,3)","v":0},{"$f":"ROUND('Income Statement'!MCI12,3)","v":0},{"$f":"ROUND('Income Statement'!MCJ12,3)","v":0},{"$f":"ROUND('Income Statement'!MCK12,3)","v":0},{"$f":"ROUND('Income Statement'!MCL12,3)","v":0},{"$f":"ROUND('Income Statement'!MCM12,3)","v":0},{"$f":"ROUND('Income Statement'!MCN12,3)","v":0},{"$f":"ROUND('Income Statement'!MCO12,3)","v":0},{"$f":"ROUND('Income Statement'!MCP12,3)","v":0},{"$f":"ROUND('Income Statement'!MCQ12,3)","v":0},{"$f":"ROUND('Income Statement'!MCR12,3)","v":0},{"$f":"ROUND('Income Statement'!MCS12,3)","v":0},{"$f":"ROUND('Income Statement'!MCT12,3)","v":0},{"$f":"ROUND('Income Statement'!MCU12,3)","v":0},{"$f":"ROUND('Income Statement'!MCV12,3)","v":0},{"$f":"ROUND('Income Statement'!MCW12,3)","v":0},{"$f":"ROUND('Income Statement'!MCX12,3)","v":0},{"$f":"ROUND('Income Statement'!MCY12,3)","v":0},{"$f":"ROUND('Income Statement'!MCZ12,3)","v":0},{"$f":"ROUND('Income Statement'!MDA12,3)","v":0},{"$f":"ROUND('Income Statement'!MDB12,3)","v":0},{"$f":"ROUND('Income Statement'!MDC12,3)","v":0},{"$f":"ROUND('Income Statement'!MDD12,3)","v":0},{"$f":"ROUND('Income Statement'!MDE12,3)","v":0},{"$f":"ROUND('Income Statement'!MDF12,3)","v":0},{"$f":"ROUND('Income Statement'!MDG12,3)","v":0},{"$f":"ROUND('Income Statement'!MDH12,3)","v":0},{"$f":"ROUND('Income Statement'!MDI12,3)","v":0},{"$f":"ROUND('Income Statement'!MDJ12,3)","v":0},{"$f":"ROUND('Income Statement'!MDK12,3)","v":0},{"$f":"ROUND('Income Statement'!MDL12,3)","v":0},{"$f":"ROUND('Income Statement'!MDM12,3)","v":0},{"$f":"ROUND('Income Statement'!MDN12,3)","v":0},{"$f":"ROUND('Income Statement'!MDO12,3)","v":0},{"$f":"ROUND('Income Statement'!MDP12,3)","v":0},{"$f":"ROUND('Income Statement'!MDQ12,3)","v":0},{"$f":"ROUND('Income Statement'!MDR12,3)","v":0},{"$f":"ROUND('Income Statement'!MDS12,3)","v":0},{"$f":"ROUND('Income Statement'!MDT12,3)","v":0},{"$f":"ROUND('Income Statement'!MDU12,3)","v":0},{"$f":"ROUND('Income Statement'!MDV12,3)","v":0},{"$f":"ROUND('Income Statement'!MDW12,3)","v":0},{"$f":"ROUND('Income Statement'!MDX12,3)","v":0},{"$f":"ROUND('Income Statement'!MDY12,3)","v":0},{"$f":"ROUND('Income Statement'!MDZ12,3)","v":0},{"$f":"ROUND('Income Statement'!MEA12,3)","v":0},{"$f":"ROUND('Income Statement'!MEB12,3)","v":0},{"$f":"ROUND('Income Statement'!MEC12,3)","v":0},{"$f":"ROUND('Income Statement'!MED12,3)","v":0},{"$f":"ROUND('Income Statement'!MEE12,3)","v":0},{"$f":"ROUND('Income Statement'!MEF12,3)","v":0},{"$f":"ROUND('Income Statement'!MEG12,3)","v":0},{"$f":"ROUND('Income Statement'!MEH12,3)","v":0},{"$f":"ROUND('Income Statement'!MEI12,3)","v":0},{"$f":"ROUND('Income Statement'!MEJ12,3)","v":0},{"$f":"ROUND('Income Statement'!MEK12,3)","v":0},{"$f":"ROUND('Income Statement'!MEL12,3)","v":0},{"$f":"ROUND('Income Statement'!MEM12,3)","v":0},{"$f":"ROUND('Income Statement'!MEN12,3)","v":0},{"$f":"ROUND('Income Statement'!MEO12,3)","v":0},{"$f":"ROUND('Income Statement'!MEP12,3)","v":0},{"$f":"ROUND('Income Statement'!MEQ12,3)","v":0},{"$f":"ROUND('Income Statement'!MER12,3)","v":0},{"$f":"ROUND('Income Statement'!MES12,3)","v":0},{"$f":"ROUND('Income Statement'!MET12,3)","v":0},{"$f":"ROUND('Income Statement'!MEU12,3)","v":0},{"$f":"ROUND('Income Statement'!MEV12,3)","v":0},{"$f":"ROUND('Income Statement'!MEW12,3)","v":0},{"$f":"ROUND('Income Statement'!MEX12,3)","v":0},{"$f":"ROUND('Income Statement'!MEY12,3)","v":0},{"$f":"ROUND('Income Statement'!MEZ12,3)","v":0},{"$f":"ROUND('Income Statement'!MFA12,3)","v":0},{"$f":"ROUND('Income Statement'!MFB12,3)","v":0},{"$f":"ROUND('Income Statement'!MFC12,3)","v":0},{"$f":"ROUND('Income Statement'!MFD12,3)","v":0},{"$f":"ROUND('Income Statement'!MFE12,3)","v":0},{"$f":"ROUND('Income Statement'!MFF12,3)","v":0},{"$f":"ROUND('Income Statement'!MFG12,3)","v":0},{"$f":"ROUND('Income Statement'!MFH12,3)","v":0},{"$f":"ROUND('Income Statement'!MFI12,3)","v":0},{"$f":"ROUND('Income Statement'!MFJ12,3)","v":0},{"$f":"ROUND('Income Statement'!MFK12,3)","v":0},{"$f":"ROUND('Income Statement'!MFL12,3)","v":0},{"$f":"ROUND('Income Statement'!MFM12,3)","v":0},{"$f":"ROUND('Income Statement'!MFN12,3)","v":0},{"$f":"ROUND('Income Statement'!MFO12,3)","v":0},{"$f":"ROUND('Income Statement'!MFP12,3)","v":0},{"$f":"ROUND('Income Statement'!MFQ12,3)","v":0},{"$f":"ROUND('Income Statement'!MFR12,3)","v":0},{"$f":"ROUND('Income Statement'!MFS12,3)","v":0},{"$f":"ROUND('Income Statement'!MFT12,3)","v":0},{"$f":"ROUND('Income Statement'!MFU12,3)","v":0},{"$f":"ROUND('Income Statement'!MFV12,3)","v":0},{"$f":"ROUND('Income Statement'!MFW12,3)","v":0},{"$f":"ROUND('Income Statement'!MFX12,3)","v":0},{"$f":"ROUND('Income Statement'!MFY12,3)","v":0},{"$f":"ROUND('Income Statement'!MFZ12,3)","v":0},{"$f":"ROUND('Income Statement'!MGA12,3)","v":0},{"$f":"ROUND('Income Statement'!MGB12,3)","v":0},{"$f":"ROUND('Income Statement'!MGC12,3)","v":0},{"$f":"ROUND('Income Statement'!MGD12,3)","v":0},{"$f":"ROUND('Income Statement'!MGE12,3)","v":0},{"$f":"ROUND('Income Statement'!MGF12,3)","v":0},{"$f":"ROUND('Income Statement'!MGG12,3)","v":0},{"$f":"ROUND('Income Statement'!MGH12,3)","v":0},{"$f":"ROUND('Income Statement'!MGI12,3)","v":0},{"$f":"ROUND('Income Statement'!MGJ12,3)","v":0},{"$f":"ROUND('Income Statement'!MGK12,3)","v":0},{"$f":"ROUND('Income Statement'!MGL12,3)","v":0},{"$f":"ROUND('Income Statement'!MGM12,3)","v":0},{"$f":"ROUND('Income Statement'!MGN12,3)","v":0},{"$f":"ROUND('Income Statement'!MGO12,3)","v":0},{"$f":"ROUND('Income Statement'!MGP12,3)","v":0},{"$f":"ROUND('Income Statement'!MGQ12,3)","v":0},{"$f":"ROUND('Income Statement'!MGR12,3)","v":0},{"$f":"ROUND('Income Statement'!MGS12,3)","v":0},{"$f":"ROUND('Income Statement'!MGT12,3)","v":0},{"$f":"ROUND('Income Statement'!MGU12,3)","v":0},{"$f":"ROUND('Income Statement'!MGV12,3)","v":0},{"$f":"ROUND('Income Statement'!MGW12,3)","v":0},{"$f":"ROUND('Income Statement'!MGX12,3)","v":0},{"$f":"ROUND('Income Statement'!MGY12,3)","v":0},{"$f":"ROUND('Income Statement'!MGZ12,3)","v":0},{"$f":"ROUND('Income Statement'!MHA12,3)","v":0},{"$f":"ROUND('Income Statement'!MHB12,3)","v":0},{"$f":"ROUND('Income Statement'!MHC12,3)","v":0},{"$f":"ROUND('Income Statement'!MHD12,3)","v":0},{"$f":"ROUND('Income Statement'!MHE12,3)","v":0},{"$f":"ROUND('Income Statement'!MHF12,3)","v":0},{"$f":"ROUND('Income Statement'!MHG12,3)","v":0},{"$f":"ROUND('Income Statement'!MHH12,3)","v":0},{"$f":"ROUND('Income Statement'!MHI12,3)","v":0},{"$f":"ROUND('Income Statement'!MHJ12,3)","v":0},{"$f":"ROUND('Income Statement'!MHK12,3)","v":0},{"$f":"ROUND('Income Statement'!MHL12,3)","v":0},{"$f":"ROUND('Income Statement'!MHM12,3)","v":0},{"$f":"ROUND('Income Statement'!MHN12,3)","v":0},{"$f":"ROUND('Income Statement'!MHO12,3)","v":0},{"$f":"ROUND('Income Statement'!MHP12,3)","v":0},{"$f":"ROUND('Income Statement'!MHQ12,3)","v":0},{"$f":"ROUND('Income Statement'!MHR12,3)","v":0},{"$f":"ROUND('Income Statement'!MHS12,3)","v":0},{"$f":"ROUND('Income Statement'!MHT12,3)","v":0},{"$f":"ROUND('Income Statement'!MHU12,3)","v":0},{"$f":"ROUND('Income Statement'!MHV12,3)","v":0},{"$f":"ROUND('Income Statement'!MHW12,3)","v":0},{"$f":"ROUND('Income Statement'!MHX12,3)","v":0},{"$f":"ROUND('Income Statement'!MHY12,3)","v":0},{"$f":"ROUND('Income Statement'!MHZ12,3)","v":0},{"$f":"ROUND('Income Statement'!MIA12,3)","v":0},{"$f":"ROUND('Income Statement'!MIB12,3)","v":0},{"$f":"ROUND('Income Statement'!MIC12,3)","v":0},{"$f":"ROUND('Income Statement'!MID12,3)","v":0},{"$f":"ROUND('Income Statement'!MIE12,3)","v":0},{"$f":"ROUND('Income Statement'!MIF12,3)","v":0},{"$f":"ROUND('Income Statement'!MIG12,3)","v":0},{"$f":"ROUND('Income Statement'!MIH12,3)","v":0},{"$f":"ROUND('Income Statement'!MII12,3)","v":0},{"$f":"ROUND('Income Statement'!MIJ12,3)","v":0},{"$f":"ROUND('Income Statement'!MIK12,3)","v":0},{"$f":"ROUND('Income Statement'!MIL12,3)","v":0},{"$f":"ROUND('Income Statement'!MIM12,3)","v":0},{"$f":"ROUND('Income Statement'!MIN12,3)","v":0},{"$f":"ROUND('Income Statement'!MIO12,3)","v":0},{"$f":"ROUND('Income Statement'!MIP12,3)","v":0},{"$f":"ROUND('Income Statement'!MIQ12,3)","v":0},{"$f":"ROUND('Income Statement'!MIR12,3)","v":0},{"$f":"ROUND('Income Statement'!MIS12,3)","v":0},{"$f":"ROUND('Income Statement'!MIT12,3)","v":0},{"$f":"ROUND('Income Statement'!MIU12,3)","v":0},{"$f":"ROUND('Income Statement'!MIV12,3)","v":0},{"$f":"ROUND('Income Statement'!MIW12,3)","v":0},{"$f":"ROUND('Income Statement'!MIX12,3)","v":0},{"$f":"ROUND('Income Statement'!MIY12,3)","v":0},{"$f":"ROUND('Income Statement'!MIZ12,3)","v":0},{"$f":"ROUND('Income Statement'!MJA12,3)","v":0},{"$f":"ROUND('Income Statement'!MJB12,3)","v":0},{"$f":"ROUND('Income Statement'!MJC12,3)","v":0},{"$f":"ROUND('Income Statement'!MJD12,3)","v":0},{"$f":"ROUND('Income Statement'!MJE12,3)","v":0},{"$f":"ROUND('Income Statement'!MJF12,3)","v":0},{"$f":"ROUND('Income Statement'!MJG12,3)","v":0},{"$f":"ROUND('Income Statement'!MJH12,3)","v":0},{"$f":"ROUND('Income Statement'!MJI12,3)","v":0},{"$f":"ROUND('Income Statement'!MJJ12,3)","v":0},{"$f":"ROUND('Income Statement'!MJK12,3)","v":0},{"$f":"ROUND('Income Statement'!MJL12,3)","v":0},{"$f":"ROUND('Income Statement'!MJM12,3)","v":0},{"$f":"ROUND('Income Statement'!MJN12,3)","v":0},{"$f":"ROUND('Income Statement'!MJO12,3)","v":0},{"$f":"ROUND('Income Statement'!MJP12,3)","v":0},{"$f":"ROUND('Income Statement'!MJQ12,3)","v":0},{"$f":"ROUND('Income Statement'!MJR12,3)","v":0},{"$f":"ROUND('Income Statement'!MJS12,3)","v":0},{"$f":"ROUND('Income Statement'!MJT12,3)","v":0},{"$f":"ROUND('Income Statement'!MJU12,3)","v":0},{"$f":"ROUND('Income Statement'!MJV12,3)","v":0},{"$f":"ROUND('Income Statement'!MJW12,3)","v":0},{"$f":"ROUND('Income Statement'!MJX12,3)","v":0},{"$f":"ROUND('Income Statement'!MJY12,3)","v":0},{"$f":"ROUND('Income Statement'!MJZ12,3)","v":0},{"$f":"ROUND('Income Statement'!MKA12,3)","v":0},{"$f":"ROUND('Income Statement'!MKB12,3)","v":0},{"$f":"ROUND('Income Statement'!MKC12,3)","v":0},{"$f":"ROUND('Income Statement'!MKD12,3)","v":0},{"$f":"ROUND('Income Statement'!MKE12,3)","v":0},{"$f":"ROUND('Income Statement'!MKF12,3)","v":0},{"$f":"ROUND('Income Statement'!MKG12,3)","v":0},{"$f":"ROUND('Income Statement'!MKH12,3)","v":0},{"$f":"ROUND('Income Statement'!MKI12,3)","v":0},{"$f":"ROUND('Income Statement'!MKJ12,3)","v":0},{"$f":"ROUND('Income Statement'!MKK12,3)","v":0},{"$f":"ROUND('Income Statement'!MKL12,3)","v":0},{"$f":"ROUND('Income Statement'!MKM12,3)","v":0},{"$f":"ROUND('Income Statement'!MKN12,3)","v":0},{"$f":"ROUND('Income Statement'!MKO12,3)","v":0},{"$f":"ROUND('Income Statement'!MKP12,3)","v":0},{"$f":"ROUND('Income Statement'!MKQ12,3)","v":0},{"$f":"ROUND('Income Statement'!MKR12,3)","v":0},{"$f":"ROUND('Income Statement'!MKS12,3)","v":0},{"$f":"ROUND('Income Statement'!MKT12,3)","v":0},{"$f":"ROUND('Income Statement'!MKU12,3)","v":0},{"$f":"ROUND('Income Statement'!MKV12,3)","v":0},{"$f":"ROUND('Income Statement'!MKW12,3)","v":0},{"$f":"ROUND('Income Statement'!MKX12,3)","v":0},{"$f":"ROUND('Income Statement'!MKY12,3)","v":0},{"$f":"ROUND('Income Statement'!MKZ12,3)","v":0},{"$f":"ROUND('Income Statement'!MLA12,3)","v":0},{"$f":"ROUND('Income Statement'!MLB12,3)","v":0},{"$f":"ROUND('Income Statement'!MLC12,3)","v":0},{"$f":"ROUND('Income Statement'!MLD12,3)","v":0},{"$f":"ROUND('Income Statement'!MLE12,3)","v":0},{"$f":"ROUND('Income Statement'!MLF12,3)","v":0},{"$f":"ROUND('Income Statement'!MLG12,3)","v":0},{"$f":"ROUND('Income Statement'!MLH12,3)","v":0},{"$f":"ROUND('Income Statement'!MLI12,3)","v":0},{"$f":"ROUND('Income Statement'!MLJ12,3)","v":0},{"$f":"ROUND('Income Statement'!MLK12,3)","v":0},{"$f":"ROUND('Income Statement'!MLL12,3)","v":0},{"$f":"ROUND('Income Statement'!MLM12,3)","v":0},{"$f":"ROUND('Income Statement'!MLN12,3)","v":0},{"$f":"ROUND('Income Statement'!MLO12,3)","v":0},{"$f":"ROUND('Income Statement'!MLP12,3)","v":0},{"$f":"ROUND('Income Statement'!MLQ12,3)","v":0},{"$f":"ROUND('Income Statement'!MLR12,3)","v":0},{"$f":"ROUND('Income Statement'!MLS12,3)","v":0},{"$f":"ROUND('Income Statement'!MLT12,3)","v":0},{"$f":"ROUND('Income Statement'!MLU12,3)","v":0},{"$f":"ROUND('Income Statement'!MLV12,3)","v":0},{"$f":"ROUND('Income Statement'!MLW12,3)","v":0},{"$f":"ROUND('Income Statement'!MLX12,3)","v":0},{"$f":"ROUND('Income Statement'!MLY12,3)","v":0},{"$f":"ROUND('Income Statement'!MLZ12,3)","v":0},{"$f":"ROUND('Income Statement'!MMA12,3)","v":0},{"$f":"ROUND('Income Statement'!MMB12,3)","v":0},{"$f":"ROUND('Income Statement'!MMC12,3)","v":0},{"$f":"ROUND('Income Statement'!MMD12,3)","v":0},{"$f":"ROUND('Income Statement'!MME12,3)","v":0},{"$f":"ROUND('Income Statement'!MMF12,3)","v":0},{"$f":"ROUND('Income Statement'!MMG12,3)","v":0},{"$f":"ROUND('Income Statement'!MMH12,3)","v":0},{"$f":"ROUND('Income Statement'!MMI12,3)","v":0},{"$f":"ROUND('Income Statement'!MMJ12,3)","v":0},{"$f":"ROUND('Income Statement'!MMK12,3)","v":0},{"$f":"ROUND('Income Statement'!MML12,3)","v":0},{"$f":"ROUND('Income Statement'!MMM12,3)","v":0},{"$f":"ROUND('Income Statement'!MMN12,3)","v":0},{"$f":"ROUND('Income Statement'!MMO12,3)","v":0},{"$f":"ROUND('Income Statement'!MMP12,3)","v":0},{"$f":"ROUND('Income Statement'!MMQ12,3)","v":0},{"$f":"ROUND('Income Statement'!MMR12,3)","v":0},{"$f":"ROUND('Income Statement'!MMS12,3)","v":0},{"$f":"ROUND('Income Statement'!MMT12,3)","v":0},{"$f":"ROUND('Income Statement'!MMU12,3)","v":0},{"$f":"ROUND('Income Statement'!MMV12,3)","v":0},{"$f":"ROUND('Income Statement'!MMW12,3)","v":0},{"$f":"ROUND('Income Statement'!MMX12,3)","v":0},{"$f":"ROUND('Income Statement'!MMY12,3)","v":0},{"$f":"ROUND('Income Statement'!MMZ12,3)","v":0},{"$f":"ROUND('Income Statement'!MNA12,3)","v":0},{"$f":"ROUND('Income Statement'!MNB12,3)","v":0},{"$f":"ROUND('Income Statement'!MNC12,3)","v":0},{"$f":"ROUND('Income Statement'!MND12,3)","v":0},{"$f":"ROUND('Income Statement'!MNE12,3)","v":0},{"$f":"ROUND('Income Statement'!MNF12,3)","v":0},{"$f":"ROUND('Income Statement'!MNG12,3)","v":0},{"$f":"ROUND('Income Statement'!MNH12,3)","v":0},{"$f":"ROUND('Income Statement'!MNI12,3)","v":0},{"$f":"ROUND('Income Statement'!MNJ12,3)","v":0},{"$f":"ROUND('Income Statement'!MNK12,3)","v":0},{"$f":"ROUND('Income Statement'!MNL12,3)","v":0},{"$f":"ROUND('Income Statement'!MNM12,3)","v":0},{"$f":"ROUND('Income Statement'!MNN12,3)","v":0},{"$f":"ROUND('Income Statement'!MNO12,3)","v":0},{"$f":"ROUND('Income Statement'!MNP12,3)","v":0},{"$f":"ROUND('Income Statement'!MNQ12,3)","v":0},{"$f":"ROUND('Income Statement'!MNR12,3)","v":0},{"$f":"ROUND('Income Statement'!MNS12,3)","v":0},{"$f":"ROUND('Income Statement'!MNT12,3)","v":0},{"$f":"ROUND('Income Statement'!MNU12,3)","v":0},{"$f":"ROUND('Income Statement'!MNV12,3)","v":0},{"$f":"ROUND('Income Statement'!MNW12,3)","v":0},{"$f":"ROUND('Income Statement'!MNX12,3)","v":0},{"$f":"ROUND('Income Statement'!MNY12,3)","v":0},{"$f":"ROUND('Income Statement'!MNZ12,3)","v":0},{"$f":"ROUND('Income Statement'!MOA12,3)","v":0},{"$f":"ROUND('Income Statement'!MOB12,3)","v":0},{"$f":"ROUND('Income Statement'!MOC12,3)","v":0},{"$f":"ROUND('Income Statement'!MOD12,3)","v":0},{"$f":"ROUND('Income Statement'!MOE12,3)","v":0},{"$f":"ROUND('Income Statement'!MOF12,3)","v":0},{"$f":"ROUND('Income Statement'!MOG12,3)","v":0},{"$f":"ROUND('Income Statement'!MOH12,3)","v":0},{"$f":"ROUND('Income Statement'!MOI12,3)","v":0},{"$f":"ROUND('Income Statement'!MOJ12,3)","v":0},{"$f":"ROUND('Income Statement'!MOK12,3)","v":0},{"$f":"ROUND('Income Statement'!MOL12,3)","v":0},{"$f":"ROUND('Income Statement'!MOM12,3)","v":0},{"$f":"ROUND('Income Statement'!MON12,3)","v":0},{"$f":"ROUND('Income Statement'!MOO12,3)","v":0},{"$f":"ROUND('Income Statement'!MOP12,3)","v":0},{"$f":"ROUND('Income Statement'!MOQ12,3)","v":0},{"$f":"ROUND('Income Statement'!MOR12,3)","v":0},{"$f":"ROUND('Income Statement'!MOS12,3)","v":0},{"$f":"ROUND('Income Statement'!MOT12,3)","v":0},{"$f":"ROUND('Income Statement'!MOU12,3)","v":0},{"$f":"ROUND('Income Statement'!MOV12,3)","v":0},{"$f":"ROUND('Income Statement'!MOW12,3)","v":0},{"$f":"ROUND('Income Statement'!MOX12,3)","v":0},{"$f":"ROUND('Income Statement'!MOY12,3)","v":0},{"$f":"ROUND('Income Statement'!MOZ12,3)","v":0},{"$f":"ROUND('Income Statement'!MPA12,3)","v":0},{"$f":"ROUND('Income Statement'!MPB12,3)","v":0},{"$f":"ROUND('Income Statement'!MPC12,3)","v":0},{"$f":"ROUND('Income Statement'!MPD12,3)","v":0},{"$f":"ROUND('Income Statement'!MPE12,3)","v":0},{"$f":"ROUND('Income Statement'!MPF12,3)","v":0},{"$f":"ROUND('Income Statement'!MPG12,3)","v":0},{"$f":"ROUND('Income Statement'!MPH12,3)","v":0},{"$f":"ROUND('Income Statement'!MPI12,3)","v":0},{"$f":"ROUND('Income Statement'!MPJ12,3)","v":0},{"$f":"ROUND('Income Statement'!MPK12,3)","v":0},{"$f":"ROUND('Income Statement'!MPL12,3)","v":0},{"$f":"ROUND('Income Statement'!MPM12,3)","v":0},{"$f":"ROUND('Income Statement'!MPN12,3)","v":0},{"$f":"ROUND('Income Statement'!MPO12,3)","v":0},{"$f":"ROUND('Income Statement'!MPP12,3)","v":0},{"$f":"ROUND('Income Statement'!MPQ12,3)","v":0},{"$f":"ROUND('Income Statement'!MPR12,3)","v":0},{"$f":"ROUND('Income Statement'!MPS12,3)","v":0},{"$f":"ROUND('Income Statement'!MPT12,3)","v":0},{"$f":"ROUND('Income Statement'!MPU12,3)","v":0},{"$f":"ROUND('Income Statement'!MPV12,3)","v":0},{"$f":"ROUND('Income Statement'!MPW12,3)","v":0},{"$f":"ROUND('Income Statement'!MPX12,3)","v":0},{"$f":"ROUND('Income Statement'!MPY12,3)","v":0},{"$f":"ROUND('Income Statement'!MPZ12,3)","v":0},{"$f":"ROUND('Income Statement'!MQA12,3)","v":0},{"$f":"ROUND('Income Statement'!MQB12,3)","v":0},{"$f":"ROUND('Income Statement'!MQC12,3)","v":0},{"$f":"ROUND('Income Statement'!MQD12,3)","v":0},{"$f":"ROUND('Income Statement'!MQE12,3)","v":0},{"$f":"ROUND('Income Statement'!MQF12,3)","v":0},{"$f":"ROUND('Income Statement'!MQG12,3)","v":0},{"$f":"ROUND('Income Statement'!MQH12,3)","v":0},{"$f":"ROUND('Income Statement'!MQI12,3)","v":0},{"$f":"ROUND('Income Statement'!MQJ12,3)","v":0},{"$f":"ROUND('Income Statement'!MQK12,3)","v":0},{"$f":"ROUND('Income Statement'!MQL12,3)","v":0},{"$f":"ROUND('Income Statement'!MQM12,3)","v":0},{"$f":"ROUND('Income Statement'!MQN12,3)","v":0},{"$f":"ROUND('Income Statement'!MQO12,3)","v":0},{"$f":"ROUND('Income Statement'!MQP12,3)","v":0},{"$f":"ROUND('Income Statement'!MQQ12,3)","v":0},{"$f":"ROUND('Income Statement'!MQR12,3)","v":0},{"$f":"ROUND('Income Statement'!MQS12,3)","v":0},{"$f":"ROUND('Income Statement'!MQT12,3)","v":0},{"$f":"ROUND('Income Statement'!MQU12,3)","v":0},{"$f":"ROUND('Income Statement'!MQV12,3)","v":0},{"$f":"ROUND('Income Statement'!MQW12,3)","v":0},{"$f":"ROUND('Income Statement'!MQX12,3)","v":0},{"$f":"ROUND('Income Statement'!MQY12,3)","v":0},{"$f":"ROUND('Income Statement'!MQZ12,3)","v":0},{"$f":"ROUND('Income Statement'!MRA12,3)","v":0},{"$f":"ROUND('Income Statement'!MRB12,3)","v":0},{"$f":"ROUND('Income Statement'!MRC12,3)","v":0},{"$f":"ROUND('Income Statement'!MRD12,3)","v":0},{"$f":"ROUND('Income Statement'!MRE12,3)","v":0},{"$f":"ROUND('Income Statement'!MRF12,3)","v":0},{"$f":"ROUND('Income Statement'!MRG12,3)","v":0},{"$f":"ROUND('Income Statement'!MRH12,3)","v":0},{"$f":"ROUND('Income Statement'!MRI12,3)","v":0},{"$f":"ROUND('Income Statement'!MRJ12,3)","v":0},{"$f":"ROUND('Income Statement'!MRK12,3)","v":0},{"$f":"ROUND('Income Statement'!MRL12,3)","v":0},{"$f":"ROUND('Income Statement'!MRM12,3)","v":0},{"$f":"ROUND('Income Statement'!MRN12,3)","v":0},{"$f":"ROUND('Income Statement'!MRO12,3)","v":0},{"$f":"ROUND('Income Statement'!MRP12,3)","v":0},{"$f":"ROUND('Income Statement'!MRQ12,3)","v":0},{"$f":"ROUND('Income Statement'!MRR12,3)","v":0},{"$f":"ROUND('Income Statement'!MRS12,3)","v":0},{"$f":"ROUND('Income Statement'!MRT12,3)","v":0},{"$f":"ROUND('Income Statement'!MRU12,3)","v":0},{"$f":"ROUND('Income Statement'!MRV12,3)","v":0},{"$f":"ROUND('Income Statement'!MRW12,3)","v":0},{"$f":"ROUND('Income Statement'!MRX12,3)","v":0},{"$f":"ROUND('Income Statement'!MRY12,3)","v":0},{"$f":"ROUND('Income Statement'!MRZ12,3)","v":0},{"$f":"ROUND('Income Statement'!MSA12,3)","v":0},{"$f":"ROUND('Income Statement'!MSB12,3)","v":0},{"$f":"ROUND('Income Statement'!MSC12,3)","v":0},{"$f":"ROUND('Income Statement'!MSD12,3)","v":0},{"$f":"ROUND('Income Statement'!MSE12,3)","v":0},{"$f":"ROUND('Income Statement'!MSF12,3)","v":0},{"$f":"ROUND('Income Statement'!MSG12,3)","v":0},{"$f":"ROUND('Income Statement'!MSH12,3)","v":0},{"$f":"ROUND('Income Statement'!MSI12,3)","v":0},{"$f":"ROUND('Income Statement'!MSJ12,3)","v":0},{"$f":"ROUND('Income Statement'!MSK12,3)","v":0},{"$f":"ROUND('Income Statement'!MSL12,3)","v":0},{"$f":"ROUND('Income Statement'!MSM12,3)","v":0},{"$f":"ROUND('Income Statement'!MSN12,3)","v":0},{"$f":"ROUND('Income Statement'!MSO12,3)","v":0},{"$f":"ROUND('Income Statement'!MSP12,3)","v":0},{"$f":"ROUND('Income Statement'!MSQ12,3)","v":0},{"$f":"ROUND('Income Statement'!MSR12,3)","v":0},{"$f":"ROUND('Income Statement'!MSS12,3)","v":0},{"$f":"ROUND('Income Statement'!MST12,3)","v":0},{"$f":"ROUND('Income Statement'!MSU12,3)","v":0},{"$f":"ROUND('Income Statement'!MSV12,3)","v":0},{"$f":"ROUND('Income Statement'!MSW12,3)","v":0},{"$f":"ROUND('Income Statement'!MSX12,3)","v":0},{"$f":"ROUND('Income Statement'!MSY12,3)","v":0},{"$f":"ROUND('Income Statement'!MSZ12,3)","v":0},{"$f":"ROUND('Income Statement'!MTA12,3)","v":0},{"$f":"ROUND('Income Statement'!MTB12,3)","v":0},{"$f":"ROUND('Income Statement'!MTC12,3)","v":0},{"$f":"ROUND('Income Statement'!MTD12,3)","v":0},{"$f":"ROUND('Income Statement'!MTE12,3)","v":0},{"$f":"ROUND('Income Statement'!MTF12,3)","v":0},{"$f":"ROUND('Income Statement'!MTG12,3)","v":0},{"$f":"ROUND('Income Statement'!MTH12,3)","v":0},{"$f":"ROUND('Income Statement'!MTI12,3)","v":0},{"$f":"ROUND('Income Statement'!MTJ12,3)","v":0},{"$f":"ROUND('Income Statement'!MTK12,3)","v":0},{"$f":"ROUND('Income Statement'!MTL12,3)","v":0},{"$f":"ROUND('Income Statement'!MTM12,3)","v":0},{"$f":"ROUND('Income Statement'!MTN12,3)","v":0},{"$f":"ROUND('Income Statement'!MTO12,3)","v":0},{"$f":"ROUND('Income Statement'!MTP12,3)","v":0},{"$f":"ROUND('Income Statement'!MTQ12,3)","v":0},{"$f":"ROUND('Income Statement'!MTR12,3)","v":0},{"$f":"ROUND('Income Statement'!MTS12,3)","v":0},{"$f":"ROUND('Income Statement'!MTT12,3)","v":0},{"$f":"ROUND('Income Statement'!MTU12,3)","v":0},{"$f":"ROUND('Income Statement'!MTV12,3)","v":0},{"$f":"ROUND('Income Statement'!MTW12,3)","v":0},{"$f":"ROUND('Income Statement'!MTX12,3)","v":0},{"$f":"ROUND('Income Statement'!MTY12,3)","v":0},{"$f":"ROUND('Income Statement'!MTZ12,3)","v":0},{"$f":"ROUND('Income Statement'!MUA12,3)","v":0},{"$f":"ROUND('Income Statement'!MUB12,3)","v":0},{"$f":"ROUND('Income Statement'!MUC12,3)","v":0},{"$f":"ROUND('Income Statement'!MUD12,3)","v":0},{"$f":"ROUND('Income Statement'!MUE12,3)","v":0},{"$f":"ROUND('Income Statement'!MUF12,3)","v":0},{"$f":"ROUND('Income Statement'!MUG12,3)","v":0},{"$f":"ROUND('Income Statement'!MUH12,3)","v":0},{"$f":"ROUND('Income Statement'!MUI12,3)","v":0},{"$f":"ROUND('Income Statement'!MUJ12,3)","v":0},{"$f":"ROUND('Income Statement'!MUK12,3)","v":0},{"$f":"ROUND('Income Statement'!MUL12,3)","v":0},{"$f":"ROUND('Income Statement'!MUM12,3)","v":0},{"$f":"ROUND('Income Statement'!MUN12,3)","v":0},{"$f":"ROUND('Income Statement'!MUO12,3)","v":0},{"$f":"ROUND('Income Statement'!MUP12,3)","v":0},{"$f":"ROUND('Income Statement'!MUQ12,3)","v":0},{"$f":"ROUND('Income Statement'!MUR12,3)","v":0},{"$f":"ROUND('Income Statement'!MUS12,3)","v":0},{"$f":"ROUND('Income Statement'!MUT12,3)","v":0},{"$f":"ROUND('Income Statement'!MUU12,3)","v":0},{"$f":"ROUND('Income Statement'!MUV12,3)","v":0},{"$f":"ROUND('Income Statement'!MUW12,3)","v":0},{"$f":"ROUND('Income Statement'!MUX12,3)","v":0},{"$f":"ROUND('Income Statement'!MUY12,3)","v":0},{"$f":"ROUND('Income Statement'!MUZ12,3)","v":0},{"$f":"ROUND('Income Statement'!MVA12,3)","v":0},{"$f":"ROUND('Income Statement'!MVB12,3)","v":0},{"$f":"ROUND('Income Statement'!MVC12,3)","v":0},{"$f":"ROUND('Income Statement'!MVD12,3)","v":0},{"$f":"ROUND('Income Statement'!MVE12,3)","v":0},{"$f":"ROUND('Income Statement'!MVF12,3)","v":0},{"$f":"ROUND('Income Statement'!MVG12,3)","v":0},{"$f":"ROUND('Income Statement'!MVH12,3)","v":0},{"$f":"ROUND('Income Statement'!MVI12,3)","v":0},{"$f":"ROUND('Income Statement'!MVJ12,3)","v":0},{"$f":"ROUND('Income Statement'!MVK12,3)","v":0},{"$f":"ROUND('Income Statement'!MVL12,3)","v":0},{"$f":"ROUND('Income Statement'!MVM12,3)","v":0},{"$f":"ROUND('Income Statement'!MVN12,3)","v":0},{"$f":"ROUND('Income Statement'!MVO12,3)","v":0},{"$f":"ROUND('Income Statement'!MVP12,3)","v":0},{"$f":"ROUND('Income Statement'!MVQ12,3)","v":0},{"$f":"ROUND('Income Statement'!MVR12,3)","v":0},{"$f":"ROUND('Income Statement'!MVS12,3)","v":0},{"$f":"ROUND('Income Statement'!MVT12,3)","v":0},{"$f":"ROUND('Income Statement'!MVU12,3)","v":0},{"$f":"ROUND('Income Statement'!MVV12,3)","v":0},{"$f":"ROUND('Income Statement'!MVW12,3)","v":0},{"$f":"ROUND('Income Statement'!MVX12,3)","v":0},{"$f":"ROUND('Income Statement'!MVY12,3)","v":0},{"$f":"ROUND('Income Statement'!MVZ12,3)","v":0},{"$f":"ROUND('Income Statement'!MWA12,3)","v":0},{"$f":"ROUND('Income Statement'!MWB12,3)","v":0},{"$f":"ROUND('Income Statement'!MWC12,3)","v":0},{"$f":"ROUND('Income Statement'!MWD12,3)","v":0},{"$f":"ROUND('Income Statement'!MWE12,3)","v":0},{"$f":"ROUND('Income Statement'!MWF12,3)","v":0},{"$f":"ROUND('Income Statement'!MWG12,3)","v":0},{"$f":"ROUND('Income Statement'!MWH12,3)","v":0},{"$f":"ROUND('Income Statement'!MWI12,3)","v":0},{"$f":"ROUND('Income Statement'!MWJ12,3)","v":0},{"$f":"ROUND('Income Statement'!MWK12,3)","v":0},{"$f":"ROUND('Income Statement'!MWL12,3)","v":0},{"$f":"ROUND('Income Statement'!MWM12,3)","v":0},{"$f":"ROUND('Income Statement'!MWN12,3)","v":0},{"$f":"ROUND('Income Statement'!MWO12,3)","v":0},{"$f":"ROUND('Income Statement'!MWP12,3)","v":0},{"$f":"ROUND('Income Statement'!MWQ12,3)","v":0},{"$f":"ROUND('Income Statement'!MWR12,3)","v":0},{"$f":"ROUND('Income Statement'!MWS12,3)","v":0},{"$f":"ROUND('Income Statement'!MWT12,3)","v":0},{"$f":"ROUND('Income Statement'!MWU12,3)","v":0},{"$f":"ROUND('Income Statement'!MWV12,3)","v":0},{"$f":"ROUND('Income Statement'!MWW12,3)","v":0},{"$f":"ROUND('Income Statement'!MWX12,3)","v":0},{"$f":"ROUND('Income Statement'!MWY12,3)","v":0},{"$f":"ROUND('Income Statement'!MWZ12,3)","v":0},{"$f":"ROUND('Income Statement'!MXA12,3)","v":0},{"$f":"ROUND('Income Statement'!MXB12,3)","v":0},{"$f":"ROUND('Income Statement'!MXC12,3)","v":0},{"$f":"ROUND('Income Statement'!MXD12,3)","v":0},{"$f":"ROUND('Income Statement'!MXE12,3)","v":0},{"$f":"ROUND('Income Statement'!MXF12,3)","v":0},{"$f":"ROUND('Income Statement'!MXG12,3)","v":0},{"$f":"ROUND('Income Statement'!MXH12,3)","v":0},{"$f":"ROUND('Income Statement'!MXI12,3)","v":0},{"$f":"ROUND('Income Statement'!MXJ12,3)","v":0},{"$f":"ROUND('Income Statement'!MXK12,3)","v":0},{"$f":"ROUND('Income Statement'!MXL12,3)","v":0},{"$f":"ROUND('Income Statement'!MXM12,3)","v":0},{"$f":"ROUND('Income Statement'!MXN12,3)","v":0},{"$f":"ROUND('Income Statement'!MXO12,3)","v":0},{"$f":"ROUND('Income Statement'!MXP12,3)","v":0},{"$f":"ROUND('Income Statement'!MXQ12,3)","v":0},{"$f":"ROUND('Income Statement'!MXR12,3)","v":0},{"$f":"ROUND('Income Statement'!MXS12,3)","v":0},{"$f":"ROUND('Income Statement'!MXT12,3)","v":0},{"$f":"ROUND('Income Statement'!MXU12,3)","v":0},{"$f":"ROUND('Income Statement'!MXV12,3)","v":0},{"$f":"ROUND('Income Statement'!MXW12,3)","v":0},{"$f":"ROUND('Income Statement'!MXX12,3)","v":0},{"$f":"ROUND('Income Statement'!MXY12,3)","v":0},{"$f":"ROUND('Income Statement'!MXZ12,3)","v":0},{"$f":"ROUND('Income Statement'!MYA12,3)","v":0},{"$f":"ROUND('Income Statement'!MYB12,3)","v":0},{"$f":"ROUND('Income Statement'!MYC12,3)","v":0},{"$f":"ROUND('Income Statement'!MYD12,3)","v":0},{"$f":"ROUND('Income Statement'!MYE12,3)","v":0},{"$f":"ROUND('Income Statement'!MYF12,3)","v":0},{"$f":"ROUND('Income Statement'!MYG12,3)","v":0},{"$f":"ROUND('Income Statement'!MYH12,3)","v":0},{"$f":"ROUND('Income Statement'!MYI12,3)","v":0},{"$f":"ROUND('Income Statement'!MYJ12,3)","v":0},{"$f":"ROUND('Income Statement'!MYK12,3)","v":0},{"$f":"ROUND('Income Statement'!MYL12,3)","v":0},{"$f":"ROUND('Income Statement'!MYM12,3)","v":0},{"$f":"ROUND('Income Statement'!MYN12,3)","v":0},{"$f":"ROUND('Income Statement'!MYO12,3)","v":0},{"$f":"ROUND('Income Statement'!MYP12,3)","v":0},{"$f":"ROUND('Income Statement'!MYQ12,3)","v":0},{"$f":"ROUND('Income Statement'!MYR12,3)","v":0},{"$f":"ROUND('Income Statement'!MYS12,3)","v":0},{"$f":"ROUND('Income Statement'!MYT12,3)","v":0},{"$f":"ROUND('Income Statement'!MYU12,3)","v":0},{"$f":"ROUND('Income Statement'!MYV12,3)","v":0},{"$f":"ROUND('Income Statement'!MYW12,3)","v":0},{"$f":"ROUND('Income Statement'!MYX12,3)","v":0},{"$f":"ROUND('Income Statement'!MYY12,3)","v":0},{"$f":"ROUND('Income Statement'!MYZ12,3)","v":0},{"$f":"ROUND('Income Statement'!MZA12,3)","v":0},{"$f":"ROUND('Income Statement'!MZB12,3)","v":0},{"$f":"ROUND('Income Statement'!MZC12,3)","v":0},{"$f":"ROUND('Income Statement'!MZD12,3)","v":0},{"$f":"ROUND('Income Statement'!MZE12,3)","v":0},{"$f":"ROUND('Income Statement'!MZF12,3)","v":0},{"$f":"ROUND('Income Statement'!MZG12,3)","v":0},{"$f":"ROUND('Income Statement'!MZH12,3)","v":0},{"$f":"ROUND('Income Statement'!MZI12,3)","v":0},{"$f":"ROUND('Income Statement'!MZJ12,3)","v":0},{"$f":"ROUND('Income Statement'!MZK12,3)","v":0},{"$f":"ROUND('Income Statement'!MZL12,3)","v":0},{"$f":"ROUND('Income Statement'!MZM12,3)","v":0},{"$f":"ROUND('Income Statement'!MZN12,3)","v":0},{"$f":"ROUND('Income Statement'!MZO12,3)","v":0},{"$f":"ROUND('Income Statement'!MZP12,3)","v":0},{"$f":"ROUND('Income Statement'!MZQ12,3)","v":0},{"$f":"ROUND('Income Statement'!MZR12,3)","v":0},{"$f":"ROUND('Income Statement'!MZS12,3)","v":0},{"$f":"ROUND('Income Statement'!MZT12,3)","v":0},{"$f":"ROUND('Income Statement'!MZU12,3)","v":0},{"$f":"ROUND('Income Statement'!MZV12,3)","v":0},{"$f":"ROUND('Income Statement'!MZW12,3)","v":0},{"$f":"ROUND('Income Statement'!MZX12,3)","v":0},{"$f":"ROUND('Income Statement'!MZY12,3)","v":0},{"$f":"ROUND('Income Statement'!MZZ12,3)","v":0},{"$f":"ROUND('Income Statement'!NAA12,3)","v":0},{"$f":"ROUND('Income Statement'!NAB12,3)","v":0},{"$f":"ROUND('Income Statement'!NAC12,3)","v":0},{"$f":"ROUND('Income Statement'!NAD12,3)","v":0},{"$f":"ROUND('Income Statement'!NAE12,3)","v":0},{"$f":"ROUND('Income Statement'!NAF12,3)","v":0},{"$f":"ROUND('Income Statement'!NAG12,3)","v":0},{"$f":"ROUND('Income Statement'!NAH12,3)","v":0},{"$f":"ROUND('Income Statement'!NAI12,3)","v":0},{"$f":"ROUND('Income Statement'!NAJ12,3)","v":0},{"$f":"ROUND('Income Statement'!NAK12,3)","v":0},{"$f":"ROUND('Income Statement'!NAL12,3)","v":0},{"$f":"ROUND('Income Statement'!NAM12,3)","v":0},{"$f":"ROUND('Income Statement'!NAN12,3)","v":0},{"$f":"ROUND('Income Statement'!NAO12,3)","v":0},{"$f":"ROUND('Income Statement'!NAP12,3)","v":0},{"$f":"ROUND('Income Statement'!NAQ12,3)","v":0},{"$f":"ROUND('Income Statement'!NAR12,3)","v":0},{"$f":"ROUND('Income Statement'!NAS12,3)","v":0},{"$f":"ROUND('Income Statement'!NAT12,3)","v":0},{"$f":"ROUND('Income Statement'!NAU12,3)","v":0},{"$f":"ROUND('Income Statement'!NAV12,3)","v":0},{"$f":"ROUND('Income Statement'!NAW12,3)","v":0},{"$f":"ROUND('Income Statement'!NAX12,3)","v":0},{"$f":"ROUND('Income Statement'!NAY12,3)","v":0},{"$f":"ROUND('Income Statement'!NAZ12,3)","v":0},{"$f":"ROUND('Income Statement'!NBA12,3)","v":0},{"$f":"ROUND('Income Statement'!NBB12,3)","v":0},{"$f":"ROUND('Income Statement'!NBC12,3)","v":0},{"$f":"ROUND('Income Statement'!NBD12,3)","v":0},{"$f":"ROUND('Income Statement'!NBE12,3)","v":0},{"$f":"ROUND('Income Statement'!NBF12,3)","v":0},{"$f":"ROUND('Income Statement'!NBG12,3)","v":0},{"$f":"ROUND('Income Statement'!NBH12,3)","v":0},{"$f":"ROUND('Income Statement'!NBI12,3)","v":0},{"$f":"ROUND('Income Statement'!NBJ12,3)","v":0},{"$f":"ROUND('Income Statement'!NBK12,3)","v":0},{"$f":"ROUND('Income Statement'!NBL12,3)","v":0},{"$f":"ROUND('Income Statement'!NBM12,3)","v":0},{"$f":"ROUND('Income Statement'!NBN12,3)","v":0},{"$f":"ROUND('Income Statement'!NBO12,3)","v":0},{"$f":"ROUND('Income Statement'!NBP12,3)","v":0},{"$f":"ROUND('Income Statement'!NBQ12,3)","v":0},{"$f":"ROUND('Income Statement'!NBR12,3)","v":0},{"$f":"ROUND('Income Statement'!NBS12,3)","v":0},{"$f":"ROUND('Income Statement'!NBT12,3)","v":0},{"$f":"ROUND('Income Statement'!NBU12,3)","v":0},{"$f":"ROUND('Income Statement'!NBV12,3)","v":0},{"$f":"ROUND('Income Statement'!NBW12,3)","v":0},{"$f":"ROUND('Income Statement'!NBX12,3)","v":0},{"$f":"ROUND('Income Statement'!NBY12,3)","v":0},{"$f":"ROUND('Income Statement'!NBZ12,3)","v":0},{"$f":"ROUND('Income Statement'!NCA12,3)","v":0},{"$f":"ROUND('Income Statement'!NCB12,3)","v":0},{"$f":"ROUND('Income Statement'!NCC12,3)","v":0},{"$f":"ROUND('Income Statement'!NCD12,3)","v":0},{"$f":"ROUND('Income Statement'!NCE12,3)","v":0},{"$f":"ROUND('Income Statement'!NCF12,3)","v":0},{"$f":"ROUND('Income Statement'!NCG12,3)","v":0},{"$f":"ROUND('Income Statement'!NCH12,3)","v":0},{"$f":"ROUND('Income Statement'!NCI12,3)","v":0},{"$f":"ROUND('Income Statement'!NCJ12,3)","v":0},{"$f":"ROUND('Income Statement'!NCK12,3)","v":0},{"$f":"ROUND('Income Statement'!NCL12,3)","v":0},{"$f":"ROUND('Income Statement'!NCM12,3)","v":0},{"$f":"ROUND('Income Statement'!NCN12,3)","v":0},{"$f":"ROUND('Income Statement'!NCO12,3)","v":0},{"$f":"ROUND('Income Statement'!NCP12,3)","v":0},{"$f":"ROUND('Income Statement'!NCQ12,3)","v":0},{"$f":"ROUND('Income Statement'!NCR12,3)","v":0},{"$f":"ROUND('Income Statement'!NCS12,3)","v":0},{"$f":"ROUND('Income Statement'!NCT12,3)","v":0},{"$f":"ROUND('Income Statement'!NCU12,3)","v":0},{"$f":"ROUND('Income Statement'!NCV12,3)","v":0},{"$f":"ROUND('Income Statement'!NCW12,3)","v":0},{"$f":"ROUND('Income Statement'!NCX12,3)","v":0},{"$f":"ROUND('Income Statement'!NCY12,3)","v":0},{"$f":"ROUND('Income Statement'!NCZ12,3)","v":0},{"$f":"ROUND('Income Statement'!NDA12,3)","v":0},{"$f":"ROUND('Income Statement'!NDB12,3)","v":0},{"$f":"ROUND('Income Statement'!NDC12,3)","v":0},{"$f":"ROUND('Income Statement'!NDD12,3)","v":0},{"$f":"ROUND('Income Statement'!NDE12,3)","v":0},{"$f":"ROUND('Income Statement'!NDF12,3)","v":0},{"$f":"ROUND('Income Statement'!NDG12,3)","v":0},{"$f":"ROUND('Income Statement'!NDH12,3)","v":0},{"$f":"ROUND('Income Statement'!NDI12,3)","v":0},{"$f":"ROUND('Income Statement'!NDJ12,3)","v":0},{"$f":"ROUND('Income Statement'!NDK12,3)","v":0},{"$f":"ROUND('Income Statement'!NDL12,3)","v":0},{"$f":"ROUND('Income Statement'!NDM12,3)","v":0},{"$f":"ROUND('Income Statement'!NDN12,3)","v":0},{"$f":"ROUND('Income Statement'!NDO12,3)","v":0},{"$f":"ROUND('Income Statement'!NDP12,3)","v":0},{"$f":"ROUND('Income Statement'!NDQ12,3)","v":0},{"$f":"ROUND('Income Statement'!NDR12,3)","v":0},{"$f":"ROUND('Income Statement'!NDS12,3)","v":0},{"$f":"ROUND('Income Statement'!NDT12,3)","v":0},{"$f":"ROUND('Income Statement'!NDU12,3)","v":0},{"$f":"ROUND('Income Statement'!NDV12,3)","v":0},{"$f":"ROUND('Income Statement'!NDW12,3)","v":0},{"$f":"ROUND('Income Statement'!NDX12,3)","v":0},{"$f":"ROUND('Income Statement'!NDY12,3)","v":0},{"$f":"ROUND('Income Statement'!NDZ12,3)","v":0},{"$f":"ROUND('Income Statement'!NEA12,3)","v":0},{"$f":"ROUND('Income Statement'!NEB12,3)","v":0},{"$f":"ROUND('Income Statement'!NEC12,3)","v":0},{"$f":"ROUND('Income Statement'!NED12,3)","v":0},{"$f":"ROUND('Income Statement'!NEE12,3)","v":0},{"$f":"ROUND('Income Statement'!NEF12,3)","v":0},{"$f":"ROUND('Income Statement'!NEG12,3)","v":0},{"$f":"ROUND('Income Statement'!NEH12,3)","v":0},{"$f":"ROUND('Income Statement'!NEI12,3)","v":0},{"$f":"ROUND('Income Statement'!NEJ12,3)","v":0},{"$f":"ROUND('Income Statement'!NEK12,3)","v":0},{"$f":"ROUND('Income Statement'!NEL12,3)","v":0},{"$f":"ROUND('Income Statement'!NEM12,3)","v":0},{"$f":"ROUND('Income Statement'!NEN12,3)","v":0},{"$f":"ROUND('Income Statement'!NEO12,3)","v":0},{"$f":"ROUND('Income Statement'!NEP12,3)","v":0},{"$f":"ROUND('Income Statement'!NEQ12,3)","v":0},{"$f":"ROUND('Income Statement'!NER12,3)","v":0},{"$f":"ROUND('Income Statement'!NES12,3)","v":0},{"$f":"ROUND('Income Statement'!NET12,3)","v":0},{"$f":"ROUND('Income Statement'!NEU12,3)","v":0},{"$f":"ROUND('Income Statement'!NEV12,3)","v":0},{"$f":"ROUND('Income Statement'!NEW12,3)","v":0},{"$f":"ROUND('Income Statement'!NEX12,3)","v":0},{"$f":"ROUND('Income Statement'!NEY12,3)","v":0},{"$f":"ROUND('Income Statement'!NEZ12,3)","v":0},{"$f":"ROUND('Income Statement'!NFA12,3)","v":0},{"$f":"ROUND('Income Statement'!NFB12,3)","v":0},{"$f":"ROUND('Income Statement'!NFC12,3)","v":0},{"$f":"ROUND('Income Statement'!NFD12,3)","v":0},{"$f":"ROUND('Income Statement'!NFE12,3)","v":0},{"$f":"ROUND('Income Statement'!NFF12,3)","v":0},{"$f":"ROUND('Income Statement'!NFG12,3)","v":0},{"$f":"ROUND('Income Statement'!NFH12,3)","v":0},{"$f":"ROUND('Income Statement'!NFI12,3)","v":0},{"$f":"ROUND('Income Statement'!NFJ12,3)","v":0},{"$f":"ROUND('Income Statement'!NFK12,3)","v":0},{"$f":"ROUND('Income Statement'!NFL12,3)","v":0},{"$f":"ROUND('Income Statement'!NFM12,3)","v":0},{"$f":"ROUND('Income Statement'!NFN12,3)","v":0},{"$f":"ROUND('Income Statement'!NFO12,3)","v":0},{"$f":"ROUND('Income Statement'!NFP12,3)","v":0},{"$f":"ROUND('Income Statement'!NFQ12,3)","v":0},{"$f":"ROUND('Income Statement'!NFR12,3)","v":0},{"$f":"ROUND('Income Statement'!NFS12,3)","v":0},{"$f":"ROUND('Income Statement'!NFT12,3)","v":0},{"$f":"ROUND('Income Statement'!NFU12,3)","v":0},{"$f":"ROUND('Income Statement'!NFV12,3)","v":0},{"$f":"ROUND('Income Statement'!NFW12,3)","v":0},{"$f":"ROUND('Income Statement'!NFX12,3)","v":0},{"$f":"ROUND('Income Statement'!NFY12,3)","v":0},{"$f":"ROUND('Income Statement'!NFZ12,3)","v":0},{"$f":"ROUND('Income Statement'!NGA12,3)","v":0},{"$f":"ROUND('Income Statement'!NGB12,3)","v":0},{"$f":"ROUND('Income Statement'!NGC12,3)","v":0},{"$f":"ROUND('Income Statement'!NGD12,3)","v":0},{"$f":"ROUND('Income Statement'!NGE12,3)","v":0},{"$f":"ROUND('Income Statement'!NGF12,3)","v":0},{"$f":"ROUND('Income Statement'!NGG12,3)","v":0},{"$f":"ROUND('Income Statement'!NGH12,3)","v":0},{"$f":"ROUND('Income Statement'!NGI12,3)","v":0},{"$f":"ROUND('Income Statement'!NGJ12,3)","v":0},{"$f":"ROUND('Income Statement'!NGK12,3)","v":0},{"$f":"ROUND('Income Statement'!NGL12,3)","v":0},{"$f":"ROUND('Income Statement'!NGM12,3)","v":0},{"$f":"ROUND('Income Statement'!NGN12,3)","v":0},{"$f":"ROUND('Income Statement'!NGO12,3)","v":0},{"$f":"ROUND('Income Statement'!NGP12,3)","v":0},{"$f":"ROUND('Income Statement'!NGQ12,3)","v":0},{"$f":"ROUND('Income Statement'!NGR12,3)","v":0},{"$f":"ROUND('Income Statement'!NGS12,3)","v":0},{"$f":"ROUND('Income Statement'!NGT12,3)","v":0},{"$f":"ROUND('Income Statement'!NGU12,3)","v":0},{"$f":"ROUND('Income Statement'!NGV12,3)","v":0},{"$f":"ROUND('Income Statement'!NGW12,3)","v":0},{"$f":"ROUND('Income Statement'!NGX12,3)","v":0},{"$f":"ROUND('Income Statement'!NGY12,3)","v":0},{"$f":"ROUND('Income Statement'!NGZ12,3)","v":0},{"$f":"ROUND('Income Statement'!NHA12,3)","v":0},{"$f":"ROUND('Income Statement'!NHB12,3)","v":0},{"$f":"ROUND('Income Statement'!NHC12,3)","v":0},{"$f":"ROUND('Income Statement'!NHD12,3)","v":0},{"$f":"ROUND('Income Statement'!NHE12,3)","v":0},{"$f":"ROUND('Income Statement'!NHF12,3)","v":0},{"$f":"ROUND('Income Statement'!NHG12,3)","v":0},{"$f":"ROUND('Income Statement'!NHH12,3)","v":0},{"$f":"ROUND('Income Statement'!NHI12,3)","v":0},{"$f":"ROUND('Income Statement'!NHJ12,3)","v":0},{"$f":"ROUND('Income Statement'!NHK12,3)","v":0},{"$f":"ROUND('Income Statement'!NHL12,3)","v":0},{"$f":"ROUND('Income Statement'!NHM12,3)","v":0},{"$f":"ROUND('Income Statement'!NHN12,3)","v":0},{"$f":"ROUND('Income Statement'!NHO12,3)","v":0},{"$f":"ROUND('Income Statement'!NHP12,3)","v":0},{"$f":"ROUND('Income Statement'!NHQ12,3)","v":0},{"$f":"ROUND('Income Statement'!NHR12,3)","v":0},{"$f":"ROUND('Income Statement'!NHS12,3)","v":0},{"$f":"ROUND('Income Statement'!NHT12,3)","v":0},{"$f":"ROUND('Income Statement'!NHU12,3)","v":0},{"$f":"ROUND('Income Statement'!NHV12,3)","v":0},{"$f":"ROUND('Income Statement'!NHW12,3)","v":0},{"$f":"ROUND('Income Statement'!NHX12,3)","v":0},{"$f":"ROUND('Income Statement'!NHY12,3)","v":0},{"$f":"ROUND('Income Statement'!NHZ12,3)","v":0},{"$f":"ROUND('Income Statement'!NIA12,3)","v":0},{"$f":"ROUND('Income Statement'!NIB12,3)","v":0},{"$f":"ROUND('Income Statement'!NIC12,3)","v":0},{"$f":"ROUND('Income Statement'!NID12,3)","v":0},{"$f":"ROUND('Income Statement'!NIE12,3)","v":0},{"$f":"ROUND('Income Statement'!NIF12,3)","v":0},{"$f":"ROUND('Income Statement'!NIG12,3)","v":0},{"$f":"ROUND('Income Statement'!NIH12,3)","v":0},{"$f":"ROUND('Income Statement'!NII12,3)","v":0},{"$f":"ROUND('Income Statement'!NIJ12,3)","v":0},{"$f":"ROUND('Income Statement'!NIK12,3)","v":0},{"$f":"ROUND('Income Statement'!NIL12,3)","v":0},{"$f":"ROUND('Income Statement'!NIM12,3)","v":0},{"$f":"ROUND('Income Statement'!NIN12,3)","v":0},{"$f":"ROUND('Income Statement'!NIO12,3)","v":0},{"$f":"ROUND('Income Statement'!NIP12,3)","v":0},{"$f":"ROUND('Income Statement'!NIQ12,3)","v":0},{"$f":"ROUND('Income Statement'!NIR12,3)","v":0},{"$f":"ROUND('Income Statement'!NIS12,3)","v":0},{"$f":"ROUND('Income Statement'!NIT12,3)","v":0},{"$f":"ROUND('Income Statement'!NIU12,3)","v":0},{"$f":"ROUND('Income Statement'!NIV12,3)","v":0},{"$f":"ROUND('Income Statement'!NIW12,3)","v":0},{"$f":"ROUND('Income Statement'!NIX12,3)","v":0},{"$f":"ROUND('Income Statement'!NIY12,3)","v":0},{"$f":"ROUND('Income Statement'!NIZ12,3)","v":0},{"$f":"ROUND('Income Statement'!NJA12,3)","v":0},{"$f":"ROUND('Income Statement'!NJB12,3)","v":0},{"$f":"ROUND('Income Statement'!NJC12,3)","v":0},{"$f":"ROUND('Income Statement'!NJD12,3)","v":0},{"$f":"ROUND('Income Statement'!NJE12,3)","v":0},{"$f":"ROUND('Income Statement'!NJF12,3)","v":0},{"$f":"ROUND('Income Statement'!NJG12,3)","v":0},{"$f":"ROUND('Income Statement'!NJH12,3)","v":0},{"$f":"ROUND('Income Statement'!NJI12,3)","v":0},{"$f":"ROUND('Income Statement'!NJJ12,3)","v":0},{"$f":"ROUND('Income Statement'!NJK12,3)","v":0},{"$f":"ROUND('Income Statement'!NJL12,3)","v":0},{"$f":"ROUND('Income Statement'!NJM12,3)","v":0},{"$f":"ROUND('Income Statement'!NJN12,3)","v":0},{"$f":"ROUND('Income Statement'!NJO12,3)","v":0},{"$f":"ROUND('Income Statement'!NJP12,3)","v":0},{"$f":"ROUND('Income Statement'!NJQ12,3)","v":0},{"$f":"ROUND('Income Statement'!NJR12,3)","v":0},{"$f":"ROUND('Income Statement'!NJS12,3)","v":0},{"$f":"ROUND('Income Statement'!NJT12,3)","v":0},{"$f":"ROUND('Income Statement'!NJU12,3)","v":0},{"$f":"ROUND('Income Statement'!NJV12,3)","v":0},{"$f":"ROUND('Income Statement'!NJW12,3)","v":0},{"$f":"ROUND('Income Statement'!NJX12,3)","v":0},{"$f":"ROUND('Income Statement'!NJY12,3)","v":0},{"$f":"ROUND('Income Statement'!NJZ12,3)","v":0},{"$f":"ROUND('Income Statement'!NKA12,3)","v":0},{"$f":"ROUND('Income Statement'!NKB12,3)","v":0},{"$f":"ROUND('Income Statement'!NKC12,3)","v":0},{"$f":"ROUND('Income Statement'!NKD12,3)","v":0},{"$f":"ROUND('Income Statement'!NKE12,3)","v":0},{"$f":"ROUND('Income Statement'!NKF12,3)","v":0},{"$f":"ROUND('Income Statement'!NKG12,3)","v":0},{"$f":"ROUND('Income Statement'!NKH12,3)","v":0},{"$f":"ROUND('Income Statement'!NKI12,3)","v":0},{"$f":"ROUND('Income Statement'!NKJ12,3)","v":0},{"$f":"ROUND('Income Statement'!NKK12,3)","v":0},{"$f":"ROUND('Income Statement'!NKL12,3)","v":0},{"$f":"ROUND('Income Statement'!NKM12,3)","v":0},{"$f":"ROUND('Income Statement'!NKN12,3)","v":0},{"$f":"ROUND('Income Statement'!NKO12,3)","v":0},{"$f":"ROUND('Income Statement'!NKP12,3)","v":0},{"$f":"ROUND('Income Statement'!NKQ12,3)","v":0},{"$f":"ROUND('Income Statement'!NKR12,3)","v":0},{"$f":"ROUND('Income Statement'!NKS12,3)","v":0},{"$f":"ROUND('Income Statement'!NKT12,3)","v":0},{"$f":"ROUND('Income Statement'!NKU12,3)","v":0},{"$f":"ROUND('Income Statement'!NKV12,3)","v":0},{"$f":"ROUND('Income Statement'!NKW12,3)","v":0},{"$f":"ROUND('Income Statement'!NKX12,3)","v":0},{"$f":"ROUND('Income Statement'!NKY12,3)","v":0},{"$f":"ROUND('Income Statement'!NKZ12,3)","v":0},{"$f":"ROUND('Income Statement'!NLA12,3)","v":0},{"$f":"ROUND('Income Statement'!NLB12,3)","v":0},{"$f":"ROUND('Income Statement'!NLC12,3)","v":0},{"$f":"ROUND('Income Statement'!NLD12,3)","v":0},{"$f":"ROUND('Income Statement'!NLE12,3)","v":0},{"$f":"ROUND('Income Statement'!NLF12,3)","v":0},{"$f":"ROUND('Income Statement'!NLG12,3)","v":0},{"$f":"ROUND('Income Statement'!NLH12,3)","v":0},{"$f":"ROUND('Income Statement'!NLI12,3)","v":0},{"$f":"ROUND('Income Statement'!NLJ12,3)","v":0},{"$f":"ROUND('Income Statement'!NLK12,3)","v":0},{"$f":"ROUND('Income Statement'!NLL12,3)","v":0},{"$f":"ROUND('Income Statement'!NLM12,3)","v":0},{"$f":"ROUND('Income Statement'!NLN12,3)","v":0},{"$f":"ROUND('Income Statement'!NLO12,3)","v":0},{"$f":"ROUND('Income Statement'!NLP12,3)","v":0},{"$f":"ROUND('Income Statement'!NLQ12,3)","v":0},{"$f":"ROUND('Income Statement'!NLR12,3)","v":0},{"$f":"ROUND('Income Statement'!NLS12,3)","v":0},{"$f":"ROUND('Income Statement'!NLT12,3)","v":0},{"$f":"ROUND('Income Statement'!NLU12,3)","v":0},{"$f":"ROUND('Income Statement'!NLV12,3)","v":0},{"$f":"ROUND('Income Statement'!NLW12,3)","v":0},{"$f":"ROUND('Income Statement'!NLX12,3)","v":0},{"$f":"ROUND('Income Statement'!NLY12,3)","v":0},{"$f":"ROUND('Income Statement'!NLZ12,3)","v":0},{"$f":"ROUND('Income Statement'!NMA12,3)","v":0},{"$f":"ROUND('Income Statement'!NMB12,3)","v":0},{"$f":"ROUND('Income Statement'!NMC12,3)","v":0},{"$f":"ROUND('Income Statement'!NMD12,3)","v":0},{"$f":"ROUND('Income Statement'!NME12,3)","v":0},{"$f":"ROUND('Income Statement'!NMF12,3)","v":0},{"$f":"ROUND('Income Statement'!NMG12,3)","v":0},{"$f":"ROUND('Income Statement'!NMH12,3)","v":0},{"$f":"ROUND('Income Statement'!NMI12,3)","v":0},{"$f":"ROUND('Income Statement'!NMJ12,3)","v":0},{"$f":"ROUND('Income Statement'!NMK12,3)","v":0},{"$f":"ROUND('Income Statement'!NML12,3)","v":0},{"$f":"ROUND('Income Statement'!NMM12,3)","v":0},{"$f":"ROUND('Income Statement'!NMN12,3)","v":0},{"$f":"ROUND('Income Statement'!NMO12,3)","v":0},{"$f":"ROUND('Income Statement'!NMP12,3)","v":0},{"$f":"ROUND('Income Statement'!NMQ12,3)","v":0},{"$f":"ROUND('Income Statement'!NMR12,3)","v":0},{"$f":"ROUND('Income Statement'!NMS12,3)","v":0},{"$f":"ROUND('Income Statement'!NMT12,3)","v":0},{"$f":"ROUND('Income Statement'!NMU12,3)","v":0},{"$f":"ROUND('Income Statement'!NMV12,3)","v":0},{"$f":"ROUND('Income Statement'!NMW12,3)","v":0},{"$f":"ROUND('Income Statement'!NMX12,3)","v":0},{"$f":"ROUND('Income Statement'!NMY12,3)","v":0},{"$f":"ROUND('Income Statement'!NMZ12,3)","v":0},{"$f":"ROUND('Income Statement'!NNA12,3)","v":0},{"$f":"ROUND('Income Statement'!NNB12,3)","v":0},{"$f":"ROUND('Income Statement'!NNC12,3)","v":0},{"$f":"ROUND('Income Statement'!NND12,3)","v":0},{"$f":"ROUND('Income Statement'!NNE12,3)","v":0},{"$f":"ROUND('Income Statement'!NNF12,3)","v":0},{"$f":"ROUND('Income Statement'!NNG12,3)","v":0},{"$f":"ROUND('Income Statement'!NNH12,3)","v":0},{"$f":"ROUND('Income Statement'!NNI12,3)","v":0},{"$f":"ROUND('Income Statement'!NNJ12,3)","v":0},{"$f":"ROUND('Income Statement'!NNK12,3)","v":0},{"$f":"ROUND('Income Statement'!NNL12,3)","v":0},{"$f":"ROUND('Income Statement'!NNM12,3)","v":0},{"$f":"ROUND('Income Statement'!NNN12,3)","v":0},{"$f":"ROUND('Income Statement'!NNO12,3)","v":0},{"$f":"ROUND('Income Statement'!NNP12,3)","v":0},{"$f":"ROUND('Income Statement'!NNQ12,3)","v":0},{"$f":"ROUND('Income Statement'!NNR12,3)","v":0},{"$f":"ROUND('Income Statement'!NNS12,3)","v":0},{"$f":"ROUND('Income Statement'!NNT12,3)","v":0},{"$f":"ROUND('Income Statement'!NNU12,3)","v":0},{"$f":"ROUND('Income Statement'!NNV12,3)","v":0},{"$f":"ROUND('Income Statement'!NNW12,3)","v":0},{"$f":"ROUND('Income Statement'!NNX12,3)","v":0},{"$f":"ROUND('Income Statement'!NNY12,3)","v":0},{"$f":"ROUND('Income Statement'!NNZ12,3)","v":0},{"$f":"ROUND('Income Statement'!NOA12,3)","v":0},{"$f":"ROUND('Income Statement'!NOB12,3)","v":0},{"$f":"ROUND('Income Statement'!NOC12,3)","v":0},{"$f":"ROUND('Income Statement'!NOD12,3)","v":0},{"$f":"ROUND('Income Statement'!NOE12,3)","v":0},{"$f":"ROUND('Income Statement'!NOF12,3)","v":0},{"$f":"ROUND('Income Statement'!NOG12,3)","v":0},{"$f":"ROUND('Income Statement'!NOH12,3)","v":0},{"$f":"ROUND('Income Statement'!NOI12,3)","v":0},{"$f":"ROUND('Income Statement'!NOJ12,3)","v":0},{"$f":"ROUND('Income Statement'!NOK12,3)","v":0},{"$f":"ROUND('Income Statement'!NOL12,3)","v":0},{"$f":"ROUND('Income Statement'!NOM12,3)","v":0},{"$f":"ROUND('Income Statement'!NON12,3)","v":0},{"$f":"ROUND('Income Statement'!NOO12,3)","v":0},{"$f":"ROUND('Income Statement'!NOP12,3)","v":0},{"$f":"ROUND('Income Statement'!NOQ12,3)","v":0},{"$f":"ROUND('Income Statement'!NOR12,3)","v":0},{"$f":"ROUND('Income Statement'!NOS12,3)","v":0},{"$f":"ROUND('Income Statement'!NOT12,3)","v":0},{"$f":"ROUND('Income Statement'!NOU12,3)","v":0},{"$f":"ROUND('Income Statement'!NOV12,3)","v":0},{"$f":"ROUND('Income Statement'!NOW12,3)","v":0},{"$f":"ROUND('Income Statement'!NOX12,3)","v":0},{"$f":"ROUND('Income Statement'!NOY12,3)","v":0},{"$f":"ROUND('Income Statement'!NOZ12,3)","v":0},{"$f":"ROUND('Income Statement'!NPA12,3)","v":0},{"$f":"ROUND('Income Statement'!NPB12,3)","v":0},{"$f":"ROUND('Income Statement'!NPC12,3)","v":0},{"$f":"ROUND('Income Statement'!NPD12,3)","v":0},{"$f":"ROUND('Income Statement'!NPE12,3)","v":0},{"$f":"ROUND('Income Statement'!NPF12,3)","v":0},{"$f":"ROUND('Income Statement'!NPG12,3)","v":0},{"$f":"ROUND('Income Statement'!NPH12,3)","v":0},{"$f":"ROUND('Income Statement'!NPI12,3)","v":0},{"$f":"ROUND('Income Statement'!NPJ12,3)","v":0},{"$f":"ROUND('Income Statement'!NPK12,3)","v":0},{"$f":"ROUND('Income Statement'!NPL12,3)","v":0},{"$f":"ROUND('Income Statement'!NPM12,3)","v":0},{"$f":"ROUND('Income Statement'!NPN12,3)","v":0},{"$f":"ROUND('Income Statement'!NPO12,3)","v":0},{"$f":"ROUND('Income Statement'!NPP12,3)","v":0},{"$f":"ROUND('Income Statement'!NPQ12,3)","v":0},{"$f":"ROUND('Income Statement'!NPR12,3)","v":0},{"$f":"ROUND('Income Statement'!NPS12,3)","v":0},{"$f":"ROUND('Income Statement'!NPT12,3)","v":0},{"$f":"ROUND('Income Statement'!NPU12,3)","v":0},{"$f":"ROUND('Income Statement'!NPV12,3)","v":0},{"$f":"ROUND('Income Statement'!NPW12,3)","v":0},{"$f":"ROUND('Income Statement'!NPX12,3)","v":0},{"$f":"ROUND('Income Statement'!NPY12,3)","v":0},{"$f":"ROUND('Income Statement'!NPZ12,3)","v":0},{"$f":"ROUND('Income Statement'!NQA12,3)","v":0},{"$f":"ROUND('Income Statement'!NQB12,3)","v":0},{"$f":"ROUND('Income Statement'!NQC12,3)","v":0},{"$f":"ROUND('Income Statement'!NQD12,3)","v":0},{"$f":"ROUND('Income Statement'!NQE12,3)","v":0},{"$f":"ROUND('Income Statement'!NQF12,3)","v":0},{"$f":"ROUND('Income Statement'!NQG12,3)","v":0},{"$f":"ROUND('Income Statement'!NQH12,3)","v":0},{"$f":"ROUND('Income Statement'!NQI12,3)","v":0},{"$f":"ROUND('Income Statement'!NQJ12,3)","v":0},{"$f":"ROUND('Income Statement'!NQK12,3)","v":0},{"$f":"ROUND('Income Statement'!NQL12,3)","v":0},{"$f":"ROUND('Income Statement'!NQM12,3)","v":0},{"$f":"ROUND('Income Statement'!NQN12,3)","v":0},{"$f":"ROUND('Income Statement'!NQO12,3)","v":0},{"$f":"ROUND('Income Statement'!NQP12,3)","v":0},{"$f":"ROUND('Income Statement'!NQQ12,3)","v":0},{"$f":"ROUND('Income Statement'!NQR12,3)","v":0},{"$f":"ROUND('Income Statement'!NQS12,3)","v":0},{"$f":"ROUND('Income Statement'!NQT12,3)","v":0},{"$f":"ROUND('Income Statement'!NQU12,3)","v":0},{"$f":"ROUND('Income Statement'!NQV12,3)","v":0},{"$f":"ROUND('Income Statement'!NQW12,3)","v":0},{"$f":"ROUND('Income Statement'!NQX12,3)","v":0},{"$f":"ROUND('Income Statement'!NQY12,3)","v":0},{"$f":"ROUND('Income Statement'!NQZ12,3)","v":0},{"$f":"ROUND('Income Statement'!NRA12,3)","v":0},{"$f":"ROUND('Income Statement'!NRB12,3)","v":0},{"$f":"ROUND('Income Statement'!NRC12,3)","v":0},{"$f":"ROUND('Income Statement'!NRD12,3)","v":0},{"$f":"ROUND('Income Statement'!NRE12,3)","v":0},{"$f":"ROUND('Income Statement'!NRF12,3)","v":0},{"$f":"ROUND('Income Statement'!NRG12,3)","v":0},{"$f":"ROUND('Income Statement'!NRH12,3)","v":0},{"$f":"ROUND('Income Statement'!NRI12,3)","v":0},{"$f":"ROUND('Income Statement'!NRJ12,3)","v":0},{"$f":"ROUND('Income Statement'!NRK12,3)","v":0},{"$f":"ROUND('Income Statement'!NRL12,3)","v":0},{"$f":"ROUND('Income Statement'!NRM12,3)","v":0},{"$f":"ROUND('Income Statement'!NRN12,3)","v":0},{"$f":"ROUND('Income Statement'!NRO12,3)","v":0},{"$f":"ROUND('Income Statement'!NRP12,3)","v":0},{"$f":"ROUND('Income Statement'!NRQ12,3)","v":0},{"$f":"ROUND('Income Statement'!NRR12,3)","v":0},{"$f":"ROUND('Income Statement'!NRS12,3)","v":0},{"$f":"ROUND('Income Statement'!NRT12,3)","v":0},{"$f":"ROUND('Income Statement'!NRU12,3)","v":0},{"$f":"ROUND('Income Statement'!NRV12,3)","v":0},{"$f":"ROUND('Income Statement'!NRW12,3)","v":0},{"$f":"ROUND('Income Statement'!NRX12,3)","v":0},{"$f":"ROUND('Income Statement'!NRY12,3)","v":0},{"$f":"ROUND('Income Statement'!NRZ12,3)","v":0},{"$f":"ROUND('Income Statement'!NSA12,3)","v":0},{"$f":"ROUND('Income Statement'!NSB12,3)","v":0},{"$f":"ROUND('Income Statement'!NSC12,3)","v":0},{"$f":"ROUND('Income Statement'!NSD12,3)","v":0},{"$f":"ROUND('Income Statement'!NSE12,3)","v":0},{"$f":"ROUND('Income Statement'!NSF12,3)","v":0},{"$f":"ROUND('Income Statement'!NSG12,3)","v":0},{"$f":"ROUND('Income Statement'!NSH12,3)","v":0},{"$f":"ROUND('Income Statement'!NSI12,3)","v":0},{"$f":"ROUND('Income Statement'!NSJ12,3)","v":0},{"$f":"ROUND('Income Statement'!NSK12,3)","v":0},{"$f":"ROUND('Income Statement'!NSL12,3)","v":0},{"$f":"ROUND('Income Statement'!NSM12,3)","v":0},{"$f":"ROUND('Income Statement'!NSN12,3)","v":0},{"$f":"ROUND('Income Statement'!NSO12,3)","v":0},{"$f":"ROUND('Income Statement'!NSP12,3)","v":0},{"$f":"ROUND('Income Statement'!NSQ12,3)","v":0},{"$f":"ROUND('Income Statement'!NSR12,3)","v":0},{"$f":"ROUND('Income Statement'!NSS12,3)","v":0},{"$f":"ROUND('Income Statement'!NST12,3)","v":0},{"$f":"ROUND('Income Statement'!NSU12,3)","v":0},{"$f":"ROUND('Income Statement'!NSV12,3)","v":0},{"$f":"ROUND('Income Statement'!NSW12,3)","v":0},{"$f":"ROUND('Income Statement'!NSX12,3)","v":0},{"$f":"ROUND('Income Statement'!NSY12,3)","v":0},{"$f":"ROUND('Income Statement'!NSZ12,3)","v":0},{"$f":"ROUND('Income Statement'!NTA12,3)","v":0},{"$f":"ROUND('Income Statement'!NTB12,3)","v":0},{"$f":"ROUND('Income Statement'!NTC12,3)","v":0},{"$f":"ROUND('Income Statement'!NTD12,3)","v":0},{"$f":"ROUND('Income Statement'!NTE12,3)","v":0},{"$f":"ROUND('Income Statement'!NTF12,3)","v":0},{"$f":"ROUND('Income Statement'!NTG12,3)","v":0},{"$f":"ROUND('Income Statement'!NTH12,3)","v":0},{"$f":"ROUND('Income Statement'!NTI12,3)","v":0},{"$f":"ROUND('Income Statement'!NTJ12,3)","v":0},{"$f":"ROUND('Income Statement'!NTK12,3)","v":0},{"$f":"ROUND('Income Statement'!NTL12,3)","v":0},{"$f":"ROUND('Income Statement'!NTM12,3)","v":0},{"$f":"ROUND('Income Statement'!NTN12,3)","v":0},{"$f":"ROUND('Income Statement'!NTO12,3)","v":0},{"$f":"ROUND('Income Statement'!NTP12,3)","v":0},{"$f":"ROUND('Income Statement'!NTQ12,3)","v":0},{"$f":"ROUND('Income Statement'!NTR12,3)","v":0},{"$f":"ROUND('Income Statement'!NTS12,3)","v":0},{"$f":"ROUND('Income Statement'!NTT12,3)","v":0},{"$f":"ROUND('Income Statement'!NTU12,3)","v":0},{"$f":"ROUND('Income Statement'!NTV12,3)","v":0},{"$f":"ROUND('Income Statement'!NTW12,3)","v":0},{"$f":"ROUND('Income Statement'!NTX12,3)","v":0},{"$f":"ROUND('Income Statement'!NTY12,3)","v":0},{"$f":"ROUND('Income Statement'!NTZ12,3)","v":0},{"$f":"ROUND('Income Statement'!NUA12,3)","v":0},{"$f":"ROUND('Income Statement'!NUB12,3)","v":0},{"$f":"ROUND('Income Statement'!NUC12,3)","v":0},{"$f":"ROUND('Income Statement'!NUD12,3)","v":0},{"$f":"ROUND('Income Statement'!NUE12,3)","v":0},{"$f":"ROUND('Income Statement'!NUF12,3)","v":0},{"$f":"ROUND('Income Statement'!NUG12,3)","v":0},{"$f":"ROUND('Income Statement'!NUH12,3)","v":0},{"$f":"ROUND('Income Statement'!NUI12,3)","v":0},{"$f":"ROUND('Income Statement'!NUJ12,3)","v":0},{"$f":"ROUND('Income Statement'!NUK12,3)","v":0},{"$f":"ROUND('Income Statement'!NUL12,3)","v":0},{"$f":"ROUND('Income Statement'!NUM12,3)","v":0},{"$f":"ROUND('Income Statement'!NUN12,3)","v":0},{"$f":"ROUND('Income Statement'!NUO12,3)","v":0},{"$f":"ROUND('Income Statement'!NUP12,3)","v":0},{"$f":"ROUND('Income Statement'!NUQ12,3)","v":0},{"$f":"ROUND('Income Statement'!NUR12,3)","v":0},{"$f":"ROUND('Income Statement'!NUS12,3)","v":0},{"$f":"ROUND('Income Statement'!NUT12,3)","v":0},{"$f":"ROUND('Income Statement'!NUU12,3)","v":0},{"$f":"ROUND('Income Statement'!NUV12,3)","v":0},{"$f":"ROUND('Income Statement'!NUW12,3)","v":0},{"$f":"ROUND('Income Statement'!NUX12,3)","v":0},{"$f":"ROUND('Income Statement'!NUY12,3)","v":0},{"$f":"ROUND('Income Statement'!NUZ12,3)","v":0},{"$f":"ROUND('Income Statement'!NVA12,3)","v":0},{"$f":"ROUND('Income Statement'!NVB12,3)","v":0},{"$f":"ROUND('Income Statement'!NVC12,3)","v":0},{"$f":"ROUND('Income Statement'!NVD12,3)","v":0},{"$f":"ROUND('Income Statement'!NVE12,3)","v":0},{"$f":"ROUND('Income Statement'!NVF12,3)","v":0},{"$f":"ROUND('Income Statement'!NVG12,3)","v":0},{"$f":"ROUND('Income Statement'!NVH12,3)","v":0},{"$f":"ROUND('Income Statement'!NVI12,3)","v":0},{"$f":"ROUND('Income Statement'!NVJ12,3)","v":0},{"$f":"ROUND('Income Statement'!NVK12,3)","v":0},{"$f":"ROUND('Income Statement'!NVL12,3)","v":0},{"$f":"ROUND('Income Statement'!NVM12,3)","v":0},{"$f":"ROUND('Income Statement'!NVN12,3)","v":0},{"$f":"ROUND('Income Statement'!NVO12,3)","v":0},{"$f":"ROUND('Income Statement'!NVP12,3)","v":0},{"$f":"ROUND('Income Statement'!NVQ12,3)","v":0},{"$f":"ROUND('Income Statement'!NVR12,3)","v":0},{"$f":"ROUND('Income Statement'!NVS12,3)","v":0},{"$f":"ROUND('Income Statement'!NVT12,3)","v":0},{"$f":"ROUND('Income Statement'!NVU12,3)","v":0},{"$f":"ROUND('Income Statement'!NVV12,3)","v":0},{"$f":"ROUND('Income Statement'!NVW12,3)","v":0},{"$f":"ROUND('Income Statement'!NVX12,3)","v":0},{"$f":"ROUND('Income Statement'!NVY12,3)","v":0},{"$f":"ROUND('Income Statement'!NVZ12,3)","v":0},{"$f":"ROUND('Income Statement'!NWA12,3)","v":0},{"$f":"ROUND('Income Statement'!NWB12,3)","v":0},{"$f":"ROUND('Income Statement'!NWC12,3)","v":0},{"$f":"ROUND('Income Statement'!NWD12,3)","v":0},{"$f":"ROUND('Income Statement'!NWE12,3)","v":0},{"$f":"ROUND('Income Statement'!NWF12,3)","v":0},{"$f":"ROUND('Income Statement'!NWG12,3)","v":0},{"$f":"ROUND('Income Statement'!NWH12,3)","v":0},{"$f":"ROUND('Income Statement'!NWI12,3)","v":0},{"$f":"ROUND('Income Statement'!NWJ12,3)","v":0},{"$f":"ROUND('Income Statement'!NWK12,3)","v":0},{"$f":"ROUND('Income Statement'!NWL12,3)","v":0},{"$f":"ROUND('Income Statement'!NWM12,3)","v":0},{"$f":"ROUND('Income Statement'!NWN12,3)","v":0},{"$f":"ROUND('Income Statement'!NWO12,3)","v":0},{"$f":"ROUND('Income Statement'!NWP12,3)","v":0},{"$f":"ROUND('Income Statement'!NWQ12,3)","v":0},{"$f":"ROUND('Income Statement'!NWR12,3)","v":0},{"$f":"ROUND('Income Statement'!NWS12,3)","v":0},{"$f":"ROUND('Income Statement'!NWT12,3)","v":0},{"$f":"ROUND('Income Statement'!NWU12,3)","v":0},{"$f":"ROUND('Income Statement'!NWV12,3)","v":0},{"$f":"ROUND('Income Statement'!NWW12,3)","v":0},{"$f":"ROUND('Income Statement'!NWX12,3)","v":0},{"$f":"ROUND('Income Statement'!NWY12,3)","v":0},{"$f":"ROUND('Income Statement'!NWZ12,3)","v":0},{"$f":"ROUND('Income Statement'!NXA12,3)","v":0},{"$f":"ROUND('Income Statement'!NXB12,3)","v":0},{"$f":"ROUND('Income Statement'!NXC12,3)","v":0},{"$f":"ROUND('Income Statement'!NXD12,3)","v":0},{"$f":"ROUND('Income Statement'!NXE12,3)","v":0},{"$f":"ROUND('Income Statement'!NXF12,3)","v":0},{"$f":"ROUND('Income Statement'!NXG12,3)","v":0},{"$f":"ROUND('Income Statement'!NXH12,3)","v":0},{"$f":"ROUND('Income Statement'!NXI12,3)","v":0},{"$f":"ROUND('Income Statement'!NXJ12,3)","v":0},{"$f":"ROUND('Income Statement'!NXK12,3)","v":0},{"$f":"ROUND('Income Statement'!NXL12,3)","v":0},{"$f":"ROUND('Income Statement'!NXM12,3)","v":0},{"$f":"ROUND('Income Statement'!NXN12,3)","v":0},{"$f":"ROUND('Income Statement'!NXO12,3)","v":0},{"$f":"ROUND('Income Statement'!NXP12,3)","v":0},{"$f":"ROUND('Income Statement'!NXQ12,3)","v":0},{"$f":"ROUND('Income Statement'!NXR12,3)","v":0},{"$f":"ROUND('Income Statement'!NXS12,3)","v":0},{"$f":"ROUND('Income Statement'!NXT12,3)","v":0},{"$f":"ROUND('Income Statement'!NXU12,3)","v":0},{"$f":"ROUND('Income Statement'!NXV12,3)","v":0},{"$f":"ROUND('Income Statement'!NXW12,3)","v":0},{"$f":"ROUND('Income Statement'!NXX12,3)","v":0},{"$f":"ROUND('Income Statement'!NXY12,3)","v":0},{"$f":"ROUND('Income Statement'!NXZ12,3)","v":0},{"$f":"ROUND('Income Statement'!NYA12,3)","v":0},{"$f":"ROUND('Income Statement'!NYB12,3)","v":0},{"$f":"ROUND('Income Statement'!NYC12,3)","v":0},{"$f":"ROUND('Income Statement'!NYD12,3)","v":0},{"$f":"ROUND('Income Statement'!NYE12,3)","v":0},{"$f":"ROUND('Income Statement'!NYF12,3)","v":0},{"$f":"ROUND('Income Statement'!NYG12,3)","v":0},{"$f":"ROUND('Income Statement'!NYH12,3)","v":0},{"$f":"ROUND('Income Statement'!NYI12,3)","v":0},{"$f":"ROUND('Income Statement'!NYJ12,3)","v":0},{"$f":"ROUND('Income Statement'!NYK12,3)","v":0},{"$f":"ROUND('Income Statement'!NYL12,3)","v":0},{"$f":"ROUND('Income Statement'!NYM12,3)","v":0},{"$f":"ROUND('Income Statement'!NYN12,3)","v":0},{"$f":"ROUND('Income Statement'!NYO12,3)","v":0},{"$f":"ROUND('Income Statement'!NYP12,3)","v":0},{"$f":"ROUND('Income Statement'!NYQ12,3)","v":0},{"$f":"ROUND('Income Statement'!NYR12,3)","v":0},{"$f":"ROUND('Income Statement'!NYS12,3)","v":0},{"$f":"ROUND('Income Statement'!NYT12,3)","v":0},{"$f":"ROUND('Income Statement'!NYU12,3)","v":0},{"$f":"ROUND('Income Statement'!NYV12,3)","v":0},{"$f":"ROUND('Income Statement'!NYW12,3)","v":0},{"$f":"ROUND('Income Statement'!NYX12,3)","v":0},{"$f":"ROUND('Income Statement'!NYY12,3)","v":0},{"$f":"ROUND('Income Statement'!NYZ12,3)","v":0},{"$f":"ROUND('Income Statement'!NZA12,3)","v":0},{"$f":"ROUND('Income Statement'!NZB12,3)","v":0},{"$f":"ROUND('Income Statement'!NZC12,3)","v":0},{"$f":"ROUND('Income Statement'!NZD12,3)","v":0},{"$f":"ROUND('Income Statement'!NZE12,3)","v":0},{"$f":"ROUND('Income Statement'!NZF12,3)","v":0},{"$f":"ROUND('Income Statement'!NZG12,3)","v":0},{"$f":"ROUND('Income Statement'!NZH12,3)","v":0},{"$f":"ROUND('Income Statement'!NZI12,3)","v":0},{"$f":"ROUND('Income Statement'!NZJ12,3)","v":0},{"$f":"ROUND('Income Statement'!NZK12,3)","v":0},{"$f":"ROUND('Income Statement'!NZL12,3)","v":0},{"$f":"ROUND('Income Statement'!NZM12,3)","v":0},{"$f":"ROUND('Income Statement'!NZN12,3)","v":0},{"$f":"ROUND('Income Statement'!NZO12,3)","v":0},{"$f":"ROUND('Income Statement'!NZP12,3)","v":0},{"$f":"ROUND('Income Statement'!NZQ12,3)","v":0},{"$f":"ROUND('Income Statement'!NZR12,3)","v":0},{"$f":"ROUND('Income Statement'!NZS12,3)","v":0},{"$f":"ROUND('Income Statement'!NZT12,3)","v":0},{"$f":"ROUND('Income Statement'!NZU12,3)","v":0},{"$f":"ROUND('Income Statement'!NZV12,3)","v":0},{"$f":"ROUND('Income Statement'!NZW12,3)","v":0},{"$f":"ROUND('Income Statement'!NZX12,3)","v":0},{"$f":"ROUND('Income Statement'!NZY12,3)","v":0},{"$f":"ROUND('Income Statement'!NZZ12,3)","v":0},{"$f":"ROUND('Income Statement'!OAA12,3)","v":0},{"$f":"ROUND('Income Statement'!OAB12,3)","v":0},{"$f":"ROUND('Income Statement'!OAC12,3)","v":0},{"$f":"ROUND('Income Statement'!OAD12,3)","v":0},{"$f":"ROUND('Income Statement'!OAE12,3)","v":0},{"$f":"ROUND('Income Statement'!OAF12,3)","v":0},{"$f":"ROUND('Income Statement'!OAG12,3)","v":0},{"$f":"ROUND('Income Statement'!OAH12,3)","v":0},{"$f":"ROUND('Income Statement'!OAI12,3)","v":0},{"$f":"ROUND('Income Statement'!OAJ12,3)","v":0},{"$f":"ROUND('Income Statement'!OAK12,3)","v":0},{"$f":"ROUND('Income Statement'!OAL12,3)","v":0},{"$f":"ROUND('Income Statement'!OAM12,3)","v":0},{"$f":"ROUND('Income Statement'!OAN12,3)","v":0},{"$f":"ROUND('Income Statement'!OAO12,3)","v":0},{"$f":"ROUND('Income Statement'!OAP12,3)","v":0},{"$f":"ROUND('Income Statement'!OAQ12,3)","v":0},{"$f":"ROUND('Income Statement'!OAR12,3)","v":0},{"$f":"ROUND('Income Statement'!OAS12,3)","v":0},{"$f":"ROUND('Income Statement'!OAT12,3)","v":0},{"$f":"ROUND('Income Statement'!OAU12,3)","v":0},{"$f":"ROUND('Income Statement'!OAV12,3)","v":0},{"$f":"ROUND('Income Statement'!OAW12,3)","v":0},{"$f":"ROUND('Income Statement'!OAX12,3)","v":0},{"$f":"ROUND('Income Statement'!OAY12,3)","v":0},{"$f":"ROUND('Income Statement'!OAZ12,3)","v":0},{"$f":"ROUND('Income Statement'!OBA12,3)","v":0},{"$f":"ROUND('Income Statement'!OBB12,3)","v":0},{"$f":"ROUND('Income Statement'!OBC12,3)","v":0},{"$f":"ROUND('Income Statement'!OBD12,3)","v":0},{"$f":"ROUND('Income Statement'!OBE12,3)","v":0},{"$f":"ROUND('Income Statement'!OBF12,3)","v":0},{"$f":"ROUND('Income Statement'!OBG12,3)","v":0},{"$f":"ROUND('Income Statement'!OBH12,3)","v":0},{"$f":"ROUND('Income Statement'!OBI12,3)","v":0},{"$f":"ROUND('Income Statement'!OBJ12,3)","v":0},{"$f":"ROUND('Income Statement'!OBK12,3)","v":0},{"$f":"ROUND('Income Statement'!OBL12,3)","v":0},{"$f":"ROUND('Income Statement'!OBM12,3)","v":0},{"$f":"ROUND('Income Statement'!OBN12,3)","v":0},{"$f":"ROUND('Income Statement'!OBO12,3)","v":0},{"$f":"ROUND('Income Statement'!OBP12,3)","v":0},{"$f":"ROUND('Income Statement'!OBQ12,3)","v":0},{"$f":"ROUND('Income Statement'!OBR12,3)","v":0},{"$f":"ROUND('Income Statement'!OBS12,3)","v":0},{"$f":"ROUND('Income Statement'!OBT12,3)","v":0},{"$f":"ROUND('Income Statement'!OBU12,3)","v":0},{"$f":"ROUND('Income Statement'!OBV12,3)","v":0},{"$f":"ROUND('Income Statement'!OBW12,3)","v":0},{"$f":"ROUND('Income Statement'!OBX12,3)","v":0},{"$f":"ROUND('Income Statement'!OBY12,3)","v":0},{"$f":"ROUND('Income Statement'!OBZ12,3)","v":0},{"$f":"ROUND('Income Statement'!OCA12,3)","v":0},{"$f":"ROUND('Income Statement'!OCB12,3)","v":0},{"$f":"ROUND('Income Statement'!OCC12,3)","v":0},{"$f":"ROUND('Income Statement'!OCD12,3)","v":0},{"$f":"ROUND('Income Statement'!OCE12,3)","v":0},{"$f":"ROUND('Income Statement'!OCF12,3)","v":0},{"$f":"ROUND('Income Statement'!OCG12,3)","v":0},{"$f":"ROUND('Income Statement'!OCH12,3)","v":0},{"$f":"ROUND('Income Statement'!OCI12,3)","v":0},{"$f":"ROUND('Income Statement'!OCJ12,3)","v":0},{"$f":"ROUND('Income Statement'!OCK12,3)","v":0},{"$f":"ROUND('Income Statement'!OCL12,3)","v":0},{"$f":"ROUND('Income Statement'!OCM12,3)","v":0},{"$f":"ROUND('Income Statement'!OCN12,3)","v":0},{"$f":"ROUND('Income Statement'!OCO12,3)","v":0},{"$f":"ROUND('Income Statement'!OCP12,3)","v":0},{"$f":"ROUND('Income Statement'!OCQ12,3)","v":0},{"$f":"ROUND('Income Statement'!OCR12,3)","v":0},{"$f":"ROUND('Income Statement'!OCS12,3)","v":0},{"$f":"ROUND('Income Statement'!OCT12,3)","v":0},{"$f":"ROUND('Income Statement'!OCU12,3)","v":0},{"$f":"ROUND('Income Statement'!OCV12,3)","v":0},{"$f":"ROUND('Income Statement'!OCW12,3)","v":0},{"$f":"ROUND('Income Statement'!OCX12,3)","v":0},{"$f":"ROUND('Income Statement'!OCY12,3)","v":0},{"$f":"ROUND('Income Statement'!OCZ12,3)","v":0},{"$f":"ROUND('Income Statement'!ODA12,3)","v":0},{"$f":"ROUND('Income Statement'!ODB12,3)","v":0},{"$f":"ROUND('Income Statement'!ODC12,3)","v":0},{"$f":"ROUND('Income Statement'!ODD12,3)","v":0},{"$f":"ROUND('Income Statement'!ODE12,3)","v":0},{"$f":"ROUND('Income Statement'!ODF12,3)","v":0},{"$f":"ROUND('Income Statement'!ODG12,3)","v":0},{"$f":"ROUND('Income Statement'!ODH12,3)","v":0},{"$f":"ROUND('Income Statement'!ODI12,3)","v":0},{"$f":"ROUND('Income Statement'!ODJ12,3)","v":0},{"$f":"ROUND('Income Statement'!ODK12,3)","v":0},{"$f":"ROUND('Income Statement'!ODL12,3)","v":0},{"$f":"ROUND('Income Statement'!ODM12,3)","v":0},{"$f":"ROUND('Income Statement'!ODN12,3)","v":0},{"$f":"ROUND('Income Statement'!ODO12,3)","v":0},{"$f":"ROUND('Income Statement'!ODP12,3)","v":0},{"$f":"ROUND('Income Statement'!ODQ12,3)","v":0},{"$f":"ROUND('Income Statement'!ODR12,3)","v":0},{"$f":"ROUND('Income Statement'!ODS12,3)","v":0},{"$f":"ROUND('Income Statement'!ODT12,3)","v":0},{"$f":"ROUND('Income Statement'!ODU12,3)","v":0},{"$f":"ROUND('Income Statement'!ODV12,3)","v":0},{"$f":"ROUND('Income Statement'!ODW12,3)","v":0},{"$f":"ROUND('Income Statement'!ODX12,3)","v":0},{"$f":"ROUND('Income Statement'!ODY12,3)","v":0},{"$f":"ROUND('Income Statement'!ODZ12,3)","v":0},{"$f":"ROUND('Income Statement'!OEA12,3)","v":0},{"$f":"ROUND('Income Statement'!OEB12,3)","v":0},{"$f":"ROUND('Income Statement'!OEC12,3)","v":0},{"$f":"ROUND('Income Statement'!OED12,3)","v":0},{"$f":"ROUND('Income Statement'!OEE12,3)","v":0},{"$f":"ROUND('Income Statement'!OEF12,3)","v":0},{"$f":"ROUND('Income Statement'!OEG12,3)","v":0},{"$f":"ROUND('Income Statement'!OEH12,3)","v":0},{"$f":"ROUND('Income Statement'!OEI12,3)","v":0},{"$f":"ROUND('Income Statement'!OEJ12,3)","v":0},{"$f":"ROUND('Income Statement'!OEK12,3)","v":0},{"$f":"ROUND('Income Statement'!OEL12,3)","v":0},{"$f":"ROUND('Income Statement'!OEM12,3)","v":0},{"$f":"ROUND('Income Statement'!OEN12,3)","v":0},{"$f":"ROUND('Income Statement'!OEO12,3)","v":0},{"$f":"ROUND('Income Statement'!OEP12,3)","v":0},{"$f":"ROUND('Income Statement'!OEQ12,3)","v":0},{"$f":"ROUND('Income Statement'!OER12,3)","v":0},{"$f":"ROUND('Income Statement'!OES12,3)","v":0},{"$f":"ROUND('Income Statement'!OET12,3)","v":0},{"$f":"ROUND('Income Statement'!OEU12,3)","v":0},{"$f":"ROUND('Income Statement'!OEV12,3)","v":0},{"$f":"ROUND('Income Statement'!OEW12,3)","v":0},{"$f":"ROUND('Income Statement'!OEX12,3)","v":0},{"$f":"ROUND('Income Statement'!OEY12,3)","v":0},{"$f":"ROUND('Income Statement'!OEZ12,3)","v":0},{"$f":"ROUND('Income Statement'!OFA12,3)","v":0},{"$f":"ROUND('Income Statement'!OFB12,3)","v":0},{"$f":"ROUND('Income Statement'!OFC12,3)","v":0},{"$f":"ROUND('Income Statement'!OFD12,3)","v":0},{"$f":"ROUND('Income Statement'!OFE12,3)","v":0},{"$f":"ROUND('Income Statement'!OFF12,3)","v":0},{"$f":"ROUND('Income Statement'!OFG12,3)","v":0},{"$f":"ROUND('Income Statement'!OFH12,3)","v":0},{"$f":"ROUND('Income Statement'!OFI12,3)","v":0},{"$f":"ROUND('Income Statement'!OFJ12,3)","v":0},{"$f":"ROUND('Income Statement'!OFK12,3)","v":0},{"$f":"ROUND('Income Statement'!OFL12,3)","v":0},{"$f":"ROUND('Income Statement'!OFM12,3)","v":0},{"$f":"ROUND('Income Statement'!OFN12,3)","v":0},{"$f":"ROUND('Income Statement'!OFO12,3)","v":0},{"$f":"ROUND('Income Statement'!OFP12,3)","v":0},{"$f":"ROUND('Income Statement'!OFQ12,3)","v":0},{"$f":"ROUND('Income Statement'!OFR12,3)","v":0},{"$f":"ROUND('Income Statement'!OFS12,3)","v":0},{"$f":"ROUND('Income Statement'!OFT12,3)","v":0},{"$f":"ROUND('Income Statement'!OFU12,3)","v":0},{"$f":"ROUND('Income Statement'!OFV12,3)","v":0},{"$f":"ROUND('Income Statement'!OFW12,3)","v":0},{"$f":"ROUND('Income Statement'!OFX12,3)","v":0},{"$f":"ROUND('Income Statement'!OFY12,3)","v":0},{"$f":"ROUND('Income Statement'!OFZ12,3)","v":0},{"$f":"ROUND('Income Statement'!OGA12,3)","v":0},{"$f":"ROUND('Income Statement'!OGB12,3)","v":0},{"$f":"ROUND('Income Statement'!OGC12,3)","v":0},{"$f":"ROUND('Income Statement'!OGD12,3)","v":0},{"$f":"ROUND('Income Statement'!OGE12,3)","v":0},{"$f":"ROUND('Income Statement'!OGF12,3)","v":0},{"$f":"ROUND('Income Statement'!OGG12,3)","v":0},{"$f":"ROUND('Income Statement'!OGH12,3)","v":0},{"$f":"ROUND('Income Statement'!OGI12,3)","v":0},{"$f":"ROUND('Income Statement'!OGJ12,3)","v":0},{"$f":"ROUND('Income Statement'!OGK12,3)","v":0},{"$f":"ROUND('Income Statement'!OGL12,3)","v":0},{"$f":"ROUND('Income Statement'!OGM12,3)","v":0},{"$f":"ROUND('Income Statement'!OGN12,3)","v":0},{"$f":"ROUND('Income Statement'!OGO12,3)","v":0},{"$f":"ROUND('Income Statement'!OGP12,3)","v":0},{"$f":"ROUND('Income Statement'!OGQ12,3)","v":0},{"$f":"ROUND('Income Statement'!OGR12,3)","v":0},{"$f":"ROUND('Income Statement'!OGS12,3)","v":0},{"$f":"ROUND('Income Statement'!OGT12,3)","v":0},{"$f":"ROUND('Income Statement'!OGU12,3)","v":0},{"$f":"ROUND('Income Statement'!OGV12,3)","v":0},{"$f":"ROUND('Income Statement'!OGW12,3)","v":0},{"$f":"ROUND('Income Statement'!OGX12,3)","v":0},{"$f":"ROUND('Income Statement'!OGY12,3)","v":0},{"$f":"ROUND('Income Statement'!OGZ12,3)","v":0},{"$f":"ROUND('Income Statement'!OHA12,3)","v":0},{"$f":"ROUND('Income Statement'!OHB12,3)","v":0},{"$f":"ROUND('Income Statement'!OHC12,3)","v":0},{"$f":"ROUND('Income Statement'!OHD12,3)","v":0},{"$f":"ROUND('Income Statement'!OHE12,3)","v":0},{"$f":"ROUND('Income Statement'!OHF12,3)","v":0},{"$f":"ROUND('Income Statement'!OHG12,3)","v":0},{"$f":"ROUND('Income Statement'!OHH12,3)","v":0},{"$f":"ROUND('Income Statement'!OHI12,3)","v":0},{"$f":"ROUND('Income Statement'!OHJ12,3)","v":0},{"$f":"ROUND('Income Statement'!OHK12,3)","v":0},{"$f":"ROUND('Income Statement'!OHL12,3)","v":0},{"$f":"ROUND('Income Statement'!OHM12,3)","v":0},{"$f":"ROUND('Income Statement'!OHN12,3)","v":0},{"$f":"ROUND('Income Statement'!OHO12,3)","v":0},{"$f":"ROUND('Income Statement'!OHP12,3)","v":0},{"$f":"ROUND('Income Statement'!OHQ12,3)","v":0},{"$f":"ROUND('Income Statement'!OHR12,3)","v":0},{"$f":"ROUND('Income Statement'!OHS12,3)","v":0},{"$f":"ROUND('Income Statement'!OHT12,3)","v":0},{"$f":"ROUND('Income Statement'!OHU12,3)","v":0},{"$f":"ROUND('Income Statement'!OHV12,3)","v":0},{"$f":"ROUND('Income Statement'!OHW12,3)","v":0},{"$f":"ROUND('Income Statement'!OHX12,3)","v":0},{"$f":"ROUND('Income Statement'!OHY12,3)","v":0},{"$f":"ROUND('Income Statement'!OHZ12,3)","v":0},{"$f":"ROUND('Income Statement'!OIA12,3)","v":0},{"$f":"ROUND('Income Statement'!OIB12,3)","v":0},{"$f":"ROUND('Income Statement'!OIC12,3)","v":0},{"$f":"ROUND('Income Statement'!OID12,3)","v":0},{"$f":"ROUND('Income Statement'!OIE12,3)","v":0},{"$f":"ROUND('Income Statement'!OIF12,3)","v":0},{"$f":"ROUND('Income Statement'!OIG12,3)","v":0},{"$f":"ROUND('Income Statement'!OIH12,3)","v":0},{"$f":"ROUND('Income Statement'!OII12,3)","v":0},{"$f":"ROUND('Income Statement'!OIJ12,3)","v":0},{"$f":"ROUND('Income Statement'!OIK12,3)","v":0},{"$f":"ROUND('Income Statement'!OIL12,3)","v":0},{"$f":"ROUND('Income Statement'!OIM12,3)","v":0},{"$f":"ROUND('Income Statement'!OIN12,3)","v":0},{"$f":"ROUND('Income Statement'!OIO12,3)","v":0},{"$f":"ROUND('Income Statement'!OIP12,3)","v":0},{"$f":"ROUND('Income Statement'!OIQ12,3)","v":0},{"$f":"ROUND('Income Statement'!OIR12,3)","v":0},{"$f":"ROUND('Income Statement'!OIS12,3)","v":0},{"$f":"ROUND('Income Statement'!OIT12,3)","v":0},{"$f":"ROUND('Income Statement'!OIU12,3)","v":0},{"$f":"ROUND('Income Statement'!OIV12,3)","v":0},{"$f":"ROUND('Income Statement'!OIW12,3)","v":0},{"$f":"ROUND('Income Statement'!OIX12,3)","v":0},{"$f":"ROUND('Income Statement'!OIY12,3)","v":0},{"$f":"ROUND('Income Statement'!OIZ12,3)","v":0},{"$f":"ROUND('Income Statement'!OJA12,3)","v":0},{"$f":"ROUND('Income Statement'!OJB12,3)","v":0},{"$f":"ROUND('Income Statement'!OJC12,3)","v":0},{"$f":"ROUND('Income Statement'!OJD12,3)","v":0},{"$f":"ROUND('Income Statement'!OJE12,3)","v":0},{"$f":"ROUND('Income Statement'!OJF12,3)","v":0},{"$f":"ROUND('Income Statement'!OJG12,3)","v":0},{"$f":"ROUND('Income Statement'!OJH12,3)","v":0},{"$f":"ROUND('Income Statement'!OJI12,3)","v":0},{"$f":"ROUND('Income Statement'!OJJ12,3)","v":0},{"$f":"ROUND('Income Statement'!OJK12,3)","v":0},{"$f":"ROUND('Income Statement'!OJL12,3)","v":0},{"$f":"ROUND('Income Statement'!OJM12,3)","v":0},{"$f":"ROUND('Income Statement'!OJN12,3)","v":0},{"$f":"ROUND('Income Statement'!OJO12,3)","v":0},{"$f":"ROUND('Income Statement'!OJP12,3)","v":0},{"$f":"ROUND('Income Statement'!OJQ12,3)","v":0},{"$f":"ROUND('Income Statement'!OJR12,3)","v":0},{"$f":"ROUND('Income Statement'!OJS12,3)","v":0},{"$f":"ROUND('Income Statement'!OJT12,3)","v":0},{"$f":"ROUND('Income Statement'!OJU12,3)","v":0},{"$f":"ROUND('Income Statement'!OJV12,3)","v":0},{"$f":"ROUND('Income Statement'!OJW12,3)","v":0},{"$f":"ROUND('Income Statement'!OJX12,3)","v":0},{"$f":"ROUND('Income Statement'!OJY12,3)","v":0},{"$f":"ROUND('Income Statement'!OJZ12,3)","v":0},{"$f":"ROUND('Income Statement'!OKA12,3)","v":0},{"$f":"ROUND('Income Statement'!OKB12,3)","v":0},{"$f":"ROUND('Income Statement'!OKC12,3)","v":0},{"$f":"ROUND('Income Statement'!OKD12,3)","v":0},{"$f":"ROUND('Income Statement'!OKE12,3)","v":0},{"$f":"ROUND('Income Statement'!OKF12,3)","v":0},{"$f":"ROUND('Income Statement'!OKG12,3)","v":0},{"$f":"ROUND('Income Statement'!OKH12,3)","v":0},{"$f":"ROUND('Income Statement'!OKI12,3)","v":0},{"$f":"ROUND('Income Statement'!OKJ12,3)","v":0},{"$f":"ROUND('Income Statement'!OKK12,3)","v":0},{"$f":"ROUND('Income Statement'!OKL12,3)","v":0},{"$f":"ROUND('Income Statement'!OKM12,3)","v":0},{"$f":"ROUND('Income Statement'!OKN12,3)","v":0},{"$f":"ROUND('Income Statement'!OKO12,3)","v":0},{"$f":"ROUND('Income Statement'!OKP12,3)","v":0},{"$f":"ROUND('Income Statement'!OKQ12,3)","v":0},{"$f":"ROUND('Income Statement'!OKR12,3)","v":0},{"$f":"ROUND('Income Statement'!OKS12,3)","v":0},{"$f":"ROUND('Income Statement'!OKT12,3)","v":0},{"$f":"ROUND('Income Statement'!OKU12,3)","v":0},{"$f":"ROUND('Income Statement'!OKV12,3)","v":0},{"$f":"ROUND('Income Statement'!OKW12,3)","v":0},{"$f":"ROUND('Income Statement'!OKX12,3)","v":0},{"$f":"ROUND('Income Statement'!OKY12,3)","v":0},{"$f":"ROUND('Income Statement'!OKZ12,3)","v":0},{"$f":"ROUND('Income Statement'!OLA12,3)","v":0},{"$f":"ROUND('Income Statement'!OLB12,3)","v":0},{"$f":"ROUND('Income Statement'!OLC12,3)","v":0},{"$f":"ROUND('Income Statement'!OLD12,3)","v":0},{"$f":"ROUND('Income Statement'!OLE12,3)","v":0},{"$f":"ROUND('Income Statement'!OLF12,3)","v":0},{"$f":"ROUND('Income Statement'!OLG12,3)","v":0},{"$f":"ROUND('Income Statement'!OLH12,3)","v":0},{"$f":"ROUND('Income Statement'!OLI12,3)","v":0},{"$f":"ROUND('Income Statement'!OLJ12,3)","v":0},{"$f":"ROUND('Income Statement'!OLK12,3)","v":0},{"$f":"ROUND('Income Statement'!OLL12,3)","v":0},{"$f":"ROUND('Income Statement'!OLM12,3)","v":0},{"$f":"ROUND('Income Statement'!OLN12,3)","v":0},{"$f":"ROUND('Income Statement'!OLO12,3)","v":0},{"$f":"ROUND('Income Statement'!OLP12,3)","v":0},{"$f":"ROUND('Income Statement'!OLQ12,3)","v":0},{"$f":"ROUND('Income Statement'!OLR12,3)","v":0},{"$f":"ROUND('Income Statement'!OLS12,3)","v":0},{"$f":"ROUND('Income Statement'!OLT12,3)","v":0},{"$f":"ROUND('Income Statement'!OLU12,3)","v":0},{"$f":"ROUND('Income Statement'!OLV12,3)","v":0},{"$f":"ROUND('Income Statement'!OLW12,3)","v":0},{"$f":"ROUND('Income Statement'!OLX12,3)","v":0},{"$f":"ROUND('Income Statement'!OLY12,3)","v":0},{"$f":"ROUND('Income Statement'!OLZ12,3)","v":0},{"$f":"ROUND('Income Statement'!OMA12,3)","v":0},{"$f":"ROUND('Income Statement'!OMB12,3)","v":0},{"$f":"ROUND('Income Statement'!OMC12,3)","v":0},{"$f":"ROUND('Income Statement'!OMD12,3)","v":0},{"$f":"ROUND('Income Statement'!OME12,3)","v":0},{"$f":"ROUND('Income Statement'!OMF12,3)","v":0},{"$f":"ROUND('Income Statement'!OMG12,3)","v":0},{"$f":"ROUND('Income Statement'!OMH12,3)","v":0},{"$f":"ROUND('Income Statement'!OMI12,3)","v":0},{"$f":"ROUND('Income Statement'!OMJ12,3)","v":0},{"$f":"ROUND('Income Statement'!OMK12,3)","v":0},{"$f":"ROUND('Income Statement'!OML12,3)","v":0},{"$f":"ROUND('Income Statement'!OMM12,3)","v":0},{"$f":"ROUND('Income Statement'!OMN12,3)","v":0},{"$f":"ROUND('Income Statement'!OMO12,3)","v":0},{"$f":"ROUND('Income Statement'!OMP12,3)","v":0},{"$f":"ROUND('Income Statement'!OMQ12,3)","v":0},{"$f":"ROUND('Income Statement'!OMR12,3)","v":0},{"$f":"ROUND('Income Statement'!OMS12,3)","v":0},{"$f":"ROUND('Income Statement'!OMT12,3)","v":0},{"$f":"ROUND('Income Statement'!OMU12,3)","v":0},{"$f":"ROUND('Income Statement'!OMV12,3)","v":0},{"$f":"ROUND('Income Statement'!OMW12,3)","v":0},{"$f":"ROUND('Income Statement'!OMX12,3)","v":0},{"$f":"ROUND('Income Statement'!OMY12,3)","v":0},{"$f":"ROUND('Income Statement'!OMZ12,3)","v":0},{"$f":"ROUND('Income Statement'!ONA12,3)","v":0},{"$f":"ROUND('Income Statement'!ONB12,3)","v":0},{"$f":"ROUND('Income Statement'!ONC12,3)","v":0},{"$f":"ROUND('Income Statement'!OND12,3)","v":0},{"$f":"ROUND('Income Statement'!ONE12,3)","v":0},{"$f":"ROUND('Income Statement'!ONF12,3)","v":0},{"$f":"ROUND('Income Statement'!ONG12,3)","v":0},{"$f":"ROUND('Income Statement'!ONH12,3)","v":0},{"$f":"ROUND('Income Statement'!ONI12,3)","v":0},{"$f":"ROUND('Income Statement'!ONJ12,3)","v":0},{"$f":"ROUND('Income Statement'!ONK12,3)","v":0},{"$f":"ROUND('Income Statement'!ONL12,3)","v":0},{"$f":"ROUND('Income Statement'!ONM12,3)","v":0},{"$f":"ROUND('Income Statement'!ONN12,3)","v":0},{"$f":"ROUND('Income Statement'!ONO12,3)","v":0},{"$f":"ROUND('Income Statement'!ONP12,3)","v":0},{"$f":"ROUND('Income Statement'!ONQ12,3)","v":0},{"$f":"ROUND('Income Statement'!ONR12,3)","v":0},{"$f":"ROUND('Income Statement'!ONS12,3)","v":0},{"$f":"ROUND('Income Statement'!ONT12,3)","v":0},{"$f":"ROUND('Income Statement'!ONU12,3)","v":0},{"$f":"ROUND('Income Statement'!ONV12,3)","v":0},{"$f":"ROUND('Income Statement'!ONW12,3)","v":0},{"$f":"ROUND('Income Statement'!ONX12,3)","v":0},{"$f":"ROUND('Income Statement'!ONY12,3)","v":0},{"$f":"ROUND('Income Statement'!ONZ12,3)","v":0},{"$f":"ROUND('Income Statement'!OOA12,3)","v":0},{"$f":"ROUND('Income Statement'!OOB12,3)","v":0},{"$f":"ROUND('Income Statement'!OOC12,3)","v":0},{"$f":"ROUND('Income Statement'!OOD12,3)","v":0},{"$f":"ROUND('Income Statement'!OOE12,3)","v":0},{"$f":"ROUND('Income Statement'!OOF12,3)","v":0},{"$f":"ROUND('Income Statement'!OOG12,3)","v":0},{"$f":"ROUND('Income Statement'!OOH12,3)","v":0},{"$f":"ROUND('Income Statement'!OOI12,3)","v":0},{"$f":"ROUND('Income Statement'!OOJ12,3)","v":0},{"$f":"ROUND('Income Statement'!OOK12,3)","v":0},{"$f":"ROUND('Income Statement'!OOL12,3)","v":0},{"$f":"ROUND('Income Statement'!OOM12,3)","v":0},{"$f":"ROUND('Income Statement'!OON12,3)","v":0},{"$f":"ROUND('Income Statement'!OOO12,3)","v":0},{"$f":"ROUND('Income Statement'!OOP12,3)","v":0},{"$f":"ROUND('Income Statement'!OOQ12,3)","v":0},{"$f":"ROUND('Income Statement'!OOR12,3)","v":0},{"$f":"ROUND('Income Statement'!OOS12,3)","v":0},{"$f":"ROUND('Income Statement'!OOT12,3)","v":0},{"$f":"ROUND('Income Statement'!OOU12,3)","v":0},{"$f":"ROUND('Income Statement'!OOV12,3)","v":0},{"$f":"ROUND('Income Statement'!OOW12,3)","v":0},{"$f":"ROUND('Income Statement'!OOX12,3)","v":0},{"$f":"ROUND('Income Statement'!OOY12,3)","v":0},{"$f":"ROUND('Income Statement'!OOZ12,3)","v":0},{"$f":"ROUND('Income Statement'!OPA12,3)","v":0},{"$f":"ROUND('Income Statement'!OPB12,3)","v":0},{"$f":"ROUND('Income Statement'!OPC12,3)","v":0},{"$f":"ROUND('Income Statement'!OPD12,3)","v":0},{"$f":"ROUND('Income Statement'!OPE12,3)","v":0},{"$f":"ROUND('Income Statement'!OPF12,3)","v":0},{"$f":"ROUND('Income Statement'!OPG12,3)","v":0},{"$f":"ROUND('Income Statement'!OPH12,3)","v":0},{"$f":"ROUND('Income Statement'!OPI12,3)","v":0},{"$f":"ROUND('Income Statement'!OPJ12,3)","v":0},{"$f":"ROUND('Income Statement'!OPK12,3)","v":0},{"$f":"ROUND('Income Statement'!OPL12,3)","v":0},{"$f":"ROUND('Income Statement'!OPM12,3)","v":0},{"$f":"ROUND('Income Statement'!OPN12,3)","v":0},{"$f":"ROUND('Income Statement'!OPO12,3)","v":0},{"$f":"ROUND('Income Statement'!OPP12,3)","v":0},{"$f":"ROUND('Income Statement'!OPQ12,3)","v":0},{"$f":"ROUND('Income Statement'!OPR12,3)","v":0},{"$f":"ROUND('Income Statement'!OPS12,3)","v":0},{"$f":"ROUND('Income Statement'!OPT12,3)","v":0},{"$f":"ROUND('Income Statement'!OPU12,3)","v":0},{"$f":"ROUND('Income Statement'!OPV12,3)","v":0},{"$f":"ROUND('Income Statement'!OPW12,3)","v":0},{"$f":"ROUND('Income Statement'!OPX12,3)","v":0},{"$f":"ROUND('Income Statement'!OPY12,3)","v":0},{"$f":"ROUND('Income Statement'!OPZ12,3)","v":0},{"$f":"ROUND('Income Statement'!OQA12,3)","v":0},{"$f":"ROUND('Income Statement'!OQB12,3)","v":0},{"$f":"ROUND('Income Statement'!OQC12,3)","v":0},{"$f":"ROUND('Income Statement'!OQD12,3)","v":0},{"$f":"ROUND('Income Statement'!OQE12,3)","v":0},{"$f":"ROUND('Income Statement'!OQF12,3)","v":0},{"$f":"ROUND('Income Statement'!OQG12,3)","v":0},{"$f":"ROUND('Income Statement'!OQH12,3)","v":0},{"$f":"ROUND('Income Statement'!OQI12,3)","v":0},{"$f":"ROUND('Income Statement'!OQJ12,3)","v":0},{"$f":"ROUND('Income Statement'!OQK12,3)","v":0},{"$f":"ROUND('Income Statement'!OQL12,3)","v":0},{"$f":"ROUND('Income Statement'!OQM12,3)","v":0},{"$f":"ROUND('Income Statement'!OQN12,3)","v":0},{"$f":"ROUND('Income Statement'!OQO12,3)","v":0},{"$f":"ROUND('Income Statement'!OQP12,3)","v":0},{"$f":"ROUND('Income Statement'!OQQ12,3)","v":0},{"$f":"ROUND('Income Statement'!OQR12,3)","v":0},{"$f":"ROUND('Income Statement'!OQS12,3)","v":0},{"$f":"ROUND('Income Statement'!OQT12,3)","v":0},{"$f":"ROUND('Income Statement'!OQU12,3)","v":0},{"$f":"ROUND('Income Statement'!OQV12,3)","v":0},{"$f":"ROUND('Income Statement'!OQW12,3)","v":0},{"$f":"ROUND('Income Statement'!OQX12,3)","v":0},{"$f":"ROUND('Income Statement'!OQY12,3)","v":0},{"$f":"ROUND('Income Statement'!OQZ12,3)","v":0},{"$f":"ROUND('Income Statement'!ORA12,3)","v":0},{"$f":"ROUND('Income Statement'!ORB12,3)","v":0},{"$f":"ROUND('Income Statement'!ORC12,3)","v":0},{"$f":"ROUND('Income Statement'!ORD12,3)","v":0},{"$f":"ROUND('Income Statement'!ORE12,3)","v":0},{"$f":"ROUND('Income Statement'!ORF12,3)","v":0},{"$f":"ROUND('Income Statement'!ORG12,3)","v":0},{"$f":"ROUND('Income Statement'!ORH12,3)","v":0},{"$f":"ROUND('Income Statement'!ORI12,3)","v":0},{"$f":"ROUND('Income Statement'!ORJ12,3)","v":0},{"$f":"ROUND('Income Statement'!ORK12,3)","v":0},{"$f":"ROUND('Income Statement'!ORL12,3)","v":0},{"$f":"ROUND('Income Statement'!ORM12,3)","v":0},{"$f":"ROUND('Income Statement'!ORN12,3)","v":0},{"$f":"ROUND('Income Statement'!ORO12,3)","v":0},{"$f":"ROUND('Income Statement'!ORP12,3)","v":0},{"$f":"ROUND('Income Statement'!ORQ12,3)","v":0},{"$f":"ROUND('Income Statement'!ORR12,3)","v":0},{"$f":"ROUND('Income Statement'!ORS12,3)","v":0},{"$f":"ROUND('Income Statement'!ORT12,3)","v":0},{"$f":"ROUND('Income Statement'!ORU12,3)","v":0},{"$f":"ROUND('Income Statement'!ORV12,3)","v":0},{"$f":"ROUND('Income Statement'!ORW12,3)","v":0},{"$f":"ROUND('Income Statement'!ORX12,3)","v":0},{"$f":"ROUND('Income Statement'!ORY12,3)","v":0},{"$f":"ROUND('Income Statement'!ORZ12,3)","v":0},{"$f":"ROUND('Income Statement'!OSA12,3)","v":0},{"$f":"ROUND('Income Statement'!OSB12,3)","v":0},{"$f":"ROUND('Income Statement'!OSC12,3)","v":0},{"$f":"ROUND('Income Statement'!OSD12,3)","v":0},{"$f":"ROUND('Income Statement'!OSE12,3)","v":0},{"$f":"ROUND('Income Statement'!OSF12,3)","v":0},{"$f":"ROUND('Income Statement'!OSG12,3)","v":0},{"$f":"ROUND('Income Statement'!OSH12,3)","v":0},{"$f":"ROUND('Income Statement'!OSI12,3)","v":0},{"$f":"ROUND('Income Statement'!OSJ12,3)","v":0},{"$f":"ROUND('Income Statement'!OSK12,3)","v":0},{"$f":"ROUND('Income Statement'!OSL12,3)","v":0},{"$f":"ROUND('Income Statement'!OSM12,3)","v":0},{"$f":"ROUND('Income Statement'!OSN12,3)","v":0},{"$f":"ROUND('Income Statement'!OSO12,3)","v":0},{"$f":"ROUND('Income Statement'!OSP12,3)","v":0},{"$f":"ROUND('Income Statement'!OSQ12,3)","v":0},{"$f":"ROUND('Income Statement'!OSR12,3)","v":0},{"$f":"ROUND('Income Statement'!OSS12,3)","v":0},{"$f":"ROUND('Income Statement'!OST12,3)","v":0},{"$f":"ROUND('Income Statement'!OSU12,3)","v":0},{"$f":"ROUND('Income Statement'!OSV12,3)","v":0},{"$f":"ROUND('Income Statement'!OSW12,3)","v":0},{"$f":"ROUND('Income Statement'!OSX12,3)","v":0},{"$f":"ROUND('Income Statement'!OSY12,3)","v":0},{"$f":"ROUND('Income Statement'!OSZ12,3)","v":0},{"$f":"ROUND('Income Statement'!OTA12,3)","v":0},{"$f":"ROUND('Income Statement'!OTB12,3)","v":0},{"$f":"ROUND('Income Statement'!OTC12,3)","v":0},{"$f":"ROUND('Income Statement'!OTD12,3)","v":0},{"$f":"ROUND('Income Statement'!OTE12,3)","v":0},{"$f":"ROUND('Income Statement'!OTF12,3)","v":0},{"$f":"ROUND('Income Statement'!OTG12,3)","v":0},{"$f":"ROUND('Income Statement'!OTH12,3)","v":0},{"$f":"ROUND('Income Statement'!OTI12,3)","v":0},{"$f":"ROUND('Income Statement'!OTJ12,3)","v":0},{"$f":"ROUND('Income Statement'!OTK12,3)","v":0},{"$f":"ROUND('Income Statement'!OTL12,3)","v":0},{"$f":"ROUND('Income Statement'!OTM12,3)","v":0},{"$f":"ROUND('Income Statement'!OTN12,3)","v":0},{"$f":"ROUND('Income Statement'!OTO12,3)","v":0},{"$f":"ROUND('Income Statement'!OTP12,3)","v":0},{"$f":"ROUND('Income Statement'!OTQ12,3)","v":0},{"$f":"ROUND('Income Statement'!OTR12,3)","v":0},{"$f":"ROUND('Income Statement'!OTS12,3)","v":0},{"$f":"ROUND('Income Statement'!OTT12,3)","v":0},{"$f":"ROUND('Income Statement'!OTU12,3)","v":0},{"$f":"ROUND('Income Statement'!OTV12,3)","v":0},{"$f":"ROUND('Income Statement'!OTW12,3)","v":0},{"$f":"ROUND('Income Statement'!OTX12,3)","v":0},{"$f":"ROUND('Income Statement'!OTY12,3)","v":0},{"$f":"ROUND('Income Statement'!OTZ12,3)","v":0},{"$f":"ROUND('Income Statement'!OUA12,3)","v":0},{"$f":"ROUND('Income Statement'!OUB12,3)","v":0},{"$f":"ROUND('Income Statement'!OUC12,3)","v":0},{"$f":"ROUND('Income Statement'!OUD12,3)","v":0},{"$f":"ROUND('Income Statement'!OUE12,3)","v":0},{"$f":"ROUND('Income Statement'!OUF12,3)","v":0},{"$f":"ROUND('Income Statement'!OUG12,3)","v":0},{"$f":"ROUND('Income Statement'!OUH12,3)","v":0},{"$f":"ROUND('Income Statement'!OUI12,3)","v":0},{"$f":"ROUND('Income Statement'!OUJ12,3)","v":0},{"$f":"ROUND('Income Statement'!OUK12,3)","v":0},{"$f":"ROUND('Income Statement'!OUL12,3)","v":0},{"$f":"ROUND('Income Statement'!OUM12,3)","v":0},{"$f":"ROUND('Income Statement'!OUN12,3)","v":0},{"$f":"ROUND('Income Statement'!OUO12,3)","v":0},{"$f":"ROUND('Income Statement'!OUP12,3)","v":0},{"$f":"ROUND('Income Statement'!OUQ12,3)","v":0},{"$f":"ROUND('Income Statement'!OUR12,3)","v":0},{"$f":"ROUND('Income Statement'!OUS12,3)","v":0},{"$f":"ROUND('Income Statement'!OUT12,3)","v":0},{"$f":"ROUND('Income Statement'!OUU12,3)","v":0},{"$f":"ROUND('Income Statement'!OUV12,3)","v":0},{"$f":"ROUND('Income Statement'!OUW12,3)","v":0},{"$f":"ROUND('Income Statement'!OUX12,3)","v":0},{"$f":"ROUND('Income Statement'!OUY12,3)","v":0},{"$f":"ROUND('Income Statement'!OUZ12,3)","v":0},{"$f":"ROUND('Income Statement'!OVA12,3)","v":0},{"$f":"ROUND('Income Statement'!OVB12,3)","v":0},{"$f":"ROUND('Income Statement'!OVC12,3)","v":0},{"$f":"ROUND('Income Statement'!OVD12,3)","v":0},{"$f":"ROUND('Income Statement'!OVE12,3)","v":0},{"$f":"ROUND('Income Statement'!OVF12,3)","v":0},{"$f":"ROUND('Income Statement'!OVG12,3)","v":0},{"$f":"ROUND('Income Statement'!OVH12,3)","v":0},{"$f":"ROUND('Income Statement'!OVI12,3)","v":0},{"$f":"ROUND('Income Statement'!OVJ12,3)","v":0},{"$f":"ROUND('Income Statement'!OVK12,3)","v":0},{"$f":"ROUND('Income Statement'!OVL12,3)","v":0},{"$f":"ROUND('Income Statement'!OVM12,3)","v":0},{"$f":"ROUND('Income Statement'!OVN12,3)","v":0},{"$f":"ROUND('Income Statement'!OVO12,3)","v":0},{"$f":"ROUND('Income Statement'!OVP12,3)","v":0},{"$f":"ROUND('Income Statement'!OVQ12,3)","v":0},{"$f":"ROUND('Income Statement'!OVR12,3)","v":0},{"$f":"ROUND('Income Statement'!OVS12,3)","v":0},{"$f":"ROUND('Income Statement'!OVT12,3)","v":0},{"$f":"ROUND('Income Statement'!OVU12,3)","v":0},{"$f":"ROUND('Income Statement'!OVV12,3)","v":0},{"$f":"ROUND('Income Statement'!OVW12,3)","v":0},{"$f":"ROUND('Income Statement'!OVX12,3)","v":0},{"$f":"ROUND('Income Statement'!OVY12,3)","v":0},{"$f":"ROUND('Income Statement'!OVZ12,3)","v":0},{"$f":"ROUND('Income Statement'!OWA12,3)","v":0},{"$f":"ROUND('Income Statement'!OWB12,3)","v":0},{"$f":"ROUND('Income Statement'!OWC12,3)","v":0},{"$f":"ROUND('Income Statement'!OWD12,3)","v":0},{"$f":"ROUND('Income Statement'!OWE12,3)","v":0},{"$f":"ROUND('Income Statement'!OWF12,3)","v":0},{"$f":"ROUND('Income Statement'!OWG12,3)","v":0},{"$f":"ROUND('Income Statement'!OWH12,3)","v":0},{"$f":"ROUND('Income Statement'!OWI12,3)","v":0},{"$f":"ROUND('Income Statement'!OWJ12,3)","v":0},{"$f":"ROUND('Income Statement'!OWK12,3)","v":0},{"$f":"ROUND('Income Statement'!OWL12,3)","v":0},{"$f":"ROUND('Income Statement'!OWM12,3)","v":0},{"$f":"ROUND('Income Statement'!OWN12,3)","v":0},{"$f":"ROUND('Income Statement'!OWO12,3)","v":0},{"$f":"ROUND('Income Statement'!OWP12,3)","v":0},{"$f":"ROUND('Income Statement'!OWQ12,3)","v":0},{"$f":"ROUND('Income Statement'!OWR12,3)","v":0},{"$f":"ROUND('Income Statement'!OWS12,3)","v":0},{"$f":"ROUND('Income Statement'!OWT12,3)","v":0},{"$f":"ROUND('Income Statement'!OWU12,3)","v":0},{"$f":"ROUND('Income Statement'!OWV12,3)","v":0},{"$f":"ROUND('Income Statement'!OWW12,3)","v":0},{"$f":"ROUND('Income Statement'!OWX12,3)","v":0},{"$f":"ROUND('Income Statement'!OWY12,3)","v":0},{"$f":"ROUND('Income Statement'!OWZ12,3)","v":0},{"$f":"ROUND('Income Statement'!OXA12,3)","v":0},{"$f":"ROUND('Income Statement'!OXB12,3)","v":0},{"$f":"ROUND('Income Statement'!OXC12,3)","v":0},{"$f":"ROUND('Income Statement'!OXD12,3)","v":0},{"$f":"ROUND('Income Statement'!OXE12,3)","v":0},{"$f":"ROUND('Income Statement'!OXF12,3)","v":0},{"$f":"ROUND('Income Statement'!OXG12,3)","v":0},{"$f":"ROUND('Income Statement'!OXH12,3)","v":0},{"$f":"ROUND('Income Statement'!OXI12,3)","v":0},{"$f":"ROUND('Income Statement'!OXJ12,3)","v":0},{"$f":"ROUND('Income Statement'!OXK12,3)","v":0},{"$f":"ROUND('Income Statement'!OXL12,3)","v":0},{"$f":"ROUND('Income Statement'!OXM12,3)","v":0},{"$f":"ROUND('Income Statement'!OXN12,3)","v":0},{"$f":"ROUND('Income Statement'!OXO12,3)","v":0},{"$f":"ROUND('Income Statement'!OXP12,3)","v":0},{"$f":"ROUND('Income Statement'!OXQ12,3)","v":0},{"$f":"ROUND('Income Statement'!OXR12,3)","v":0},{"$f":"ROUND('Income Statement'!OXS12,3)","v":0},{"$f":"ROUND('Income Statement'!OXT12,3)","v":0},{"$f":"ROUND('Income Statement'!OXU12,3)","v":0},{"$f":"ROUND('Income Statement'!OXV12,3)","v":0},{"$f":"ROUND('Income Statement'!OXW12,3)","v":0},{"$f":"ROUND('Income Statement'!OXX12,3)","v":0},{"$f":"ROUND('Income Statement'!OXY12,3)","v":0},{"$f":"ROUND('Income Statement'!OXZ12,3)","v":0},{"$f":"ROUND('Income Statement'!OYA12,3)","v":0},{"$f":"ROUND('Income Statement'!OYB12,3)","v":0},{"$f":"ROUND('Income Statement'!OYC12,3)","v":0},{"$f":"ROUND('Income Statement'!OYD12,3)","v":0},{"$f":"ROUND('Income Statement'!OYE12,3)","v":0},{"$f":"ROUND('Income Statement'!OYF12,3)","v":0},{"$f":"ROUND('Income Statement'!OYG12,3)","v":0},{"$f":"ROUND('Income Statement'!OYH12,3)","v":0},{"$f":"ROUND('Income Statement'!OYI12,3)","v":0},{"$f":"ROUND('Income Statement'!OYJ12,3)","v":0},{"$f":"ROUND('Income Statement'!OYK12,3)","v":0},{"$f":"ROUND('Income Statement'!OYL12,3)","v":0},{"$f":"ROUND('Income Statement'!OYM12,3)","v":0},{"$f":"ROUND('Income Statement'!OYN12,3)","v":0},{"$f":"ROUND('Income Statement'!OYO12,3)","v":0},{"$f":"ROUND('Income Statement'!OYP12,3)","v":0},{"$f":"ROUND('Income Statement'!OYQ12,3)","v":0},{"$f":"ROUND('Income Statement'!OYR12,3)","v":0},{"$f":"ROUND('Income Statement'!OYS12,3)","v":0},{"$f":"ROUND('Income Statement'!OYT12,3)","v":0},{"$f":"ROUND('Income Statement'!OYU12,3)","v":0},{"$f":"ROUND('Income Statement'!OYV12,3)","v":0},{"$f":"ROUND('Income Statement'!OYW12,3)","v":0},{"$f":"ROUND('Income Statement'!OYX12,3)","v":0},{"$f":"ROUND('Income Statement'!OYY12,3)","v":0},{"$f":"ROUND('Income Statement'!OYZ12,3)","v":0},{"$f":"ROUND('Income Statement'!OZA12,3)","v":0},{"$f":"ROUND('Income Statement'!OZB12,3)","v":0},{"$f":"ROUND('Income Statement'!OZC12,3)","v":0},{"$f":"ROUND('Income Statement'!OZD12,3)","v":0},{"$f":"ROUND('Income Statement'!OZE12,3)","v":0},{"$f":"ROUND('Income Statement'!OZF12,3)","v":0},{"$f":"ROUND('Income Statement'!OZG12,3)","v":0},{"$f":"ROUND('Income Statement'!OZH12,3)","v":0},{"$f":"ROUND('Income Statement'!OZI12,3)","v":0},{"$f":"ROUND('Income Statement'!OZJ12,3)","v":0},{"$f":"ROUND('Income Statement'!OZK12,3)","v":0},{"$f":"ROUND('Income Statement'!OZL12,3)","v":0},{"$f":"ROUND('Income Statement'!OZM12,3)","v":0},{"$f":"ROUND('Income Statement'!OZN12,3)","v":0},{"$f":"ROUND('Income Statement'!OZO12,3)","v":0},{"$f":"ROUND('Income Statement'!OZP12,3)","v":0},{"$f":"ROUND('Income Statement'!OZQ12,3)","v":0},{"$f":"ROUND('Income Statement'!OZR12,3)","v":0},{"$f":"ROUND('Income Statement'!OZS12,3)","v":0},{"$f":"ROUND('Income Statement'!OZT12,3)","v":0},{"$f":"ROUND('Income Statement'!OZU12,3)","v":0},{"$f":"ROUND('Income Statement'!OZV12,3)","v":0},{"$f":"ROUND('Income Statement'!OZW12,3)","v":0},{"$f":"ROUND('Income Statement'!OZX12,3)","v":0},{"$f":"ROUND('Income Statement'!OZY12,3)","v":0},{"$f":"ROUND('Income Statement'!OZZ12,3)","v":0},{"$f":"ROUND('Income Statement'!PAA12,3)","v":0},{"$f":"ROUND('Income Statement'!PAB12,3)","v":0},{"$f":"ROUND('Income Statement'!PAC12,3)","v":0},{"$f":"ROUND('Income Statement'!PAD12,3)","v":0},{"$f":"ROUND('Income Statement'!PAE12,3)","v":0},{"$f":"ROUND('Income Statement'!PAF12,3)","v":0},{"$f":"ROUND('Income Statement'!PAG12,3)","v":0},{"$f":"ROUND('Income Statement'!PAH12,3)","v":0},{"$f":"ROUND('Income Statement'!PAI12,3)","v":0},{"$f":"ROUND('Income Statement'!PAJ12,3)","v":0},{"$f":"ROUND('Income Statement'!PAK12,3)","v":0},{"$f":"ROUND('Income Statement'!PAL12,3)","v":0},{"$f":"ROUND('Income Statement'!PAM12,3)","v":0},{"$f":"ROUND('Income Statement'!PAN12,3)","v":0},{"$f":"ROUND('Income Statement'!PAO12,3)","v":0},{"$f":"ROUND('Income Statement'!PAP12,3)","v":0},{"$f":"ROUND('Income Statement'!PAQ12,3)","v":0},{"$f":"ROUND('Income Statement'!PAR12,3)","v":0},{"$f":"ROUND('Income Statement'!PAS12,3)","v":0},{"$f":"ROUND('Income Statement'!PAT12,3)","v":0},{"$f":"ROUND('Income Statement'!PAU12,3)","v":0},{"$f":"ROUND('Income Statement'!PAV12,3)","v":0},{"$f":"ROUND('Income Statement'!PAW12,3)","v":0},{"$f":"ROUND('Income Statement'!PAX12,3)","v":0},{"$f":"ROUND('Income Statement'!PAY12,3)","v":0},{"$f":"ROUND('Income Statement'!PAZ12,3)","v":0},{"$f":"ROUND('Income Statement'!PBA12,3)","v":0},{"$f":"ROUND('Income Statement'!PBB12,3)","v":0},{"$f":"ROUND('Income Statement'!PBC12,3)","v":0},{"$f":"ROUND('Income Statement'!PBD12,3)","v":0},{"$f":"ROUND('Income Statement'!PBE12,3)","v":0},{"$f":"ROUND('Income Statement'!PBF12,3)","v":0},{"$f":"ROUND('Income Statement'!PBG12,3)","v":0},{"$f":"ROUND('Income Statement'!PBH12,3)","v":0},{"$f":"ROUND('Income Statement'!PBI12,3)","v":0},{"$f":"ROUND('Income Statement'!PBJ12,3)","v":0},{"$f":"ROUND('Income Statement'!PBK12,3)","v":0},{"$f":"ROUND('Income Statement'!PBL12,3)","v":0},{"$f":"ROUND('Income Statement'!PBM12,3)","v":0},{"$f":"ROUND('Income Statement'!PBN12,3)","v":0},{"$f":"ROUND('Income Statement'!PBO12,3)","v":0},{"$f":"ROUND('Income Statement'!PBP12,3)","v":0},{"$f":"ROUND('Income Statement'!PBQ12,3)","v":0},{"$f":"ROUND('Income Statement'!PBR12,3)","v":0},{"$f":"ROUND('Income Statement'!PBS12,3)","v":0},{"$f":"ROUND('Income Statement'!PBT12,3)","v":0},{"$f":"ROUND('Income Statement'!PBU12,3)","v":0},{"$f":"ROUND('Income Statement'!PBV12,3)","v":0},{"$f":"ROUND('Income Statement'!PBW12,3)","v":0},{"$f":"ROUND('Income Statement'!PBX12,3)","v":0},{"$f":"ROUND('Income Statement'!PBY12,3)","v":0},{"$f":"ROUND('Income Statement'!PBZ12,3)","v":0},{"$f":"ROUND('Income Statement'!PCA12,3)","v":0},{"$f":"ROUND('Income Statement'!PCB12,3)","v":0},{"$f":"ROUND('Income Statement'!PCC12,3)","v":0},{"$f":"ROUND('Income Statement'!PCD12,3)","v":0},{"$f":"ROUND('Income Statement'!PCE12,3)","v":0},{"$f":"ROUND('Income Statement'!PCF12,3)","v":0},{"$f":"ROUND('Income Statement'!PCG12,3)","v":0},{"$f":"ROUND('Income Statement'!PCH12,3)","v":0},{"$f":"ROUND('Income Statement'!PCI12,3)","v":0},{"$f":"ROUND('Income Statement'!PCJ12,3)","v":0},{"$f":"ROUND('Income Statement'!PCK12,3)","v":0},{"$f":"ROUND('Income Statement'!PCL12,3)","v":0},{"$f":"ROUND('Income Statement'!PCM12,3)","v":0},{"$f":"ROUND('Income Statement'!PCN12,3)","v":0},{"$f":"ROUND('Income Statement'!PCO12,3)","v":0},{"$f":"ROUND('Income Statement'!PCP12,3)","v":0},{"$f":"ROUND('Income Statement'!PCQ12,3)","v":0},{"$f":"ROUND('Income Statement'!PCR12,3)","v":0},{"$f":"ROUND('Income Statement'!PCS12,3)","v":0},{"$f":"ROUND('Income Statement'!PCT12,3)","v":0},{"$f":"ROUND('Income Statement'!PCU12,3)","v":0},{"$f":"ROUND('Income Statement'!PCV12,3)","v":0},{"$f":"ROUND('Income Statement'!PCW12,3)","v":0},{"$f":"ROUND('Income Statement'!PCX12,3)","v":0},{"$f":"ROUND('Income Statement'!PCY12,3)","v":0},{"$f":"ROUND('Income Statement'!PCZ12,3)","v":0},{"$f":"ROUND('Income Statement'!PDA12,3)","v":0},{"$f":"ROUND('Income Statement'!PDB12,3)","v":0},{"$f":"ROUND('Income Statement'!PDC12,3)","v":0},{"$f":"ROUND('Income Statement'!PDD12,3)","v":0},{"$f":"ROUND('Income Statement'!PDE12,3)","v":0},{"$f":"ROUND('Income Statement'!PDF12,3)","v":0},{"$f":"ROUND('Income Statement'!PDG12,3)","v":0},{"$f":"ROUND('Income Statement'!PDH12,3)","v":0},{"$f":"ROUND('Income Statement'!PDI12,3)","v":0},{"$f":"ROUND('Income Statement'!PDJ12,3)","v":0},{"$f":"ROUND('Income Statement'!PDK12,3)","v":0},{"$f":"ROUND('Income Statement'!PDL12,3)","v":0},{"$f":"ROUND('Income Statement'!PDM12,3)","v":0},{"$f":"ROUND('Income Statement'!PDN12,3)","v":0},{"$f":"ROUND('Income Statement'!PDO12,3)","v":0},{"$f":"ROUND('Income Statement'!PDP12,3)","v":0},{"$f":"ROUND('Income Statement'!PDQ12,3)","v":0},{"$f":"ROUND('Income Statement'!PDR12,3)","v":0},{"$f":"ROUND('Income Statement'!PDS12,3)","v":0},{"$f":"ROUND('Income Statement'!PDT12,3)","v":0},{"$f":"ROUND('Income Statement'!PDU12,3)","v":0},{"$f":"ROUND('Income Statement'!PDV12,3)","v":0},{"$f":"ROUND('Income Statement'!PDW12,3)","v":0},{"$f":"ROUND('Income Statement'!PDX12,3)","v":0},{"$f":"ROUND('Income Statement'!PDY12,3)","v":0},{"$f":"ROUND('Income Statement'!PDZ12,3)","v":0},{"$f":"ROUND('Income Statement'!PEA12,3)","v":0},{"$f":"ROUND('Income Statement'!PEB12,3)","v":0},{"$f":"ROUND('Income Statement'!PEC12,3)","v":0},{"$f":"ROUND('Income Statement'!PED12,3)","v":0},{"$f":"ROUND('Income Statement'!PEE12,3)","v":0},{"$f":"ROUND('Income Statement'!PEF12,3)","v":0},{"$f":"ROUND('Income Statement'!PEG12,3)","v":0},{"$f":"ROUND('Income Statement'!PEH12,3)","v":0},{"$f":"ROUND('Income Statement'!PEI12,3)","v":0},{"$f":"ROUND('Income Statement'!PEJ12,3)","v":0},{"$f":"ROUND('Income Statement'!PEK12,3)","v":0},{"$f":"ROUND('Income Statement'!PEL12,3)","v":0},{"$f":"ROUND('Income Statement'!PEM12,3)","v":0},{"$f":"ROUND('Income Statement'!PEN12,3)","v":0},{"$f":"ROUND('Income Statement'!PEO12,3)","v":0},{"$f":"ROUND('Income Statement'!PEP12,3)","v":0},{"$f":"ROUND('Income Statement'!PEQ12,3)","v":0},{"$f":"ROUND('Income Statement'!PER12,3)","v":0},{"$f":"ROUND('Income Statement'!PES12,3)","v":0},{"$f":"ROUND('Income Statement'!PET12,3)","v":0},{"$f":"ROUND('Income Statement'!PEU12,3)","v":0},{"$f":"ROUND('Income Statement'!PEV12,3)","v":0},{"$f":"ROUND('Income Statement'!PEW12,3)","v":0},{"$f":"ROUND('Income Statement'!PEX12,3)","v":0},{"$f":"ROUND('Income Statement'!PEY12,3)","v":0},{"$f":"ROUND('Income Statement'!PEZ12,3)","v":0},{"$f":"ROUND('Income Statement'!PFA12,3)","v":0},{"$f":"ROUND('Income Statement'!PFB12,3)","v":0},{"$f":"ROUND('Income Statement'!PFC12,3)","v":0},{"$f":"ROUND('Income Statement'!PFD12,3)","v":0},{"$f":"ROUND('Income Statement'!PFE12,3)","v":0},{"$f":"ROUND('Income Statement'!PFF12,3)","v":0},{"$f":"ROUND('Income Statement'!PFG12,3)","v":0},{"$f":"ROUND('Income Statement'!PFH12,3)","v":0},{"$f":"ROUND('Income Statement'!PFI12,3)","v":0},{"$f":"ROUND('Income Statement'!PFJ12,3)","v":0},{"$f":"ROUND('Income Statement'!PFK12,3)","v":0},{"$f":"ROUND('Income Statement'!PFL12,3)","v":0},{"$f":"ROUND('Income Statement'!PFM12,3)","v":0},{"$f":"ROUND('Income Statement'!PFN12,3)","v":0},{"$f":"ROUND('Income Statement'!PFO12,3)","v":0},{"$f":"ROUND('Income Statement'!PFP12,3)","v":0},{"$f":"ROUND('Income Statement'!PFQ12,3)","v":0},{"$f":"ROUND('Income Statement'!PFR12,3)","v":0},{"$f":"ROUND('Income Statement'!PFS12,3)","v":0},{"$f":"ROUND('Income Statement'!PFT12,3)","v":0},{"$f":"ROUND('Income Statement'!PFU12,3)","v":0},{"$f":"ROUND('Income Statement'!PFV12,3)","v":0},{"$f":"ROUND('Income Statement'!PFW12,3)","v":0},{"$f":"ROUND('Income Statement'!PFX12,3)","v":0},{"$f":"ROUND('Income Statement'!PFY12,3)","v":0},{"$f":"ROUND('Income Statement'!PFZ12,3)","v":0},{"$f":"ROUND('Income Statement'!PGA12,3)","v":0},{"$f":"ROUND('Income Statement'!PGB12,3)","v":0},{"$f":"ROUND('Income Statement'!PGC12,3)","v":0},{"$f":"ROUND('Income Statement'!PGD12,3)","v":0},{"$f":"ROUND('Income Statement'!PGE12,3)","v":0},{"$f":"ROUND('Income Statement'!PGF12,3)","v":0},{"$f":"ROUND('Income Statement'!PGG12,3)","v":0},{"$f":"ROUND('Income Statement'!PGH12,3)","v":0},{"$f":"ROUND('Income Statement'!PGI12,3)","v":0},{"$f":"ROUND('Income Statement'!PGJ12,3)","v":0},{"$f":"ROUND('Income Statement'!PGK12,3)","v":0},{"$f":"ROUND('Income Statement'!PGL12,3)","v":0},{"$f":"ROUND('Income Statement'!PGM12,3)","v":0},{"$f":"ROUND('Income Statement'!PGN12,3)","v":0},{"$f":"ROUND('Income Statement'!PGO12,3)","v":0},{"$f":"ROUND('Income Statement'!PGP12,3)","v":0},{"$f":"ROUND('Income Statement'!PGQ12,3)","v":0},{"$f":"ROUND('Income Statement'!PGR12,3)","v":0},{"$f":"ROUND('Income Statement'!PGS12,3)","v":0},{"$f":"ROUND('Income Statement'!PGT12,3)","v":0},{"$f":"ROUND('Income Statement'!PGU12,3)","v":0},{"$f":"ROUND('Income Statement'!PGV12,3)","v":0},{"$f":"ROUND('Income Statement'!PGW12,3)","v":0},{"$f":"ROUND('Income Statement'!PGX12,3)","v":0},{"$f":"ROUND('Income Statement'!PGY12,3)","v":0},{"$f":"ROUND('Income Statement'!PGZ12,3)","v":0},{"$f":"ROUND('Income Statement'!PHA12,3)","v":0},{"$f":"ROUND('Income Statement'!PHB12,3)","v":0},{"$f":"ROUND('Income Statement'!PHC12,3)","v":0},{"$f":"ROUND('Income Statement'!PHD12,3)","v":0},{"$f":"ROUND('Income Statement'!PHE12,3)","v":0},{"$f":"ROUND('Income Statement'!PHF12,3)","v":0},{"$f":"ROUND('Income Statement'!PHG12,3)","v":0},{"$f":"ROUND('Income Statement'!PHH12,3)","v":0},{"$f":"ROUND('Income Statement'!PHI12,3)","v":0},{"$f":"ROUND('Income Statement'!PHJ12,3)","v":0},{"$f":"ROUND('Income Statement'!PHK12,3)","v":0},{"$f":"ROUND('Income Statement'!PHL12,3)","v":0},{"$f":"ROUND('Income Statement'!PHM12,3)","v":0},{"$f":"ROUND('Income Statement'!PHN12,3)","v":0},{"$f":"ROUND('Income Statement'!PHO12,3)","v":0},{"$f":"ROUND('Income Statement'!PHP12,3)","v":0},{"$f":"ROUND('Income Statement'!PHQ12,3)","v":0},{"$f":"ROUND('Income Statement'!PHR12,3)","v":0},{"$f":"ROUND('Income Statement'!PHS12,3)","v":0},{"$f":"ROUND('Income Statement'!PHT12,3)","v":0},{"$f":"ROUND('Income Statement'!PHU12,3)","v":0},{"$f":"ROUND('Income Statement'!PHV12,3)","v":0},{"$f":"ROUND('Income Statement'!PHW12,3)","v":0},{"$f":"ROUND('Income Statement'!PHX12,3)","v":0},{"$f":"ROUND('Income Statement'!PHY12,3)","v":0},{"$f":"ROUND('Income Statement'!PHZ12,3)","v":0},{"$f":"ROUND('Income Statement'!PIA12,3)","v":0},{"$f":"ROUND('Income Statement'!PIB12,3)","v":0},{"$f":"ROUND('Income Statement'!PIC12,3)","v":0},{"$f":"ROUND('Income Statement'!PID12,3)","v":0},{"$f":"ROUND('Income Statement'!PIE12,3)","v":0},{"$f":"ROUND('Income Statement'!PIF12,3)","v":0},{"$f":"ROUND('Income Statement'!PIG12,3)","v":0},{"$f":"ROUND('Income Statement'!PIH12,3)","v":0},{"$f":"ROUND('Income Statement'!PII12,3)","v":0},{"$f":"ROUND('Income Statement'!PIJ12,3)","v":0},{"$f":"ROUND('Income Statement'!PIK12,3)","v":0},{"$f":"ROUND('Income Statement'!PIL12,3)","v":0},{"$f":"ROUND('Income Statement'!PIM12,3)","v":0},{"$f":"ROUND('Income Statement'!PIN12,3)","v":0},{"$f":"ROUND('Income Statement'!PIO12,3)","v":0},{"$f":"ROUND('Income Statement'!PIP12,3)","v":0},{"$f":"ROUND('Income Statement'!PIQ12,3)","v":0},{"$f":"ROUND('Income Statement'!PIR12,3)","v":0},{"$f":"ROUND('Income Statement'!PIS12,3)","v":0},{"$f":"ROUND('Income Statement'!PIT12,3)","v":0},{"$f":"ROUND('Income Statement'!PIU12,3)","v":0},{"$f":"ROUND('Income Statement'!PIV12,3)","v":0},{"$f":"ROUND('Income Statement'!PIW12,3)","v":0},{"$f":"ROUND('Income Statement'!PIX12,3)","v":0},{"$f":"ROUND('Income Statement'!PIY12,3)","v":0},{"$f":"ROUND('Income Statement'!PIZ12,3)","v":0},{"$f":"ROUND('Income Statement'!PJA12,3)","v":0},{"$f":"ROUND('Income Statement'!PJB12,3)","v":0},{"$f":"ROUND('Income Statement'!PJC12,3)","v":0},{"$f":"ROUND('Income Statement'!PJD12,3)","v":0},{"$f":"ROUND('Income Statement'!PJE12,3)","v":0},{"$f":"ROUND('Income Statement'!PJF12,3)","v":0},{"$f":"ROUND('Income Statement'!PJG12,3)","v":0},{"$f":"ROUND('Income Statement'!PJH12,3)","v":0},{"$f":"ROUND('Income Statement'!PJI12,3)","v":0},{"$f":"ROUND('Income Statement'!PJJ12,3)","v":0},{"$f":"ROUND('Income Statement'!PJK12,3)","v":0},{"$f":"ROUND('Income Statement'!PJL12,3)","v":0},{"$f":"ROUND('Income Statement'!PJM12,3)","v":0},{"$f":"ROUND('Income Statement'!PJN12,3)","v":0},{"$f":"ROUND('Income Statement'!PJO12,3)","v":0},{"$f":"ROUND('Income Statement'!PJP12,3)","v":0},{"$f":"ROUND('Income Statement'!PJQ12,3)","v":0},{"$f":"ROUND('Income Statement'!PJR12,3)","v":0},{"$f":"ROUND('Income Statement'!PJS12,3)","v":0},{"$f":"ROUND('Income Statement'!PJT12,3)","v":0},{"$f":"ROUND('Income Statement'!PJU12,3)","v":0},{"$f":"ROUND('Income Statement'!PJV12,3)","v":0},{"$f":"ROUND('Income Statement'!PJW12,3)","v":0},{"$f":"ROUND('Income Statement'!PJX12,3)","v":0},{"$f":"ROUND('Income Statement'!PJY12,3)","v":0},{"$f":"ROUND('Income Statement'!PJZ12,3)","v":0},{"$f":"ROUND('Income Statement'!PKA12,3)","v":0},{"$f":"ROUND('Income Statement'!PKB12,3)","v":0},{"$f":"ROUND('Income Statement'!PKC12,3)","v":0},{"$f":"ROUND('Income Statement'!PKD12,3)","v":0},{"$f":"ROUND('Income Statement'!PKE12,3)","v":0},{"$f":"ROUND('Income Statement'!PKF12,3)","v":0},{"$f":"ROUND('Income Statement'!PKG12,3)","v":0},{"$f":"ROUND('Income Statement'!PKH12,3)","v":0},{"$f":"ROUND('Income Statement'!PKI12,3)","v":0},{"$f":"ROUND('Income Statement'!PKJ12,3)","v":0},{"$f":"ROUND('Income Statement'!PKK12,3)","v":0},{"$f":"ROUND('Income Statement'!PKL12,3)","v":0},{"$f":"ROUND('Income Statement'!PKM12,3)","v":0},{"$f":"ROUND('Income Statement'!PKN12,3)","v":0},{"$f":"ROUND('Income Statement'!PKO12,3)","v":0},{"$f":"ROUND('Income Statement'!PKP12,3)","v":0},{"$f":"ROUND('Income Statement'!PKQ12,3)","v":0},{"$f":"ROUND('Income Statement'!PKR12,3)","v":0},{"$f":"ROUND('Income Statement'!PKS12,3)","v":0},{"$f":"ROUND('Income Statement'!PKT12,3)","v":0},{"$f":"ROUND('Income Statement'!PKU12,3)","v":0},{"$f":"ROUND('Income Statement'!PKV12,3)","v":0},{"$f":"ROUND('Income Statement'!PKW12,3)","v":0},{"$f":"ROUND('Income Statement'!PKX12,3)","v":0},{"$f":"ROUND('Income Statement'!PKY12,3)","v":0},{"$f":"ROUND('Income Statement'!PKZ12,3)","v":0},{"$f":"ROUND('Income Statement'!PLA12,3)","v":0},{"$f":"ROUND('Income Statement'!PLB12,3)","v":0},{"$f":"ROUND('Income Statement'!PLC12,3)","v":0},{"$f":"ROUND('Income Statement'!PLD12,3)","v":0},{"$f":"ROUND('Income Statement'!PLE12,3)","v":0},{"$f":"ROUND('Income Statement'!PLF12,3)","v":0},{"$f":"ROUND('Income Statement'!PLG12,3)","v":0},{"$f":"ROUND('Income Statement'!PLH12,3)","v":0},{"$f":"ROUND('Income Statement'!PLI12,3)","v":0},{"$f":"ROUND('Income Statement'!PLJ12,3)","v":0},{"$f":"ROUND('Income Statement'!PLK12,3)","v":0},{"$f":"ROUND('Income Statement'!PLL12,3)","v":0},{"$f":"ROUND('Income Statement'!PLM12,3)","v":0},{"$f":"ROUND('Income Statement'!PLN12,3)","v":0},{"$f":"ROUND('Income Statement'!PLO12,3)","v":0},{"$f":"ROUND('Income Statement'!PLP12,3)","v":0},{"$f":"ROUND('Income Statement'!PLQ12,3)","v":0},{"$f":"ROUND('Income Statement'!PLR12,3)","v":0},{"$f":"ROUND('Income Statement'!PLS12,3)","v":0},{"$f":"ROUND('Income Statement'!PLT12,3)","v":0},{"$f":"ROUND('Income Statement'!PLU12,3)","v":0},{"$f":"ROUND('Income Statement'!PLV12,3)","v":0},{"$f":"ROUND('Income Statement'!PLW12,3)","v":0},{"$f":"ROUND('Income Statement'!PLX12,3)","v":0},{"$f":"ROUND('Income Statement'!PLY12,3)","v":0},{"$f":"ROUND('Income Statement'!PLZ12,3)","v":0},{"$f":"ROUND('Income Statement'!PMA12,3)","v":0},{"$f":"ROUND('Income Statement'!PMB12,3)","v":0},{"$f":"ROUND('Income Statement'!PMC12,3)","v":0},{"$f":"ROUND('Income Statement'!PMD12,3)","v":0},{"$f":"ROUND('Income Statement'!PME12,3)","v":0},{"$f":"ROUND('Income Statement'!PMF12,3)","v":0},{"$f":"ROUND('Income Statement'!PMG12,3)","v":0},{"$f":"ROUND('Income Statement'!PMH12,3)","v":0},{"$f":"ROUND('Income Statement'!PMI12,3)","v":0},{"$f":"ROUND('Income Statement'!PMJ12,3)","v":0},{"$f":"ROUND('Income Statement'!PMK12,3)","v":0},{"$f":"ROUND('Income Statement'!PML12,3)","v":0},{"$f":"ROUND('Income Statement'!PMM12,3)","v":0},{"$f":"ROUND('Income Statement'!PMN12,3)","v":0},{"$f":"ROUND('Income Statement'!PMO12,3)","v":0},{"$f":"ROUND('Income Statement'!PMP12,3)","v":0},{"$f":"ROUND('Income Statement'!PMQ12,3)","v":0},{"$f":"ROUND('Income Statement'!PMR12,3)","v":0},{"$f":"ROUND('Income Statement'!PMS12,3)","v":0},{"$f":"ROUND('Income Statement'!PMT12,3)","v":0},{"$f":"ROUND('Income Statement'!PMU12,3)","v":0},{"$f":"ROUND('Income Statement'!PMV12,3)","v":0},{"$f":"ROUND('Income Statement'!PMW12,3)","v":0},{"$f":"ROUND('Income Statement'!PMX12,3)","v":0},{"$f":"ROUND('Income Statement'!PMY12,3)","v":0},{"$f":"ROUND('Income Statement'!PMZ12,3)","v":0},{"$f":"ROUND('Income Statement'!PNA12,3)","v":0},{"$f":"ROUND('Income Statement'!PNB12,3)","v":0},{"$f":"ROUND('Income Statement'!PNC12,3)","v":0},{"$f":"ROUND('Income Statement'!PND12,3)","v":0},{"$f":"ROUND('Income Statement'!PNE12,3)","v":0},{"$f":"ROUND('Income Statement'!PNF12,3)","v":0},{"$f":"ROUND('Income Statement'!PNG12,3)","v":0},{"$f":"ROUND('Income Statement'!PNH12,3)","v":0},{"$f":"ROUND('Income Statement'!PNI12,3)","v":0},{"$f":"ROUND('Income Statement'!PNJ12,3)","v":0},{"$f":"ROUND('Income Statement'!PNK12,3)","v":0},{"$f":"ROUND('Income Statement'!PNL12,3)","v":0},{"$f":"ROUND('Income Statement'!PNM12,3)","v":0},{"$f":"ROUND('Income Statement'!PNN12,3)","v":0},{"$f":"ROUND('Income Statement'!PNO12,3)","v":0},{"$f":"ROUND('Income Statement'!PNP12,3)","v":0},{"$f":"ROUND('Income Statement'!PNQ12,3)","v":0},{"$f":"ROUND('Income Statement'!PNR12,3)","v":0},{"$f":"ROUND('Income Statement'!PNS12,3)","v":0},{"$f":"ROUND('Income Statement'!PNT12,3)","v":0},{"$f":"ROUND('Income Statement'!PNU12,3)","v":0},{"$f":"ROUND('Income Statement'!PNV12,3)","v":0},{"$f":"ROUND('Income Statement'!PNW12,3)","v":0},{"$f":"ROUND('Income Statement'!PNX12,3)","v":0},{"$f":"ROUND('Income Statement'!PNY12,3)","v":0},{"$f":"ROUND('Income Statement'!PNZ12,3)","v":0},{"$f":"ROUND('Income Statement'!POA12,3)","v":0},{"$f":"ROUND('Income Statement'!POB12,3)","v":0},{"$f":"ROUND('Income Statement'!POC12,3)","v":0},{"$f":"ROUND('Income Statement'!POD12,3)","v":0},{"$f":"ROUND('Income Statement'!POE12,3)","v":0},{"$f":"ROUND('Income Statement'!POF12,3)","v":0},{"$f":"ROUND('Income Statement'!POG12,3)","v":0},{"$f":"ROUND('Income Statement'!POH12,3)","v":0},{"$f":"ROUND('Income Statement'!POI12,3)","v":0},{"$f":"ROUND('Income Statement'!POJ12,3)","v":0},{"$f":"ROUND('Income Statement'!POK12,3)","v":0},{"$f":"ROUND('Income Statement'!POL12,3)","v":0},{"$f":"ROUND('Income Statement'!POM12,3)","v":0},{"$f":"ROUND('Income Statement'!PON12,3)","v":0},{"$f":"ROUND('Income Statement'!POO12,3)","v":0},{"$f":"ROUND('Income Statement'!POP12,3)","v":0},{"$f":"ROUND('Income Statement'!POQ12,3)","v":0},{"$f":"ROUND('Income Statement'!POR12,3)","v":0},{"$f":"ROUND('Income Statement'!POS12,3)","v":0},{"$f":"ROUND('Income Statement'!POT12,3)","v":0},{"$f":"ROUND('Income Statement'!POU12,3)","v":0},{"$f":"ROUND('Income Statement'!POV12,3)","v":0},{"$f":"ROUND('Income Statement'!POW12,3)","v":0},{"$f":"ROUND('Income Statement'!POX12,3)","v":0},{"$f":"ROUND('Income Statement'!POY12,3)","v":0},{"$f":"ROUND('Income Statement'!POZ12,3)","v":0},{"$f":"ROUND('Income Statement'!PPA12,3)","v":0},{"$f":"ROUND('Income Statement'!PPB12,3)","v":0},{"$f":"ROUND('Income Statement'!PPC12,3)","v":0},{"$f":"ROUND('Income Statement'!PPD12,3)","v":0},{"$f":"ROUND('Income Statement'!PPE12,3)","v":0},{"$f":"ROUND('Income Statement'!PPF12,3)","v":0},{"$f":"ROUND('Income Statement'!PPG12,3)","v":0},{"$f":"ROUND('Income Statement'!PPH12,3)","v":0},{"$f":"ROUND('Income Statement'!PPI12,3)","v":0},{"$f":"ROUND('Income Statement'!PPJ12,3)","v":0},{"$f":"ROUND('Income Statement'!PPK12,3)","v":0},{"$f":"ROUND('Income Statement'!PPL12,3)","v":0},{"$f":"ROUND('Income Statement'!PPM12,3)","v":0},{"$f":"ROUND('Income Statement'!PPN12,3)","v":0},{"$f":"ROUND('Income Statement'!PPO12,3)","v":0},{"$f":"ROUND('Income Statement'!PPP12,3)","v":0},{"$f":"ROUND('Income Statement'!PPQ12,3)","v":0},{"$f":"ROUND('Income Statement'!PPR12,3)","v":0},{"$f":"ROUND('Income Statement'!PPS12,3)","v":0},{"$f":"ROUND('Income Statement'!PPT12,3)","v":0},{"$f":"ROUND('Income Statement'!PPU12,3)","v":0},{"$f":"ROUND('Income Statement'!PPV12,3)","v":0},{"$f":"ROUND('Income Statement'!PPW12,3)","v":0},{"$f":"ROUND('Income Statement'!PPX12,3)","v":0},{"$f":"ROUND('Income Statement'!PPY12,3)","v":0},{"$f":"ROUND('Income Statement'!PPZ12,3)","v":0},{"$f":"ROUND('Income Statement'!PQA12,3)","v":0},{"$f":"ROUND('Income Statement'!PQB12,3)","v":0},{"$f":"ROUND('Income Statement'!PQC12,3)","v":0},{"$f":"ROUND('Income Statement'!PQD12,3)","v":0},{"$f":"ROUND('Income Statement'!PQE12,3)","v":0},{"$f":"ROUND('Income Statement'!PQF12,3)","v":0},{"$f":"ROUND('Income Statement'!PQG12,3)","v":0},{"$f":"ROUND('Income Statement'!PQH12,3)","v":0},{"$f":"ROUND('Income Statement'!PQI12,3)","v":0},{"$f":"ROUND('Income Statement'!PQJ12,3)","v":0},{"$f":"ROUND('Income Statement'!PQK12,3)","v":0},{"$f":"ROUND('Income Statement'!PQL12,3)","v":0},{"$f":"ROUND('Income Statement'!PQM12,3)","v":0},{"$f":"ROUND('Income Statement'!PQN12,3)","v":0},{"$f":"ROUND('Income Statement'!PQO12,3)","v":0},{"$f":"ROUND('Income Statement'!PQP12,3)","v":0},{"$f":"ROUND('Income Statement'!PQQ12,3)","v":0},{"$f":"ROUND('Income Statement'!PQR12,3)","v":0},{"$f":"ROUND('Income Statement'!PQS12,3)","v":0},{"$f":"ROUND('Income Statement'!PQT12,3)","v":0},{"$f":"ROUND('Income Statement'!PQU12,3)","v":0},{"$f":"ROUND('Income Statement'!PQV12,3)","v":0},{"$f":"ROUND('Income Statement'!PQW12,3)","v":0},{"$f":"ROUND('Income Statement'!PQX12,3)","v":0},{"$f":"ROUND('Income Statement'!PQY12,3)","v":0},{"$f":"ROUND('Income Statement'!PQZ12,3)","v":0},{"$f":"ROUND('Income Statement'!PRA12,3)","v":0},{"$f":"ROUND('Income Statement'!PRB12,3)","v":0},{"$f":"ROUND('Income Statement'!PRC12,3)","v":0},{"$f":"ROUND('Income Statement'!PRD12,3)","v":0},{"$f":"ROUND('Income Statement'!PRE12,3)","v":0},{"$f":"ROUND('Income Statement'!PRF12,3)","v":0},{"$f":"ROUND('Income Statement'!PRG12,3)","v":0},{"$f":"ROUND('Income Statement'!PRH12,3)","v":0},{"$f":"ROUND('Income Statement'!PRI12,3)","v":0},{"$f":"ROUND('Income Statement'!PRJ12,3)","v":0},{"$f":"ROUND('Income Statement'!PRK12,3)","v":0},{"$f":"ROUND('Income Statement'!PRL12,3)","v":0},{"$f":"ROUND('Income Statement'!PRM12,3)","v":0},{"$f":"ROUND('Income Statement'!PRN12,3)","v":0},{"$f":"ROUND('Income Statement'!PRO12,3)","v":0},{"$f":"ROUND('Income Statement'!PRP12,3)","v":0},{"$f":"ROUND('Income Statement'!PRQ12,3)","v":0},{"$f":"ROUND('Income Statement'!PRR12,3)","v":0},{"$f":"ROUND('Income Statement'!PRS12,3)","v":0},{"$f":"ROUND('Income Statement'!PRT12,3)","v":0},{"$f":"ROUND('Income Statement'!PRU12,3)","v":0},{"$f":"ROUND('Income Statement'!PRV12,3)","v":0},{"$f":"ROUND('Income Statement'!PRW12,3)","v":0},{"$f":"ROUND('Income Statement'!PRX12,3)","v":0},{"$f":"ROUND('Income Statement'!PRY12,3)","v":0},{"$f":"ROUND('Income Statement'!PRZ12,3)","v":0},{"$f":"ROUND('Income Statement'!PSA12,3)","v":0},{"$f":"ROUND('Income Statement'!PSB12,3)","v":0},{"$f":"ROUND('Income Statement'!PSC12,3)","v":0},{"$f":"ROUND('Income Statement'!PSD12,3)","v":0},{"$f":"ROUND('Income Statement'!PSE12,3)","v":0},{"$f":"ROUND('Income Statement'!PSF12,3)","v":0},{"$f":"ROUND('Income Statement'!PSG12,3)","v":0},{"$f":"ROUND('Income Statement'!PSH12,3)","v":0},{"$f":"ROUND('Income Statement'!PSI12,3)","v":0},{"$f":"ROUND('Income Statement'!PSJ12,3)","v":0},{"$f":"ROUND('Income Statement'!PSK12,3)","v":0},{"$f":"ROUND('Income Statement'!PSL12,3)","v":0},{"$f":"ROUND('Income Statement'!PSM12,3)","v":0},{"$f":"ROUND('Income Statement'!PSN12,3)","v":0},{"$f":"ROUND('Income Statement'!PSO12,3)","v":0},{"$f":"ROUND('Income Statement'!PSP12,3)","v":0},{"$f":"ROUND('Income Statement'!PSQ12,3)","v":0},{"$f":"ROUND('Income Statement'!PSR12,3)","v":0},{"$f":"ROUND('Income Statement'!PSS12,3)","v":0},{"$f":"ROUND('Income Statement'!PST12,3)","v":0},{"$f":"ROUND('Income Statement'!PSU12,3)","v":0},{"$f":"ROUND('Income Statement'!PSV12,3)","v":0},{"$f":"ROUND('Income Statement'!PSW12,3)","v":0},{"$f":"ROUND('Income Statement'!PSX12,3)","v":0},{"$f":"ROUND('Income Statement'!PSY12,3)","v":0},{"$f":"ROUND('Income Statement'!PSZ12,3)","v":0},{"$f":"ROUND('Income Statement'!PTA12,3)","v":0},{"$f":"ROUND('Income Statement'!PTB12,3)","v":0},{"$f":"ROUND('Income Statement'!PTC12,3)","v":0},{"$f":"ROUND('Income Statement'!PTD12,3)","v":0},{"$f":"ROUND('Income Statement'!PTE12,3)","v":0},{"$f":"ROUND('Income Statement'!PTF12,3)","v":0},{"$f":"ROUND('Income Statement'!PTG12,3)","v":0},{"$f":"ROUND('Income Statement'!PTH12,3)","v":0},{"$f":"ROUND('Income Statement'!PTI12,3)","v":0},{"$f":"ROUND('Income Statement'!PTJ12,3)","v":0},{"$f":"ROUND('Income Statement'!PTK12,3)","v":0},{"$f":"ROUND('Income Statement'!PTL12,3)","v":0},{"$f":"ROUND('Income Statement'!PTM12,3)","v":0},{"$f":"ROUND('Income Statement'!PTN12,3)","v":0},{"$f":"ROUND('Income Statement'!PTO12,3)","v":0},{"$f":"ROUND('Income Statement'!PTP12,3)","v":0},{"$f":"ROUND('Income Statement'!PTQ12,3)","v":0},{"$f":"ROUND('Income Statement'!PTR12,3)","v":0},{"$f":"ROUND('Income Statement'!PTS12,3)","v":0},{"$f":"ROUND('Income Statement'!PTT12,3)","v":0},{"$f":"ROUND('Income Statement'!PTU12,3)","v":0},{"$f":"ROUND('Income Statement'!PTV12,3)","v":0},{"$f":"ROUND('Income Statement'!PTW12,3)","v":0},{"$f":"ROUND('Income Statement'!PTX12,3)","v":0},{"$f":"ROUND('Income Statement'!PTY12,3)","v":0},{"$f":"ROUND('Income Statement'!PTZ12,3)","v":0},{"$f":"ROUND('Income Statement'!PUA12,3)","v":0},{"$f":"ROUND('Income Statement'!PUB12,3)","v":0},{"$f":"ROUND('Income Statement'!PUC12,3)","v":0},{"$f":"ROUND('Income Statement'!PUD12,3)","v":0},{"$f":"ROUND('Income Statement'!PUE12,3)","v":0},{"$f":"ROUND('Income Statement'!PUF12,3)","v":0},{"$f":"ROUND('Income Statement'!PUG12,3)","v":0},{"$f":"ROUND('Income Statement'!PUH12,3)","v":0},{"$f":"ROUND('Income Statement'!PUI12,3)","v":0},{"$f":"ROUND('Income Statement'!PUJ12,3)","v":0},{"$f":"ROUND('Income Statement'!PUK12,3)","v":0},{"$f":"ROUND('Income Statement'!PUL12,3)","v":0},{"$f":"ROUND('Income Statement'!PUM12,3)","v":0},{"$f":"ROUND('Income Statement'!PUN12,3)","v":0},{"$f":"ROUND('Income Statement'!PUO12,3)","v":0},{"$f":"ROUND('Income Statement'!PUP12,3)","v":0},{"$f":"ROUND('Income Statement'!PUQ12,3)","v":0},{"$f":"ROUND('Income Statement'!PUR12,3)","v":0},{"$f":"ROUND('Income Statement'!PUS12,3)","v":0},{"$f":"ROUND('Income Statement'!PUT12,3)","v":0},{"$f":"ROUND('Income Statement'!PUU12,3)","v":0},{"$f":"ROUND('Income Statement'!PUV12,3)","v":0},{"$f":"ROUND('Income Statement'!PUW12,3)","v":0},{"$f":"ROUND('Income Statement'!PUX12,3)","v":0},{"$f":"ROUND('Income Statement'!PUY12,3)","v":0},{"$f":"ROUND('Income Statement'!PUZ12,3)","v":0},{"$f":"ROUND('Income Statement'!PVA12,3)","v":0},{"$f":"ROUND('Income Statement'!PVB12,3)","v":0},{"$f":"ROUND('Income Statement'!PVC12,3)","v":0},{"$f":"ROUND('Income Statement'!PVD12,3)","v":0},{"$f":"ROUND('Income Statement'!PVE12,3)","v":0},{"$f":"ROUND('Income Statement'!PVF12,3)","v":0},{"$f":"ROUND('Income Statement'!PVG12,3)","v":0},{"$f":"ROUND('Income Statement'!PVH12,3)","v":0},{"$f":"ROUND('Income Statement'!PVI12,3)","v":0},{"$f":"ROUND('Income Statement'!PVJ12,3)","v":0},{"$f":"ROUND('Income Statement'!PVK12,3)","v":0},{"$f":"ROUND('Income Statement'!PVL12,3)","v":0},{"$f":"ROUND('Income Statement'!PVM12,3)","v":0},{"$f":"ROUND('Income Statement'!PVN12,3)","v":0},{"$f":"ROUND('Income Statement'!PVO12,3)","v":0},{"$f":"ROUND('Income Statement'!PVP12,3)","v":0},{"$f":"ROUND('Income Statement'!PVQ12,3)","v":0},{"$f":"ROUND('Income Statement'!PVR12,3)","v":0},{"$f":"ROUND('Income Statement'!PVS12,3)","v":0},{"$f":"ROUND('Income Statement'!PVT12,3)","v":0},{"$f":"ROUND('Income Statement'!PVU12,3)","v":0},{"$f":"ROUND('Income Statement'!PVV12,3)","v":0},{"$f":"ROUND('Income Statement'!PVW12,3)","v":0},{"$f":"ROUND('Income Statement'!PVX12,3)","v":0},{"$f":"ROUND('Income Statement'!PVY12,3)","v":0},{"$f":"ROUND('Income Statement'!PVZ12,3)","v":0},{"$f":"ROUND('Income Statement'!PWA12,3)","v":0},{"$f":"ROUND('Income Statement'!PWB12,3)","v":0},{"$f":"ROUND('Income Statement'!PWC12,3)","v":0},{"$f":"ROUND('Income Statement'!PWD12,3)","v":0},{"$f":"ROUND('Income Statement'!PWE12,3)","v":0},{"$f":"ROUND('Income Statement'!PWF12,3)","v":0},{"$f":"ROUND('Income Statement'!PWG12,3)","v":0},{"$f":"ROUND('Income Statement'!PWH12,3)","v":0},{"$f":"ROUND('Income Statement'!PWI12,3)","v":0},{"$f":"ROUND('Income Statement'!PWJ12,3)","v":0},{"$f":"ROUND('Income Statement'!PWK12,3)","v":0},{"$f":"ROUND('Income Statement'!PWL12,3)","v":0},{"$f":"ROUND('Income Statement'!PWM12,3)","v":0},{"$f":"ROUND('Income Statement'!PWN12,3)","v":0},{"$f":"ROUND('Income Statement'!PWO12,3)","v":0},{"$f":"ROUND('Income Statement'!PWP12,3)","v":0},{"$f":"ROUND('Income Statement'!PWQ12,3)","v":0},{"$f":"ROUND('Income Statement'!PWR12,3)","v":0},{"$f":"ROUND('Income Statement'!PWS12,3)","v":0},{"$f":"ROUND('Income Statement'!PWT12,3)","v":0},{"$f":"ROUND('Income Statement'!PWU12,3)","v":0},{"$f":"ROUND('Income Statement'!PWV12,3)","v":0},{"$f":"ROUND('Income Statement'!PWW12,3)","v":0},{"$f":"ROUND('Income Statement'!PWX12,3)","v":0},{"$f":"ROUND('Income Statement'!PWY12,3)","v":0},{"$f":"ROUND('Income Statement'!PWZ12,3)","v":0},{"$f":"ROUND('Income Statement'!PXA12,3)","v":0},{"$f":"ROUND('Income Statement'!PXB12,3)","v":0},{"$f":"ROUND('Income Statement'!PXC12,3)","v":0},{"$f":"ROUND('Income Statement'!PXD12,3)","v":0},{"$f":"ROUND('Income Statement'!PXE12,3)","v":0},{"$f":"ROUND('Income Statement'!PXF12,3)","v":0},{"$f":"ROUND('Income Statement'!PXG12,3)","v":0},{"$f":"ROUND('Income Statement'!PXH12,3)","v":0},{"$f":"ROUND('Income Statement'!PXI12,3)","v":0},{"$f":"ROUND('Income Statement'!PXJ12,3)","v":0},{"$f":"ROUND('Income Statement'!PXK12,3)","v":0},{"$f":"ROUND('Income Statement'!PXL12,3)","v":0},{"$f":"ROUND('Income Statement'!PXM12,3)","v":0},{"$f":"ROUND('Income Statement'!PXN12,3)","v":0},{"$f":"ROUND('Income Statement'!PXO12,3)","v":0},{"$f":"ROUND('Income Statement'!PXP12,3)","v":0},{"$f":"ROUND('Income Statement'!PXQ12,3)","v":0},{"$f":"ROUND('Income Statement'!PXR12,3)","v":0},{"$f":"ROUND('Income Statement'!PXS12,3)","v":0},{"$f":"ROUND('Income Statement'!PXT12,3)","v":0},{"$f":"ROUND('Income Statement'!PXU12,3)","v":0},{"$f":"ROUND('Income Statement'!PXV12,3)","v":0},{"$f":"ROUND('Income Statement'!PXW12,3)","v":0},{"$f":"ROUND('Income Statement'!PXX12,3)","v":0},{"$f":"ROUND('Income Statement'!PXY12,3)","v":0},{"$f":"ROUND('Income Statement'!PXZ12,3)","v":0},{"$f":"ROUND('Income Statement'!PYA12,3)","v":0},{"$f":"ROUND('Income Statement'!PYB12,3)","v":0},{"$f":"ROUND('Income Statement'!PYC12,3)","v":0},{"$f":"ROUND('Income Statement'!PYD12,3)","v":0},{"$f":"ROUND('Income Statement'!PYE12,3)","v":0},{"$f":"ROUND('Income Statement'!PYF12,3)","v":0},{"$f":"ROUND('Income Statement'!PYG12,3)","v":0},{"$f":"ROUND('Income Statement'!PYH12,3)","v":0},{"$f":"ROUND('Income Statement'!PYI12,3)","v":0},{"$f":"ROUND('Income Statement'!PYJ12,3)","v":0},{"$f":"ROUND('Income Statement'!PYK12,3)","v":0},{"$f":"ROUND('Income Statement'!PYL12,3)","v":0},{"$f":"ROUND('Income Statement'!PYM12,3)","v":0},{"$f":"ROUND('Income Statement'!PYN12,3)","v":0},{"$f":"ROUND('Income Statement'!PYO12,3)","v":0},{"$f":"ROUND('Income Statement'!PYP12,3)","v":0},{"$f":"ROUND('Income Statement'!PYQ12,3)","v":0},{"$f":"ROUND('Income Statement'!PYR12,3)","v":0},{"$f":"ROUND('Income Statement'!PYS12,3)","v":0},{"$f":"ROUND('Income Statement'!PYT12,3)","v":0},{"$f":"ROUND('Income Statement'!PYU12,3)","v":0},{"$f":"ROUND('Income Statement'!PYV12,3)","v":0},{"$f":"ROUND('Income Statement'!PYW12,3)","v":0},{"$f":"ROUND('Income Statement'!PYX12,3)","v":0},{"$f":"ROUND('Income Statement'!PYY12,3)","v":0},{"$f":"ROUND('Income Statement'!PYZ12,3)","v":0},{"$f":"ROUND('Income Statement'!PZA12,3)","v":0},{"$f":"ROUND('Income Statement'!PZB12,3)","v":0},{"$f":"ROUND('Income Statement'!PZC12,3)","v":0},{"$f":"ROUND('Income Statement'!PZD12,3)","v":0},{"$f":"ROUND('Income Statement'!PZE12,3)","v":0},{"$f":"ROUND('Income Statement'!PZF12,3)","v":0},{"$f":"ROUND('Income Statement'!PZG12,3)","v":0},{"$f":"ROUND('Income Statement'!PZH12,3)","v":0},{"$f":"ROUND('Income Statement'!PZI12,3)","v":0},{"$f":"ROUND('Income Statement'!PZJ12,3)","v":0},{"$f":"ROUND('Income Statement'!PZK12,3)","v":0},{"$f":"ROUND('Income Statement'!PZL12,3)","v":0},{"$f":"ROUND('Income Statement'!PZM12,3)","v":0},{"$f":"ROUND('Income Statement'!PZN12,3)","v":0},{"$f":"ROUND('Income Statement'!PZO12,3)","v":0},{"$f":"ROUND('Income Statement'!PZP12,3)","v":0},{"$f":"ROUND('Income Statement'!PZQ12,3)","v":0},{"$f":"ROUND('Income Statement'!PZR12,3)","v":0},{"$f":"ROUND('Income Statement'!PZS12,3)","v":0},{"$f":"ROUND('Income Statement'!PZT12,3)","v":0},{"$f":"ROUND('Income Statement'!PZU12,3)","v":0},{"$f":"ROUND('Income Statement'!PZV12,3)","v":0},{"$f":"ROUND('Income Statement'!PZW12,3)","v":0},{"$f":"ROUND('Income Statement'!PZX12,3)","v":0},{"$f":"ROUND('Income Statement'!PZY12,3)","v":0},{"$f":"ROUND('Income Statement'!PZZ12,3)","v":0},{"$f":"ROUND('Income Statement'!QAA12,3)","v":0},{"$f":"ROUND('Income Statement'!QAB12,3)","v":0},{"$f":"ROUND('Income Statement'!QAC12,3)","v":0},{"$f":"ROUND('Income Statement'!QAD12,3)","v":0},{"$f":"ROUND('Income Statement'!QAE12,3)","v":0},{"$f":"ROUND('Income Statement'!QAF12,3)","v":0},{"$f":"ROUND('Income Statement'!QAG12,3)","v":0},{"$f":"ROUND('Income Statement'!QAH12,3)","v":0},{"$f":"ROUND('Income Statement'!QAI12,3)","v":0},{"$f":"ROUND('Income Statement'!QAJ12,3)","v":0},{"$f":"ROUND('Income Statement'!QAK12,3)","v":0},{"$f":"ROUND('Income Statement'!QAL12,3)","v":0},{"$f":"ROUND('Income Statement'!QAM12,3)","v":0},{"$f":"ROUND('Income Statement'!QAN12,3)","v":0},{"$f":"ROUND('Income Statement'!QAO12,3)","v":0},{"$f":"ROUND('Income Statement'!QAP12,3)","v":0},{"$f":"ROUND('Income Statement'!QAQ12,3)","v":0},{"$f":"ROUND('Income Statement'!QAR12,3)","v":0},{"$f":"ROUND('Income Statement'!QAS12,3)","v":0},{"$f":"ROUND('Income Statement'!QAT12,3)","v":0},{"$f":"ROUND('Income Statement'!QAU12,3)","v":0},{"$f":"ROUND('Income Statement'!QAV12,3)","v":0},{"$f":"ROUND('Income Statement'!QAW12,3)","v":0},{"$f":"ROUND('Income Statement'!QAX12,3)","v":0},{"$f":"ROUND('Income Statement'!QAY12,3)","v":0},{"$f":"ROUND('Income Statement'!QAZ12,3)","v":0},{"$f":"ROUND('Income Statement'!QBA12,3)","v":0},{"$f":"ROUND('Income Statement'!QBB12,3)","v":0},{"$f":"ROUND('Income Statement'!QBC12,3)","v":0},{"$f":"ROUND('Income Statement'!QBD12,3)","v":0},{"$f":"ROUND('Income Statement'!QBE12,3)","v":0},{"$f":"ROUND('Income Statement'!QBF12,3)","v":0},{"$f":"ROUND('Income Statement'!QBG12,3)","v":0},{"$f":"ROUND('Income Statement'!QBH12,3)","v":0},{"$f":"ROUND('Income Statement'!QBI12,3)","v":0},{"$f":"ROUND('Income Statement'!QBJ12,3)","v":0},{"$f":"ROUND('Income Statement'!QBK12,3)","v":0},{"$f":"ROUND('Income Statement'!QBL12,3)","v":0},{"$f":"ROUND('Income Statement'!QBM12,3)","v":0},{"$f":"ROUND('Income Statement'!QBN12,3)","v":0},{"$f":"ROUND('Income Statement'!QBO12,3)","v":0},{"$f":"ROUND('Income Statement'!QBP12,3)","v":0},{"$f":"ROUND('Income Statement'!QBQ12,3)","v":0},{"$f":"ROUND('Income Statement'!QBR12,3)","v":0},{"$f":"ROUND('Income Statement'!QBS12,3)","v":0},{"$f":"ROUND('Income Statement'!QBT12,3)","v":0},{"$f":"ROUND('Income Statement'!QBU12,3)","v":0},{"$f":"ROUND('Income Statement'!QBV12,3)","v":0},{"$f":"ROUND('Income Statement'!QBW12,3)","v":0},{"$f":"ROUND('Income Statement'!QBX12,3)","v":0},{"$f":"ROUND('Income Statement'!QBY12,3)","v":0},{"$f":"ROUND('Income Statement'!QBZ12,3)","v":0},{"$f":"ROUND('Income Statement'!QCA12,3)","v":0},{"$f":"ROUND('Income Statement'!QCB12,3)","v":0},{"$f":"ROUND('Income Statement'!QCC12,3)","v":0},{"$f":"ROUND('Income Statement'!QCD12,3)","v":0},{"$f":"ROUND('Income Statement'!QCE12,3)","v":0},{"$f":"ROUND('Income Statement'!QCF12,3)","v":0},{"$f":"ROUND('Income Statement'!QCG12,3)","v":0},{"$f":"ROUND('Income Statement'!QCH12,3)","v":0},{"$f":"ROUND('Income Statement'!QCI12,3)","v":0},{"$f":"ROUND('Income Statement'!QCJ12,3)","v":0},{"$f":"ROUND('Income Statement'!QCK12,3)","v":0},{"$f":"ROUND('Income Statement'!QCL12,3)","v":0},{"$f":"ROUND('Income Statement'!QCM12,3)","v":0},{"$f":"ROUND('Income Statement'!QCN12,3)","v":0},{"$f":"ROUND('Income Statement'!QCO12,3)","v":0},{"$f":"ROUND('Income Statement'!QCP12,3)","v":0},{"$f":"ROUND('Income Statement'!QCQ12,3)","v":0},{"$f":"ROUND('Income Statement'!QCR12,3)","v":0},{"$f":"ROUND('Income Statement'!QCS12,3)","v":0},{"$f":"ROUND('Income Statement'!QCT12,3)","v":0},{"$f":"ROUND('Income Statement'!QCU12,3)","v":0},{"$f":"ROUND('Income Statement'!QCV12,3)","v":0},{"$f":"ROUND('Income Statement'!QCW12,3)","v":0},{"$f":"ROUND('Income Statement'!QCX12,3)","v":0},{"$f":"ROUND('Income Statement'!QCY12,3)","v":0},{"$f":"ROUND('Income Statement'!QCZ12,3)","v":0},{"$f":"ROUND('Income Statement'!QDA12,3)","v":0},{"$f":"ROUND('Income Statement'!QDB12,3)","v":0},{"$f":"ROUND('Income Statement'!QDC12,3)","v":0},{"$f":"ROUND('Income Statement'!QDD12,3)","v":0},{"$f":"ROUND('Income Statement'!QDE12,3)","v":0},{"$f":"ROUND('Income Statement'!QDF12,3)","v":0},{"$f":"ROUND('Income Statement'!QDG12,3)","v":0},{"$f":"ROUND('Income Statement'!QDH12,3)","v":0},{"$f":"ROUND('Income Statement'!QDI12,3)","v":0},{"$f":"ROUND('Income Statement'!QDJ12,3)","v":0},{"$f":"ROUND('Income Statement'!QDK12,3)","v":0},{"$f":"ROUND('Income Statement'!QDL12,3)","v":0},{"$f":"ROUND('Income Statement'!QDM12,3)","v":0},{"$f":"ROUND('Income Statement'!QDN12,3)","v":0},{"$f":"ROUND('Income Statement'!QDO12,3)","v":0},{"$f":"ROUND('Income Statement'!QDP12,3)","v":0},{"$f":"ROUND('Income Statement'!QDQ12,3)","v":0},{"$f":"ROUND('Income Statement'!QDR12,3)","v":0},{"$f":"ROUND('Income Statement'!QDS12,3)","v":0},{"$f":"ROUND('Income Statement'!QDT12,3)","v":0},{"$f":"ROUND('Income Statement'!QDU12,3)","v":0},{"$f":"ROUND('Income Statement'!QDV12,3)","v":0},{"$f":"ROUND('Income Statement'!QDW12,3)","v":0},{"$f":"ROUND('Income Statement'!QDX12,3)","v":0},{"$f":"ROUND('Income Statement'!QDY12,3)","v":0},{"$f":"ROUND('Income Statement'!QDZ12,3)","v":0},{"$f":"ROUND('Income Statement'!QEA12,3)","v":0},{"$f":"ROUND('Income Statement'!QEB12,3)","v":0},{"$f":"ROUND('Income Statement'!QEC12,3)","v":0},{"$f":"ROUND('Income Statement'!QED12,3)","v":0},{"$f":"ROUND('Income Statement'!QEE12,3)","v":0},{"$f":"ROUND('Income Statement'!QEF12,3)","v":0},{"$f":"ROUND('Income Statement'!QEG12,3)","v":0},{"$f":"ROUND('Income Statement'!QEH12,3)","v":0},{"$f":"ROUND('Income Statement'!QEI12,3)","v":0},{"$f":"ROUND('Income Statement'!QEJ12,3)","v":0},{"$f":"ROUND('Income Statement'!QEK12,3)","v":0},{"$f":"ROUND('Income Statement'!QEL12,3)","v":0},{"$f":"ROUND('Income Statement'!QEM12,3)","v":0},{"$f":"ROUND('Income Statement'!QEN12,3)","v":0},{"$f":"ROUND('Income Statement'!QEO12,3)","v":0},{"$f":"ROUND('Income Statement'!QEP12,3)","v":0},{"$f":"ROUND('Income Statement'!QEQ12,3)","v":0},{"$f":"ROUND('Income Statement'!QER12,3)","v":0},{"$f":"ROUND('Income Statement'!QES12,3)","v":0},{"$f":"ROUND('Income Statement'!QET12,3)","v":0},{"$f":"ROUND('Income Statement'!QEU12,3)","v":0},{"$f":"ROUND('Income Statement'!QEV12,3)","v":0},{"$f":"ROUND('Income Statement'!QEW12,3)","v":0},{"$f":"ROUND('Income Statement'!QEX12,3)","v":0},{"$f":"ROUND('Income Statement'!QEY12,3)","v":0},{"$f":"ROUND('Income Statement'!QEZ12,3)","v":0},{"$f":"ROUND('Income Statement'!QFA12,3)","v":0},{"$f":"ROUND('Income Statement'!QFB12,3)","v":0},{"$f":"ROUND('Income Statement'!QFC12,3)","v":0},{"$f":"ROUND('Income Statement'!QFD12,3)","v":0},{"$f":"ROUND('Income Statement'!QFE12,3)","v":0},{"$f":"ROUND('Income Statement'!QFF12,3)","v":0},{"$f":"ROUND('Income Statement'!QFG12,3)","v":0},{"$f":"ROUND('Income Statement'!QFH12,3)","v":0},{"$f":"ROUND('Income Statement'!QFI12,3)","v":0},{"$f":"ROUND('Income Statement'!QFJ12,3)","v":0},{"$f":"ROUND('Income Statement'!QFK12,3)","v":0},{"$f":"ROUND('Income Statement'!QFL12,3)","v":0},{"$f":"ROUND('Income Statement'!QFM12,3)","v":0},{"$f":"ROUND('Income Statement'!QFN12,3)","v":0},{"$f":"ROUND('Income Statement'!QFO12,3)","v":0},{"$f":"ROUND('Income Statement'!QFP12,3)","v":0},{"$f":"ROUND('Income Statement'!QFQ12,3)","v":0},{"$f":"ROUND('Income Statement'!QFR12,3)","v":0},{"$f":"ROUND('Income Statement'!QFS12,3)","v":0},{"$f":"ROUND('Income Statement'!QFT12,3)","v":0},{"$f":"ROUND('Income Statement'!QFU12,3)","v":0},{"$f":"ROUND('Income Statement'!QFV12,3)","v":0},{"$f":"ROUND('Income Statement'!QFW12,3)","v":0},{"$f":"ROUND('Income Statement'!QFX12,3)","v":0},{"$f":"ROUND('Income Statement'!QFY12,3)","v":0},{"$f":"ROUND('Income Statement'!QFZ12,3)","v":0},{"$f":"ROUND('Income Statement'!QGA12,3)","v":0},{"$f":"ROUND('Income Statement'!QGB12,3)","v":0},{"$f":"ROUND('Income Statement'!QGC12,3)","v":0},{"$f":"ROUND('Income Statement'!QGD12,3)","v":0},{"$f":"ROUND('Income Statement'!QGE12,3)","v":0},{"$f":"ROUND('Income Statement'!QGF12,3)","v":0},{"$f":"ROUND('Income Statement'!QGG12,3)","v":0},{"$f":"ROUND('Income Statement'!QGH12,3)","v":0},{"$f":"ROUND('Income Statement'!QGI12,3)","v":0},{"$f":"ROUND('Income Statement'!QGJ12,3)","v":0},{"$f":"ROUND('Income Statement'!QGK12,3)","v":0},{"$f":"ROUND('Income Statement'!QGL12,3)","v":0},{"$f":"ROUND('Income Statement'!QGM12,3)","v":0},{"$f":"ROUND('Income Statement'!QGN12,3)","v":0},{"$f":"ROUND('Income Statement'!QGO12,3)","v":0},{"$f":"ROUND('Income Statement'!QGP12,3)","v":0},{"$f":"ROUND('Income Statement'!QGQ12,3)","v":0},{"$f":"ROUND('Income Statement'!QGR12,3)","v":0},{"$f":"ROUND('Income Statement'!QGS12,3)","v":0},{"$f":"ROUND('Income Statement'!QGT12,3)","v":0},{"$f":"ROUND('Income Statement'!QGU12,3)","v":0},{"$f":"ROUND('Income Statement'!QGV12,3)","v":0},{"$f":"ROUND('Income Statement'!QGW12,3)","v":0},{"$f":"ROUND('Income Statement'!QGX12,3)","v":0},{"$f":"ROUND('Income Statement'!QGY12,3)","v":0},{"$f":"ROUND('Income Statement'!QGZ12,3)","v":0},{"$f":"ROUND('Income Statement'!QHA12,3)","v":0},{"$f":"ROUND('Income Statement'!QHB12,3)","v":0},{"$f":"ROUND('Income Statement'!QHC12,3)","v":0},{"$f":"ROUND('Income Statement'!QHD12,3)","v":0},{"$f":"ROUND('Income Statement'!QHE12,3)","v":0},{"$f":"ROUND('Income Statement'!QHF12,3)","v":0},{"$f":"ROUND('Income Statement'!QHG12,3)","v":0},{"$f":"ROUND('Income Statement'!QHH12,3)","v":0},{"$f":"ROUND('Income Statement'!QHI12,3)","v":0},{"$f":"ROUND('Income Statement'!QHJ12,3)","v":0},{"$f":"ROUND('Income Statement'!QHK12,3)","v":0},{"$f":"ROUND('Income Statement'!QHL12,3)","v":0},{"$f":"ROUND('Income Statement'!QHM12,3)","v":0},{"$f":"ROUND('Income Statement'!QHN12,3)","v":0},{"$f":"ROUND('Income Statement'!QHO12,3)","v":0},{"$f":"ROUND('Income Statement'!QHP12,3)","v":0},{"$f":"ROUND('Income Statement'!QHQ12,3)","v":0},{"$f":"ROUND('Income Statement'!QHR12,3)","v":0},{"$f":"ROUND('Income Statement'!QHS12,3)","v":0},{"$f":"ROUND('Income Statement'!QHT12,3)","v":0},{"$f":"ROUND('Income Statement'!QHU12,3)","v":0},{"$f":"ROUND('Income Statement'!QHV12,3)","v":0},{"$f":"ROUND('Income Statement'!QHW12,3)","v":0},{"$f":"ROUND('Income Statement'!QHX12,3)","v":0},{"$f":"ROUND('Income Statement'!QHY12,3)","v":0},{"$f":"ROUND('Income Statement'!QHZ12,3)","v":0},{"$f":"ROUND('Income Statement'!QIA12,3)","v":0},{"$f":"ROUND('Income Statement'!QIB12,3)","v":0},{"$f":"ROUND('Income Statement'!QIC12,3)","v":0},{"$f":"ROUND('Income Statement'!QID12,3)","v":0},{"$f":"ROUND('Income Statement'!QIE12,3)","v":0},{"$f":"ROUND('Income Statement'!QIF12,3)","v":0},{"$f":"ROUND('Income Statement'!QIG12,3)","v":0},{"$f":"ROUND('Income Statement'!QIH12,3)","v":0},{"$f":"ROUND('Income Statement'!QII12,3)","v":0},{"$f":"ROUND('Income Statement'!QIJ12,3)","v":0},{"$f":"ROUND('Income Statement'!QIK12,3)","v":0},{"$f":"ROUND('Income Statement'!QIL12,3)","v":0},{"$f":"ROUND('Income Statement'!QIM12,3)","v":0},{"$f":"ROUND('Income Statement'!QIN12,3)","v":0},{"$f":"ROUND('Income Statement'!QIO12,3)","v":0},{"$f":"ROUND('Income Statement'!QIP12,3)","v":0},{"$f":"ROUND('Income Statement'!QIQ12,3)","v":0},{"$f":"ROUND('Income Statement'!QIR12,3)","v":0},{"$f":"ROUND('Income Statement'!QIS12,3)","v":0},{"$f":"ROUND('Income Statement'!QIT12,3)","v":0},{"$f":"ROUND('Income Statement'!QIU12,3)","v":0},{"$f":"ROUND('Income Statement'!QIV12,3)","v":0},{"$f":"ROUND('Income Statement'!QIW12,3)","v":0},{"$f":"ROUND('Income Statement'!QIX12,3)","v":0},{"$f":"ROUND('Income Statement'!QIY12,3)","v":0},{"$f":"ROUND('Income Statement'!QIZ12,3)","v":0},{"$f":"ROUND('Income Statement'!QJA12,3)","v":0},{"$f":"ROUND('Income Statement'!QJB12,3)","v":0},{"$f":"ROUND('Income Statement'!QJC12,3)","v":0},{"$f":"ROUND('Income Statement'!QJD12,3)","v":0},{"$f":"ROUND('Income Statement'!QJE12,3)","v":0},{"$f":"ROUND('Income Statement'!QJF12,3)","v":0},{"$f":"ROUND('Income Statement'!QJG12,3)","v":0},{"$f":"ROUND('Income Statement'!QJH12,3)","v":0},{"$f":"ROUND('Income Statement'!QJI12,3)","v":0},{"$f":"ROUND('Income Statement'!QJJ12,3)","v":0},{"$f":"ROUND('Income Statement'!QJK12,3)","v":0},{"$f":"ROUND('Income Statement'!QJL12,3)","v":0},{"$f":"ROUND('Income Statement'!QJM12,3)","v":0},{"$f":"ROUND('Income Statement'!QJN12,3)","v":0},{"$f":"ROUND('Income Statement'!QJO12,3)","v":0},{"$f":"ROUND('Income Statement'!QJP12,3)","v":0},{"$f":"ROUND('Income Statement'!QJQ12,3)","v":0},{"$f":"ROUND('Income Statement'!QJR12,3)","v":0},{"$f":"ROUND('Income Statement'!QJS12,3)","v":0},{"$f":"ROUND('Income Statement'!QJT12,3)","v":0},{"$f":"ROUND('Income Statement'!QJU12,3)","v":0},{"$f":"ROUND('Income Statement'!QJV12,3)","v":0},{"$f":"ROUND('Income Statement'!QJW12,3)","v":0},{"$f":"ROUND('Income Statement'!QJX12,3)","v":0},{"$f":"ROUND('Income Statement'!QJY12,3)","v":0},{"$f":"ROUND('Income Statement'!QJZ12,3)","v":0},{"$f":"ROUND('Income Statement'!QKA12,3)","v":0},{"$f":"ROUND('Income Statement'!QKB12,3)","v":0},{"$f":"ROUND('Income Statement'!QKC12,3)","v":0},{"$f":"ROUND('Income Statement'!QKD12,3)","v":0},{"$f":"ROUND('Income Statement'!QKE12,3)","v":0},{"$f":"ROUND('Income Statement'!QKF12,3)","v":0},{"$f":"ROUND('Income Statement'!QKG12,3)","v":0},{"$f":"ROUND('Income Statement'!QKH12,3)","v":0},{"$f":"ROUND('Income Statement'!QKI12,3)","v":0},{"$f":"ROUND('Income Statement'!QKJ12,3)","v":0},{"$f":"ROUND('Income Statement'!QKK12,3)","v":0},{"$f":"ROUND('Income Statement'!QKL12,3)","v":0},{"$f":"ROUND('Income Statement'!QKM12,3)","v":0},{"$f":"ROUND('Income Statement'!QKN12,3)","v":0},{"$f":"ROUND('Income Statement'!QKO12,3)","v":0},{"$f":"ROUND('Income Statement'!QKP12,3)","v":0},{"$f":"ROUND('Income Statement'!QKQ12,3)","v":0},{"$f":"ROUND('Income Statement'!QKR12,3)","v":0},{"$f":"ROUND('Income Statement'!QKS12,3)","v":0},{"$f":"ROUND('Income Statement'!QKT12,3)","v":0},{"$f":"ROUND('Income Statement'!QKU12,3)","v":0},{"$f":"ROUND('Income Statement'!QKV12,3)","v":0},{"$f":"ROUND('Income Statement'!QKW12,3)","v":0},{"$f":"ROUND('Income Statement'!QKX12,3)","v":0},{"$f":"ROUND('Income Statement'!QKY12,3)","v":0},{"$f":"ROUND('Income Statement'!QKZ12,3)","v":0},{"$f":"ROUND('Income Statement'!QLA12,3)","v":0},{"$f":"ROUND('Income Statement'!QLB12,3)","v":0},{"$f":"ROUND('Income Statement'!QLC12,3)","v":0},{"$f":"ROUND('Income Statement'!QLD12,3)","v":0},{"$f":"ROUND('Income Statement'!QLE12,3)","v":0},{"$f":"ROUND('Income Statement'!QLF12,3)","v":0},{"$f":"ROUND('Income Statement'!QLG12,3)","v":0},{"$f":"ROUND('Income Statement'!QLH12,3)","v":0},{"$f":"ROUND('Income Statement'!QLI12,3)","v":0},{"$f":"ROUND('Income Statement'!QLJ12,3)","v":0},{"$f":"ROUND('Income Statement'!QLK12,3)","v":0},{"$f":"ROUND('Income Statement'!QLL12,3)","v":0},{"$f":"ROUND('Income Statement'!QLM12,3)","v":0},{"$f":"ROUND('Income Statement'!QLN12,3)","v":0},{"$f":"ROUND('Income Statement'!QLO12,3)","v":0},{"$f":"ROUND('Income Statement'!QLP12,3)","v":0},{"$f":"ROUND('Income Statement'!QLQ12,3)","v":0},{"$f":"ROUND('Income Statement'!QLR12,3)","v":0},{"$f":"ROUND('Income Statement'!QLS12,3)","v":0},{"$f":"ROUND('Income Statement'!QLT12,3)","v":0},{"$f":"ROUND('Income Statement'!QLU12,3)","v":0},{"$f":"ROUND('Income Statement'!QLV12,3)","v":0},{"$f":"ROUND('Income Statement'!QLW12,3)","v":0},{"$f":"ROUND('Income Statement'!QLX12,3)","v":0},{"$f":"ROUND('Income Statement'!QLY12,3)","v":0},{"$f":"ROUND('Income Statement'!QLZ12,3)","v":0},{"$f":"ROUND('Income Statement'!QMA12,3)","v":0},{"$f":"ROUND('Income Statement'!QMB12,3)","v":0},{"$f":"ROUND('Income Statement'!QMC12,3)","v":0},{"$f":"ROUND('Income Statement'!QMD12,3)","v":0},{"$f":"ROUND('Income Statement'!QME12,3)","v":0},{"$f":"ROUND('Income Statement'!QMF12,3)","v":0},{"$f":"ROUND('Income Statement'!QMG12,3)","v":0},{"$f":"ROUND('Income Statement'!QMH12,3)","v":0},{"$f":"ROUND('Income Statement'!QMI12,3)","v":0},{"$f":"ROUND('Income Statement'!QMJ12,3)","v":0},{"$f":"ROUND('Income Statement'!QMK12,3)","v":0},{"$f":"ROUND('Income Statement'!QML12,3)","v":0},{"$f":"ROUND('Income Statement'!QMM12,3)","v":0},{"$f":"ROUND('Income Statement'!QMN12,3)","v":0},{"$f":"ROUND('Income Statement'!QMO12,3)","v":0},{"$f":"ROUND('Income Statement'!QMP12,3)","v":0},{"$f":"ROUND('Income Statement'!QMQ12,3)","v":0},{"$f":"ROUND('Income Statement'!QMR12,3)","v":0},{"$f":"ROUND('Income Statement'!QMS12,3)","v":0},{"$f":"ROUND('Income Statement'!QMT12,3)","v":0},{"$f":"ROUND('Income Statement'!QMU12,3)","v":0},{"$f":"ROUND('Income Statement'!QMV12,3)","v":0},{"$f":"ROUND('Income Statement'!QMW12,3)","v":0},{"$f":"ROUND('Income Statement'!QMX12,3)","v":0},{"$f":"ROUND('Income Statement'!QMY12,3)","v":0},{"$f":"ROUND('Income Statement'!QMZ12,3)","v":0},{"$f":"ROUND('Income Statement'!QNA12,3)","v":0},{"$f":"ROUND('Income Statement'!QNB12,3)","v":0},{"$f":"ROUND('Income Statement'!QNC12,3)","v":0},{"$f":"ROUND('Income Statement'!QND12,3)","v":0},{"$f":"ROUND('Income Statement'!QNE12,3)","v":0},{"$f":"ROUND('Income Statement'!QNF12,3)","v":0},{"$f":"ROUND('Income Statement'!QNG12,3)","v":0},{"$f":"ROUND('Income Statement'!QNH12,3)","v":0},{"$f":"ROUND('Income Statement'!QNI12,3)","v":0},{"$f":"ROUND('Income Statement'!QNJ12,3)","v":0},{"$f":"ROUND('Income Statement'!QNK12,3)","v":0},{"$f":"ROUND('Income Statement'!QNL12,3)","v":0},{"$f":"ROUND('Income Statement'!QNM12,3)","v":0},{"$f":"ROUND('Income Statement'!QNN12,3)","v":0},{"$f":"ROUND('Income Statement'!QNO12,3)","v":0},{"$f":"ROUND('Income Statement'!QNP12,3)","v":0},{"$f":"ROUND('Income Statement'!QNQ12,3)","v":0},{"$f":"ROUND('Income Statement'!QNR12,3)","v":0},{"$f":"ROUND('Income Statement'!QNS12,3)","v":0},{"$f":"ROUND('Income Statement'!QNT12,3)","v":0},{"$f":"ROUND('Income Statement'!QNU12,3)","v":0},{"$f":"ROUND('Income Statement'!QNV12,3)","v":0},{"$f":"ROUND('Income Statement'!QNW12,3)","v":0},{"$f":"ROUND('Income Statement'!QNX12,3)","v":0},{"$f":"ROUND('Income Statement'!QNY12,3)","v":0},{"$f":"ROUND('Income Statement'!QNZ12,3)","v":0},{"$f":"ROUND('Income Statement'!QOA12,3)","v":0},{"$f":"ROUND('Income Statement'!QOB12,3)","v":0},{"$f":"ROUND('Income Statement'!QOC12,3)","v":0},{"$f":"ROUND('Income Statement'!QOD12,3)","v":0},{"$f":"ROUND('Income Statement'!QOE12,3)","v":0},{"$f":"ROUND('Income Statement'!QOF12,3)","v":0},{"$f":"ROUND('Income Statement'!QOG12,3)","v":0},{"$f":"ROUND('Income Statement'!QOH12,3)","v":0},{"$f":"ROUND('Income Statement'!QOI12,3)","v":0},{"$f":"ROUND('Income Statement'!QOJ12,3)","v":0},{"$f":"ROUND('Income Statement'!QOK12,3)","v":0},{"$f":"ROUND('Income Statement'!QOL12,3)","v":0},{"$f":"ROUND('Income Statement'!QOM12,3)","v":0},{"$f":"ROUND('Income Statement'!QON12,3)","v":0},{"$f":"ROUND('Income Statement'!QOO12,3)","v":0},{"$f":"ROUND('Income Statement'!QOP12,3)","v":0},{"$f":"ROUND('Income Statement'!QOQ12,3)","v":0},{"$f":"ROUND('Income Statement'!QOR12,3)","v":0},{"$f":"ROUND('Income Statement'!QOS12,3)","v":0},{"$f":"ROUND('Income Statement'!QOT12,3)","v":0},{"$f":"ROUND('Income Statement'!QOU12,3)","v":0},{"$f":"ROUND('Income Statement'!QOV12,3)","v":0},{"$f":"ROUND('Income Statement'!QOW12,3)","v":0},{"$f":"ROUND('Income Statement'!QOX12,3)","v":0},{"$f":"ROUND('Income Statement'!QOY12,3)","v":0},{"$f":"ROUND('Income Statement'!QOZ12,3)","v":0},{"$f":"ROUND('Income Statement'!QPA12,3)","v":0},{"$f":"ROUND('Income Statement'!QPB12,3)","v":0},{"$f":"ROUND('Income Statement'!QPC12,3)","v":0},{"$f":"ROUND('Income Statement'!QPD12,3)","v":0},{"$f":"ROUND('Income Statement'!QPE12,3)","v":0},{"$f":"ROUND('Income Statement'!QPF12,3)","v":0},{"$f":"ROUND('Income Statement'!QPG12,3)","v":0},{"$f":"ROUND('Income Statement'!QPH12,3)","v":0},{"$f":"ROUND('Income Statement'!QPI12,3)","v":0},{"$f":"ROUND('Income Statement'!QPJ12,3)","v":0},{"$f":"ROUND('Income Statement'!QPK12,3)","v":0},{"$f":"ROUND('Income Statement'!QPL12,3)","v":0},{"$f":"ROUND('Income Statement'!QPM12,3)","v":0},{"$f":"ROUND('Income Statement'!QPN12,3)","v":0},{"$f":"ROUND('Income Statement'!QPO12,3)","v":0},{"$f":"ROUND('Income Statement'!QPP12,3)","v":0},{"$f":"ROUND('Income Statement'!QPQ12,3)","v":0},{"$f":"ROUND('Income Statement'!QPR12,3)","v":0},{"$f":"ROUND('Income Statement'!QPS12,3)","v":0},{"$f":"ROUND('Income Statement'!QPT12,3)","v":0},{"$f":"ROUND('Income Statement'!QPU12,3)","v":0},{"$f":"ROUND('Income Statement'!QPV12,3)","v":0},{"$f":"ROUND('Income Statement'!QPW12,3)","v":0},{"$f":"ROUND('Income Statement'!QPX12,3)","v":0},{"$f":"ROUND('Income Statement'!QPY12,3)","v":0},{"$f":"ROUND('Income Statement'!QPZ12,3)","v":0},{"$f":"ROUND('Income Statement'!QQA12,3)","v":0},{"$f":"ROUND('Income Statement'!QQB12,3)","v":0},{"$f":"ROUND('Income Statement'!QQC12,3)","v":0},{"$f":"ROUND('Income Statement'!QQD12,3)","v":0},{"$f":"ROUND('Income Statement'!QQE12,3)","v":0},{"$f":"ROUND('Income Statement'!QQF12,3)","v":0},{"$f":"ROUND('Income Statement'!QQG12,3)","v":0},{"$f":"ROUND('Income Statement'!QQH12,3)","v":0},{"$f":"ROUND('Income Statement'!QQI12,3)","v":0},{"$f":"ROUND('Income Statement'!QQJ12,3)","v":0},{"$f":"ROUND('Income Statement'!QQK12,3)","v":0},{"$f":"ROUND('Income Statement'!QQL12,3)","v":0},{"$f":"ROUND('Income Statement'!QQM12,3)","v":0},{"$f":"ROUND('Income Statement'!QQN12,3)","v":0},{"$f":"ROUND('Income Statement'!QQO12,3)","v":0},{"$f":"ROUND('Income Statement'!QQP12,3)","v":0},{"$f":"ROUND('Income Statement'!QQQ12,3)","v":0},{"$f":"ROUND('Income Statement'!QQR12,3)","v":0},{"$f":"ROUND('Income Statement'!QQS12,3)","v":0},{"$f":"ROUND('Income Statement'!QQT12,3)","v":0},{"$f":"ROUND('Income Statement'!QQU12,3)","v":0},{"$f":"ROUND('Income Statement'!QQV12,3)","v":0},{"$f":"ROUND('Income Statement'!QQW12,3)","v":0},{"$f":"ROUND('Income Statement'!QQX12,3)","v":0},{"$f":"ROUND('Income Statement'!QQY12,3)","v":0},{"$f":"ROUND('Income Statement'!QQZ12,3)","v":0},{"$f":"ROUND('Income Statement'!QRA12,3)","v":0},{"$f":"ROUND('Income Statement'!QRB12,3)","v":0},{"$f":"ROUND('Income Statement'!QRC12,3)","v":0},{"$f":"ROUND('Income Statement'!QRD12,3)","v":0},{"$f":"ROUND('Income Statement'!QRE12,3)","v":0},{"$f":"ROUND('Income Statement'!QRF12,3)","v":0},{"$f":"ROUND('Income Statement'!QRG12,3)","v":0},{"$f":"ROUND('Income Statement'!QRH12,3)","v":0},{"$f":"ROUND('Income Statement'!QRI12,3)","v":0},{"$f":"ROUND('Income Statement'!QRJ12,3)","v":0},{"$f":"ROUND('Income Statement'!QRK12,3)","v":0},{"$f":"ROUND('Income Statement'!QRL12,3)","v":0},{"$f":"ROUND('Income Statement'!QRM12,3)","v":0},{"$f":"ROUND('Income Statement'!QRN12,3)","v":0},{"$f":"ROUND('Income Statement'!QRO12,3)","v":0},{"$f":"ROUND('Income Statement'!QRP12,3)","v":0},{"$f":"ROUND('Income Statement'!QRQ12,3)","v":0},{"$f":"ROUND('Income Statement'!QRR12,3)","v":0},{"$f":"ROUND('Income Statement'!QRS12,3)","v":0},{"$f":"ROUND('Income Statement'!QRT12,3)","v":0},{"$f":"ROUND('Income Statement'!QRU12,3)","v":0},{"$f":"ROUND('Income Statement'!QRV12,3)","v":0},{"$f":"ROUND('Income Statement'!QRW12,3)","v":0},{"$f":"ROUND('Income Statement'!QRX12,3)","v":0},{"$f":"ROUND('Income Statement'!QRY12,3)","v":0},{"$f":"ROUND('Income Statement'!QRZ12,3)","v":0},{"$f":"ROUND('Income Statement'!QSA12,3)","v":0},{"$f":"ROUND('Income Statement'!QSB12,3)","v":0},{"$f":"ROUND('Income Statement'!QSC12,3)","v":0},{"$f":"ROUND('Income Statement'!QSD12,3)","v":0},{"$f":"ROUND('Income Statement'!QSE12,3)","v":0},{"$f":"ROUND('Income Statement'!QSF12,3)","v":0},{"$f":"ROUND('Income Statement'!QSG12,3)","v":0},{"$f":"ROUND('Income Statement'!QSH12,3)","v":0},{"$f":"ROUND('Income Statement'!QSI12,3)","v":0},{"$f":"ROUND('Income Statement'!QSJ12,3)","v":0},{"$f":"ROUND('Income Statement'!QSK12,3)","v":0},{"$f":"ROUND('Income Statement'!QSL12,3)","v":0},{"$f":"ROUND('Income Statement'!QSM12,3)","v":0},{"$f":"ROUND('Income Statement'!QSN12,3)","v":0},{"$f":"ROUND('Income Statement'!QSO12,3)","v":0},{"$f":"ROUND('Income Statement'!QSP12,3)","v":0},{"$f":"ROUND('Income Statement'!QSQ12,3)","v":0},{"$f":"ROUND('Income Statement'!QSR12,3)","v":0},{"$f":"ROUND('Income Statement'!QSS12,3)","v":0},{"$f":"ROUND('Income Statement'!QST12,3)","v":0},{"$f":"ROUND('Income Statement'!QSU12,3)","v":0},{"$f":"ROUND('Income Statement'!QSV12,3)","v":0},{"$f":"ROUND('Income Statement'!QSW12,3)","v":0},{"$f":"ROUND('Income Statement'!QSX12,3)","v":0},{"$f":"ROUND('Income Statement'!QSY12,3)","v":0},{"$f":"ROUND('Income Statement'!QSZ12,3)","v":0},{"$f":"ROUND('Income Statement'!QTA12,3)","v":0},{"$f":"ROUND('Income Statement'!QTB12,3)","v":0},{"$f":"ROUND('Income Statement'!QTC12,3)","v":0},{"$f":"ROUND('Income Statement'!QTD12,3)","v":0},{"$f":"ROUND('Income Statement'!QTE12,3)","v":0},{"$f":"ROUND('Income Statement'!QTF12,3)","v":0},{"$f":"ROUND('Income Statement'!QTG12,3)","v":0},{"$f":"ROUND('Income Statement'!QTH12,3)","v":0},{"$f":"ROUND('Income Statement'!QTI12,3)","v":0},{"$f":"ROUND('Income Statement'!QTJ12,3)","v":0},{"$f":"ROUND('Income Statement'!QTK12,3)","v":0},{"$f":"ROUND('Income Statement'!QTL12,3)","v":0},{"$f":"ROUND('Income Statement'!QTM12,3)","v":0},{"$f":"ROUND('Income Statement'!QTN12,3)","v":0},{"$f":"ROUND('Income Statement'!QTO12,3)","v":0},{"$f":"ROUND('Income Statement'!QTP12,3)","v":0},{"$f":"ROUND('Income Statement'!QTQ12,3)","v":0},{"$f":"ROUND('Income Statement'!QTR12,3)","v":0},{"$f":"ROUND('Income Statement'!QTS12,3)","v":0},{"$f":"ROUND('Income Statement'!QTT12,3)","v":0},{"$f":"ROUND('Income Statement'!QTU12,3)","v":0},{"$f":"ROUND('Income Statement'!QTV12,3)","v":0},{"$f":"ROUND('Income Statement'!QTW12,3)","v":0},{"$f":"ROUND('Income Statement'!QTX12,3)","v":0},{"$f":"ROUND('Income Statement'!QTY12,3)","v":0},{"$f":"ROUND('Income Statement'!QTZ12,3)","v":0},{"$f":"ROUND('Income Statement'!QUA12,3)","v":0},{"$f":"ROUND('Income Statement'!QUB12,3)","v":0},{"$f":"ROUND('Income Statement'!QUC12,3)","v":0},{"$f":"ROUND('Income Statement'!QUD12,3)","v":0},{"$f":"ROUND('Income Statement'!QUE12,3)","v":0},{"$f":"ROUND('Income Statement'!QUF12,3)","v":0},{"$f":"ROUND('Income Statement'!QUG12,3)","v":0},{"$f":"ROUND('Income Statement'!QUH12,3)","v":0},{"$f":"ROUND('Income Statement'!QUI12,3)","v":0},{"$f":"ROUND('Income Statement'!QUJ12,3)","v":0},{"$f":"ROUND('Income Statement'!QUK12,3)","v":0},{"$f":"ROUND('Income Statement'!QUL12,3)","v":0},{"$f":"ROUND('Income Statement'!QUM12,3)","v":0},{"$f":"ROUND('Income Statement'!QUN12,3)","v":0},{"$f":"ROUND('Income Statement'!QUO12,3)","v":0},{"$f":"ROUND('Income Statement'!QUP12,3)","v":0},{"$f":"ROUND('Income Statement'!QUQ12,3)","v":0},{"$f":"ROUND('Income Statement'!QUR12,3)","v":0},{"$f":"ROUND('Income Statement'!QUS12,3)","v":0},{"$f":"ROUND('Income Statement'!QUT12,3)","v":0},{"$f":"ROUND('Income Statement'!QUU12,3)","v":0},{"$f":"ROUND('Income Statement'!QUV12,3)","v":0},{"$f":"ROUND('Income Statement'!QUW12,3)","v":0},{"$f":"ROUND('Income Statement'!QUX12,3)","v":0},{"$f":"ROUND('Income Statement'!QUY12,3)","v":0},{"$f":"ROUND('Income Statement'!QUZ12,3)","v":0},{"$f":"ROUND('Income Statement'!QVA12,3)","v":0},{"$f":"ROUND('Income Statement'!QVB12,3)","v":0},{"$f":"ROUND('Income Statement'!QVC12,3)","v":0},{"$f":"ROUND('Income Statement'!QVD12,3)","v":0},{"$f":"ROUND('Income Statement'!QVE12,3)","v":0},{"$f":"ROUND('Income Statement'!QVF12,3)","v":0},{"$f":"ROUND('Income Statement'!QVG12,3)","v":0},{"$f":"ROUND('Income Statement'!QVH12,3)","v":0},{"$f":"ROUND('Income Statement'!QVI12,3)","v":0},{"$f":"ROUND('Income Statement'!QVJ12,3)","v":0},{"$f":"ROUND('Income Statement'!QVK12,3)","v":0},{"$f":"ROUND('Income Statement'!QVL12,3)","v":0},{"$f":"ROUND('Income Statement'!QVM12,3)","v":0},{"$f":"ROUND('Income Statement'!QVN12,3)","v":0},{"$f":"ROUND('Income Statement'!QVO12,3)","v":0},{"$f":"ROUND('Income Statement'!QVP12,3)","v":0},{"$f":"ROUND('Income Statement'!QVQ12,3)","v":0},{"$f":"ROUND('Income Statement'!QVR12,3)","v":0},{"$f":"ROUND('Income Statement'!QVS12,3)","v":0},{"$f":"ROUND('Income Statement'!QVT12,3)","v":0},{"$f":"ROUND('Income Statement'!QVU12,3)","v":0},{"$f":"ROUND('Income Statement'!QVV12,3)","v":0},{"$f":"ROUND('Income Statement'!QVW12,3)","v":0},{"$f":"ROUND('Income Statement'!QVX12,3)","v":0},{"$f":"ROUND('Income Statement'!QVY12,3)","v":0},{"$f":"ROUND('Income Statement'!QVZ12,3)","v":0},{"$f":"ROUND('Income Statement'!QWA12,3)","v":0},{"$f":"ROUND('Income Statement'!QWB12,3)","v":0},{"$f":"ROUND('Income Statement'!QWC12,3)","v":0},{"$f":"ROUND('Income Statement'!QWD12,3)","v":0},{"$f":"ROUND('Income Statement'!QWE12,3)","v":0},{"$f":"ROUND('Income Statement'!QWF12,3)","v":0},{"$f":"ROUND('Income Statement'!QWG12,3)","v":0},{"$f":"ROUND('Income Statement'!QWH12,3)","v":0},{"$f":"ROUND('Income Statement'!QWI12,3)","v":0},{"$f":"ROUND('Income Statement'!QWJ12,3)","v":0},{"$f":"ROUND('Income Statement'!QWK12,3)","v":0},{"$f":"ROUND('Income Statement'!QWL12,3)","v":0},{"$f":"ROUND('Income Statement'!QWM12,3)","v":0},{"$f":"ROUND('Income Statement'!QWN12,3)","v":0},{"$f":"ROUND('Income Statement'!QWO12,3)","v":0},{"$f":"ROUND('Income Statement'!QWP12,3)","v":0},{"$f":"ROUND('Income Statement'!QWQ12,3)","v":0},{"$f":"ROUND('Income Statement'!QWR12,3)","v":0},{"$f":"ROUND('Income Statement'!QWS12,3)","v":0},{"$f":"ROUND('Income Statement'!QWT12,3)","v":0},{"$f":"ROUND('Income Statement'!QWU12,3)","v":0},{"$f":"ROUND('Income Statement'!QWV12,3)","v":0},{"$f":"ROUND('Income Statement'!QWW12,3)","v":0},{"$f":"ROUND('Income Statement'!QWX12,3)","v":0},{"$f":"ROUND('Income Statement'!QWY12,3)","v":0},{"$f":"ROUND('Income Statement'!QWZ12,3)","v":0},{"$f":"ROUND('Income Statement'!QXA12,3)","v":0},{"$f":"ROUND('Income Statement'!QXB12,3)","v":0},{"$f":"ROUND('Income Statement'!QXC12,3)","v":0},{"$f":"ROUND('Income Statement'!QXD12,3)","v":0},{"$f":"ROUND('Income Statement'!QXE12,3)","v":0},{"$f":"ROUND('Income Statement'!QXF12,3)","v":0},{"$f":"ROUND('Income Statement'!QXG12,3)","v":0},{"$f":"ROUND('Income Statement'!QXH12,3)","v":0},{"$f":"ROUND('Income Statement'!QXI12,3)","v":0},{"$f":"ROUND('Income Statement'!QXJ12,3)","v":0},{"$f":"ROUND('Income Statement'!QXK12,3)","v":0},{"$f":"ROUND('Income Statement'!QXL12,3)","v":0},{"$f":"ROUND('Income Statement'!QXM12,3)","v":0},{"$f":"ROUND('Income Statement'!QXN12,3)","v":0},{"$f":"ROUND('Income Statement'!QXO12,3)","v":0},{"$f":"ROUND('Income Statement'!QXP12,3)","v":0},{"$f":"ROUND('Income Statement'!QXQ12,3)","v":0},{"$f":"ROUND('Income Statement'!QXR12,3)","v":0},{"$f":"ROUND('Income Statement'!QXS12,3)","v":0},{"$f":"ROUND('Income Statement'!QXT12,3)","v":0},{"$f":"ROUND('Income Statement'!QXU12,3)","v":0},{"$f":"ROUND('Income Statement'!QXV12,3)","v":0},{"$f":"ROUND('Income Statement'!QXW12,3)","v":0},{"$f":"ROUND('Income Statement'!QXX12,3)","v":0},{"$f":"ROUND('Income Statement'!QXY12,3)","v":0},{"$f":"ROUND('Income Statement'!QXZ12,3)","v":0},{"$f":"ROUND('Income Statement'!QYA12,3)","v":0},{"$f":"ROUND('Income Statement'!QYB12,3)","v":0},{"$f":"ROUND('Income Statement'!QYC12,3)","v":0},{"$f":"ROUND('Income Statement'!QYD12,3)","v":0},{"$f":"ROUND('Income Statement'!QYE12,3)","v":0},{"$f":"ROUND('Income Statement'!QYF12,3)","v":0},{"$f":"ROUND('Income Statement'!QYG12,3)","v":0},{"$f":"ROUND('Income Statement'!QYH12,3)","v":0},{"$f":"ROUND('Income Statement'!QYI12,3)","v":0},{"$f":"ROUND('Income Statement'!QYJ12,3)","v":0},{"$f":"ROUND('Income Statement'!QYK12,3)","v":0},{"$f":"ROUND('Income Statement'!QYL12,3)","v":0},{"$f":"ROUND('Income Statement'!QYM12,3)","v":0},{"$f":"ROUND('Income Statement'!QYN12,3)","v":0},{"$f":"ROUND('Income Statement'!QYO12,3)","v":0},{"$f":"ROUND('Income Statement'!QYP12,3)","v":0},{"$f":"ROUND('Income Statement'!QYQ12,3)","v":0},{"$f":"ROUND('Income Statement'!QYR12,3)","v":0},{"$f":"ROUND('Income Statement'!QYS12,3)","v":0},{"$f":"ROUND('Income Statement'!QYT12,3)","v":0},{"$f":"ROUND('Income Statement'!QYU12,3)","v":0},{"$f":"ROUND('Income Statement'!QYV12,3)","v":0},{"$f":"ROUND('Income Statement'!QYW12,3)","v":0},{"$f":"ROUND('Income Statement'!QYX12,3)","v":0},{"$f":"ROUND('Income Statement'!QYY12,3)","v":0},{"$f":"ROUND('Income Statement'!QYZ12,3)","v":0},{"$f":"ROUND('Income Statement'!QZA12,3)","v":0},{"$f":"ROUND('Income Statement'!QZB12,3)","v":0},{"$f":"ROUND('Income Statement'!QZC12,3)","v":0},{"$f":"ROUND('Income Statement'!QZD12,3)","v":0},{"$f":"ROUND('Income Statement'!QZE12,3)","v":0},{"$f":"ROUND('Income Statement'!QZF12,3)","v":0},{"$f":"ROUND('Income Statement'!QZG12,3)","v":0},{"$f":"ROUND('Income Statement'!QZH12,3)","v":0},{"$f":"ROUND('Income Statement'!QZI12,3)","v":0},{"$f":"ROUND('Income Statement'!QZJ12,3)","v":0},{"$f":"ROUND('Income Statement'!QZK12,3)","v":0},{"$f":"ROUND('Income Statement'!QZL12,3)","v":0},{"$f":"ROUND('Income Statement'!QZM12,3)","v":0},{"$f":"ROUND('Income Statement'!QZN12,3)","v":0},{"$f":"ROUND('Income Statement'!QZO12,3)","v":0},{"$f":"ROUND('Income Statement'!QZP12,3)","v":0},{"$f":"ROUND('Income Statement'!QZQ12,3)","v":0},{"$f":"ROUND('Income Statement'!QZR12,3)","v":0},{"$f":"ROUND('Income Statement'!QZS12,3)","v":0},{"$f":"ROUND('Income Statement'!QZT12,3)","v":0},{"$f":"ROUND('Income Statement'!QZU12,3)","v":0},{"$f":"ROUND('Income Statement'!QZV12,3)","v":0},{"$f":"ROUND('Income Statement'!QZW12,3)","v":0},{"$f":"ROUND('Income Statement'!QZX12,3)","v":0},{"$f":"ROUND('Income Statement'!QZY12,3)","v":0},{"$f":"ROUND('Income Statement'!QZZ12,3)","v":0},{"$f":"ROUND('Income Statement'!RAA12,3)","v":0},{"$f":"ROUND('Income Statement'!RAB12,3)","v":0},{"$f":"ROUND('Income Statement'!RAC12,3)","v":0},{"$f":"ROUND('Income Statement'!RAD12,3)","v":0},{"$f":"ROUND('Income Statement'!RAE12,3)","v":0},{"$f":"ROUND('Income Statement'!RAF12,3)","v":0},{"$f":"ROUND('Income Statement'!RAG12,3)","v":0},{"$f":"ROUND('Income Statement'!RAH12,3)","v":0},{"$f":"ROUND('Income Statement'!RAI12,3)","v":0},{"$f":"ROUND('Income Statement'!RAJ12,3)","v":0},{"$f":"ROUND('Income Statement'!RAK12,3)","v":0},{"$f":"ROUND('Income Statement'!RAL12,3)","v":0},{"$f":"ROUND('Income Statement'!RAM12,3)","v":0},{"$f":"ROUND('Income Statement'!RAN12,3)","v":0},{"$f":"ROUND('Income Statement'!RAO12,3)","v":0},{"$f":"ROUND('Income Statement'!RAP12,3)","v":0},{"$f":"ROUND('Income Statement'!RAQ12,3)","v":0},{"$f":"ROUND('Income Statement'!RAR12,3)","v":0},{"$f":"ROUND('Income Statement'!RAS12,3)","v":0},{"$f":"ROUND('Income Statement'!RAT12,3)","v":0},{"$f":"ROUND('Income Statement'!RAU12,3)","v":0},{"$f":"ROUND('Income Statement'!RAV12,3)","v":0},{"$f":"ROUND('Income Statement'!RAW12,3)","v":0},{"$f":"ROUND('Income Statement'!RAX12,3)","v":0},{"$f":"ROUND('Income Statement'!RAY12,3)","v":0},{"$f":"ROUND('Income Statement'!RAZ12,3)","v":0},{"$f":"ROUND('Income Statement'!RBA12,3)","v":0},{"$f":"ROUND('Income Statement'!RBB12,3)","v":0},{"$f":"ROUND('Income Statement'!RBC12,3)","v":0},{"$f":"ROUND('Income Statement'!RBD12,3)","v":0},{"$f":"ROUND('Income Statement'!RBE12,3)","v":0},{"$f":"ROUND('Income Statement'!RBF12,3)","v":0},{"$f":"ROUND('Income Statement'!RBG12,3)","v":0},{"$f":"ROUND('Income Statement'!RBH12,3)","v":0},{"$f":"ROUND('Income Statement'!RBI12,3)","v":0},{"$f":"ROUND('Income Statement'!RBJ12,3)","v":0},{"$f":"ROUND('Income Statement'!RBK12,3)","v":0},{"$f":"ROUND('Income Statement'!RBL12,3)","v":0},{"$f":"ROUND('Income Statement'!RBM12,3)","v":0},{"$f":"ROUND('Income Statement'!RBN12,3)","v":0},{"$f":"ROUND('Income Statement'!RBO12,3)","v":0},{"$f":"ROUND('Income Statement'!RBP12,3)","v":0},{"$f":"ROUND('Income Statement'!RBQ12,3)","v":0},{"$f":"ROUND('Income Statement'!RBR12,3)","v":0},{"$f":"ROUND('Income Statement'!RBS12,3)","v":0},{"$f":"ROUND('Income Statement'!RBT12,3)","v":0},{"$f":"ROUND('Income Statement'!RBU12,3)","v":0},{"$f":"ROUND('Income Statement'!RBV12,3)","v":0},{"$f":"ROUND('Income Statement'!RBW12,3)","v":0},{"$f":"ROUND('Income Statement'!RBX12,3)","v":0},{"$f":"ROUND('Income Statement'!RBY12,3)","v":0},{"$f":"ROUND('Income Statement'!RBZ12,3)","v":0},{"$f":"ROUND('Income Statement'!RCA12,3)","v":0},{"$f":"ROUND('Income Statement'!RCB12,3)","v":0},{"$f":"ROUND('Income Statement'!RCC12,3)","v":0},{"$f":"ROUND('Income Statement'!RCD12,3)","v":0},{"$f":"ROUND('Income Statement'!RCE12,3)","v":0},{"$f":"ROUND('Income Statement'!RCF12,3)","v":0},{"$f":"ROUND('Income Statement'!RCG12,3)","v":0},{"$f":"ROUND('Income Statement'!RCH12,3)","v":0},{"$f":"ROUND('Income Statement'!RCI12,3)","v":0},{"$f":"ROUND('Income Statement'!RCJ12,3)","v":0},{"$f":"ROUND('Income Statement'!RCK12,3)","v":0},{"$f":"ROUND('Income Statement'!RCL12,3)","v":0},{"$f":"ROUND('Income Statement'!RCM12,3)","v":0},{"$f":"ROUND('Income Statement'!RCN12,3)","v":0},{"$f":"ROUND('Income Statement'!RCO12,3)","v":0},{"$f":"ROUND('Income Statement'!RCP12,3)","v":0},{"$f":"ROUND('Income Statement'!RCQ12,3)","v":0},{"$f":"ROUND('Income Statement'!RCR12,3)","v":0},{"$f":"ROUND('Income Statement'!RCS12,3)","v":0},{"$f":"ROUND('Income Statement'!RCT12,3)","v":0},{"$f":"ROUND('Income Statement'!RCU12,3)","v":0},{"$f":"ROUND('Income Statement'!RCV12,3)","v":0},{"$f":"ROUND('Income Statement'!RCW12,3)","v":0},{"$f":"ROUND('Income Statement'!RCX12,3)","v":0},{"$f":"ROUND('Income Statement'!RCY12,3)","v":0},{"$f":"ROUND('Income Statement'!RCZ12,3)","v":0},{"$f":"ROUND('Income Statement'!RDA12,3)","v":0},{"$f":"ROUND('Income Statement'!RDB12,3)","v":0},{"$f":"ROUND('Income Statement'!RDC12,3)","v":0},{"$f":"ROUND('Income Statement'!RDD12,3)","v":0},{"$f":"ROUND('Income Statement'!RDE12,3)","v":0},{"$f":"ROUND('Income Statement'!RDF12,3)","v":0},{"$f":"ROUND('Income Statement'!RDG12,3)","v":0},{"$f":"ROUND('Income Statement'!RDH12,3)","v":0},{"$f":"ROUND('Income Statement'!RDI12,3)","v":0},{"$f":"ROUND('Income Statement'!RDJ12,3)","v":0},{"$f":"ROUND('Income Statement'!RDK12,3)","v":0},{"$f":"ROUND('Income Statement'!RDL12,3)","v":0},{"$f":"ROUND('Income Statement'!RDM12,3)","v":0},{"$f":"ROUND('Income Statement'!RDN12,3)","v":0},{"$f":"ROUND('Income Statement'!RDO12,3)","v":0},{"$f":"ROUND('Income Statement'!RDP12,3)","v":0},{"$f":"ROUND('Income Statement'!RDQ12,3)","v":0},{"$f":"ROUND('Income Statement'!RDR12,3)","v":0},{"$f":"ROUND('Income Statement'!RDS12,3)","v":0},{"$f":"ROUND('Income Statement'!RDT12,3)","v":0},{"$f":"ROUND('Income Statement'!RDU12,3)","v":0},{"$f":"ROUND('Income Statement'!RDV12,3)","v":0},{"$f":"ROUND('Income Statement'!RDW12,3)","v":0},{"$f":"ROUND('Income Statement'!RDX12,3)","v":0},{"$f":"ROUND('Income Statement'!RDY12,3)","v":0},{"$f":"ROUND('Income Statement'!RDZ12,3)","v":0},{"$f":"ROUND('Income Statement'!REA12,3)","v":0},{"$f":"ROUND('Income Statement'!REB12,3)","v":0},{"$f":"ROUND('Income Statement'!REC12,3)","v":0},{"$f":"ROUND('Income Statement'!RED12,3)","v":0},{"$f":"ROUND('Income Statement'!REE12,3)","v":0},{"$f":"ROUND('Income Statement'!REF12,3)","v":0},{"$f":"ROUND('Income Statement'!REG12,3)","v":0},{"$f":"ROUND('Income Statement'!REH12,3)","v":0},{"$f":"ROUND('Income Statement'!REI12,3)","v":0},{"$f":"ROUND('Income Statement'!REJ12,3)","v":0},{"$f":"ROUND('Income Statement'!REK12,3)","v":0},{"$f":"ROUND('Income Statement'!REL12,3)","v":0},{"$f":"ROUND('Income Statement'!REM12,3)","v":0},{"$f":"ROUND('Income Statement'!REN12,3)","v":0},{"$f":"ROUND('Income Statement'!REO12,3)","v":0},{"$f":"ROUND('Income Statement'!REP12,3)","v":0},{"$f":"ROUND('Income Statement'!REQ12,3)","v":0},{"$f":"ROUND('Income Statement'!RER12,3)","v":0},{"$f":"ROUND('Income Statement'!RES12,3)","v":0},{"$f":"ROUND('Income Statement'!RET12,3)","v":0},{"$f":"ROUND('Income Statement'!REU12,3)","v":0},{"$f":"ROUND('Income Statement'!REV12,3)","v":0},{"$f":"ROUND('Income Statement'!REW12,3)","v":0},{"$f":"ROUND('Income Statement'!REX12,3)","v":0},{"$f":"ROUND('Income Statement'!REY12,3)","v":0},{"$f":"ROUND('Income Statement'!REZ12,3)","v":0},{"$f":"ROUND('Income Statement'!RFA12,3)","v":0},{"$f":"ROUND('Income Statement'!RFB12,3)","v":0},{"$f":"ROUND('Income Statement'!RFC12,3)","v":0},{"$f":"ROUND('Income Statement'!RFD12,3)","v":0},{"$f":"ROUND('Income Statement'!RFE12,3)","v":0},{"$f":"ROUND('Income Statement'!RFF12,3)","v":0},{"$f":"ROUND('Income Statement'!RFG12,3)","v":0},{"$f":"ROUND('Income Statement'!RFH12,3)","v":0},{"$f":"ROUND('Income Statement'!RFI12,3)","v":0},{"$f":"ROUND('Income Statement'!RFJ12,3)","v":0},{"$f":"ROUND('Income Statement'!RFK12,3)","v":0},{"$f":"ROUND('Income Statement'!RFL12,3)","v":0},{"$f":"ROUND('Income Statement'!RFM12,3)","v":0},{"$f":"ROUND('Income Statement'!RFN12,3)","v":0},{"$f":"ROUND('Income Statement'!RFO12,3)","v":0},{"$f":"ROUND('Income Statement'!RFP12,3)","v":0},{"$f":"ROUND('Income Statement'!RFQ12,3)","v":0},{"$f":"ROUND('Income Statement'!RFR12,3)","v":0},{"$f":"ROUND('Income Statement'!RFS12,3)","v":0},{"$f":"ROUND('Income Statement'!RFT12,3)","v":0},{"$f":"ROUND('Income Statement'!RFU12,3)","v":0},{"$f":"ROUND('Income Statement'!RFV12,3)","v":0},{"$f":"ROUND('Income Statement'!RFW12,3)","v":0},{"$f":"ROUND('Income Statement'!RFX12,3)","v":0},{"$f":"ROUND('Income Statement'!RFY12,3)","v":0},{"$f":"ROUND('Income Statement'!RFZ12,3)","v":0},{"$f":"ROUND('Income Statement'!RGA12,3)","v":0},{"$f":"ROUND('Income Statement'!RGB12,3)","v":0},{"$f":"ROUND('Income Statement'!RGC12,3)","v":0},{"$f":"ROUND('Income Statement'!RGD12,3)","v":0},{"$f":"ROUND('Income Statement'!RGE12,3)","v":0},{"$f":"ROUND('Income Statement'!RGF12,3)","v":0},{"$f":"ROUND('Income Statement'!RGG12,3)","v":0},{"$f":"ROUND('Income Statement'!RGH12,3)","v":0},{"$f":"ROUND('Income Statement'!RGI12,3)","v":0},{"$f":"ROUND('Income Statement'!RGJ12,3)","v":0},{"$f":"ROUND('Income Statement'!RGK12,3)","v":0},{"$f":"ROUND('Income Statement'!RGL12,3)","v":0},{"$f":"ROUND('Income Statement'!RGM12,3)","v":0},{"$f":"ROUND('Income Statement'!RGN12,3)","v":0},{"$f":"ROUND('Income Statement'!RGO12,3)","v":0},{"$f":"ROUND('Income Statement'!RGP12,3)","v":0},{"$f":"ROUND('Income Statement'!RGQ12,3)","v":0},{"$f":"ROUND('Income Statement'!RGR12,3)","v":0},{"$f":"ROUND('Income Statement'!RGS12,3)","v":0},{"$f":"ROUND('Income Statement'!RGT12,3)","v":0},{"$f":"ROUND('Income Statement'!RGU12,3)","v":0},{"$f":"ROUND('Income Statement'!RGV12,3)","v":0},{"$f":"ROUND('Income Statement'!RGW12,3)","v":0},{"$f":"ROUND('Income Statement'!RGX12,3)","v":0},{"$f":"ROUND('Income Statement'!RGY12,3)","v":0},{"$f":"ROUND('Income Statement'!RGZ12,3)","v":0},{"$f":"ROUND('Income Statement'!RHA12,3)","v":0},{"$f":"ROUND('Income Statement'!RHB12,3)","v":0},{"$f":"ROUND('Income Statement'!RHC12,3)","v":0},{"$f":"ROUND('Income Statement'!RHD12,3)","v":0},{"$f":"ROUND('Income Statement'!RHE12,3)","v":0},{"$f":"ROUND('Income Statement'!RHF12,3)","v":0},{"$f":"ROUND('Income Statement'!RHG12,3)","v":0},{"$f":"ROUND('Income Statement'!RHH12,3)","v":0},{"$f":"ROUND('Income Statement'!RHI12,3)","v":0},{"$f":"ROUND('Income Statement'!RHJ12,3)","v":0},{"$f":"ROUND('Income Statement'!RHK12,3)","v":0},{"$f":"ROUND('Income Statement'!RHL12,3)","v":0},{"$f":"ROUND('Income Statement'!RHM12,3)","v":0},{"$f":"ROUND('Income Statement'!RHN12,3)","v":0},{"$f":"ROUND('Income Statement'!RHO12,3)","v":0},{"$f":"ROUND('Income Statement'!RHP12,3)","v":0},{"$f":"ROUND('Income Statement'!RHQ12,3)","v":0},{"$f":"ROUND('Income Statement'!RHR12,3)","v":0},{"$f":"ROUND('Income Statement'!RHS12,3)","v":0},{"$f":"ROUND('Income Statement'!RHT12,3)","v":0},{"$f":"ROUND('Income Statement'!RHU12,3)","v":0},{"$f":"ROUND('Income Statement'!RHV12,3)","v":0},{"$f":"ROUND('Income Statement'!RHW12,3)","v":0},{"$f":"ROUND('Income Statement'!RHX12,3)","v":0},{"$f":"ROUND('Income Statement'!RHY12,3)","v":0},{"$f":"ROUND('Income Statement'!RHZ12,3)","v":0},{"$f":"ROUND('Income Statement'!RIA12,3)","v":0},{"$f":"ROUND('Income Statement'!RIB12,3)","v":0},{"$f":"ROUND('Income Statement'!RIC12,3)","v":0},{"$f":"ROUND('Income Statement'!RID12,3)","v":0},{"$f":"ROUND('Income Statement'!RIE12,3)","v":0},{"$f":"ROUND('Income Statement'!RIF12,3)","v":0},{"$f":"ROUND('Income Statement'!RIG12,3)","v":0},{"$f":"ROUND('Income Statement'!RIH12,3)","v":0},{"$f":"ROUND('Income Statement'!RII12,3)","v":0},{"$f":"ROUND('Income Statement'!RIJ12,3)","v":0},{"$f":"ROUND('Income Statement'!RIK12,3)","v":0},{"$f":"ROUND('Income Statement'!RIL12,3)","v":0},{"$f":"ROUND('Income Statement'!RIM12,3)","v":0},{"$f":"ROUND('Income Statement'!RIN12,3)","v":0},{"$f":"ROUND('Income Statement'!RIO12,3)","v":0},{"$f":"ROUND('Income Statement'!RIP12,3)","v":0},{"$f":"ROUND('Income Statement'!RIQ12,3)","v":0},{"$f":"ROUND('Income Statement'!RIR12,3)","v":0},{"$f":"ROUND('Income Statement'!RIS12,3)","v":0},{"$f":"ROUND('Income Statement'!RIT12,3)","v":0},{"$f":"ROUND('Income Statement'!RIU12,3)","v":0},{"$f":"ROUND('Income Statement'!RIV12,3)","v":0},{"$f":"ROUND('Income Statement'!RIW12,3)","v":0},{"$f":"ROUND('Income Statement'!RIX12,3)","v":0},{"$f":"ROUND('Income Statement'!RIY12,3)","v":0},{"$f":"ROUND('Income Statement'!RIZ12,3)","v":0},{"$f":"ROUND('Income Statement'!RJA12,3)","v":0},{"$f":"ROUND('Income Statement'!RJB12,3)","v":0},{"$f":"ROUND('Income Statement'!RJC12,3)","v":0},{"$f":"ROUND('Income Statement'!RJD12,3)","v":0},{"$f":"ROUND('Income Statement'!RJE12,3)","v":0},{"$f":"ROUND('Income Statement'!RJF12,3)","v":0},{"$f":"ROUND('Income Statement'!RJG12,3)","v":0},{"$f":"ROUND('Income Statement'!RJH12,3)","v":0},{"$f":"ROUND('Income Statement'!RJI12,3)","v":0},{"$f":"ROUND('Income Statement'!RJJ12,3)","v":0},{"$f":"ROUND('Income Statement'!RJK12,3)","v":0},{"$f":"ROUND('Income Statement'!RJL12,3)","v":0},{"$f":"ROUND('Income Statement'!RJM12,3)","v":0},{"$f":"ROUND('Income Statement'!RJN12,3)","v":0},{"$f":"ROUND('Income Statement'!RJO12,3)","v":0},{"$f":"ROUND('Income Statement'!RJP12,3)","v":0},{"$f":"ROUND('Income Statement'!RJQ12,3)","v":0},{"$f":"ROUND('Income Statement'!RJR12,3)","v":0},{"$f":"ROUND('Income Statement'!RJS12,3)","v":0},{"$f":"ROUND('Income Statement'!RJT12,3)","v":0},{"$f":"ROUND('Income Statement'!RJU12,3)","v":0},{"$f":"ROUND('Income Statement'!RJV12,3)","v":0},{"$f":"ROUND('Income Statement'!RJW12,3)","v":0},{"$f":"ROUND('Income Statement'!RJX12,3)","v":0},{"$f":"ROUND('Income Statement'!RJY12,3)","v":0},{"$f":"ROUND('Income Statement'!RJZ12,3)","v":0},{"$f":"ROUND('Income Statement'!RKA12,3)","v":0},{"$f":"ROUND('Income Statement'!RKB12,3)","v":0},{"$f":"ROUND('Income Statement'!RKC12,3)","v":0},{"$f":"ROUND('Income Statement'!RKD12,3)","v":0},{"$f":"ROUND('Income Statement'!RKE12,3)","v":0},{"$f":"ROUND('Income Statement'!RKF12,3)","v":0},{"$f":"ROUND('Income Statement'!RKG12,3)","v":0},{"$f":"ROUND('Income Statement'!RKH12,3)","v":0},{"$f":"ROUND('Income Statement'!RKI12,3)","v":0},{"$f":"ROUND('Income Statement'!RKJ12,3)","v":0},{"$f":"ROUND('Income Statement'!RKK12,3)","v":0},{"$f":"ROUND('Income Statement'!RKL12,3)","v":0},{"$f":"ROUND('Income Statement'!RKM12,3)","v":0},{"$f":"ROUND('Income Statement'!RKN12,3)","v":0},{"$f":"ROUND('Income Statement'!RKO12,3)","v":0},{"$f":"ROUND('Income Statement'!RKP12,3)","v":0},{"$f":"ROUND('Income Statement'!RKQ12,3)","v":0},{"$f":"ROUND('Income Statement'!RKR12,3)","v":0},{"$f":"ROUND('Income Statement'!RKS12,3)","v":0},{"$f":"ROUND('Income Statement'!RKT12,3)","v":0},{"$f":"ROUND('Income Statement'!RKU12,3)","v":0},{"$f":"ROUND('Income Statement'!RKV12,3)","v":0},{"$f":"ROUND('Income Statement'!RKW12,3)","v":0},{"$f":"ROUND('Income Statement'!RKX12,3)","v":0},{"$f":"ROUND('Income Statement'!RKY12,3)","v":0},{"$f":"ROUND('Income Statement'!RKZ12,3)","v":0},{"$f":"ROUND('Income Statement'!RLA12,3)","v":0},{"$f":"ROUND('Income Statement'!RLB12,3)","v":0},{"$f":"ROUND('Income Statement'!RLC12,3)","v":0},{"$f":"ROUND('Income Statement'!RLD12,3)","v":0},{"$f":"ROUND('Income Statement'!RLE12,3)","v":0},{"$f":"ROUND('Income Statement'!RLF12,3)","v":0},{"$f":"ROUND('Income Statement'!RLG12,3)","v":0},{"$f":"ROUND('Income Statement'!RLH12,3)","v":0},{"$f":"ROUND('Income Statement'!RLI12,3)","v":0},{"$f":"ROUND('Income Statement'!RLJ12,3)","v":0},{"$f":"ROUND('Income Statement'!RLK12,3)","v":0},{"$f":"ROUND('Income Statement'!RLL12,3)","v":0},{"$f":"ROUND('Income Statement'!RLM12,3)","v":0},{"$f":"ROUND('Income Statement'!RLN12,3)","v":0},{"$f":"ROUND('Income Statement'!RLO12,3)","v":0},{"$f":"ROUND('Income Statement'!RLP12,3)","v":0},{"$f":"ROUND('Income Statement'!RLQ12,3)","v":0},{"$f":"ROUND('Income Statement'!RLR12,3)","v":0},{"$f":"ROUND('Income Statement'!RLS12,3)","v":0},{"$f":"ROUND('Income Statement'!RLT12,3)","v":0},{"$f":"ROUND('Income Statement'!RLU12,3)","v":0},{"$f":"ROUND('Income Statement'!RLV12,3)","v":0},{"$f":"ROUND('Income Statement'!RLW12,3)","v":0},{"$f":"ROUND('Income Statement'!RLX12,3)","v":0},{"$f":"ROUND('Income Statement'!RLY12,3)","v":0},{"$f":"ROUND('Income Statement'!RLZ12,3)","v":0},{"$f":"ROUND('Income Statement'!RMA12,3)","v":0},{"$f":"ROUND('Income Statement'!RMB12,3)","v":0},{"$f":"ROUND('Income Statement'!RMC12,3)","v":0},{"$f":"ROUND('Income Statement'!RMD12,3)","v":0},{"$f":"ROUND('Income Statement'!RME12,3)","v":0},{"$f":"ROUND('Income Statement'!RMF12,3)","v":0},{"$f":"ROUND('Income Statement'!RMG12,3)","v":0},{"$f":"ROUND('Income Statement'!RMH12,3)","v":0},{"$f":"ROUND('Income Statement'!RMI12,3)","v":0},{"$f":"ROUND('Income Statement'!RMJ12,3)","v":0},{"$f":"ROUND('Income Statement'!RMK12,3)","v":0},{"$f":"ROUND('Income Statement'!RML12,3)","v":0},{"$f":"ROUND('Income Statement'!RMM12,3)","v":0},{"$f":"ROUND('Income Statement'!RMN12,3)","v":0},{"$f":"ROUND('Income Statement'!RMO12,3)","v":0},{"$f":"ROUND('Income Statement'!RMP12,3)","v":0},{"$f":"ROUND('Income Statement'!RMQ12,3)","v":0},{"$f":"ROUND('Income Statement'!RMR12,3)","v":0},{"$f":"ROUND('Income Statement'!RMS12,3)","v":0},{"$f":"ROUND('Income Statement'!RMT12,3)","v":0},{"$f":"ROUND('Income Statement'!RMU12,3)","v":0},{"$f":"ROUND('Income Statement'!RMV12,3)","v":0},{"$f":"ROUND('Income Statement'!RMW12,3)","v":0},{"$f":"ROUND('Income Statement'!RMX12,3)","v":0},{"$f":"ROUND('Income Statement'!RMY12,3)","v":0},{"$f":"ROUND('Income Statement'!RMZ12,3)","v":0},{"$f":"ROUND('Income Statement'!RNA12,3)","v":0},{"$f":"ROUND('Income Statement'!RNB12,3)","v":0},{"$f":"ROUND('Income Statement'!RNC12,3)","v":0},{"$f":"ROUND('Income Statement'!RND12,3)","v":0},{"$f":"ROUND('Income Statement'!RNE12,3)","v":0},{"$f":"ROUND('Income Statement'!RNF12,3)","v":0},{"$f":"ROUND('Income Statement'!RNG12,3)","v":0},{"$f":"ROUND('Income Statement'!RNH12,3)","v":0},{"$f":"ROUND('Income Statement'!RNI12,3)","v":0},{"$f":"ROUND('Income Statement'!RNJ12,3)","v":0},{"$f":"ROUND('Income Statement'!RNK12,3)","v":0},{"$f":"ROUND('Income Statement'!RNL12,3)","v":0},{"$f":"ROUND('Income Statement'!RNM12,3)","v":0},{"$f":"ROUND('Income Statement'!RNN12,3)","v":0},{"$f":"ROUND('Income Statement'!RNO12,3)","v":0},{"$f":"ROUND('Income Statement'!RNP12,3)","v":0},{"$f":"ROUND('Income Statement'!RNQ12,3)","v":0},{"$f":"ROUND('Income Statement'!RNR12,3)","v":0},{"$f":"ROUND('Income Statement'!RNS12,3)","v":0},{"$f":"ROUND('Income Statement'!RNT12,3)","v":0},{"$f":"ROUND('Income Statement'!RNU12,3)","v":0},{"$f":"ROUND('Income Statement'!RNV12,3)","v":0},{"$f":"ROUND('Income Statement'!RNW12,3)","v":0},{"$f":"ROUND('Income Statement'!RNX12,3)","v":0},{"$f":"ROUND('Income Statement'!RNY12,3)","v":0},{"$f":"ROUND('Income Statement'!RNZ12,3)","v":0},{"$f":"ROUND('Income Statement'!ROA12,3)","v":0},{"$f":"ROUND('Income Statement'!ROB12,3)","v":0},{"$f":"ROUND('Income Statement'!ROC12,3)","v":0},{"$f":"ROUND('Income Statement'!ROD12,3)","v":0},{"$f":"ROUND('Income Statement'!ROE12,3)","v":0},{"$f":"ROUND('Income Statement'!ROF12,3)","v":0},{"$f":"ROUND('Income Statement'!ROG12,3)","v":0},{"$f":"ROUND('Income Statement'!ROH12,3)","v":0},{"$f":"ROUND('Income Statement'!ROI12,3)","v":0},{"$f":"ROUND('Income Statement'!ROJ12,3)","v":0},{"$f":"ROUND('Income Statement'!ROK12,3)","v":0},{"$f":"ROUND('Income Statement'!ROL12,3)","v":0},{"$f":"ROUND('Income Statement'!ROM12,3)","v":0},{"$f":"ROUND('Income Statement'!RON12,3)","v":0},{"$f":"ROUND('Income Statement'!ROO12,3)","v":0},{"$f":"ROUND('Income Statement'!ROP12,3)","v":0},{"$f":"ROUND('Income Statement'!ROQ12,3)","v":0},{"$f":"ROUND('Income Statement'!ROR12,3)","v":0},{"$f":"ROUND('Income Statement'!ROS12,3)","v":0},{"$f":"ROUND('Income Statement'!ROT12,3)","v":0},{"$f":"ROUND('Income Statement'!ROU12,3)","v":0},{"$f":"ROUND('Income Statement'!ROV12,3)","v":0},{"$f":"ROUND('Income Statement'!ROW12,3)","v":0},{"$f":"ROUND('Income Statement'!ROX12,3)","v":0},{"$f":"ROUND('Income Statement'!ROY12,3)","v":0},{"$f":"ROUND('Income Statement'!ROZ12,3)","v":0},{"$f":"ROUND('Income Statement'!RPA12,3)","v":0},{"$f":"ROUND('Income Statement'!RPB12,3)","v":0},{"$f":"ROUND('Income Statement'!RPC12,3)","v":0},{"$f":"ROUND('Income Statement'!RPD12,3)","v":0},{"$f":"ROUND('Income Statement'!RPE12,3)","v":0},{"$f":"ROUND('Income Statement'!RPF12,3)","v":0},{"$f":"ROUND('Income Statement'!RPG12,3)","v":0},{"$f":"ROUND('Income Statement'!RPH12,3)","v":0},{"$f":"ROUND('Income Statement'!RPI12,3)","v":0},{"$f":"ROUND('Income Statement'!RPJ12,3)","v":0},{"$f":"ROUND('Income Statement'!RPK12,3)","v":0},{"$f":"ROUND('Income Statement'!RPL12,3)","v":0},{"$f":"ROUND('Income Statement'!RPM12,3)","v":0},{"$f":"ROUND('Income Statement'!RPN12,3)","v":0},{"$f":"ROUND('Income Statement'!RPO12,3)","v":0},{"$f":"ROUND('Income Statement'!RPP12,3)","v":0},{"$f":"ROUND('Income Statement'!RPQ12,3)","v":0},{"$f":"ROUND('Income Statement'!RPR12,3)","v":0},{"$f":"ROUND('Income Statement'!RPS12,3)","v":0},{"$f":"ROUND('Income Statement'!RPT12,3)","v":0},{"$f":"ROUND('Income Statement'!RPU12,3)","v":0},{"$f":"ROUND('Income Statement'!RPV12,3)","v":0},{"$f":"ROUND('Income Statement'!RPW12,3)","v":0},{"$f":"ROUND('Income Statement'!RPX12,3)","v":0},{"$f":"ROUND('Income Statement'!RPY12,3)","v":0},{"$f":"ROUND('Income Statement'!RPZ12,3)","v":0},{"$f":"ROUND('Income Statement'!RQA12,3)","v":0},{"$f":"ROUND('Income Statement'!RQB12,3)","v":0},{"$f":"ROUND('Income Statement'!RQC12,3)","v":0},{"$f":"ROUND('Income Statement'!RQD12,3)","v":0},{"$f":"ROUND('Income Statement'!RQE12,3)","v":0},{"$f":"ROUND('Income Statement'!RQF12,3)","v":0},{"$f":"ROUND('Income Statement'!RQG12,3)","v":0},{"$f":"ROUND('Income Statement'!RQH12,3)","v":0},{"$f":"ROUND('Income Statement'!RQI12,3)","v":0},{"$f":"ROUND('Income Statement'!RQJ12,3)","v":0},{"$f":"ROUND('Income Statement'!RQK12,3)","v":0},{"$f":"ROUND('Income Statement'!RQL12,3)","v":0},{"$f":"ROUND('Income Statement'!RQM12,3)","v":0},{"$f":"ROUND('Income Statement'!RQN12,3)","v":0},{"$f":"ROUND('Income Statement'!RQO12,3)","v":0},{"$f":"ROUND('Income Statement'!RQP12,3)","v":0},{"$f":"ROUND('Income Statement'!RQQ12,3)","v":0},{"$f":"ROUND('Income Statement'!RQR12,3)","v":0},{"$f":"ROUND('Income Statement'!RQS12,3)","v":0},{"$f":"ROUND('Income Statement'!RQT12,3)","v":0},{"$f":"ROUND('Income Statement'!RQU12,3)","v":0},{"$f":"ROUND('Income Statement'!RQV12,3)","v":0},{"$f":"ROUND('Income Statement'!RQW12,3)","v":0},{"$f":"ROUND('Income Statement'!RQX12,3)","v":0},{"$f":"ROUND('Income Statement'!RQY12,3)","v":0},{"$f":"ROUND('Income Statement'!RQZ12,3)","v":0},{"$f":"ROUND('Income Statement'!RRA12,3)","v":0},{"$f":"ROUND('Income Statement'!RRB12,3)","v":0},{"$f":"ROUND('Income Statement'!RRC12,3)","v":0},{"$f":"ROUND('Income Statement'!RRD12,3)","v":0},{"$f":"ROUND('Income Statement'!RRE12,3)","v":0},{"$f":"ROUND('Income Statement'!RRF12,3)","v":0},{"$f":"ROUND('Income Statement'!RRG12,3)","v":0},{"$f":"ROUND('Income Statement'!RRH12,3)","v":0},{"$f":"ROUND('Income Statement'!RRI12,3)","v":0},{"$f":"ROUND('Income Statement'!RRJ12,3)","v":0},{"$f":"ROUND('Income Statement'!RRK12,3)","v":0},{"$f":"ROUND('Income Statement'!RRL12,3)","v":0},{"$f":"ROUND('Income Statement'!RRM12,3)","v":0},{"$f":"ROUND('Income Statement'!RRN12,3)","v":0},{"$f":"ROUND('Income Statement'!RRO12,3)","v":0},{"$f":"ROUND('Income Statement'!RRP12,3)","v":0},{"$f":"ROUND('Income Statement'!RRQ12,3)","v":0},{"$f":"ROUND('Income Statement'!RRR12,3)","v":0},{"$f":"ROUND('Income Statement'!RRS12,3)","v":0},{"$f":"ROUND('Income Statement'!RRT12,3)","v":0},{"$f":"ROUND('Income Statement'!RRU12,3)","v":0},{"$f":"ROUND('Income Statement'!RRV12,3)","v":0},{"$f":"ROUND('Income Statement'!RRW12,3)","v":0},{"$f":"ROUND('Income Statement'!RRX12,3)","v":0},{"$f":"ROUND('Income Statement'!RRY12,3)","v":0},{"$f":"ROUND('Income Statement'!RRZ12,3)","v":0},{"$f":"ROUND('Income Statement'!RSA12,3)","v":0},{"$f":"ROUND('Income Statement'!RSB12,3)","v":0},{"$f":"ROUND('Income Statement'!RSC12,3)","v":0},{"$f":"ROUND('Income Statement'!RSD12,3)","v":0},{"$f":"ROUND('Income Statement'!RSE12,3)","v":0},{"$f":"ROUND('Income Statement'!RSF12,3)","v":0},{"$f":"ROUND('Income Statement'!RSG12,3)","v":0},{"$f":"ROUND('Income Statement'!RSH12,3)","v":0},{"$f":"ROUND('Income Statement'!RSI12,3)","v":0},{"$f":"ROUND('Income Statement'!RSJ12,3)","v":0},{"$f":"ROUND('Income Statement'!RSK12,3)","v":0},{"$f":"ROUND('Income Statement'!RSL12,3)","v":0},{"$f":"ROUND('Income Statement'!RSM12,3)","v":0},{"$f":"ROUND('Income Statement'!RSN12,3)","v":0},{"$f":"ROUND('Income Statement'!RSO12,3)","v":0},{"$f":"ROUND('Income Statement'!RSP12,3)","v":0},{"$f":"ROUND('Income Statement'!RSQ12,3)","v":0},{"$f":"ROUND('Income Statement'!RSR12,3)","v":0},{"$f":"ROUND('Income Statement'!RSS12,3)","v":0},{"$f":"ROUND('Income Statement'!RST12,3)","v":0},{"$f":"ROUND('Income Statement'!RSU12,3)","v":0},{"$f":"ROUND('Income Statement'!RSV12,3)","v":0},{"$f":"ROUND('Income Statement'!RSW12,3)","v":0},{"$f":"ROUND('Income Statement'!RSX12,3)","v":0},{"$f":"ROUND('Income Statement'!RSY12,3)","v":0},{"$f":"ROUND('Income Statement'!RSZ12,3)","v":0},{"$f":"ROUND('Income Statement'!RTA12,3)","v":0},{"$f":"ROUND('Income Statement'!RTB12,3)","v":0},{"$f":"ROUND('Income Statement'!RTC12,3)","v":0},{"$f":"ROUND('Income Statement'!RTD12,3)","v":0},{"$f":"ROUND('Income Statement'!RTE12,3)","v":0},{"$f":"ROUND('Income Statement'!RTF12,3)","v":0},{"$f":"ROUND('Income Statement'!RTG12,3)","v":0},{"$f":"ROUND('Income Statement'!RTH12,3)","v":0},{"$f":"ROUND('Income Statement'!RTI12,3)","v":0},{"$f":"ROUND('Income Statement'!RTJ12,3)","v":0},{"$f":"ROUND('Income Statement'!RTK12,3)","v":0},{"$f":"ROUND('Income Statement'!RTL12,3)","v":0},{"$f":"ROUND('Income Statement'!RTM12,3)","v":0},{"$f":"ROUND('Income Statement'!RTN12,3)","v":0},{"$f":"ROUND('Income Statement'!RTO12,3)","v":0},{"$f":"ROUND('Income Statement'!RTP12,3)","v":0},{"$f":"ROUND('Income Statement'!RTQ12,3)","v":0},{"$f":"ROUND('Income Statement'!RTR12,3)","v":0},{"$f":"ROUND('Income Statement'!RTS12,3)","v":0},{"$f":"ROUND('Income Statement'!RTT12,3)","v":0},{"$f":"ROUND('Income Statement'!RTU12,3)","v":0},{"$f":"ROUND('Income Statement'!RTV12,3)","v":0},{"$f":"ROUND('Income Statement'!RTW12,3)","v":0},{"$f":"ROUND('Income Statement'!RTX12,3)","v":0},{"$f":"ROUND('Income Statement'!RTY12,3)","v":0},{"$f":"ROUND('Income Statement'!RTZ12,3)","v":0},{"$f":"ROUND('Income Statement'!RUA12,3)","v":0},{"$f":"ROUND('Income Statement'!RUB12,3)","v":0},{"$f":"ROUND('Income Statement'!RUC12,3)","v":0},{"$f":"ROUND('Income Statement'!RUD12,3)","v":0},{"$f":"ROUND('Income Statement'!RUE12,3)","v":0},{"$f":"ROUND('Income Statement'!RUF12,3)","v":0},{"$f":"ROUND('Income Statement'!RUG12,3)","v":0},{"$f":"ROUND('Income Statement'!RUH12,3)","v":0},{"$f":"ROUND('Income Statement'!RUI12,3)","v":0},{"$f":"ROUND('Income Statement'!RUJ12,3)","v":0},{"$f":"ROUND('Income Statement'!RUK12,3)","v":0},{"$f":"ROUND('Income Statement'!RUL12,3)","v":0},{"$f":"ROUND('Income Statement'!RUM12,3)","v":0},{"$f":"ROUND('Income Statement'!RUN12,3)","v":0},{"$f":"ROUND('Income Statement'!RUO12,3)","v":0},{"$f":"ROUND('Income Statement'!RUP12,3)","v":0},{"$f":"ROUND('Income Statement'!RUQ12,3)","v":0},{"$f":"ROUND('Income Statement'!RUR12,3)","v":0},{"$f":"ROUND('Income Statement'!RUS12,3)","v":0},{"$f":"ROUND('Income Statement'!RUT12,3)","v":0},{"$f":"ROUND('Income Statement'!RUU12,3)","v":0},{"$f":"ROUND('Income Statement'!RUV12,3)","v":0},{"$f":"ROUND('Income Statement'!RUW12,3)","v":0},{"$f":"ROUND('Income Statement'!RUX12,3)","v":0},{"$f":"ROUND('Income Statement'!RUY12,3)","v":0},{"$f":"ROUND('Income Statement'!RUZ12,3)","v":0},{"$f":"ROUND('Income Statement'!RVA12,3)","v":0},{"$f":"ROUND('Income Statement'!RVB12,3)","v":0},{"$f":"ROUND('Income Statement'!RVC12,3)","v":0},{"$f":"ROUND('Income Statement'!RVD12,3)","v":0},{"$f":"ROUND('Income Statement'!RVE12,3)","v":0},{"$f":"ROUND('Income Statement'!RVF12,3)","v":0},{"$f":"ROUND('Income Statement'!RVG12,3)","v":0},{"$f":"ROUND('Income Statement'!RVH12,3)","v":0},{"$f":"ROUND('Income Statement'!RVI12,3)","v":0},{"$f":"ROUND('Income Statement'!RVJ12,3)","v":0},{"$f":"ROUND('Income Statement'!RVK12,3)","v":0},{"$f":"ROUND('Income Statement'!RVL12,3)","v":0},{"$f":"ROUND('Income Statement'!RVM12,3)","v":0},{"$f":"ROUND('Income Statement'!RVN12,3)","v":0},{"$f":"ROUND('Income Statement'!RVO12,3)","v":0},{"$f":"ROUND('Income Statement'!RVP12,3)","v":0},{"$f":"ROUND('Income Statement'!RVQ12,3)","v":0},{"$f":"ROUND('Income Statement'!RVR12,3)","v":0},{"$f":"ROUND('Income Statement'!RVS12,3)","v":0},{"$f":"ROUND('Income Statement'!RVT12,3)","v":0},{"$f":"ROUND('Income Statement'!RVU12,3)","v":0},{"$f":"ROUND('Income Statement'!RVV12,3)","v":0},{"$f":"ROUND('Income Statement'!RVW12,3)","v":0},{"$f":"ROUND('Income Statement'!RVX12,3)","v":0},{"$f":"ROUND('Income Statement'!RVY12,3)","v":0},{"$f":"ROUND('Income Statement'!RVZ12,3)","v":0},{"$f":"ROUND('Income Statement'!RWA12,3)","v":0},{"$f":"ROUND('Income Statement'!RWB12,3)","v":0},{"$f":"ROUND('Income Statement'!RWC12,3)","v":0},{"$f":"ROUND('Income Statement'!RWD12,3)","v":0},{"$f":"ROUND('Income Statement'!RWE12,3)","v":0},{"$f":"ROUND('Income Statement'!RWF12,3)","v":0},{"$f":"ROUND('Income Statement'!RWG12,3)","v":0},{"$f":"ROUND('Income Statement'!RWH12,3)","v":0},{"$f":"ROUND('Income Statement'!RWI12,3)","v":0},{"$f":"ROUND('Income Statement'!RWJ12,3)","v":0},{"$f":"ROUND('Income Statement'!RWK12,3)","v":0},{"$f":"ROUND('Income Statement'!RWL12,3)","v":0},{"$f":"ROUND('Income Statement'!RWM12,3)","v":0},{"$f":"ROUND('Income Statement'!RWN12,3)","v":0},{"$f":"ROUND('Income Statement'!RWO12,3)","v":0},{"$f":"ROUND('Income Statement'!RWP12,3)","v":0},{"$f":"ROUND('Income Statement'!RWQ12,3)","v":0},{"$f":"ROUND('Income Statement'!RWR12,3)","v":0},{"$f":"ROUND('Income Statement'!RWS12,3)","v":0},{"$f":"ROUND('Income Statement'!RWT12,3)","v":0},{"$f":"ROUND('Income Statement'!RWU12,3)","v":0},{"$f":"ROUND('Income Statement'!RWV12,3)","v":0},{"$f":"ROUND('Income Statement'!RWW12,3)","v":0},{"$f":"ROUND('Income Statement'!RWX12,3)","v":0},{"$f":"ROUND('Income Statement'!RWY12,3)","v":0},{"$f":"ROUND('Income Statement'!RWZ12,3)","v":0},{"$f":"ROUND('Income Statement'!RXA12,3)","v":0},{"$f":"ROUND('Income Statement'!RXB12,3)","v":0},{"$f":"ROUND('Income Statement'!RXC12,3)","v":0},{"$f":"ROUND('Income Statement'!RXD12,3)","v":0},{"$f":"ROUND('Income Statement'!RXE12,3)","v":0},{"$f":"ROUND('Income Statement'!RXF12,3)","v":0},{"$f":"ROUND('Income Statement'!RXG12,3)","v":0},{"$f":"ROUND('Income Statement'!RXH12,3)","v":0},{"$f":"ROUND('Income Statement'!RXI12,3)","v":0},{"$f":"ROUND('Income Statement'!RXJ12,3)","v":0},{"$f":"ROUND('Income Statement'!RXK12,3)","v":0},{"$f":"ROUND('Income Statement'!RXL12,3)","v":0},{"$f":"ROUND('Income Statement'!RXM12,3)","v":0},{"$f":"ROUND('Income Statement'!RXN12,3)","v":0},{"$f":"ROUND('Income Statement'!RXO12,3)","v":0},{"$f":"ROUND('Income Statement'!RXP12,3)","v":0},{"$f":"ROUND('Income Statement'!RXQ12,3)","v":0},{"$f":"ROUND('Income Statement'!RXR12,3)","v":0},{"$f":"ROUND('Income Statement'!RXS12,3)","v":0},{"$f":"ROUND('Income Statement'!RXT12,3)","v":0},{"$f":"ROUND('Income Statement'!RXU12,3)","v":0},{"$f":"ROUND('Income Statement'!RXV12,3)","v":0},{"$f":"ROUND('Income Statement'!RXW12,3)","v":0},{"$f":"ROUND('Income Statement'!RXX12,3)","v":0},{"$f":"ROUND('Income Statement'!RXY12,3)","v":0},{"$f":"ROUND('Income Statement'!RXZ12,3)","v":0},{"$f":"ROUND('Income Statement'!RYA12,3)","v":0},{"$f":"ROUND('Income Statement'!RYB12,3)","v":0},{"$f":"ROUND('Income Statement'!RYC12,3)","v":0},{"$f":"ROUND('Income Statement'!RYD12,3)","v":0},{"$f":"ROUND('Income Statement'!RYE12,3)","v":0},{"$f":"ROUND('Income Statement'!RYF12,3)","v":0},{"$f":"ROUND('Income Statement'!RYG12,3)","v":0},{"$f":"ROUND('Income Statement'!RYH12,3)","v":0},{"$f":"ROUND('Income Statement'!RYI12,3)","v":0},{"$f":"ROUND('Income Statement'!RYJ12,3)","v":0},{"$f":"ROUND('Income Statement'!RYK12,3)","v":0},{"$f":"ROUND('Income Statement'!RYL12,3)","v":0},{"$f":"ROUND('Income Statement'!RYM12,3)","v":0},{"$f":"ROUND('Income Statement'!RYN12,3)","v":0},{"$f":"ROUND('Income Statement'!RYO12,3)","v":0},{"$f":"ROUND('Income Statement'!RYP12,3)","v":0},{"$f":"ROUND('Income Statement'!RYQ12,3)","v":0},{"$f":"ROUND('Income Statement'!RYR12,3)","v":0},{"$f":"ROUND('Income Statement'!RYS12,3)","v":0},{"$f":"ROUND('Income Statement'!RYT12,3)","v":0},{"$f":"ROUND('Income Statement'!RYU12,3)","v":0},{"$f":"ROUND('Income Statement'!RYV12,3)","v":0},{"$f":"ROUND('Income Statement'!RYW12,3)","v":0},{"$f":"ROUND('Income Statement'!RYX12,3)","v":0},{"$f":"ROUND('Income Statement'!RYY12,3)","v":0},{"$f":"ROUND('Income Statement'!RYZ12,3)","v":0},{"$f":"ROUND('Income Statement'!RZA12,3)","v":0},{"$f":"ROUND('Income Statement'!RZB12,3)","v":0},{"$f":"ROUND('Income Statement'!RZC12,3)","v":0},{"$f":"ROUND('Income Statement'!RZD12,3)","v":0},{"$f":"ROUND('Income Statement'!RZE12,3)","v":0},{"$f":"ROUND('Income Statement'!RZF12,3)","v":0},{"$f":"ROUND('Income Statement'!RZG12,3)","v":0},{"$f":"ROUND('Income Statement'!RZH12,3)","v":0},{"$f":"ROUND('Income Statement'!RZI12,3)","v":0},{"$f":"ROUND('Income Statement'!RZJ12,3)","v":0},{"$f":"ROUND('Income Statement'!RZK12,3)","v":0},{"$f":"ROUND('Income Statement'!RZL12,3)","v":0},{"$f":"ROUND('Income Statement'!RZM12,3)","v":0},{"$f":"ROUND('Income Statement'!RZN12,3)","v":0},{"$f":"ROUND('Income Statement'!RZO12,3)","v":0},{"$f":"ROUND('Income Statement'!RZP12,3)","v":0},{"$f":"ROUND('Income Statement'!RZQ12,3)","v":0},{"$f":"ROUND('Income Statement'!RZR12,3)","v":0},{"$f":"ROUND('Income Statement'!RZS12,3)","v":0},{"$f":"ROUND('Income Statement'!RZT12,3)","v":0},{"$f":"ROUND('Income Statement'!RZU12,3)","v":0},{"$f":"ROUND('Income Statement'!RZV12,3)","v":0},{"$f":"ROUND('Income Statement'!RZW12,3)","v":0},{"$f":"ROUND('Income Statement'!RZX12,3)","v":0},{"$f":"ROUND('Income Statement'!RZY12,3)","v":0},{"$f":"ROUND('Income Statement'!RZZ12,3)","v":0},{"$f":"ROUND('Income Statement'!SAA12,3)","v":0},{"$f":"ROUND('Income Statement'!SAB12,3)","v":0},{"$f":"ROUND('Income Statement'!SAC12,3)","v":0},{"$f":"ROUND('Income Statement'!SAD12,3)","v":0},{"$f":"ROUND('Income Statement'!SAE12,3)","v":0},{"$f":"ROUND('Income Statement'!SAF12,3)","v":0},{"$f":"ROUND('Income Statement'!SAG12,3)","v":0},{"$f":"ROUND('Income Statement'!SAH12,3)","v":0},{"$f":"ROUND('Income Statement'!SAI12,3)","v":0},{"$f":"ROUND('Income Statement'!SAJ12,3)","v":0},{"$f":"ROUND('Income Statement'!SAK12,3)","v":0},{"$f":"ROUND('Income Statement'!SAL12,3)","v":0},{"$f":"ROUND('Income Statement'!SAM12,3)","v":0},{"$f":"ROUND('Income Statement'!SAN12,3)","v":0},{"$f":"ROUND('Income Statement'!SAO12,3)","v":0},{"$f":"ROUND('Income Statement'!SAP12,3)","v":0},{"$f":"ROUND('Income Statement'!SAQ12,3)","v":0},{"$f":"ROUND('Income Statement'!SAR12,3)","v":0},{"$f":"ROUND('Income Statement'!SAS12,3)","v":0},{"$f":"ROUND('Income Statement'!SAT12,3)","v":0},{"$f":"ROUND('Income Statement'!SAU12,3)","v":0},{"$f":"ROUND('Income Statement'!SAV12,3)","v":0},{"$f":"ROUND('Income Statement'!SAW12,3)","v":0},{"$f":"ROUND('Income Statement'!SAX12,3)","v":0},{"$f":"ROUND('Income Statement'!SAY12,3)","v":0},{"$f":"ROUND('Income Statement'!SAZ12,3)","v":0},{"$f":"ROUND('Income Statement'!SBA12,3)","v":0},{"$f":"ROUND('Income Statement'!SBB12,3)","v":0},{"$f":"ROUND('Income Statement'!SBC12,3)","v":0},{"$f":"ROUND('Income Statement'!SBD12,3)","v":0},{"$f":"ROUND('Income Statement'!SBE12,3)","v":0},{"$f":"ROUND('Income Statement'!SBF12,3)","v":0},{"$f":"ROUND('Income Statement'!SBG12,3)","v":0},{"$f":"ROUND('Income Statement'!SBH12,3)","v":0},{"$f":"ROUND('Income Statement'!SBI12,3)","v":0},{"$f":"ROUND('Income Statement'!SBJ12,3)","v":0},{"$f":"ROUND('Income Statement'!SBK12,3)","v":0},{"$f":"ROUND('Income Statement'!SBL12,3)","v":0},{"$f":"ROUND('Income Statement'!SBM12,3)","v":0},{"$f":"ROUND('Income Statement'!SBN12,3)","v":0},{"$f":"ROUND('Income Statement'!SBO12,3)","v":0},{"$f":"ROUND('Income Statement'!SBP12,3)","v":0},{"$f":"ROUND('Income Statement'!SBQ12,3)","v":0},{"$f":"ROUND('Income Statement'!SBR12,3)","v":0},{"$f":"ROUND('Income Statement'!SBS12,3)","v":0},{"$f":"ROUND('Income Statement'!SBT12,3)","v":0},{"$f":"ROUND('Income Statement'!SBU12,3)","v":0},{"$f":"ROUND('Income Statement'!SBV12,3)","v":0},{"$f":"ROUND('Income Statement'!SBW12,3)","v":0},{"$f":"ROUND('Income Statement'!SBX12,3)","v":0},{"$f":"ROUND('Income Statement'!SBY12,3)","v":0},{"$f":"ROUND('Income Statement'!SBZ12,3)","v":0},{"$f":"ROUND('Income Statement'!SCA12,3)","v":0},{"$f":"ROUND('Income Statement'!SCB12,3)","v":0},{"$f":"ROUND('Income Statement'!SCC12,3)","v":0},{"$f":"ROUND('Income Statement'!SCD12,3)","v":0},{"$f":"ROUND('Income Statement'!SCE12,3)","v":0},{"$f":"ROUND('Income Statement'!SCF12,3)","v":0},{"$f":"ROUND('Income Statement'!SCG12,3)","v":0},{"$f":"ROUND('Income Statement'!SCH12,3)","v":0},{"$f":"ROUND('Income Statement'!SCI12,3)","v":0},{"$f":"ROUND('Income Statement'!SCJ12,3)","v":0},{"$f":"ROUND('Income Statement'!SCK12,3)","v":0},{"$f":"ROUND('Income Statement'!SCL12,3)","v":0},{"$f":"ROUND('Income Statement'!SCM12,3)","v":0},{"$f":"ROUND('Income Statement'!SCN12,3)","v":0},{"$f":"ROUND('Income Statement'!SCO12,3)","v":0},{"$f":"ROUND('Income Statement'!SCP12,3)","v":0},{"$f":"ROUND('Income Statement'!SCQ12,3)","v":0},{"$f":"ROUND('Income Statement'!SCR12,3)","v":0},{"$f":"ROUND('Income Statement'!SCS12,3)","v":0},{"$f":"ROUND('Income Statement'!SCT12,3)","v":0},{"$f":"ROUND('Income Statement'!SCU12,3)","v":0},{"$f":"ROUND('Income Statement'!SCV12,3)","v":0},{"$f":"ROUND('Income Statement'!SCW12,3)","v":0},{"$f":"ROUND('Income Statement'!SCX12,3)","v":0},{"$f":"ROUND('Income Statement'!SCY12,3)","v":0},{"$f":"ROUND('Income Statement'!SCZ12,3)","v":0},{"$f":"ROUND('Income Statement'!SDA12,3)","v":0},{"$f":"ROUND('Income Statement'!SDB12,3)","v":0},{"$f":"ROUND('Income Statement'!SDC12,3)","v":0},{"$f":"ROUND('Income Statement'!SDD12,3)","v":0},{"$f":"ROUND('Income Statement'!SDE12,3)","v":0},{"$f":"ROUND('Income Statement'!SDF12,3)","v":0},{"$f":"ROUND('Income Statement'!SDG12,3)","v":0},{"$f":"ROUND('Income Statement'!SDH12,3)","v":0},{"$f":"ROUND('Income Statement'!SDI12,3)","v":0},{"$f":"ROUND('Income Statement'!SDJ12,3)","v":0},{"$f":"ROUND('Income Statement'!SDK12,3)","v":0},{"$f":"ROUND('Income Statement'!SDL12,3)","v":0},{"$f":"ROUND('Income Statement'!SDM12,3)","v":0},{"$f":"ROUND('Income Statement'!SDN12,3)","v":0},{"$f":"ROUND('Income Statement'!SDO12,3)","v":0},{"$f":"ROUND('Income Statement'!SDP12,3)","v":0},{"$f":"ROUND('Income Statement'!SDQ12,3)","v":0},{"$f":"ROUND('Income Statement'!SDR12,3)","v":0},{"$f":"ROUND('Income Statement'!SDS12,3)","v":0},{"$f":"ROUND('Income Statement'!SDT12,3)","v":0},{"$f":"ROUND('Income Statement'!SDU12,3)","v":0},{"$f":"ROUND('Income Statement'!SDV12,3)","v":0},{"$f":"ROUND('Income Statement'!SDW12,3)","v":0},{"$f":"ROUND('Income Statement'!SDX12,3)","v":0},{"$f":"ROUND('Income Statement'!SDY12,3)","v":0},{"$f":"ROUND('Income Statement'!SDZ12,3)","v":0},{"$f":"ROUND('Income Statement'!SEA12,3)","v":0},{"$f":"ROUND('Income Statement'!SEB12,3)","v":0},{"$f":"ROUND('Income Statement'!SEC12,3)","v":0},{"$f":"ROUND('Income Statement'!SED12,3)","v":0},{"$f":"ROUND('Income Statement'!SEE12,3)","v":0},{"$f":"ROUND('Income Statement'!SEF12,3)","v":0},{"$f":"ROUND('Income Statement'!SEG12,3)","v":0},{"$f":"ROUND('Income Statement'!SEH12,3)","v":0},{"$f":"ROUND('Income Statement'!SEI12,3)","v":0},{"$f":"ROUND('Income Statement'!SEJ12,3)","v":0},{"$f":"ROUND('Income Statement'!SEK12,3)","v":0},{"$f":"ROUND('Income Statement'!SEL12,3)","v":0},{"$f":"ROUND('Income Statement'!SEM12,3)","v":0},{"$f":"ROUND('Income Statement'!SEN12,3)","v":0},{"$f":"ROUND('Income Statement'!SEO12,3)","v":0},{"$f":"ROUND('Income Statement'!SEP12,3)","v":0},{"$f":"ROUND('Income Statement'!SEQ12,3)","v":0},{"$f":"ROUND('Income Statement'!SER12,3)","v":0},{"$f":"ROUND('Income Statement'!SES12,3)","v":0},{"$f":"ROUND('Income Statement'!SET12,3)","v":0},{"$f":"ROUND('Income Statement'!SEU12,3)","v":0},{"$f":"ROUND('Income Statement'!SEV12,3)","v":0},{"$f":"ROUND('Income Statement'!SEW12,3)","v":0},{"$f":"ROUND('Income Statement'!SEX12,3)","v":0},{"$f":"ROUND('Income Statement'!SEY12,3)","v":0},{"$f":"ROUND('Income Statement'!SEZ12,3)","v":0},{"$f":"ROUND('Income Statement'!SFA12,3)","v":0},{"$f":"ROUND('Income Statement'!SFB12,3)","v":0},{"$f":"ROUND('Income Statement'!SFC12,3)","v":0},{"$f":"ROUND('Income Statement'!SFD12,3)","v":0},{"$f":"ROUND('Income Statement'!SFE12,3)","v":0},{"$f":"ROUND('Income Statement'!SFF12,3)","v":0},{"$f":"ROUND('Income Statement'!SFG12,3)","v":0},{"$f":"ROUND('Income Statement'!SFH12,3)","v":0},{"$f":"ROUND('Income Statement'!SFI12,3)","v":0},{"$f":"ROUND('Income Statement'!SFJ12,3)","v":0},{"$f":"ROUND('Income Statement'!SFK12,3)","v":0},{"$f":"ROUND('Income Statement'!SFL12,3)","v":0},{"$f":"ROUND('Income Statement'!SFM12,3)","v":0},{"$f":"ROUND('Income Statement'!SFN12,3)","v":0},{"$f":"ROUND('Income Statement'!SFO12,3)","v":0},{"$f":"ROUND('Income Statement'!SFP12,3)","v":0},{"$f":"ROUND('Income Statement'!SFQ12,3)","v":0},{"$f":"ROUND('Income Statement'!SFR12,3)","v":0},{"$f":"ROUND('Income Statement'!SFS12,3)","v":0},{"$f":"ROUND('Income Statement'!SFT12,3)","v":0},{"$f":"ROUND('Income Statement'!SFU12,3)","v":0},{"$f":"ROUND('Income Statement'!SFV12,3)","v":0},{"$f":"ROUND('Income Statement'!SFW12,3)","v":0},{"$f":"ROUND('Income Statement'!SFX12,3)","v":0},{"$f":"ROUND('Income Statement'!SFY12,3)","v":0},{"$f":"ROUND('Income Statement'!SFZ12,3)","v":0},{"$f":"ROUND('Income Statement'!SGA12,3)","v":0},{"$f":"ROUND('Income Statement'!SGB12,3)","v":0},{"$f":"ROUND('Income Statement'!SGC12,3)","v":0},{"$f":"ROUND('Income Statement'!SGD12,3)","v":0},{"$f":"ROUND('Income Statement'!SGE12,3)","v":0},{"$f":"ROUND('Income Statement'!SGF12,3)","v":0},{"$f":"ROUND('Income Statement'!SGG12,3)","v":0},{"$f":"ROUND('Income Statement'!SGH12,3)","v":0},{"$f":"ROUND('Income Statement'!SGI12,3)","v":0},{"$f":"ROUND('Income Statement'!SGJ12,3)","v":0},{"$f":"ROUND('Income Statement'!SGK12,3)","v":0},{"$f":"ROUND('Income Statement'!SGL12,3)","v":0},{"$f":"ROUND('Income Statement'!SGM12,3)","v":0},{"$f":"ROUND('Income Statement'!SGN12,3)","v":0},{"$f":"ROUND('Income Statement'!SGO12,3)","v":0},{"$f":"ROUND('Income Statement'!SGP12,3)","v":0},{"$f":"ROUND('Income Statement'!SGQ12,3)","v":0},{"$f":"ROUND('Income Statement'!SGR12,3)","v":0},{"$f":"ROUND('Income Statement'!SGS12,3)","v":0},{"$f":"ROUND('Income Statement'!SGT12,3)","v":0},{"$f":"ROUND('Income Statement'!SGU12,3)","v":0},{"$f":"ROUND('Income Statement'!SGV12,3)","v":0},{"$f":"ROUND('Income Statement'!SGW12,3)","v":0},{"$f":"ROUND('Income Statement'!SGX12,3)","v":0},{"$f":"ROUND('Income Statement'!SGY12,3)","v":0},{"$f":"ROUND('Income Statement'!SGZ12,3)","v":0},{"$f":"ROUND('Income Statement'!SHA12,3)","v":0},{"$f":"ROUND('Income Statement'!SHB12,3)","v":0},{"$f":"ROUND('Income Statement'!SHC12,3)","v":0},{"$f":"ROUND('Income Statement'!SHD12,3)","v":0},{"$f":"ROUND('Income Statement'!SHE12,3)","v":0},{"$f":"ROUND('Income Statement'!SHF12,3)","v":0},{"$f":"ROUND('Income Statement'!SHG12,3)","v":0},{"$f":"ROUND('Income Statement'!SHH12,3)","v":0},{"$f":"ROUND('Income Statement'!SHI12,3)","v":0},{"$f":"ROUND('Income Statement'!SHJ12,3)","v":0},{"$f":"ROUND('Income Statement'!SHK12,3)","v":0},{"$f":"ROUND('Income Statement'!SHL12,3)","v":0},{"$f":"ROUND('Income Statement'!SHM12,3)","v":0},{"$f":"ROUND('Income Statement'!SHN12,3)","v":0},{"$f":"ROUND('Income Statement'!SHO12,3)","v":0},{"$f":"ROUND('Income Statement'!SHP12,3)","v":0},{"$f":"ROUND('Income Statement'!SHQ12,3)","v":0},{"$f":"ROUND('Income Statement'!SHR12,3)","v":0},{"$f":"ROUND('Income Statement'!SHS12,3)","v":0},{"$f":"ROUND('Income Statement'!SHT12,3)","v":0},{"$f":"ROUND('Income Statement'!SHU12,3)","v":0},{"$f":"ROUND('Income Statement'!SHV12,3)","v":0},{"$f":"ROUND('Income Statement'!SHW12,3)","v":0},{"$f":"ROUND('Income Statement'!SHX12,3)","v":0},{"$f":"ROUND('Income Statement'!SHY12,3)","v":0},{"$f":"ROUND('Income Statement'!SHZ12,3)","v":0},{"$f":"ROUND('Income Statement'!SIA12,3)","v":0},{"$f":"ROUND('Income Statement'!SIB12,3)","v":0},{"$f":"ROUND('Income Statement'!SIC12,3)","v":0},{"$f":"ROUND('Income Statement'!SID12,3)","v":0},{"$f":"ROUND('Income Statement'!SIE12,3)","v":0},{"$f":"ROUND('Income Statement'!SIF12,3)","v":0},{"$f":"ROUND('Income Statement'!SIG12,3)","v":0},{"$f":"ROUND('Income Statement'!SIH12,3)","v":0},{"$f":"ROUND('Income Statement'!SII12,3)","v":0},{"$f":"ROUND('Income Statement'!SIJ12,3)","v":0},{"$f":"ROUND('Income Statement'!SIK12,3)","v":0},{"$f":"ROUND('Income Statement'!SIL12,3)","v":0},{"$f":"ROUND('Income Statement'!SIM12,3)","v":0},{"$f":"ROUND('Income Statement'!SIN12,3)","v":0},{"$f":"ROUND('Income Statement'!SIO12,3)","v":0},{"$f":"ROUND('Income Statement'!SIP12,3)","v":0},{"$f":"ROUND('Income Statement'!SIQ12,3)","v":0},{"$f":"ROUND('Income Statement'!SIR12,3)","v":0},{"$f":"ROUND('Income Statement'!SIS12,3)","v":0},{"$f":"ROUND('Income Statement'!SIT12,3)","v":0},{"$f":"ROUND('Income Statement'!SIU12,3)","v":0},{"$f":"ROUND('Income Statement'!SIV12,3)","v":0},{"$f":"ROUND('Income Statement'!SIW12,3)","v":0},{"$f":"ROUND('Income Statement'!SIX12,3)","v":0},{"$f":"ROUND('Income Statement'!SIY12,3)","v":0},{"$f":"ROUND('Income Statement'!SIZ12,3)","v":0},{"$f":"ROUND('Income Statement'!SJA12,3)","v":0},{"$f":"ROUND('Income Statement'!SJB12,3)","v":0},{"$f":"ROUND('Income Statement'!SJC12,3)","v":0},{"$f":"ROUND('Income Statement'!SJD12,3)","v":0},{"$f":"ROUND('Income Statement'!SJE12,3)","v":0},{"$f":"ROUND('Income Statement'!SJF12,3)","v":0},{"$f":"ROUND('Income Statement'!SJG12,3)","v":0},{"$f":"ROUND('Income Statement'!SJH12,3)","v":0},{"$f":"ROUND('Income Statement'!SJI12,3)","v":0},{"$f":"ROUND('Income Statement'!SJJ12,3)","v":0},{"$f":"ROUND('Income Statement'!SJK12,3)","v":0},{"$f":"ROUND('Income Statement'!SJL12,3)","v":0},{"$f":"ROUND('Income Statement'!SJM12,3)","v":0},{"$f":"ROUND('Income Statement'!SJN12,3)","v":0},{"$f":"ROUND('Income Statement'!SJO12,3)","v":0},{"$f":"ROUND('Income Statement'!SJP12,3)","v":0},{"$f":"ROUND('Income Statement'!SJQ12,3)","v":0},{"$f":"ROUND('Income Statement'!SJR12,3)","v":0},{"$f":"ROUND('Income Statement'!SJS12,3)","v":0},{"$f":"ROUND('Income Statement'!SJT12,3)","v":0},{"$f":"ROUND('Income Statement'!SJU12,3)","v":0},{"$f":"ROUND('Income Statement'!SJV12,3)","v":0},{"$f":"ROUND('Income Statement'!SJW12,3)","v":0},{"$f":"ROUND('Income Statement'!SJX12,3)","v":0},{"$f":"ROUND('Income Statement'!SJY12,3)","v":0},{"$f":"ROUND('Income Statement'!SJZ12,3)","v":0},{"$f":"ROUND('Income Statement'!SKA12,3)","v":0},{"$f":"ROUND('Income Statement'!SKB12,3)","v":0},{"$f":"ROUND('Income Statement'!SKC12,3)","v":0},{"$f":"ROUND('Income Statement'!SKD12,3)","v":0},{"$f":"ROUND('Income Statement'!SKE12,3)","v":0},{"$f":"ROUND('Income Statement'!SKF12,3)","v":0},{"$f":"ROUND('Income Statement'!SKG12,3)","v":0},{"$f":"ROUND('Income Statement'!SKH12,3)","v":0},{"$f":"ROUND('Income Statement'!SKI12,3)","v":0},{"$f":"ROUND('Income Statement'!SKJ12,3)","v":0},{"$f":"ROUND('Income Statement'!SKK12,3)","v":0},{"$f":"ROUND('Income Statement'!SKL12,3)","v":0},{"$f":"ROUND('Income Statement'!SKM12,3)","v":0},{"$f":"ROUND('Income Statement'!SKN12,3)","v":0},{"$f":"ROUND('Income Statement'!SKO12,3)","v":0},{"$f":"ROUND('Income Statement'!SKP12,3)","v":0},{"$f":"ROUND('Income Statement'!SKQ12,3)","v":0},{"$f":"ROUND('Income Statement'!SKR12,3)","v":0},{"$f":"ROUND('Income Statement'!SKS12,3)","v":0},{"$f":"ROUND('Income Statement'!SKT12,3)","v":0},{"$f":"ROUND('Income Statement'!SKU12,3)","v":0},{"$f":"ROUND('Income Statement'!SKV12,3)","v":0},{"$f":"ROUND('Income Statement'!SKW12,3)","v":0},{"$f":"ROUND('Income Statement'!SKX12,3)","v":0},{"$f":"ROUND('Income Statement'!SKY12,3)","v":0},{"$f":"ROUND('Income Statement'!SKZ12,3)","v":0},{"$f":"ROUND('Income Statement'!SLA12,3)","v":0},{"$f":"ROUND('Income Statement'!SLB12,3)","v":0},{"$f":"ROUND('Income Statement'!SLC12,3)","v":0},{"$f":"ROUND('Income Statement'!SLD12,3)","v":0},{"$f":"ROUND('Income Statement'!SLE12,3)","v":0},{"$f":"ROUND('Income Statement'!SLF12,3)","v":0},{"$f":"ROUND('Income Statement'!SLG12,3)","v":0},{"$f":"ROUND('Income Statement'!SLH12,3)","v":0},{"$f":"ROUND('Income Statement'!SLI12,3)","v":0},{"$f":"ROUND('Income Statement'!SLJ12,3)","v":0},{"$f":"ROUND('Income Statement'!SLK12,3)","v":0},{"$f":"ROUND('Income Statement'!SLL12,3)","v":0},{"$f":"ROUND('Income Statement'!SLM12,3)","v":0},{"$f":"ROUND('Income Statement'!SLN12,3)","v":0},{"$f":"ROUND('Income Statement'!SLO12,3)","v":0},{"$f":"ROUND('Income Statement'!SLP12,3)","v":0},{"$f":"ROUND('Income Statement'!SLQ12,3)","v":0},{"$f":"ROUND('Income Statement'!SLR12,3)","v":0},{"$f":"ROUND('Income Statement'!SLS12,3)","v":0},{"$f":"ROUND('Income Statement'!SLT12,3)","v":0},{"$f":"ROUND('Income Statement'!SLU12,3)","v":0},{"$f":"ROUND('Income Statement'!SLV12,3)","v":0},{"$f":"ROUND('Income Statement'!SLW12,3)","v":0},{"$f":"ROUND('Income Statement'!SLX12,3)","v":0},{"$f":"ROUND('Income Statement'!SLY12,3)","v":0},{"$f":"ROUND('Income Statement'!SLZ12,3)","v":0},{"$f":"ROUND('Income Statement'!SMA12,3)","v":0},{"$f":"ROUND('Income Statement'!SMB12,3)","v":0},{"$f":"ROUND('Income Statement'!SMC12,3)","v":0},{"$f":"ROUND('Income Statement'!SMD12,3)","v":0},{"$f":"ROUND('Income Statement'!SME12,3)","v":0},{"$f":"ROUND('Income Statement'!SMF12,3)","v":0},{"$f":"ROUND('Income Statement'!SMG12,3)","v":0},{"$f":"ROUND('Income Statement'!SMH12,3)","v":0},{"$f":"ROUND('Income Statement'!SMI12,3)","v":0},{"$f":"ROUND('Income Statement'!SMJ12,3)","v":0},{"$f":"ROUND('Income Statement'!SMK12,3)","v":0},{"$f":"ROUND('Income Statement'!SML12,3)","v":0},{"$f":"ROUND('Income Statement'!SMM12,3)","v":0},{"$f":"ROUND('Income Statement'!SMN12,3)","v":0},{"$f":"ROUND('Income Statement'!SMO12,3)","v":0},{"$f":"ROUND('Income Statement'!SMP12,3)","v":0},{"$f":"ROUND('Income Statement'!SMQ12,3)","v":0},{"$f":"ROUND('Income Statement'!SMR12,3)","v":0},{"$f":"ROUND('Income Statement'!SMS12,3)","v":0},{"$f":"ROUND('Income Statement'!SMT12,3)","v":0},{"$f":"ROUND('Income Statement'!SMU12,3)","v":0},{"$f":"ROUND('Income Statement'!SMV12,3)","v":0},{"$f":"ROUND('Income Statement'!SMW12,3)","v":0},{"$f":"ROUND('Income Statement'!SMX12,3)","v":0},{"$f":"ROUND('Income Statement'!SMY12,3)","v":0},{"$f":"ROUND('Income Statement'!SMZ12,3)","v":0},{"$f":"ROUND('Income Statement'!SNA12,3)","v":0},{"$f":"ROUND('Income Statement'!SNB12,3)","v":0},{"$f":"ROUND('Income Statement'!SNC12,3)","v":0},{"$f":"ROUND('Income Statement'!SND12,3)","v":0},{"$f":"ROUND('Income Statement'!SNE12,3)","v":0},{"$f":"ROUND('Income Statement'!SNF12,3)","v":0},{"$f":"ROUND('Income Statement'!SNG12,3)","v":0},{"$f":"ROUND('Income Statement'!SNH12,3)","v":0},{"$f":"ROUND('Income Statement'!SNI12,3)","v":0},{"$f":"ROUND('Income Statement'!SNJ12,3)","v":0},{"$f":"ROUND('Income Statement'!SNK12,3)","v":0},{"$f":"ROUND('Income Statement'!SNL12,3)","v":0},{"$f":"ROUND('Income Statement'!SNM12,3)","v":0},{"$f":"ROUND('Income Statement'!SNN12,3)","v":0},{"$f":"ROUND('Income Statement'!SNO12,3)","v":0},{"$f":"ROUND('Income Statement'!SNP12,3)","v":0},{"$f":"ROUND('Income Statement'!SNQ12,3)","v":0},{"$f":"ROUND('Income Statement'!SNR12,3)","v":0},{"$f":"ROUND('Income Statement'!SNS12,3)","v":0},{"$f":"ROUND('Income Statement'!SNT12,3)","v":0},{"$f":"ROUND('Income Statement'!SNU12,3)","v":0},{"$f":"ROUND('Income Statement'!SNV12,3)","v":0},{"$f":"ROUND('Income Statement'!SNW12,3)","v":0},{"$f":"ROUND('Income Statement'!SNX12,3)","v":0},{"$f":"ROUND('Income Statement'!SNY12,3)","v":0},{"$f":"ROUND('Income Statement'!SNZ12,3)","v":0},{"$f":"ROUND('Income Statement'!SOA12,3)","v":0},{"$f":"ROUND('Income Statement'!SOB12,3)","v":0},{"$f":"ROUND('Income Statement'!SOC12,3)","v":0},{"$f":"ROUND('Income Statement'!SOD12,3)","v":0},{"$f":"ROUND('Income Statement'!SOE12,3)","v":0},{"$f":"ROUND('Income Statement'!SOF12,3)","v":0},{"$f":"ROUND('Income Statement'!SOG12,3)","v":0},{"$f":"ROUND('Income Statement'!SOH12,3)","v":0},{"$f":"ROUND('Income Statement'!SOI12,3)","v":0},{"$f":"ROUND('Income Statement'!SOJ12,3)","v":0},{"$f":"ROUND('Income Statement'!SOK12,3)","v":0},{"$f":"ROUND('Income Statement'!SOL12,3)","v":0},{"$f":"ROUND('Income Statement'!SOM12,3)","v":0},{"$f":"ROUND('Income Statement'!SON12,3)","v":0},{"$f":"ROUND('Income Statement'!SOO12,3)","v":0},{"$f":"ROUND('Income Statement'!SOP12,3)","v":0},{"$f":"ROUND('Income Statement'!SOQ12,3)","v":0},{"$f":"ROUND('Income Statement'!SOR12,3)","v":0},{"$f":"ROUND('Income Statement'!SOS12,3)","v":0},{"$f":"ROUND('Income Statement'!SOT12,3)","v":0},{"$f":"ROUND('Income Statement'!SOU12,3)","v":0},{"$f":"ROUND('Income Statement'!SOV12,3)","v":0},{"$f":"ROUND('Income Statement'!SOW12,3)","v":0},{"$f":"ROUND('Income Statement'!SOX12,3)","v":0},{"$f":"ROUND('Income Statement'!SOY12,3)","v":0},{"$f":"ROUND('Income Statement'!SOZ12,3)","v":0},{"$f":"ROUND('Income Statement'!SPA12,3)","v":0},{"$f":"ROUND('Income Statement'!SPB12,3)","v":0},{"$f":"ROUND('Income Statement'!SPC12,3)","v":0},{"$f":"ROUND('Income Statement'!SPD12,3)","v":0},{"$f":"ROUND('Income Statement'!SPE12,3)","v":0},{"$f":"ROUND('Income Statement'!SPF12,3)","v":0},{"$f":"ROUND('Income Statement'!SPG12,3)","v":0},{"$f":"ROUND('Income Statement'!SPH12,3)","v":0},{"$f":"ROUND('Income Statement'!SPI12,3)","v":0},{"$f":"ROUND('Income Statement'!SPJ12,3)","v":0},{"$f":"ROUND('Income Statement'!SPK12,3)","v":0},{"$f":"ROUND('Income Statement'!SPL12,3)","v":0},{"$f":"ROUND('Income Statement'!SPM12,3)","v":0},{"$f":"ROUND('Income Statement'!SPN12,3)","v":0},{"$f":"ROUND('Income Statement'!SPO12,3)","v":0},{"$f":"ROUND('Income Statement'!SPP12,3)","v":0},{"$f":"ROUND('Income Statement'!SPQ12,3)","v":0},{"$f":"ROUND('Income Statement'!SPR12,3)","v":0},{"$f":"ROUND('Income Statement'!SPS12,3)","v":0},{"$f":"ROUND('Income Statement'!SPT12,3)","v":0},{"$f":"ROUND('Income Statement'!SPU12,3)","v":0},{"$f":"ROUND('Income Statement'!SPV12,3)","v":0},{"$f":"ROUND('Income Statement'!SPW12,3)","v":0},{"$f":"ROUND('Income Statement'!SPX12,3)","v":0},{"$f":"ROUND('Income Statement'!SPY12,3)","v":0},{"$f":"ROUND('Income Statement'!SPZ12,3)","v":0},{"$f":"ROUND('Income Statement'!SQA12,3)","v":0},{"$f":"ROUND('Income Statement'!SQB12,3)","v":0},{"$f":"ROUND('Income Statement'!SQC12,3)","v":0},{"$f":"ROUND('Income Statement'!SQD12,3)","v":0},{"$f":"ROUND('Income Statement'!SQE12,3)","v":0},{"$f":"ROUND('Income Statement'!SQF12,3)","v":0},{"$f":"ROUND('Income Statement'!SQG12,3)","v":0},{"$f":"ROUND('Income Statement'!SQH12,3)","v":0},{"$f":"ROUND('Income Statement'!SQI12,3)","v":0},{"$f":"ROUND('Income Statement'!SQJ12,3)","v":0},{"$f":"ROUND('Income Statement'!SQK12,3)","v":0},{"$f":"ROUND('Income Statement'!SQL12,3)","v":0},{"$f":"ROUND('Income Statement'!SQM12,3)","v":0},{"$f":"ROUND('Income Statement'!SQN12,3)","v":0},{"$f":"ROUND('Income Statement'!SQO12,3)","v":0},{"$f":"ROUND('Income Statement'!SQP12,3)","v":0},{"$f":"ROUND('Income Statement'!SQQ12,3)","v":0},{"$f":"ROUND('Income Statement'!SQR12,3)","v":0},{"$f":"ROUND('Income Statement'!SQS12,3)","v":0},{"$f":"ROUND('Income Statement'!SQT12,3)","v":0},{"$f":"ROUND('Income Statement'!SQU12,3)","v":0},{"$f":"ROUND('Income Statement'!SQV12,3)","v":0},{"$f":"ROUND('Income Statement'!SQW12,3)","v":0},{"$f":"ROUND('Income Statement'!SQX12,3)","v":0},{"$f":"ROUND('Income Statement'!SQY12,3)","v":0},{"$f":"ROUND('Income Statement'!SQZ12,3)","v":0},{"$f":"ROUND('Income Statement'!SRA12,3)","v":0},{"$f":"ROUND('Income Statement'!SRB12,3)","v":0},{"$f":"ROUND('Income Statement'!SRC12,3)","v":0},{"$f":"ROUND('Income Statement'!SRD12,3)","v":0},{"$f":"ROUND('Income Statement'!SRE12,3)","v":0},{"$f":"ROUND('Income Statement'!SRF12,3)","v":0},{"$f":"ROUND('Income Statement'!SRG12,3)","v":0},{"$f":"ROUND('Income Statement'!SRH12,3)","v":0},{"$f":"ROUND('Income Statement'!SRI12,3)","v":0},{"$f":"ROUND('Income Statement'!SRJ12,3)","v":0},{"$f":"ROUND('Income Statement'!SRK12,3)","v":0},{"$f":"ROUND('Income Statement'!SRL12,3)","v":0},{"$f":"ROUND('Income Statement'!SRM12,3)","v":0},{"$f":"ROUND('Income Statement'!SRN12,3)","v":0},{"$f":"ROUND('Income Statement'!SRO12,3)","v":0},{"$f":"ROUND('Income Statement'!SRP12,3)","v":0},{"$f":"ROUND('Income Statement'!SRQ12,3)","v":0},{"$f":"ROUND('Income Statement'!SRR12,3)","v":0},{"$f":"ROUND('Income Statement'!SRS12,3)","v":0},{"$f":"ROUND('Income Statement'!SRT12,3)","v":0},{"$f":"ROUND('Income Statement'!SRU12,3)","v":0},{"$f":"ROUND('Income Statement'!SRV12,3)","v":0},{"$f":"ROUND('Income Statement'!SRW12,3)","v":0},{"$f":"ROUND('Income Statement'!SRX12,3)","v":0},{"$f":"ROUND('Income Statement'!SRY12,3)","v":0},{"$f":"ROUND('Income Statement'!SRZ12,3)","v":0},{"$f":"ROUND('Income Statement'!SSA12,3)","v":0},{"$f":"ROUND('Income Statement'!SSB12,3)","v":0},{"$f":"ROUND('Income Statement'!SSC12,3)","v":0},{"$f":"ROUND('Income Statement'!SSD12,3)","v":0},{"$f":"ROUND('Income Statement'!SSE12,3)","v":0},{"$f":"ROUND('Income Statement'!SSF12,3)","v":0},{"$f":"ROUND('Income Statement'!SSG12,3)","v":0},{"$f":"ROUND('Income Statement'!SSH12,3)","v":0},{"$f":"ROUND('Income Statement'!SSI12,3)","v":0},{"$f":"ROUND('Income Statement'!SSJ12,3)","v":0},{"$f":"ROUND('Income Statement'!SSK12,3)","v":0},{"$f":"ROUND('Income Statement'!SSL12,3)","v":0},{"$f":"ROUND('Income Statement'!SSM12,3)","v":0},{"$f":"ROUND('Income Statement'!SSN12,3)","v":0},{"$f":"ROUND('Income Statement'!SSO12,3)","v":0},{"$f":"ROUND('Income Statement'!SSP12,3)","v":0},{"$f":"ROUND('Income Statement'!SSQ12,3)","v":0},{"$f":"ROUND('Income Statement'!SSR12,3)","v":0},{"$f":"ROUND('Income Statement'!SSS12,3)","v":0},{"$f":"ROUND('Income Statement'!SST12,3)","v":0},{"$f":"ROUND('Income Statement'!SSU12,3)","v":0},{"$f":"ROUND('Income Statement'!SSV12,3)","v":0},{"$f":"ROUND('Income Statement'!SSW12,3)","v":0},{"$f":"ROUND('Income Statement'!SSX12,3)","v":0},{"$f":"ROUND('Income Statement'!SSY12,3)","v":0},{"$f":"ROUND('Income Statement'!SSZ12,3)","v":0},{"$f":"ROUND('Income Statement'!STA12,3)","v":0},{"$f":"ROUND('Income Statement'!STB12,3)","v":0},{"$f":"ROUND('Income Statement'!STC12,3)","v":0},{"$f":"ROUND('Income Statement'!STD12,3)","v":0},{"$f":"ROUND('Income Statement'!STE12,3)","v":0},{"$f":"ROUND('Income Statement'!STF12,3)","v":0},{"$f":"ROUND('Income Statement'!STG12,3)","v":0},{"$f":"ROUND('Income Statement'!STH12,3)","v":0},{"$f":"ROUND('Income Statement'!STI12,3)","v":0},{"$f":"ROUND('Income Statement'!STJ12,3)","v":0},{"$f":"ROUND('Income Statement'!STK12,3)","v":0},{"$f":"ROUND('Income Statement'!STL12,3)","v":0},{"$f":"ROUND('Income Statement'!STM12,3)","v":0},{"$f":"ROUND('Income Statement'!STN12,3)","v":0},{"$f":"ROUND('Income Statement'!STO12,3)","v":0},{"$f":"ROUND('Income Statement'!STP12,3)","v":0},{"$f":"ROUND('Income Statement'!STQ12,3)","v":0},{"$f":"ROUND('Income Statement'!STR12,3)","v":0},{"$f":"ROUND('Income Statement'!STS12,3)","v":0},{"$f":"ROUND('Income Statement'!STT12,3)","v":0},{"$f":"ROUND('Income Statement'!STU12,3)","v":0},{"$f":"ROUND('Income Statement'!STV12,3)","v":0},{"$f":"ROUND('Income Statement'!STW12,3)","v":0},{"$f":"ROUND('Income Statement'!STX12,3)","v":0},{"$f":"ROUND('Income Statement'!STY12,3)","v":0},{"$f":"ROUND('Income Statement'!STZ12,3)","v":0},{"$f":"ROUND('Income Statement'!SUA12,3)","v":0},{"$f":"ROUND('Income Statement'!SUB12,3)","v":0},{"$f":"ROUND('Income Statement'!SUC12,3)","v":0},{"$f":"ROUND('Income Statement'!SUD12,3)","v":0},{"$f":"ROUND('Income Statement'!SUE12,3)","v":0},{"$f":"ROUND('Income Statement'!SUF12,3)","v":0},{"$f":"ROUND('Income Statement'!SUG12,3)","v":0},{"$f":"ROUND('Income Statement'!SUH12,3)","v":0},{"$f":"ROUND('Income Statement'!SUI12,3)","v":0},{"$f":"ROUND('Income Statement'!SUJ12,3)","v":0},{"$f":"ROUND('Income Statement'!SUK12,3)","v":0},{"$f":"ROUND('Income Statement'!SUL12,3)","v":0},{"$f":"ROUND('Income Statement'!SUM12,3)","v":0},{"$f":"ROUND('Income Statement'!SUN12,3)","v":0},{"$f":"ROUND('Income Statement'!SUO12,3)","v":0},{"$f":"ROUND('Income Statement'!SUP12,3)","v":0},{"$f":"ROUND('Income Statement'!SUQ12,3)","v":0},{"$f":"ROUND('Income Statement'!SUR12,3)","v":0},{"$f":"ROUND('Income Statement'!SUS12,3)","v":0},{"$f":"ROUND('Income Statement'!SUT12,3)","v":0},{"$f":"ROUND('Income Statement'!SUU12,3)","v":0},{"$f":"ROUND('Income Statement'!SUV12,3)","v":0},{"$f":"ROUND('Income Statement'!SUW12,3)","v":0},{"$f":"ROUND('Income Statement'!SUX12,3)","v":0},{"$f":"ROUND('Income Statement'!SUY12,3)","v":0},{"$f":"ROUND('Income Statement'!SUZ12,3)","v":0},{"$f":"ROUND('Income Statement'!SVA12,3)","v":0},{"$f":"ROUND('Income Statement'!SVB12,3)","v":0},{"$f":"ROUND('Income Statement'!SVC12,3)","v":0},{"$f":"ROUND('Income Statement'!SVD12,3)","v":0},{"$f":"ROUND('Income Statement'!SVE12,3)","v":0},{"$f":"ROUND('Income Statement'!SVF12,3)","v":0},{"$f":"ROUND('Income Statement'!SVG12,3)","v":0},{"$f":"ROUND('Income Statement'!SVH12,3)","v":0},{"$f":"ROUND('Income Statement'!SVI12,3)","v":0},{"$f":"ROUND('Income Statement'!SVJ12,3)","v":0},{"$f":"ROUND('Income Statement'!SVK12,3)","v":0},{"$f":"ROUND('Income Statement'!SVL12,3)","v":0},{"$f":"ROUND('Income Statement'!SVM12,3)","v":0},{"$f":"ROUND('Income Statement'!SVN12,3)","v":0},{"$f":"ROUND('Income Statement'!SVO12,3)","v":0},{"$f":"ROUND('Income Statement'!SVP12,3)","v":0},{"$f":"ROUND('Income Statement'!SVQ12,3)","v":0},{"$f":"ROUND('Income Statement'!SVR12,3)","v":0},{"$f":"ROUND('Income Statement'!SVS12,3)","v":0},{"$f":"ROUND('Income Statement'!SVT12,3)","v":0},{"$f":"ROUND('Income Statement'!SVU12,3)","v":0},{"$f":"ROUND('Income Statement'!SVV12,3)","v":0},{"$f":"ROUND('Income Statement'!SVW12,3)","v":0},{"$f":"ROUND('Income Statement'!SVX12,3)","v":0},{"$f":"ROUND('Income Statement'!SVY12,3)","v":0},{"$f":"ROUND('Income Statement'!SVZ12,3)","v":0},{"$f":"ROUND('Income Statement'!SWA12,3)","v":0},{"$f":"ROUND('Income Statement'!SWB12,3)","v":0},{"$f":"ROUND('Income Statement'!SWC12,3)","v":0},{"$f":"ROUND('Income Statement'!SWD12,3)","v":0},{"$f":"ROUND('Income Statement'!SWE12,3)","v":0},{"$f":"ROUND('Income Statement'!SWF12,3)","v":0},{"$f":"ROUND('Income Statement'!SWG12,3)","v":0},{"$f":"ROUND('Income Statement'!SWH12,3)","v":0},{"$f":"ROUND('Income Statement'!SWI12,3)","v":0},{"$f":"ROUND('Income Statement'!SWJ12,3)","v":0},{"$f":"ROUND('Income Statement'!SWK12,3)","v":0},{"$f":"ROUND('Income Statement'!SWL12,3)","v":0},{"$f":"ROUND('Income Statement'!SWM12,3)","v":0},{"$f":"ROUND('Income Statement'!SWN12,3)","v":0},{"$f":"ROUND('Income Statement'!SWO12,3)","v":0},{"$f":"ROUND('Income Statement'!SWP12,3)","v":0},{"$f":"ROUND('Income Statement'!SWQ12,3)","v":0},{"$f":"ROUND('Income Statement'!SWR12,3)","v":0},{"$f":"ROUND('Income Statement'!SWS12,3)","v":0},{"$f":"ROUND('Income Statement'!SWT12,3)","v":0},{"$f":"ROUND('Income Statement'!SWU12,3)","v":0},{"$f":"ROUND('Income Statement'!SWV12,3)","v":0},{"$f":"ROUND('Income Statement'!SWW12,3)","v":0},{"$f":"ROUND('Income Statement'!SWX12,3)","v":0},{"$f":"ROUND('Income Statement'!SWY12,3)","v":0},{"$f":"ROUND('Income Statement'!SWZ12,3)","v":0},{"$f":"ROUND('Income Statement'!SXA12,3)","v":0},{"$f":"ROUND('Income Statement'!SXB12,3)","v":0},{"$f":"ROUND('Income Statement'!SXC12,3)","v":0},{"$f":"ROUND('Income Statement'!SXD12,3)","v":0},{"$f":"ROUND('Income Statement'!SXE12,3)","v":0},{"$f":"ROUND('Income Statement'!SXF12,3)","v":0},{"$f":"ROUND('Income Statement'!SXG12,3)","v":0},{"$f":"ROUND('Income Statement'!SXH12,3)","v":0},{"$f":"ROUND('Income Statement'!SXI12,3)","v":0},{"$f":"ROUND('Income Statement'!SXJ12,3)","v":0},{"$f":"ROUND('Income Statement'!SXK12,3)","v":0},{"$f":"ROUND('Income Statement'!SXL12,3)","v":0},{"$f":"ROUND('Income Statement'!SXM12,3)","v":0},{"$f":"ROUND('Income Statement'!SXN12,3)","v":0},{"$f":"ROUND('Income Statement'!SXO12,3)","v":0},{"$f":"ROUND('Income Statement'!SXP12,3)","v":0},{"$f":"ROUND('Income Statement'!SXQ12,3)","v":0},{"$f":"ROUND('Income Statement'!SXR12,3)","v":0},{"$f":"ROUND('Income Statement'!SXS12,3)","v":0},{"$f":"ROUND('Income Statement'!SXT12,3)","v":0},{"$f":"ROUND('Income Statement'!SXU12,3)","v":0},{"$f":"ROUND('Income Statement'!SXV12,3)","v":0},{"$f":"ROUND('Income Statement'!SXW12,3)","v":0},{"$f":"ROUND('Income Statement'!SXX12,3)","v":0},{"$f":"ROUND('Income Statement'!SXY12,3)","v":0},{"$f":"ROUND('Income Statement'!SXZ12,3)","v":0},{"$f":"ROUND('Income Statement'!SYA12,3)","v":0},{"$f":"ROUND('Income Statement'!SYB12,3)","v":0},{"$f":"ROUND('Income Statement'!SYC12,3)","v":0},{"$f":"ROUND('Income Statement'!SYD12,3)","v":0},{"$f":"ROUND('Income Statement'!SYE12,3)","v":0},{"$f":"ROUND('Income Statement'!SYF12,3)","v":0},{"$f":"ROUND('Income Statement'!SYG12,3)","v":0},{"$f":"ROUND('Income Statement'!SYH12,3)","v":0},{"$f":"ROUND('Income Statement'!SYI12,3)","v":0},{"$f":"ROUND('Income Statement'!SYJ12,3)","v":0},{"$f":"ROUND('Income Statement'!SYK12,3)","v":0},{"$f":"ROUND('Income Statement'!SYL12,3)","v":0},{"$f":"ROUND('Income Statement'!SYM12,3)","v":0},{"$f":"ROUND('Income Statement'!SYN12,3)","v":0},{"$f":"ROUND('Income Statement'!SYO12,3)","v":0},{"$f":"ROUND('Income Statement'!SYP12,3)","v":0},{"$f":"ROUND('Income Statement'!SYQ12,3)","v":0},{"$f":"ROUND('Income Statement'!SYR12,3)","v":0},{"$f":"ROUND('Income Statement'!SYS12,3)","v":0},{"$f":"ROUND('Income Statement'!SYT12,3)","v":0},{"$f":"ROUND('Income Statement'!SYU12,3)","v":0},{"$f":"ROUND('Income Statement'!SYV12,3)","v":0},{"$f":"ROUND('Income Statement'!SYW12,3)","v":0},{"$f":"ROUND('Income Statement'!SYX12,3)","v":0},{"$f":"ROUND('Income Statement'!SYY12,3)","v":0},{"$f":"ROUND('Income Statement'!SYZ12,3)","v":0},{"$f":"ROUND('Income Statement'!SZA12,3)","v":0},{"$f":"ROUND('Income Statement'!SZB12,3)","v":0},{"$f":"ROUND('Income Statement'!SZC12,3)","v":0},{"$f":"ROUND('Income Statement'!SZD12,3)","v":0},{"$f":"ROUND('Income Statement'!SZE12,3)","v":0},{"$f":"ROUND('Income Statement'!SZF12,3)","v":0},{"$f":"ROUND('Income Statement'!SZG12,3)","v":0},{"$f":"ROUND('Income Statement'!SZH12,3)","v":0},{"$f":"ROUND('Income Statement'!SZI12,3)","v":0},{"$f":"ROUND('Income Statement'!SZJ12,3)","v":0},{"$f":"ROUND('Income Statement'!SZK12,3)","v":0},{"$f":"ROUND('Income Statement'!SZL12,3)","v":0},{"$f":"ROUND('Income Statement'!SZM12,3)","v":0},{"$f":"ROUND('Income Statement'!SZN12,3)","v":0},{"$f":"ROUND('Income Statement'!SZO12,3)","v":0},{"$f":"ROUND('Income Statement'!SZP12,3)","v":0},{"$f":"ROUND('Income Statement'!SZQ12,3)","v":0},{"$f":"ROUND('Income Statement'!SZR12,3)","v":0},{"$f":"ROUND('Income Statement'!SZS12,3)","v":0},{"$f":"ROUND('Income Statement'!SZT12,3)","v":0},{"$f":"ROUND('Income Statement'!SZU12,3)","v":0},{"$f":"ROUND('Income Statement'!SZV12,3)","v":0},{"$f":"ROUND('Income Statement'!SZW12,3)","v":0},{"$f":"ROUND('Income Statement'!SZX12,3)","v":0},{"$f":"ROUND('Income Statement'!SZY12,3)","v":0},{"$f":"ROUND('Income Statement'!SZZ12,3)","v":0},{"$f":"ROUND('Income Statement'!TAA12,3)","v":0},{"$f":"ROUND('Income Statement'!TAB12,3)","v":0},{"$f":"ROUND('Income Statement'!TAC12,3)","v":0},{"$f":"ROUND('Income Statement'!TAD12,3)","v":0},{"$f":"ROUND('Income Statement'!TAE12,3)","v":0},{"$f":"ROUND('Income Statement'!TAF12,3)","v":0},{"$f":"ROUND('Income Statement'!TAG12,3)","v":0},{"$f":"ROUND('Income Statement'!TAH12,3)","v":0},{"$f":"ROUND('Income Statement'!TAI12,3)","v":0},{"$f":"ROUND('Income Statement'!TAJ12,3)","v":0},{"$f":"ROUND('Income Statement'!TAK12,3)","v":0},{"$f":"ROUND('Income Statement'!TAL12,3)","v":0},{"$f":"ROUND('Income Statement'!TAM12,3)","v":0},{"$f":"ROUND('Income Statement'!TAN12,3)","v":0},{"$f":"ROUND('Income Statement'!TAO12,3)","v":0},{"$f":"ROUND('Income Statement'!TAP12,3)","v":0},{"$f":"ROUND('Income Statement'!TAQ12,3)","v":0},{"$f":"ROUND('Income Statement'!TAR12,3)","v":0},{"$f":"ROUND('Income Statement'!TAS12,3)","v":0},{"$f":"ROUND('Income Statement'!TAT12,3)","v":0},{"$f":"ROUND('Income Statement'!TAU12,3)","v":0},{"$f":"ROUND('Income Statement'!TAV12,3)","v":0},{"$f":"ROUND('Income Statement'!TAW12,3)","v":0},{"$f":"ROUND('Income Statement'!TAX12,3)","v":0},{"$f":"ROUND('Income Statement'!TAY12,3)","v":0},{"$f":"ROUND('Income Statement'!TAZ12,3)","v":0},{"$f":"ROUND('Income Statement'!TBA12,3)","v":0},{"$f":"ROUND('Income Statement'!TBB12,3)","v":0},{"$f":"ROUND('Income Statement'!TBC12,3)","v":0},{"$f":"ROUND('Income Statement'!TBD12,3)","v":0},{"$f":"ROUND('Income Statement'!TBE12,3)","v":0},{"$f":"ROUND('Income Statement'!TBF12,3)","v":0},{"$f":"ROUND('Income Statement'!TBG12,3)","v":0},{"$f":"ROUND('Income Statement'!TBH12,3)","v":0},{"$f":"ROUND('Income Statement'!TBI12,3)","v":0},{"$f":"ROUND('Income Statement'!TBJ12,3)","v":0},{"$f":"ROUND('Income Statement'!TBK12,3)","v":0},{"$f":"ROUND('Income Statement'!TBL12,3)","v":0},{"$f":"ROUND('Income Statement'!TBM12,3)","v":0},{"$f":"ROUND('Income Statement'!TBN12,3)","v":0},{"$f":"ROUND('Income Statement'!TBO12,3)","v":0},{"$f":"ROUND('Income Statement'!TBP12,3)","v":0},{"$f":"ROUND('Income Statement'!TBQ12,3)","v":0},{"$f":"ROUND('Income Statement'!TBR12,3)","v":0},{"$f":"ROUND('Income Statement'!TBS12,3)","v":0},{"$f":"ROUND('Income Statement'!TBT12,3)","v":0},{"$f":"ROUND('Income Statement'!TBU12,3)","v":0},{"$f":"ROUND('Income Statement'!TBV12,3)","v":0},{"$f":"ROUND('Income Statement'!TBW12,3)","v":0},{"$f":"ROUND('Income Statement'!TBX12,3)","v":0},{"$f":"ROUND('Income Statement'!TBY12,3)","v":0},{"$f":"ROUND('Income Statement'!TBZ12,3)","v":0},{"$f":"ROUND('Income Statement'!TCA12,3)","v":0},{"$f":"ROUND('Income Statement'!TCB12,3)","v":0},{"$f":"ROUND('Income Statement'!TCC12,3)","v":0},{"$f":"ROUND('Income Statement'!TCD12,3)","v":0},{"$f":"ROUND('Income Statement'!TCE12,3)","v":0},{"$f":"ROUND('Income Statement'!TCF12,3)","v":0},{"$f":"ROUND('Income Statement'!TCG12,3)","v":0},{"$f":"ROUND('Income Statement'!TCH12,3)","v":0},{"$f":"ROUND('Income Statement'!TCI12,3)","v":0},{"$f":"ROUND('Income Statement'!TCJ12,3)","v":0},{"$f":"ROUND('Income Statement'!TCK12,3)","v":0},{"$f":"ROUND('Income Statement'!TCL12,3)","v":0},{"$f":"ROUND('Income Statement'!TCM12,3)","v":0},{"$f":"ROUND('Income Statement'!TCN12,3)","v":0},{"$f":"ROUND('Income Statement'!TCO12,3)","v":0},{"$f":"ROUND('Income Statement'!TCP12,3)","v":0},{"$f":"ROUND('Income Statement'!TCQ12,3)","v":0},{"$f":"ROUND('Income Statement'!TCR12,3)","v":0},{"$f":"ROUND('Income Statement'!TCS12,3)","v":0},{"$f":"ROUND('Income Statement'!TCT12,3)","v":0},{"$f":"ROUND('Income Statement'!TCU12,3)","v":0},{"$f":"ROUND('Income Statement'!TCV12,3)","v":0},{"$f":"ROUND('Income Statement'!TCW12,3)","v":0},{"$f":"ROUND('Income Statement'!TCX12,3)","v":0},{"$f":"ROUND('Income Statement'!TCY12,3)","v":0},{"$f":"ROUND('Income Statement'!TCZ12,3)","v":0},{"$f":"ROUND('Income Statement'!TDA12,3)","v":0},{"$f":"ROUND('Income Statement'!TDB12,3)","v":0},{"$f":"ROUND('Income Statement'!TDC12,3)","v":0},{"$f":"ROUND('Income Statement'!TDD12,3)","v":0},{"$f":"ROUND('Income Statement'!TDE12,3)","v":0},{"$f":"ROUND('Income Statement'!TDF12,3)","v":0},{"$f":"ROUND('Income Statement'!TDG12,3)","v":0},{"$f":"ROUND('Income Statement'!TDH12,3)","v":0},{"$f":"ROUND('Income Statement'!TDI12,3)","v":0},{"$f":"ROUND('Income Statement'!TDJ12,3)","v":0},{"$f":"ROUND('Income Statement'!TDK12,3)","v":0},{"$f":"ROUND('Income Statement'!TDL12,3)","v":0},{"$f":"ROUND('Income Statement'!TDM12,3)","v":0},{"$f":"ROUND('Income Statement'!TDN12,3)","v":0},{"$f":"ROUND('Income Statement'!TDO12,3)","v":0},{"$f":"ROUND('Income Statement'!TDP12,3)","v":0},{"$f":"ROUND('Income Statement'!TDQ12,3)","v":0},{"$f":"ROUND('Income Statement'!TDR12,3)","v":0},{"$f":"ROUND('Income Statement'!TDS12,3)","v":0},{"$f":"ROUND('Income Statement'!TDT12,3)","v":0},{"$f":"ROUND('Income Statement'!TDU12,3)","v":0},{"$f":"ROUND('Income Statement'!TDV12,3)","v":0},{"$f":"ROUND('Income Statement'!TDW12,3)","v":0},{"$f":"ROUND('Income Statement'!TDX12,3)","v":0},{"$f":"ROUND('Income Statement'!TDY12,3)","v":0},{"$f":"ROUND('Income Statement'!TDZ12,3)","v":0},{"$f":"ROUND('Income Statement'!TEA12,3)","v":0},{"$f":"ROUND('Income Statement'!TEB12,3)","v":0},{"$f":"ROUND('Income Statement'!TEC12,3)","v":0},{"$f":"ROUND('Income Statement'!TED12,3)","v":0},{"$f":"ROUND('Income Statement'!TEE12,3)","v":0},{"$f":"ROUND('Income Statement'!TEF12,3)","v":0},{"$f":"ROUND('Income Statement'!TEG12,3)","v":0},{"$f":"ROUND('Income Statement'!TEH12,3)","v":0},{"$f":"ROUND('Income Statement'!TEI12,3)","v":0},{"$f":"ROUND('Income Statement'!TEJ12,3)","v":0},{"$f":"ROUND('Income Statement'!TEK12,3)","v":0},{"$f":"ROUND('Income Statement'!TEL12,3)","v":0},{"$f":"ROUND('Income Statement'!TEM12,3)","v":0},{"$f":"ROUND('Income Statement'!TEN12,3)","v":0},{"$f":"ROUND('Income Statement'!TEO12,3)","v":0},{"$f":"ROUND('Income Statement'!TEP12,3)","v":0},{"$f":"ROUND('Income Statement'!TEQ12,3)","v":0},{"$f":"ROUND('Income Statement'!TER12,3)","v":0},{"$f":"ROUND('Income Statement'!TES12,3)","v":0},{"$f":"ROUND('Income Statement'!TET12,3)","v":0},{"$f":"ROUND('Income Statement'!TEU12,3)","v":0},{"$f":"ROUND('Income Statement'!TEV12,3)","v":0},{"$f":"ROUND('Income Statement'!TEW12,3)","v":0},{"$f":"ROUND('Income Statement'!TEX12,3)","v":0},{"$f":"ROUND('Income Statement'!TEY12,3)","v":0},{"$f":"ROUND('Income Statement'!TEZ12,3)","v":0},{"$f":"ROUND('Income Statement'!TFA12,3)","v":0},{"$f":"ROUND('Income Statement'!TFB12,3)","v":0},{"$f":"ROUND('Income Statement'!TFC12,3)","v":0},{"$f":"ROUND('Income Statement'!TFD12,3)","v":0},{"$f":"ROUND('Income Statement'!TFE12,3)","v":0},{"$f":"ROUND('Income Statement'!TFF12,3)","v":0},{"$f":"ROUND('Income Statement'!TFG12,3)","v":0},{"$f":"ROUND('Income Statement'!TFH12,3)","v":0},{"$f":"ROUND('Income Statement'!TFI12,3)","v":0},{"$f":"ROUND('Income Statement'!TFJ12,3)","v":0},{"$f":"ROUND('Income Statement'!TFK12,3)","v":0},{"$f":"ROUND('Income Statement'!TFL12,3)","v":0},{"$f":"ROUND('Income Statement'!TFM12,3)","v":0},{"$f":"ROUND('Income Statement'!TFN12,3)","v":0},{"$f":"ROUND('Income Statement'!TFO12,3)","v":0},{"$f":"ROUND('Income Statement'!TFP12,3)","v":0},{"$f":"ROUND('Income Statement'!TFQ12,3)","v":0},{"$f":"ROUND('Income Statement'!TFR12,3)","v":0},{"$f":"ROUND('Income Statement'!TFS12,3)","v":0},{"$f":"ROUND('Income Statement'!TFT12,3)","v":0},{"$f":"ROUND('Income Statement'!TFU12,3)","v":0},{"$f":"ROUND('Income Statement'!TFV12,3)","v":0},{"$f":"ROUND('Income Statement'!TFW12,3)","v":0},{"$f":"ROUND('Income Statement'!TFX12,3)","v":0},{"$f":"ROUND('Income Statement'!TFY12,3)","v":0},{"$f":"ROUND('Income Statement'!TFZ12,3)","v":0},{"$f":"ROUND('Income Statement'!TGA12,3)","v":0},{"$f":"ROUND('Income Statement'!TGB12,3)","v":0},{"$f":"ROUND('Income Statement'!TGC12,3)","v":0},{"$f":"ROUND('Income Statement'!TGD12,3)","v":0},{"$f":"ROUND('Income Statement'!TGE12,3)","v":0},{"$f":"ROUND('Income Statement'!TGF12,3)","v":0},{"$f":"ROUND('Income Statement'!TGG12,3)","v":0},{"$f":"ROUND('Income Statement'!TGH12,3)","v":0},{"$f":"ROUND('Income Statement'!TGI12,3)","v":0},{"$f":"ROUND('Income Statement'!TGJ12,3)","v":0},{"$f":"ROUND('Income Statement'!TGK12,3)","v":0},{"$f":"ROUND('Income Statement'!TGL12,3)","v":0},{"$f":"ROUND('Income Statement'!TGM12,3)","v":0},{"$f":"ROUND('Income Statement'!TGN12,3)","v":0},{"$f":"ROUND('Income Statement'!TGO12,3)","v":0},{"$f":"ROUND('Income Statement'!TGP12,3)","v":0},{"$f":"ROUND('Income Statement'!TGQ12,3)","v":0},{"$f":"ROUND('Income Statement'!TGR12,3)","v":0},{"$f":"ROUND('Income Statement'!TGS12,3)","v":0},{"$f":"ROUND('Income Statement'!TGT12,3)","v":0},{"$f":"ROUND('Income Statement'!TGU12,3)","v":0},{"$f":"ROUND('Income Statement'!TGV12,3)","v":0},{"$f":"ROUND('Income Statement'!TGW12,3)","v":0},{"$f":"ROUND('Income Statement'!TGX12,3)","v":0},{"$f":"ROUND('Income Statement'!TGY12,3)","v":0},{"$f":"ROUND('Income Statement'!TGZ12,3)","v":0},{"$f":"ROUND('Income Statement'!THA12,3)","v":0},{"$f":"ROUND('Income Statement'!THB12,3)","v":0},{"$f":"ROUND('Income Statement'!THC12,3)","v":0},{"$f":"ROUND('Income Statement'!THD12,3)","v":0},{"$f":"ROUND('Income Statement'!THE12,3)","v":0},{"$f":"ROUND('Income Statement'!THF12,3)","v":0},{"$f":"ROUND('Income Statement'!THG12,3)","v":0},{"$f":"ROUND('Income Statement'!THH12,3)","v":0},{"$f":"ROUND('Income Statement'!THI12,3)","v":0},{"$f":"ROUND('Income Statement'!THJ12,3)","v":0},{"$f":"ROUND('Income Statement'!THK12,3)","v":0},{"$f":"ROUND('Income Statement'!THL12,3)","v":0},{"$f":"ROUND('Income Statement'!THM12,3)","v":0},{"$f":"ROUND('Income Statement'!THN12,3)","v":0},{"$f":"ROUND('Income Statement'!THO12,3)","v":0},{"$f":"ROUND('Income Statement'!THP12,3)","v":0},{"$f":"ROUND('Income Statement'!THQ12,3)","v":0},{"$f":"ROUND('Income Statement'!THR12,3)","v":0},{"$f":"ROUND('Income Statement'!THS12,3)","v":0},{"$f":"ROUND('Income Statement'!THT12,3)","v":0},{"$f":"ROUND('Income Statement'!THU12,3)","v":0},{"$f":"ROUND('Income Statement'!THV12,3)","v":0},{"$f":"ROUND('Income Statement'!THW12,3)","v":0},{"$f":"ROUND('Income Statement'!THX12,3)","v":0},{"$f":"ROUND('Income Statement'!THY12,3)","v":0},{"$f":"ROUND('Income Statement'!THZ12,3)","v":0},{"$f":"ROUND('Income Statement'!TIA12,3)","v":0},{"$f":"ROUND('Income Statement'!TIB12,3)","v":0},{"$f":"ROUND('Income Statement'!TIC12,3)","v":0},{"$f":"ROUND('Income Statement'!TID12,3)","v":0},{"$f":"ROUND('Income Statement'!TIE12,3)","v":0},{"$f":"ROUND('Income Statement'!TIF12,3)","v":0},{"$f":"ROUND('Income Statement'!TIG12,3)","v":0},{"$f":"ROUND('Income Statement'!TIH12,3)","v":0},{"$f":"ROUND('Income Statement'!TII12,3)","v":0},{"$f":"ROUND('Income Statement'!TIJ12,3)","v":0},{"$f":"ROUND('Income Statement'!TIK12,3)","v":0},{"$f":"ROUND('Income Statement'!TIL12,3)","v":0},{"$f":"ROUND('Income Statement'!TIM12,3)","v":0},{"$f":"ROUND('Income Statement'!TIN12,3)","v":0},{"$f":"ROUND('Income Statement'!TIO12,3)","v":0},{"$f":"ROUND('Income Statement'!TIP12,3)","v":0},{"$f":"ROUND('Income Statement'!TIQ12,3)","v":0},{"$f":"ROUND('Income Statement'!TIR12,3)","v":0},{"$f":"ROUND('Income Statement'!TIS12,3)","v":0},{"$f":"ROUND('Income Statement'!TIT12,3)","v":0},{"$f":"ROUND('Income Statement'!TIU12,3)","v":0},{"$f":"ROUND('Income Statement'!TIV12,3)","v":0},{"$f":"ROUND('Income Statement'!TIW12,3)","v":0},{"$f":"ROUND('Income Statement'!TIX12,3)","v":0},{"$f":"ROUND('Income Statement'!TIY12,3)","v":0},{"$f":"ROUND('Income Statement'!TIZ12,3)","v":0},{"$f":"ROUND('Income Statement'!TJA12,3)","v":0},{"$f":"ROUND('Income Statement'!TJB12,3)","v":0},{"$f":"ROUND('Income Statement'!TJC12,3)","v":0},{"$f":"ROUND('Income Statement'!TJD12,3)","v":0},{"$f":"ROUND('Income Statement'!TJE12,3)","v":0},{"$f":"ROUND('Income Statement'!TJF12,3)","v":0},{"$f":"ROUND('Income Statement'!TJG12,3)","v":0},{"$f":"ROUND('Income Statement'!TJH12,3)","v":0},{"$f":"ROUND('Income Statement'!TJI12,3)","v":0},{"$f":"ROUND('Income Statement'!TJJ12,3)","v":0},{"$f":"ROUND('Income Statement'!TJK12,3)","v":0},{"$f":"ROUND('Income Statement'!TJL12,3)","v":0},{"$f":"ROUND('Income Statement'!TJM12,3)","v":0},{"$f":"ROUND('Income Statement'!TJN12,3)","v":0},{"$f":"ROUND('Income Statement'!TJO12,3)","v":0},{"$f":"ROUND('Income Statement'!TJP12,3)","v":0},{"$f":"ROUND('Income Statement'!TJQ12,3)","v":0},{"$f":"ROUND('Income Statement'!TJR12,3)","v":0},{"$f":"ROUND('Income Statement'!TJS12,3)","v":0},{"$f":"ROUND('Income Statement'!TJT12,3)","v":0},{"$f":"ROUND('Income Statement'!TJU12,3)","v":0},{"$f":"ROUND('Income Statement'!TJV12,3)","v":0},{"$f":"ROUND('Income Statement'!TJW12,3)","v":0},{"$f":"ROUND('Income Statement'!TJX12,3)","v":0},{"$f":"ROUND('Income Statement'!TJY12,3)","v":0},{"$f":"ROUND('Income Statement'!TJZ12,3)","v":0},{"$f":"ROUND('Income Statement'!TKA12,3)","v":0},{"$f":"ROUND('Income Statement'!TKB12,3)","v":0},{"$f":"ROUND('Income Statement'!TKC12,3)","v":0},{"$f":"ROUND('Income Statement'!TKD12,3)","v":0},{"$f":"ROUND('Income Statement'!TKE12,3)","v":0},{"$f":"ROUND('Income Statement'!TKF12,3)","v":0},{"$f":"ROUND('Income Statement'!TKG12,3)","v":0},{"$f":"ROUND('Income Statement'!TKH12,3)","v":0},{"$f":"ROUND('Income Statement'!TKI12,3)","v":0},{"$f":"ROUND('Income Statement'!TKJ12,3)","v":0},{"$f":"ROUND('Income Statement'!TKK12,3)","v":0},{"$f":"ROUND('Income Statement'!TKL12,3)","v":0},{"$f":"ROUND('Income Statement'!TKM12,3)","v":0},{"$f":"ROUND('Income Statement'!TKN12,3)","v":0},{"$f":"ROUND('Income Statement'!TKO12,3)","v":0},{"$f":"ROUND('Income Statement'!TKP12,3)","v":0},{"$f":"ROUND('Income Statement'!TKQ12,3)","v":0},{"$f":"ROUND('Income Statement'!TKR12,3)","v":0},{"$f":"ROUND('Income Statement'!TKS12,3)","v":0},{"$f":"ROUND('Income Statement'!TKT12,3)","v":0},{"$f":"ROUND('Income Statement'!TKU12,3)","v":0},{"$f":"ROUND('Income Statement'!TKV12,3)","v":0},{"$f":"ROUND('Income Statement'!TKW12,3)","v":0},{"$f":"ROUND('Income Statement'!TKX12,3)","v":0},{"$f":"ROUND('Income Statement'!TKY12,3)","v":0},{"$f":"ROUND('Income Statement'!TKZ12,3)","v":0},{"$f":"ROUND('Income Statement'!TLA12,3)","v":0},{"$f":"ROUND('Income Statement'!TLB12,3)","v":0},{"$f":"ROUND('Income Statement'!TLC12,3)","v":0},{"$f":"ROUND('Income Statement'!TLD12,3)","v":0},{"$f":"ROUND('Income Statement'!TLE12,3)","v":0},{"$f":"ROUND('Income Statement'!TLF12,3)","v":0},{"$f":"ROUND('Income Statement'!TLG12,3)","v":0},{"$f":"ROUND('Income Statement'!TLH12,3)","v":0},{"$f":"ROUND('Income Statement'!TLI12,3)","v":0},{"$f":"ROUND('Income Statement'!TLJ12,3)","v":0},{"$f":"ROUND('Income Statement'!TLK12,3)","v":0},{"$f":"ROUND('Income Statement'!TLL12,3)","v":0},{"$f":"ROUND('Income Statement'!TLM12,3)","v":0},{"$f":"ROUND('Income Statement'!TLN12,3)","v":0},{"$f":"ROUND('Income Statement'!TLO12,3)","v":0},{"$f":"ROUND('Income Statement'!TLP12,3)","v":0},{"$f":"ROUND('Income Statement'!TLQ12,3)","v":0},{"$f":"ROUND('Income Statement'!TLR12,3)","v":0},{"$f":"ROUND('Income Statement'!TLS12,3)","v":0},{"$f":"ROUND('Income Statement'!TLT12,3)","v":0},{"$f":"ROUND('Income Statement'!TLU12,3)","v":0},{"$f":"ROUND('Income Statement'!TLV12,3)","v":0},{"$f":"ROUND('Income Statement'!TLW12,3)","v":0},{"$f":"ROUND('Income Statement'!TLX12,3)","v":0},{"$f":"ROUND('Income Statement'!TLY12,3)","v":0},{"$f":"ROUND('Income Statement'!TLZ12,3)","v":0},{"$f":"ROUND('Income Statement'!TMA12,3)","v":0},{"$f":"ROUND('Income Statement'!TMB12,3)","v":0},{"$f":"ROUND('Income Statement'!TMC12,3)","v":0},{"$f":"ROUND('Income Statement'!TMD12,3)","v":0},{"$f":"ROUND('Income Statement'!TME12,3)","v":0},{"$f":"ROUND('Income Statement'!TMF12,3)","v":0},{"$f":"ROUND('Income Statement'!TMG12,3)","v":0},{"$f":"ROUND('Income Statement'!TMH12,3)","v":0},{"$f":"ROUND('Income Statement'!TMI12,3)","v":0},{"$f":"ROUND('Income Statement'!TMJ12,3)","v":0},{"$f":"ROUND('Income Statement'!TMK12,3)","v":0},{"$f":"ROUND('Income Statement'!TML12,3)","v":0},{"$f":"ROUND('Income Statement'!TMM12,3)","v":0},{"$f":"ROUND('Income Statement'!TMN12,3)","v":0},{"$f":"ROUND('Income Statement'!TMO12,3)","v":0},{"$f":"ROUND('Income Statement'!TMP12,3)","v":0},{"$f":"ROUND('Income Statement'!TMQ12,3)","v":0},{"$f":"ROUND('Income Statement'!TMR12,3)","v":0},{"$f":"ROUND('Income Statement'!TMS12,3)","v":0},{"$f":"ROUND('Income Statement'!TMT12,3)","v":0},{"$f":"ROUND('Income Statement'!TMU12,3)","v":0},{"$f":"ROUND('Income Statement'!TMV12,3)","v":0},{"$f":"ROUND('Income Statement'!TMW12,3)","v":0},{"$f":"ROUND('Income Statement'!TMX12,3)","v":0},{"$f":"ROUND('Income Statement'!TMY12,3)","v":0},{"$f":"ROUND('Income Statement'!TMZ12,3)","v":0},{"$f":"ROUND('Income Statement'!TNA12,3)","v":0},{"$f":"ROUND('Income Statement'!TNB12,3)","v":0},{"$f":"ROUND('Income Statement'!TNC12,3)","v":0},{"$f":"ROUND('Income Statement'!TND12,3)","v":0},{"$f":"ROUND('Income Statement'!TNE12,3)","v":0},{"$f":"ROUND('Income Statement'!TNF12,3)","v":0},{"$f":"ROUND('Income Statement'!TNG12,3)","v":0},{"$f":"ROUND('Income Statement'!TNH12,3)","v":0},{"$f":"ROUND('Income Statement'!TNI12,3)","v":0},{"$f":"ROUND('Income Statement'!TNJ12,3)","v":0},{"$f":"ROUND('Income Statement'!TNK12,3)","v":0},{"$f":"ROUND('Income Statement'!TNL12,3)","v":0},{"$f":"ROUND('Income Statement'!TNM12,3)","v":0},{"$f":"ROUND('Income Statement'!TNN12,3)","v":0},{"$f":"ROUND('Income Statement'!TNO12,3)","v":0},{"$f":"ROUND('Income Statement'!TNP12,3)","v":0},{"$f":"ROUND('Income Statement'!TNQ12,3)","v":0},{"$f":"ROUND('Income Statement'!TNR12,3)","v":0},{"$f":"ROUND('Income Statement'!TNS12,3)","v":0},{"$f":"ROUND('Income Statement'!TNT12,3)","v":0},{"$f":"ROUND('Income Statement'!TNU12,3)","v":0},{"$f":"ROUND('Income Statement'!TNV12,3)","v":0},{"$f":"ROUND('Income Statement'!TNW12,3)","v":0},{"$f":"ROUND('Income Statement'!TNX12,3)","v":0},{"$f":"ROUND('Income Statement'!TNY12,3)","v":0},{"$f":"ROUND('Income Statement'!TNZ12,3)","v":0},{"$f":"ROUND('Income Statement'!TOA12,3)","v":0},{"$f":"ROUND('Income Statement'!TOB12,3)","v":0},{"$f":"ROUND('Income Statement'!TOC12,3)","v":0},{"$f":"ROUND('Income Statement'!TOD12,3)","v":0},{"$f":"ROUND('Income Statement'!TOE12,3)","v":0},{"$f":"ROUND('Income Statement'!TOF12,3)","v":0},{"$f":"ROUND('Income Statement'!TOG12,3)","v":0},{"$f":"ROUND('Income Statement'!TOH12,3)","v":0},{"$f":"ROUND('Income Statement'!TOI12,3)","v":0},{"$f":"ROUND('Income Statement'!TOJ12,3)","v":0},{"$f":"ROUND('Income Statement'!TOK12,3)","v":0},{"$f":"ROUND('Income Statement'!TOL12,3)","v":0},{"$f":"ROUND('Income Statement'!TOM12,3)","v":0},{"$f":"ROUND('Income Statement'!TON12,3)","v":0},{"$f":"ROUND('Income Statement'!TOO12,3)","v":0},{"$f":"ROUND('Income Statement'!TOP12,3)","v":0},{"$f":"ROUND('Income Statement'!TOQ12,3)","v":0},{"$f":"ROUND('Income Statement'!TOR12,3)","v":0},{"$f":"ROUND('Income Statement'!TOS12,3)","v":0},{"$f":"ROUND('Income Statement'!TOT12,3)","v":0},{"$f":"ROUND('Income Statement'!TOU12,3)","v":0},{"$f":"ROUND('Income Statement'!TOV12,3)","v":0},{"$f":"ROUND('Income Statement'!TOW12,3)","v":0},{"$f":"ROUND('Income Statement'!TOX12,3)","v":0},{"$f":"ROUND('Income Statement'!TOY12,3)","v":0},{"$f":"ROUND('Income Statement'!TOZ12,3)","v":0},{"$f":"ROUND('Income Statement'!TPA12,3)","v":0},{"$f":"ROUND('Income Statement'!TPB12,3)","v":0},{"$f":"ROUND('Income Statement'!TPC12,3)","v":0},{"$f":"ROUND('Income Statement'!TPD12,3)","v":0},{"$f":"ROUND('Income Statement'!TPE12,3)","v":0},{"$f":"ROUND('Income Statement'!TPF12,3)","v":0},{"$f":"ROUND('Income Statement'!TPG12,3)","v":0},{"$f":"ROUND('Income Statement'!TPH12,3)","v":0},{"$f":"ROUND('Income Statement'!TPI12,3)","v":0},{"$f":"ROUND('Income Statement'!TPJ12,3)","v":0},{"$f":"ROUND('Income Statement'!TPK12,3)","v":0},{"$f":"ROUND('Income Statement'!TPL12,3)","v":0},{"$f":"ROUND('Income Statement'!TPM12,3)","v":0},{"$f":"ROUND('Income Statement'!TPN12,3)","v":0},{"$f":"ROUND('Income Statement'!TPO12,3)","v":0},{"$f":"ROUND('Income Statement'!TPP12,3)","v":0},{"$f":"ROUND('Income Statement'!TPQ12,3)","v":0},{"$f":"ROUND('Income Statement'!TPR12,3)","v":0},{"$f":"ROUND('Income Statement'!TPS12,3)","v":0},{"$f":"ROUND('Income Statement'!TPT12,3)","v":0},{"$f":"ROUND('Income Statement'!TPU12,3)","v":0},{"$f":"ROUND('Income Statement'!TPV12,3)","v":0},{"$f":"ROUND('Income Statement'!TPW12,3)","v":0},{"$f":"ROUND('Income Statement'!TPX12,3)","v":0},{"$f":"ROUND('Income Statement'!TPY12,3)","v":0},{"$f":"ROUND('Income Statement'!TPZ12,3)","v":0},{"$f":"ROUND('Income Statement'!TQA12,3)","v":0},{"$f":"ROUND('Income Statement'!TQB12,3)","v":0},{"$f":"ROUND('Income Statement'!TQC12,3)","v":0},{"$f":"ROUND('Income Statement'!TQD12,3)","v":0},{"$f":"ROUND('Income Statement'!TQE12,3)","v":0},{"$f":"ROUND('Income Statement'!TQF12,3)","v":0},{"$f":"ROUND('Income Statement'!TQG12,3)","v":0},{"$f":"ROUND('Income Statement'!TQH12,3)","v":0},{"$f":"ROUND('Income Statement'!TQI12,3)","v":0},{"$f":"ROUND('Income Statement'!TQJ12,3)","v":0},{"$f":"ROUND('Income Statement'!TQK12,3)","v":0},{"$f":"ROUND('Income Statement'!TQL12,3)","v":0},{"$f":"ROUND('Income Statement'!TQM12,3)","v":0},{"$f":"ROUND('Income Statement'!TQN12,3)","v":0},{"$f":"ROUND('Income Statement'!TQO12,3)","v":0},{"$f":"ROUND('Income Statement'!TQP12,3)","v":0},{"$f":"ROUND('Income Statement'!TQQ12,3)","v":0},{"$f":"ROUND('Income Statement'!TQR12,3)","v":0},{"$f":"ROUND('Income Statement'!TQS12,3)","v":0},{"$f":"ROUND('Income Statement'!TQT12,3)","v":0},{"$f":"ROUND('Income Statement'!TQU12,3)","v":0},{"$f":"ROUND('Income Statement'!TQV12,3)","v":0},{"$f":"ROUND('Income Statement'!TQW12,3)","v":0},{"$f":"ROUND('Income Statement'!TQX12,3)","v":0},{"$f":"ROUND('Income Statement'!TQY12,3)","v":0},{"$f":"ROUND('Income Statement'!TQZ12,3)","v":0},{"$f":"ROUND('Income Statement'!TRA12,3)","v":0},{"$f":"ROUND('Income Statement'!TRB12,3)","v":0},{"$f":"ROUND('Income Statement'!TRC12,3)","v":0},{"$f":"ROUND('Income Statement'!TRD12,3)","v":0},{"$f":"ROUND('Income Statement'!TRE12,3)","v":0},{"$f":"ROUND('Income Statement'!TRF12,3)","v":0},{"$f":"ROUND('Income Statement'!TRG12,3)","v":0},{"$f":"ROUND('Income Statement'!TRH12,3)","v":0},{"$f":"ROUND('Income Statement'!TRI12,3)","v":0},{"$f":"ROUND('Income Statement'!TRJ12,3)","v":0},{"$f":"ROUND('Income Statement'!TRK12,3)","v":0},{"$f":"ROUND('Income Statement'!TRL12,3)","v":0},{"$f":"ROUND('Income Statement'!TRM12,3)","v":0},{"$f":"ROUND('Income Statement'!TRN12,3)","v":0},{"$f":"ROUND('Income Statement'!TRO12,3)","v":0},{"$f":"ROUND('Income Statement'!TRP12,3)","v":0},{"$f":"ROUND('Income Statement'!TRQ12,3)","v":0},{"$f":"ROUND('Income Statement'!TRR12,3)","v":0},{"$f":"ROUND('Income Statement'!TRS12,3)","v":0},{"$f":"ROUND('Income Statement'!TRT12,3)","v":0},{"$f":"ROUND('Income Statement'!TRU12,3)","v":0},{"$f":"ROUND('Income Statement'!TRV12,3)","v":0},{"$f":"ROUND('Income Statement'!TRW12,3)","v":0},{"$f":"ROUND('Income Statement'!TRX12,3)","v":0},{"$f":"ROUND('Income Statement'!TRY12,3)","v":0},{"$f":"ROUND('Income Statement'!TRZ12,3)","v":0},{"$f":"ROUND('Income Statement'!TSA12,3)","v":0},{"$f":"ROUND('Income Statement'!TSB12,3)","v":0},{"$f":"ROUND('Income Statement'!TSC12,3)","v":0},{"$f":"ROUND('Income Statement'!TSD12,3)","v":0},{"$f":"ROUND('Income Statement'!TSE12,3)","v":0},{"$f":"ROUND('Income Statement'!TSF12,3)","v":0},{"$f":"ROUND('Income Statement'!TSG12,3)","v":0},{"$f":"ROUND('Income Statement'!TSH12,3)","v":0},{"$f":"ROUND('Income Statement'!TSI12,3)","v":0},{"$f":"ROUND('Income Statement'!TSJ12,3)","v":0},{"$f":"ROUND('Income Statement'!TSK12,3)","v":0},{"$f":"ROUND('Income Statement'!TSL12,3)","v":0},{"$f":"ROUND('Income Statement'!TSM12,3)","v":0},{"$f":"ROUND('Income Statement'!TSN12,3)","v":0},{"$f":"ROUND('Income Statement'!TSO12,3)","v":0},{"$f":"ROUND('Income Statement'!TSP12,3)","v":0},{"$f":"ROUND('Income Statement'!TSQ12,3)","v":0},{"$f":"ROUND('Income Statement'!TSR12,3)","v":0},{"$f":"ROUND('Income Statement'!TSS12,3)","v":0},{"$f":"ROUND('Income Statement'!TST12,3)","v":0},{"$f":"ROUND('Income Statement'!TSU12,3)","v":0},{"$f":"ROUND('Income Statement'!TSV12,3)","v":0},{"$f":"ROUND('Income Statement'!TSW12,3)","v":0},{"$f":"ROUND('Income Statement'!TSX12,3)","v":0},{"$f":"ROUND('Income Statement'!TSY12,3)","v":0},{"$f":"ROUND('Income Statement'!TSZ12,3)","v":0},{"$f":"ROUND('Income Statement'!TTA12,3)","v":0},{"$f":"ROUND('Income Statement'!TTB12,3)","v":0},{"$f":"ROUND('Income Statement'!TTC12,3)","v":0},{"$f":"ROUND('Income Statement'!TTD12,3)","v":0},{"$f":"ROUND('Income Statement'!TTE12,3)","v":0},{"$f":"ROUND('Income Statement'!TTF12,3)","v":0},{"$f":"ROUND('Income Statement'!TTG12,3)","v":0},{"$f":"ROUND('Income Statement'!TTH12,3)","v":0},{"$f":"ROUND('Income Statement'!TTI12,3)","v":0},{"$f":"ROUND('Income Statement'!TTJ12,3)","v":0},{"$f":"ROUND('Income Statement'!TTK12,3)","v":0},{"$f":"ROUND('Income Statement'!TTL12,3)","v":0},{"$f":"ROUND('Income Statement'!TTM12,3)","v":0},{"$f":"ROUND('Income Statement'!TTN12,3)","v":0},{"$f":"ROUND('Income Statement'!TTO12,3)","v":0},{"$f":"ROUND('Income Statement'!TTP12,3)","v":0},{"$f":"ROUND('Income Statement'!TTQ12,3)","v":0},{"$f":"ROUND('Income Statement'!TTR12,3)","v":0},{"$f":"ROUND('Income Statement'!TTS12,3)","v":0},{"$f":"ROUND('Income Statement'!TTT12,3)","v":0},{"$f":"ROUND('Income Statement'!TTU12,3)","v":0},{"$f":"ROUND('Income Statement'!TTV12,3)","v":0},{"$f":"ROUND('Income Statement'!TTW12,3)","v":0},{"$f":"ROUND('Income Statement'!TTX12,3)","v":0},{"$f":"ROUND('Income Statement'!TTY12,3)","v":0},{"$f":"ROUND('Income Statement'!TTZ12,3)","v":0},{"$f":"ROUND('Income Statement'!TUA12,3)","v":0},{"$f":"ROUND('Income Statement'!TUB12,3)","v":0},{"$f":"ROUND('Income Statement'!TUC12,3)","v":0},{"$f":"ROUND('Income Statement'!TUD12,3)","v":0},{"$f":"ROUND('Income Statement'!TUE12,3)","v":0},{"$f":"ROUND('Income Statement'!TUF12,3)","v":0},{"$f":"ROUND('Income Statement'!TUG12,3)","v":0},{"$f":"ROUND('Income Statement'!TUH12,3)","v":0},{"$f":"ROUND('Income Statement'!TUI12,3)","v":0},{"$f":"ROUND('Income Statement'!TUJ12,3)","v":0},{"$f":"ROUND('Income Statement'!TUK12,3)","v":0},{"$f":"ROUND('Income Statement'!TUL12,3)","v":0},{"$f":"ROUND('Income Statement'!TUM12,3)","v":0},{"$f":"ROUND('Income Statement'!TUN12,3)","v":0},{"$f":"ROUND('Income Statement'!TUO12,3)","v":0},{"$f":"ROUND('Income Statement'!TUP12,3)","v":0},{"$f":"ROUND('Income Statement'!TUQ12,3)","v":0},{"$f":"ROUND('Income Statement'!TUR12,3)","v":0},{"$f":"ROUND('Income Statement'!TUS12,3)","v":0},{"$f":"ROUND('Income Statement'!TUT12,3)","v":0},{"$f":"ROUND('Income Statement'!TUU12,3)","v":0},{"$f":"ROUND('Income Statement'!TUV12,3)","v":0},{"$f":"ROUND('Income Statement'!TUW12,3)","v":0},{"$f":"ROUND('Income Statement'!TUX12,3)","v":0},{"$f":"ROUND('Income Statement'!TUY12,3)","v":0},{"$f":"ROUND('Income Statement'!TUZ12,3)","v":0},{"$f":"ROUND('Income Statement'!TVA12,3)","v":0},{"$f":"ROUND('Income Statement'!TVB12,3)","v":0},{"$f":"ROUND('Income Statement'!TVC12,3)","v":0},{"$f":"ROUND('Income Statement'!TVD12,3)","v":0},{"$f":"ROUND('Income Statement'!TVE12,3)","v":0},{"$f":"ROUND('Income Statement'!TVF12,3)","v":0},{"$f":"ROUND('Income Statement'!TVG12,3)","v":0},{"$f":"ROUND('Income Statement'!TVH12,3)","v":0},{"$f":"ROUND('Income Statement'!TVI12,3)","v":0},{"$f":"ROUND('Income Statement'!TVJ12,3)","v":0},{"$f":"ROUND('Income Statement'!TVK12,3)","v":0},{"$f":"ROUND('Income Statement'!TVL12,3)","v":0},{"$f":"ROUND('Income Statement'!TVM12,3)","v":0},{"$f":"ROUND('Income Statement'!TVN12,3)","v":0},{"$f":"ROUND('Income Statement'!TVO12,3)","v":0},{"$f":"ROUND('Income Statement'!TVP12,3)","v":0},{"$f":"ROUND('Income Statement'!TVQ12,3)","v":0},{"$f":"ROUND('Income Statement'!TVR12,3)","v":0},{"$f":"ROUND('Income Statement'!TVS12,3)","v":0},{"$f":"ROUND('Income Statement'!TVT12,3)","v":0},{"$f":"ROUND('Income Statement'!TVU12,3)","v":0},{"$f":"ROUND('Income Statement'!TVV12,3)","v":0},{"$f":"ROUND('Income Statement'!TVW12,3)","v":0},{"$f":"ROUND('Income Statement'!TVX12,3)","v":0},{"$f":"ROUND('Income Statement'!TVY12,3)","v":0},{"$f":"ROUND('Income Statement'!TVZ12,3)","v":0},{"$f":"ROUND('Income Statement'!TWA12,3)","v":0},{"$f":"ROUND('Income Statement'!TWB12,3)","v":0},{"$f":"ROUND('Income Statement'!TWC12,3)","v":0},{"$f":"ROUND('Income Statement'!TWD12,3)","v":0},{"$f":"ROUND('Income Statement'!TWE12,3)","v":0},{"$f":"ROUND('Income Statement'!TWF12,3)","v":0},{"$f":"ROUND('Income Statement'!TWG12,3)","v":0},{"$f":"ROUND('Income Statement'!TWH12,3)","v":0},{"$f":"ROUND('Income Statement'!TWI12,3)","v":0},{"$f":"ROUND('Income Statement'!TWJ12,3)","v":0},{"$f":"ROUND('Income Statement'!TWK12,3)","v":0},{"$f":"ROUND('Income Statement'!TWL12,3)","v":0},{"$f":"ROUND('Income Statement'!TWM12,3)","v":0},{"$f":"ROUND('Income Statement'!TWN12,3)","v":0},{"$f":"ROUND('Income Statement'!TWO12,3)","v":0},{"$f":"ROUND('Income Statement'!TWP12,3)","v":0},{"$f":"ROUND('Income Statement'!TWQ12,3)","v":0},{"$f":"ROUND('Income Statement'!TWR12,3)","v":0},{"$f":"ROUND('Income Statement'!TWS12,3)","v":0},{"$f":"ROUND('Income Statement'!TWT12,3)","v":0},{"$f":"ROUND('Income Statement'!TWU12,3)","v":0},{"$f":"ROUND('Income Statement'!TWV12,3)","v":0},{"$f":"ROUND('Income Statement'!TWW12,3)","v":0},{"$f":"ROUND('Income Statement'!TWX12,3)","v":0},{"$f":"ROUND('Income Statement'!TWY12,3)","v":0},{"$f":"ROUND('Income Statement'!TWZ12,3)","v":0},{"$f":"ROUND('Income Statement'!TXA12,3)","v":0},{"$f":"ROUND('Income Statement'!TXB12,3)","v":0},{"$f":"ROUND('Income Statement'!TXC12,3)","v":0},{"$f":"ROUND('Income Statement'!TXD12,3)","v":0},{"$f":"ROUND('Income Statement'!TXE12,3)","v":0},{"$f":"ROUND('Income Statement'!TXF12,3)","v":0},{"$f":"ROUND('Income Statement'!TXG12,3)","v":0},{"$f":"ROUND('Income Statement'!TXH12,3)","v":0},{"$f":"ROUND('Income Statement'!TXI12,3)","v":0},{"$f":"ROUND('Income Statement'!TXJ12,3)","v":0},{"$f":"ROUND('Income Statement'!TXK12,3)","v":0},{"$f":"ROUND('Income Statement'!TXL12,3)","v":0},{"$f":"ROUND('Income Statement'!TXM12,3)","v":0},{"$f":"ROUND('Income Statement'!TXN12,3)","v":0},{"$f":"ROUND('Income Statement'!TXO12,3)","v":0},{"$f":"ROUND('Income Statement'!TXP12,3)","v":0},{"$f":"ROUND('Income Statement'!TXQ12,3)","v":0},{"$f":"ROUND('Income Statement'!TXR12,3)","v":0},{"$f":"ROUND('Income Statement'!TXS12,3)","v":0},{"$f":"ROUND('Income Statement'!TXT12,3)","v":0},{"$f":"ROUND('Income Statement'!TXU12,3)","v":0},{"$f":"ROUND('Income Statement'!TXV12,3)","v":0},{"$f":"ROUND('Income Statement'!TXW12,3)","v":0},{"$f":"ROUND('Income Statement'!TXX12,3)","v":0},{"$f":"ROUND('Income Statement'!TXY12,3)","v":0},{"$f":"ROUND('Income Statement'!TXZ12,3)","v":0},{"$f":"ROUND('Income Statement'!TYA12,3)","v":0},{"$f":"ROUND('Income Statement'!TYB12,3)","v":0},{"$f":"ROUND('Income Statement'!TYC12,3)","v":0},{"$f":"ROUND('Income Statement'!TYD12,3)","v":0},{"$f":"ROUND('Income Statement'!TYE12,3)","v":0},{"$f":"ROUND('Income Statement'!TYF12,3)","v":0},{"$f":"ROUND('Income Statement'!TYG12,3)","v":0},{"$f":"ROUND('Income Statement'!TYH12,3)","v":0},{"$f":"ROUND('Income Statement'!TYI12,3)","v":0},{"$f":"ROUND('Income Statement'!TYJ12,3)","v":0},{"$f":"ROUND('Income Statement'!TYK12,3)","v":0},{"$f":"ROUND('Income Statement'!TYL12,3)","v":0},{"$f":"ROUND('Income Statement'!TYM12,3)","v":0},{"$f":"ROUND('Income Statement'!TYN12,3)","v":0},{"$f":"ROUND('Income Statement'!TYO12,3)","v":0},{"$f":"ROUND('Income Statement'!TYP12,3)","v":0},{"$f":"ROUND('Income Statement'!TYQ12,3)","v":0},{"$f":"ROUND('Income Statement'!TYR12,3)","v":0},{"$f":"ROUND('Income Statement'!TYS12,3)","v":0},{"$f":"ROUND('Income Statement'!TYT12,3)","v":0},{"$f":"ROUND('Income Statement'!TYU12,3)","v":0},{"$f":"ROUND('Income Statement'!TYV12,3)","v":0},{"$f":"ROUND('Income Statement'!TYW12,3)","v":0},{"$f":"ROUND('Income Statement'!TYX12,3)","v":0},{"$f":"ROUND('Income Statement'!TYY12,3)","v":0},{"$f":"ROUND('Income Statement'!TYZ12,3)","v":0},{"$f":"ROUND('Income Statement'!TZA12,3)","v":0},{"$f":"ROUND('Income Statement'!TZB12,3)","v":0},{"$f":"ROUND('Income Statement'!TZC12,3)","v":0},{"$f":"ROUND('Income Statement'!TZD12,3)","v":0},{"$f":"ROUND('Income Statement'!TZE12,3)","v":0},{"$f":"ROUND('Income Statement'!TZF12,3)","v":0},{"$f":"ROUND('Income Statement'!TZG12,3)","v":0},{"$f":"ROUND('Income Statement'!TZH12,3)","v":0},{"$f":"ROUND('Income Statement'!TZI12,3)","v":0},{"$f":"ROUND('Income Statement'!TZJ12,3)","v":0},{"$f":"ROUND('Income Statement'!TZK12,3)","v":0},{"$f":"ROUND('Income Statement'!TZL12,3)","v":0},{"$f":"ROUND('Income Statement'!TZM12,3)","v":0},{"$f":"ROUND('Income Statement'!TZN12,3)","v":0},{"$f":"ROUND('Income Statement'!TZO12,3)","v":0},{"$f":"ROUND('Income Statement'!TZP12,3)","v":0},{"$f":"ROUND('Income Statement'!TZQ12,3)","v":0},{"$f":"ROUND('Income Statement'!TZR12,3)","v":0},{"$f":"ROUND('Income Statement'!TZS12,3)","v":0},{"$f":"ROUND('Income Statement'!TZT12,3)","v":0},{"$f":"ROUND('Income Statement'!TZU12,3)","v":0},{"$f":"ROUND('Income Statement'!TZV12,3)","v":0},{"$f":"ROUND('Income Statement'!TZW12,3)","v":0},{"$f":"ROUND('Income Statement'!TZX12,3)","v":0},{"$f":"ROUND('Income Statement'!TZY12,3)","v":0},{"$f":"ROUND('Income Statement'!TZZ12,3)","v":0},{"$f":"ROUND('Income Statement'!UAA12,3)","v":0},{"$f":"ROUND('Income Statement'!UAB12,3)","v":0},{"$f":"ROUND('Income Statement'!UAC12,3)","v":0},{"$f":"ROUND('Income Statement'!UAD12,3)","v":0},{"$f":"ROUND('Income Statement'!UAE12,3)","v":0},{"$f":"ROUND('Income Statement'!UAF12,3)","v":0},{"$f":"ROUND('Income Statement'!UAG12,3)","v":0},{"$f":"ROUND('Income Statement'!UAH12,3)","v":0},{"$f":"ROUND('Income Statement'!UAI12,3)","v":0},{"$f":"ROUND('Income Statement'!UAJ12,3)","v":0},{"$f":"ROUND('Income Statement'!UAK12,3)","v":0},{"$f":"ROUND('Income Statement'!UAL12,3)","v":0},{"$f":"ROUND('Income Statement'!UAM12,3)","v":0},{"$f":"ROUND('Income Statement'!UAN12,3)","v":0},{"$f":"ROUND('Income Statement'!UAO12,3)","v":0},{"$f":"ROUND('Income Statement'!UAP12,3)","v":0},{"$f":"ROUND('Income Statement'!UAQ12,3)","v":0},{"$f":"ROUND('Income Statement'!UAR12,3)","v":0},{"$f":"ROUND('Income Statement'!UAS12,3)","v":0},{"$f":"ROUND('Income Statement'!UAT12,3)","v":0},{"$f":"ROUND('Income Statement'!UAU12,3)","v":0},{"$f":"ROUND('Income Statement'!UAV12,3)","v":0},{"$f":"ROUND('Income Statement'!UAW12,3)","v":0},{"$f":"ROUND('Income Statement'!UAX12,3)","v":0},{"$f":"ROUND('Income Statement'!UAY12,3)","v":0},{"$f":"ROUND('Income Statement'!UAZ12,3)","v":0},{"$f":"ROUND('Income Statement'!UBA12,3)","v":0},{"$f":"ROUND('Income Statement'!UBB12,3)","v":0},{"$f":"ROUND('Income Statement'!UBC12,3)","v":0},{"$f":"ROUND('Income Statement'!UBD12,3)","v":0},{"$f":"ROUND('Income Statement'!UBE12,3)","v":0},{"$f":"ROUND('Income Statement'!UBF12,3)","v":0},{"$f":"ROUND('Income Statement'!UBG12,3)","v":0},{"$f":"ROUND('Income Statement'!UBH12,3)","v":0},{"$f":"ROUND('Income Statement'!UBI12,3)","v":0},{"$f":"ROUND('Income Statement'!UBJ12,3)","v":0},{"$f":"ROUND('Income Statement'!UBK12,3)","v":0},{"$f":"ROUND('Income Statement'!UBL12,3)","v":0},{"$f":"ROUND('Income Statement'!UBM12,3)","v":0},{"$f":"ROUND('Income Statement'!UBN12,3)","v":0},{"$f":"ROUND('Income Statement'!UBO12,3)","v":0},{"$f":"ROUND('Income Statement'!UBP12,3)","v":0},{"$f":"ROUND('Income Statement'!UBQ12,3)","v":0},{"$f":"ROUND('Income Statement'!UBR12,3)","v":0},{"$f":"ROUND('Income Statement'!UBS12,3)","v":0},{"$f":"ROUND('Income Statement'!UBT12,3)","v":0},{"$f":"ROUND('Income Statement'!UBU12,3)","v":0},{"$f":"ROUND('Income Statement'!UBV12,3)","v":0},{"$f":"ROUND('Income Statement'!UBW12,3)","v":0},{"$f":"ROUND('Income Statement'!UBX12,3)","v":0},{"$f":"ROUND('Income Statement'!UBY12,3)","v":0},{"$f":"ROUND('Income Statement'!UBZ12,3)","v":0},{"$f":"ROUND('Income Statement'!UCA12,3)","v":0},{"$f":"ROUND('Income Statement'!UCB12,3)","v":0},{"$f":"ROUND('Income Statement'!UCC12,3)","v":0},{"$f":"ROUND('Income Statement'!UCD12,3)","v":0},{"$f":"ROUND('Income Statement'!UCE12,3)","v":0},{"$f":"ROUND('Income Statement'!UCF12,3)","v":0},{"$f":"ROUND('Income Statement'!UCG12,3)","v":0},{"$f":"ROUND('Income Statement'!UCH12,3)","v":0},{"$f":"ROUND('Income Statement'!UCI12,3)","v":0},{"$f":"ROUND('Income Statement'!UCJ12,3)","v":0},{"$f":"ROUND('Income Statement'!UCK12,3)","v":0},{"$f":"ROUND('Income Statement'!UCL12,3)","v":0},{"$f":"ROUND('Income Statement'!UCM12,3)","v":0},{"$f":"ROUND('Income Statement'!UCN12,3)","v":0},{"$f":"ROUND('Income Statement'!UCO12,3)","v":0},{"$f":"ROUND('Income Statement'!UCP12,3)","v":0},{"$f":"ROUND('Income Statement'!UCQ12,3)","v":0},{"$f":"ROUND('Income Statement'!UCR12,3)","v":0},{"$f":"ROUND('Income Statement'!UCS12,3)","v":0},{"$f":"ROUND('Income Statement'!UCT12,3)","v":0},{"$f":"ROUND('Income Statement'!UCU12,3)","v":0},{"$f":"ROUND('Income Statement'!UCV12,3)","v":0},{"$f":"ROUND('Income Statement'!UCW12,3)","v":0},{"$f":"ROUND('Income Statement'!UCX12,3)","v":0},{"$f":"ROUND('Income Statement'!UCY12,3)","v":0},{"$f":"ROUND('Income Statement'!UCZ12,3)","v":0},{"$f":"ROUND('Income Statement'!UDA12,3)","v":0},{"$f":"ROUND('Income Statement'!UDB12,3)","v":0},{"$f":"ROUND('Income Statement'!UDC12,3)","v":0},{"$f":"ROUND('Income Statement'!UDD12,3)","v":0},{"$f":"ROUND('Income Statement'!UDE12,3)","v":0},{"$f":"ROUND('Income Statement'!UDF12,3)","v":0},{"$f":"ROUND('Income Statement'!UDG12,3)","v":0},{"$f":"ROUND('Income Statement'!UDH12,3)","v":0},{"$f":"ROUND('Income Statement'!UDI12,3)","v":0},{"$f":"ROUND('Income Statement'!UDJ12,3)","v":0},{"$f":"ROUND('Income Statement'!UDK12,3)","v":0},{"$f":"ROUND('Income Statement'!UDL12,3)","v":0},{"$f":"ROUND('Income Statement'!UDM12,3)","v":0},{"$f":"ROUND('Income Statement'!UDN12,3)","v":0},{"$f":"ROUND('Income Statement'!UDO12,3)","v":0},{"$f":"ROUND('Income Statement'!UDP12,3)","v":0},{"$f":"ROUND('Income Statement'!UDQ12,3)","v":0},{"$f":"ROUND('Income Statement'!UDR12,3)","v":0},{"$f":"ROUND('Income Statement'!UDS12,3)","v":0},{"$f":"ROUND('Income Statement'!UDT12,3)","v":0},{"$f":"ROUND('Income Statement'!UDU12,3)","v":0},{"$f":"ROUND('Income Statement'!UDV12,3)","v":0},{"$f":"ROUND('Income Statement'!UDW12,3)","v":0},{"$f":"ROUND('Income Statement'!UDX12,3)","v":0},{"$f":"ROUND('Income Statement'!UDY12,3)","v":0},{"$f":"ROUND('Income Statement'!UDZ12,3)","v":0},{"$f":"ROUND('Income Statement'!UEA12,3)","v":0},{"$f":"ROUND('Income Statement'!UEB12,3)","v":0},{"$f":"ROUND('Income Statement'!UEC12,3)","v":0},{"$f":"ROUND('Income Statement'!UED12,3)","v":0},{"$f":"ROUND('Income Statement'!UEE12,3)","v":0},{"$f":"ROUND('Income Statement'!UEF12,3)","v":0},{"$f":"ROUND('Income Statement'!UEG12,3)","v":0},{"$f":"ROUND('Income Statement'!UEH12,3)","v":0},{"$f":"ROUND('Income Statement'!UEI12,3)","v":0},{"$f":"ROUND('Income Statement'!UEJ12,3)","v":0},{"$f":"ROUND('Income Statement'!UEK12,3)","v":0},{"$f":"ROUND('Income Statement'!UEL12,3)","v":0},{"$f":"ROUND('Income Statement'!UEM12,3)","v":0},{"$f":"ROUND('Income Statement'!UEN12,3)","v":0},{"$f":"ROUND('Income Statement'!UEO12,3)","v":0},{"$f":"ROUND('Income Statement'!UEP12,3)","v":0},{"$f":"ROUND('Income Statement'!UEQ12,3)","v":0},{"$f":"ROUND('Income Statement'!UER12,3)","v":0},{"$f":"ROUND('Income Statement'!UES12,3)","v":0},{"$f":"ROUND('Income Statement'!UET12,3)","v":0},{"$f":"ROUND('Income Statement'!UEU12,3)","v":0},{"$f":"ROUND('Income Statement'!UEV12,3)","v":0},{"$f":"ROUND('Income Statement'!UEW12,3)","v":0},{"$f":"ROUND('Income Statement'!UEX12,3)","v":0},{"$f":"ROUND('Income Statement'!UEY12,3)","v":0},{"$f":"ROUND('Income Statement'!UEZ12,3)","v":0},{"$f":"ROUND('Income Statement'!UFA12,3)","v":0},{"$f":"ROUND('Income Statement'!UFB12,3)","v":0},{"$f":"ROUND('Income Statement'!UFC12,3)","v":0},{"$f":"ROUND('Income Statement'!UFD12,3)","v":0},{"$f":"ROUND('Income Statement'!UFE12,3)","v":0},{"$f":"ROUND('Income Statement'!UFF12,3)","v":0},{"$f":"ROUND('Income Statement'!UFG12,3)","v":0},{"$f":"ROUND('Income Statement'!UFH12,3)","v":0},{"$f":"ROUND('Income Statement'!UFI12,3)","v":0},{"$f":"ROUND('Income Statement'!UFJ12,3)","v":0},{"$f":"ROUND('Income Statement'!UFK12,3)","v":0},{"$f":"ROUND('Income Statement'!UFL12,3)","v":0},{"$f":"ROUND('Income Statement'!UFM12,3)","v":0},{"$f":"ROUND('Income Statement'!UFN12,3)","v":0},{"$f":"ROUND('Income Statement'!UFO12,3)","v":0},{"$f":"ROUND('Income Statement'!UFP12,3)","v":0},{"$f":"ROUND('Income Statement'!UFQ12,3)","v":0},{"$f":"ROUND('Income Statement'!UFR12,3)","v":0},{"$f":"ROUND('Income Statement'!UFS12,3)","v":0},{"$f":"ROUND('Income Statement'!UFT12,3)","v":0},{"$f":"ROUND('Income Statement'!UFU12,3)","v":0},{"$f":"ROUND('Income Statement'!UFV12,3)","v":0},{"$f":"ROUND('Income Statement'!UFW12,3)","v":0},{"$f":"ROUND('Income Statement'!UFX12,3)","v":0},{"$f":"ROUND('Income Statement'!UFY12,3)","v":0},{"$f":"ROUND('Income Statement'!UFZ12,3)","v":0},{"$f":"ROUND('Income Statement'!UGA12,3)","v":0},{"$f":"ROUND('Income Statement'!UGB12,3)","v":0},{"$f":"ROUND('Income Statement'!UGC12,3)","v":0},{"$f":"ROUND('Income Statement'!UGD12,3)","v":0},{"$f":"ROUND('Income Statement'!UGE12,3)","v":0},{"$f":"ROUND('Income Statement'!UGF12,3)","v":0},{"$f":"ROUND('Income Statement'!UGG12,3)","v":0},{"$f":"ROUND('Income Statement'!UGH12,3)","v":0},{"$f":"ROUND('Income Statement'!UGI12,3)","v":0},{"$f":"ROUND('Income Statement'!UGJ12,3)","v":0},{"$f":"ROUND('Income Statement'!UGK12,3)","v":0},{"$f":"ROUND('Income Statement'!UGL12,3)","v":0},{"$f":"ROUND('Income Statement'!UGM12,3)","v":0},{"$f":"ROUND('Income Statement'!UGN12,3)","v":0},{"$f":"ROUND('Income Statement'!UGO12,3)","v":0},{"$f":"ROUND('Income Statement'!UGP12,3)","v":0},{"$f":"ROUND('Income Statement'!UGQ12,3)","v":0},{"$f":"ROUND('Income Statement'!UGR12,3)","v":0},{"$f":"ROUND('Income Statement'!UGS12,3)","v":0},{"$f":"ROUND('Income Statement'!UGT12,3)","v":0},{"$f":"ROUND('Income Statement'!UGU12,3)","v":0},{"$f":"ROUND('Income Statement'!UGV12,3)","v":0},{"$f":"ROUND('Income Statement'!UGW12,3)","v":0},{"$f":"ROUND('Income Statement'!UGX12,3)","v":0},{"$f":"ROUND('Income Statement'!UGY12,3)","v":0},{"$f":"ROUND('Income Statement'!UGZ12,3)","v":0},{"$f":"ROUND('Income Statement'!UHA12,3)","v":0},{"$f":"ROUND('Income Statement'!UHB12,3)","v":0},{"$f":"ROUND('Income Statement'!UHC12,3)","v":0},{"$f":"ROUND('Income Statement'!UHD12,3)","v":0},{"$f":"ROUND('Income Statement'!UHE12,3)","v":0},{"$f":"ROUND('Income Statement'!UHF12,3)","v":0},{"$f":"ROUND('Income Statement'!UHG12,3)","v":0},{"$f":"ROUND('Income Statement'!UHH12,3)","v":0},{"$f":"ROUND('Income Statement'!UHI12,3)","v":0},{"$f":"ROUND('Income Statement'!UHJ12,3)","v":0},{"$f":"ROUND('Income Statement'!UHK12,3)","v":0},{"$f":"ROUND('Income Statement'!UHL12,3)","v":0},{"$f":"ROUND('Income Statement'!UHM12,3)","v":0},{"$f":"ROUND('Income Statement'!UHN12,3)","v":0},{"$f":"ROUND('Income Statement'!UHO12,3)","v":0},{"$f":"ROUND('Income Statement'!UHP12,3)","v":0},{"$f":"ROUND('Income Statement'!UHQ12,3)","v":0},{"$f":"ROUND('Income Statement'!UHR12,3)","v":0},{"$f":"ROUND('Income Statement'!UHS12,3)","v":0},{"$f":"ROUND('Income Statement'!UHT12,3)","v":0},{"$f":"ROUND('Income Statement'!UHU12,3)","v":0},{"$f":"ROUND('Income Statement'!UHV12,3)","v":0},{"$f":"ROUND('Income Statement'!UHW12,3)","v":0},{"$f":"ROUND('Income Statement'!UHX12,3)","v":0},{"$f":"ROUND('Income Statement'!UHY12,3)","v":0},{"$f":"ROUND('Income Statement'!UHZ12,3)","v":0},{"$f":"ROUND('Income Statement'!UIA12,3)","v":0},{"$f":"ROUND('Income Statement'!UIB12,3)","v":0},{"$f":"ROUND('Income Statement'!UIC12,3)","v":0},{"$f":"ROUND('Income Statement'!UID12,3)","v":0},{"$f":"ROUND('Income Statement'!UIE12,3)","v":0},{"$f":"ROUND('Income Statement'!UIF12,3)","v":0},{"$f":"ROUND('Income Statement'!UIG12,3)","v":0},{"$f":"ROUND('Income Statement'!UIH12,3)","v":0},{"$f":"ROUND('Income Statement'!UII12,3)","v":0},{"$f":"ROUND('Income Statement'!UIJ12,3)","v":0},{"$f":"ROUND('Income Statement'!UIK12,3)","v":0},{"$f":"ROUND('Income Statement'!UIL12,3)","v":0},{"$f":"ROUND('Income Statement'!UIM12,3)","v":0},{"$f":"ROUND('Income Statement'!UIN12,3)","v":0},{"$f":"ROUND('Income Statement'!UIO12,3)","v":0},{"$f":"ROUND('Income Statement'!UIP12,3)","v":0},{"$f":"ROUND('Income Statement'!UIQ12,3)","v":0},{"$f":"ROUND('Income Statement'!UIR12,3)","v":0},{"$f":"ROUND('Income Statement'!UIS12,3)","v":0},{"$f":"ROUND('Income Statement'!UIT12,3)","v":0},{"$f":"ROUND('Income Statement'!UIU12,3)","v":0},{"$f":"ROUND('Income Statement'!UIV12,3)","v":0},{"$f":"ROUND('Income Statement'!UIW12,3)","v":0},{"$f":"ROUND('Income Statement'!UIX12,3)","v":0},{"$f":"ROUND('Income Statement'!UIY12,3)","v":0},{"$f":"ROUND('Income Statement'!UIZ12,3)","v":0},{"$f":"ROUND('Income Statement'!UJA12,3)","v":0},{"$f":"ROUND('Income Statement'!UJB12,3)","v":0},{"$f":"ROUND('Income Statement'!UJC12,3)","v":0},{"$f":"ROUND('Income Statement'!UJD12,3)","v":0},{"$f":"ROUND('Income Statement'!UJE12,3)","v":0},{"$f":"ROUND('Income Statement'!UJF12,3)","v":0},{"$f":"ROUND('Income Statement'!UJG12,3)","v":0},{"$f":"ROUND('Income Statement'!UJH12,3)","v":0},{"$f":"ROUND('Income Statement'!UJI12,3)","v":0},{"$f":"ROUND('Income Statement'!UJJ12,3)","v":0},{"$f":"ROUND('Income Statement'!UJK12,3)","v":0},{"$f":"ROUND('Income Statement'!UJL12,3)","v":0},{"$f":"ROUND('Income Statement'!UJM12,3)","v":0},{"$f":"ROUND('Income Statement'!UJN12,3)","v":0},{"$f":"ROUND('Income Statement'!UJO12,3)","v":0},{"$f":"ROUND('Income Statement'!UJP12,3)","v":0},{"$f":"ROUND('Income Statement'!UJQ12,3)","v":0},{"$f":"ROUND('Income Statement'!UJR12,3)","v":0},{"$f":"ROUND('Income Statement'!UJS12,3)","v":0},{"$f":"ROUND('Income Statement'!UJT12,3)","v":0},{"$f":"ROUND('Income Statement'!UJU12,3)","v":0},{"$f":"ROUND('Income Statement'!UJV12,3)","v":0},{"$f":"ROUND('Income Statement'!UJW12,3)","v":0},{"$f":"ROUND('Income Statement'!UJX12,3)","v":0},{"$f":"ROUND('Income Statement'!UJY12,3)","v":0},{"$f":"ROUND('Income Statement'!UJZ12,3)","v":0},{"$f":"ROUND('Income Statement'!UKA12,3)","v":0},{"$f":"ROUND('Income Statement'!UKB12,3)","v":0},{"$f":"ROUND('Income Statement'!UKC12,3)","v":0},{"$f":"ROUND('Income Statement'!UKD12,3)","v":0},{"$f":"ROUND('Income Statement'!UKE12,3)","v":0},{"$f":"ROUND('Income Statement'!UKF12,3)","v":0},{"$f":"ROUND('Income Statement'!UKG12,3)","v":0},{"$f":"ROUND('Income Statement'!UKH12,3)","v":0},{"$f":"ROUND('Income Statement'!UKI12,3)","v":0},{"$f":"ROUND('Income Statement'!UKJ12,3)","v":0},{"$f":"ROUND('Income Statement'!UKK12,3)","v":0},{"$f":"ROUND('Income Statement'!UKL12,3)","v":0},{"$f":"ROUND('Income Statement'!UKM12,3)","v":0},{"$f":"ROUND('Income Statement'!UKN12,3)","v":0},{"$f":"ROUND('Income Statement'!UKO12,3)","v":0},{"$f":"ROUND('Income Statement'!UKP12,3)","v":0},{"$f":"ROUND('Income Statement'!UKQ12,3)","v":0},{"$f":"ROUND('Income Statement'!UKR12,3)","v":0},{"$f":"ROUND('Income Statement'!UKS12,3)","v":0},{"$f":"ROUND('Income Statement'!UKT12,3)","v":0},{"$f":"ROUND('Income Statement'!UKU12,3)","v":0},{"$f":"ROUND('Income Statement'!UKV12,3)","v":0},{"$f":"ROUND('Income Statement'!UKW12,3)","v":0},{"$f":"ROUND('Income Statement'!UKX12,3)","v":0},{"$f":"ROUND('Income Statement'!UKY12,3)","v":0},{"$f":"ROUND('Income Statement'!UKZ12,3)","v":0},{"$f":"ROUND('Income Statement'!ULA12,3)","v":0},{"$f":"ROUND('Income Statement'!ULB12,3)","v":0},{"$f":"ROUND('Income Statement'!ULC12,3)","v":0},{"$f":"ROUND('Income Statement'!ULD12,3)","v":0},{"$f":"ROUND('Income Statement'!ULE12,3)","v":0},{"$f":"ROUND('Income Statement'!ULF12,3)","v":0},{"$f":"ROUND('Income Statement'!ULG12,3)","v":0},{"$f":"ROUND('Income Statement'!ULH12,3)","v":0},{"$f":"ROUND('Income Statement'!ULI12,3)","v":0},{"$f":"ROUND('Income Statement'!ULJ12,3)","v":0},{"$f":"ROUND('Income Statement'!ULK12,3)","v":0},{"$f":"ROUND('Income Statement'!ULL12,3)","v":0},{"$f":"ROUND('Income Statement'!ULM12,3)","v":0},{"$f":"ROUND('Income Statement'!ULN12,3)","v":0},{"$f":"ROUND('Income Statement'!ULO12,3)","v":0},{"$f":"ROUND('Income Statement'!ULP12,3)","v":0},{"$f":"ROUND('Income Statement'!ULQ12,3)","v":0},{"$f":"ROUND('Income Statement'!ULR12,3)","v":0},{"$f":"ROUND('Income Statement'!ULS12,3)","v":0},{"$f":"ROUND('Income Statement'!ULT12,3)","v":0},{"$f":"ROUND('Income Statement'!ULU12,3)","v":0},{"$f":"ROUND('Income Statement'!ULV12,3)","v":0},{"$f":"ROUND('Income Statement'!ULW12,3)","v":0},{"$f":"ROUND('Income Statement'!ULX12,3)","v":0},{"$f":"ROUND('Income Statement'!ULY12,3)","v":0},{"$f":"ROUND('Income Statement'!ULZ12,3)","v":0},{"$f":"ROUND('Income Statement'!UMA12,3)","v":0},{"$f":"ROUND('Income Statement'!UMB12,3)","v":0},{"$f":"ROUND('Income Statement'!UMC12,3)","v":0},{"$f":"ROUND('Income Statement'!UMD12,3)","v":0},{"$f":"ROUND('Income Statement'!UME12,3)","v":0},{"$f":"ROUND('Income Statement'!UMF12,3)","v":0},{"$f":"ROUND('Income Statement'!UMG12,3)","v":0},{"$f":"ROUND('Income Statement'!UMH12,3)","v":0},{"$f":"ROUND('Income Statement'!UMI12,3)","v":0},{"$f":"ROUND('Income Statement'!UMJ12,3)","v":0},{"$f":"ROUND('Income Statement'!UMK12,3)","v":0},{"$f":"ROUND('Income Statement'!UML12,3)","v":0},{"$f":"ROUND('Income Statement'!UMM12,3)","v":0},{"$f":"ROUND('Income Statement'!UMN12,3)","v":0},{"$f":"ROUND('Income Statement'!UMO12,3)","v":0},{"$f":"ROUND('Income Statement'!UMP12,3)","v":0},{"$f":"ROUND('Income Statement'!UMQ12,3)","v":0},{"$f":"ROUND('Income Statement'!UMR12,3)","v":0},{"$f":"ROUND('Income Statement'!UMS12,3)","v":0},{"$f":"ROUND('Income Statement'!UMT12,3)","v":0},{"$f":"ROUND('Income Statement'!UMU12,3)","v":0},{"$f":"ROUND('Income Statement'!UMV12,3)","v":0},{"$f":"ROUND('Income Statement'!UMW12,3)","v":0},{"$f":"ROUND('Income Statement'!UMX12,3)","v":0},{"$f":"ROUND('Income Statement'!UMY12,3)","v":0},{"$f":"ROUND('Income Statement'!UMZ12,3)","v":0},{"$f":"ROUND('Income Statement'!UNA12,3)","v":0},{"$f":"ROUND('Income Statement'!UNB12,3)","v":0},{"$f":"ROUND('Income Statement'!UNC12,3)","v":0},{"$f":"ROUND('Income Statement'!UND12,3)","v":0},{"$f":"ROUND('Income Statement'!UNE12,3)","v":0},{"$f":"ROUND('Income Statement'!UNF12,3)","v":0},{"$f":"ROUND('Income Statement'!UNG12,3)","v":0},{"$f":"ROUND('Income Statement'!UNH12,3)","v":0},{"$f":"ROUND('Income Statement'!UNI12,3)","v":0},{"$f":"ROUND('Income Statement'!UNJ12,3)","v":0},{"$f":"ROUND('Income Statement'!UNK12,3)","v":0},{"$f":"ROUND('Income Statement'!UNL12,3)","v":0},{"$f":"ROUND('Income Statement'!UNM12,3)","v":0},{"$f":"ROUND('Income Statement'!UNN12,3)","v":0},{"$f":"ROUND('Income Statement'!UNO12,3)","v":0},{"$f":"ROUND('Income Statement'!UNP12,3)","v":0},{"$f":"ROUND('Income Statement'!UNQ12,3)","v":0},{"$f":"ROUND('Income Statement'!UNR12,3)","v":0},{"$f":"ROUND('Income Statement'!UNS12,3)","v":0},{"$f":"ROUND('Income Statement'!UNT12,3)","v":0},{"$f":"ROUND('Income Statement'!UNU12,3)","v":0},{"$f":"ROUND('Income Statement'!UNV12,3)","v":0},{"$f":"ROUND('Income Statement'!UNW12,3)","v":0},{"$f":"ROUND('Income Statement'!UNX12,3)","v":0},{"$f":"ROUND('Income Statement'!UNY12,3)","v":0},{"$f":"ROUND('Income Statement'!UNZ12,3)","v":0},{"$f":"ROUND('Income Statement'!UOA12,3)","v":0},{"$f":"ROUND('Income Statement'!UOB12,3)","v":0},{"$f":"ROUND('Income Statement'!UOC12,3)","v":0},{"$f":"ROUND('Income Statement'!UOD12,3)","v":0},{"$f":"ROUND('Income Statement'!UOE12,3)","v":0},{"$f":"ROUND('Income Statement'!UOF12,3)","v":0},{"$f":"ROUND('Income Statement'!UOG12,3)","v":0},{"$f":"ROUND('Income Statement'!UOH12,3)","v":0},{"$f":"ROUND('Income Statement'!UOI12,3)","v":0},{"$f":"ROUND('Income Statement'!UOJ12,3)","v":0},{"$f":"ROUND('Income Statement'!UOK12,3)","v":0},{"$f":"ROUND('Income Statement'!UOL12,3)","v":0},{"$f":"ROUND('Income Statement'!UOM12,3)","v":0},{"$f":"ROUND('Income Statement'!UON12,3)","v":0},{"$f":"ROUND('Income Statement'!UOO12,3)","v":0},{"$f":"ROUND('Income Statement'!UOP12,3)","v":0},{"$f":"ROUND('Income Statement'!UOQ12,3)","v":0},{"$f":"ROUND('Income Statement'!UOR12,3)","v":0},{"$f":"ROUND('Income Statement'!UOS12,3)","v":0},{"$f":"ROUND('Income Statement'!UOT12,3)","v":0},{"$f":"ROUND('Income Statement'!UOU12,3)","v":0},{"$f":"ROUND('Income Statement'!UOV12,3)","v":0},{"$f":"ROUND('Income Statement'!UOW12,3)","v":0},{"$f":"ROUND('Income Statement'!UOX12,3)","v":0},{"$f":"ROUND('Income Statement'!UOY12,3)","v":0},{"$f":"ROUND('Income Statement'!UOZ12,3)","v":0},{"$f":"ROUND('Income Statement'!UPA12,3)","v":0},{"$f":"ROUND('Income Statement'!UPB12,3)","v":0},{"$f":"ROUND('Income Statement'!UPC12,3)","v":0},{"$f":"ROUND('Income Statement'!UPD12,3)","v":0},{"$f":"ROUND('Income Statement'!UPE12,3)","v":0},{"$f":"ROUND('Income Statement'!UPF12,3)","v":0},{"$f":"ROUND('Income Statement'!UPG12,3)","v":0},{"$f":"ROUND('Income Statement'!UPH12,3)","v":0},{"$f":"ROUND('Income Statement'!UPI12,3)","v":0},{"$f":"ROUND('Income Statement'!UPJ12,3)","v":0},{"$f":"ROUND('Income Statement'!UPK12,3)","v":0},{"$f":"ROUND('Income Statement'!UPL12,3)","v":0},{"$f":"ROUND('Income Statement'!UPM12,3)","v":0},{"$f":"ROUND('Income Statement'!UPN12,3)","v":0},{"$f":"ROUND('Income Statement'!UPO12,3)","v":0},{"$f":"ROUND('Income Statement'!UPP12,3)","v":0},{"$f":"ROUND('Income Statement'!UPQ12,3)","v":0},{"$f":"ROUND('Income Statement'!UPR12,3)","v":0},{"$f":"ROUND('Income Statement'!UPS12,3)","v":0},{"$f":"ROUND('Income Statement'!UPT12,3)","v":0},{"$f":"ROUND('Income Statement'!UPU12,3)","v":0},{"$f":"ROUND('Income Statement'!UPV12,3)","v":0},{"$f":"ROUND('Income Statement'!UPW12,3)","v":0},{"$f":"ROUND('Income Statement'!UPX12,3)","v":0},{"$f":"ROUND('Income Statement'!UPY12,3)","v":0},{"$f":"ROUND('Income Statement'!UPZ12,3)","v":0},{"$f":"ROUND('Income Statement'!UQA12,3)","v":0},{"$f":"ROUND('Income Statement'!UQB12,3)","v":0},{"$f":"ROUND('Income Statement'!UQC12,3)","v":0},{"$f":"ROUND('Income Statement'!UQD12,3)","v":0},{"$f":"ROUND('Income Statement'!UQE12,3)","v":0},{"$f":"ROUND('Income Statement'!UQF12,3)","v":0},{"$f":"ROUND('Income Statement'!UQG12,3)","v":0},{"$f":"ROUND('Income Statement'!UQH12,3)","v":0},{"$f":"ROUND('Income Statement'!UQI12,3)","v":0},{"$f":"ROUND('Income Statement'!UQJ12,3)","v":0},{"$f":"ROUND('Income Statement'!UQK12,3)","v":0},{"$f":"ROUND('Income Statement'!UQL12,3)","v":0},{"$f":"ROUND('Income Statement'!UQM12,3)","v":0},{"$f":"ROUND('Income Statement'!UQN12,3)","v":0},{"$f":"ROUND('Income Statement'!UQO12,3)","v":0},{"$f":"ROUND('Income Statement'!UQP12,3)","v":0},{"$f":"ROUND('Income Statement'!UQQ12,3)","v":0},{"$f":"ROUND('Income Statement'!UQR12,3)","v":0},{"$f":"ROUND('Income Statement'!UQS12,3)","v":0},{"$f":"ROUND('Income Statement'!UQT12,3)","v":0},{"$f":"ROUND('Income Statement'!UQU12,3)","v":0},{"$f":"ROUND('Income Statement'!UQV12,3)","v":0},{"$f":"ROUND('Income Statement'!UQW12,3)","v":0},{"$f":"ROUND('Income Statement'!UQX12,3)","v":0},{"$f":"ROUND('Income Statement'!UQY12,3)","v":0},{"$f":"ROUND('Income Statement'!UQZ12,3)","v":0},{"$f":"ROUND('Income Statement'!URA12,3)","v":0},{"$f":"ROUND('Income Statement'!URB12,3)","v":0},{"$f":"ROUND('Income Statement'!URC12,3)","v":0},{"$f":"ROUND('Income Statement'!URD12,3)","v":0},{"$f":"ROUND('Income Statement'!URE12,3)","v":0},{"$f":"ROUND('Income Statement'!URF12,3)","v":0},{"$f":"ROUND('Income Statement'!URG12,3)","v":0},{"$f":"ROUND('Income Statement'!URH12,3)","v":0},{"$f":"ROUND('Income Statement'!URI12,3)","v":0},{"$f":"ROUND('Income Statement'!URJ12,3)","v":0},{"$f":"ROUND('Income Statement'!URK12,3)","v":0},{"$f":"ROUND('Income Statement'!URL12,3)","v":0},{"$f":"ROUND('Income Statement'!URM12,3)","v":0},{"$f":"ROUND('Income Statement'!URN12,3)","v":0},{"$f":"ROUND('Income Statement'!URO12,3)","v":0},{"$f":"ROUND('Income Statement'!URP12,3)","v":0},{"$f":"ROUND('Income Statement'!URQ12,3)","v":0},{"$f":"ROUND('Income Statement'!URR12,3)","v":0},{"$f":"ROUND('Income Statement'!URS12,3)","v":0},{"$f":"ROUND('Income Statement'!URT12,3)","v":0},{"$f":"ROUND('Income Statement'!URU12,3)","v":0},{"$f":"ROUND('Income Statement'!URV12,3)","v":0},{"$f":"ROUND('Income Statement'!URW12,3)","v":0},{"$f":"ROUND('Income Statement'!URX12,3)","v":0},{"$f":"ROUND('Income Statement'!URY12,3)","v":0},{"$f":"ROUND('Income Statement'!URZ12,3)","v":0},{"$f":"ROUND('Income Statement'!USA12,3)","v":0},{"$f":"ROUND('Income Statement'!USB12,3)","v":0},{"$f":"ROUND('Income Statement'!USC12,3)","v":0},{"$f":"ROUND('Income Statement'!USD12,3)","v":0},{"$f":"ROUND('Income Statement'!USE12,3)","v":0},{"$f":"ROUND('Income Statement'!USF12,3)","v":0},{"$f":"ROUND('Income Statement'!USG12,3)","v":0},{"$f":"ROUND('Income Statement'!USH12,3)","v":0},{"$f":"ROUND('Income Statement'!USI12,3)","v":0},{"$f":"ROUND('Income Statement'!USJ12,3)","v":0},{"$f":"ROUND('Income Statement'!USK12,3)","v":0},{"$f":"ROUND('Income Statement'!USL12,3)","v":0},{"$f":"ROUND('Income Statement'!USM12,3)","v":0},{"$f":"ROUND('Income Statement'!USN12,3)","v":0},{"$f":"ROUND('Income Statement'!USO12,3)","v":0},{"$f":"ROUND('Income Statement'!USP12,3)","v":0},{"$f":"ROUND('Income Statement'!USQ12,3)","v":0},{"$f":"ROUND('Income Statement'!USR12,3)","v":0},{"$f":"ROUND('Income Statement'!USS12,3)","v":0},{"$f":"ROUND('Income Statement'!UST12,3)","v":0},{"$f":"ROUND('Income Statement'!USU12,3)","v":0},{"$f":"ROUND('Income Statement'!USV12,3)","v":0},{"$f":"ROUND('Income Statement'!USW12,3)","v":0},{"$f":"ROUND('Income Statement'!USX12,3)","v":0},{"$f":"ROUND('Income Statement'!USY12,3)","v":0},{"$f":"ROUND('Income Statement'!USZ12,3)","v":0},{"$f":"ROUND('Income Statement'!UTA12,3)","v":0},{"$f":"ROUND('Income Statement'!UTB12,3)","v":0},{"$f":"ROUND('Income Statement'!UTC12,3)","v":0},{"$f":"ROUND('Income Statement'!UTD12,3)","v":0},{"$f":"ROUND('Income Statement'!UTE12,3)","v":0},{"$f":"ROUND('Income Statement'!UTF12,3)","v":0},{"$f":"ROUND('Income Statement'!UTG12,3)","v":0},{"$f":"ROUND('Income Statement'!UTH12,3)","v":0},{"$f":"ROUND('Income Statement'!UTI12,3)","v":0},{"$f":"ROUND('Income Statement'!UTJ12,3)","v":0},{"$f":"ROUND('Income Statement'!UTK12,3)","v":0},{"$f":"ROUND('Income Statement'!UTL12,3)","v":0},{"$f":"ROUND('Income Statement'!UTM12,3)","v":0},{"$f":"ROUND('Income Statement'!UTN12,3)","v":0},{"$f":"ROUND('Income Statement'!UTO12,3)","v":0},{"$f":"ROUND('Income Statement'!UTP12,3)","v":0},{"$f":"ROUND('Income Statement'!UTQ12,3)","v":0},{"$f":"ROUND('Income Statement'!UTR12,3)","v":0},{"$f":"ROUND('Income Statement'!UTS12,3)","v":0},{"$f":"ROUND('Income Statement'!UTT12,3)","v":0},{"$f":"ROUND('Income Statement'!UTU12,3)","v":0},{"$f":"ROUND('Income Statement'!UTV12,3)","v":0},{"$f":"ROUND('Income Statement'!UTW12,3)","v":0},{"$f":"ROUND('Income Statement'!UTX12,3)","v":0},{"$f":"ROUND('Income Statement'!UTY12,3)","v":0},{"$f":"ROUND('Income Statement'!UTZ12,3)","v":0},{"$f":"ROUND('Income Statement'!UUA12,3)","v":0},{"$f":"ROUND('Income Statement'!UUB12,3)","v":0},{"$f":"ROUND('Income Statement'!UUC12,3)","v":0},{"$f":"ROUND('Income Statement'!UUD12,3)","v":0},{"$f":"ROUND('Income Statement'!UUE12,3)","v":0},{"$f":"ROUND('Income Statement'!UUF12,3)","v":0},{"$f":"ROUND('Income Statement'!UUG12,3)","v":0},{"$f":"ROUND('Income Statement'!UUH12,3)","v":0},{"$f":"ROUND('Income Statement'!UUI12,3)","v":0},{"$f":"ROUND('Income Statement'!UUJ12,3)","v":0},{"$f":"ROUND('Income Statement'!UUK12,3)","v":0},{"$f":"ROUND('Income Statement'!UUL12,3)","v":0},{"$f":"ROUND('Income Statement'!UUM12,3)","v":0},{"$f":"ROUND('Income Statement'!UUN12,3)","v":0},{"$f":"ROUND('Income Statement'!UUO12,3)","v":0},{"$f":"ROUND('Income Statement'!UUP12,3)","v":0},{"$f":"ROUND('Income Statement'!UUQ12,3)","v":0},{"$f":"ROUND('Income Statement'!UUR12,3)","v":0},{"$f":"ROUND('Income Statement'!UUS12,3)","v":0},{"$f":"ROUND('Income Statement'!UUT12,3)","v":0},{"$f":"ROUND('Income Statement'!UUU12,3)","v":0},{"$f":"ROUND('Income Statement'!UUV12,3)","v":0},{"$f":"ROUND('Income Statement'!UUW12,3)","v":0},{"$f":"ROUND('Income Statement'!UUX12,3)","v":0},{"$f":"ROUND('Income Statement'!UUY12,3)","v":0},{"$f":"ROUND('Income Statement'!UUZ12,3)","v":0},{"$f":"ROUND('Income Statement'!UVA12,3)","v":0},{"$f":"ROUND('Income Statement'!UVB12,3)","v":0},{"$f":"ROUND('Income Statement'!UVC12,3)","v":0},{"$f":"ROUND('Income Statement'!UVD12,3)","v":0},{"$f":"ROUND('Income Statement'!UVE12,3)","v":0},{"$f":"ROUND('Income Statement'!UVF12,3)","v":0},{"$f":"ROUND('Income Statement'!UVG12,3)","v":0},{"$f":"ROUND('Income Statement'!UVH12,3)","v":0},{"$f":"ROUND('Income Statement'!UVI12,3)","v":0},{"$f":"ROUND('Income Statement'!UVJ12,3)","v":0},{"$f":"ROUND('Income Statement'!UVK12,3)","v":0},{"$f":"ROUND('Income Statement'!UVL12,3)","v":0},{"$f":"ROUND('Income Statement'!UVM12,3)","v":0},{"$f":"ROUND('Income Statement'!UVN12,3)","v":0},{"$f":"ROUND('Income Statement'!UVO12,3)","v":0},{"$f":"ROUND('Income Statement'!UVP12,3)","v":0},{"$f":"ROUND('Income Statement'!UVQ12,3)","v":0},{"$f":"ROUND('Income Statement'!UVR12,3)","v":0},{"$f":"ROUND('Income Statement'!UVS12,3)","v":0},{"$f":"ROUND('Income Statement'!UVT12,3)","v":0},{"$f":"ROUND('Income Statement'!UVU12,3)","v":0},{"$f":"ROUND('Income Statement'!UVV12,3)","v":0},{"$f":"ROUND('Income Statement'!UVW12,3)","v":0},{"$f":"ROUND('Income Statement'!UVX12,3)","v":0},{"$f":"ROUND('Income Statement'!UVY12,3)","v":0},{"$f":"ROUND('Income Statement'!UVZ12,3)","v":0},{"$f":"ROUND('Income Statement'!UWA12,3)","v":0},{"$f":"ROUND('Income Statement'!UWB12,3)","v":0},{"$f":"ROUND('Income Statement'!UWC12,3)","v":0},{"$f":"ROUND('Income Statement'!UWD12,3)","v":0},{"$f":"ROUND('Income Statement'!UWE12,3)","v":0},{"$f":"ROUND('Income Statement'!UWF12,3)","v":0},{"$f":"ROUND('Income Statement'!UWG12,3)","v":0},{"$f":"ROUND('Income Statement'!UWH12,3)","v":0},{"$f":"ROUND('Income Statement'!UWI12,3)","v":0},{"$f":"ROUND('Income Statement'!UWJ12,3)","v":0},{"$f":"ROUND('Income Statement'!UWK12,3)","v":0},{"$f":"ROUND('Income Statement'!UWL12,3)","v":0},{"$f":"ROUND('Income Statement'!UWM12,3)","v":0},{"$f":"ROUND('Income Statement'!UWN12,3)","v":0},{"$f":"ROUND('Income Statement'!UWO12,3)","v":0},{"$f":"ROUND('Income Statement'!UWP12,3)","v":0},{"$f":"ROUND('Income Statement'!UWQ12,3)","v":0},{"$f":"ROUND('Income Statement'!UWR12,3)","v":0},{"$f":"ROUND('Income Statement'!UWS12,3)","v":0},{"$f":"ROUND('Income Statement'!UWT12,3)","v":0},{"$f":"ROUND('Income Statement'!UWU12,3)","v":0},{"$f":"ROUND('Income Statement'!UWV12,3)","v":0},{"$f":"ROUND('Income Statement'!UWW12,3)","v":0},{"$f":"ROUND('Income Statement'!UWX12,3)","v":0},{"$f":"ROUND('Income Statement'!UWY12,3)","v":0},{"$f":"ROUND('Income Statement'!UWZ12,3)","v":0},{"$f":"ROUND('Income Statement'!UXA12,3)","v":0},{"$f":"ROUND('Income Statement'!UXB12,3)","v":0},{"$f":"ROUND('Income Statement'!UXC12,3)","v":0},{"$f":"ROUND('Income Statement'!UXD12,3)","v":0},{"$f":"ROUND('Income Statement'!UXE12,3)","v":0},{"$f":"ROUND('Income Statement'!UXF12,3)","v":0},{"$f":"ROUND('Income Statement'!UXG12,3)","v":0},{"$f":"ROUND('Income Statement'!UXH12,3)","v":0},{"$f":"ROUND('Income Statement'!UXI12,3)","v":0},{"$f":"ROUND('Income Statement'!UXJ12,3)","v":0},{"$f":"ROUND('Income Statement'!UXK12,3)","v":0},{"$f":"ROUND('Income Statement'!UXL12,3)","v":0},{"$f":"ROUND('Income Statement'!UXM12,3)","v":0},{"$f":"ROUND('Income Statement'!UXN12,3)","v":0},{"$f":"ROUND('Income Statement'!UXO12,3)","v":0},{"$f":"ROUND('Income Statement'!UXP12,3)","v":0},{"$f":"ROUND('Income Statement'!UXQ12,3)","v":0},{"$f":"ROUND('Income Statement'!UXR12,3)","v":0},{"$f":"ROUND('Income Statement'!UXS12,3)","v":0},{"$f":"ROUND('Income Statement'!UXT12,3)","v":0},{"$f":"ROUND('Income Statement'!UXU12,3)","v":0},{"$f":"ROUND('Income Statement'!UXV12,3)","v":0},{"$f":"ROUND('Income Statement'!UXW12,3)","v":0},{"$f":"ROUND('Income Statement'!UXX12,3)","v":0},{"$f":"ROUND('Income Statement'!UXY12,3)","v":0},{"$f":"ROUND('Income Statement'!UXZ12,3)","v":0},{"$f":"ROUND('Income Statement'!UYA12,3)","v":0},{"$f":"ROUND('Income Statement'!UYB12,3)","v":0},{"$f":"ROUND('Income Statement'!UYC12,3)","v":0},{"$f":"ROUND('Income Statement'!UYD12,3)","v":0},{"$f":"ROUND('Income Statement'!UYE12,3)","v":0},{"$f":"ROUND('Income Statement'!UYF12,3)","v":0},{"$f":"ROUND('Income Statement'!UYG12,3)","v":0},{"$f":"ROUND('Income Statement'!UYH12,3)","v":0},{"$f":"ROUND('Income Statement'!UYI12,3)","v":0},{"$f":"ROUND('Income Statement'!UYJ12,3)","v":0},{"$f":"ROUND('Income Statement'!UYK12,3)","v":0},{"$f":"ROUND('Income Statement'!UYL12,3)","v":0},{"$f":"ROUND('Income Statement'!UYM12,3)","v":0},{"$f":"ROUND('Income Statement'!UYN12,3)","v":0},{"$f":"ROUND('Income Statement'!UYO12,3)","v":0},{"$f":"ROUND('Income Statement'!UYP12,3)","v":0},{"$f":"ROUND('Income Statement'!UYQ12,3)","v":0},{"$f":"ROUND('Income Statement'!UYR12,3)","v":0},{"$f":"ROUND('Income Statement'!UYS12,3)","v":0},{"$f":"ROUND('Income Statement'!UYT12,3)","v":0},{"$f":"ROUND('Income Statement'!UYU12,3)","v":0},{"$f":"ROUND('Income Statement'!UYV12,3)","v":0},{"$f":"ROUND('Income Statement'!UYW12,3)","v":0},{"$f":"ROUND('Income Statement'!UYX12,3)","v":0},{"$f":"ROUND('Income Statement'!UYY12,3)","v":0},{"$f":"ROUND('Income Statement'!UYZ12,3)","v":0},{"$f":"ROUND('Income Statement'!UZA12,3)","v":0},{"$f":"ROUND('Income Statement'!UZB12,3)","v":0},{"$f":"ROUND('Income Statement'!UZC12,3)","v":0},{"$f":"ROUND('Income Statement'!UZD12,3)","v":0},{"$f":"ROUND('Income Statement'!UZE12,3)","v":0},{"$f":"ROUND('Income Statement'!UZF12,3)","v":0},{"$f":"ROUND('Income Statement'!UZG12,3)","v":0},{"$f":"ROUND('Income Statement'!UZH12,3)","v":0},{"$f":"ROUND('Income Statement'!UZI12,3)","v":0},{"$f":"ROUND('Income Statement'!UZJ12,3)","v":0},{"$f":"ROUND('Income Statement'!UZK12,3)","v":0},{"$f":"ROUND('Income Statement'!UZL12,3)","v":0},{"$f":"ROUND('Income Statement'!UZM12,3)","v":0},{"$f":"ROUND('Income Statement'!UZN12,3)","v":0},{"$f":"ROUND('Income Statement'!UZO12,3)","v":0},{"$f":"ROUND('Income Statement'!UZP12,3)","v":0},{"$f":"ROUND('Income Statement'!UZQ12,3)","v":0},{"$f":"ROUND('Income Statement'!UZR12,3)","v":0},{"$f":"ROUND('Income Statement'!UZS12,3)","v":0},{"$f":"ROUND('Income Statement'!UZT12,3)","v":0},{"$f":"ROUND('Income Statement'!UZU12,3)","v":0},{"$f":"ROUND('Income Statement'!UZV12,3)","v":0},{"$f":"ROUND('Income Statement'!UZW12,3)","v":0},{"$f":"ROUND('Income Statement'!UZX12,3)","v":0},{"$f":"ROUND('Income Statement'!UZY12,3)","v":0},{"$f":"ROUND('Income Statement'!UZZ12,3)","v":0},{"$f":"ROUND('Income Statement'!VAA12,3)","v":0},{"$f":"ROUND('Income Statement'!VAB12,3)","v":0},{"$f":"ROUND('Income Statement'!VAC12,3)","v":0},{"$f":"ROUND('Income Statement'!VAD12,3)","v":0},{"$f":"ROUND('Income Statement'!VAE12,3)","v":0},{"$f":"ROUND('Income Statement'!VAF12,3)","v":0},{"$f":"ROUND('Income Statement'!VAG12,3)","v":0},{"$f":"ROUND('Income Statement'!VAH12,3)","v":0},{"$f":"ROUND('Income Statement'!VAI12,3)","v":0},{"$f":"ROUND('Income Statement'!VAJ12,3)","v":0},{"$f":"ROUND('Income Statement'!VAK12,3)","v":0},{"$f":"ROUND('Income Statement'!VAL12,3)","v":0},{"$f":"ROUND('Income Statement'!VAM12,3)","v":0},{"$f":"ROUND('Income Statement'!VAN12,3)","v":0},{"$f":"ROUND('Income Statement'!VAO12,3)","v":0},{"$f":"ROUND('Income Statement'!VAP12,3)","v":0},{"$f":"ROUND('Income Statement'!VAQ12,3)","v":0},{"$f":"ROUND('Income Statement'!VAR12,3)","v":0},{"$f":"ROUND('Income Statement'!VAS12,3)","v":0},{"$f":"ROUND('Income Statement'!VAT12,3)","v":0},{"$f":"ROUND('Income Statement'!VAU12,3)","v":0},{"$f":"ROUND('Income Statement'!VAV12,3)","v":0},{"$f":"ROUND('Income Statement'!VAW12,3)","v":0},{"$f":"ROUND('Income Statement'!VAX12,3)","v":0},{"$f":"ROUND('Income Statement'!VAY12,3)","v":0},{"$f":"ROUND('Income Statement'!VAZ12,3)","v":0},{"$f":"ROUND('Income Statement'!VBA12,3)","v":0},{"$f":"ROUND('Income Statement'!VBB12,3)","v":0},{"$f":"ROUND('Income Statement'!VBC12,3)","v":0},{"$f":"ROUND('Income Statement'!VBD12,3)","v":0},{"$f":"ROUND('Income Statement'!VBE12,3)","v":0},{"$f":"ROUND('Income Statement'!VBF12,3)","v":0},{"$f":"ROUND('Income Statement'!VBG12,3)","v":0},{"$f":"ROUND('Income Statement'!VBH12,3)","v":0},{"$f":"ROUND('Income Statement'!VBI12,3)","v":0},{"$f":"ROUND('Income Statement'!VBJ12,3)","v":0},{"$f":"ROUND('Income Statement'!VBK12,3)","v":0},{"$f":"ROUND('Income Statement'!VBL12,3)","v":0},{"$f":"ROUND('Income Statement'!VBM12,3)","v":0},{"$f":"ROUND('Income Statement'!VBN12,3)","v":0},{"$f":"ROUND('Income Statement'!VBO12,3)","v":0},{"$f":"ROUND('Income Statement'!VBP12,3)","v":0},{"$f":"ROUND('Income Statement'!VBQ12,3)","v":0},{"$f":"ROUND('Income Statement'!VBR12,3)","v":0},{"$f":"ROUND('Income Statement'!VBS12,3)","v":0},{"$f":"ROUND('Income Statement'!VBT12,3)","v":0},{"$f":"ROUND('Income Statement'!VBU12,3)","v":0},{"$f":"ROUND('Income Statement'!VBV12,3)","v":0},{"$f":"ROUND('Income Statement'!VBW12,3)","v":0},{"$f":"ROUND('Income Statement'!VBX12,3)","v":0},{"$f":"ROUND('Income Statement'!VBY12,3)","v":0},{"$f":"ROUND('Income Statement'!VBZ12,3)","v":0},{"$f":"ROUND('Income Statement'!VCA12,3)","v":0},{"$f":"ROUND('Income Statement'!VCB12,3)","v":0},{"$f":"ROUND('Income Statement'!VCC12,3)","v":0},{"$f":"ROUND('Income Statement'!VCD12,3)","v":0},{"$f":"ROUND('Income Statement'!VCE12,3)","v":0},{"$f":"ROUND('Income Statement'!VCF12,3)","v":0},{"$f":"ROUND('Income Statement'!VCG12,3)","v":0},{"$f":"ROUND('Income Statement'!VCH12,3)","v":0},{"$f":"ROUND('Income Statement'!VCI12,3)","v":0},{"$f":"ROUND('Income Statement'!VCJ12,3)","v":0},{"$f":"ROUND('Income Statement'!VCK12,3)","v":0},{"$f":"ROUND('Income Statement'!VCL12,3)","v":0},{"$f":"ROUND('Income Statement'!VCM12,3)","v":0},{"$f":"ROUND('Income Statement'!VCN12,3)","v":0},{"$f":"ROUND('Income Statement'!VCO12,3)","v":0},{"$f":"ROUND('Income Statement'!VCP12,3)","v":0},{"$f":"ROUND('Income Statement'!VCQ12,3)","v":0},{"$f":"ROUND('Income Statement'!VCR12,3)","v":0},{"$f":"ROUND('Income Statement'!VCS12,3)","v":0},{"$f":"ROUND('Income Statement'!VCT12,3)","v":0},{"$f":"ROUND('Income Statement'!VCU12,3)","v":0},{"$f":"ROUND('Income Statement'!VCV12,3)","v":0},{"$f":"ROUND('Income Statement'!VCW12,3)","v":0},{"$f":"ROUND('Income Statement'!VCX12,3)","v":0},{"$f":"ROUND('Income Statement'!VCY12,3)","v":0},{"$f":"ROUND('Income Statement'!VCZ12,3)","v":0},{"$f":"ROUND('Income Statement'!VDA12,3)","v":0},{"$f":"ROUND('Income Statement'!VDB12,3)","v":0},{"$f":"ROUND('Income Statement'!VDC12,3)","v":0},{"$f":"ROUND('Income Statement'!VDD12,3)","v":0},{"$f":"ROUND('Income Statement'!VDE12,3)","v":0},{"$f":"ROUND('Income Statement'!VDF12,3)","v":0},{"$f":"ROUND('Income Statement'!VDG12,3)","v":0},{"$f":"ROUND('Income Statement'!VDH12,3)","v":0},{"$f":"ROUND('Income Statement'!VDI12,3)","v":0},{"$f":"ROUND('Income Statement'!VDJ12,3)","v":0},{"$f":"ROUND('Income Statement'!VDK12,3)","v":0},{"$f":"ROUND('Income Statement'!VDL12,3)","v":0},{"$f":"ROUND('Income Statement'!VDM12,3)","v":0},{"$f":"ROUND('Income Statement'!VDN12,3)","v":0},{"$f":"ROUND('Income Statement'!VDO12,3)","v":0},{"$f":"ROUND('Income Statement'!VDP12,3)","v":0},{"$f":"ROUND('Income Statement'!VDQ12,3)","v":0},{"$f":"ROUND('Income Statement'!VDR12,3)","v":0},{"$f":"ROUND('Income Statement'!VDS12,3)","v":0},{"$f":"ROUND('Income Statement'!VDT12,3)","v":0},{"$f":"ROUND('Income Statement'!VDU12,3)","v":0},{"$f":"ROUND('Income Statement'!VDV12,3)","v":0},{"$f":"ROUND('Income Statement'!VDW12,3)","v":0},{"$f":"ROUND('Income Statement'!VDX12,3)","v":0},{"$f":"ROUND('Income Statement'!VDY12,3)","v":0},{"$f":"ROUND('Income Statement'!VDZ12,3)","v":0},{"$f":"ROUND('Income Statement'!VEA12,3)","v":0},{"$f":"ROUND('Income Statement'!VEB12,3)","v":0},{"$f":"ROUND('Income Statement'!VEC12,3)","v":0},{"$f":"ROUND('Income Statement'!VED12,3)","v":0},{"$f":"ROUND('Income Statement'!VEE12,3)","v":0},{"$f":"ROUND('Income Statement'!VEF12,3)","v":0},{"$f":"ROUND('Income Statement'!VEG12,3)","v":0},{"$f":"ROUND('Income Statement'!VEH12,3)","v":0},{"$f":"ROUND('Income Statement'!VEI12,3)","v":0},{"$f":"ROUND('Income Statement'!VEJ12,3)","v":0},{"$f":"ROUND('Income Statement'!VEK12,3)","v":0},{"$f":"ROUND('Income Statement'!VEL12,3)","v":0},{"$f":"ROUND('Income Statement'!VEM12,3)","v":0},{"$f":"ROUND('Income Statement'!VEN12,3)","v":0},{"$f":"ROUND('Income Statement'!VEO12,3)","v":0},{"$f":"ROUND('Income Statement'!VEP12,3)","v":0},{"$f":"ROUND('Income Statement'!VEQ12,3)","v":0},{"$f":"ROUND('Income Statement'!VER12,3)","v":0},{"$f":"ROUND('Income Statement'!VES12,3)","v":0},{"$f":"ROUND('Income Statement'!VET12,3)","v":0},{"$f":"ROUND('Income Statement'!VEU12,3)","v":0},{"$f":"ROUND('Income Statement'!VEV12,3)","v":0},{"$f":"ROUND('Income Statement'!VEW12,3)","v":0},{"$f":"ROUND('Income Statement'!VEX12,3)","v":0},{"$f":"ROUND('Income Statement'!VEY12,3)","v":0},{"$f":"ROUND('Income Statement'!VEZ12,3)","v":0},{"$f":"ROUND('Income Statement'!VFA12,3)","v":0},{"$f":"ROUND('Income Statement'!VFB12,3)","v":0},{"$f":"ROUND('Income Statement'!VFC12,3)","v":0},{"$f":"ROUND('Income Statement'!VFD12,3)","v":0},{"$f":"ROUND('Income Statement'!VFE12,3)","v":0},{"$f":"ROUND('Income Statement'!VFF12,3)","v":0},{"$f":"ROUND('Income Statement'!VFG12,3)","v":0},{"$f":"ROUND('Income Statement'!VFH12,3)","v":0},{"$f":"ROUND('Income Statement'!VFI12,3)","v":0},{"$f":"ROUND('Income Statement'!VFJ12,3)","v":0},{"$f":"ROUND('Income Statement'!VFK12,3)","v":0},{"$f":"ROUND('Income Statement'!VFL12,3)","v":0},{"$f":"ROUND('Income Statement'!VFM12,3)","v":0},{"$f":"ROUND('Income Statement'!VFN12,3)","v":0},{"$f":"ROUND('Income Statement'!VFO12,3)","v":0},{"$f":"ROUND('Income Statement'!VFP12,3)","v":0},{"$f":"ROUND('Income Statement'!VFQ12,3)","v":0},{"$f":"ROUND('Income Statement'!VFR12,3)","v":0},{"$f":"ROUND('Income Statement'!VFS12,3)","v":0},{"$f":"ROUND('Income Statement'!VFT12,3)","v":0},{"$f":"ROUND('Income Statement'!VFU12,3)","v":0},{"$f":"ROUND('Income Statement'!VFV12,3)","v":0},{"$f":"ROUND('Income Statement'!VFW12,3)","v":0},{"$f":"ROUND('Income Statement'!VFX12,3)","v":0},{"$f":"ROUND('Income Statement'!VFY12,3)","v":0},{"$f":"ROUND('Income Statement'!VFZ12,3)","v":0},{"$f":"ROUND('Income Statement'!VGA12,3)","v":0},{"$f":"ROUND('Income Statement'!VGB12,3)","v":0},{"$f":"ROUND('Income Statement'!VGC12,3)","v":0},{"$f":"ROUND('Income Statement'!VGD12,3)","v":0},{"$f":"ROUND('Income Statement'!VGE12,3)","v":0},{"$f":"ROUND('Income Statement'!VGF12,3)","v":0},{"$f":"ROUND('Income Statement'!VGG12,3)","v":0},{"$f":"ROUND('Income Statement'!VGH12,3)","v":0},{"$f":"ROUND('Income Statement'!VGI12,3)","v":0},{"$f":"ROUND('Income Statement'!VGJ12,3)","v":0},{"$f":"ROUND('Income Statement'!VGK12,3)","v":0},{"$f":"ROUND('Income Statement'!VGL12,3)","v":0},{"$f":"ROUND('Income Statement'!VGM12,3)","v":0},{"$f":"ROUND('Income Statement'!VGN12,3)","v":0},{"$f":"ROUND('Income Statement'!VGO12,3)","v":0},{"$f":"ROUND('Income Statement'!VGP12,3)","v":0},{"$f":"ROUND('Income Statement'!VGQ12,3)","v":0},{"$f":"ROUND('Income Statement'!VGR12,3)","v":0},{"$f":"ROUND('Income Statement'!VGS12,3)","v":0},{"$f":"ROUND('Income Statement'!VGT12,3)","v":0},{"$f":"ROUND('Income Statement'!VGU12,3)","v":0},{"$f":"ROUND('Income Statement'!VGV12,3)","v":0},{"$f":"ROUND('Income Statement'!VGW12,3)","v":0},{"$f":"ROUND('Income Statement'!VGX12,3)","v":0},{"$f":"ROUND('Income Statement'!VGY12,3)","v":0},{"$f":"ROUND('Income Statement'!VGZ12,3)","v":0},{"$f":"ROUND('Income Statement'!VHA12,3)","v":0},{"$f":"ROUND('Income Statement'!VHB12,3)","v":0},{"$f":"ROUND('Income Statement'!VHC12,3)","v":0},{"$f":"ROUND('Income Statement'!VHD12,3)","v":0},{"$f":"ROUND('Income Statement'!VHE12,3)","v":0},{"$f":"ROUND('Income Statement'!VHF12,3)","v":0},{"$f":"ROUND('Income Statement'!VHG12,3)","v":0},{"$f":"ROUND('Income Statement'!VHH12,3)","v":0},{"$f":"ROUND('Income Statement'!VHI12,3)","v":0},{"$f":"ROUND('Income Statement'!VHJ12,3)","v":0},{"$f":"ROUND('Income Statement'!VHK12,3)","v":0},{"$f":"ROUND('Income Statement'!VHL12,3)","v":0},{"$f":"ROUND('Income Statement'!VHM12,3)","v":0},{"$f":"ROUND('Income Statement'!VHN12,3)","v":0},{"$f":"ROUND('Income Statement'!VHO12,3)","v":0},{"$f":"ROUND('Income Statement'!VHP12,3)","v":0},{"$f":"ROUND('Income Statement'!VHQ12,3)","v":0},{"$f":"ROUND('Income Statement'!VHR12,3)","v":0},{"$f":"ROUND('Income Statement'!VHS12,3)","v":0},{"$f":"ROUND('Income Statement'!VHT12,3)","v":0},{"$f":"ROUND('Income Statement'!VHU12,3)","v":0},{"$f":"ROUND('Income Statement'!VHV12,3)","v":0},{"$f":"ROUND('Income Statement'!VHW12,3)","v":0},{"$f":"ROUND('Income Statement'!VHX12,3)","v":0},{"$f":"ROUND('Income Statement'!VHY12,3)","v":0},{"$f":"ROUND('Income Statement'!VHZ12,3)","v":0},{"$f":"ROUND('Income Statement'!VIA12,3)","v":0},{"$f":"ROUND('Income Statement'!VIB12,3)","v":0},{"$f":"ROUND('Income Statement'!VIC12,3)","v":0},{"$f":"ROUND('Income Statement'!VID12,3)","v":0},{"$f":"ROUND('Income Statement'!VIE12,3)","v":0},{"$f":"ROUND('Income Statement'!VIF12,3)","v":0},{"$f":"ROUND('Income Statement'!VIG12,3)","v":0},{"$f":"ROUND('Income Statement'!VIH12,3)","v":0},{"$f":"ROUND('Income Statement'!VII12,3)","v":0},{"$f":"ROUND('Income Statement'!VIJ12,3)","v":0},{"$f":"ROUND('Income Statement'!VIK12,3)","v":0},{"$f":"ROUND('Income Statement'!VIL12,3)","v":0},{"$f":"ROUND('Income Statement'!VIM12,3)","v":0},{"$f":"ROUND('Income Statement'!VIN12,3)","v":0},{"$f":"ROUND('Income Statement'!VIO12,3)","v":0},{"$f":"ROUND('Income Statement'!VIP12,3)","v":0},{"$f":"ROUND('Income Statement'!VIQ12,3)","v":0},{"$f":"ROUND('Income Statement'!VIR12,3)","v":0},{"$f":"ROUND('Income Statement'!VIS12,3)","v":0},{"$f":"ROUND('Income Statement'!VIT12,3)","v":0},{"$f":"ROUND('Income Statement'!VIU12,3)","v":0},{"$f":"ROUND('Income Statement'!VIV12,3)","v":0},{"$f":"ROUND('Income Statement'!VIW12,3)","v":0},{"$f":"ROUND('Income Statement'!VIX12,3)","v":0},{"$f":"ROUND('Income Statement'!VIY12,3)","v":0},{"$f":"ROUND('Income Statement'!VIZ12,3)","v":0},{"$f":"ROUND('Income Statement'!VJA12,3)","v":0},{"$f":"ROUND('Income Statement'!VJB12,3)","v":0},{"$f":"ROUND('Income Statement'!VJC12,3)","v":0},{"$f":"ROUND('Income Statement'!VJD12,3)","v":0},{"$f":"ROUND('Income Statement'!VJE12,3)","v":0},{"$f":"ROUND('Income Statement'!VJF12,3)","v":0},{"$f":"ROUND('Income Statement'!VJG12,3)","v":0},{"$f":"ROUND('Income Statement'!VJH12,3)","v":0},{"$f":"ROUND('Income Statement'!VJI12,3)","v":0},{"$f":"ROUND('Income Statement'!VJJ12,3)","v":0},{"$f":"ROUND('Income Statement'!VJK12,3)","v":0},{"$f":"ROUND('Income Statement'!VJL12,3)","v":0},{"$f":"ROUND('Income Statement'!VJM12,3)","v":0},{"$f":"ROUND('Income Statement'!VJN12,3)","v":0},{"$f":"ROUND('Income Statement'!VJO12,3)","v":0},{"$f":"ROUND('Income Statement'!VJP12,3)","v":0},{"$f":"ROUND('Income Statement'!VJQ12,3)","v":0},{"$f":"ROUND('Income Statement'!VJR12,3)","v":0},{"$f":"ROUND('Income Statement'!VJS12,3)","v":0},{"$f":"ROUND('Income Statement'!VJT12,3)","v":0},{"$f":"ROUND('Income Statement'!VJU12,3)","v":0},{"$f":"ROUND('Income Statement'!VJV12,3)","v":0},{"$f":"ROUND('Income Statement'!VJW12,3)","v":0},{"$f":"ROUND('Income Statement'!VJX12,3)","v":0},{"$f":"ROUND('Income Statement'!VJY12,3)","v":0},{"$f":"ROUND('Income Statement'!VJZ12,3)","v":0},{"$f":"ROUND('Income Statement'!VKA12,3)","v":0},{"$f":"ROUND('Income Statement'!VKB12,3)","v":0},{"$f":"ROUND('Income Statement'!VKC12,3)","v":0},{"$f":"ROUND('Income Statement'!VKD12,3)","v":0},{"$f":"ROUND('Income Statement'!VKE12,3)","v":0},{"$f":"ROUND('Income Statement'!VKF12,3)","v":0},{"$f":"ROUND('Income Statement'!VKG12,3)","v":0},{"$f":"ROUND('Income Statement'!VKH12,3)","v":0},{"$f":"ROUND('Income Statement'!VKI12,3)","v":0},{"$f":"ROUND('Income Statement'!VKJ12,3)","v":0},{"$f":"ROUND('Income Statement'!VKK12,3)","v":0},{"$f":"ROUND('Income Statement'!VKL12,3)","v":0},{"$f":"ROUND('Income Statement'!VKM12,3)","v":0},{"$f":"ROUND('Income Statement'!VKN12,3)","v":0},{"$f":"ROUND('Income Statement'!VKO12,3)","v":0},{"$f":"ROUND('Income Statement'!VKP12,3)","v":0},{"$f":"ROUND('Income Statement'!VKQ12,3)","v":0},{"$f":"ROUND('Income Statement'!VKR12,3)","v":0},{"$f":"ROUND('Income Statement'!VKS12,3)","v":0},{"$f":"ROUND('Income Statement'!VKT12,3)","v":0},{"$f":"ROUND('Income Statement'!VKU12,3)","v":0},{"$f":"ROUND('Income Statement'!VKV12,3)","v":0},{"$f":"ROUND('Income Statement'!VKW12,3)","v":0},{"$f":"ROUND('Income Statement'!VKX12,3)","v":0},{"$f":"ROUND('Income Statement'!VKY12,3)","v":0},{"$f":"ROUND('Income Statement'!VKZ12,3)","v":0},{"$f":"ROUND('Income Statement'!VLA12,3)","v":0},{"$f":"ROUND('Income Statement'!VLB12,3)","v":0},{"$f":"ROUND('Income Statement'!VLC12,3)","v":0},{"$f":"ROUND('Income Statement'!VLD12,3)","v":0},{"$f":"ROUND('Income Statement'!VLE12,3)","v":0},{"$f":"ROUND('Income Statement'!VLF12,3)","v":0},{"$f":"ROUND('Income Statement'!VLG12,3)","v":0},{"$f":"ROUND('Income Statement'!VLH12,3)","v":0},{"$f":"ROUND('Income Statement'!VLI12,3)","v":0},{"$f":"ROUND('Income Statement'!VLJ12,3)","v":0},{"$f":"ROUND('Income Statement'!VLK12,3)","v":0},{"$f":"ROUND('Income Statement'!VLL12,3)","v":0},{"$f":"ROUND('Income Statement'!VLM12,3)","v":0},{"$f":"ROUND('Income Statement'!VLN12,3)","v":0},{"$f":"ROUND('Income Statement'!VLO12,3)","v":0},{"$f":"ROUND('Income Statement'!VLP12,3)","v":0},{"$f":"ROUND('Income Statement'!VLQ12,3)","v":0},{"$f":"ROUND('Income Statement'!VLR12,3)","v":0},{"$f":"ROUND('Income Statement'!VLS12,3)","v":0},{"$f":"ROUND('Income Statement'!VLT12,3)","v":0},{"$f":"ROUND('Income Statement'!VLU12,3)","v":0},{"$f":"ROUND('Income Statement'!VLV12,3)","v":0},{"$f":"ROUND('Income Statement'!VLW12,3)","v":0},{"$f":"ROUND('Income Statement'!VLX12,3)","v":0},{"$f":"ROUND('Income Statement'!VLY12,3)","v":0},{"$f":"ROUND('Income Statement'!VLZ12,3)","v":0},{"$f":"ROUND('Income Statement'!VMA12,3)","v":0},{"$f":"ROUND('Income Statement'!VMB12,3)","v":0},{"$f":"ROUND('Income Statement'!VMC12,3)","v":0},{"$f":"ROUND('Income Statement'!VMD12,3)","v":0},{"$f":"ROUND('Income Statement'!VME12,3)","v":0},{"$f":"ROUND('Income Statement'!VMF12,3)","v":0},{"$f":"ROUND('Income Statement'!VMG12,3)","v":0},{"$f":"ROUND('Income Statement'!VMH12,3)","v":0},{"$f":"ROUND('Income Statement'!VMI12,3)","v":0},{"$f":"ROUND('Income Statement'!VMJ12,3)","v":0},{"$f":"ROUND('Income Statement'!VMK12,3)","v":0},{"$f":"ROUND('Income Statement'!VML12,3)","v":0},{"$f":"ROUND('Income Statement'!VMM12,3)","v":0},{"$f":"ROUND('Income Statement'!VMN12,3)","v":0},{"$f":"ROUND('Income Statement'!VMO12,3)","v":0},{"$f":"ROUND('Income Statement'!VMP12,3)","v":0},{"$f":"ROUND('Income Statement'!VMQ12,3)","v":0},{"$f":"ROUND('Income Statement'!VMR12,3)","v":0},{"$f":"ROUND('Income Statement'!VMS12,3)","v":0},{"$f":"ROUND('Income Statement'!VMT12,3)","v":0},{"$f":"ROUND('Income Statement'!VMU12,3)","v":0},{"$f":"ROUND('Income Statement'!VMV12,3)","v":0},{"$f":"ROUND('Income Statement'!VMW12,3)","v":0},{"$f":"ROUND('Income Statement'!VMX12,3)","v":0},{"$f":"ROUND('Income Statement'!VMY12,3)","v":0},{"$f":"ROUND('Income Statement'!VMZ12,3)","v":0},{"$f":"ROUND('Income Statement'!VNA12,3)","v":0},{"$f":"ROUND('Income Statement'!VNB12,3)","v":0},{"$f":"ROUND('Income Statement'!VNC12,3)","v":0},{"$f":"ROUND('Income Statement'!VND12,3)","v":0},{"$f":"ROUND('Income Statement'!VNE12,3)","v":0},{"$f":"ROUND('Income Statement'!VNF12,3)","v":0},{"$f":"ROUND('Income Statement'!VNG12,3)","v":0},{"$f":"ROUND('Income Statement'!VNH12,3)","v":0},{"$f":"ROUND('Income Statement'!VNI12,3)","v":0},{"$f":"ROUND('Income Statement'!VNJ12,3)","v":0},{"$f":"ROUND('Income Statement'!VNK12,3)","v":0},{"$f":"ROUND('Income Statement'!VNL12,3)","v":0},{"$f":"ROUND('Income Statement'!VNM12,3)","v":0},{"$f":"ROUND('Income Statement'!VNN12,3)","v":0},{"$f":"ROUND('Income Statement'!VNO12,3)","v":0},{"$f":"ROUND('Income Statement'!VNP12,3)","v":0},{"$f":"ROUND('Income Statement'!VNQ12,3)","v":0},{"$f":"ROUND('Income Statement'!VNR12,3)","v":0},{"$f":"ROUND('Income Statement'!VNS12,3)","v":0},{"$f":"ROUND('Income Statement'!VNT12,3)","v":0},{"$f":"ROUND('Income Statement'!VNU12,3)","v":0},{"$f":"ROUND('Income Statement'!VNV12,3)","v":0},{"$f":"ROUND('Income Statement'!VNW12,3)","v":0},{"$f":"ROUND('Income Statement'!VNX12,3)","v":0},{"$f":"ROUND('Income Statement'!VNY12,3)","v":0},{"$f":"ROUND('Income Statement'!VNZ12,3)","v":0},{"$f":"ROUND('Income Statement'!VOA12,3)","v":0},{"$f":"ROUND('Income Statement'!VOB12,3)","v":0},{"$f":"ROUND('Income Statement'!VOC12,3)","v":0},{"$f":"ROUND('Income Statement'!VOD12,3)","v":0},{"$f":"ROUND('Income Statement'!VOE12,3)","v":0},{"$f":"ROUND('Income Statement'!VOF12,3)","v":0},{"$f":"ROUND('Income Statement'!VOG12,3)","v":0},{"$f":"ROUND('Income Statement'!VOH12,3)","v":0},{"$f":"ROUND('Income Statement'!VOI12,3)","v":0},{"$f":"ROUND('Income Statement'!VOJ12,3)","v":0},{"$f":"ROUND('Income Statement'!VOK12,3)","v":0},{"$f":"ROUND('Income Statement'!VOL12,3)","v":0},{"$f":"ROUND('Income Statement'!VOM12,3)","v":0},{"$f":"ROUND('Income Statement'!VON12,3)","v":0},{"$f":"ROUND('Income Statement'!VOO12,3)","v":0},{"$f":"ROUND('Income Statement'!VOP12,3)","v":0},{"$f":"ROUND('Income Statement'!VOQ12,3)","v":0},{"$f":"ROUND('Income Statement'!VOR12,3)","v":0},{"$f":"ROUND('Income Statement'!VOS12,3)","v":0},{"$f":"ROUND('Income Statement'!VOT12,3)","v":0},{"$f":"ROUND('Income Statement'!VOU12,3)","v":0},{"$f":"ROUND('Income Statement'!VOV12,3)","v":0},{"$f":"ROUND('Income Statement'!VOW12,3)","v":0},{"$f":"ROUND('Income Statement'!VOX12,3)","v":0},{"$f":"ROUND('Income Statement'!VOY12,3)","v":0},{"$f":"ROUND('Income Statement'!VOZ12,3)","v":0},{"$f":"ROUND('Income Statement'!VPA12,3)","v":0},{"$f":"ROUND('Income Statement'!VPB12,3)","v":0},{"$f":"ROUND('Income Statement'!VPC12,3)","v":0},{"$f":"ROUND('Income Statement'!VPD12,3)","v":0},{"$f":"ROUND('Income Statement'!VPE12,3)","v":0},{"$f":"ROUND('Income Statement'!VPF12,3)","v":0},{"$f":"ROUND('Income Statement'!VPG12,3)","v":0},{"$f":"ROUND('Income Statement'!VPH12,3)","v":0},{"$f":"ROUND('Income Statement'!VPI12,3)","v":0},{"$f":"ROUND('Income Statement'!VPJ12,3)","v":0},{"$f":"ROUND('Income Statement'!VPK12,3)","v":0},{"$f":"ROUND('Income Statement'!VPL12,3)","v":0},{"$f":"ROUND('Income Statement'!VPM12,3)","v":0},{"$f":"ROUND('Income Statement'!VPN12,3)","v":0},{"$f":"ROUND('Income Statement'!VPO12,3)","v":0},{"$f":"ROUND('Income Statement'!VPP12,3)","v":0},{"$f":"ROUND('Income Statement'!VPQ12,3)","v":0},{"$f":"ROUND('Income Statement'!VPR12,3)","v":0},{"$f":"ROUND('Income Statement'!VPS12,3)","v":0},{"$f":"ROUND('Income Statement'!VPT12,3)","v":0},{"$f":"ROUND('Income Statement'!VPU12,3)","v":0},{"$f":"ROUND('Income Statement'!VPV12,3)","v":0},{"$f":"ROUND('Income Statement'!VPW12,3)","v":0},{"$f":"ROUND('Income Statement'!VPX12,3)","v":0},{"$f":"ROUND('Income Statement'!VPY12,3)","v":0},{"$f":"ROUND('Income Statement'!VPZ12,3)","v":0},{"$f":"ROUND('Income Statement'!VQA12,3)","v":0},{"$f":"ROUND('Income Statement'!VQB12,3)","v":0},{"$f":"ROUND('Income Statement'!VQC12,3)","v":0},{"$f":"ROUND('Income Statement'!VQD12,3)","v":0},{"$f":"ROUND('Income Statement'!VQE12,3)","v":0},{"$f":"ROUND('Income Statement'!VQF12,3)","v":0},{"$f":"ROUND('Income Statement'!VQG12,3)","v":0},{"$f":"ROUND('Income Statement'!VQH12,3)","v":0},{"$f":"ROUND('Income Statement'!VQI12,3)","v":0},{"$f":"ROUND('Income Statement'!VQJ12,3)","v":0},{"$f":"ROUND('Income Statement'!VQK12,3)","v":0},{"$f":"ROUND('Income Statement'!VQL12,3)","v":0},{"$f":"ROUND('Income Statement'!VQM12,3)","v":0},{"$f":"ROUND('Income Statement'!VQN12,3)","v":0},{"$f":"ROUND('Income Statement'!VQO12,3)","v":0},{"$f":"ROUND('Income Statement'!VQP12,3)","v":0},{"$f":"ROUND('Income Statement'!VQQ12,3)","v":0},{"$f":"ROUND('Income Statement'!VQR12,3)","v":0},{"$f":"ROUND('Income Statement'!VQS12,3)","v":0},{"$f":"ROUND('Income Statement'!VQT12,3)","v":0},{"$f":"ROUND('Income Statement'!VQU12,3)","v":0},{"$f":"ROUND('Income Statement'!VQV12,3)","v":0},{"$f":"ROUND('Income Statement'!VQW12,3)","v":0},{"$f":"ROUND('Income Statement'!VQX12,3)","v":0},{"$f":"ROUND('Income Statement'!VQY12,3)","v":0},{"$f":"ROUND('Income Statement'!VQZ12,3)","v":0},{"$f":"ROUND('Income Statement'!VRA12,3)","v":0},{"$f":"ROUND('Income Statement'!VRB12,3)","v":0},{"$f":"ROUND('Income Statement'!VRC12,3)","v":0},{"$f":"ROUND('Income Statement'!VRD12,3)","v":0},{"$f":"ROUND('Income Statement'!VRE12,3)","v":0},{"$f":"ROUND('Income Statement'!VRF12,3)","v":0},{"$f":"ROUND('Income Statement'!VRG12,3)","v":0},{"$f":"ROUND('Income Statement'!VRH12,3)","v":0},{"$f":"ROUND('Income Statement'!VRI12,3)","v":0},{"$f":"ROUND('Income Statement'!VRJ12,3)","v":0},{"$f":"ROUND('Income Statement'!VRK12,3)","v":0},{"$f":"ROUND('Income Statement'!VRL12,3)","v":0},{"$f":"ROUND('Income Statement'!VRM12,3)","v":0},{"$f":"ROUND('Income Statement'!VRN12,3)","v":0},{"$f":"ROUND('Income Statement'!VRO12,3)","v":0},{"$f":"ROUND('Income Statement'!VRP12,3)","v":0},{"$f":"ROUND('Income Statement'!VRQ12,3)","v":0},{"$f":"ROUND('Income Statement'!VRR12,3)","v":0},{"$f":"ROUND('Income Statement'!VRS12,3)","v":0},{"$f":"ROUND('Income Statement'!VRT12,3)","v":0},{"$f":"ROUND('Income Statement'!VRU12,3)","v":0},{"$f":"ROUND('Income Statement'!VRV12,3)","v":0},{"$f":"ROUND('Income Statement'!VRW12,3)","v":0},{"$f":"ROUND('Income Statement'!VRX12,3)","v":0},{"$f":"ROUND('Income Statement'!VRY12,3)","v":0},{"$f":"ROUND('Income Statement'!VRZ12,3)","v":0},{"$f":"ROUND('Income Statement'!VSA12,3)","v":0},{"$f":"ROUND('Income Statement'!VSB12,3)","v":0},{"$f":"ROUND('Income Statement'!VSC12,3)","v":0},{"$f":"ROUND('Income Statement'!VSD12,3)","v":0},{"$f":"ROUND('Income Statement'!VSE12,3)","v":0},{"$f":"ROUND('Income Statement'!VSF12,3)","v":0},{"$f":"ROUND('Income Statement'!VSG12,3)","v":0},{"$f":"ROUND('Income Statement'!VSH12,3)","v":0},{"$f":"ROUND('Income Statement'!VSI12,3)","v":0},{"$f":"ROUND('Income Statement'!VSJ12,3)","v":0},{"$f":"ROUND('Income Statement'!VSK12,3)","v":0},{"$f":"ROUND('Income Statement'!VSL12,3)","v":0},{"$f":"ROUND('Income Statement'!VSM12,3)","v":0},{"$f":"ROUND('Income Statement'!VSN12,3)","v":0},{"$f":"ROUND('Income Statement'!VSO12,3)","v":0},{"$f":"ROUND('Income Statement'!VSP12,3)","v":0},{"$f":"ROUND('Income Statement'!VSQ12,3)","v":0},{"$f":"ROUND('Income Statement'!VSR12,3)","v":0},{"$f":"ROUND('Income Statement'!VSS12,3)","v":0},{"$f":"ROUND('Income Statement'!VST12,3)","v":0},{"$f":"ROUND('Income Statement'!VSU12,3)","v":0},{"$f":"ROUND('Income Statement'!VSV12,3)","v":0},{"$f":"ROUND('Income Statement'!VSW12,3)","v":0},{"$f":"ROUND('Income Statement'!VSX12,3)","v":0},{"$f":"ROUND('Income Statement'!VSY12,3)","v":0},{"$f":"ROUND('Income Statement'!VSZ12,3)","v":0},{"$f":"ROUND('Income Statement'!VTA12,3)","v":0},{"$f":"ROUND('Income Statement'!VTB12,3)","v":0},{"$f":"ROUND('Income Statement'!VTC12,3)","v":0},{"$f":"ROUND('Income Statement'!VTD12,3)","v":0},{"$f":"ROUND('Income Statement'!VTE12,3)","v":0},{"$f":"ROUND('Income Statement'!VTF12,3)","v":0},{"$f":"ROUND('Income Statement'!VTG12,3)","v":0},{"$f":"ROUND('Income Statement'!VTH12,3)","v":0},{"$f":"ROUND('Income Statement'!VTI12,3)","v":0},{"$f":"ROUND('Income Statement'!VTJ12,3)","v":0},{"$f":"ROUND('Income Statement'!VTK12,3)","v":0},{"$f":"ROUND('Income Statement'!VTL12,3)","v":0},{"$f":"ROUND('Income Statement'!VTM12,3)","v":0},{"$f":"ROUND('Income Statement'!VTN12,3)","v":0},{"$f":"ROUND('Income Statement'!VTO12,3)","v":0},{"$f":"ROUND('Income Statement'!VTP12,3)","v":0},{"$f":"ROUND('Income Statement'!VTQ12,3)","v":0},{"$f":"ROUND('Income Statement'!VTR12,3)","v":0},{"$f":"ROUND('Income Statement'!VTS12,3)","v":0},{"$f":"ROUND('Income Statement'!VTT12,3)","v":0},{"$f":"ROUND('Income Statement'!VTU12,3)","v":0},{"$f":"ROUND('Income Statement'!VTV12,3)","v":0},{"$f":"ROUND('Income Statement'!VTW12,3)","v":0},{"$f":"ROUND('Income Statement'!VTX12,3)","v":0},{"$f":"ROUND('Income Statement'!VTY12,3)","v":0},{"$f":"ROUND('Income Statement'!VTZ12,3)","v":0},{"$f":"ROUND('Income Statement'!VUA12,3)","v":0},{"$f":"ROUND('Income Statement'!VUB12,3)","v":0},{"$f":"ROUND('Income Statement'!VUC12,3)","v":0},{"$f":"ROUND('Income Statement'!VUD12,3)","v":0},{"$f":"ROUND('Income Statement'!VUE12,3)","v":0},{"$f":"ROUND('Income Statement'!VUF12,3)","v":0},{"$f":"ROUND('Income Statement'!VUG12,3)","v":0},{"$f":"ROUND('Income Statement'!VUH12,3)","v":0},{"$f":"ROUND('Income Statement'!VUI12,3)","v":0},{"$f":"ROUND('Income Statement'!VUJ12,3)","v":0},{"$f":"ROUND('Income Statement'!VUK12,3)","v":0},{"$f":"ROUND('Income Statement'!VUL12,3)","v":0},{"$f":"ROUND('Income Statement'!VUM12,3)","v":0},{"$f":"ROUND('Income Statement'!VUN12,3)","v":0},{"$f":"ROUND('Income Statement'!VUO12,3)","v":0},{"$f":"ROUND('Income Statement'!VUP12,3)","v":0},{"$f":"ROUND('Income Statement'!VUQ12,3)","v":0},{"$f":"ROUND('Income Statement'!VUR12,3)","v":0},{"$f":"ROUND('Income Statement'!VUS12,3)","v":0},{"$f":"ROUND('Income Statement'!VUT12,3)","v":0},{"$f":"ROUND('Income Statement'!VUU12,3)","v":0},{"$f":"ROUND('Income Statement'!VUV12,3)","v":0},{"$f":"ROUND('Income Statement'!VUW12,3)","v":0},{"$f":"ROUND('Income Statement'!VUX12,3)","v":0},{"$f":"ROUND('Income Statement'!VUY12,3)","v":0},{"$f":"ROUND('Income Statement'!VUZ12,3)","v":0},{"$f":"ROUND('Income Statement'!VVA12,3)","v":0},{"$f":"ROUND('Income Statement'!VVB12,3)","v":0},{"$f":"ROUND('Income Statement'!VVC12,3)","v":0},{"$f":"ROUND('Income Statement'!VVD12,3)","v":0},{"$f":"ROUND('Income Statement'!VVE12,3)","v":0},{"$f":"ROUND('Income Statement'!VVF12,3)","v":0},{"$f":"ROUND('Income Statement'!VVG12,3)","v":0},{"$f":"ROUND('Income Statement'!VVH12,3)","v":0},{"$f":"ROUND('Income Statement'!VVI12,3)","v":0},{"$f":"ROUND('Income Statement'!VVJ12,3)","v":0},{"$f":"ROUND('Income Statement'!VVK12,3)","v":0},{"$f":"ROUND('Income Statement'!VVL12,3)","v":0},{"$f":"ROUND('Income Statement'!VVM12,3)","v":0},{"$f":"ROUND('Income Statement'!VVN12,3)","v":0},{"$f":"ROUND('Income Statement'!VVO12,3)","v":0},{"$f":"ROUND('Income Statement'!VVP12,3)","v":0},{"$f":"ROUND('Income Statement'!VVQ12,3)","v":0},{"$f":"ROUND('Income Statement'!VVR12,3)","v":0},{"$f":"ROUND('Income Statement'!VVS12,3)","v":0},{"$f":"ROUND('Income Statement'!VVT12,3)","v":0},{"$f":"ROUND('Income Statement'!VVU12,3)","v":0},{"$f":"ROUND('Income Statement'!VVV12,3)","v":0},{"$f":"ROUND('Income Statement'!VVW12,3)","v":0},{"$f":"ROUND('Income Statement'!VVX12,3)","v":0},{"$f":"ROUND('Income Statement'!VVY12,3)","v":0},{"$f":"ROUND('Income Statement'!VVZ12,3)","v":0},{"$f":"ROUND('Income Statement'!VWA12,3)","v":0},{"$f":"ROUND('Income Statement'!VWB12,3)","v":0},{"$f":"ROUND('Income Statement'!VWC12,3)","v":0},{"$f":"ROUND('Income Statement'!VWD12,3)","v":0},{"$f":"ROUND('Income Statement'!VWE12,3)","v":0},{"$f":"ROUND('Income Statement'!VWF12,3)","v":0},{"$f":"ROUND('Income Statement'!VWG12,3)","v":0},{"$f":"ROUND('Income Statement'!VWH12,3)","v":0},{"$f":"ROUND('Income Statement'!VWI12,3)","v":0},{"$f":"ROUND('Income Statement'!VWJ12,3)","v":0},{"$f":"ROUND('Income Statement'!VWK12,3)","v":0},{"$f":"ROUND('Income Statement'!VWL12,3)","v":0},{"$f":"ROUND('Income Statement'!VWM12,3)","v":0},{"$f":"ROUND('Income Statement'!VWN12,3)","v":0},{"$f":"ROUND('Income Statement'!VWO12,3)","v":0},{"$f":"ROUND('Income Statement'!VWP12,3)","v":0},{"$f":"ROUND('Income Statement'!VWQ12,3)","v":0},{"$f":"ROUND('Income Statement'!VWR12,3)","v":0},{"$f":"ROUND('Income Statement'!VWS12,3)","v":0},{"$f":"ROUND('Income Statement'!VWT12,3)","v":0},{"$f":"ROUND('Income Statement'!VWU12,3)","v":0},{"$f":"ROUND('Income Statement'!VWV12,3)","v":0},{"$f":"ROUND('Income Statement'!VWW12,3)","v":0},{"$f":"ROUND('Income Statement'!VWX12,3)","v":0},{"$f":"ROUND('Income Statement'!VWY12,3)","v":0},{"$f":"ROUND('Income Statement'!VWZ12,3)","v":0},{"$f":"ROUND('Income Statement'!VXA12,3)","v":0},{"$f":"ROUND('Income Statement'!VXB12,3)","v":0},{"$f":"ROUND('Income Statement'!VXC12,3)","v":0},{"$f":"ROUND('Income Statement'!VXD12,3)","v":0},{"$f":"ROUND('Income Statement'!VXE12,3)","v":0},{"$f":"ROUND('Income Statement'!VXF12,3)","v":0},{"$f":"ROUND('Income Statement'!VXG12,3)","v":0},{"$f":"ROUND('Income Statement'!VXH12,3)","v":0},{"$f":"ROUND('Income Statement'!VXI12,3)","v":0},{"$f":"ROUND('Income Statement'!VXJ12,3)","v":0},{"$f":"ROUND('Income Statement'!VXK12,3)","v":0},{"$f":"ROUND('Income Statement'!VXL12,3)","v":0},{"$f":"ROUND('Income Statement'!VXM12,3)","v":0},{"$f":"ROUND('Income Statement'!VXN12,3)","v":0},{"$f":"ROUND('Income Statement'!VXO12,3)","v":0},{"$f":"ROUND('Income Statement'!VXP12,3)","v":0},{"$f":"ROUND('Income Statement'!VXQ12,3)","v":0},{"$f":"ROUND('Income Statement'!VXR12,3)","v":0},{"$f":"ROUND('Income Statement'!VXS12,3)","v":0},{"$f":"ROUND('Income Statement'!VXT12,3)","v":0},{"$f":"ROUND('Income Statement'!VXU12,3)","v":0},{"$f":"ROUND('Income Statement'!VXV12,3)","v":0},{"$f":"ROUND('Income Statement'!VXW12,3)","v":0},{"$f":"ROUND('Income Statement'!VXX12,3)","v":0},{"$f":"ROUND('Income Statement'!VXY12,3)","v":0},{"$f":"ROUND('Income Statement'!VXZ12,3)","v":0},{"$f":"ROUND('Income Statement'!VYA12,3)","v":0},{"$f":"ROUND('Income Statement'!VYB12,3)","v":0},{"$f":"ROUND('Income Statement'!VYC12,3)","v":0},{"$f":"ROUND('Income Statement'!VYD12,3)","v":0},{"$f":"ROUND('Income Statement'!VYE12,3)","v":0},{"$f":"ROUND('Income Statement'!VYF12,3)","v":0},{"$f":"ROUND('Income Statement'!VYG12,3)","v":0},{"$f":"ROUND('Income Statement'!VYH12,3)","v":0},{"$f":"ROUND('Income Statement'!VYI12,3)","v":0},{"$f":"ROUND('Income Statement'!VYJ12,3)","v":0},{"$f":"ROUND('Income Statement'!VYK12,3)","v":0},{"$f":"ROUND('Income Statement'!VYL12,3)","v":0},{"$f":"ROUND('Income Statement'!VYM12,3)","v":0},{"$f":"ROUND('Income Statement'!VYN12,3)","v":0},{"$f":"ROUND('Income Statement'!VYO12,3)","v":0},{"$f":"ROUND('Income Statement'!VYP12,3)","v":0},{"$f":"ROUND('Income Statement'!VYQ12,3)","v":0},{"$f":"ROUND('Income Statement'!VYR12,3)","v":0},{"$f":"ROUND('Income Statement'!VYS12,3)","v":0},{"$f":"ROUND('Income Statement'!VYT12,3)","v":0},{"$f":"ROUND('Income Statement'!VYU12,3)","v":0},{"$f":"ROUND('Income Statement'!VYV12,3)","v":0},{"$f":"ROUND('Income Statement'!VYW12,3)","v":0},{"$f":"ROUND('Income Statement'!VYX12,3)","v":0},{"$f":"ROUND('Income Statement'!VYY12,3)","v":0},{"$f":"ROUND('Income Statement'!VYZ12,3)","v":0},{"$f":"ROUND('Income Statement'!VZA12,3)","v":0},{"$f":"ROUND('Income Statement'!VZB12,3)","v":0},{"$f":"ROUND('Income Statement'!VZC12,3)","v":0},{"$f":"ROUND('Income Statement'!VZD12,3)","v":0},{"$f":"ROUND('Income Statement'!VZE12,3)","v":0},{"$f":"ROUND('Income Statement'!VZF12,3)","v":0},{"$f":"ROUND('Income Statement'!VZG12,3)","v":0},{"$f":"ROUND('Income Statement'!VZH12,3)","v":0},{"$f":"ROUND('Income Statement'!VZI12,3)","v":0},{"$f":"ROUND('Income Statement'!VZJ12,3)","v":0},{"$f":"ROUND('Income Statement'!VZK12,3)","v":0},{"$f":"ROUND('Income Statement'!VZL12,3)","v":0},{"$f":"ROUND('Income Statement'!VZM12,3)","v":0},{"$f":"ROUND('Income Statement'!VZN12,3)","v":0},{"$f":"ROUND('Income Statement'!VZO12,3)","v":0},{"$f":"ROUND('Income Statement'!VZP12,3)","v":0},{"$f":"ROUND('Income Statement'!VZQ12,3)","v":0},{"$f":"ROUND('Income Statement'!VZR12,3)","v":0},{"$f":"ROUND('Income Statement'!VZS12,3)","v":0},{"$f":"ROUND('Income Statement'!VZT12,3)","v":0},{"$f":"ROUND('Income Statement'!VZU12,3)","v":0},{"$f":"ROUND('Income Statement'!VZV12,3)","v":0},{"$f":"ROUND('Income Statement'!VZW12,3)","v":0},{"$f":"ROUND('Income Statement'!VZX12,3)","v":0},{"$f":"ROUND('Income Statement'!VZY12,3)","v":0},{"$f":"ROUND('Income Statement'!VZZ12,3)","v":0},{"$f":"ROUND('Income Statement'!WAA12,3)","v":0},{"$f":"ROUND('Income Statement'!WAB12,3)","v":0},{"$f":"ROUND('Income Statement'!WAC12,3)","v":0},{"$f":"ROUND('Income Statement'!WAD12,3)","v":0},{"$f":"ROUND('Income Statement'!WAE12,3)","v":0},{"$f":"ROUND('Income Statement'!WAF12,3)","v":0},{"$f":"ROUND('Income Statement'!WAG12,3)","v":0},{"$f":"ROUND('Income Statement'!WAH12,3)","v":0},{"$f":"ROUND('Income Statement'!WAI12,3)","v":0},{"$f":"ROUND('Income Statement'!WAJ12,3)","v":0},{"$f":"ROUND('Income Statement'!WAK12,3)","v":0},{"$f":"ROUND('Income Statement'!WAL12,3)","v":0},{"$f":"ROUND('Income Statement'!WAM12,3)","v":0},{"$f":"ROUND('Income Statement'!WAN12,3)","v":0},{"$f":"ROUND('Income Statement'!WAO12,3)","v":0},{"$f":"ROUND('Income Statement'!WAP12,3)","v":0},{"$f":"ROUND('Income Statement'!WAQ12,3)","v":0},{"$f":"ROUND('Income Statement'!WAR12,3)","v":0},{"$f":"ROUND('Income Statement'!WAS12,3)","v":0},{"$f":"ROUND('Income Statement'!WAT12,3)","v":0},{"$f":"ROUND('Income Statement'!WAU12,3)","v":0},{"$f":"ROUND('Income Statement'!WAV12,3)","v":0},{"$f":"ROUND('Income Statement'!WAW12,3)","v":0},{"$f":"ROUND('Income Statement'!WAX12,3)","v":0},{"$f":"ROUND('Income Statement'!WAY12,3)","v":0},{"$f":"ROUND('Income Statement'!WAZ12,3)","v":0},{"$f":"ROUND('Income Statement'!WBA12,3)","v":0},{"$f":"ROUND('Income Statement'!WBB12,3)","v":0},{"$f":"ROUND('Income Statement'!WBC12,3)","v":0},{"$f":"ROUND('Income Statement'!WBD12,3)","v":0},{"$f":"ROUND('Income Statement'!WBE12,3)","v":0},{"$f":"ROUND('Income Statement'!WBF12,3)","v":0},{"$f":"ROUND('Income Statement'!WBG12,3)","v":0},{"$f":"ROUND('Income Statement'!WBH12,3)","v":0},{"$f":"ROUND('Income Statement'!WBI12,3)","v":0},{"$f":"ROUND('Income Statement'!WBJ12,3)","v":0},{"$f":"ROUND('Income Statement'!WBK12,3)","v":0},{"$f":"ROUND('Income Statement'!WBL12,3)","v":0},{"$f":"ROUND('Income Statement'!WBM12,3)","v":0},{"$f":"ROUND('Income Statement'!WBN12,3)","v":0},{"$f":"ROUND('Income Statement'!WBO12,3)","v":0},{"$f":"ROUND('Income Statement'!WBP12,3)","v":0},{"$f":"ROUND('Income Statement'!WBQ12,3)","v":0},{"$f":"ROUND('Income Statement'!WBR12,3)","v":0},{"$f":"ROUND('Income Statement'!WBS12,3)","v":0},{"$f":"ROUND('Income Statement'!WBT12,3)","v":0},{"$f":"ROUND('Income Statement'!WBU12,3)","v":0},{"$f":"ROUND('Income Statement'!WBV12,3)","v":0},{"$f":"ROUND('Income Statement'!WBW12,3)","v":0},{"$f":"ROUND('Income Statement'!WBX12,3)","v":0},{"$f":"ROUND('Income Statement'!WBY12,3)","v":0},{"$f":"ROUND('Income Statement'!WBZ12,3)","v":0},{"$f":"ROUND('Income Statement'!WCA12,3)","v":0},{"$f":"ROUND('Income Statement'!WCB12,3)","v":0},{"$f":"ROUND('Income Statement'!WCC12,3)","v":0},{"$f":"ROUND('Income Statement'!WCD12,3)","v":0},{"$f":"ROUND('Income Statement'!WCE12,3)","v":0},{"$f":"ROUND('Income Statement'!WCF12,3)","v":0},{"$f":"ROUND('Income Statement'!WCG12,3)","v":0},{"$f":"ROUND('Income Statement'!WCH12,3)","v":0},{"$f":"ROUND('Income Statement'!WCI12,3)","v":0},{"$f":"ROUND('Income Statement'!WCJ12,3)","v":0},{"$f":"ROUND('Income Statement'!WCK12,3)","v":0},{"$f":"ROUND('Income Statement'!WCL12,3)","v":0},{"$f":"ROUND('Income Statement'!WCM12,3)","v":0},{"$f":"ROUND('Income Statement'!WCN12,3)","v":0},{"$f":"ROUND('Income Statement'!WCO12,3)","v":0},{"$f":"ROUND('Income Statement'!WCP12,3)","v":0},{"$f":"ROUND('Income Statement'!WCQ12,3)","v":0},{"$f":"ROUND('Income Statement'!WCR12,3)","v":0},{"$f":"ROUND('Income Statement'!WCS12,3)","v":0},{"$f":"ROUND('Income Statement'!WCT12,3)","v":0},{"$f":"ROUND('Income Statement'!WCU12,3)","v":0},{"$f":"ROUND('Income Statement'!WCV12,3)","v":0},{"$f":"ROUND('Income Statement'!WCW12,3)","v":0},{"$f":"ROUND('Income Statement'!WCX12,3)","v":0},{"$f":"ROUND('Income Statement'!WCY12,3)","v":0},{"$f":"ROUND('Income Statement'!WCZ12,3)","v":0},{"$f":"ROUND('Income Statement'!WDA12,3)","v":0},{"$f":"ROUND('Income Statement'!WDB12,3)","v":0},{"$f":"ROUND('Income Statement'!WDC12,3)","v":0},{"$f":"ROUND('Income Statement'!WDD12,3)","v":0},{"$f":"ROUND('Income Statement'!WDE12,3)","v":0},{"$f":"ROUND('Income Statement'!WDF12,3)","v":0},{"$f":"ROUND('Income Statement'!WDG12,3)","v":0},{"$f":"ROUND('Income Statement'!WDH12,3)","v":0},{"$f":"ROUND('Income Statement'!WDI12,3)","v":0},{"$f":"ROUND('Income Statement'!WDJ12,3)","v":0},{"$f":"ROUND('Income Statement'!WDK12,3)","v":0},{"$f":"ROUND('Income Statement'!WDL12,3)","v":0},{"$f":"ROUND('Income Statement'!WDM12,3)","v":0},{"$f":"ROUND('Income Statement'!WDN12,3)","v":0},{"$f":"ROUND('Income Statement'!WDO12,3)","v":0},{"$f":"ROUND('Income Statement'!WDP12,3)","v":0},{"$f":"ROUND('Income Statement'!WDQ12,3)","v":0},{"$f":"ROUND('Income Statement'!WDR12,3)","v":0},{"$f":"ROUND('Income Statement'!WDS12,3)","v":0},{"$f":"ROUND('Income Statement'!WDT12,3)","v":0},{"$f":"ROUND('Income Statement'!WDU12,3)","v":0},{"$f":"ROUND('Income Statement'!WDV12,3)","v":0},{"$f":"ROUND('Income Statement'!WDW12,3)","v":0},{"$f":"ROUND('Income Statement'!WDX12,3)","v":0},{"$f":"ROUND('Income Statement'!WDY12,3)","v":0},{"$f":"ROUND('Income Statement'!WDZ12,3)","v":0},{"$f":"ROUND('Income Statement'!WEA12,3)","v":0},{"$f":"ROUND('Income Statement'!WEB12,3)","v":0},{"$f":"ROUND('Income Statement'!WEC12,3)","v":0},{"$f":"ROUND('Income Statement'!WED12,3)","v":0},{"$f":"ROUND('Income Statement'!WEE12,3)","v":0},{"$f":"ROUND('Income Statement'!WEF12,3)","v":0},{"$f":"ROUND('Income Statement'!WEG12,3)","v":0},{"$f":"ROUND('Income Statement'!WEH12,3)","v":0},{"$f":"ROUND('Income Statement'!WEI12,3)","v":0},{"$f":"ROUND('Income Statement'!WEJ12,3)","v":0},{"$f":"ROUND('Income Statement'!WEK12,3)","v":0},{"$f":"ROUND('Income Statement'!WEL12,3)","v":0},{"$f":"ROUND('Income Statement'!WEM12,3)","v":0},{"$f":"ROUND('Income Statement'!WEN12,3)","v":0},{"$f":"ROUND('Income Statement'!WEO12,3)","v":0},{"$f":"ROUND('Income Statement'!WEP12,3)","v":0},{"$f":"ROUND('Income Statement'!WEQ12,3)","v":0},{"$f":"ROUND('Income Statement'!WER12,3)","v":0},{"$f":"ROUND('Income Statement'!WES12,3)","v":0},{"$f":"ROUND('Income Statement'!WET12,3)","v":0},{"$f":"ROUND('Income Statement'!WEU12,3)","v":0},{"$f":"ROUND('Income Statement'!WEV12,3)","v":0},{"$f":"ROUND('Income Statement'!WEW12,3)","v":0},{"$f":"ROUND('Income Statement'!WEX12,3)","v":0},{"$f":"ROUND('Income Statement'!WEY12,3)","v":0},{"$f":"ROUND('Income Statement'!WEZ12,3)","v":0},{"$f":"ROUND('Income Statement'!WFA12,3)","v":0},{"$f":"ROUND('Income Statement'!WFB12,3)","v":0},{"$f":"ROUND('Income Statement'!WFC12,3)","v":0},{"$f":"ROUND('Income Statement'!WFD12,3)","v":0},{"$f":"ROUND('Income Statement'!WFE12,3)","v":0},{"$f":"ROUND('Income Statement'!WFF12,3)","v":0},{"$f":"ROUND('Income Statement'!WFG12,3)","v":0},{"$f":"ROUND('Income Statement'!WFH12,3)","v":0},{"$f":"ROUND('Income Statement'!WFI12,3)","v":0},{"$f":"ROUND('Income Statement'!WFJ12,3)","v":0},{"$f":"ROUND('Income Statement'!WFK12,3)","v":0},{"$f":"ROUND('Income Statement'!WFL12,3)","v":0},{"$f":"ROUND('Income Statement'!WFM12,3)","v":0},{"$f":"ROUND('Income Statement'!WFN12,3)","v":0},{"$f":"ROUND('Income Statement'!WFO12,3)","v":0},{"$f":"ROUND('Income Statement'!WFP12,3)","v":0},{"$f":"ROUND('Income Statement'!WFQ12,3)","v":0},{"$f":"ROUND('Income Statement'!WFR12,3)","v":0},{"$f":"ROUND('Income Statement'!WFS12,3)","v":0},{"$f":"ROUND('Income Statement'!WFT12,3)","v":0},{"$f":"ROUND('Income Statement'!WFU12,3)","v":0},{"$f":"ROUND('Income Statement'!WFV12,3)","v":0},{"$f":"ROUND('Income Statement'!WFW12,3)","v":0},{"$f":"ROUND('Income Statement'!WFX12,3)","v":0},{"$f":"ROUND('Income Statement'!WFY12,3)","v":0},{"$f":"ROUND('Income Statement'!WFZ12,3)","v":0},{"$f":"ROUND('Income Statement'!WGA12,3)","v":0},{"$f":"ROUND('Income Statement'!WGB12,3)","v":0},{"$f":"ROUND('Income Statement'!WGC12,3)","v":0},{"$f":"ROUND('Income Statement'!WGD12,3)","v":0},{"$f":"ROUND('Income Statement'!WGE12,3)","v":0},{"$f":"ROUND('Income Statement'!WGF12,3)","v":0},{"$f":"ROUND('Income Statement'!WGG12,3)","v":0},{"$f":"ROUND('Income Statement'!WGH12,3)","v":0},{"$f":"ROUND('Income Statement'!WGI12,3)","v":0},{"$f":"ROUND('Income Statement'!WGJ12,3)","v":0},{"$f":"ROUND('Income Statement'!WGK12,3)","v":0},{"$f":"ROUND('Income Statement'!WGL12,3)","v":0},{"$f":"ROUND('Income Statement'!WGM12,3)","v":0},{"$f":"ROUND('Income Statement'!WGN12,3)","v":0},{"$f":"ROUND('Income Statement'!WGO12,3)","v":0},{"$f":"ROUND('Income Statement'!WGP12,3)","v":0},{"$f":"ROUND('Income Statement'!WGQ12,3)","v":0},{"$f":"ROUND('Income Statement'!WGR12,3)","v":0},{"$f":"ROUND('Income Statement'!WGS12,3)","v":0},{"$f":"ROUND('Income Statement'!WGT12,3)","v":0},{"$f":"ROUND('Income Statement'!WGU12,3)","v":0},{"$f":"ROUND('Income Statement'!WGV12,3)","v":0},{"$f":"ROUND('Income Statement'!WGW12,3)","v":0},{"$f":"ROUND('Income Statement'!WGX12,3)","v":0},{"$f":"ROUND('Income Statement'!WGY12,3)","v":0},{"$f":"ROUND('Income Statement'!WGZ12,3)","v":0},{"$f":"ROUND('Income Statement'!WHA12,3)","v":0},{"$f":"ROUND('Income Statement'!WHB12,3)","v":0},{"$f":"ROUND('Income Statement'!WHC12,3)","v":0},{"$f":"ROUND('Income Statement'!WHD12,3)","v":0},{"$f":"ROUND('Income Statement'!WHE12,3)","v":0},{"$f":"ROUND('Income Statement'!WHF12,3)","v":0},{"$f":"ROUND('Income Statement'!WHG12,3)","v":0},{"$f":"ROUND('Income Statement'!WHH12,3)","v":0},{"$f":"ROUND('Income Statement'!WHI12,3)","v":0},{"$f":"ROUND('Income Statement'!WHJ12,3)","v":0},{"$f":"ROUND('Income Statement'!WHK12,3)","v":0},{"$f":"ROUND('Income Statement'!WHL12,3)","v":0},{"$f":"ROUND('Income Statement'!WHM12,3)","v":0},{"$f":"ROUND('Income Statement'!WHN12,3)","v":0},{"$f":"ROUND('Income Statement'!WHO12,3)","v":0},{"$f":"ROUND('Income Statement'!WHP12,3)","v":0},{"$f":"ROUND('Income Statement'!WHQ12,3)","v":0},{"$f":"ROUND('Income Statement'!WHR12,3)","v":0},{"$f":"ROUND('Income Statement'!WHS12,3)","v":0},{"$f":"ROUND('Income Statement'!WHT12,3)","v":0},{"$f":"ROUND('Income Statement'!WHU12,3)","v":0},{"$f":"ROUND('Income Statement'!WHV12,3)","v":0},{"$f":"ROUND('Income Statement'!WHW12,3)","v":0},{"$f":"ROUND('Income Statement'!WHX12,3)","v":0},{"$f":"ROUND('Income Statement'!WHY12,3)","v":0},{"$f":"ROUND('Income Statement'!WHZ12,3)","v":0},{"$f":"ROUND('Income Statement'!WIA12,3)","v":0},{"$f":"ROUND('Income Statement'!WIB12,3)","v":0},{"$f":"ROUND('Income Statement'!WIC12,3)","v":0},{"$f":"ROUND('Income Statement'!WID12,3)","v":0},{"$f":"ROUND('Income Statement'!WIE12,3)","v":0},{"$f":"ROUND('Income Statement'!WIF12,3)","v":0},{"$f":"ROUND('Income Statement'!WIG12,3)","v":0},{"$f":"ROUND('Income Statement'!WIH12,3)","v":0},{"$f":"ROUND('Income Statement'!WII12,3)","v":0},{"$f":"ROUND('Income Statement'!WIJ12,3)","v":0},{"$f":"ROUND('Income Statement'!WIK12,3)","v":0},{"$f":"ROUND('Income Statement'!WIL12,3)","v":0},{"$f":"ROUND('Income Statement'!WIM12,3)","v":0},{"$f":"ROUND('Income Statement'!WIN12,3)","v":0},{"$f":"ROUND('Income Statement'!WIO12,3)","v":0},{"$f":"ROUND('Income Statement'!WIP12,3)","v":0},{"$f":"ROUND('Income Statement'!WIQ12,3)","v":0},{"$f":"ROUND('Income Statement'!WIR12,3)","v":0},{"$f":"ROUND('Income Statement'!WIS12,3)","v":0},{"$f":"ROUND('Income Statement'!WIT12,3)","v":0},{"$f":"ROUND('Income Statement'!WIU12,3)","v":0},{"$f":"ROUND('Income Statement'!WIV12,3)","v":0},{"$f":"ROUND('Income Statement'!WIW12,3)","v":0},{"$f":"ROUND('Income Statement'!WIX12,3)","v":0},{"$f":"ROUND('Income Statement'!WIY12,3)","v":0},{"$f":"ROUND('Income Statement'!WIZ12,3)","v":0},{"$f":"ROUND('Income Statement'!WJA12,3)","v":0},{"$f":"ROUND('Income Statement'!WJB12,3)","v":0},{"$f":"ROUND('Income Statement'!WJC12,3)","v":0},{"$f":"ROUND('Income Statement'!WJD12,3)","v":0},{"$f":"ROUND('Income Statement'!WJE12,3)","v":0},{"$f":"ROUND('Income Statement'!WJF12,3)","v":0},{"$f":"ROUND('Income Statement'!WJG12,3)","v":0},{"$f":"ROUND('Income Statement'!WJH12,3)","v":0},{"$f":"ROUND('Income Statement'!WJI12,3)","v":0},{"$f":"ROUND('Income Statement'!WJJ12,3)","v":0},{"$f":"ROUND('Income Statement'!WJK12,3)","v":0},{"$f":"ROUND('Income Statement'!WJL12,3)","v":0},{"$f":"ROUND('Income Statement'!WJM12,3)","v":0},{"$f":"ROUND('Income Statement'!WJN12,3)","v":0},{"$f":"ROUND('Income Statement'!WJO12,3)","v":0},{"$f":"ROUND('Income Statement'!WJP12,3)","v":0},{"$f":"ROUND('Income Statement'!WJQ12,3)","v":0},{"$f":"ROUND('Income Statement'!WJR12,3)","v":0},{"$f":"ROUND('Income Statement'!WJS12,3)","v":0},{"$f":"ROUND('Income Statement'!WJT12,3)","v":0},{"$f":"ROUND('Income Statement'!WJU12,3)","v":0},{"$f":"ROUND('Income Statement'!WJV12,3)","v":0},{"$f":"ROUND('Income Statement'!WJW12,3)","v":0},{"$f":"ROUND('Income Statement'!WJX12,3)","v":0},{"$f":"ROUND('Income Statement'!WJY12,3)","v":0},{"$f":"ROUND('Income Statement'!WJZ12,3)","v":0},{"$f":"ROUND('Income Statement'!WKA12,3)","v":0},{"$f":"ROUND('Income Statement'!WKB12,3)","v":0},{"$f":"ROUND('Income Statement'!WKC12,3)","v":0},{"$f":"ROUND('Income Statement'!WKD12,3)","v":0},{"$f":"ROUND('Income Statement'!WKE12,3)","v":0},{"$f":"ROUND('Income Statement'!WKF12,3)","v":0},{"$f":"ROUND('Income Statement'!WKG12,3)","v":0},{"$f":"ROUND('Income Statement'!WKH12,3)","v":0},{"$f":"ROUND('Income Statement'!WKI12,3)","v":0},{"$f":"ROUND('Income Statement'!WKJ12,3)","v":0},{"$f":"ROUND('Income Statement'!WKK12,3)","v":0},{"$f":"ROUND('Income Statement'!WKL12,3)","v":0},{"$f":"ROUND('Income Statement'!WKM12,3)","v":0},{"$f":"ROUND('Income Statement'!WKN12,3)","v":0},{"$f":"ROUND('Income Statement'!WKO12,3)","v":0},{"$f":"ROUND('Income Statement'!WKP12,3)","v":0},{"$f":"ROUND('Income Statement'!WKQ12,3)","v":0},{"$f":"ROUND('Income Statement'!WKR12,3)","v":0},{"$f":"ROUND('Income Statement'!WKS12,3)","v":0},{"$f":"ROUND('Income Statement'!WKT12,3)","v":0},{"$f":"ROUND('Income Statement'!WKU12,3)","v":0},{"$f":"ROUND('Income Statement'!WKV12,3)","v":0},{"$f":"ROUND('Income Statement'!WKW12,3)","v":0},{"$f":"ROUND('Income Statement'!WKX12,3)","v":0},{"$f":"ROUND('Income Statement'!WKY12,3)","v":0},{"$f":"ROUND('Income Statement'!WKZ12,3)","v":0},{"$f":"ROUND('Income Statement'!WLA12,3)","v":0},{"$f":"ROUND('Income Statement'!WLB12,3)","v":0},{"$f":"ROUND('Income Statement'!WLC12,3)","v":0},{"$f":"ROUND('Income Statement'!WLD12,3)","v":0},{"$f":"ROUND('Income Statement'!WLE12,3)","v":0},{"$f":"ROUND('Income Statement'!WLF12,3)","v":0},{"$f":"ROUND('Income Statement'!WLG12,3)","v":0},{"$f":"ROUND('Income Statement'!WLH12,3)","v":0},{"$f":"ROUND('Income Statement'!WLI12,3)","v":0},{"$f":"ROUND('Income Statement'!WLJ12,3)","v":0},{"$f":"ROUND('Income Statement'!WLK12,3)","v":0},{"$f":"ROUND('Income Statement'!WLL12,3)","v":0},{"$f":"ROUND('Income Statement'!WLM12,3)","v":0},{"$f":"ROUND('Income Statement'!WLN12,3)","v":0},{"$f":"ROUND('Income Statement'!WLO12,3)","v":0},{"$f":"ROUND('Income Statement'!WLP12,3)","v":0},{"$f":"ROUND('Income Statement'!WLQ12,3)","v":0},{"$f":"ROUND('Income Statement'!WLR12,3)","v":0},{"$f":"ROUND('Income Statement'!WLS12,3)","v":0},{"$f":"ROUND('Income Statement'!WLT12,3)","v":0},{"$f":"ROUND('Income Statement'!WLU12,3)","v":0},{"$f":"ROUND('Income Statement'!WLV12,3)","v":0},{"$f":"ROUND('Income Statement'!WLW12,3)","v":0},{"$f":"ROUND('Income Statement'!WLX12,3)","v":0},{"$f":"ROUND('Income Statement'!WLY12,3)","v":0},{"$f":"ROUND('Income Statement'!WLZ12,3)","v":0},{"$f":"ROUND('Income Statement'!WMA12,3)","v":0},{"$f":"ROUND('Income Statement'!WMB12,3)","v":0},{"$f":"ROUND('Income Statement'!WMC12,3)","v":0},{"$f":"ROUND('Income Statement'!WMD12,3)","v":0},{"$f":"ROUND('Income Statement'!WME12,3)","v":0},{"$f":"ROUND('Income Statement'!WMF12,3)","v":0},{"$f":"ROUND('Income Statement'!WMG12,3)","v":0},{"$f":"ROUND('Income Statement'!WMH12,3)","v":0},{"$f":"ROUND('Income Statement'!WMI12,3)","v":0},{"$f":"ROUND('Income Statement'!WMJ12,3)","v":0},{"$f":"ROUND('Income Statement'!WMK12,3)","v":0},{"$f":"ROUND('Income Statement'!WML12,3)","v":0},{"$f":"ROUND('Income Statement'!WMM12,3)","v":0},{"$f":"ROUND('Income Statement'!WMN12,3)","v":0},{"$f":"ROUND('Income Statement'!WMO12,3)","v":0},{"$f":"ROUND('Income Statement'!WMP12,3)","v":0},{"$f":"ROUND('Income Statement'!WMQ12,3)","v":0},{"$f":"ROUND('Income Statement'!WMR12,3)","v":0},{"$f":"ROUND('Income Statement'!WMS12,3)","v":0},{"$f":"ROUND('Income Statement'!WMT12,3)","v":0},{"$f":"ROUND('Income Statement'!WMU12,3)","v":0},{"$f":"ROUND('Income Statement'!WMV12,3)","v":0},{"$f":"ROUND('Income Statement'!WMW12,3)","v":0},{"$f":"ROUND('Income Statement'!WMX12,3)","v":0},{"$f":"ROUND('Income Statement'!WMY12,3)","v":0},{"$f":"ROUND('Income Statement'!WMZ12,3)","v":0},{"$f":"ROUND('Income Statement'!WNA12,3)","v":0},{"$f":"ROUND('Income Statement'!WNB12,3)","v":0},{"$f":"ROUND('Income Statement'!WNC12,3)","v":0},{"$f":"ROUND('Income Statement'!WND12,3)","v":0},{"$f":"ROUND('Income Statement'!WNE12,3)","v":0},{"$f":"ROUND('Income Statement'!WNF12,3)","v":0},{"$f":"ROUND('Income Statement'!WNG12,3)","v":0},{"$f":"ROUND('Income Statement'!WNH12,3)","v":0},{"$f":"ROUND('Income Statement'!WNI12,3)","v":0},{"$f":"ROUND('Income Statement'!WNJ12,3)","v":0},{"$f":"ROUND('Income Statement'!WNK12,3)","v":0},{"$f":"ROUND('Income Statement'!WNL12,3)","v":0},{"$f":"ROUND('Income Statement'!WNM12,3)","v":0},{"$f":"ROUND('Income Statement'!WNN12,3)","v":0},{"$f":"ROUND('Income Statement'!WNO12,3)","v":0},{"$f":"ROUND('Income Statement'!WNP12,3)","v":0},{"$f":"ROUND('Income Statement'!WNQ12,3)","v":0},{"$f":"ROUND('Income Statement'!WNR12,3)","v":0},{"$f":"ROUND('Income Statement'!WNS12,3)","v":0},{"$f":"ROUND('Income Statement'!WNT12,3)","v":0},{"$f":"ROUND('Income Statement'!WNU12,3)","v":0},{"$f":"ROUND('Income Statement'!WNV12,3)","v":0},{"$f":"ROUND('Income Statement'!WNW12,3)","v":0},{"$f":"ROUND('Income Statement'!WNX12,3)","v":0},{"$f":"ROUND('Income Statement'!WNY12,3)","v":0},{"$f":"ROUND('Income Statement'!WNZ12,3)","v":0},{"$f":"ROUND('Income Statement'!WOA12,3)","v":0},{"$f":"ROUND('Income Statement'!WOB12,3)","v":0},{"$f":"ROUND('Income Statement'!WOC12,3)","v":0},{"$f":"ROUND('Income Statement'!WOD12,3)","v":0},{"$f":"ROUND('Income Statement'!WOE12,3)","v":0},{"$f":"ROUND('Income Statement'!WOF12,3)","v":0},{"$f":"ROUND('Income Statement'!WOG12,3)","v":0},{"$f":"ROUND('Income Statement'!WOH12,3)","v":0},{"$f":"ROUND('Income Statement'!WOI12,3)","v":0},{"$f":"ROUND('Income Statement'!WOJ12,3)","v":0},{"$f":"ROUND('Income Statement'!WOK12,3)","v":0},{"$f":"ROUND('Income Statement'!WOL12,3)","v":0},{"$f":"ROUND('Income Statement'!WOM12,3)","v":0},{"$f":"ROUND('Income Statement'!WON12,3)","v":0},{"$f":"ROUND('Income Statement'!WOO12,3)","v":0},{"$f":"ROUND('Income Statement'!WOP12,3)","v":0},{"$f":"ROUND('Income Statement'!WOQ12,3)","v":0},{"$f":"ROUND('Income Statement'!WOR12,3)","v":0},{"$f":"ROUND('Income Statement'!WOS12,3)","v":0},{"$f":"ROUND('Income Statement'!WOT12,3)","v":0},{"$f":"ROUND('Income Statement'!WOU12,3)","v":0},{"$f":"ROUND('Income Statement'!WOV12,3)","v":0},{"$f":"ROUND('Income Statement'!WOW12,3)","v":0},{"$f":"ROUND('Income Statement'!WOX12,3)","v":0},{"$f":"ROUND('Income Statement'!WOY12,3)","v":0},{"$f":"ROUND('Income Statement'!WOZ12,3)","v":0},{"$f":"ROUND('Income Statement'!WPA12,3)","v":0},{"$f":"ROUND('Income Statement'!WPB12,3)","v":0},{"$f":"ROUND('Income Statement'!WPC12,3)","v":0},{"$f":"ROUND('Income Statement'!WPD12,3)","v":0},{"$f":"ROUND('Income Statement'!WPE12,3)","v":0},{"$f":"ROUND('Income Statement'!WPF12,3)","v":0},{"$f":"ROUND('Income Statement'!WPG12,3)","v":0},{"$f":"ROUND('Income Statement'!WPH12,3)","v":0},{"$f":"ROUND('Income Statement'!WPI12,3)","v":0},{"$f":"ROUND('Income Statement'!WPJ12,3)","v":0},{"$f":"ROUND('Income Statement'!WPK12,3)","v":0},{"$f":"ROUND('Income Statement'!WPL12,3)","v":0},{"$f":"ROUND('Income Statement'!WPM12,3)","v":0},{"$f":"ROUND('Income Statement'!WPN12,3)","v":0},{"$f":"ROUND('Income Statement'!WPO12,3)","v":0},{"$f":"ROUND('Income Statement'!WPP12,3)","v":0},{"$f":"ROUND('Income Statement'!WPQ12,3)","v":0},{"$f":"ROUND('Income Statement'!WPR12,3)","v":0},{"$f":"ROUND('Income Statement'!WPS12,3)","v":0},{"$f":"ROUND('Income Statement'!WPT12,3)","v":0},{"$f":"ROUND('Income Statement'!WPU12,3)","v":0},{"$f":"ROUND('Income Statement'!WPV12,3)","v":0},{"$f":"ROUND('Income Statement'!WPW12,3)","v":0},{"$f":"ROUND('Income Statement'!WPX12,3)","v":0},{"$f":"ROUND('Income Statement'!WPY12,3)","v":0},{"$f":"ROUND('Income Statement'!WPZ12,3)","v":0},{"$f":"ROUND('Income Statement'!WQA12,3)","v":0},{"$f":"ROUND('Income Statement'!WQB12,3)","v":0},{"$f":"ROUND('Income Statement'!WQC12,3)","v":0},{"$f":"ROUND('Income Statement'!WQD12,3)","v":0},{"$f":"ROUND('Income Statement'!WQE12,3)","v":0},{"$f":"ROUND('Income Statement'!WQF12,3)","v":0},{"$f":"ROUND('Income Statement'!WQG12,3)","v":0},{"$f":"ROUND('Income Statement'!WQH12,3)","v":0},{"$f":"ROUND('Income Statement'!WQI12,3)","v":0},{"$f":"ROUND('Income Statement'!WQJ12,3)","v":0},{"$f":"ROUND('Income Statement'!WQK12,3)","v":0},{"$f":"ROUND('Income Statement'!WQL12,3)","v":0},{"$f":"ROUND('Income Statement'!WQM12,3)","v":0},{"$f":"ROUND('Income Statement'!WQN12,3)","v":0},{"$f":"ROUND('Income Statement'!WQO12,3)","v":0},{"$f":"ROUND('Income Statement'!WQP12,3)","v":0},{"$f":"ROUND('Income Statement'!WQQ12,3)","v":0},{"$f":"ROUND('Income Statement'!WQR12,3)","v":0},{"$f":"ROUND('Income Statement'!WQS12,3)","v":0},{"$f":"ROUND('Income Statement'!WQT12,3)","v":0},{"$f":"ROUND('Income Statement'!WQU12,3)","v":0},{"$f":"ROUND('Income Statement'!WQV12,3)","v":0},{"$f":"ROUND('Income Statement'!WQW12,3)","v":0},{"$f":"ROUND('Income Statement'!WQX12,3)","v":0},{"$f":"ROUND('Income Statement'!WQY12,3)","v":0},{"$f":"ROUND('Income Statement'!WQZ12,3)","v":0},{"$f":"ROUND('Income Statement'!WRA12,3)","v":0},{"$f":"ROUND('Income Statement'!WRB12,3)","v":0},{"$f":"ROUND('Income Statement'!WRC12,3)","v":0},{"$f":"ROUND('Income Statement'!WRD12,3)","v":0},{"$f":"ROUND('Income Statement'!WRE12,3)","v":0},{"$f":"ROUND('Income Statement'!WRF12,3)","v":0},{"$f":"ROUND('Income Statement'!WRG12,3)","v":0},{"$f":"ROUND('Income Statement'!WRH12,3)","v":0},{"$f":"ROUND('Income Statement'!WRI12,3)","v":0},{"$f":"ROUND('Income Statement'!WRJ12,3)","v":0},{"$f":"ROUND('Income Statement'!WRK12,3)","v":0},{"$f":"ROUND('Income Statement'!WRL12,3)","v":0},{"$f":"ROUND('Income Statement'!WRM12,3)","v":0},{"$f":"ROUND('Income Statement'!WRN12,3)","v":0},{"$f":"ROUND('Income Statement'!WRO12,3)","v":0},{"$f":"ROUND('Income Statement'!WRP12,3)","v":0},{"$f":"ROUND('Income Statement'!WRQ12,3)","v":0},{"$f":"ROUND('Income Statement'!WRR12,3)","v":0},{"$f":"ROUND('Income Statement'!WRS12,3)","v":0},{"$f":"ROUND('Income Statement'!WRT12,3)","v":0},{"$f":"ROUND('Income Statement'!WRU12,3)","v":0},{"$f":"ROUND('Income Statement'!WRV12,3)","v":0},{"$f":"ROUND('Income Statement'!WRW12,3)","v":0},{"$f":"ROUND('Income Statement'!WRX12,3)","v":0},{"$f":"ROUND('Income Statement'!WRY12,3)","v":0},{"$f":"ROUND('Income Statement'!WRZ12,3)","v":0},{"$f":"ROUND('Income Statement'!WSA12,3)","v":0},{"$f":"ROUND('Income Statement'!WSB12,3)","v":0},{"$f":"ROUND('Income Statement'!WSC12,3)","v":0},{"$f":"ROUND('Income Statement'!WSD12,3)","v":0},{"$f":"ROUND('Income Statement'!WSE12,3)","v":0},{"$f":"ROUND('Income Statement'!WSF12,3)","v":0},{"$f":"ROUND('Income Statement'!WSG12,3)","v":0},{"$f":"ROUND('Income Statement'!WSH12,3)","v":0},{"$f":"ROUND('Income Statement'!WSI12,3)","v":0},{"$f":"ROUND('Income Statement'!WSJ12,3)","v":0},{"$f":"ROUND('Income Statement'!WSK12,3)","v":0},{"$f":"ROUND('Income Statement'!WSL12,3)","v":0},{"$f":"ROUND('Income Statement'!WSM12,3)","v":0},{"$f":"ROUND('Income Statement'!WSN12,3)","v":0},{"$f":"ROUND('Income Statement'!WSO12,3)","v":0},{"$f":"ROUND('Income Statement'!WSP12,3)","v":0},{"$f":"ROUND('Income Statement'!WSQ12,3)","v":0},{"$f":"ROUND('Income Statement'!WSR12,3)","v":0},{"$f":"ROUND('Income Statement'!WSS12,3)","v":0},{"$f":"ROUND('Income Statement'!WST12,3)","v":0},{"$f":"ROUND('Income Statement'!WSU12,3)","v":0},{"$f":"ROUND('Income Statement'!WSV12,3)","v":0},{"$f":"ROUND('Income Statement'!WSW12,3)","v":0},{"$f":"ROUND('Income Statement'!WSX12,3)","v":0},{"$f":"ROUND('Income Statement'!WSY12,3)","v":0},{"$f":"ROUND('Income Statement'!WSZ12,3)","v":0},{"$f":"ROUND('Income Statement'!WTA12,3)","v":0},{"$f":"ROUND('Income Statement'!WTB12,3)","v":0},{"$f":"ROUND('Income Statement'!WTC12,3)","v":0},{"$f":"ROUND('Income Statement'!WTD12,3)","v":0},{"$f":"ROUND('Income Statement'!WTE12,3)","v":0},{"$f":"ROUND('Income Statement'!WTF12,3)","v":0},{"$f":"ROUND('Income Statement'!WTG12,3)","v":0},{"$f":"ROUND('Income Statement'!WTH12,3)","v":0},{"$f":"ROUND('Income Statement'!WTI12,3)","v":0},{"$f":"ROUND('Income Statement'!WTJ12,3)","v":0},{"$f":"ROUND('Income Statement'!WTK12,3)","v":0},{"$f":"ROUND('Income Statement'!WTL12,3)","v":0},{"$f":"ROUND('Income Statement'!WTM12,3)","v":0},{"$f":"ROUND('Income Statement'!WTN12,3)","v":0},{"$f":"ROUND('Income Statement'!WTO12,3)","v":0},{"$f":"ROUND('Income Statement'!WTP12,3)","v":0},{"$f":"ROUND('Income Statement'!WTQ12,3)","v":0},{"$f":"ROUND('Income Statement'!WTR12,3)","v":0},{"$f":"ROUND('Income Statement'!WTS12,3)","v":0},{"$f":"ROUND('Income Statement'!WTT12,3)","v":0},{"$f":"ROUND('Income Statement'!WTU12,3)","v":0},{"$f":"ROUND('Income Statement'!WTV12,3)","v":0},{"$f":"ROUND('Income Statement'!WTW12,3)","v":0},{"$f":"ROUND('Income Statement'!WTX12,3)","v":0},{"$f":"ROUND('Income Statement'!WTY12,3)","v":0},{"$f":"ROUND('Income Statement'!WTZ12,3)","v":0},{"$f":"ROUND('Income Statement'!WUA12,3)","v":0},{"$f":"ROUND('Income Statement'!WUB12,3)","v":0},{"$f":"ROUND('Income Statement'!WUC12,3)","v":0},{"$f":"ROUND('Income Statement'!WUD12,3)","v":0},{"$f":"ROUND('Income Statement'!WUE12,3)","v":0},{"$f":"ROUND('Income Statement'!WUF12,3)","v":0},{"$f":"ROUND('Income Statement'!WUG12,3)","v":0},{"$f":"ROUND('Income Statement'!WUH12,3)","v":0},{"$f":"ROUND('Income Statement'!WUI12,3)","v":0},{"$f":"ROUND('Income Statement'!WUJ12,3)","v":0},{"$f":"ROUND('Income Statement'!WUK12,3)","v":0},{"$f":"ROUND('Income Statement'!WUL12,3)","v":0},{"$f":"ROUND('Income Statement'!WUM12,3)","v":0},{"$f":"ROUND('Income Statement'!WUN12,3)","v":0},{"$f":"ROUND('Income Statement'!WUO12,3)","v":0},{"$f":"ROUND('Income Statement'!WUP12,3)","v":0},{"$f":"ROUND('Income Statement'!WUQ12,3)","v":0},{"$f":"ROUND('Income Statement'!WUR12,3)","v":0},{"$f":"ROUND('Income Statement'!WUS12,3)","v":0},{"$f":"ROUND('Income Statement'!WUT12,3)","v":0},{"$f":"ROUND('Income Statement'!WUU12,3)","v":0},{"$f":"ROUND('Income Statement'!WUV12,3)","v":0},{"$f":"ROUND('Income Statement'!WUW12,3)","v":0},{"$f":"ROUND('Income Statement'!WUX12,3)","v":0},{"$f":"ROUND('Income Statement'!WUY12,3)","v":0},{"$f":"ROUND('Income Statement'!WUZ12,3)","v":0},{"$f":"ROUND('Income Statement'!WVA12,3)","v":0},{"$f":"ROUND('Income Statement'!WVB12,3)","v":0},{"$f":"ROUND('Income Statement'!WVC12,3)","v":0},{"$f":"ROUND('Income Statement'!WVD12,3)","v":0},{"$f":"ROUND('Income Statement'!WVE12,3)","v":0},{"$f":"ROUND('Income Statement'!WVF12,3)","v":0},{"$f":"ROUND('Income Statement'!WVG12,3)","v":0},{"$f":"ROUND('Income Statement'!WVH12,3)","v":0},{"$f":"ROUND('Income Statement'!WVI12,3)","v":0},{"$f":"ROUND('Income Statement'!WVJ12,3)","v":0},{"$f":"ROUND('Income Statement'!WVK12,3)","v":0},{"$f":"ROUND('Income Statement'!WVL12,3)","v":0},{"$f":"ROUND('Income Statement'!WVM12,3)","v":0},{"$f":"ROUND('Income Statement'!WVN12,3)","v":0},{"$f":"ROUND('Income Statement'!WVO12,3)","v":0},{"$f":"ROUND('Income Statement'!WVP12,3)","v":0},{"$f":"ROUND('Income Statement'!WVQ12,3)","v":0},{"$f":"ROUND('Income Statement'!WVR12,3)","v":0},{"$f":"ROUND('Income Statement'!WVS12,3)","v":0},{"$f":"ROUND('Income Statement'!WVT12,3)","v":0},{"$f":"ROUND('Income Statement'!WVU12,3)","v":0},{"$f":"ROUND('Income Statement'!WVV12,3)","v":0},{"$f":"ROUND('Income Statement'!WVW12,3)","v":0},{"$f":"ROUND('Income Statement'!WVX12,3)","v":0},{"$f":"ROUND('Income Statement'!WVY12,3)","v":0},{"$f":"ROUND('Income Statement'!WVZ12,3)","v":0},{"$f":"ROUND('Income Statement'!WWA12,3)","v":0},{"$f":"ROUND('Income Statement'!WWB12,3)","v":0},{"$f":"ROUND('Income Statement'!WWC12,3)","v":0},{"$f":"ROUND('Income Statement'!WWD12,3)","v":0},{"$f":"ROUND('Income Statement'!WWE12,3)","v":0},{"$f":"ROUND('Income Statement'!WWF12,3)","v":0},{"$f":"ROUND('Income Statement'!WWG12,3)","v":0},{"$f":"ROUND('Income Statement'!WWH12,3)","v":0},{"$f":"ROUND('Income Statement'!WWI12,3)","v":0},{"$f":"ROUND('Income Statement'!WWJ12,3)","v":0},{"$f":"ROUND('Income Statement'!WWK12,3)","v":0},{"$f":"ROUND('Income Statement'!WWL12,3)","v":0},{"$f":"ROUND('Income Statement'!WWM12,3)","v":0},{"$f":"ROUND('Income Statement'!WWN12,3)","v":0},{"$f":"ROUND('Income Statement'!WWO12,3)","v":0},{"$f":"ROUND('Income Statement'!WWP12,3)","v":0},{"$f":"ROUND('Income Statement'!WWQ12,3)","v":0},{"$f":"ROUND('Income Statement'!WWR12,3)","v":0},{"$f":"ROUND('Income Statement'!WWS12,3)","v":0},{"$f":"ROUND('Income Statement'!WWT12,3)","v":0},{"$f":"ROUND('Income Statement'!WWU12,3)","v":0},{"$f":"ROUND('Income Statement'!WWV12,3)","v":0},{"$f":"ROUND('Income Statement'!WWW12,3)","v":0},{"$f":"ROUND('Income Statement'!WWX12,3)","v":0},{"$f":"ROUND('Income Statement'!WWY12,3)","v":0},{"$f":"ROUND('Income Statement'!WWZ12,3)","v":0},{"$f":"ROUND('Income Statement'!WXA12,3)","v":0},{"$f":"ROUND('Income Statement'!WXB12,3)","v":0},{"$f":"ROUND('Income Statement'!WXC12,3)","v":0},{"$f":"ROUND('Income Statement'!WXD12,3)","v":0},{"$f":"ROUND('Income Statement'!WXE12,3)","v":0},{"$f":"ROUND('Income Statement'!WXF12,3)","v":0},{"$f":"ROUND('Income Statement'!WXG12,3)","v":0},{"$f":"ROUND('Income Statement'!WXH12,3)","v":0},{"$f":"ROUND('Income Statement'!WXI12,3)","v":0},{"$f":"ROUND('Income Statement'!WXJ12,3)","v":0},{"$f":"ROUND('Income Statement'!WXK12,3)","v":0},{"$f":"ROUND('Income Statement'!WXL12,3)","v":0},{"$f":"ROUND('Income Statement'!WXM12,3)","v":0},{"$f":"ROUND('Income Statement'!WXN12,3)","v":0},{"$f":"ROUND('Income Statement'!WXO12,3)","v":0},{"$f":"ROUND('Income Statement'!WXP12,3)","v":0},{"$f":"ROUND('Income Statement'!WXQ12,3)","v":0},{"$f":"ROUND('Income Statement'!WXR12,3)","v":0},{"$f":"ROUND('Income Statement'!WXS12,3)","v":0},{"$f":"ROUND('Income Statement'!WXT12,3)","v":0},{"$f":"ROUND('Income Statement'!WXU12,3)","v":0},{"$f":"ROUND('Income Statement'!WXV12,3)","v":0},{"$f":"ROUND('Income Statement'!WXW12,3)","v":0},{"$f":"ROUND('Income Statement'!WXX12,3)","v":0},{"$f":"ROUND('Income Statement'!WXY12,3)","v":0},{"$f":"ROUND('Income Statement'!WXZ12,3)","v":0},{"$f":"ROUND('Income Statement'!WYA12,3)","v":0},{"$f":"ROUND('Income Statement'!WYB12,3)","v":0},{"$f":"ROUND('Income Statement'!WYC12,3)","v":0},{"$f":"ROUND('Income Statement'!WYD12,3)","v":0},{"$f":"ROUND('Income Statement'!WYE12,3)","v":0},{"$f":"ROUND('Income Statement'!WYF12,3)","v":0},{"$f":"ROUND('Income Statement'!WYG12,3)","v":0},{"$f":"ROUND('Income Statement'!WYH12,3)","v":0},{"$f":"ROUND('Income Statement'!WYI12,3)","v":0},{"$f":"ROUND('Income Statement'!WYJ12,3)","v":0},{"$f":"ROUND('Income Statement'!WYK12,3)","v":0},{"$f":"ROUND('Income Statement'!WYL12,3)","v":0},{"$f":"ROUND('Income Statement'!WYM12,3)","v":0},{"$f":"ROUND('Income Statement'!WYN12,3)","v":0},{"$f":"ROUND('Income Statement'!WYO12,3)","v":0},{"$f":"ROUND('Income Statement'!WYP12,3)","v":0},{"$f":"ROUND('Income Statement'!WYQ12,3)","v":0},{"$f":"ROUND('Income Statement'!WYR12,3)","v":0},{"$f":"ROUND('Income Statement'!WYS12,3)","v":0},{"$f":"ROUND('Income Statement'!WYT12,3)","v":0},{"$f":"ROUND('Income Statement'!WYU12,3)","v":0},{"$f":"ROUND('Income Statement'!WYV12,3)","v":0},{"$f":"ROUND('Income Statement'!WYW12,3)","v":0},{"$f":"ROUND('Income Statement'!WYX12,3)","v":0},{"$f":"ROUND('Income Statement'!WYY12,3)","v":0},{"$f":"ROUND('Income Statement'!WYZ12,3)","v":0},{"$f":"ROUND('Income Statement'!WZA12,3)","v":0},{"$f":"ROUND('Income Statement'!WZB12,3)","v":0},{"$f":"ROUND('Income Statement'!WZC12,3)","v":0},{"$f":"ROUND('Income Statement'!WZD12,3)","v":0},{"$f":"ROUND('Income Statement'!WZE12,3)","v":0},{"$f":"ROUND('Income Statement'!WZF12,3)","v":0},{"$f":"ROUND('Income Statement'!WZG12,3)","v":0},{"$f":"ROUND('Income Statement'!WZH12,3)","v":0},{"$f":"ROUND('Income Statement'!WZI12,3)","v":0},{"$f":"ROUND('Income Statement'!WZJ12,3)","v":0},{"$f":"ROUND('Income Statement'!WZK12,3)","v":0},{"$f":"ROUND('Income Statement'!WZL12,3)","v":0},{"$f":"ROUND('Income Statement'!WZM12,3)","v":0},{"$f":"ROUND('Income Statement'!WZN12,3)","v":0},{"$f":"ROUND('Income Statement'!WZO12,3)","v":0},{"$f":"ROUND('Income Statement'!WZP12,3)","v":0},{"$f":"ROUND('Income Statement'!WZQ12,3)","v":0},{"$f":"ROUND('Income Statement'!WZR12,3)","v":0},{"$f":"ROUND('Income Statement'!WZS12,3)","v":0},{"$f":"ROUND('Income Statement'!WZT12,3)","v":0},{"$f":"ROUND('Income Statement'!WZU12,3)","v":0},{"$f":"ROUND('Income Statement'!WZV12,3)","v":0},{"$f":"ROUND('Income Statement'!WZW12,3)","v":0},{"$f":"ROUND('Income Statement'!WZX12,3)","v":0},{"$f":"ROUND('Income Statement'!WZY12,3)","v":0},{"$f":"ROUND('Income Statement'!WZZ12,3)","v":0},{"$f":"ROUND('Income Statement'!XAA12,3)","v":0},{"$f":"ROUND('Income Statement'!XAB12,3)","v":0},{"$f":"ROUND('Income Statement'!XAC12,3)","v":0},{"$f":"ROUND('Income Statement'!XAD12,3)","v":0},{"$f":"ROUND('Income Statement'!XAE12,3)","v":0},{"$f":"ROUND('Income Statement'!XAF12,3)","v":0},{"$f":"ROUND('Income Statement'!XAG12,3)","v":0},{"$f":"ROUND('Income Statement'!XAH12,3)","v":0},{"$f":"ROUND('Income Statement'!XAI12,3)","v":0},{"$f":"ROUND('Income Statement'!XAJ12,3)","v":0},{"$f":"ROUND('Income Statement'!XAK12,3)","v":0},{"$f":"ROUND('Income Statement'!XAL12,3)","v":0},{"$f":"ROUND('Income Statement'!XAM12,3)","v":0},{"$f":"ROUND('Income Statement'!XAN12,3)","v":0},{"$f":"ROUND('Income Statement'!XAO12,3)","v":0},{"$f":"ROUND('Income Statement'!XAP12,3)","v":0},{"$f":"ROUND('Income Statement'!XAQ12,3)","v":0},{"$f":"ROUND('Income Statement'!XAR12,3)","v":0},{"$f":"ROUND('Income Statement'!XAS12,3)","v":0},{"$f":"ROUND('Income Statement'!XAT12,3)","v":0},{"$f":"ROUND('Income Statement'!XAU12,3)","v":0},{"$f":"ROUND('Income Statement'!XAV12,3)","v":0},{"$f":"ROUND('Income Statement'!XAW12,3)","v":0},{"$f":"ROUND('Income Statement'!XAX12,3)","v":0},{"$f":"ROUND('Income Statement'!XAY12,3)","v":0},{"$f":"ROUND('Income Statement'!XAZ12,3)","v":0},{"$f":"ROUND('Income Statement'!XBA12,3)","v":0},{"$f":"ROUND('Income Statement'!XBB12,3)","v":0},{"$f":"ROUND('Income Statement'!XBC12,3)","v":0},{"$f":"ROUND('Income Statement'!XBD12,3)","v":0},{"$f":"ROUND('Income Statement'!XBE12,3)","v":0},{"$f":"ROUND('Income Statement'!XBF12,3)","v":0},{"$f":"ROUND('Income Statement'!XBG12,3)","v":0},{"$f":"ROUND('Income Statement'!XBH12,3)","v":0},{"$f":"ROUND('Income Statement'!XBI12,3)","v":0},{"$f":"ROUND('Income Statement'!XBJ12,3)","v":0},{"$f":"ROUND('Income Statement'!XBK12,3)","v":0},{"$f":"ROUND('Income Statement'!XBL12,3)","v":0},{"$f":"ROUND('Income Statement'!XBM12,3)","v":0},{"$f":"ROUND('Income Statement'!XBN12,3)","v":0},{"$f":"ROUND('Income Statement'!XBO12,3)","v":0},{"$f":"ROUND('Income Statement'!XBP12,3)","v":0},{"$f":"ROUND('Income Statement'!XBQ12,3)","v":0},{"$f":"ROUND('Income Statement'!XBR12,3)","v":0},{"$f":"ROUND('Income Statement'!XBS12,3)","v":0},{"$f":"ROUND('Income Statement'!XBT12,3)","v":0},{"$f":"ROUND('Income Statement'!XBU12,3)","v":0},{"$f":"ROUND('Income Statement'!XBV12,3)","v":0},{"$f":"ROUND('Income Statement'!XBW12,3)","v":0},{"$f":"ROUND('Income Statement'!XBX12,3)","v":0},{"$f":"ROUND('Income Statement'!XBY12,3)","v":0},{"$f":"ROUND('Income Statement'!XBZ12,3)","v":0},{"$f":"ROUND('Income Statement'!XCA12,3)","v":0},{"$f":"ROUND('Income Statement'!XCB12,3)","v":0},{"$f":"ROUND('Income Statement'!XCC12,3)","v":0},{"$f":"ROUND('Income Statement'!XCD12,3)","v":0},{"$f":"ROUND('Income Statement'!XCE12,3)","v":0},{"$f":"ROUND('Income Statement'!XCF12,3)","v":0},{"$f":"ROUND('Income Statement'!XCG12,3)","v":0},{"$f":"ROUND('Income Statement'!XCH12,3)","v":0},{"$f":"ROUND('Income Statement'!XCI12,3)","v":0},{"$f":"ROUND('Income Statement'!XCJ12,3)","v":0},{"$f":"ROUND('Income Statement'!XCK12,3)","v":0},{"$f":"ROUND('Income Statement'!XCL12,3)","v":0},{"$f":"ROUND('Income Statement'!XCM12,3)","v":0},{"$f":"ROUND('Income Statement'!XCN12,3)","v":0},{"$f":"ROUND('Income Statement'!XCO12,3)","v":0},{"$f":"ROUND('Income Statement'!XCP12,3)","v":0},{"$f":"ROUND('Income Statement'!XCQ12,3)","v":0},{"$f":"ROUND('Income Statement'!XCR12,3)","v":0},{"$f":"ROUND('Income Statement'!XCS12,3)","v":0},{"$f":"ROUND('Income Statement'!XCT12,3)","v":0},{"$f":"ROUND('Income Statement'!XCU12,3)","v":0},{"$f":"ROUND('Income Statement'!XCV12,3)","v":0},{"$f":"ROUND('Income Statement'!XCW12,3)","v":0},{"$f":"ROUND('Income Statement'!XCX12,3)","v":0},{"$f":"ROUND('Income Statement'!XCY12,3)","v":0},{"$f":"ROUND('Income Statement'!XCZ12,3)","v":0},{"$f":"ROUND('Income Statement'!XDA12,3)","v":0},{"$f":"ROUND('Income Statement'!XDB12,3)","v":0},{"$f":"ROUND('Income Statement'!XDC12,3)","v":0},{"$f":"ROUND('Income Statement'!XDD12,3)","v":0},{"$f":"ROUND('Income Statement'!XDE12,3)","v":0},{"$f":"ROUND('Income Statement'!XDF12,3)","v":0},{"$f":"ROUND('Income Statement'!XDG12,3)","v":0},{"$f":"ROUND('Income Statement'!XDH12,3)","v":0},{"$f":"ROUND('Income Statement'!XDI12,3)","v":0},{"$f":"ROUND('Income Statement'!XDJ12,3)","v":0},{"$f":"ROUND('Income Statement'!XDK12,3)","v":0},{"$f":"ROUND('Income Statement'!XDL12,3)","v":0},{"$f":"ROUND('Income Statement'!XDM12,3)","v":0},{"$f":"ROUND('Income Statement'!XDN12,3)","v":0},{"$f":"ROUND('Income Statement'!XDO12,3)","v":0},{"$f":"ROUND('Income Statement'!XDP12,3)","v":0},{"$f":"ROUND('Income Statement'!XDQ12,3)","v":0},{"$f":"ROUND('Income Statement'!XDR12,3)","v":0},{"$f":"ROUND('Income Statement'!XDS12,3)","v":0},{"$f":"ROUND('Income Statement'!XDT12,3)","v":0},{"$f":"ROUND('Income Statement'!XDU12,3)","v":0},{"$f":"ROUND('Income Statement'!XDV12,3)","v":0},{"$f":"ROUND('Income Statement'!XDW12,3)","v":0},{"$f":"ROUND('Income Statement'!XDX12,3)","v":0},{"$f":"ROUND('Income Statement'!XDY12,3)","v":0},{"$f":"ROUND('Income Statement'!XDZ12,3)","v":0},{"$f":"ROUND('Income Statement'!XEA12,3)","v":0},{"$f":"ROUND('Income Statement'!XEB12,3)","v":0},{"$f":"ROUND('Income Statement'!XEC12,3)","v":0},{"$f":"ROUND('Income Statement'!XED12,3)","v":0},{"$f":"ROUND('Income Statement'!XEE12,3)","v":0},{"$f":"ROUND('Income Statement'!XEF12,3)","v":0},{"$f":"ROUND('Income Statement'!XEG12,3)","v":0},{"$f":"ROUND('Income Statement'!XEH12,3)","v":0},{"$f":"ROUND('Income Statement'!XEI12,3)","v":0},{"$f":"ROUND('Income Statement'!XEJ12,3)","v":0},{"$f":"ROUND('Income Statement'!XEK12,3)","v":0},{"$f":"ROUND('Income Statement'!XEL12,3)","v":0},{"$f":"ROUND('Income Statement'!XEM12,3)","v":0},{"$f":"ROUND('Income Statement'!XEN12,3)","v":0},{"$f":"ROUND('Income Statement'!XEO12,3)","v":0},{"$f":"ROUND('Income Statement'!XEP12,3)","v":0},{"$f":"ROUND('Income Statement'!XEQ12,3)","v":0},{"$f":"ROUND('Income Statement'!XER12,3)","v":0},{"$f":"ROUND('Income Statement'!XES12,3)","v":0},{"$f":"ROUND('Income Statement'!XET12,3)","v":0},{"$f":"ROUND('Income Statement'!XEU12,3)","v":0},{"$f":"ROUND('Income Statement'!XEV12,3)","v":0},{"$f":"ROUND('Income Statement'!XEW12,3)","v":0},{"$f":"ROUND('Income Statement'!XEX12,3)","v":0},{"$f":"ROUND('Income Statement'!XEY12,3)","v":0},{"$f":"ROUND('Income Statement'!XEZ12,3)","v":0},{"$f":"ROUND('Income Statement'!XFA12,3)","v":0},{"$f":"ROUND('Income Statement'!XFB12,3)","v":0},{"$f":"ROUND('Income Statement'!XFC12,3)","v":0},{"$f":"ROUND('Income Statement'!XFD12,3)","v":0}]
[null,"Capital Expenditures",-350.93099999999998,-342.61,-597.31899999999996,-755.69399999999996,-398.834,-401.892,-428.16699999999997,-522.93600000000004,-681.37300000000005,-574.84100000000001,-502.17200000000003,-378.01,-408.41,-530.101,-528.77499999999998,-521.07799999999997,-558.33100000000002,-636.74099999999999,-585.51300000000003,-540.05600000000004,-648.59199999999998,-529.04399999999998,-512.72500000000002,-586.49900000000002,null,-1751.829,-2136.3960000000002,-1988.364,-2320.6410000000001,-2276.86]
[null,"% Total Revenue and Income (ex-ITC)",null,null,null,null,{"$f":"-G73/'Income Statement'!G12","v":0.32656272900633665},{"$f":"-H73/'Income Statement'!H12","v":0.28615288657753196},{"$f":"-I73/'Income Statement'!I12","v":0.25737160182590429},{"$f":"-J73/'Income Statement'!J12","v":0.28449007481427002},{"$f":"-K73/'Income Statement'!K12","v":0.32080115896011863},{"$f":"-L73/'Income Statement'!L12","v":0.23027232126225738},{"$f":"-M73/'Income Statement'!M12","v":0.1885165190146891},{"$f":"-N73/'Income Statement'!N12","v":0.15219521700933841},0.17298830832674336,0.2198053310466877,0.21002253638828361,0.19285242669003741,0.20834342403835426,0.22774977537670898,0.19644369320705748,0.17115354081541134,0.20690482388309575,0.15924651658403993,0.15033476956096589,0.1653680622833858,null,"-",{"$f":"-AC73/'Income Statement'!AC12","v":0.316424497202695},{"$f":"-AD73/'Income Statement'!AD12","v":0.19988782997444862},{"$f":"-AE73/'Income Statement'!AE12","v":0.23224308974926977},{"$f":"-AF73/'Income Statement'!AF12","v":0.19608597964490324}]
[null,"Purchases of Property and Equipment",231.93799999999999,244.309,441.00799999999998,605.51400000000001,249.84700000000001,225.715,225.77600000000001,270.93599999999998,439.55900000000003,340.89699999999999,246.56899999999999,69.034000000000006,148.54400000000001,277.23099999999999,266.45699999999999,259.32600000000002,294.81900000000002,344.94799999999998,276.32600000000002,215.785,342.17099999999999,230.00800000000001,241.26400000000001,226.59700000000001,null,972.274,1096.059,951.55799999999999,1131.8779999999999,1040.04]
[null,"Purchases and Development of Intangible Assets",118.99299999999999,98.301000000000002,156.31100000000001,150.18,148.98699999999999,176.17699999999999,202.39099999999999,252,241.81399999999999,233.94399999999999,255.60300000000001,308.976,259.86599999999999,252.87,262.31799999999998,261.75200000000001,263.512,291.79300000000001,309.18700000000001,324.27100000000002,306.42099999999999,299.036,271.46100000000001,359.90199999999999,null,779.55499999999995,1040.337,1036.806,1188.7629999999999,1236.82]
[null,"Depreciation and Amortization | Non-GAAP",-59.6,-81.400000000000006,-101.52800000000001,-133.822,-153.435,-178.60400000000001,-200.38,-219.72,-244.44499999999999,-369.09100000000001,-331.00299999999999,-335.76600000000002,-364.86,-374.26400000000001,-392.66199999999998,-405.37099999999998,-409.13299999999998,-411.05799999999999,-429.02699999999999,-436.178,-455.71899999999999,-465.62799999999999,-473.49200000000002,-482.351,null,-752.13800000000003,-1280.3050000000001,-1537.191,-1685.3779999999999,-1877.19]
[null,"% Total Revenue and Income (ex-ITC)",null,null,null,null,{"$f":"ROUND(-G77/'Income Statement'!G12,3)","v":0.126},{"$f":"ROUND(-H77/'Income Statement'!H12,3)","v":0.127},{"$f":"ROUND(-I77/'Income Statement'!I12,3)","v":0.12},{"$f":"ROUND(-J77/'Income Statement'!J12,3)","v":0.12},{"$f":"ROUND(-K77/'Income Statement'!K12,3)","v":0.115},{"$f":"ROUND(-L77/'Income Statement'!L12,3)","v":0.14799999999999999},{"$f":"ROUND(-M77/'Income Statement'!M12,3)","v":0.124},{"$f":"ROUND(-N77/'Income Statement'!N12,3)","v":0.13500000000000001},0.155,0.155,0.156,0.15,0.153,0.14699999999999999,0.14399999999999999,0.13800000000000001,0.14499999999999999,0.14000000000000001,0.13900000000000001,0.13600000000000001,null,null,0.19,0.155,0.16900000000000001,0.16200000000000001]
[null,"Depreciation and Amortization",-59.6,-81.400000000000006,-101.52800000000001,-133.822,-153.435,-178.60400000000001,-200.38,-219.72,-244.44499999999999,-275.95,-289.83800000000002,-270.166,-302.60399999999998,-309.56400000000002,-328.91500000000002,-348.54899999999998,-352.93799999999999,-371.35899999999998,-392.30200000000002,-404.88799999999998,-418.01,-429.58499999999998,-434.964,-438.55200000000002,null,0,-1080.3989999999999,-1289.633,-1521.4870000000001,-1721.1110000000001]
[null,"POS Write-offs","-","-","-","-","-","-","-","-","-",-93.141000000000005,-41.164999999999999,-65.599999999999994,-62.256,-64.7,-63.747,-56.822000000000003,-56.195,-39.698999999999998,-36.725000000000001,-31.29,-37.709000000000003,-36.042999999999999,-38.527999999999999,-43.798999999999999,null,0,-199.90600000000001,-247.52500000000001,-163.90899999999999,-156.07900000000001]

{"sheet":"Capital Structure","index":5,"n_rows":17,"n_cols":23,"rows_kept":17,"cut":false,"hidden":false,"merged":[]}
[]
[null,"CAPITAL STRUCTURE"]
[null,"http://investors.pagbank.com/"]
[]
[null,"GAAP | R$ million","1Q22","2Q22","3Q22","4Q22","1Q23","2Q23","3Q23","4Q23","1Q24","2Q24","3Q24","4Q24","1Q25","2Q25","3Q25","4Q25",null,2022,2023,2024,2025]
[null,"Net Income",349.92200000000003,366.92200000000003,380.28699999999998,407.637,369.78300000000002,385.11599999999999,410.72500000000002,488.041,482.6,503.64499999999998,531.15099999999995,598.9,525.20000000000005,537,554.48400000000004,502.02499999999998,null,1504.768,1653.684,2116.3679999999999,2118.3620000000001]
[null,"Net Income (Non-GAAP)",null,403.36099999999999,411.31400000000002,411.298,391.94900000000001,415.315,440.17200000000003,520.49699999999996,522.20000000000005,541.98699999999997,572.12099999999998,631.31399999999996,553.92399999999998,565.06500000000005,571.46100000000001,678.01,null,1597.2570000000001,1767.9939999999999,2267.5790000000002,2368.4659999999999]
[null,"Equity",10791.263000000001,11189.33,11511.624,11842.15,12207.165999999999,12525.546,12868.208000000001,13240.684999999999,13769.352000000001,14317.891,14442.82,14668.371999999999,14942.848,14583.7,14887.985000000001,14639.571,null,11842.15,13240.684999999999,14668.371999999999,14639.571]
[null,"Capital Reserve",6014.2160000000003,6054.0129999999999,6089.36,6102.5720000000001,6029.4369999999999,6062.3029999999999,6097.3909999999996,6132.7460000000001,6002.4139999999998,6046.5510000000004,6090.6210000000001,6133.8630000000003,6003.2910000000002,4821.9750000000004,4826.4399999999996,4875.1109999999999,null,6102.5720000000001,6132.7460000000001,6133.8630000000003,4875.1109999999999]
[null,"Retained Earnings",5082.5420000000004,5449.4639999999999,5829.7510000000002,6237.3879999999999,6607.2359999999999,6992.326,7403.0559999999996,7891.076,8373.6219999999994,8877.2669999999998,9408.4189999999999,10007.444,10532.536,10642.125,11006.861000000001,11324.061,null,6237.3879999999999,7891.076,10007.444,11324.061]
[null,"Treasury Shares",-280.55500000000001,-280.20400000000001,-376.59800000000001,-475.351,-407.33699999999999,-505.63799999999998,-609.82399999999996,-760.31700000000001,-583.22,-583.22,-1010.939,-1367.6769999999999,-1436.144,-695.36099999999999,-743.30899999999997,-1329.377,null,-475.351,-760.31700000000001,-1367.6769999999999,-1329.377]
[null,"ROAE GAAP (%)",null,null,null,null,0.123,0.125,0.129,0.15,0.14299999999999999,0.14299999999999999,0.14799999999999999,0.16500000000000001,0.14199999999999999,0.14499999999999999,0.151,0.13600000000000001,null,"-",0.13200000000000001,0.152,0.14499999999999999]
[null,"ROAE GAAP (LTM)(%)",null,null,null,null,0.13300000000000001,0.13,0.129,0.13200000000000001,0.13600000000000001,0.14000000000000001,0.14699999999999999,0.152,0.15,0.152,0.151,0.14499999999999999,null,"-",0.13200000000000001,0.152,0.14499999999999999]
[null,"ROAE Non-GAAP (%)",null,null,null,null,0.13,0.13400000000000001,0.13900000000000001,0.159,0.155,0.154,0.159,0.17299999999999999,0.15,0.153,0.155,0.184,null,"-",0.14099999999999999,0.16200000000000001,0.16200000000000001]
[null,"ROAE Non-GAAP (LTM)(%)",null,null,null,null,0.14099999999999999,0.13700000000000001,0.13600000000000001,0.14099999999999999,0.14599999999999999,0.151,0.158,0.16300000000000001,0.16,0.161,0.158,0.16200000000000001,null,"-",0.14099999999999999,0.16200000000000001,0.16200000000000001]
[null,"BIS Ratio (%)¹",null,null,null,null,"-","-",0.34899999999999998,0.33300000000000002,0.30499999999999999,0.33400000000000002,0.30599999999999999,0.28399999999999997,0.27400000000000002,0.29599999999999999,0.28599999999999998,0.28399999999999997,null,"-",0.33300000000000002,0.28399999999999997,0.28399999999999997]
[null,"1 -  Basel Index (CET1) adjusted. 4Q25 Does not consider non-cash accounting effect of dividends declared by subsidiaries within the Prudential conglomerate to the holding Company in December 2025. Regulatory Prudential BIS Ratio in 4Q25 was 15.3%"]

{"sheet":"Corporate Structure","index":6,"n_rows":19,"n_cols":32,"rows_kept":19,"cut":false,"hidden":false,"merged":[]}
[]
[null,"CORPORATE STRUCTURE"]
[null,"http://investors.pagbank.com/"]
[]
[null,"Shareholders","1Q20","2Q20","3Q20","4Q20","1Q21","2Q21","3Q21","4Q21","1Q22","2Q22","3Q22","4Q22","1Q23","2Q23","3Q23","4Q23","1Q24","2Q24","3Q24","4Q24","1Q25","2Q25","3Q25","4Q25*",null,2021,2022,2023,2024,2025]
[null,"TOTAL",329013906,329016372,329016372,329016372,329016372,329224825,329592676,329608226,329608226,329608226,329608226,329608226,{"$f":"ROUND(SUM(O7:O9),3)","v":329608226},329608226,329608226,329608226,329608424,329608424,329608424,329608424,329608424,305677709,305677709,290677709,null,329608226,329608226,{"$f":"ROUND(R6,3)","v":329608226},{"$f":"ROUND(V6,3)","v":329608424},290677709]
[null,"UOL",149470861,149685723,128369723,128369723,128369723,128369723,128369723,128369723,128419723,128419723,120459508,121259312,121259312,121259312,121259312,121259312,121259312,121259312,121259312,121259312,121259312,121436862,122945168,127700390,null,128369723,121259312,121259312,121259312,127700390]
[null,"Free Float",178476860,178264464,200453364,200478013,200635666,200844317,201220487,199549802,199440386,199442569,205711984,203017314,203183459,200837198,198468012,194609496,197809987,197809987,190728720,182565601,180161237,170434682,165405449,151818949,null,199549802,203017314,194609496,182565601,151818949]
[null,"Treasury Shares",1066185,1066185,193285,168636,10983,10785,2466,1688701,1748117,1745934,3436734,5331600,5165455,7511716,9880902,13739418,10539125,10539125,17620392,25783511,28187875,13806165,17327092,11158370,null,1688701,5331600,13739418,25783511,11158370]
[null,"Class A",180143045,180145511,201461511,201461511,201461511,201669964,202037815,202053365,202053365,202053365,209148718,209148718,{"$f":"ROUND(SUM(O11:O13),3)","v":209148718},209148718,209148718,209148718,209148916,209148916,209148916,209148916,209148916,185218201,185218201,170218201,null,202053365,209148718,209148718,209148916,170218201]
[null,"UOL",600000,814862,814862,814862,814862,814862,814862,814862,864862,864862,0,799804,799804,799804,799804,799804,799804,799804,799804,799804,799804,977354,2485660,7240882,null,814862,799804,799804,799804,7240882]
[null,"Free Float",178476860,178264464,200453364,200478013,200635666,200844317,201220487,199549802,199440386,199442569,205711984,203017314,203183459,200837198,198468012,194609496,197809987,197809987,190728720,182565601,180161237,170434682,165405449,151818949,null,199549802,203017314,194609496,182565601,151818949]
[null,"Treasury Shares",1066185,1066185,193285,168636,10983,10785,2466,1688701,1748117,1745934,3436734,5331600,5165455,7511716,9880902,13739418,10539125,10539125,17620392,25783511,28187875,13806165,17327092,11158370,null,1688701,5331600,13739418,25783511,11158370]
[null,"Class B",148870861,148870861,127554861,127554861,127554861,127554861,127554861,127554861,127554861,127554861,120459508,120459508,{"$f":"ROUND(SUM(O15:O17),3)","v":120459508},120459508,120459508,120459508,120459508,120459508,120459508,120459508,120459508,120459508,120459508,120459508,null,127554861,120459508,120459508,120459508,120459508]
[null,"UOL",148870861,148870861,127554861,127554861,127554861,127554861,127554861,127554861,127554861,127554861,120459508,120459508,120459508,120459508,120459508,120459508,120459508,120459508,120459508,120459508,120459508,120459508,120459508,120459508,null,127554861,120459508,120459508,120459508,120459508]
[null,"Free Float",0,0,0,0,0,0,0,0,0,0,0,0,0,0,0,0,0,0,0,0,0,0,0,0,null,0,0,0,0,0]
[null,"Treasury Shares",0,0,0,0,0,0,0,0,0,0,0,0,0,0,0,0,0,0,0,0,0,0,0,0,null,0,0,0,0,0]
[null,"1 - Does not consider 2.742.840 treasury shares acquired after March 31, 2025. Following 1Q25 Earnings, the Company has announced cancellation of 23,930,715 treasury shares not reflected in the disclosed position"]
[null,"*4Q25 position as of February 2026"]

{"sheet":"Cash Flow","index":7,"n_rows":63,"n_cols":16383,"rows_kept":63,"cut":false,"hidden":false,"merged":[]}
[]
[null,"CASH FLOW"]
[null,"http://investors.pagbank.com/"]
[]
[null,"GAAP | R$ million","1Q20","6M20","9M20",2020,"1Q21","6M21","9M21",2021,"1Q22","6M22","9M22",2022,"1Q23","6M23","9M23",2023,"1Q24","6M24","9M24",2024,"1Q25","6M25","9M25",2025,null,2020,2021,2022,2023,2024,2025,2025,2025,2025,2025,2025,2025,2025,2025,2025,2025,2025,2025,2025,2025,2025,2025,2025,2025,2025,2025,2025,2025,2025,2025,2025,2025,2025,2025,2025,2025,2025,2025,2025,2025,2025,2025,2025,2025,2025,2025,2025,2025,2025,2025,2025,2025,2025,2025,2025,2025,2025,2025,2025,2025,2025,2025,2025,2025,2025,2025,2025,2025,2025,2025,2025,2025,2025,2025,2025,2025,2025,2025,2025,2025,2025,2025,2025,2025,2025,2025,2025,2025,2025,2025,2025,2025,2025,2025,2025,2025,2025,2025,2025,2025,2025,2025,2025,2025,2025,2025,2025,2025,2025,2025,2025,2025,2025,2025,2025,2025,2025,2025,2025,2025,2025,2025,2025,2025,2025,2025,2025,2025,2025,2025,2025,2025,2025,2025,2025,2025,2025,2025,2025,2025,2025,2025,2025,2025,2025,2025,2025,2025,2025,2025,2025,2025,2025,2025,2025,2025,2025,2025,2025,2025,2025,2025,2025,2025,2025,2025,2025,2025,2025,2025,2025,2025,2025,2025,2025,2025,2025,2025,2025,2025,2025,2025,2025,2025,2025,2025,2025,2025,2025,2025,2025,2025,2025,2025,2025,2025,2025,2025,2025,2025,2025,2025,2025,2025,2025,2025,2025,2025,2025,2025,2025,2025,2025,2025,2025,2025,2025,2025,2025,2025,2025,2025,2025,2025,2025,2025,2025,2025,2025,2025,2025,2025,2025,2025,2025,2025,2025,2025,2025,2025,2025,2025,2025,2025,2025,2025,2025,2025,2025,2025,2025,2025,2025,2025,2025,2025,2025,2025,2025,2025,2025,2025,2025,2025,2025,2025,2025,2025,2025,2025,2025,2025,2025,2025,2025,2025,2025,2025,2025,2025,2025,2025,2025,2025,2025,2025,2025,2025,2025,2025,2025,2025,2025,2025,2025,2025,2025,2025,2025,2025,2025,2025,2025,2025,2025,2025,2025,2025,2025,2025,2025,2025,2025,2025,2025,2025,2025,2025,2025,2025,2025,2025,2025,2025,2025,2025,2025,2025,2025,2025,2025,2025,2025,2025,2025,2025,2025,2025,2025,2025,2025,2025,2025,2025,2025,2025,2025,2025,2025,2025,2025,2025,2025,2025,2025,2025,2025,2025,2025,2025,2025,2025,2025,2025,2025,2025,2025,2025,2025,2025,2025,2025,2025,2025,2025,2025,2025,2025,2025,2025,2025,2025,2025,2025,2025,2025,2025,2025,2025,2025,2025,2025,2025,2025,2025,2025,2025,2025,2025,2025,2025,2025,2025,2025,2025,2025,2025,2025,2025,2025,2025,2025,2025,2025,2025,2025,2025,2025,2025,2025,2025,2025,2025,2025,2025,2025,2025,2025,2025,2025,2025,2025,2025,2025,2025,2025,2025,2025,2025,2025,2025,2025,2025,2025,2025,2025,2025,2025,2025,2025,2025,2025,2025,2025,2025,2025,2025,2025,2025,2025,2025,2025,2025,2025,2025,2025,2025,2025,2025,2025,2025,2025,2025,2025,2025,2025,2025,2025,2025,2025,2025,2025,2025,2025,2025,2025,2025,2025,2025,2025,2025,2025,2025,2025,2025,2025,2025,2025,2025,2025,2025,2025,2025,2025,2025,2025,2025,2025,2025,2025,2025,2025,2025,2025,2025,2025,2025,2025,2025,2025,2025,2025,2025,2025,2025,2025,2025,2025,2025,2025,2025,2025,2025,2025,2025,2025,2025,2025,2025,2025,2025,2025,2025,2025,2025,2025,2025,2025,2025,2025,2025,2025,2025,2025,2025,2025,2025,2025,2025,2025,2025,2025,2025,2025,2025,2025,2025,2025,2025,2025,2025,2025,2025,2025,2025,2025,2025,2025,2025,2025,2025,2025,2025,2025,2025,2025,2025,2025,2025,2025,2025,2025,2025,2025,2025,2025,2025,2025,2025,2025,2025,2025,2025,2025,2025,2025,2025,2025,2025,2025,2025,2025,2025,2025,2025,2025,2025,2025,2025,2025,2025,2025,2025,2025,2025,2025,2025,2025,2025,2025,2025,2025,2025,2025,2025,2025,2025,2025,2025,2025,2025,2025,2025,2025,2025,2025,2025,2025,2025,2025,2025,2025,2025,2025,2025,2025,2025,2025,2025,2025,2025,2025,2025,2025,2025,2025,2025,2025,2025,2025,2025,2025,2025,2025,2025,2025,2025,2025,2025,2025,2025,2025,2025,2025,2025,2025,2025,2025,2025,2025,2025,2025,2025,2025,2025,2025,2025,2025,2025,2025,2025,2025,2025,2025,2025,2025,2025,2025,2025,2025,2025,2025,2025,2025,2025,2025,2025,2025,2025,2025,2025,2025,2025,2025,2025,2025,2025,2025,2025,2025,2025,2025,2025,2025,2025,2025,2025,2025,2025,2025,2025,2025,2025,2025,2025,2025,2025,2025,2025,2025,2025,2025,2025,2025,2025,2025,2025,2025,2025,2025,2025,2025,2025,2025,2025,2025,2025,2025,2025,2025,2025,2025,2025,2025,2025,2025,2025,2025,2025,2025,2025,2025,2025,2025,2025,2025,2025,2025,2025,2025,2025,2025,2025,2025,2025,2025,2025,2025,2025,2025,2025,2025,2025,2025,2025,2025,2025,2025,2025,2025,2025,2025,2025,2025,2025,2025,2025,2025,2025,2025,2025,2025,2025,2025,2025,2025,2025,2025,2025,2025,2025,2025,2025,2025,2025,2025,2025,2025,2025,2025,2025,2025,2025,2025,2025,2025,2025,2025,2025,2025,2025,2025,2025,2025,2025,2025,2025,2025,2025,2025,2025,2025,2025,2025,2025,2025,2025,2025,2025,2025,2025,2025,2025,2025,2025,2025,2025,2025,2025,2025,2025,2025,2025,2025,2025,2025,2025,2025,2025,2025,2025,2025,2025,2025,2025,2025,2025,2025,2025,2025,2025,2025,2025,2025,2025,2025,2025,2025,2025,2025,2025,2025,2025,2025,2025,2025,2025,2025,2025,2025,2025,2025,2025,2025,2025,2025,2025,2025,2025,2025,2025,2025,2025,2025,2025,2025,2025,2025,2025,2025,2025,2025,2025,2025,2025,2025,2025,2025,2025,2025,2025,2025,2025,2025,2025,2025,2025,2025,2025,2025,2025,2025,2025,2025,2025,2025,2025,2025,2025,2025,2025,2025,2025,2025,2025,2025,2025,2025,2025,2025,2025,2025,2025,2025,2025,2025,2025,2025,2025,2025,2025,2025,2025,2025,2025,2025,2025,2025,2025,2025,2025,2025,2025,2025,2025,2025,2025,2025,2025,2025,2025,2025,2025,2025,2025,2025,2025,2025,2025,2025,2025,2025,2025,2025,2025,2025,2025,2025,2025,2025,2025,2025,2025,2025,2025,2025,2025,2025,2025,2025,2025,2025,2025,2025,2025,2025,2025,2025,2025,2025,2025,2025,2025,2025,2025,2025,2025,2025,2025,2025,2025,2025,2025,2025,2025,2025,2025,2025,2025,2025,2025,2025,2025,2025,2025,2025,2025,2025,2025,2025,2025,2025,2025,2025,2025,2025,2025,2025,2025,2025,2025,2025,2025,2025,2025,2025,2025,2025,2025,2025,2025,2025,2025,2025,2025,2025,2025,2025,2025,2025,2025,2025,2025,2025,2025,2025,2025,2025,2025,2025,2025,2025,2025,2025,2025,2025,2025,2025,2025,2025,2025,2025,2025,2025,2025,2025,2025,2025,2025,2025,2025,2025,2025,2025,2025,2025,2025,2025,2025,2025,2025,2025,2025,2025,2025,2025,2025,2025,2025,2025,2025,2025,2025,2025,2025,2025,2025,2025,2025,2025,2025,2025,2025,2025,2025,2025,2025,2025,2025,2025,2025,2025,2025,2025,2025,2025,2025,2025,2025,2025,2025,2025,2025,2025,2025,2025,2025,2025,2025,2025,2025,2025,2025,2025,2025,2025,2025,2025,2025,2025,2025,2025,2025,2025,2025,2025,2025,2025,2025,2025,2025,2025,2025,2025,2025,2025,2025,2025,2025,2025,2025,2025,2025,2025,2025,2025,2025,2025,2025,2025,2025,2025,2025,2025,2025,2025,2025,2025,2025,2025,2025,2025,2025,2025,2025,2025,2025,2025,2025,2025,2025,2025,2025,2025,2025,2025,2025,2025,2025,2025,2025,2025,2025,2025,2025,2025,2025,2025,2025,2025,2025,2025,2025,2025,2025,2025,2025,2025,2025,2025,2025,2025,2025,2025,2025,2025,2025,2025,2025,2025,2025,2025,2025,2025,2025,2025,2025,2025,2025,2025,2025,2025,2025,2025,2025,2025,2025,2025,2025,2025,2025,2025,2025,2025,2025,2025,2025,2025,2025,2025,2025,2025,2025,2025,2025,2025,2025,2025,2025,2025,2025,2025,2025,2025,2025,2025,2025,2025,2025,2025,2025,2025,2025,2025,2025,2025,2025,2025,2025,2025,2025,2025,2025,2025,2025,2025,2025,2025,2025,2025,2025,2025,2025,2025,2025,2025,2025,2025,2025,2025,2025,2025,2025,2025,2025,2025,2025,2025,2025,2025,2025,2025,2025,2025,2025,2025,2025,2025,2025,2025,2025,2025,2025,2025,2025,2025,2025,2025,2025,2025,2025,2025,2025,2025,2025,2025,2025,2025,2025,2025,2025,2025,2025,2025,2025,2025,2025,2025,2025,2025,2025,2025,2025,2025,2025,2025,2025,2025,2025,2025,2025,2025,2025,2025,2025,2025,2025,2025,2025,2025,2025,2025,2025,2025,2025,2025,2025,2025,2025,2025,2025,2025,2025,2025,2025,2025,2025,2025,2025,2025,2025,2025,2025,2025,2025,2025,2025,2025,2025,2025,2025,2025,2025,2025,2025,2025,2025,2025,2025,2025,2025,2025,2025,2025,2025,2025,2025,2025,2025,2025,2025,2025,2025,2025,2025,2025,2025,2025,2025,2025,2025,2025,2025,2025,2025,2025,2025,2025,2025,2025,2025,2025,2025,2025,2025,2025,2025,2025,2025,2025,2025,2025,2025,2025,2025,2025,2025,2025,2025,2025,2025,2025,2025,2025,2025,2025,2025,2025,2025,2025,2025,2025,2025,2025,2025,2025,2025,2025,2025,2025,2025,2025,2025,2025,2025,2025,2025,2025,2025,2025,2025,2025,2025,2025,2025,2025,2025,2025,2025,2025,2025,2025,2025,2025,2025,2025,2025,2025,2025,2025,2025,2025,2025,2025,2025,2025,2025,2025,2025,2025,2025,2025,2025,2025,2025,2025,2025,2025,2025,2025,2025,2025,2025,2025,2025,2025,2025,2025,2025,2025,2025,2025,2025,2025,2025,2025,2025,2025,2025,2025,2025,2025,2025,2025,2025,2025,2025,2025,2025,2025,2025,2025,2025,2025,2025,2025,2025,2025,2025,2025,2025,2025,2025,2025,2025,2025,2025,2025,2025,2025,2025,2025,2025,2025,2025,2025,2025,2025,2025,2025,2025,2025,2025,2025,2025,2025,2025,2025,2025,2025,2025,2025,2025,2025,2025,2025,2025,2025,2025,2025,2025,2025,2025,2025,2025,2025,2025,2025,2025,2025,2025,2025,2025,2025,2025,2025,2025,2025,2025,2025,2025,2025,2025,2025,2025,2025,2025,2025,2025,2025,2025,2025,2025,2025,2025,2025,2025,2025,2025,2025,2025,2025,2025,2025,2025,2025,2025,2025,2025,2025,2025,2025,2025,2025,2025,2025,2025,2025,2025,2025,2025,2025,2025,2025,2025,2025,2025,2025,2025,2025,2025,2025,2025,2025,2025,2025,2025,2025,2025,2025,2025,2025,2025,2025,2025,2025,2025,2025,2025,2025,2025,2025,2025,2025,2025,2025,2025,2025,2025,2025,2025,2025,2025,2025,2025,2025,2025,2025,2025,2025,2025,2025,2025,2025,2025,2025,2025,2025,2025,2025,2025,2025,2025,2025,2025,2025,2025,2025,2025,2025,2025,2025,2025,2025,2025,2025,2025,2025,2025,2025,2025,2025,2025,2025,2025,2025,2025,2025,2025,2025,2025,2025,2025,2025,2025,2025,2025,2025,2025,2025,2025,2025,2025,2025,2025,2025,2025,2025,2025,2025,2025,2025,2025,2025,2025,2025,2025,2025,2025,2025,2025,2025,2025,2025,2025,2025,2025,2025,2025,2025,2025,2025,2025,2025,2025,2025,2025,2025,2025,2025,2025,2025,2025,2025,2025,2025,2025,2025,2025,2025,2025,2025,2025,2025,2025,2025,2025,2025,2025,2025,2025,2025,2025,2025,2025,2025,2025,2025,2025,2025,2025,2025,2025,2025,2025,2025,2025,2025,2025,2025,2025,2025,2025,2025,2025,2025,2025,2025,2025,2025,2025,2025,2025,2025,2025,2025,2025,2025,2025,2025,2025,2025,2025,2025,2025,2025,2025,2025,2025,2025,2025,2025,2025,2025,2025,2025,2025,2025,2025,2025,2025,2025,2025,2025,2025,2025,2025,2025,2025,2025,2025,2025,2025,2025,2025,2025,2025,2025,2025,2025,2025,2025,2025,2025,2025,2025,2025,2025,2025,2025,2025,2025,2025,2025,2025,2025,2025,2025,2025,2025,2025,2025,2025,2025,2025,2025,2025,2025,2025,2025,2025,2025,2025,2025,2025,2025,2025,2025,2025,2025,2025,2025,2025,2025,2025,2025,2025,2025,2025,2025,2025,2025,2025,2025,2025,2025,2025,2025,2025,2025,2025,2025,2025,2025,2025,2025,2025,2025,2025,2025,2025,2025,2025,2025,2025,2025,2025,2025,2025,2025,2025,2025,2025,2025,2025,2025,2025,2025,2025,2025,2025,2025,2025,2025,2025,2025,2025,2025,2025,2025,2025,2025,2025,2025,2025,2025,2025,2025,2025,2025,2025,2025,2025,2025,2025,2025,2025,2025,2025,2025,2025,2025,2025,2025,2025,2025,2025,2025,2025,2025,2025,2025,2025,2025,2025,2025,2025,2025,2025,2025,2025,2025,2025,2025,2025,2025,2025,2025,2025,2025,2025,2025,2025,2025,2025,2025,2025,2025,2025,2025,2025,2025,2025,2025,2025,2025,2025,2025,2025,2025,2025,2025,2025,2025,2025,2025,2025,2025,2025,2025,2025,2025,2025,2025,2025,2025,2025,2025,2025,2025,2025,2025,2025,2025,2025,2025,2025,2025,2025,2025,2025,2025,2025,2025,2025,2025,2025,2025,2025,2025,2025,2025,2025,2025,2025,2025,2025,2025,2025,2025,2025,2025,2025,2025,2025,2025,2025,2025,2025,2025,2025,2025,2025,2025,2025,2025,2025,2025,2025,2025,2025,2025,2025,2025,2025,2025,2025,2025,2025,2025,2025,2025,2025,2025,2025,2025,2025,2025,2025,2025,2025,2025,2025,2025,2025,2025,2025,2025,2025,2025,2025,2025,2025,2025,2025,2025,2025,2025,2025,2025,2025,2025,2025,2025,2025,2025,2025,2025,2025,2025,2025,2025,2025,2025,2025,2025,2025,2025,2025,2025,2025,2025,2025,2025,2025,2025,2025,2025,2025,2025,2025,2025,2025,2025,2025,2025,2025,2025,2025,2025,2025,2025,2025,2025,2025,2025,2025,2025,2025,2025,2025,2025,2025,2025,2025,2025,2025,2025,2025,2025,2025,2025,2025,2025,2025,2025,2025,2025,2025,2025,2025,2025,2025,2025,2025,2025,2025,2025,2025,2025,2025,2025,2025,2025,2025,2025,2025,2025,2025,2025,2025,2025,2025,2025,2025,2025,2025,2025,2025,2025,2025,2025,2025,2025,2025,2025,2025,2025,2025,2025,2025,2025,2025,2025,2025,2025,2025,2025,2025,2025,2025,2025,2025,2025,2025,2025,2025,2025,2025,2025,2025,2025,2025,2025,2025,2025,2025,2025,2025,2025,2025,2025,2025,2025,2025,2025,2025,2025,2025,2025,2025,2025,2025,2025,2025,2025,2025,2025,2025,2025,2025,2025,2025,2025,2025,2025,2025,2025,2025,2025,2025,2025,2025,2025,2025,2025,2025,2025,2025,2025,2025,2025,2025,2025,2025,2025,2025,2025,2025,2025,2025,2025,2025,2025,2025,2025,2025,2025,2025,2025,2025,2025,2025,2025,2025,2025,2025,2025,2025,2025,2025,2025,2025,2025,2025,2025,2025,2025,2025,2025,2025,2025,2025,2025,2025,2025,2025,2025,2025,2025,2025,2025,2025,2025,2025,2025,2025,2025,2025,2025,2025,2025,2025,2025,2025,2025,2025,2025,2025,2025,2025,2025,2025,2025,2025,2025,2025,2025,2025,2025,2025,2025,2025,2025,2025,2025,2025,2025,2025,2025,2025,2025,2025,2025,2025,2025,2025,2025,2025,2025,2025,2025,2025,2025,2025,2025,2025,2025,2025,2025,2025,2025,2025,2025,2025,2025,2025,2025,2025,2025,2025,2025,2025,2025,2025,2025,2025,2025,2025,2025,2025,2025,2025,2025,2025,2025,2025,2025,2025,2025,2025,2025,2025,2025,2025,2025,2025,2025,2025,2025,2025,2025,2025,2025,2025,2025,2025,2025,2025,2025,2025,2025,2025,2025,2025,2025,2025,2025,2025,2025,2025,2025,2025,2025,2025,2025,2025,2025,2025,2025,2025,2025,2025,2025,2025,2025,2025,2025,2025,2025,2025,2025,2025,2025,2025,2025,2025,2025,2025,2025,2025,2025,2025,2025,2025,2025,2025,2025,2025,2025,2025,2025,2025,2025,2025,2025,2025,2025,2025,2025,2025,2025,2025,2025,2025,2025,2025,2025,2025,2025,2025,2025,2025,2025,2025,2025,2025,2025,2025,2025,2025,2025,2025,2025,2025,2025,2025,2025,2025,2025,2025,2025,2025,2025,2025,2025,2025,2025,2025,2025,2025,2025,2025,2025,2025,2025,2025,2025,2025,2025,2025,2025,2025,2025,2025,2025,2025,2025,2025,2025,2025,2025,2025,2025,2025,2025,2025,2025,2025,2025,2025,2025,2025,2025,2025,2025,2025,2025,2025,2025,2025,2025,2025,2025,2025,2025,2025,2025,2025,2025,2025,2025,2025,2025,2025,2025,2025,2025,2025,2025,2025,2025,2025,2025,2025,2025,2025,2025,2025,2025,2025,2025,2025,2025,2025,2025,2025,2025,2025,2025,2025,2025,2025,2025,2025,2025,2025,2025,2025,2025,2025,2025,2025,2025,2025,2025,2025,2025,2025,2025,2025,2025,2025,2025,2025,2025,2025,2025,2025,2025,2025,2025,2025,2025,2025,2025,2025,2025,2025,2025,2025,2025,2025,2025,2025,2025,2025,2025,2025,2025,2025,2025,2025,2025,2025,2025,2025,2025,2025,2025,2025,2025,2025,2025,2025,2025,2025,2025,2025,2025,2025,2025,2025,2025,2025,2025,2025,2025,2025,2025,2025,2025,2025,2025,2025,2025,2025,2025,2025,2025,2025,2025,2025,2025,2025,2025,2025,2025,2025,2025,2025,2025,2025,2025,2025,2025,2025,2025,2025,2025,2025,2025,2025,2025,2025,2025,2025,2025,2025,2025,2025,2025,2025,2025,2025,2025,2025,2025,2025,2025,2025,2025,2025,2025,2025,2025,2025,2025,2025,2025,2025,2025,2025,2025,2025,2025,2025,2025,2025,2025,2025,2025,2025,2025,2025,2025,2025,2025,2025,2025,2025,2025,2025,2025,2025,2025,2025,2025,2025,2025,2025,2025,2025,2025,2025,2025,2025,2025,2025,2025,2025,2025,2025,2025,2025,2025,2025,2025,2025,2025,2025,2025,2025,2025,2025,2025,2025,2025,2025,2025,2025,2025,2025,2025,2025,2025,2025,2025,2025,2025,2025,2025,2025,2025,2025,2025,2025,2025,2025,2025,2025,2025,2025,2025,2025,2025,2025,2025,2025,2025,2025,2025,2025,2025,2025,2025,2025,2025,2025,2025,2025,2025,2025,2025,2025,2025,2025,2025,2025,2025,2025,2025,2025,2025,2025,2025,2025,2025,2025,2025,2025,2025,2025,2025,2025,2025,2025,2025,2025,2025,2025,2025,2025,2025,2025,2025,2025,2025,2025,2025,2025,2025,2025,2025,2025,2025,2025,2025,2025,2025,2025,2025,2025,2025,2025,2025,2025,2025,2025,2025,2025,2025,2025,2025,2025,2025,2025,2025,2025,2025,2025,2025,2025,2025,2025,2025,2025,2025,2025,2025,2025,2025,2025,2025,2025,2025,2025,2025,2025,2025,2025,2025,2025,2025,2025,2025,2025,2025,2025,2025,2025,2025,2025,2025,2025,2025,2025,2025,2025,2025,2025,2025,2025,2025,2025,2025,2025,2025,2025,2025,2025,2025,2025,2025,2025,2025,2025,2025,2025,2025,2025,2025,2025,2025,2025,2025,2025,2025,2025,2025,2025,2025,2025,2025,2025,2025,2025,2025,2025,2025,2025,2025,2025,2025,2025,2025,2025,2025,2025,2025,2025,2025,2025,2025,2025,2025,2025,2025,2025,2025,2025,2025,2025,2025,2025,2025,2025,2025,2025,2025,2025,2025,2025,2025,2025,2025,2025,2025,2025,2025,2025,2025,2025,2025,2025,2025,2025,2025,2025,2025,2025,2025,2025,2025,2025,2025,2025,2025,2025,2025,2025,2025,2025,2025,2025,2025,2025,2025,2025,2025,2025,2025,2025,2025,2025,2025,2025,2025,2025,2025,2025,2025,2025,2025,2025,2025,2025,2025,2025,2025,2025,2025,2025,2025,2025,2025,2025,2025,2025,2025,2025,2025,2025,2025,2025,2025,2025,2025,2025,2025,2025,2025,2025,2025,2025,2025,2025,2025,2025,2025,2025,2025,2025,2025,2025,2025,2025,2025,2025,2025,2025,2025,2025,2025,2025,2025,2025,2025,2025,2025,2025,2025,2025,2025,2025,2025,2025,2025,2025,2025,2025,2025,2025,2025,2025,2025,2025,2025,2025,2025,2025,2025,2025,2025,2025,2025,2025,2025,2025,2025,2025,2025,2025,2025,2025,2025,2025,2025,2025,2025,2025,2025,2025,2025,2025,2025,2025,2025,2025,2025,2025,2025,2025,2025,2025,2025,2025,2025,2025,2025,2025,2025,2025,2025,2025,2025,2025,2025,2025,2025,2025,2025,2025,2025,2025,2025,2025,2025,2025,2025,2025,2025,2025,2025,2025,2025,2025,2025,2025,2025,2025,2025,2025,2025,2025,2025,2025,2025,2025,2025,2025,2025,2025,2025,2025,2025,2025,2025,2025,2025,2025,2025,2025,2025,2025,2025,2025,2025,2025,2025,2025,2025,2025,2025,2025,2025,2025,2025,2025,2025,2025,2025,2025,2025,2025,2025,2025,2025,2025,2025,2025,2025,2025,2025,2025,2025,2025,2025,2025,2025,2025,2025,2025,2025,2025,2025,2025,2025,2025,2025,2025,2025,2025,2025,2025,2025,2025,2025,2025,2025,2025,2025,2025,2025,2025,2025,2025,2025,2025,2025,2025,2025,2025,2025,2025,2025,2025,2025,2025,2025,2025,2025,2025,2025,2025,2025,2025,2025,2025,2025,2025,2025,2025,2025,2025,2025,2025,2025,2025,2025,2025,2025,2025,2025,2025,2025,2025,2025,2025,2025,2025,2025,2025,2025,2025,2025,2025,2025,2025,2025,2025,2025,2025,2025,2025,2025,2025,2025,2025,2025,2025,2025,2025,2025,2025,2025,2025,2025,2025,2025,2025,2025,2025,2025,2025,2025,2025,2025,2025,2025,2025,2025,2025,2025,2025,2025,2025,2025,2025,2025,2025,2025,2025,2025,2025,2025,2025,2025,2025,2025,2025,2025,2025,2025,2025,2025,2025,2025,2025,2025,2025,2025,2025,2025,2025,2025,2025,2025,2025,2025,2025,2025,2025,2025,2025,2025,2025,2025,2025,2025,2025,2025,2025,2025,2025,2025,2025,2025,2025,2025,2025,2025,2025,2025,2025,2025,2025,2025,2025,2025,2025,2025,2025,2025,2025,2025,2025,2025,2025,2025,2025,2025,2025,2025,2025,2025,2025,2025,2025,2025,2025,2025,2025,2025,2025,2025,2025,2025,2025,2025,2025,2025,2025,2025,2025,2025,2025,2025,2025,2025,2025,2025,2025,2025,2025,2025,2025,2025,2025,2025,2025,2025,2025,2025,2025,2025,2025,2025,2025,2025,2025,2025,2025,2025,2025,2025,2025,2025,2025,2025,2025,2025,2025,2025,2025,2025,2025,2025,2025,2025,2025,2025,2025,2025,2025,2025,2025,2025,2025,2025,2025,2025,2025,2025,2025,2025,2025,2025,2025,2025,2025,2025,2025,2025,2025,2025,2025,2025,2025,2025,2025,2025,2025,2025,2025,2025,2025,2025,2025,2025,2025,2025,2025,2025,2025,2025,2025,2025,2025,2025,2025,2025,2025,2025,2025,2025,2025,2025,2025,2025,2025,2025,2025,2025,2025,2025,2025,2025,2025,2025,2025,2025,2025,2025,2025,2025,2025,2025,2025,2025,2025,2025,2025,2025,2025,2025,2025,2025,2025,2025,2025,2025,2025,2025,2025,2025,2025,2025,2025,2025,2025,2025,2025,2025,2025,2025,2025,2025,2025,2025,2025,2025,2025,2025,2025,2025,2025,2025,2025,2025,2025,2025,2025,2025,2025,2025,2025,2025,2025,2025,2025,2025,2025,2025,2025,2025,2025,2025,2025,2025,2025,2025,2025,2025,2025,2025,2025,2025,2025,2025,2025,2025,2025,2025,2025,2025,2025,2025,2025,2025,2025,2025,2025,2025,2025,2025,2025,2025,2025,2025,2025,2025,2025,2025,2025,2025,2025,2025,2025,2025,2025,2025,2025,2025,2025,2025,2025,2025,2025,2025,2025,2025,2025,2025,2025,2025,2025,2025,2025,2025,2025,2025,2025,2025,2025,2025,2025,2025,2025,2025,2025,2025,2025,2025,2025,2025,2025,2025,2025,2025,2025,2025,2025,2025,2025,2025,2025,2025,2025,2025,2025,2025,2025,2025,2025,2025,2025,2025,2025,2025,2025,2025,2025,2025,2025,2025,2025,2025,2025,2025,2025,2025,2025,2025,2025,2025,2025,2025,2025,2025,2025,2025,2025,2025,2025,2025,2025,2025,2025,2025,2025,2025,2025,2025,2025,2025,2025,2025,2025,2025,2025,2025,2025,2025,2025,2025,2025,2025,2025,2025,2025,2025,2025,2025,2025,2025,2025,2025,2025,2025,2025,2025,2025,2025,2025,2025,2025,2025,2025,2025,2025,2025,2025,2025,2025,2025,2025,2025,2025,2025,2025,2025,2025,2025,2025,2025,2025,2025,2025,2025,2025,2025,2025,2025,2025,2025,2025,2025,2025,2025,2025,2025,2025,2025,2025,2025,2025,2025,2025,2025,2025,2025,2025,2025,2025,2025,2025,2025,2025,2025,2025,2025,2025,2025,2025,2025,2025,2025,2025,2025,2025,2025,2025,2025,2025,2025,2025,2025,2025,2025,2025,2025,2025,2025,2025,2025,2025,2025,2025,2025,2025,2025,2025,2025,2025,2025,2025,2025,2025,2025,2025,2025,2025,2025,2025,2025,2025,2025,2025,2025,2025,2025,2025,2025,2025,2025,2025,2025,2025,2025,2025,2025,2025,2025,2025,2025,2025,2025,2025,2025,2025,2025,2025,2025,2025,2025,2025,2025,2025,2025,2025,2025,2025,2025,2025,2025,2025,2025,2025,2025,2025,2025,2025,2025,2025,2025,2025,2025,2025,2025,2025,2025,2025,2025,2025,2025,2025,2025,2025,2025,2025,2025,2025,2025,2025,2025,2025,2025,2025,2025,2025,2025,2025,2025,2025,2025,2025,2025,2025,2025,2025,2025,2025,2025,2025,2025,2025,2025,2025,2025,2025,2025,2025,2025,2025,2025,2025,2025,2025,2025,2025,2025,2025,2025,2025,2025,2025,2025,2025,2025,2025,2025,2025,2025,2025,2025,2025,2025,2025,2025,2025,2025,2025,2025,2025,2025,2025,2025,2025,2025,2025,2025,2025,2025,2025,2025,2025,2025,2025,2025,2025,2025,2025,2025,2025,2025,2025,2025,2025,2025,2025,2025,2025,2025,2025,2025,2025,2025,2025,2025,2025,2025,2025,2025,2025,2025,2025,2025,2025,2025,2025,2025,2025,2025,2025,2025,2025,2025,2025,2025,2025,2025,2025,2025,2025,2025,2025,2025,2025,2025,2025,2025,2025,2025,2025,2025,2025,2025,2025,2025,2025,2025,2025,2025,2025,2025,2025,2025,2025,2025,2025,2025,2025,2025,2025,2025,2025,2025,2025,2025,2025,2025,2025,2025,2025,2025,2025,2025,2025,2025,2025,2025,2025,2025,2025,2025,2025,2025,2025,2025,2025,2025,2025,2025,2025,2025,2025,2025,2025,2025,2025,2025,2025,2025,2025,2025,2025,2025,2025,2025,2025,2025,2025,2025,2025,2025,2025,2025,2025,2025,2025,2025,2025,2025,2025,2025,2025,2025,2025,2025,2025,2025,2025,2025,2025,2025,2025,2025,2025,2025,2025,2025,2025,2025,2025,2025,2025,2025,2025,2025,2025,2025,2025,2025,2025,2025,2025,2025,2025,2025,2025,2025,2025,2025,2025,2025,2025,2025,2025,2025,2025,2025,2025,2025,2025,2025,2025,2025,2025,2025,2025,2025,2025,2025,2025,2025,2025,2025,2025,2025,2025,2025,2025,2025,2025,2025,2025,2025,2025,2025,2025,2025,2025,2025,2025,2025,2025,2025,2025,2025,2025,2025,2025,2025,2025,2025,2025,2025,2025,2025,2025,2025,2025,2025,2025,2025,2025,2025,2025,2025,2025,2025,2025,2025,2025,2025,2025,2025,2025,2025,2025,2025,2025,2025,2025,2025,2025,2025,2025,2025,2025,2025,2025,2025,2025,2025,2025,2025,2025,2025,2025,2025,2025,2025,2025,2025,2025,2025,2025,2025,2025,2025,2025,2025,2025,2025,2025,2025,2025,2025,2025,2025,2025,2025,2025,2025,2025,2025,2025,2025,2025,2025,2025,2025,2025,2025,2025,2025,2025,2025,2025,2025,2025,2025,2025,2025,2025,2025,2025,2025,2025,2025,2025,2025,2025,2025,2025,2025,2025,2025,2025,2025,2025,2025,2025,2025,2025,2025,2025,2025,2025,2025,2025,2025,2025,2025,2025,2025,2025,2025,2025,2025,2025,2025,2025,2025,2025,2025,2025,2025,2025,2025,2025,2025,2025,2025,2025,2025,2025,2025,2025,2025,2025,2025,2025,2025,2025,2025,2025,2025,2025,2025,2025,2025,2025,2025,2025,2025,2025,2025,2025,2025,2025,2025,2025,2025,2025,2025,2025,2025,2025,2025,2025,2025,2025,2025,2025,2025,2025,2025,2025,2025,2025,2025,2025,2025,2025,2025,2025,2025,2025,2025,2025,2025,2025,2025,2025,2025,2025,2025,2025,2025,2025,2025,2025,2025,2025,2025,2025,2025,2025,2025,2025,2025,2025,2025,2025,2025,2025,2025,2025,2025,2025,2025,2025,2025,2025,2025,2025,2025,2025,2025,2025,2025,2025,2025,2025,2025,2025,2025,2025,2025,2025,2025,2025,2025,2025,2025,2025,2025,2025,2025,2025,2025,2025,2025,2025,2025,2025,2025,2025,2025,2025,2025,2025,2025,2025,2025,2025,2025,2025,2025,2025,2025,2025,2025,2025,2025,2025,2025,2025,2025,2025,2025,2025,2025,2025,2025,2025,2025,2025,2025,2025,2025,2025,2025,2025,2025,2025,2025,2025,2025,2025,2025,2025,2025,2025,2025,2025,2025,2025,2025,2025,2025,2025,2025,2025,2025,2025,2025,2025,2025,2025,2025,2025,2025,2025,2025,2025,2025,2025,2025,2025,2025,2025,2025,2025,2025,2025,2025,2025,2025,2025,2025,2025,2025,2025,2025,2025,2025,2025,2025,2025,2025,2025,2025,2025,2025,2025,2025,2025,2025,2025,2025,2025,2025,2025,2025,2025,2025,2025,2025,2025,2025,2025,2025,2025,2025,2025,2025,2025,2025,2025,2025,2025,2025,2025,2025,2025,2025,2025,2025,2025,2025,2025,2025,2025,2025,2025,2025,2025,2025,2025,2025,2025,2025,2025,2025,2025,2025,2025,2025,2025,2025,2025,2025,2025,2025,2025,2025,2025,2025,2025,2025,2025,2025,2025,2025,2025,2025,2025,2025,2025,2025,2025,2025,2025,2025,2025,2025,2025,2025,2025,2025,2025,2025,2025,2025,2025,2025,2025,2025,2025,2025,2025,2025,2025,2025,2025,2025,2025,2025,2025,2025,2025,2025,2025,2025,2025,2025,2025,2025,2025,2025,2025,2025,2025,2025,2025,2025,2025,2025,2025,2025,2025,2025,2025,2025,2025,2025,2025,2025,2025,2025,2025,2025,2025,2025,2025,2025,2025,2025,2025,2025,2025,2025,2025,2025,2025,2025,2025,2025,2025,2025,2025,2025,2025,2025,2025,2025,2025,2025,2025,2025,2025,2025,2025,2025,2025,2025,2025,2025,2025,2025,2025,2025,2025,2025,2025,2025,2025,2025,2025,2025,2025,2025,2025,2025,2025,2025,2025,2025,2025,2025,2025,2025,2025,2025,2025,2025,2025,2025,2025,2025,2025,2025,2025,2025,2025,2025,2025,2025,2025,2025,2025,2025,2025,2025,2025,2025,2025,2025,2025,2025,2025,2025,2025,2025,2025,2025,2025,2025,2025,2025,2025,2025,2025,2025,2025,2025,2025,2025,2025,2025,2025,2025,2025,2025,2025,2025,2025,2025,2025,2025,2025,2025,2025,2025,2025,2025,2025,2025,2025,2025,2025,2025,2025,2025,2025,2025,2025,2025,2025,2025,2025,2025,2025,2025,2025,2025,2025,2025,2025,2025,2025,2025,2025,2025,2025,2025,2025,2025,2025,2025,2025,2025,2025,2025,2025,2025,2025,2025,2025,2025,2025,2025,2025,2025,2025,2025,2025,2025,2025,2025,2025,2025,2025,2025,2025,2025,2025,2025,2025,2025,2025,2025,2025,2025,2025,2025,2025,2025,2025,2025,2025,2025,2025,2025,2025,2025,2025,2025,2025,2025,2025,2025,2025,2025,2025,2025,2025,2025,2025,2025,2025,2025,2025,2025,2025,2025,2025,2025,2025,2025,2025,2025,2025,2025,2025,2025,2025,2025,2025,2025,2025,2025,2025,2025,2025,2025,2025,2025,2025,2025,2025,2025,2025,2025,2025,2025,2025,2025,2025,2025,2025,2025,2025,2025,2025,2025,2025,2025,2025,2025,2025,2025,2025,2025,2025,2025,2025,2025,2025,2025,2025,2025,2025,2025,2025,2025,2025,2025,2025,2025,2025,2025,2025,2025,2025,2025,2025,2025,2025,2025,2025,2025,2025,2025,2025,2025,2025,2025,2025,2025,2025,2025,2025,2025,2025,2025,2025,2025,2025,2025,2025,2025,2025,2025,2025,2025,2025,2025,2025,2025,2025,2025,2025,2025,2025,2025,2025,2025,2025,2025,2025,2025,2025,2025,2025,2025,2025,2025,2025,2025,2025,2025,2025,2025,2025,2025,2025,2025,2025,2025,2025,2025,2025,2025,2025,2025,2025,2025,2025,2025,2025,2025,2025,2025,2025,2025,2025,2025,2025,2025,2025,2025,2025,2025,2025,2025,2025,2025,2025,2025,2025,2025,2025,2025,2025,2025,2025,2025,2025,2025,2025,2025,2025,2025,2025,2025,2025,2025,2025,2025,2025,2025,2025,2025,2025,2025,2025,2025,2025,2025,2025,2025,2025,2025,2025,2025,2025,2025,2025,2025,2025,2025,2025,2025,2025,2025,2025,2025,2025,2025,2025,2025,2025,2025,2025,2025,2025,2025,2025,2025,2025,2025,2025,2025,2025,2025,2025,2025,2025,2025,2025,2025,2025,2025,2025,2025,2025,2025,2025,2025,2025,2025,2025,2025,2025,2025,2025,2025,2025,2025,2025,2025,2025,2025,2025,2025,2025,2025,2025,2025,2025,2025,2025,2025,2025,2025,2025,2025,2025,2025,2025,2025,2025,2025,2025,2025,2025,2025,2025,2025,2025,2025,2025,2025,2025,2025,2025,2025,2025,2025,2025,2025,2025,2025,2025,2025,2025,2025,2025,2025,2025,2025,2025,2025,2025,2025,2025,2025,2025,2025,2025,2025,2025,2025,2025,2025,2025,2025,2025,2025,2025,2025,2025,2025,2025,2025,2025,2025,2025,2025,2025,2025,2025,2025,2025,2025,2025,2025,2025,2025,2025,2025,2025,2025,2025,2025,2025,2025,2025,2025,2025,2025,2025,2025,2025,2025,2025,2025,2025,2025,2025,2025,2025,2025,2025,2025,2025,2025,2025,2025,2025,2025,2025,2025,2025,2025,2025,2025,2025,2025,2025,2025,2025,2025,2025,2025,2025,2025,2025,2025,2025,2025,2025,2025,2025,2025,2025,2025,2025,2025,2025,2025,2025,2025,2025,2025,2025,2025,2025,2025,2025,2025,2025,2025,2025,2025,2025,2025,2025,2025,2025,2025,2025,2025,2025,2025,2025,2025,2025,2025,2025,2025,2025,2025,2025,2025,2025,2025,2025,2025,2025,2025,2025,2025,2025,2025,2025,2025,2025,2025,2025,2025,2025,2025,2025,2025,2025,2025,2025,2025,2025,2025,2025,2025,2025,2025,2025,2025,2025,2025,2025,2025,2025,2025,2025,2025,2025,2025,2025,2025,2025,2025,2025,2025,2025,2025,2025,2025,2025,2025,2025,2025,2025,2025,2025,2025,2025,2025,2025,2025,2025,2025,2025,2025,2025,2025,2025,2025,2025,2025,2025,2025,2025,2025,2025,2025,2025,2025,2025,2025,2025,2025,2025,2025,2025,2025,2025,2025,2025,2025,2025,2025,2025,2025,2025,2025,2025,2025,2025,2025,2025,2025,2025,2025,2025,2025,2025,2025,2025,2025,2025,2025,2025,2025,2025,2025,2025,2025,2025,2025,2025,2025,2025,2025,2025,2025,2025,2025,2025,2025,2025,2025,2025,2025,2025,2025,2025,2025,2025,2025,2025,2025,2025,2025,2025,2025,2025,2025,2025,2025,2025,2025,2025,2025,2025,2025,2025,2025,2025,2025,2025,2025,2025,2025,2025,2025,2025,2025,2025,2025,2025,2025,2025,2025,2025,2025,2025,2025,2025,2025,2025,2025,2025,2025,2025,2025,2025,2025,2025,2025,2025,2025,2025,2025,2025,2025,2025,2025,2025,2025,2025,2025,2025,2025,2025,2025,2025,2025,2025,2025,2025,2025,2025,2025,2025,2025,2025,2025,2025,2025,2025,2025,2025,2025,2025,2025,2025,2025,2025,2025,2025,2025,2025,2025,2025,2025,2025,2025,2025,2025,2025,2025,2025,2025,2025,2025,2025,2025,2025,2025,2025,2025,2025,2025,2025,2025,2025,2025,2025,2025,2025,2025,2025,2025,2025,2025,2025,2025,2025,2025,2025,2025,2025,2025,2025,2025,2025,2025,2025,2025,2025,2025,2025,2025,2025,2025,2025,2025,2025,2025,2025,2025,2025,2025,2025,2025,2025,2025,2025,2025,2025,2025,2025,2025,2025,2025,2025,2025,2025,2025,2025,2025,2025,2025,2025,2025,2025,2025,2025,2025,2025,2025,2025,2025,2025,2025,2025,2025,2025,2025,2025,2025,2025,2025,2025,2025,2025,2025,2025,2025,2025,2025,2025,2025,2025,2025,2025,2025,2025,2025,2025,2025,2025,2025,2025,2025,2025,2025,2025,2025,2025,2025,2025,2025,2025,2025,2025,2025,2025,2025,2025,2025,2025,2025,2025,2025,2025,2025,2025,2025,2025,2025,2025,2025,2025,2025,2025,2025,2025,2025,2025,2025,2025,2025,2025,2025,2025,2025,2025,2025,2025,2025,2025,2025,2025,2025,2025,2025,2025,2025,2025,2025,2025,2025,2025,2025,2025,2025,2025,2025,2025,2025,2025,2025,2025,2025,2025,2025,2025,2025,2025,2025,2025,2025,2025,2025,2025,2025,2025,2025,2025,2025,2025,2025,2025,2025,2025,2025,2025,2025,2025,2025,2025,2025,2025,2025,2025,2025,2025,2025,2025,2025,2025,2025,2025,2025,2025,2025,2025,2025,2025,2025,2025,2025,2025,2025,2025,2025,2025,2025,2025,2025,2025,2025,2025,2025,2025,2025,2025,2025,2025,2025,2025,2025,2025,2025,2025,2025,2025,2025,2025,2025,2025,2025,2025,2025,2025,2025,2025,2025,2025,2025,2025,2025,2025,2025,2025,2025,2025,2025,2025,2025,2025,2025,2025,2025,2025,2025,2025,2025,2025,2025,2025,2025,2025,2025,2025,2025,2025,2025,2025,2025,2025,2025,2025,2025,2025,2025,2025,2025,2025,2025,2025,2025,2025,2025,2025,2025,2025,2025,2025,2025,2025,2025,2025,2025,2025,2025,2025,2025,2025,2025,2025,2025,2025,2025,2025,2025,2025,2025,2025,2025,2025,2025,2025,2025,2025,2025,2025,2025,2025,2025,2025,2025,2025,2025,2025,2025,2025,2025,2025,2025,2025,2025,2025,2025,2025,2025,2025,2025,2025,2025,2025,2025,2025,2025,2025,2025,2025,2025,2025,2025,2025,2025,2025,2025,2025,2025,2025,2025,2025,2025,2025,2025,2025,2025,2025,2025,2025,2025,2025,2025,2025,2025,2025,2025,2025,2025,2025,2025,2025,2025,2025,2025,2025,2025,2025,2025,2025,2025,2025,2025,2025,2025,2025,2025,2025,2025,2025,2025,2025,2025,2025,2025,2025,2025,2025,2025,2025,2025,2025,2025,2025,2025,2025,2025,2025,2025,2025,2025,2025,2025,2025,2025,2025,2025,2025,2025,2025,2025,2025,2025,2025,2025,2025,2025,2025,2025,2025,2025,2025,2025,2025,2025,2025,2025,2025,2025,2025,2025,2025,2025,2025,2025,2025,2025,2025,2025,2025,2025,2025,2025,2025,2025,2025,2025,2025,2025,2025,2025,2025,2025,2025,2025,2025,2025,2025,2025,2025,2025,2025,2025,2025,2025,2025,2025,2025,2025,2025,2025,2025,2025,2025,2025,2025,2025,2025,2025,2025,2025,2025,2025,2025,2025,2025,2025,2025,2025,2025,2025,2025,2025,2025,2025,2025,2025,2025,2025,2025,2025,2025,2025,2025,2025,2025,2025,2025,2025,2025,2025,2025,2025,2025,2025,2025,2025,2025,2025,2025,2025,2025,2025,2025,2025,2025,2025,2025,2025,2025,2025,2025,2025,2025,2025,2025,2025,2025,2025,2025,2025,2025,2025,2025,2025,2025,2025,2025,2025,2025,2025,2025,2025,2025,2025,2025,2025,2025,2025,2025,2025,2025,2025,2025,2025,2025,2025,2025,2025,2025,2025,2025,2025,2025,2025,2025,2025,2025,2025,2025,2025,2025,2025,2025,2025,2025,2025,2025,2025,2025,2025,2025,2025,2025,2025,2025,2025,2025,2025,2025,2025,2025,2025,2025,2025,2025,2025,2025,2025,2025,2025,2025,2025,2025,2025,2025,2025,2025,2025,2025,2025,2025,2025,2025,2025,2025,2025,2025,2025,2025,2025,2025,2025,2025,2025,2025,2025,2025,2025,2025,2025,2025,2025,2025,2025,2025,2025,2025,2025,2025,2025,2025,2025,2025,2025,2025,2025,2025,2025,2025,2025,2025,2025,2025,2025,2025,2025,2025,2025,2025,2025,2025,2025,2025,2025,2025,2025,2025,2025,2025,2025,2025,2025,2025,2025,2025,2025,2025,2025,2025,2025,2025,2025,2025,2025,2025,2025,2025,2025,2025,2025,2025,2025,2025,2025,2025,2025,2025,2025,2025,2025,2025,2025,2025,2025,2025,2025,2025,2025,2025,2025,2025,2025,2025,2025,2025,2025,2025,2025,2025,2025,2025,2025,2025,2025,2025,2025,2025,2025,2025,2025,2025,2025,2025,2025,2025,2025,2025,2025,2025,2025,2025,2025,2025,2025,2025,2025,2025,2025,2025,2025,2025,2025,2025,2025,2025,2025,2025,2025,2025,2025,2025,2025,2025,2025,2025,2025,2025,2025,2025,2025,2025,2025,2025,2025,2025,2025,2025,2025,2025,2025,2025,2025,2025,2025,2025,2025,2025,2025,2025,2025,2025,2025,2025,2025,2025,2025,2025,2025,2025,2025,2025,2025,2025,2025,2025,2025,2025,2025,2025,2025,2025,2025,2025,2025,2025,2025,2025,2025,2025,2025,2025,2025,2025,2025,2025,2025,2025,2025,2025,2025,2025,2025,2025,2025,2025,2025,2025,2025,2025,2025,2025,2025,2025,2025,2025,2025,2025,2025,2025,2025,2025,2025,2025,2025,2025,2025,2025,2025,2025,2025,2025,2025,2025,2025,2025,2025,2025,2025,2025,2025,2025,2025,2025,2025,2025,2025,2025,2025,2025,2025,2025,2025,2025,2025,2025,2025,2025,2025,2025,2025,2025,2025,2025,2025,2025,2025,2025,2025,2025,2025,2025,2025,2025,2025,2025,2025,2025,2025,2025,2025,2025,2025,2025,2025,2025,2025,2025,2025,2025,2025,2025,2025,2025,2025,2025,2025,2025,2025,2025,2025,2025,2025,2025,2025,2025,2025,2025,2025,2025,2025,2025,2025,2025,2025,2025,2025,2025,2025,2025,2025,2025,2025,2025,2025,2025,2025,2025,2025,2025,2025,2025,2025,2025,2025,2025,2025,2025,2025,2025,2025,2025,2025,2025,2025,2025,2025,2025,2025,2025,2025,2025,2025,2025,2025,2025,2025,2025,2025,2025,2025,2025,2025,2025,2025,2025,2025,2025,2025,2025,2025,2025,2025,2025,2025,2025,2025,2025,2025,2025,2025,2025,2025,2025,2025,2025,2025,2025,2025,2025,2025,2025,2025,2025,2025,2025,2025,2025,2025,2025,2025,2025,2025,2025,2025,2025,2025,2025,2025,2025,2025,2025,2025,2025,2025,2025,2025,2025,2025,2025,2025,2025,2025,2025,2025,2025,2025,2025,2025,2025,2025,2025,2025,2025,2025,2025,2025,2025,2025,2025,2025,2025,2025,2025,2025,2025,2025,2025,2025,2025,2025,2025,2025,2025,2025,2025,2025,2025,2025,2025,2025,2025,2025,2025,2025,2025,2025,2025,2025,2025,2025,2025,2025,2025,2025,2025,2025,2025,2025,2025,2025,2025,2025,2025,2025,2025,2025,2025,2025,2025,2025,2025,2025,2025,2025,2025,2025,2025,2025,2025,2025,2025,2025,2025,2025,2025,2025,2025,2025,2025,2025,2025,2025,2025,2025,2025,2025,2025,2025,2025,2025,2025,2025,2025,2025,2025,2025,2025,2025,2025,2025,2025,2025,2025,2025,2025,2025,2025,2025,2025,2025,2025,2025,2025,2025,2025,2025,2025,2025,2025,2025,2025,2025,2025,2025,2025,2025,2025,2025,2025,2025,2025,2025,2025,2025,2025,2025,2025,2025,2025,2025,2025,2025,2025,2025,2025,2025,2025,2025,2025,2025,2025,2025,2025,2025,2025,2025,2025,2025,2025,2025,2025,2025,2025,2025,2025,2025,2025,2025,2025,2025,2025,2025,2025,2025,2025,2025,2025,2025,2025,2025,2025,2025,2025,2025,2025,2025,2025,2025,2025,2025,2025,2025,2025,2025,2025,2025,2025,2025,2025,2025,2025,2025,2025,2025,2025,2025,2025,2025,2025,2025,2025,2025,2025,2025,2025,2025,2025,2025,2025,2025,2025,2025,2025,2025,2025,2025,2025,2025,2025,2025,2025,2025,2025,2025,2025,2025,2025,2025,2025,2025,2025,2025,2025,2025,2025,2025,2025,2025,2025,2025,2025,2025,2025,2025,2025,2025,2025,2025,2025,2025,2025,2025,2025,2025,2025,2025,2025,2025,2025,2025,2025,2025,2025,2025,2025,2025,2025,2025,2025,2025,2025,2025,2025,2025,2025,2025,2025,2025,2025,2025,2025,2025,2025,2025,2025,2025,2025,2025,2025,2025,2025,2025,2025,2025,2025,2025,2025,2025,2025,2025,2025,2025,2025,2025,2025,2025,2025,2025,2025,2025,2025,2025,2025,2025,2025,2025,2025,2025,2025,2025,2025,2025,2025,2025,2025,2025,2025,2025,2025,2025,2025,2025,2025,2025,2025,2025,2025,2025,2025,2025,2025,2025,2025,2025,2025,2025,2025,2025,2025,2025,2025,2025,2025,2025,2025,2025,2025,2025,2025,2025,2025,2025,2025,2025,2025,2025,2025,2025,2025,2025,2025,2025,2025,2025,2025,2025,2025,2025,2025,2025,2025,2025,2025,2025,2025,2025,2025,2025,2025,2025,2025,2025,2025,2025,2025,2025,2025,2025,2025,2025,2025,2025,2025,2025,2025,2025,2025,2025,2025,2025,2025,2025,2025,2025,2025,2025,2025,2025,2025,2025,2025,2025,2025,2025,2025,2025,2025,2025,2025,2025,2025,2025,2025,2025,2025,2025,2025,2025,2025,2025,2025,2025,2025,2025,2025,2025,2025,2025,2025,2025,2025,2025,2025,2025,2025,2025,2025,2025,2025,2025,2025,2025,2025,2025,2025,2025,2025,2025,2025,2025,2025,2025,2025,2025,2025,2025,2025,2025,2025,2025,2025,2025,2025,2025,2025,2025,2025,2025,2025,2025,2025,2025,2025,2025,2025,2025,2025,2025,2025,2025,2025,2025,2025,2025,2025,2025,2025,2025,2025,2025,2025,2025,2025,2025,2025,2025,2025,2025,2025,2025,2025,2025,2025,2025,2025,2025,2025,2025,2025,2025,2025,2025,2025,2025,2025,2025,2025,2025,2025,2025,2025,2025,2025,2025,2025,2025,2025,2025,2025,2025,2025,2025,2025,2025,2025,2025,2025,2025,2025,2025,2025,2025,2025,2025,2025,2025,2025,2025,2025,2025,2025,2025,2025,2025,2025,2025,2025,2025,2025,2025,2025,2025,2025,2025,2025,2025,2025,2025,2025,2025,2025,2025,2025,2025,2025,2025,2025,2025,2025,2025,2025,2025,2025,2025,2025,2025,2025,2025,2025,2025,2025,2025,2025,2025,2025,2025,2025,2025,2025,2025,2025,2025,2025,2025,2025,2025,2025,2025,2025,2025,2025,2025,2025,2025,2025,2025,2025,2025,2025,2025,2025,2025,2025,2025,2025,2025,2025,2025,2025,2025,2025,2025,2025,2025,2025,2025,2025,2025,2025,2025,2025,2025,2025,2025,2025,2025,2025,2025,2025,2025,2025,2025,2025,2025,2025,2025,2025,2025,2025,2025,2025,2025,2025,2025,2025,2025,2025,2025,2025,2025,2025,2025,2025,2025,2025,2025,2025,2025,2025,2025,2025,2025,2025,2025,2025,2025,2025,2025,2025,2025,2025,2025,2025,2025,2025,2025,2025,2025,2025,2025,2025,2025,2025,2025,2025,2025,2025,2025,2025,2025,2025,2025,2025,2025,2025,2025,2025,2025,2025,2025,2025,2025,2025,2025,2025,2025,2025,2025,2025,2025,2025,2025,2025,2025,2025,2025,2025,2025,2025,2025,2025,2025,2025,2025,2025,2025,2025,2025,2025,2025,2025,2025,2025,2025,2025,2025,2025,2025,2025,2025,2025,2025,2025,2025,2025,2025,2025,2025,2025,2025,2025,2025,2025,2025,2025,2025,2025,2025,2025,2025,2025,2025,2025,2025,2025,2025,2025,2025,2025,2025,2025,2025,2025,2025,2025,2025,2025,2025,2025,2025,2025,2025,2025,2025,2025,2025,2025,2025,2025,2025,2025,2025,2025,2025,2025,2025,2025,2025,2025,2025,2025,2025,2025,2025,2025,2025,2025,2025,2025,2025,2025,2025,2025,2025,2025,2025,2025,2025,2025,2025,2025,2025,2025,2025,2025,2025,2025,2025,2025,2025,2025,2025,2025,2025,2025,2025,2025,2025,2025,2025,2025,2025,2025,2025,2025,2025,2025,2025,2025,2025,2025,2025,2025,2025,2025,2025,2025,2025,2025,2025,2025,2025,2025,2025,2025,2025,2025,2025,2025,2025,2025,2025,2025,2025,2025,2025,2025,2025,2025,2025,2025,2025,2025,2025,2025,2025,2025,2025,2025,2025,2025,2025,2025,2025,2025,2025,2025,2025,2025,2025,2025,2025,2025,2025,2025,2025,2025,2025,2025,2025,2025,2025,2025,2025,2025,2025,2025,2025,2025,2025,2025,2025,2025,2025,2025,2025,2025,2025,2025,2025,2025,2025,2025,2025,2025,2025,2025,2025,2025,2025,2025,2025,2025,2025,2025,2025,2025,2025,2025,2025,2025,2025,2025,2025,2025,2025,2025,2025,2025,2025,2025,2025,2025,2025,2025,2025,2025,2025,2025,2025,2025,2025,2025,2025,2025,2025,2025,2025,2025,2025,2025,2025,2025,2025,2025,2025,2025,2025,2025,2025,2025,2025,2025,2025,2025,2025,2025,2025,2025,2025,2025,2025,2025,2025,2025,2025,2025,2025,2025,2025,2025,2025,2025,2025,2025,2025,2025,2025,2025,2025,2025,2025,2025,2025,2025,2025,2025,2025,2025,2025,2025,2025,2025,2025,2025,2025,2025,2025,2025,2025,2025,2025,2025,2025,2025,2025,2025,2025,2025,2025,2025,2025,2025,2025,2025,2025,2025,2025,2025,2025,2025,2025,2025,2025,2025,2025,2025,2025,2025,2025,2025,2025,2025,2025,2025,2025,2025,2025,2025,2025,2025,2025,2025,2025,2025,2025,2025,2025,2025,2025,2025,2025,2025,2025,2025,2025,2025,2025,2025,2025,2025,2025,2025,2025,2025,2025,2025,2025,2025,2025,2025,2025,2025,2025,2025,2025,2025,2025,2025,2025,2025,2025,2025,2025,2025,2025,2025,2025,2025,2025,2025,2025,2025,2025,2025,2025,2025,2025,2025,2025,2025,2025,2025,2025,2025,2025,2025,2025,2025,2025,2025,2025,2025,2025,2025,2025,2025,2025,2025,2025,2025,2025,2025,2025,2025,2025,2025,2025,2025,2025,2025,2025,2025,2025,2025,2025,2025,2025,2025,2025,2025,2025,2025,2025,2025,2025,2025,2025,2025,2025,2025,2025,2025,2025,2025,2025,2025,2025,2025,2025,2025,2025,2025,2025,2025,2025,2025,2025,2025,2025,2025,2025,2025,2025,2025,2025,2025,2025,2025,2025,2025,2025,2025,2025,2025,2025,2025,2025,2025,2025,2025,2025,2025,2025,2025,2025,2025,2025,2025,2025,2025,2025,2025,2025,2025,2025,2025,2025,2025,2025,2025,2025,2025,2025,2025,2025,2025,2025,2025,2025,2025,2025,2025,2025,2025,2025,2025,2025,2025,2025,2025,2025,2025,2025,2025,2025,2025,2025,2025,2025,2025,2025,2025,2025,2025,2025,2025,2025,2025,2025,2025,2025,2025,2025,2025,2025,2025,2025,2025,2025,2025,2025,2025,2025,2025,2025,2025,2025,2025,2025,2025,2025,2025,2025,2025,2025,2025,2025,2025,2025,2025,2025,2025,2025,2025,2025,2025,2025,2025,2025,2025,2025,2025,2025,2025,2025,2025,2025,2025,2025,2025,2025,2025,2025,2025,2025,2025,2025,2025,2025,2025,2025,2025,2025,2025,2025,2025,2025,2025,2025,2025,2025,2025,2025,2025,2025,2025,2025,2025,2025,2025,2025,2025,2025,2025,2025,2025,2025,2025,2025,2025,2025,2025,2025,2025,2025,2025,2025,2025,2025,2025,2025,2025,2025,2025,2025,2025,2025,2025,2025,2025,2025,2025,2025,2025,2025,2025,2025,2025,2025,2025,2025,2025,2025,2025,2025,2025,2025,2025,2025,2025,2025,2025,2025,2025,2025,2025,2025,2025,2025,2025,2025,2025,2025,2025,2025,2025,2025,2025,2025,2025,2025,2025,2025,2025,2025,2025,2025,2025,2025,2025,2025,2025,2025,2025,2025,2025,2025,2025,2025,2025,2025,2025,2025,2025,2025,2025,2025,2025,2025,2025,2025,2025,2025,2025,2025,2025,2025,2025,2025,2025,2025,2025,2025,2025,2025,2025,2025,2025,2025,2025,2025,2025,2025,2025,2025,2025,2025,2025,2025,2025,2025,2025,2025,2025,2025,2025,2025,2025,2025,2025,2025,2025,2025,2025,2025,2025,2025,2025,2025,2025,2025,2025,2025,2025,2025,2025,2025,2025,2025,2025,2025,2025,2025,2025,2025,2025,2025,2025,2025,2025,2025,2025,2025,2025,2025,2025,2025,2025,2025,2025,2025,2025,2025,2025,2025,2025,2025,2025,2025,2025,2025,2025,2025,2025,2025,2025,2025,2025,2025,2025,2025,2025,2025,2025,2025,2025,2025,2025,2025,2025,2025,2025,2025,2025,2025,2025,2025,2025,2025,2025,2025,2025,2025,2025,2025,2025,2025,2025,2025,2025,2025,2025,2025,2025,2025,2025,2025,2025,2025,2025,2025,2025,2025,2025,2025,2025,2025,2025,2025,2025,2025,2025,2025,2025,2025,2025,2025,2025,2025,2025,2025,2025,2025,2025,2025,2025,2025,2025,2025,2025,2025,2025,2025,2025,2025,2025,2025,2025,2025,2025,2025,2025,2025,2025,2025,2025,2025,2025,2025,2025,2025,2025,2025,2025,2025,2025,2025,2025,2025,2025,2025,2025,2025,2025,2025,2025,2025,2025,2025,2025,2025,2025,2025,2025,2025,2025,2025,2025,2025,2025,2025,2025,2025,2025,2025,2025,2025,2025,2025,2025,2025,2025,2025,2025,2025,2025,2025,2025,2025,2025,2025,2025,2025,2025,2025,2025,2025,2025,2025,2025,2025,2025,2025,2025,2025,2025,2025,2025,2025,2025,2025,2025,2025,2025,2025,2025,2025,2025,2025,2025,2025,2025,2025,2025,2025,2025,2025,2025,2025,2025,2025,2025,2025,2025,2025,2025,2025,2025,2025,2025,2025,2025,2025,2025,2025,2025,2025,2025,2025,2025,2025,2025,2025,2025,2025,2025,2025,2025,2025,2025,2025,2025,2025,2025,2025,2025,2025,2025,2025,2025,2025,2025,2025,2025,2025,2025,2025,2025,2025,2025,2025,2025,2025,2025,2025,2025,2025,2025,2025,2025,2025,2025,2025,2025,2025,2025,2025,2025,2025,2025,2025,2025,2025,2025,2025,2025,2025,2025,2025,2025,2025,2025,2025,2025,2025,2025,2025,2025,2025,2025,2025,2025,2025,2025,2025,2025,2025,2025,2025,2025,2025,2025,2025,2025,2025,2025,2025,2025,2025,2025,2025,2025,2025,2025,2025,2025,2025,2025,2025,2025,2025,2025,2025,2025,2025,2025,2025,2025,2025,2025,2025,2025,2025,2025,2025,2025,2025,2025,2025,2025,2025,2025,2025,2025,2025,2025,2025,2025,2025,2025,2025,2025,2025,2025,2025,2025,2025,2025,2025,2025,2025,2025,2025,2025,2025,2025,2025,2025,2025,2025,2025,2025,2025,2025,2025,2025,2025,2025,2025,2025,2025,2025,2025,2025,2025,2025,2025,2025,2025,2025,2025,2025,2025,2025,2025,2025,2025,2025,2025,2025,2025,2025,2025,2025,2025,2025,2025,2025,2025,2025,2025,2025,2025,2025,2025,2025,2025,2025,2025,2025,2025,2025,2025,2025,2025,2025,2025,2025,2025,2025,2025,2025,2025,2025,2025,2025,2025,2025,2025,2025,2025,2025,2025,2025,2025,2025,2025,2025,2025,2025,2025,2025,2025,2025,2025,2025,2025,2025,2025,2025,2025,2025,2025,2025,2025,2025,2025,2025,2025,2025,2025,2025,2025,2025,2025,2025,2025,2025,2025,2025,2025,2025,2025,2025,2025,2025,2025,2025,2025,2025,2025,2025,2025,2025,2025,2025,2025,2025,2025,2025,2025,2025,2025,2025,2025,2025,2025,2025,2025,2025,2025,2025,2025,2025,2025,2025,2025,2025,2025,2025,2025,2025,2025,2025,2025,2025,2025,2025,2025,2025,2025,2025,2025,2025,2025,2025,2025,2025,2025,2025,2025,2025,2025,2025,2025,2025,2025,2025,2025,2025,2025,2025,2025,2025,2025,2025,2025,2025,2025,2025,2025,2025,2025,2025,2025,2025,2025,2025,2025,2025,2025,2025,2025,2025,2025,2025,2025,2025,2025,2025,2025,2025,2025,2025,2025,2025,2025,2025,2025,2025,2025,2025,2025,2025,2025,2025,2025,2025,2025,2025,2025,2025,2025,2025,2025,2025,2025,2025,2025,2025,2025,2025,2025,2025,2025,2025,2025,2025,2025,2025,2025,2025,2025,2025,2025,2025,2025,2025,2025,2025,2025,2025,2025,2025,2025,2025,2025,2025,2025,2025,2025,2025,2025,2025,2025,2025,2025,2025,2025,2025,2025,2025,2025,2025,2025,2025,2025,2025,2025,2025,2025,2025,2025,2025,2025,2025,2025,2025,2025,2025,2025,2025,2025,2025,2025,2025,2025,2025,2025,2025,2025,2025,2025,2025,2025,2025,2025,2025,2025,2025,2025,2025,2025,2025,2025,2025,2025,2025,2025,2025,2025,2025,2025,2025,2025,2025,2025,2025,2025,2025,2025,2025,2025,2025,2025,2025,2025,2025,2025,2025,2025,2025,2025,2025,2025,2025,2025,2025,2025,2025,2025,2025,2025,2025,2025,2025,2025,2025,2025,2025,2025,2025,2025,2025,2025,2025,2025,2025,2025,2025,2025,2025,2025,2025,2025,2025,2025,2025,2025,2025,2025,2025,2025,2025,2025,2025,2025,2025,2025,2025,2025,2025,2025,2025,2025,2025,2025,2025,2025,2025,2025,2025,2025,2025,2025,2025,2025,2025,2025,2025,2025,2025,2025,2025,2025,2025,2025,2025,2025,2025,2025,2025,2025,2025,2025,2025,2025,2025,2025,2025,2025,2025,2025,2025,2025,2025,2025,2025,2025,2025,2025,2025,2025,2025,2025,2025,2025,2025,2025,2025,2025,2025,2025,2025,2025,2025,2025,2025,2025,2025,2025,2025,2025,2025,2025,2025,2025,2025,2025,2025,2025,2025,2025,2025,2025,2025,2025,2025,2025,2025,2025,2025,2025,2025,2025,2025,2025,2025,2025,2025,2025,2025,2025,2025,2025,2025,2025,2025,2025,2025,2025,2025,2025,2025,2025,2025,2025,2025,2025,2025,2025,2025,2025,2025,2025,2025,2025,2025,2025,2025,2025,2025,2025,2025,2025,2025,2025,2025,2025,2025,2025,2025,2025,2025,2025,2025,2025,2025,2025,2025,2025,2025,2025,2025,2025,2025,2025,2025,2025,2025,2025,2025,2025,2025,2025,2025,2025,2025,2025,2025,2025,2025,2025,2025,2025,2025,2025,2025,2025,2025,2025,2025,2025,2025,2025,2025,2025,2025,2025,2025,2025,2025,2025,2025,2025,2025,2025,2025,2025,2025,2025,2025,2025,2025,2025,2025,2025,2025,2025,2025,2025,2025,2025,2025,2025,2025,2025,2025,2025,2025,2025,2025,2025,2025,2025,2025,2025,2025,2025,2025,2025,2025,2025,2025,2025,2025,2025,2025,2025,2025,2025,2025,2025,2025,2025,2025,2025,2025,2025,2025,2025,2025,2025,2025,2025,2025,2025,2025,2025,2025,2025,2025,2025,2025,2025,2025,2025,2025,2025,2025,2025,2025,2025,2025,2025,2025,2025,2025,2025,2025,2025,2025,2025,2025,2025,2025,2025,2025,2025,2025,2025,2025,2025,2025,2025,2025,2025,2025,2025,2025,2025,2025,2025,2025,2025,2025,2025,2025,2025,2025,2025,2025,2025,2025,2025,2025,2025,2025,2025,2025,2025,2025,2025,2025,2025,2025,2025,2025,2025,2025,2025,2025,2025,2025,2025,2025,2025,2025,2025,2025,2025,2025,2025,2025,2025,2025,2025,2025,2025,2025,2025,2025,2025,2025,2025,2025,2025,2025,2025,2025,2025,2025,2025,2025,2025,2025,2025,2025,2025,2025,2025,2025,2025,2025,2025,2025,2025,2025,2025,2025,2025,2025,2025,2025,2025,2025,2025,2025,2025,2025,2025,2025,2025,2025,2025,2025,2025,2025,2025,2025,2025,2025,2025,2025,2025,2025,2025,2025,2025,2025,2025,2025,2025,2025,2025,2025,2025,2025,2025,2025,2025,2025,2025,2025,2025,2025,2025,2025,2025,2025,2025,2025,2025,2025,2025,2025,2025,2025,2025,2025,2025,2025,2025,2025,2025,2025,2025,2025,2025,2025,2025,2025,2025,2025,2025,2025,2025,2025,2025,2025,2025,2025,2025,2025,2025,2025,2025,2025,2025,2025,2025,2025,2025,2025,2025,2025,2025,2025,2025,2025,2025,2025,2025,2025,2025,2025,2025,2025,2025,2025,2025,2025,2025,2025,2025,2025,2025,2025,2025,2025,2025,2025,2025,2025,2025,2025,2025,2025,2025,2025,2025,2025,2025,2025,2025,2025,2025,2025,2025,2025,2025,2025,2025,2025,2025,2025,2025,2025,2025,2025,2025,2025,2025,2025,2025,2025,2025,2025,2025,2025,2025,2025,2025,2025,2025,2025,2025,2025,2025,2025,2025,2025,2025,2025,2025,2025,2025,2025,2025,2025,2025,2025,2025,2025,2025,2025,2025,2025,2025,2025,2025,2025,2025,2025,2025,2025,2025,2025,2025,2025,2025,2025,2025,2025,2025,2025,2025,2025,2025,2025,2025,2025,2025,2025,2025,2025,2025,2025,2025,2025,2025,2025,2025,2025,2025,2025,2025,2025,2025,2025,2025,2025,2025,2025,2025,2025,2025,2025,2025,2025,2025,2025,2025,2025,2025,2025,2025,2025,2025,2025,2025,2025,2025,2025,2025,2025,2025,2025,2025,2025,2025,2025,2025,2025,2025,2025,2025,2025,2025,2025,2025,2025,2025,2025,2025,2025,2025,2025,2025,2025,2025,2025,2025,2025,2025,2025,2025,2025,2025,2025,2025,2025,2025,2025,2025,2025,2025,2025,2025,2025,2025,2025,2025,2025,2025,2025,2025,2025,2025,2025,2025,2025,2025,2025,2025,2025,2025,2025,2025,2025,2025,2025,2025,2025,2025,2025,2025,2025,2025,2025,2025,2025,2025,2025,2025,2025,2025,2025,2025,2025,2025,2025,2025,2025,2025,2025,2025,2025,2025,2025,2025,2025,2025,2025,2025,2025,2025,2025,2025,2025,2025,2025,2025,2025,2025,2025,2025,2025,2025,2025,2025,2025,2025,2025,2025,2025,2025,2025,2025,2025,2025,2025,2025,2025,2025,2025,2025,2025,2025,2025,2025,2025,2025,2025,2025,2025,2025,2025,2025,2025,2025,2025,2025,2025,2025,2025,2025,2025,2025,2025,2025,2025,2025,2025,2025,2025,2025,2025,2025,2025,2025,2025,2025,2025,2025,2025,2025,2025,2025,2025,2025,2025,2025,2025,2025,2025,2025,2025,2025,2025,2025,2025,2025,2025,2025,2025,2025,2025,2025,2025,2025,2025,2025,2025,2025,2025,2025,2025,2025,2025,2025,2025,2025,2025,2025,2025,2025,2025,2025,2025,2025,2025,2025,2025,2025,2025,2025,2025,2025,2025,2025,2025,2025,2025,2025,2025,2025,2025,2025,2025,2025,2025,2025,2025,2025,2025,2025,2025,2025,2025,2025,2025,2025,2025,2025,2025,2025,2025,2025,2025,2025,2025,2025,2025,2025,2025,2025,2025,2025,2025,2025,2025,2025,2025,2025,2025,2025,2025,2025,2025,2025,2025,2025,2025,2025,2025,2025,2025,2025,2025,2025,2025,2025,2025,2025,2025,2025,2025,2025,2025,2025,2025,2025,2025,2025,2025,2025,2025,2025,2025,2025,2025,2025,2025,2025,2025,2025,2025,2025,2025,2025,2025,2025,2025,2025,2025,2025,2025,2025,2025,2025,2025,2025,2025,2025,2025,2025,2025,2025,2025,2025,2025,2025,2025,2025,2025,2025,2025,2025,2025,2025,2025,2025,2025,2025,2025,2025,2025,2025,2025,2025,2025,2025,2025,2025,2025,2025,2025,2025,2025,2025,2025,2025,2025,2025,2025,2025,2025,2025,2025,2025,2025,2025,2025,2025,2025,2025,2025,2025,2025,2025,2025,2025,2025,2025,2025,2025,2025,2025,2025,2025,2025,2025,2025,2025,2025,2025,2025,2025,2025,2025,2025,2025,2025,2025,2025,2025,2025,2025,2025,2025,2025,2025,2025,2025,2025,2025,2025,2025,2025,2025,2025,2025,2025,2025,2025,2025,2025,2025,2025,2025,2025,2025,2025,2025,2025,2025,2025,2025,2025,2025,2025,2025,2025,2025,2025,2025,2025,2025,2025,2025,2025,2025,2025,2025,2025,2025,2025,2025,2025,2025,2025,2025,2025,2025,2025,2025,2025,2025,2025,2025,2025,2025,2025,2025,2025,2025,2025,2025,2025,2025,2025,2025,2025,2025,2025,2025,2025,2025,2025,2025,2025,2025,2025,2025,2025,2025,2025,2025,2025,2025,2025,2025,2025,2025,2025,2025,2025,2025,2025,2025,2025,2025,2025,2025,2025,2025,2025,2025,2025,2025,2025,2025,2025,2025,2025,2025,2025,2025,2025,2025,2025,2025,2025,2025,2025,2025,2025,2025,2025,2025,2025,2025,2025,2025,2025,2025,2025,2025,2025,2025,2025,2025,2025,2025,2025,2025,2025,2025,2025,2025,2025,2025,2025,2025,2025,2025,2025,2025,2025,2025,2025,2025,2025,2025,2025,2025,2025,2025,2025,2025,2025,2025,2025,2025,2025,2025,2025,2025,2025,2025,2025,2025,2025,2025,2025,2025,2025,2025,2025,2025,2025,2025,2025,2025,2025,2025,2025,2025,2025,2025,2025,2025,2025,2025,2025,2025,2025,2025,2025,2025,2025,2025,2025,2025,2025,2025,2025,2025,2025,2025,2025,2025,2025,2025,2025,2025,2025,2025,2025,2025,2025,2025,2025,2025,2025,2025,2025,2025,2025,2025,2025,2025,2025,2025,2025,2025,2025,2025,2025,2025,2025,2025,2025,2025,2025,2025,2025,2025,2025,2025,2025,2025,2025,2025,2025,2025,2025,2025,2025,2025,2025,2025,2025,2025,2025,2025,2025,2025,2025,2025,2025,2025,2025,2025,2025,2025,2025,2025,2025,2025,2025,2025,2025,2025,2025,2025,2025,2025,2025,2025,2025,2025,2025,2025,2025,2025,2025,2025,2025,2025,2025,2025,2025,2025,2025,2025,2025,2025,2025,2025,2025,2025,2025,2025,2025,2025,2025,2025,2025,2025,2025,2025,2025,2025,2025,2025,2025,2025,2025,2025,2025,2025,2025,2025,2025,2025,2025,2025,2025,2025,2025,2025,2025,2025,2025,2025,2025,2025,2025,2025,2025,2025,2025,2025,2025,2025,2025,2025,2025,2025,2025,2025,2025,2025,2025,2025,2025,2025,2025,2025,2025,2025,2025,2025,2025,2025,2025,2025,2025,2025,2025,2025,2025,2025,2025,2025,2025,2025,2025,2025,2025,2025,2025,2025,2025,2025,2025,2025,2025,2025,2025,2025,2025,2025,2025,2025,2025,2025,2025,2025,2025,2025,2025,2025,2025,2025,2025,2025,2025,2025,2025,2025,2025,2025,2025,2025,2025,2025,2025,2025,2025,2025,2025,2025,2025,2025,2025,2025,2025,2025,2025,2025,2025,2025,2025,2025,2025,2025,2025,2025,2025,2025,2025,2025,2025,2025,2025,2025,2025,2025,2025,2025,2025,2025,2025,2025,2025,2025,2025,2025,2025,2025,2025,2025,2025,2025,2025,2025,2025,2025,2025,2025,2025,2025,2025,2025,2025,2025,2025,2025,2025,2025,2025,2025,2025,2025,2025,2025,2025,2025,2025,2025,2025,2025,2025,2025,2025,2025,2025,2025,2025,2025,2025,2025,2025,2025,2025,2025,2025,2025,2025,2025,2025,2025,2025,2025,2025,2025,2025,2025,2025,2025,2025,2025,2025,2025,2025,2025,2025,2025,2025,2025,2025,2025,2025,2025,2025,2025,2025,2025,2025,2025,2025,2025,2025,2025,2025,2025,2025,2025,2025,2025,2025,2025,2025,2025,2025,2025,2025,2025,2025,2025,2025,2025,2025,2025,2025,2025,2025,2025,2025,2025,2025,2025,2025,2025,2025,2025,2025,2025,2025,2025,2025,2025,2025,2025,2025,2025,2025,2025,2025,2025,2025,2025,2025,2025,2025,2025,2025,2025,2025,2025,2025,2025,2025,2025,2025,2025,2025,2025,2025,2025,2025,2025,2025,2025,2025,2025,2025,2025,2025,2025,2025,2025,2025,2025,2025,2025,2025,2025,2025,2025,2025,2025,2025,2025,2025,2025,2025,2025,2025,2025,2025,2025,2025,2025,2025,2025,2025,2025,2025,2025,2025,2025,2025,2025,2025,2025,2025,2025,2025,2025,2025,2025,2025,2025,2025,2025,2025,2025,2025,2025,2025,2025,2025,2025,2025,2025,2025,2025,2025,2025,2025,2025,2025,2025,2025,2025,2025,2025,2025,2025,2025,2025,2025,2025,2025,2025,2025,2025,2025,2025,2025,2025,2025,2025,2025,2025,2025,2025,2025,2025,2025,2025,2025,2025,2025,2025,2025,2025,2025,2025,2025,2025,2025,2025,2025,2025,2025,2025,2025,2025,2025,2025,2025,2025,2025,2025,2025,2025,2025,2025,2025,2025,2025,2025,2025,2025,2025,2025,2025,2025,2025,2025,2025,2025,2025,2025,2025,2025,2025,2025,2025,2025,2025,2025,2025,2025,2025,2025,2025,2025,2025,2025,2025,2025,2025,2025,2025,2025,2025,2025,2025,2025,2025,2025,2025,2025,2025,2025,2025,2025,2025,2025,2025,2025,2025,2025,2025,2025,2025,2025,2025,2025,2025,2025,2025,2025,2025,2025,2025,2025,2025,2025,2025,2025,2025,2025,2025,2025,2025,2025,2025,2025,2025,2025,2025,2025,2025,2025,2025,2025,2025,2025,2025,2025,2025,2025,2025,2025,2025,2025,2025,2025,2025,2025,2025,2025,2025,2025,2025,2025,2025,2025,2025,2025,2025,2025,2025,2025,2025,2025,2025,2025,2025,2025,2025,2025,2025,2025,2025,2025,2025,2025,2025,2025,2025,2025,2025,2025,2025,2025,2025,2025,2025,2025,2025,2025,2025,2025,2025,2025,2025,2025,2025,2025,2025,2025,2025,2025,2025,2025,2025,2025,2025,2025,2025,2025,2025,2025,2025,2025,2025,2025,2025,2025,2025,2025,2025,2025,2025,2025,2025,2025,2025,2025,2025,2025,2025,2025,2025,2025,2025,2025,2025,2025,2025,2025,2025,2025,2025,2025,2025,2025,2025,2025,2025,2025,2025,2025,2025,2025,2025,2025,2025,2025,2025,2025,2025,2025,2025,2025,2025,2025,2025,2025,2025,2025,2025,2025,2025,2025,2025,2025,2025,2025,2025,2025,2025,2025,2025,2025,2025,2025,2025,2025,2025,2025,2025,2025,2025,2025,2025,2025,2025,2025,2025,2025,2025,2025,2025,2025,2025,2025,2025,2025,2025,2025,2025,2025,2025,2025,2025,2025,2025,2025,2025,2025,2025,2025,2025,2025,2025,2025,2025,2025,2025,2025,2025,2025,2025,2025,2025,2025,2025,2025,2025,2025,2025,2025,2025,2025,2025,2025,2025,2025,2025,2025,2025,2025,2025,2025,2025,2025,2025,2025,2025,2025,2025,2025,2025,2025,2025,2025,2025,2025,2025,2025,2025,2025,2025,2025,2025,2025,2025,2025,2025,2025,2025,2025,2025,2025,2025,2025,2025,2025,2025,2025,2025,2025,2025,2025,2025,2025,2025,2025,2025,2025,2025,2025,2025,2025,2025,2025,2025,2025,2025,2025,2025,2025,2025,2025,2025,2025,2025,2025,2025,2025,2025,2025,2025,2025,2025,2025,2025,2025,2025,2025,2025,2025,2025,2025,2025,2025,2025,2025,2025,2025,2025,2025,2025,2025,2025,2025,2025,2025,2025,2025,2025,2025,2025,2025,2025,2025,2025,2025,2025,2025,2025,2025,2025,2025,2025,2025,2025,2025,2025,2025,2025,2025,2025,2025,2025,2025,2025,2025,2025,2025,2025,2025,2025,2025,2025,2025,2025,2025,2025,2025,2025,2025,2025,2025,2025,2025,2025,2025,2025,2025,2025,2025,2025,2025,2025,2025,2025,2025,2025,2025,2025,2025,2025,2025,2025,2025,2025,2025,2025,2025,2025,2025,2025,2025,2025,2025,2025,2025,2025,2025,2025,2025,2025,2025,2025,2025,2025,2025,2025,2025,2025,2025,2025,2025,2025,2025,2025,2025,2025,2025,2025,2025,2025,2025,2025,2025,2025,2025,2025,2025,2025,2025,2025,2025,2025,2025,2025,2025,2025,2025,2025,2025,2025,2025,2025,2025,2025,2025,2025,2025,2025,2025,2025,2025,2025,2025,2025,2025,2025,2025,2025,2025,2025,2025,2025,2025,2025,2025,2025,2025,2025,2025,2025,2025,2025,2025,2025,2025,2025,2025,2025,2025,2025,2025,2025,2025,2025,2025,2025,2025,2025,2025,2025,2025,2025,2025,2025,2025,2025,2025,2025,2025,2025,2025,2025,2025,2025,2025,2025,2025,2025,2025,2025,2025,2025,2025,2025,2025,2025,2025,2025,2025,2025,2025,2025,2025,2025,2025,2025,2025,2025,2025,2025,2025,2025,2025,2025,2025,2025,2025,2025,2025,2025,2025,2025,2025,2025,2025,2025,2025,2025,2025,2025,2025,2025,2025,2025,2025,2025,2025,2025,2025,2025,2025,2025,2025,2025,2025,2025,2025,2025,2025,2025,2025,2025,2025,2025,2025,2025,2025,2025,2025,2025,2025,2025,2025,2025,2025,2025,2025,2025,2025,2025,2025,2025,2025,2025,2025,2025,2025,2025,2025,2025,2025,2025,2025,2025,2025,2025,2025,2025,2025,2025,2025,2025,2025,2025,2025,2025,2025,2025,2025,2025,2025,2025,2025,2025,2025,2025,2025,2025,2025,2025,2025,2025,2025,2025,2025,2025,2025,2025,2025,2025,2025,2025,2025,2025,2025,2025,2025,2025,2025,2025,2025,2025,2025,2025,2025,2025,2025,2025,2025,2025,2025,2025,2025,2025,2025,2025,2025,2025,2025,2025,2025,2025,2025,2025,2025,2025,2025,2025,2025,2025,2025,2025,2025,2025,2025,2025,2025,2025,2025,2025,2025,2025,2025,2025,2025,2025,2025,2025,2025,2025,2025,2025,2025,2025,2025,2025,2025,2025,2025,2025,2025,2025,2025,2025,2025,2025,2025,2025,2025,2025,2025,2025,2025,2025,2025,2025,2025,2025,2025,2025,2025,2025,2025,2025,2025,2025,2025,2025,2025,2025,2025,2025,2025,2025,2025,2025,2025,2025,2025,2025,2025,2025,2025,2025,2025,2025,2025,2025,2025,2025,2025,2025,2025,2025,2025,2025,2025,2025,2025,2025,2025,2025,2025,2025,2025,2025,2025,2025,2025,2025,2025,2025,2025,2025,2025,2025,2025,2025,2025,2025,2025,2025,2025,2025,2025,2025,2025,2025,2025,2025,2025,2025,2025,2025,2025,2025,2025,2025,2025,2025,2025,2025,2025,2025,2025,2025,2025,2025,2025,2025,2025,2025,2025,2025,2025,2025,2025,2025,2025,2025,2025,2025,2025,2025,2025,2025,2025,2025,2025,2025,2025,2025,2025,2025,2025,2025,2025,2025,2025,2025,2025,2025,2025,2025,2025,2025,2025,2025,2025,2025,2025,2025,2025,2025,2025,2025,2025,2025,2025,2025,2025,2025,2025,2025,2025,2025,2025,2025,2025,2025,2025,2025,2025,2025,2025,2025,2025,2025,2025,2025,2025,2025,2025,2025,2025,2025,2025,2025,2025,2025,2025,2025,2025,2025,2025,2025,2025,2025,2025,2025,2025,2025,2025,2025,2025,2025,2025,2025,2025,2025,2025,2025,2025,2025,2025,2025,2025,2025,2025,2025,2025,2025,2025,2025,2025,2025,2025,2025,2025,2025,2025,2025,2025,2025,2025,2025,2025,2025,2025,2025,2025,2025,2025,2025,2025,2025,2025,2025,2025,2025,2025,2025,2025,2025,2025,2025,2025,2025,2025,2025,2025,2025,2025,2025,2025,2025,2025,2025,2025,2025,2025,2025,2025,2025,2025,2025,2025,2025,2025,2025,2025,2025,2025,2025,2025,2025,2025,2025,2025,2025,2025,2025,2025,2025,2025,2025,2025,2025,2025,2025,2025,2025,2025,2025,2025,2025,2025,2025,2025,2025,2025,2025,2025,2025,2025,2025,2025,2025,2025,2025,2025,2025,2025,2025,2025,2025,2025,2025,2025,2025,2025,2025,2025,2025,2025,2025,2025,2025,2025,2025,2025,2025,2025,2025,2025,2025,2025,2025,2025,2025,2025,2025,2025,2025,2025,2025,2025,2025,2025,2025,2025,2025,2025,2025,2025,2025,2025,2025,2025,2025,2025,2025,2025,2025,2025,2025,2025,2025,2025,2025,2025,2025,2025,2025,2025,2025,2025,2025,2025,2025,2025,2025,2025,2025,2025,2025,2025,2025,2025,2025,2025,2025,2025,2025,2025,2025,2025,2025,2025,2025,2025,2025,2025,2025,2025,2025,2025,2025,2025,2025,2025,2025,2025,2025,2025,2025,2025,2025,2025,2025,2025,2025,2025,2025,2025,2025,2025,2025,2025,2025,2025,2025,2025,2025,2025,2025,2025,2025,2025,2025,2025,2025,2025,2025,2025,2025,2025,2025,2025,2025,2025,2025,2025,2025,2025,2025,2025,2025,2025,2025,2025,2025,2025,2025,2025,2025,2025,2025,2025,2025,2025,2025,2025,2025,2025,2025,2025,2025,2025,2025,2025,2025,2025,2025,2025,2025,2025,2025,2025,2025,2025,2025,2025,2025,2025,2025,2025,2025,2025,2025,2025,2025,2025,2025,2025,2025,2025,2025,2025,2025,2025,2025,2025,2025,2025,2025,2025,2025,2025,2025,2025,2025,2025,2025,2025,2025,2025,2025,2025,2025,2025,2025,2025,2025,2025,2025,2025,2025,2025,2025,2025,2025,2025,2025,2025,2025,2025,2025,2025,2025,2025,2025,2025,2025,2025,2025,2025,2025,2025,2025,2025,2025,2025,2025,2025,2025,2025,2025,2025,2025,2025,2025,2025,2025,2025,2025,2025,2025,2025,2025,2025,2025,2025,2025,2025,2025,2025,2025,2025,2025,2025,2025,2025,2025,2025,2025,2025,2025,2025,2025,2025,2025,2025,2025,2025,2025,2025,2025,2025,2025,2025,2025,2025,2025,2025,2025,2025,2025,2025,2025,2025,2025,2025,2025,2025,2025,2025,2025,2025,2025,2025,2025,2025,2025,2025,2025,2025,2025,2025,2025,2025,2025,2025,2025,2025,2025,2025,2025,2025,2025,2025,2025,2025,2025,2025,2025,2025,2025,2025,2025,2025,2025,2025,2025,2025,2025,2025,2025,2025,2025,2025,2025,2025,2025,2025,2025,2025,2025,2025,2025,2025,2025,2025,2025,2025,2025,2025,2025,2025,2025,2025,2025,2025,2025,2025,2025,2025,2025,2025,2025,2025,2025,2025,2025,2025,2025,2025,2025,2025,2025,2025,2025,2025,2025,2025,2025,2025,2025,2025,2025,2025,2025,2025,2025,2025,2025,2025,2025,2025,2025,2025,2025,2025,2025,2025,2025,2025,2025,2025,2025,2025,2025,2025,2025,2025,2025,2025,2025,2025,2025,2025,2025,2025,2025,2025,2025,2025,2025,2025,2025,2025,2025,2025,2025,2025,2025,2025,2025,2025,2025,2025,2025,2025,2025,2025,2025,2025,2025,2025,2025,2025,2025,2025,2025,2025,2025,2025,2025,2025,2025,2025,2025,2025,2025,2025,2025,2025,2025,2025,2025,2025,2025,2025,2025,2025,2025,2025,2025,2025,2025,2025,2025,2025,2025,2025,2025,2025,2025,2025,2025,2025,2025,2025,2025,2025,2025,2025,2025,2025,2025,2025,2025,2025,2025,2025,2025,2025,2025,2025,2025,2025,2025,2025,2025,2025,2025,2025,2025,2025,2025,2025,2025,2025,2025,2025,2025,2025,2025,2025,2025,2025,2025,2025,2025,2025,2025,2025,2025,2025,2025,2025,2025,2025,2025,2025,2025,2025,2025,2025,2025,2025,2025,2025,2025,2025,2025,2025,2025,2025,2025,2025,2025,2025,2025,2025,2025,2025,2025,2025,2025,2025,2025,2025,2025,2025,2025,2025,2025,2025,2025,2025,2025,2025,2025,2025,2025,2025,2025,2025,2025,2025,2025,2025,2025,2025,2025,2025,2025,2025,2025,2025,2025,2025,2025,2025,2025,2025,2025,2025,2025,2025,2025,2025,2025,2025,2025,2025,2025,2025,2025,2025,2025,2025,2025,2025,2025,2025,2025,2025,2025,2025,2025,2025,2025,2025,2025,2025,2025,2025,2025,2025,2025,2025,2025,2025,2025,2025,2025,2025,2025,2025,2025,2025,2025,2025,2025,2025,2025,2025,2025,2025,2025,2025,2025,2025,2025,2025,2025,2025,2025,2025,2025,2025,2025,2025,2025,2025,2025,2025,2025,2025,2025,2025,2025,2025,2025,2025,2025,2025,2025,2025,2025,2025,2025,2025,2025,2025,2025,2025,2025,2025,2025,2025,2025,2025,2025,2025,2025,2025,2025,2025,2025,2025,2025,2025,2025,2025,2025,2025,2025,2025,2025,2025,2025,2025,2025,2025,2025,2025,2025,2025,2025,2025,2025,2025,2025,2025,2025,2025,2025,2025,2025,2025,2025,2025,2025,2025,2025,2025,2025,2025,2025,2025,2025,2025,2025,2025,2025,2025,2025,2025,2025,2025,2025,2025,2025,2025,2025,2025,2025,2025,2025,2025,2025,2025,2025,2025,2025,2025,2025,2025,2025,2025,2025,2025,2025,2025,2025,2025,2025,2025,2025,2025,2025,2025,2025,2025,2025,2025,2025,2025,2025,2025,2025,2025,2025,2025,2025,2025,2025,2025,2025,2025,2025,2025,2025,2025,2025,2025,2025,2025,2025,2025,2025,2025,2025,2025,2025,2025,2025,2025,2025,2025,2025,2025,2025,2025,2025,2025,2025,2025,2025,2025,2025,2025,2025,2025,2025,2025,2025,2025,2025,2025,2025,2025,2025,2025,2025,2025,2025,2025,2025,2025,2025,2025,2025,2025,2025,2025,2025,2025,2025,2025,2025,2025,2025,2025,2025,2025,2025,2025,2025,2025,2025,2025,2025,2025,2025,2025,2025,2025,2025,2025,2025,2025,2025,2025,2025,2025,2025,2025,2025,2025,2025,2025,2025,2025,2025,2025,2025,2025,2025,2025,2025,2025,2025,2025,2025,2025,2025,2025,2025,2025,2025,2025,2025,2025,2025,2025,2025,2025,2025,2025,2025,2025,2025,2025,2025,2025,2025,2025,2025,2025,2025,2025,2025,2025,2025,2025,2025,2025,2025,2025,2025,2025,2025,2025,2025,2025,2025,2025,2025,2025,2025,2025,2025,2025,2025,2025,2025,2025,2025,2025,2025,2025,2025,2025,2025,2025,2025,2025,2025,2025,2025,2025,2025,2025,2025,2025,2025,2025,2025,2025,2025,2025,2025,2025,2025,2025,2025,2025,2025,2025,2025,2025,2025,2025,2025,2025,2025,2025,2025,2025,2025,2025,2025,2025,2025,2025,2025,2025,2025,2025,2025,2025,2025,2025,2025,2025,2025,2025,2025,2025,2025,2025,2025,2025,2025,2025,2025,2025,2025,2025,2025,2025,2025,2025,2025,2025,2025,2025,2025,2025,2025,2025,2025,2025,2025,2025,2025,2025,2025,2025,2025,2025,2025,2025,2025,2025,2025,2025,2025,2025,2025,2025,2025,2025,2025,2025,2025,2025,2025,2025,2025,2025,2025,2025,2025,2025,2025,2025,2025,2025,2025,2025,2025,2025,2025,2025,2025,2025,2025,2025,2025,2025,2025,2025,2025,2025,2025,2025,2025,2025,2025,2025,2025,2025,2025,2025,2025,2025,2025,2025,2025,2025,2025,2025,2025,2025,2025,2025,2025,2025,2025,2025,2025,2025,2025,2025,2025,2025,2025,2025,2025,2025,2025,2025,2025,2025,2025,2025,2025,2025,2025,2025,2025,2025,2025,2025,2025,2025,2025,2025,2025,2025,2025,2025,2025,2025,2025,2025,2025,2025,2025,2025,2025,2025,2025,2025,2025,2025,2025,2025,2025,2025,2025,2025,2025,2025,2025,2025,2025,2025,2025,2025,2025,2025,2025,2025,2025,2025,2025,2025,2025,2025,2025,2025,2025,2025,2025,2025,2025,2025,2025,2025,2025,2025,2025,2025,2025,2025,2025,2025,2025,2025,2025,2025,2025,2025,2025,2025,2025,2025,2025,2025,2025,2025,2025,2025,2025,2025,2025,2025,2025,2025,2025,2025,2025,2025,2025,2025,2025,2025,2025,2025,2025,2025,2025,2025,2025,2025,2025,2025,2025,2025,2025,2025,2025,2025,2025,2025,2025,2025,2025,2025,2025,2025,2025,2025,2025,2025,2025,2025,2025,2025,2025,2025,2025,2025,2025,2025,2025,2025,2025,2025,2025,2025,2025,2025,2025,2025,2025,2025,2025,2025,2025,2025,2025,2025,2025,2025,2025,2025,2025,2025,2025,2025,2025,2025,2025,2025,2025,2025,2025,2025,2025,2025,2025,2025,2025,2025,2025,2025,2025,2025,2025,2025,2025,2025,2025,2025,2025,2025,2025,2025,2025,2025,2025,2025,2025,2025,2025,2025,2025,2025,2025,2025,2025,2025,2025,2025,2025,2025,2025,2025,2025,2025,2025,2025,2025,2025,2025,2025,2025,2025,2025,2025,2025,2025,2025,2025,2025,2025,2025,2025,2025,2025,2025,2025,2025,2025,2025,2025,2025,2025,2025,2025,2025,2025,2025,2025,2025,2025,2025,2025,2025,2025,2025,2025,2025,2025,2025,2025,2025,2025,2025,2025,2025,2025,2025,2025,2025,2025,2025,2025,2025,2025,2025,2025,2025,2025,2025,2025,2025,2025,2025,2025,2025,2025,2025,2025,2025,2025,2025,2025,2025,2025,2025,2025,2025,2025,2025,2025,2025,2025,2025,2025,2025,2025,2025,2025,2025,2025,2025,2025,2025,2025,2025,2025,2025,2025,2025,2025,2025,2025,2025,2025,2025,2025,2025,2025,2025,2025,2025,2025,2025,2025,2025,2025,2025,2025,2025,2025,2025,2025,2025,2025,2025,2025,2025,2025,2025,2025,2025,2025,2025,2025,2025,2025,2025,2025,2025,2025,2025,2025,2025,2025,2025,2025,2025,2025,2025,2025,2025,2025,2025,2025,2025,2025,2025,2025,2025,2025,2025,2025,2025,2025,2025,2025,2025,2025,2025,2025,2025,2025,2025,2025,2025,2025,2025,2025,2025,2025,2025,2025,2025,2025,2025,2025,2025,2025,2025,2025,2025,2025,2025,2025,2025,2025,2025,2025,2025,2025,2025,2025,2025,2025,2025,2025,2025,2025,2025,2025,2025,2025,2025,2025,2025,2025,2025,2025,2025,2025,2025,2025,2025,2025,2025,2025,2025,2025,2025,2025,2025,2025,2025,2025,2025,2025,2025,2025,2025,2025,2025,2025,2025,2025,2025,2025,2025,2025,2025,2025,2025,2025,2025,2025,2025,2025,2025,2025,2025,2025,2025,2025,2025,2025,2025,2025,2025,2025,2025,2025,2025,2025,2025,2025,2025,2025,2025,2025,2025,2025,2025,2025,2025,2025,2025,2025,2025,2025,2025,2025,2025,2025,2025,2025,2025,2025,2025,2025,2025,2025,2025,2025,2025,2025,2025,2025,2025,2025,2025,2025,2025,2025,2025,2025,2025,2025,2025,2025,2025,2025,2025,2025,2025,2025,2025,2025,2025,2025,2025,2025,2025,2025,2025,2025,2025,2025,2025,2025,2025,2025,2025,2025,2025,2025,2025,2025,2025,2025,2025,2025,2025,2025,2025,2025,2025,2025,2025,2025,2025,2025,2025,2025,2025,2025,2025,2025,2025,2025,2025,2025,2025,2025,2025,2025,2025,2025,2025,2025,2025,2025,2025,2025,2025,2025,2025,2025,2025,2025,2025,2025,2025,2025,2025,2025,2025,2025,2025,2025,2025,2025,2025,2025,2025,2025,2025,2025,2025,2025,2025,2025,2025,2025,2025,2025,2025,2025,2025,2025,2025,2025,2025,2025,2025,2025,2025,2025,2025,2025,2025,2025,2025,2025,2025,2025,2025,2025,2025,2025,2025,2025,2025,2025,2025,2025,2025,2025,2025,2025,2025,2025,2025,2025,2025,2025,2025,2025,2025,2025,2025,2025,2025,2025,2025,2025,2025,2025,2025,2025,2025,2025,2025,2025,2025,2025,2025,2025,2025,2025,2025,2025,2025,2025,2025,2025,2025,2025,2025,2025,2025,2025,2025,2025,2025,2025,2025,2025,2025,2025,2025,2025,2025,2025,2025,2025,2025,2025,2025,2025,2025,2025,2025,2025,2025,2025,2025,2025,2025,2025,2025,2025,2025,2025,2025,2025,2025,2025,2025,2025,2025,2025,2025,2025,2025,2025,2025,2025,2025,2025,2025,2025,2025,2025,2025,2025,2025,2025,2025,2025,2025,2025,2025,2025,2025,2025,2025,2025,2025,2025,2025,2025,2025,2025,2025,2025,2025,2025,2025,2025,2025,2025,2025,2025,2025,2025,2025,2025,2025,2025,2025,2025,2025,2025,2025,2025,2025,2025,2025,2025,2025,2025,2025,2025,2025,2025,2025,2025,2025,2025,2025,2025,2025,2025,2025,2025,2025,2025,2025,2025,2025,2025,2025,2025,2025,2025,2025,2025,2025,2025,2025,2025,2025,2025,2025,2025,2025,2025,2025,2025,2025,2025,2025,2025,2025,2025,2025,2025,2025,2025,2025,2025,2025,2025,2025,2025,2025,2025,2025,2025,2025,2025,2025,2025,2025,2025,2025,2025,2025,2025,2025,2025,2025,2025,2025,2025,2025,2025,2025,2025,2025,2025,2025,2025,2025,2025,2025,2025,2025,2025,2025,2025,2025,2025,2025,2025,2025,2025,2025,2025,2025,2025,2025,2025,2025,2025,2025,2025,2025,2025,2025,2025,2025,2025,2025,2025,2025,2025,2025,2025,2025,2025,2025,2025,2025,2025,2025,2025,2025,2025,2025,2025,2025,2025,2025,2025,2025,2025,2025,2025,2025,2025,2025,2025,2025,2025,2025,2025,2025,2025,2025,2025,2025,2025,2025,2025,2025,2025,2025,2025,2025,2025,2025,2025,2025,2025,2025,2025,2025,2025,2025,2025,2025,2025,2025,2025,2025,2025,2025,2025,2025,2025,2025,2025,2025,2025,2025,2025,2025,2025,2025,2025,2025,2025,2025,2025,2025,2025,2025,2025,2025,2025,2025,2025,2025,2025,2025,2025,2025,2025,2025,2025,2025,2025,2025,2025,2025,2025,2025,2025,2025,2025,2025,2025,2025,2025,2025,2025,2025,2025,2025,2025,2025,2025,2025,2025,2025,2025,2025,2025,2025,2025,2025,2025,2025,2025,2025,2025,2025,2025,2025,2025,2025,2025,2025,2025,2025,2025,2025,2025,2025,2025,2025,2025,2025,2025,2025,2025,2025,2025,2025,2025,2025,2025,2025,2025,2025,2025,2025,2025,2025,2025,2025,2025,2025,2025,2025,2025,2025,2025,2025,2025,2025,2025,2025,2025,2025,2025,2025,2025,2025,2025,2025,2025,2025,2025,2025,2025,2025,2025,2025,2025,2025,2025,2025,2025,2025,2025,2025,2025,2025,2025,2025,2025,2025,2025,2025,2025,2025,2025,2025,2025,2025,2025,2025,2025,2025,2025,2025,2025,2025,2025,2025,2025,2025,2025,2025,2025,2025,2025,2025,2025,2025,2025,2025,2025,2025,2025,2025,2025,2025,2025,2025,2025,2025,2025,2025,2025,2025,2025,2025,2025,2025,2025,2025,2025,2025,2025,2025,2025,2025,2025,2025,2025,2025,2025,2025,2025,2025,2025,2025,2025,2025,2025,2025,2025,2025,2025,2025,2025,2025,2025,2025,2025,2025,2025,2025,2025,2025,2025,2025,2025,2025,2025,2025,2025,2025,2025,2025,2025,2025,2025,2025,2025,2025,2025,2025,2025,2025,2025,2025,2025,2025,2025,2025,2025,2025,2025,2025,2025,2025,2025,2025,2025,2025,2025,2025,2025,2025,2025,2025,2025,2025,2025,2025,2025,2025,2025,2025,2025,2025,2025,2025,2025,2025,2025,2025,2025,2025,2025,2025,2025,2025,2025,2025,2025,2025,2025,2025,2025,2025,2025,2025,2025,2025,2025,2025,2025,2025,2025,2025,2025,2025,2025,2025,2025,2025,2025,2025,2025,2025,2025,2025,2025,2025,2025,2025,2025,2025,2025,2025,2025,2025,2025,2025,2025,2025,2025,2025,2025,2025,2025,2025,2025,2025,2025,2025,2025,2025,2025,2025,2025,2025,2025,2025,2025,2025,2025,2025,2025,2025,2025,2025,2025,2025,2025,2025,2025,2025,2025,2025,2025,2025,2025,2025,2025,2025,2025,2025,2025,2025,2025,2025,2025,2025,2025,2025,2025,2025,2025,2025,2025,2025,2025,2025,2025,2025,2025,2025,2025,2025,2025,2025,2025,2025,2025,2025,2025,2025,2025,2025,2025,2025,2025,2025,2025,2025,2025,2025,2025,2025,2025,2025,2025,2025,2025,2025,2025,2025,2025,2025,2025,2025,2025,2025,2025,2025,2025,2025,2025,2025,2025,2025,2025,2025,2025,2025,2025,2025,2025,2025,2025,2025,2025,2025,2025,2025,2025,2025,2025,2025,2025,2025,2025,2025,2025,2025,2025,2025,2025,2025,2025,2025,2025,2025,2025,2025,2025,2025,2025,2025,2025,2025,2025,2025,2025,2025,2025,2025,2025,2025,2025,2025,2025,2025,2025,2025,2025,2025,2025,2025,2025,2025,2025,2025,2025,2025,2025,2025,2025,2025,2025,2025,2025,2025,2025,2025,2025,2025,2025,2025,2025,2025,2025,2025,2025,2025,2025,2025,2025,2025,2025,2025,2025,2025,2025,2025,2025,2025,2025,2025,2025,2025,2025,2025,2025,2025,2025,2025,2025,2025,2025,2025,2025,2025,2025,2025,2025,2025,2025,2025,2025,2025,2025,2025,2025,2025,2025,2025,2025,2025,2025,2025,2025,2025,2025,2025,2025,2025,2025,2025,2025,2025,2025,2025,2025,2025,2025,2025,2025,2025,2025,2025,2025,2025,2025,2025,2025,2025,2025,2025,2025,2025,2025,2025,2025,2025,2025,2025,2025,2025,2025,2025,2025,2025,2025,2025,2025,2025,2025,2025,2025,2025,2025,2025,2025,2025,2025,2025,2025,2025,2025,2025,2025,2025,2025,2025,2025,2025,2025,2025,2025,2025,2025,2025,2025,2025,2025,2025,2025,2025,2025,2025,2025,2025,2025,2025,2025,2025,2025,2025,2025,2025,2025,2025,2025,2025,2025,2025,2025,2025,2025,2025,2025,2025,2025,2025,2025,2025,2025,2025,2025,2025,2025,2025,2025,2025,2025,2025,2025,2025,2025,2025,2025,2025,2025,2025,2025,2025,2025,2025,2025,2025,2025,2025,2025,2025,2025,2025,2025,2025,2025,2025,2025,2025,2025,2025,2025,2025,2025,2025,2025,2025,2025,2025,2025,2025,2025,2025,2025,2025,2025,2025,2025,2025,2025,2025,2025,2025,2025,2025,2025,2025,2025,2025,2025,2025,2025,2025,2025,2025,2025,2025,2025,2025,2025,2025,2025,2025,2025,2025,2025,2025,2025,2025,2025,2025,2025,2025,2025,2025,2025,2025,2025,2025,2025,2025,2025,2025,2025,2025,2025,2025,2025,2025,2025,2025,2025,2025,2025,2025,2025,2025,2025,2025,2025,2025,2025,2025,2025,2025,2025,2025,2025,2025,2025,2025,2025,2025,2025,2025,2025,2025,2025,2025,2025,2025,2025,2025,2025,2025,2025,2025,2025,2025,2025,2025,2025,2025,2025,2025,2025,2025,2025,2025,2025,2025,2025,2025,2025,2025,2025,2025,2025,2025,2025,2025,2025,2025,2025,2025,2025,2025,2025,2025,2025,2025,2025,2025,2025,2025,2025,2025,2025,2025,2025,2025,2025,2025,2025,2025,2025,2025,2025,2025,2025,2025,2025,2025,2025,2025,2025,2025,2025,2025,2025,2025,2025,2025,2025,2025,2025,2025,2025,2025,2025,2025,2025,2025,2025,2025,2025,2025,2025,2025,2025,2025,2025,2025,2025,2025,2025,2025,2025,2025,2025,2025,2025,2025,2025,2025,2025,2025,2025,2025,2025,2025,2025,2025,2025,2025,2025,2025,2025,2025,2025,2025,2025,2025,2025,2025,2025,2025,2025,2025,2025,2025,2025,2025,2025,2025,2025,2025,2025,2025,2025,2025,2025,2025,2025,2025,2025,2025,2025,2025,2025,2025,2025,2025,2025,2025,2025,2025,2025,2025,2025,2025,2025,2025,2025,2025,2025,2025,2025,2025,2025,2025,2025,2025,2025,2025,2025,2025,2025,2025,2025,2025,2025,2025,2025,2025,2025,2025,2025,2025,2025,2025,2025,2025,2025,2025,2025,2025,2025,2025,2025,2025,2025,2025,2025,2025,2025,2025,2025,2025,2025,2025,2025,2025,2025,2025,2025,2025,2025,2025,2025,2025,2025,2025,2025,2025,2025,2025,2025,2025,2025,2025,2025,2025,2025,2025,2025,2025,2025,2025,2025,2025,2025,2025,2025,2025,2025,2025,2025,2025,2025,2025,2025,2025,2025,2025,2025,2025,2025,2025,2025,2025,2025,2025,2025,2025,2025,2025,2025,2025,2025,2025,2025,2025,2025,2025,2025,2025,2025,2025,2025,2025,2025,2025,2025,2025,2025,2025,2025,2025,2025,2025,2025,2025,2025,2025,2025,2025,2025,2025,2025,2025,2025,2025,2025,2025,2025,2025,2025,2025,2025,2025,2025,2025,2025,2025,2025,2025,2025,2025,2025,2025,2025,2025,2025,2025,2025,2025,2025,2025,2025,2025,2025,2025,2025,2025,2025,2025,2025,2025,2025,2025,2025,2025,2025,2025,2025,2025,2025,2025,2025,2025,2025,2025,2025,2025,2025,2025,2025,2025,2025,2025,2025,2025,2025,2025,2025,2025,2025,2025,2025,2025,2025,2025,2025,2025,2025,2025,2025,2025,2025,2025,2025,2025,2025,2025,2025,2025,2025,2025,2025,2025,2025,2025,2025,2025,2025,2025,2025,2025,2025,2025,2025,2025,2025,2025,2025,2025,2025,2025,2025,2025,2025,2025,2025,2025,2025,2025,2025,2025,2025,2025,2025,2025,2025,2025,2025,2025,2025,2025,2025,2025,2025,2025,2025,2025,2025,2025,2025,2025,2025,2025,2025,2025,2025,2025,2025,2025,2025,2025,2025,2025,2025,2025,2025,2025,2025,2025,2025,2025,2025,2025,2025,2025,2025,2025,2025,2025,2025,2025,2025,2025,2025,2025,2025,2025,2025,2025,2025,2025,2025,2025,2025,2025,2025,2025,2025,2025,2025,2025,2025,2025,2025,2025,2025,2025,2025,2025,2025,2025,2025,2025,2025,2025,2025,2025,2025,2025,2025,2025,2025,2025,2025,2025,2025,2025,2025,2025,2025,2025,2025,2025,2025,2025,2025,2025,2025,2025,2025,2025,2025,2025,2025,2025,2025,2025,2025,2025,2025,2025,2025,2025,2025,2025,2025,2025,2025,2025,2025,2025,2025,2025,2025,2025,2025,2025,2025,2025,2025,2025,2025,2025,2025,2025,2025,2025,2025,2025,2025,2025,2025,2025,2025,2025,2025,2025,2025,2025,2025,2025,2025,2025,2025,2025,2025,2025,2025,2025,2025,2025,2025,2025,2025,2025,2025,2025,2025,2025,2025,2025,2025,2025,2025,2025,2025,2025,2025,2025,2025,2025,2025,2025,2025,2025,2025,2025,2025,2025,2025,2025,2025,2025,2025,2025,2025,2025,2025,2025,2025,2025,2025,2025,2025,2025,2025,2025,2025,2025,2025,2025,2025,2025,2025,2025,2025,2025,2025,2025,2025,2025,2025,2025,2025,2025,2025,2025,2025,2025,2025,2025,2025,2025,2025,2025,2025,2025,2025,2025,2025,2025,2025,2025,2025,2025,2025,2025,2025,2025,2025,2025,2025,2025,2025,2025,2025,2025,2025,2025,2025,2025,2025,2025,2025,2025,2025,2025,2025,2025,2025,2025,2025,2025,2025,2025,2025,2025,2025,2025,2025,2025,2025,2025,2025,2025,2025,2025,2025,2025,2025,2025,2025,2025,2025,2025,2025,2025,2025,2025,2025,2025,2025,2025,2025,2025,2025,2025,2025,2025,2025,2025,2025,2025,2025,2025,2025,2025,2025,2025,2025,2025,2025,2025,2025,2025,2025,2025,2025,2025,2025,2025,2025,2025,2025,2025,2025,2025,2025,2025,2025,2025,2025,2025,2025,2025,2025,2025,2025,2025,2025,2025,2025,2025,2025,2025,2025,2025,2025,2025,2025,2025,2025,2025,2025,2025,2025,2025,2025,2025,2025,2025,2025,2025,2025,2025,2025,2025,2025,2025,2025,2025,2025,2025,2025,2025,2025,2025,2025,2025,2025,2025,2025,2025,2025,2025,2025,2025,2025,2025,2025,2025,2025,2025,2025,2025,2025,2025,2025,2025,2025,2025,2025,2025,2025,2025,2025,2025,2025,2025,2025,2025,2025,2025,2025,2025,2025,2025,2025,2025,2025,2025,2025,2025,2025,2025,2025,2025,2025,2025,2025,2025,2025,2025,2025,2025,2025,2025,2025,2025,2025,2025,2025,2025,2025,2025,2025,2025,2025,2025,2025,2025,2025,2025,2025,2025,2025,2025,2025,2025,2025,2025,2025,2025,2025,2025,2025,2025,2025,2025,2025,2025,2025,2025,2025,2025,2025,2025,2025,2025,2025,2025,2025,2025,2025,2025,2025,2025,2025,2025,2025,2025,2025,2025,2025,2025,2025,2025,2025,2025,2025,2025,2025,2025,2025,2025,2025,2025,2025,2025,2025,2025,2025,2025,2025,2025,2025,2025,2025,2025,2025,2025,2025,2025,2025,2025,2025,2025,2025,2025,2025,2025,2025,2025,2025,2025,2025,2025,2025,2025,2025,2025,2025,2025,2025,2025,2025,2025,2025,2025,2025,2025,2025,2025,2025,2025,2025,2025,2025,2025,2025,2025,2025,2025,2025,2025,2025,2025,2025,2025,2025,2025,2025,2025,2025,2025,2025,2025,2025,2025,2025,2025,2025,2025,2025,2025,2025,2025,2025,2025,2025,2025,2025,2025,2025,2025,2025,2025,2025,2025,2025,2025,2025,2025,2025]
[null,"Earnings before Income Tax",496.154,908.59,1260.7809999999999,1774.691,360.35199999999998,698.52800000000002,1119.7090000000001,1488.027,416.47199999999998,859.18299999999999,1284.4839999999999,1759.316,436.03800000000001,921.30100000000004,1433.365,2017.107,572.36800000000005,1150.0940000000001,1743.634,2379.9290000000001,579.90700000000004,1196.1559999999999,1832.586,2549.4259999999999,null,1774.691,1488.027,1759.316,2017.107,2379.9290000000001,{"$f":"Z6","v":2549.4259999999999}]
[null,"Expenses (Revenues) not affecting Cash",142.994,311.42899999999997,433.34500000000003,728.13199999999995,400.79300000000001,879.36099999999999,1416.579,2193.357,756.40700000000004,1788.136,3025.904,3171.5340000000001,705.95500000000004,1307.5899999999999,2133.9949999999999,2976.6790000000001,872.17200000000003,1860.249,2473.973,3615.54,1011.763,2183.5740000000001,3706.9,4762.2979999999998,null,728.13199999999995,2193.357,3171.5340000000001,2976.6790000000001,3615.54,4762.2979999999998]
[null,"Depreciation and Amortization",59.594000000000001,140.98500000000001,242.51300000000001,376.33499999999998,158.30199999999999,339.82600000000002,543.12599999999998,768.59299999999996,249.02199999999999,529.58799999999997,824.00400000000002,1130.69,317.42599999999999,642.99800000000005,989.47699999999998,1355.653,371.51400000000001,762.68600000000004,1175.712,1600.932,439.00799999999998,890.85400000000004,1348.7619999999999,1807.5139999999999,null,376.33499999999998,768.59299999999996,1130.69,1355.653,1600.932,1807.5139999999999]
[null,"Chargeback",null,null,null,null,null,null,null,null,null,null,null,null,126.486,121.717,165.26,122.58499999999999,102.73699999999999,113.021,119.64400000000001,10.397,83.450999999999993,97.549000000000007,269.32100000000003,251.64500000000001,null,288.30900000000003,664.26800000000003,984.48699999999997,426.74,345.79899999999998,251.64500000000001]
[null,"Credit loss allowance expenses",70.171000000000006,130.49600000000001,0,288.30900000000003,173.13300000000001,320.16000000000003,450.05099999999999,664.26800000000003,249.715,520.19799999999998,792.95,984.48699999999997,null,null,null,null,null,37.29,27.849,45.14,21.238,27.82,84.7,129.29300000000001,null,null,null,null,109.30800000000001,110.28,129.29300000000001]
[null,"Accrual of Provision for Contingencies",4.3840000000000003,5.14,212.96899999999999,6.4089999999999998,5.3570000000000002,12.574999999999999,19.911000000000001,25.937999999999999,5.9279999999999999,10.522,27.969000000000001,37.276000000000003,9.7240000000000002,13.378,23.385000000000002,59.197000000000003,14.234,31.893000000000001,21.978000000000002,45.707000000000001,21.962,50.552999999999997,92.450999999999993,141.66,null,6.4089999999999998,25.937999999999999,37.276000000000003,59.197000000000003,45.707000000000001,141.66]
[null,"Reversal of Taxes and Contributions ",0,0,1.9710000000000001,-84.293999999999997,-29.114000000000001,-29.114000000000001,-29.114000000000001,-4.6379999999999999,0,0,0,0,0,0,0,0,0,0,0,0,0,0,0,0,null,-84.293999999999997,-4.6379999999999999,0,0,0,0]
[null,"Share based Long Term Incentive Plan (LTIP)",11.952999999999999,30.332999999999998,-84.293999999999997,122.87,79.671000000000006,185.42500000000001,326.28199999999998,370.62900000000002,35.999000000000002,76.147000000000006,113.307,127.389,40.226999999999997,73.116,109.172,144.61699999999999,46.767000000000003,90.903999999999996,135.01300000000001,178.69200000000001,29.79,57.731000000000002,62.820999999999998,112.098,null,122.87,370.62900000000002,127.389,144.61699999999999,178.69200000000001,112.098]
[null,"Unrealizes on Derivative Instruments",0,0,47.499000000000002,0,0,0,0,0,0,0,0,0,0,0,0,0,0,0,0,0,0,0,0,0,null,0,0,0,0,0,0]
[null,"Inventory Provisions",0,0,0,0,0,0,0,0,0,0,0,0,0,0,0,0,0,0,0,0,0,0,0,0,null,0,0,0,0,0,0]
[null,"Loss on Disposal of Property, Equipment, Intangible and Investment Assets",0,0,0,0,4.6449999999999996,12.206,20.443999999999999,28.393000000000001,2.3450000000000002,104.958,189.30799999999999,270.90100000000001,63.137,130.92699999999999,208.52799999999999,295.98899999999998,45.625,97.215999999999994,136.494,207.506,39.204999999999998,83.671999999999997,125.962,182.679,null,0,28.393000000000001,270.90100000000001,295.98899999999998,207.506,182.679]
[null,"Derivative Financial Instruments, net",0,0,0,0,0,0,0,5.952,0,0,0,22.289000000000001,-1.6020000000000001,-10.923,-2.488,1.0249999999999999,-6.0110000000000001,-15.423,-0.95399999999999996,52.802,35.491999999999997,-8.6010000000000009,-13.696,-20.550999999999998,null,0,5.952,22.289000000000001,1.0249999999999999,52.802,-20.550999999999998]
[null,"Interest accrued",0,0,0,0,12.6,43.08,84.4,230.55500000000001,218.08199999999999,554.43799999999999,1063.441,592.14599999999996,149.77500000000001,208.66300000000001,393.05599999999998,585.9,297.63600000000002,675.25699999999995,667.93200000000002,1072.588,342.87200000000001,880.61300000000006,1737.8409999999999,2158.902,null,0,230.55500000000001,592.14599999999996,585.9,1072.588,2158.902]
[null,"Other (income) cost, net",-3.1080000000000001,4.4749999999999996,12.686999999999999,18.503,-3.8,-4.7969999999999997,1.48,103.667,-4.6840000000000002,-7.7149999999999999,14.925000000000001,6.3550000000000004,0.78,1.228,-0.59799999999999998,-1.75,-0.33,1.9590000000000001,2.395,1.234,-1.2549999999999999,-1.306,-1.278,-0.94199999999999995,null,18.503,103.667,6.3550000000000004,-1.75,1.234,-0.94199999999999995]
[null,"Changes in Operating Assets/Liabilities",317.63499999999999,-164.67,-948.08600000000001,-570.495,-866.745,-1378.9380000000001,-2256.7600000000002,-3775.0450000000001,-1523.3209999999999,-3612.768,-5160.3940000000002,-3998.364,-1279.6790000000001,-2367.614,-3404.2080000000001,-3487.7829999999999,451.32400000000001,-5773.5810000000001,-8333.2469999999994,-11064.178,{"$f":"SUM(W21:W38)","v":-985.11600000000033},-1395.9729999999995,-2208.6540000000005,-2933.5220138500013,null,-570.495,-3775.0450000000001,-3998.364,-3487.7829999999999,-11064.178,{"$f":"ROUND(SUM(AG21:AG38),3)","v":-1723.1690000000001}]
[null,"Accounts Receivable",1047.3826861558393,-646.28926441228441,-3446.6578645899485,-5586.9194353430048,-78.299848010375769,-2196.8759717469261,-5194.1076591251203,-9303.0595236520876,-3181.3790105818498,-9956.8144536758173,-14955.359,-17853.688852509727,1109.5838968749629,441.202,-4944.3980000000001,-10531.495000000001,-2154.8409505907598,-12458.4,-14602.9325919857,-20099.3,2404.5,-474.2,-2665.4830000000002,-5054.5640000000003,null,-5586.9189999999999,-9303.06,-17853.688999999998,-10531.495000000001,-21418.996999999999,-5054.5640000000003]
[null,"Credit Portfolio",null,null,null,null,null,null,null,null,null,null,null,null,null,null,null,null,-292.89999999999998,-657.2,-1043.10154042,-1319.7,-235.5,-474.8,-767,-1159.7450138499999]
[null,"Compulsory reserves",-120.78700000000001,-128.44200000000001,-127.83199999999999,43.228999999999999,-20.591999999999999,20.606000000000002,2.069,-84.534000000000006,-257.70699999999999,-209.221,-209.55600000000001,-157.41900000000001,223.48400000000001,213.86099999999999,229.46100000000001,-1274.173,93.558000000000007,-943.67899999999997,-1418.2550000000001,-1947.17,862.4,598.77700000000004,1095.424,1056.3530000000001,null,43.228999999999999,-84.534000000000006,-157.41900000000001,-1274.173,-1947.17,1056.3530000000001]
[null,"Inventories",-8.2750000000000004,-11.688000000000001,27.045999999999999,31.602,-22.617000000000001,-42.542000000000002,-64.403000000000006,-132.398,0.26300000000000001,1.647,-2.5249999999999999,36.256999999999998,-8.3330000000000002,-19.509,-12.914999999999999,-20.256,6.3040000000000003,3.59,4.0579999999999998,5.2249999999999996,0,0,0,0,null,31.602,-132.398,36.256999999999998,-20.256,5.2249999999999996,0]
[null,"Recoverable taxes",-18.137,-75.403999999999996,-103.693,-206.221,25.277000000000001,-134.30500000000001,-97.71,-36.564999999999998,51.161999999999999,88.802000000000007,102.90900000000001,154.273,-14.29,46.585999999999999,105.616,-59.927,2.972,-47.863999999999997,-56.329000000000001,-167.291,-84.956000000000003,-69.450999999999993,-75.004999999999995,-81.161000000000001,null,-206.221,-36.564999999999998,154.273,-59.927,-167.291,-81.161000000000001]
[null,"Other Receivables",11.68,21.06,16.785,-78.744,-21.984999999999999,-4.1319999999999997,2.512,-62.084000000000003,-47.25,-17.721,38.186999999999998,26.05,20.648,14.632999999999999,-8.1110000000000007,-9.85,-3.7360000000000002,-70.192999999999998,-86.08,-101.614,-18.978999999999999,-2.2829999999999999,-64.192999999999998,-112.242,null,-78.744,-62.084000000000003,26.05,-9.85,-101.614,-112.242]
[null,"Deferred Revenue",0,0,0,145.005,5.6989999999999998,8.4540000000000006,-10.695,-33.689,-15.625999999999999,-22.413,-28.872,-36.338000000000001,-0.39700000000000002,-0.75800000000000001,-0.187,2.1230000000000002,4.4649999999999999,9.2799999999999994,6.9619999999999997,-0.75600000000000001,-12.204000000000001,-22.498000000000001,-31.497,-35.448999999999998,null,145.005,-33.689,-36.338000000000001,2.1230000000000002,-0.75600000000000001,-35.448999999999998]
[null,"Other Liabilities",41.993000000000002,77.113,135.76900000000001,67.668999999999997,-58.357999999999997,23.088000000000001,-13.821,-17.312000000000001,-34.520000000000003,-34.613,-35.478000000000002,68.266000000000005,-1.8,7.3330000000000002,2.7240000000000002,8.3520000000000003,8.52,-0.90800000000000003,19.288,58.356000000000002,-1.86,-15.265000000000001,-64.278999999999996,-77.858000000000004,null,67.668999999999997,-17.312000000000001,68.266000000000005,8.3520000000000003,58.356000000000002,-77.858000000000004]
[null,"Payables to Third Parties",-643.83699999999999,303.59399999999999,2307.5970000000002,4173.2640000000001,-1363.442,-315.81700000000001,883.00400000000002,2940.739,-192.62,-221.27199999999999,1124.71,4847.6289999999999,-373.25200000000001,-687.40099999999995,23.097999999999999,962.40499999999997,-87.899000000000001,855.63400000000001,739.09199999999998,1488.877,-1308.952,-1397.355,-1657.7280000000001,-711.17499999999995,null,4173.2640000000001,2940.739,4847.6289999999999,962.40499999999997,1488.877,-711.17499999999995]
[null,"Trade Payables",21.602,-28.222000000000001,-44.914000000000001,72.328000000000003,-29.835000000000001,9.1999999999999993,42.466000000000001,243.58500000000001,-21.943000000000001,-73.525000000000006,-219.71,-133.845,-12.525,14.581,-12.212,63.497999999999998,12.734999999999999,125.227,92.135999999999996,148.601,-102.962,-125.753,-112.021,-53.904000000000003,null,72.328000000000003,243.58500000000001,-133.845,63.497999999999998,148.601,-53.904000000000003]
[null,"Receivables from (Payables to) Related Parties",13.58,119.024,107.376,38.25,21.318000000000001,229.833,311.16500000000002,471.58499999999998,-270.74,-289.50599999999997,-118.883,9.7870000000000008,-74.873999999999995,-406.64800000000002,-296.77699999999999,-191.81200000000001,-90.638999999999996,276.762,533.63300000000004,583.48599999999999,-103.574,-98.153000000000006,-321.38,-344.90100000000001,null,38.25,471.58499999999998,9.7870000000000008,-191.81200000000001,583.48599999999999,-344.90100000000001]
[null,"Checking Accounts",0,0,0,0,0,0,0,0,0,0,0,0,-962.49900000000002,-626.41200000000003,745.2,2468.0880000000002,-699.94600000000003,-235.584,-1013.223,343.09500000000003,-1923.4110000000001,-1944.279,-2202.145,-630.60400000000004,null,758.00300000000004,2276.0410000000002,9006.018,2468.0880000000002,343.09500000000003,-630.60400000000004]
[null,"Obligation to FIDC quota holders",null,null,null,null,null,null,null,null,null,null,null,null,null,null,null,null,null,null,null,1000,null,null,-149.392,-50.607999999999997]
[null,"Banking Issuances",0,317.786,193.642,758.00300000000004,672.91899999999998,999.78300000000002,1854.9359999999999,2276.0410000000002,2524.7199999999998,6104.3710000000001,9096.6720000000005,9006.018,-1094.6780000000001,-1314.9970000000001,759.67600000000004,4945.183,3750.6759999999999,7442.0649999999996,8526.2000000000007,9017.2990000000009,-204.98699999999999,2917.0970000000002,5077.5410000000002,4561.8339999999998,null,7.6050000000000004,-8.0909999999999993,33.054000000000002,4945.183,9017.2990000000009,4561.8339999999998]
[null,"Salaries and Social Charges",-21.149000000000001,3.1520000000000001,14.038,7.6050000000000004,-20.725000000000001,-4.3440000000000003,9.4600000000000009,-8.0909999999999993,-76.75,-8.2940000000000005,41.034999999999997,33.054000000000002,-87.600999999999999,-16.324000000000002,40.057000000000002,51.457000000000001,-112.908,-33.323,47.619,57.396000000000001,-140.714,-65.337000000000003,-42.29,-19.113,null,null,null,null,51.457000000000001,57.396000000000001,-19.113]
[null,"Taxes and Contributions",-4.7640000000000002,-112.474,-26.143000000000001,-34.438000000000002,25.803000000000001,38.048000000000002,31.358000000000001,-11.499000000000001,3.1219999999999999,14.523999999999999,23.614999999999998,25.829000000000001,0.51900000000000002,-24.213000000000001,-24.082999999999998,127.276,22.952000000000002,-18.597000000000001,-56.109000000000002,-95.394000000000005,-105.73399999999999,-201.125,-191.196,-165.61,null,-34.438000000000002,-11.499000000000001,25.829000000000001,127.276,-95.394000000000005,-165.61]
[null,"Provision for Contingencies",-1.655,-3.879,-1.1000000000000001,-1.127,-1.907,-9.9359999999999999,-12.994,-17.763000000000002,-4.0529999999999999,-5.9939999999999998,-17.138999999999999,-24.234000000000002,-3.665,-9.548,-11.356999999999999,-28.652000000000001,-7.9880000000000004,-20.344000000000001,-26.207999999999998,-35.290999999999997,-8.1829999999999998,-21.347999999999999,-38.01,-54.774999999999999,null,-1.127,-17.763000000000002,-24.234000000000002,-28.652000000000001,-35.290999999999997,-54.774999999999999]
[null,"Non-controlling Interests",0,0,0,0,0,0,0,0,0,0,0,0,0,0,0,0,0,0,0,0,0,0,0,0,null,0,0,0,0,0,0]
[null,"Income Tax and Social Contribution paid ",-2.19,-8.8829999999999991,-26.053000000000001,-46.384,-25.417999999999999,-54.302,-57.411999999999999,-76.781999999999996,-40.149000000000001,-79.683999999999997,-86.56,-89.899000000000001,-12.237,-59.085999999999999,-78.552999999999997,-82.632999999999996,-14.816000000000001,-38.744,-128.67699999999999,-157.34,-69.153000000000006,-111.84699999999999,-143.66200000000001,-187.905,null,-46.384,-76.781999999999996,-89.899000000000001,-82.632999999999996,-157.34,-187.905]
[null,"Interest Income Received (paid)",97.266999999999996,114.05,175.5,266.71899999999999,113.206,255.977,541.88099999999997,1068.45,677.91600000000005,1563.152,2525.8490000000002,2706.373,548.73900000000003,1060.125,1750.587,2576.415,547.56200000000001,675.37300000000005,1428.943,1809.7560000000001,700.10699999999997,1629.011,2532.2240000000002,3372.134,null,266.71899999999999,1068.45,2706.373,2576.415,1809.7560000000001,3372.134]
[null,"Interest Paid",0,0,0,0,0,0,0,0,0,0,0,0,0,0,0,0,0,0,0,0,0,0,0,0,null,0,0,0,0,0,0]
[null,"Net Cash Provided by Operating Activities",1051.8589999999999,1160.5170000000001,895.48699999999997,2152.663,-17.812000000000001,400.62599999999998,763.99699999999996,898.00599999999997,287.32499999999999,518.02,1589.2829999999999,3548.96,398.815,862.31600000000003,1835.1859999999999,3999.7530000000002,2428.61,-2126.6080000000002,-2815.3739999999998,-3416.2930000000001,1001.976,2397.777,5634.6779999999999,7562.4309999999996,null,2152.663,898.00599999999997,3548.96,3999.7530000000002,-3416.2930000000001,7562.4309999999996]
[null,"Amount paid on Acquisitions, Net of Cash Acquired",0,0,-5.351,-345.60300000000001,0,0,-44.470999999999997,-43.366999999999997,0,0,0,0,0,0,-31.312999999999999,-31.312999999999999,0,0,0,0,0,0,0,0,null,-345.60300000000001,-43.366999999999997,0,-31.312999999999999,0,0]
[null,"Purchases of Property and Equipment",-231.93799999999999,-476.24700000000001,-917.255,-1522.769,-249.84700000000001,-475.56200000000001,-701.33799999999997,-972.274,-439.55900000000003,-780.45600000000002,-1027.0250000000001,-1096.059,-148.54400000000001,-425.77499999999998,-692.23199999999997,-951.55799999999999,-294.81900000000002,-639.76700000000005,-916.09299999999996,-1131.8779999999999,-342.17099999999999,-572.17899999999997,-813.44299999999998,-1040.04,null,-1522.769,-972.274,-1096.059,-951.55799999999999,-1131.8779999999999,-1040.04]
[null,"Purchases and Development of Intangible Assets",-118.99299999999999,-217.29400000000001,-373.60500000000002,-523.78499999999997,-148.98699999999999,-325.16399999999999,-527.55499999999995,-779.55499999999995,-241.81399999999999,-475.75799999999998,-731.36099999999999,-1040.337,-259.86599999999999,-512.73599999999999,-775.05399999999997,-1036.806,-263.512,-555.30499999999995,-864.49199999999996,-1188.7629999999999,-306.42099999999999,-605.45699999999999,-876.91800000000001,-1236.82,null,-523.78499999999997,-779.55499999999995,-1040.337,-1036.806,-1188.7629999999999,-1236.826]
[null,"Acquisition of Financial Investments",0,0,0,0,0,-38.192999999999998,0,0,-69.436999999999998,-3.7789999999999999,0,-48.134,-153.785,-176.25399999999999,-120.01900000000001,-684.12,-1085.096,-379.31099999999998,232.71600000000001,490.55200000000002,-153.006,75.841999999999999,90.905000000000001,-22.936,null,0,0,-48.134,-684.12,490.55200000000002,-22.936]
[null,"Redemption of Financial Investments",983.16,839.07,636.43200000000002,530.66700000000003,40.143999999999998,0,2.2930000000000001,324.24700000000001,0,0,0.39300000000000002,0,0,0,0,0,0,0,0,0,0,0,0,0,null,530.66700000000003,324.24700000000001,0,0,0,0]
[null,"Net Cash Used in Investing Activities",632.22799999999995,145.529,-659.779,-1861.489,-358.69,-838.91899999999998,-1271.0709999999999,-1470.9490000000001,-750.81,-1259.9929999999999,-1757.9929999999999,-2184.5300000000002,-562.19500000000005,-1114.7650000000001,-1618.6179999999999,-2703.797,-1643.4269999999999,-1574.383,-1547.8689999999999,-1830.0889999999999,-801.59799999999996,-1101.7940000000001,-1599.4559999999999,-2299.7959999999998,null,-1861.489,-1470.9490000000001,-2184.5300000000002,-2703.797,-1830.0889999999999,-2299.7959999999998]
[null,"Additions from borrowings",null,null,null,null,null,null,null,null,null,null,null,null,200,300,{"$f":"300-9.613","v":290.387},300,898.16,2398.16,5398.16,8883.16,3748,4720.2569999999996,4748,6198.6540000000005,null,null,null,{"$f":"250-56.931","v":193.06900000000002},300,{"$f":"V49","v":8883.16},{"$f":"Z49","v":6198.6540000000005}]
[null,"Payment of Borrowings",0,0,0,0,0,0,0,0,0,0,-250,-1213.144,0,0,-100,-109.613,{"$f":"-189.319-6.29","v":-195.60899999999998},{"$f":"-190.432+-6.29","v":-196.72199999999998},{"$f":"-2690.36-62.463","v":-2752.8230000000003},-4785.598,-3902.982,-5927.6270000000004,-7065.366,-8504.0490000000009,null,0,0,-1213.144,-109.613,{"$f":"V50","v":-4785.598},-8504.0490000000009]
[null,"Payment of Derivative Financial Instruments, net",0,0,0,0,0,0,0,0,0,0,0,0,0,0,0,0,-16.027999999999999,-16.027999999999999,-19.523,-19.523,0,0,-28.009,-60.536999999999999,null,0,0,0,0,-19.523,-60.542000000000002]
[null,"Distribution of Dividends",0,0,0,0,0,0,0,0,0,0,0,0,0,0,0,0,0,0,0,0,0,-236.03700000000001,-431.20600000000002,-617.05899999999997,null,0,0,0,0,0,-617.05499999999995]
[null,"Proceeds from Offering of Shares",0,0,0,0,0,0,0,0,0,0,0,0,0,0,0,0,0,0,0,0,0,0,0,0,null,0,0,0,0,0,0]
[null,"Capital Increase",0,0,0,0,0,0,0,0,0,0,0,0,0,0,0,0,0,0,0,0,0,0,0,0,null,0,0,0,0,0,0]
[null,"Transactional Costs",0,0,0,0,0,0,0,0,0,0,0,0,0,0,0,0,0,0,0,0,0,0,0,0,null,0,0,0,0,0,0]
[null,"Payment of leases",0,0,0,0,-3.3860000000000001,-6.3840000000000003,-10.603,-15.148,-4.1719999999999997,-9.7750000000000004,-13.977,-18.178999999999998,-4.2050000000000001,-8.8940000000000001,-12.606,-16.972000000000001,-4.4089999999999998,-9.2629999999999999,-13.715999999999999,-18.59,-4.9329999999999998,0,0,-19.620999999999999,null,0,-15.148,-18.178999999999998,-16.972000000000001,-18.59,-19.620999999999999]
[null,"Acquisition of Treasury Shares",-44.774000000000001,-44.774000000000001,-44.774000000000001,-44.774000000000001,0,0,0,-257.99200000000002,-93.613,-93.613,-191.81899999999999,-291.44299999999998,-45.345999999999997,-143.672,-248.82400000000001,-399.41,0,0,-427.721,-784.45899999999995,-228.27,0,0,-1330.183,null,-44.774000000000001,-257.99200000000002,-291.44299999999998,-399.41,-784.45899999999995,-1330.183]
[null,"Transaction with non-controlling Interest",0,0,0,0,0,0,0,0,0,0,0,0,0,0,0,0,0,0,0,0,0,0,0,0,null,0,0,0,0,0,0]
[null,"Capital Increase by non-controlling Shareholders",-0.115,0.09,0.26100000000000001,-10.289,0.06,0,0,-11.708,0,0,0,0,0,0,0,0,0,0,0,0,0,0,0,0,null,-10.289,-11.708,0,0,0,0]
[null,"Net Cash Provided by Financing Activities",-44.889000000000003,-44.683999999999997,-44.512999999999998,-55.064,-3.3260000000000001,-6.2270000000000003,-10.603,727.23800000000006,152.21600000000001,139.59800000000001,-221.13300000000001,-1329.6969999999999,150.44900000000001,147.434,-71.043000000000006,-225.99299999999999,682.11400000000003,2176.1480000000001,2184.2919999999999,3274.99,-388.185,{"$f":"SUM(X49:X59)","v":-1443.4070000000008},{"$f":"SUM(Y49:Y59)","v":-2776.5810000000001},-4332.7950000000001,null,-55.064,727.23800000000006,-1329.6969999999999,-225.99299999999999,3274.99,-4332.7950000000001]
[null,"Increase (Decrease) in Cash and Cash Equivalents",1639.1990000000001,1261.3610000000001,191.19499999999999,236.11,-379.82799999999997,-444.52,-517.67600000000004,154.29499999999999,-311.26900000000001,-602.37599999999998,-389.84300000000002,34.734000000000002,-12.930999999999999,-105.015,145.52500000000001,1069.963,1467.297,-1524.8440000000001,-2178.951,-1971.3920000000001,-187.80699999999999,-225.203,499.63600000000002,929.84,null,236.11,154.29499999999999,34.734000000000002,1069.963,-1971.3920000000001,929.84]
[null,"Cash and Cash Equivalents at the beginning of the Period",1403.9059999999999,1403.9059999999999,1403.9059999999999,1403.9059999999999,1640.0160000000001,1640.0160000000001,1640.0160000000001,1640.0160000000001,1794.3109999999999,1794.3109999999999,1794.3109999999999,1794.3109999999999,1829.0940000000001,1829.0940000000001,1829.0940000000001,1829.097,2899.087,2899.087,2899.06,2899.06,927.66800000000001,-2149.4870000000001,-3535.5859999999998,927.66800000000001,null,1403.9059999999999,1640.0160000000001,1794.3109999999999,1829.097,2899.06,927.66800000000001]
[null,"Cash and Cash Equivalents at the end of the Period",3043.105,2665.2669999999998,1595.1010000000001,1640.0160000000001,1260.1880000000001,1195.4970000000001,1122.3399999999999,1794.3109999999999,1483.0419999999999,1191.9359999999999,1404.4680000000001,1829.0450000000001,1816.163,1724.079,1974.6189999999999,2899.06,4366.3850000000002,1374.2439999999999,720.10900000000004,927.66800000000001,954.12300000000005,-225.203,499.63600000000002,{"$f":"ROUND(AG63,3)","v":1857.5070000000001},null,1640.0160000000001,1794.3109999999999,1829.0450000000001,2899.06,927.66800000000001,1857.5070000000001]

{"sheet":"Ratings","index":8,"n_rows":25,"n_cols":38,"rows_kept":25,"cut":false,"hidden":false,"merged":[]}
[]
[null,"RATINGS"]
[null,"http://investors.pagbank.com/"]
[]
[null,"Banco Seguro S.A.","3Q23","4Q23","1Q24","2Q24","3Q24","4Q24","1Q25","2Q25","3Q25","4Q25",2020]
[null,"S&P Global","brAAA","brAAA","brAAA","brAAA","brAAA","brAAA","brAAA","brAAA","brAAA","brAAA",564.23500000000001]
[null,"Moody's","-","-","-","AAA.br","AAA.br","AAA.br","AAA.br","AAA.br","AAA.br","AAA.br"]
[]
[]
[]
[]
[]
[]
[]
[]
[]
[]
[]
[]
[]
[]
[]
[]
[]
[null,null,null,null,null,null,null,null,null,null,null,null,null,null,null,null,null,null,null,null,null,null,null,null,null,null,null,null,null,null,null,null,null,null,null,null,null,-221.27199999999999]

{"sheet":"ESG I Highlights","index":9,"n_rows":219,"n_cols":6,"rows_kept":219,"cut":false,"hidden":false,"merged":[[178,2,178,4],[179,2,179,4],[180,2,180,4],[181,2,181,4],[176,1,176,3]]}
[]
[null,"ESG I ENVIRONMENTAL"]
[null,"https://investors.pagbank.com/esg/"]
[]
[null,"Greenhouse Gas Emissions (tCO2eq)",2021,2022,2023,2024]
[null,"Scope 1"]
[null,"Stationary combustion ",0.20599999999999999,0.88800000000000001,1.02,0.45]
[null,"Mobile combustion¹",303.98500000000001,112.19799999999999,"_","_"]
[null,"Fugitive emissions",3.0640000000000001,215.739,84.400999999999996,190.66]
[null,"Total",307.255,328.82499999999999,85.421000000000006,191.11]
[null,"Scope 2"]
[null,"Location-based approach",470.14600000000002,202.73500000000001,94.21,142.75700000000001]
[null,"Purchase-based approach","_",130.15299999999999,21.542000000000002,0]
[null,"Total",470.14600000000002,130.15299999999999,21.542000000000002,0]
[null,"Scope 3"]
[null,"Transportation and distribution (upstream)",2194.009,1926.992,1492.479,425.54]
[null,"Waste generated in operations","_",81.817999999999998,53.451999999999998,260.64999999999998]
[null,"Business travel",822.98299999999995,4920.3100000000004,6334.6930000000002,7953.39]
[null,"Purchased goods and services","_","_","_",9355.33]
[null,"Use of goods and services sold","_","_","_",30.84]
[null,"End-of-life treatment of sold products ","_","_","_",918.24]
[null,"Worker commuting",1430.0630000000001,1591.395,1799.729,2617.0100000000002]
[null,"Total",4447.0550000000003,8520.5149999999994,9680.3529999999992,21561]
[null,"TOTAL","5.224.456",8979.4930000000004,9787.3160000000007,21752.11]
[null,"Emission Intensity (per employee)",0.77400000000000002,1.2430000000000001,1.3460000000000001,2.5310000000000001]
[null,"Emission Intensity (per Revenue)",0.5,0.59,0.62,1.157]
[]
[null,"Biogenic emissions (biogenic tCO2)",2021,2022,2023,2024]
[null,"Scope 1",74.527000000000001,27.542000000000002,0.12,6.6000000000000003E-2]
[null,"Scope 3",1166.029,1833.2090000000001,4951.6289999999999,6266.36]
[null,"TOTAL",1240.556,1860.751,4951.7489999999998,6266.4260000000004]
[null,"Carbon Offsetting",1,1,1,1]
[null,"Third-Party Verification","Yes","Yes","Yes","Yes"]
[]
[]
[null,"Total energy consumed (MWh)",2021,2022,2023,2024]
[null,"Consumption of certified renewable energy","_",1704,1887,2629.35]
[null,"Overall energy consumption",1649.78,681.15,559.4,0]
[null,"Renewable energy consumption",0,0.71,0.77,1]
[null,"TOTAL",1649.78,2385.15,2446.4,2629.35]
[null,"Emission Intensity (per employee)",0.24399999999999999,0.33,0.33600000000000002,0.30599999999999999]
[null,"Emission Intensity (per Revenue)",0.158,0.156,0.156,0.14000000000000001]
[]
[null,"Waste generated (kg)²",2021,2022,2023,2024]
[null,"Waste sent to recycling³",4578,11019,16354,25557]
[null,"General waste",14600,22800,26050,144400]
[null,"Solid waste from construction",0,590,3570,0]
[null,"% of waste sent to recycling",0.24,0.32,0.35,0.17699999999999999]
[null,"TOTAL",19178,34409,45974,169957]
[null,"Emission Intensity (per employee)",2.8410000000000002,4.7640000000000002,6.3209999999999997,19.774000000000001]
[null,"Emission Intensity (per Revenue)",1.835,2.2440000000000002,2.9319999999999999,9.0399999999999991]
[]
[null,"2. Data referring to the headquarters"]
[null,"3. Includes cardboard, white paper, mixed paper, plastic and metal scrap"]
[]
[null,"Water consumption (m³)",2021,2022,2023,2024]
[null,"Headquarters water consumption",5459,7750,6639,10207]
[null,"TOTAL",5459,7750,6639,10207]
[null,"Emission Intensity (per employee)",0.80900000000000005,1.073,0.91300000000000003,1.1879999999999999]
[null,"Emission Intensity (per Revenue)",0.52200000000000002,0.505,0.42299999999999999,0.54300000000000004]
[]
[]
[null,"ESG I SOCIAL"]
[null,"https://investors.pagbank.com/esg/"]
[]
[null,"Social Investment | R$ million",2021,2022,2023,2024]
[null,"Tax Incentive Laws",4.8,1.1000000000000001,2.2999999999999998,6.9]
[null,"TOTAL",4.8,1.1000000000000001,2.2999999999999998,6.9]
[]
[null,"Reclame Aqui Score¹",2021,2022,2023,2024]
[null,"Customer Satisfaction Rating",7.9,8.1999999999999993,8.6,8.5]
[]
[null,"1. Reclame Aqui is a Brazilian platform for consumers to report issues with companies and check their reputations."]
[]
[null,"Employees by gender",2021,2022,2023,2024]
[null,"Men",4170,4287,4314,5042]
[null,"%",0.61799999999999999,0.59399999999999997,0.59299999999999997,0.58699999999999997]
[null,"Women",2581,2936,2959,3553]
[null,"%",0.38200000000000001,0.40600000000000003,0.40699999999999997,0.41299999999999998]
[null,"TOTAL",6751,7223,7273,8595]
[]
[null,"Employees by race",2021,2022,2023,2024]
[null,"Asian",133,158,158,149]
[null,"%",0.02,2.1999999999999999E-2,2.1999999999999999E-2,1.7000000000000001E-2]
[null,"Caucasian",4283,4503,4354,5507]
[null,"%",0.63400000000000001,0.623,0.59899999999999998,0.64100000000000001]
[null,"Indigenous",9,11,14,13]
[null,"%",1E-3,2E-3,2E-3,2E-3]
[null,"Not informed",166,95,226,8]
[null,"%",2.5000000000000001E-2,1.2999999999999999E-2,3.1E-2,1E-3]
[null,"Black",484,547,483,659]
[null,"%",7.1999999999999995E-2,7.5999999999999998E-2,6.6000000000000003E-2,7.6999999999999999E-2]
[null,"Brown",1676,1909,2038,2259]
[null,"%",0.248,0.26400000000000001,0.28000000000000003,0.26300000000000001]
[null,"TOTAL",6751,7223,7273,8595]
[]
[null,"Employees by region",2021,2022,2023,2024]
[null,"Midwest",265,257,284,322]
[null,"%",3.9E-2,3.5999999999999997E-2,3.9E-2,3.6999999999999998E-2]
[null,"Northeast",454,451,570,817]
[null,"%",6.7000000000000004E-2,6.2E-2,7.8E-2,9.5000000000000001E-2]
[null,"North",93,100,147,160]
[null,"%",1.4E-2,1.4E-2,0.02,1.9E-2]
[null,"Southeast",5260,5754,5575,6459]
[null,"%",0.77900000000000003,0.79700000000000004,0.76700000000000002,0.751]
[null,"South",667,651,689,830]
[null,"%",9.9000000000000005E-2,0.09,9.5000000000000001E-2,9.7000000000000003E-2]
[null,"Abroad",12,10,8,7]
[null,"%",2E-3,1E-3,1E-3,1E-3]
[null,"TOTAL",6751,7223,7273,8595]
[]
[null,"Employees by functional category and gender (Men)",2021,2022,2023,2024]
[null,"Director",31,32,33,40]
[null,"%",7.0000000000000001E-3,7.0000000000000001E-3,8.0000000000000002E-3,8.0000000000000002E-3]
[null,"Manager",296,335,315,381]
[null,"%",7.0999999999999994E-2,7.8E-2,7.2999999999999995E-2,7.5999999999999998E-2]
[null,"Coordinator/Specialist",432,476,462,536]
[null,"%",0.104,0.111,0.107,0.106]
[null,"Supervisor",229,229,223,249]
[null,"%",5.5E-2,5.2999999999999999E-2,5.1999999999999998E-2,4.9000000000000002E-2]
[null,"Team",3160,3204,3269,3822]
[null,"%",0.75800000000000001,0.747,0.75800000000000001,0.752]
[null,"Apprentice",2,11,12,14]
[null,"%",0,3.0000000000000001E-3,3.0000000000000001E-3,3.0000000000000001E-3]
[null,"TOTAL",4170,4287,4314,5042]
[]
[null,"Employees by functional category and gender (Women)",2021,2022,2023,2024]
[null,"Director",8,10,13,16]
[null,"%",3.0000000000000001E-3,3.0000000000000001E-3,4.0000000000000001E-3,4.0000000000000001E-3]
[null,"Manager",107,126,140,176]
[null,"%",4.1000000000000002E-2,4.2999999999999997E-2,4.7E-2,4.9000000000000002E-2]
[null,"Coordinator/Specialist",193,250,247,301]
[null,"%",7.4999999999999997E-2,8.5000000000000006E-2,8.3000000000000004E-2,8.4000000000000005E-2]
[null,"Supervisor",79,84,96,132]
[null,"%",3.1E-2,2.9000000000000001E-2,3.2000000000000001E-2,3.6999999999999998E-2]
[null,"Team",2189,2453,2442,2912]
[null,"%",0.84799999999999998,0.83499999999999996,0.82499999999999996,0.81200000000000006]
[null,"Apprentice",5,13,21,16]
[null,"%",2E-3,4.0000000000000001E-3,7.0000000000000001E-3,4.0000000000000001E-3]
[null,"TOTAL",2581,2936,2959,3588]
[]
[null,"Turnover",2021,2022,2023,2024]
[null,"Turnover",38,36.9,40.1,40]
[null,"TOTAL",38,36.9,40.1,40]
[]
[null,"ESG I GOVERNANCE"]
[null,"https://investors.pagbank.com/esg/"]
[]
[null,"Ratings",2021,2022,2023,2024]
[null,"CDP","F","C","B","B"]
[null,"GHG Protocol","Gold","Gold","Gold","Gold"]
[null,"Sustainalytics (Morningstar)",28.5,20.5,18.3,18.3]
[null,"S&P CSA (Corporate Sustainability Assessment)",7,17,38,38]
[null,"Bloomberg ESG Score",3.45,3.96,3.96,3.96]
[null,"ISS Corporate Rating","_","_","C-","C-"]
[null,"ISS Cyber Risk Score","_","_",828,828]
[]
[null,"Sustainabililty Report",2021,2022,2023,2024]
[null,"Publicly available¹","Yes","Yes","Yes","Yes"]
[null,"Global Reporting Initiative (GRI)","Yes","Yes","Yes","Yes"]
[null,"Sustainability Accounting Standards Board (SASB)","No","Yes","Yes","Yes"]
[null,"Task Force on Climate-related Financial Disclosures (TCFD)","No","Yes","Yes","Yes"]
[null,"Third-Party Verification","No","Yes","Yes","Yes"]
[]
[null,"1. The Sustainability Report is avaiable at https://investors.pagbank.com/esg/  "]
[]
[null,"Corporate Governance Metrics",2021,2022,2023,2024]
[null,"Members in the Board of Directors",7,6,6,6]
[null,"Percentage of Independet Members in the Board of Directors",43,50,50,50]
[null,"Percentage of Women in the Board of Directors",43,50,50,50]
[null,"Women on Board (WOB) recongnition²","Yes","Yes","Yes","Yes"]
[null,"Percentage of Executives in the Board of Directors",28,0,0,0]
[null,"CEO Duality","Yes","No","No","No"]
[null,"Percentage of Independent Members in the Audit Committee",100,100,100,100]
[null,"Sustainability Commiittee","No","Yes","Yes","Yes"]
[]
[null,"2. Women on Board (WOB), a non-governmental organization linked to the United Nations, for having more than two women on our board of directors."]
[]
[null,"Executive Officers","Title"]
[null,"Ricardo Dutra","Principal Executive Officer"]
[null,"Carlos Mauad","Chief Executive Officer"]
[null,"Gustavo Sechin","Chief Financial and Investor Relations Officer "]
[]
[null,"Board of Directors ","Title","Independent³","Date of Birth"]
[null,"Eduardo Alcaro","Vice Chairman","No","April 26, 1972"]
[null,"Luis Frias","Chairman","No","April 6, 1963"]
[null,"Artur Gaulke Schunck","Director ","Yes","June 11, 1979"]
[null,"Alexandre Magnani","Director ","Yes","November 10, 1970"]
[null,"Maria Judith deBrito","Director ","No","April 30, 1958"]
[null,"Maria Carolina Ferreira Lacerda","Director ","Yes","August 21, 1972"]
[null,"Cleveland Prates Teixeira","Director ","Yes","August 15, 1966"]
[null,"Marcia Nogueira de Mello","Director ","Yes","March 14, 1965"]
[]
[null,"Audit Committee",null,"Title","Independent³"]
[null,"Maria Carolina Ferreira Lacerda",null,"Chairwoman","Yes"]
[null,"Cleveland Prates Teixeira",null,"Member","Yes"]
[null,"Marcia Nogueira de Mello",null,"Member","Yes"]
[]
[null,"3. Independent according to SEC and NYSE rules"]
[]
[null,"Sustainability Commiittee",null,null,"Title"]
[null,"Ricardo Dutra da Silva",null,null,"Chairman"]
[null,"Alexandre Magnani",null,null,"Member"]
[null,"Artur Gaulke Schunck",null,null,"Member"]
[null,"Carol Elizabeth Conway",null,null,"Member"]
[null,"Gustavo Bahia Gama Sechin",null,null,"Member"]
[null,"Fabiana Verdicchio",null,null,"Member"]
[null,"Sadami Ikegari",null,null,"Member"]
[null,"Victoria Rozsavolgyi Bortolin",null,null,"Member"]
[]
[null,"Membership associations",2021,2022,2023,2024]
[null,"United Nations Global Compact","Yes","Yes","Yes","Yes"]
[null,"Women’s Empowerment Principles (WEPs)","No","No","Yes","Yes"]
[null,"ABBC – Brazilian Association of Banks","Yes","Yes","Yes","Yes"]
[null,"ABECS – Brazilian Association of Credit Card and Service Companies","Yes","Yes","Yes","Yes"]
[null,"ABRANET – Brazilian Internet Association","Yes","Yes","Yes","Yes"]
[null,"ANBIMA – Brazilian Association of Financial and Capital Market Institutions","Yes","Yes","Yes","Yes"]
[null,"APIMEC – Brazilian Association of Capital Market Analysts and Investment Professionals","Yes","Yes","Yes","Yes"]
[null,"Camara-e.Net - Brazilian Chamber of Digital Economy","Yes","Yes","Yes","Yes"]