Workbook
Name __xlnm._FilterDatabase: #N/A
Name __xlnm.Print_Area: #REF!
Name __xlnm.Print_Area: #REF!
Name __xlnm.Print_Area: #REF!
Name __xlnm.Print_Area: #REF!
Name __xlnm.Print_Area: #REF!
Name __xlnm.Print_Area_4: #N/A
Name __xlnm.Print_Area_5: #REF!
Name __xlnm.Print_Area_5: #REF!
Name __xlnm.Print_Area_5: #REF!
Name __xlnm.Print_Area_5: #REF!
Name __xlnm.Print_Area_5: #REF!
Name __xlnm.Print_Area_6: #REF!
Name __xlnm.Print_Area_6: #REF!
Name __xlnm.Print_Area_6: #REF!
Name __xlnm.Print_Area_6: #REF!
Name __xlnm.Print_Area_6: #REF!
Name _fir1: [1]Encabezamiento!$C$39
Name _fir2: [1]Encabezamiento!$C$40
Name _fir3: [1]Encabezamiento!$C$41
Name _pte1: [1]Encabezamiento!$F$45
Name _pte2: [1]Encabezamiento!$F$46
Name _sin1: [2]Encabezamiento!$B$45
Name _sin2: [2]Encabezamiento!$B$46
Name _sin3: [2]Encabezamiento!$B$47
Name _sin4: [2]Encabezamiento!$B$48
Name _soc1: [1]Encabezamiento!$C$45
Name _soc2: [1]Encabezamiento!$C$46
Name _soc3: [1]Encabezamiento!$C$47
Name _soc4: [1]Encabezamiento!$C$48
Name _soc5: [1]Encabezamiento!$C$49
Name Bce_saldos: '[3]Bce Saldos'!$A$7:$F$4006
Name BceSofi: #REF!
Name BceSofi: #REF!
Name BceSofi: #REF!
Name BceSofi: #REF!
Name BceSofi: #REF!
Name BceSofi: #REF!
Name BceSofi: #REF!
Name BceSofi: #REF!
Name BceSofi: #REF!
Name Clave1: '[4]Base Resultados'!$C$2:$C$1184
Name Clave2: [5]BALANCE!$F$3:$F$604
Name Clave3: [5]BALANCE!$H$3:$H$604
Name Conver_Sofi: #REF!
Name Conver_Sofi: #REF!
Name Conver_Sofi: #REF!
Name Conver_Sofi: #REF!
Name Conver_Sofi: #REF!
Name Conver_Sofi: #REF!
Name Conver_Sofi: #REF!
Name Conver_Sofi: #REF!
Name Conver_Sofi: #REF!
Name cuenta: [6]BALANCE!$A$1:$A$305
Name dfg: #REF!
Name dfg: #REF!
Name dfg: #REF!
Name dfg: #REF!
Name dfg: #REF!
Name dfg: #REF!

Sheet SUPV Contact
D30: Investor Relations Contacts:
D31: Ana Bartesaghi
D32: Treasurer and Investor Relations Officer
D33: 5411-4324-8132
D34: Ana.BARTESAGHI@supervielle.com.ar
D36: Gustavo Tewel
D37: 5411-4324-8158
D38: Gustavo.TEWEL@supervielle.com.ar
D40: Nahila Schianmarella
D41: 5411-4324-8135
D42: Nahila.SCHIANMARELLA@supervielle.com.ar
D44: Valeria Kohan
... D49: www.gruposupervielle.com.

Sheet Key Performance Indicators
B3: (In millions of Argentine Ps.) | H3: % Change
B5: INCOME STATEMENT | C5: 4Q18 | D5: 3Q18 | E5: 2Q18 | F5: 1Q18 | G5: 4Q17 | H5: QoQ | I5: YoY | J5: FY18 | K5: FY17 | L5: % Chg.
B6: Net Interest Income | C6: 2023.15 | D6: 2722.878 | E6: 2898.235 | F6: 2818.105 | G6: 2552.684 | H6: -0.25698103 | I6: -0.20744205 | J6: 10462.368 | K6: 8554.207 | L6: 0.22306697
B7: NIFFI & Exchange Rate Differences | C7: 3234.962 | D7: 1663.361 | E7: 716.783 | F7: 805.455 | G7: 807.428 | H7: 0.94483458 | I7: 3.0065021 | J7: 6420.561 | K7: 2445.73 | L7: 1.6252125
B8: Net Financial Income | C8: 5258.112 | D8: 4386.239 | E8: 3615.018 | F8: 3623.56 | G8: 3360.112 | H8: 0.19877462 | I8: 0.56486212 | J8: 16882.929 | K8: 10999.937 | L8: 0.53482052
B9: Net Service Fee Income (excluding income from insurance activities) | C9: 1065.073 | D9: 1026.8506 | E9: 1004.9493 | F9: 884.6111 | G9: 783.697 | H9: 0.037222958 | I9: 0.35903672 | J9: 3981.484 | K9: 3236.973 | L9: 0.23000223
B10: Income from Insurance activities | C10: 180.429 | D10: 183.096 | E10: 145.282 | F10: 148.747 | G10: 148.25 | H10: -0.014566129 | I10: 0.21705902 | J10: 657.554 | K10: 479.011 | L10: 0.37273257
B11: Loan Loss Provisions | C11: -1382.765 | D11: -1122.525 | E11: -989.229 | F11: -726.126 | G11: -606.274 | H11: 0.23183448 | I11: 1.2807592 | J11: -4220.645 | K11: -1928.766 | L11: 1.1882618
B12: Personnel & Administrative Expenses | C12: -3591.212 | D12: -3045.245 | E12: -2760.862 | F12: -2446.47 | G12: -2604.501 | H12: 0.17928508 | I12: 0.37884839 | J12: 11843.789 | K12: 8721.23 | L12: 0.35804112
B13: Profit before income tax | C13: 903.817 | D13: 1027.564 | E13: 456.02 | F13: 1020.449 | G13: 651.442 | H13: -0.12042754 | I13: 0.38740978 | J13: 3407.85 | K13: 2511.778 | L13: 0.35674809
B14: Attributable Net income | C14: 706.832 | D14: 867.388 | E14: 270.715 | F14: 722.634 | G14: 467.606 | H14: -0.18510286 | I14: 0.51159737 | J14: 2567.569 | K14: 1819.841 | L14: 0.41087546
B15: Attributable Comprehensive income | C15: 935.309 | D15: 874.524 | E15: 475.344 | F15: 744.806 | G15: 472.588 | H15: 0.069506383 | I15: 0.97912135 | J15: 3029.982 | K15: 1878.429 | L15: 0.61304047
B16: Earnings per Share (AR$) | C16: 1.55 | D16: 2.01 | E16: 0.59273433 | F16: 1.5822947 | G16: 1.02388
B17: Earnings per ADRs (AR$) | C17: 7.75 | D17: 10.03 | E17: 2.9636717 | F17: 7.9114736 | G17: 5.1194
B18: Average Outstanding Shares (in millions) | C18: 456.7 | D18: 456.7 | E18: 456.7 | F18: 456.7 | G18: 456.7
B19: BALANCE SHEET | C19: dec 18 | D19: sep 18 | E19: jun 18 | F19: mar 18 | G19: dec 17 | H19: QoQ | I19: YoY | J19: dec 18 | K19: dec 17
B20: Total Assets | C20: 141115.54 | D20: 146122.7 | E20: 120788.98 | F20: 96569.645 | G20: 92202.409 | H20: -0.034266838 | I20: 0.53049733
B21: Average Assets1 | C21: 143525.21 | D21: 128633.21 | E21: 104287.2 | F21: 90832.734 | G21: 85498.858 | H21: 0.11577107 | I21: 0.67867985 | J21: 117967.93 | K21: 70857.809
B22: Total Loans & Leasing | C22: 80171.534 | D22: 83378.091 | E22: 75829.981 | F22: 66479.513 | G22: 60692.941 | H22: -0.038458029 | I22: 0.32093671
B23: Total Deposits | C23: 94906.014 | D23: 97185.461 | E23: 75672.65 | F23: 55540.247 | G23: 56408.685 | H23: -0.023454609 | I23: 0.68247166
B24: Attributable Shareholders’ Equity | C24: 17155.555 | D24: 16219.951 | E24: 15345.427 | F24: 15114.224 | G24: 14369.575 | H24: 0.057682295 | I24: 0.19388047
B25: Average Attributable Shareholders’ Equity1 | C25: 16547.001 | D25: 15638.925 | E25: 15044.762 | F25: 14490.099 | G25: 14188.717 | H25: 0.05806514 | I25: 0.16620838 | J25: 15530.025 | K25: 9844.854
B26: KEY INDICATORS | C26: 4Q18 | D26: 3Q18 | E26: 2Q18 | F26: 1Q18 | G26: 4Q17 | J26: FY18 | K26: FY17
B27: Profitability & Efficiency
B28: ROAE | C28: 0.22609753 | D28: 0.2240177 | E28: 0.12638126 | F28: 0.20560383 | G28: 0.13322952 | J28: 0.19510478 | K28: 0.19080324
B29: ROAA | C29: 0.026066752 | D29: 0.027235518 | E29: 0.018232112 | F29: 0.032798969 | G29: 0.022109722 | J29: 0.025684794 | K29: 0.026509851
B30: Net Interest Margin | C30: 0.18458142 | D30: 0.20928592 | E30: 0.19202613 | F30: 0.19607891 | G30: 0.19985947 | J30: 0.19402491 | K30: 0.20123897
B31: Net Financial Margin | C31: 0.20272639 | D31: 0.1819036 | E31: 0.1744194 | F31: 0.1994965 | G31: 0.19956194 | J31: 0.18704497 | K31: 0.20496635
B32: Net Fee Income Ratio | C32: 0.19150921 | D32: 0.21432146 | E32: 0.24250667 | F32: 0.22296045 | G32: 0.22841642 | J32: 0.21554898 | K32: 0.25568919
B33: Cost / Assets | C33: 0.10348646 | D33: 0.097426756 | E33: 0.10882164 | F33: 0.11074889 | G33: 0.12629235 | J33: 0.10340429 | K33: 0.12735876
B34: Efficiency Ratio | C34: 0.618891 | D34: 0.59303047 | E34: 0.66251621 | F34: 0.59014835 | G34: 0.68223094 | J34: 0.61524491 | K34: 0.67023156
B35: Liquidity & Capital
B36: Loans to Total Deposits3 | C36: 0.84474661 | D36: 0.858 | E36: 1.002 | F36: 1.196961 | G36: 1.0759503
B37: Liquidity Coverage Ratio (LCR)4 | C37: 1.734 | D37: 1.3208 | E37: 1.3895 | F37: 1.1693 | G37: 1.1386
B38: Total Equity / Total Assets | C38: 0.12157098 | D38: 0.11100225 | E38: 0.12704327 | F38: 0.15651114 | G38: 0.15584815
B39: Proforma Consolidated Capital / Risk weighted assets 5 | C39: 0.14 | D39: 0.138 | E39: 0.145 | F39: 0.1695 | G39: 0.196
B40: Proforma Consolidated Tier1 Capital / Risk weighted assets 6 | C40: 0.129 | D40: 0.125 | E40: 0.131 | F40: 0.158 | G40: 0.172
B41: Risk Weighted Assets / Total Assets | C41: 0.73004394 | D41: 0.7051402 | E41: 0.78839504 | F41: 0.88118972 | G41: 0.81669658
B42: Asset Quality
B43: NPL Ratio | C43: 0.040693499 | D43: 0.036778021 | E43: 0.036460666 | F43: 0.031683258 | G43: 0.031081668
...

Sheet INFO BS
B3: (In millions of Argentine Ps.) | H3: % Change
B5: INCOME STATEMENT | C5: 1Q18 | D5: 4Q17 | E5: 3Q17 | F5: 2Q17 | G5: 1Q17 | H5: QoQ | I5: YoY
B6: Interest Income, Net | H6: =+C6/D6-1 -> #DIV/0! | I6: =+C6/G6-1 -> #DIV/0!
B7: Service Fee Income, Net | H7: =+C7/D7-1 -> #DIV/0! | I7: =+C7/G7-1 -> #DIV/0!
B8: Loan Loss Provisions | H8: =+C8/D8-1 -> #DIV/0! | I8: =+C8/G8-1 -> #DIV/0!
B9: Administrative expenses | H9: =+C9/D9-1 -> #DIV/0! | I9: =+C9/G9-1 -> #DIV/0!
B10: Income before Income Tax | H10: =+C10/D10-1 -> #DIV/0! | I10: =+C10/G10-1 -> #DIV/0!
B11: Net Income | H11: =+C11/D11-1 -> #DIV/0! | I11: =+C11/G11-1 -> #DIV/0!
B12: BALANCE SHEET | C12: mar 18 | D12: dec 17 | E12: sep 17 | F12: jun 17 | G12: mar 17 | H12: QoQ | I12: YoY
B13: Total Assets | H13: =+C13/D13-1 -> #DIV/0! | I13: =+C13/G13-1 -> #DIV/0!
B14: Average Assets | H14: =+C14/D14-1 -> #DIV/0! | I14: =+C14/G14-1 -> #DIV/0!
B15: Total Loans & Leasing (before Allowances) | H15: =+C15/D15-1 -> #DIV/0! | I15: =+C15/G15-1 -> #DIV/0!
B16: Securitized Loan Portfolio (before Allowances) | H16: =+C16/D16-1 -> #DIV/0! | I16: =+C16/G16-1 -> #DIV/0!
B17: Total Portfolio | H17: =+C17/D17-1 -> #DIV/0! | I17: =+C17/G17-1 -> #DIV/0!
B18: Total Deposits | H18: =+C18/D18-1 -> #DIV/0! | I18: =+C18/G18-1 -> #DIV/0!
B19: Shareholders’ Equity | H19: =+C19/D19-1 -> #DIV/0! | I19: =+C19/G19-1 -> #DIV/0!
B20: Average Shareholders’ Equity | H20: =+C20/D20-1 -> #DIV/0! | I20: =+C20/G20-1 -> #DIV/0!
B21: KEY INDICATORS | C21: =+C5 -> 1Q18 | D21: =+D5 -> 4Q17 | E21: =+E5 -> 3Q17 | F21: =+F5 -> 2Q17 | G21: =+G5 -> 1Q17
B22: Profitability & Efficiency
B23: ROAE
B24: ROAA
B25: Net Interest Margin
B26: Net Financial Margin
B27: Net Fee Income Ratio
B28: Net Fee Income as a % of Administrative expenses
B29: Efficiency Ratio
B30: Liquidity & Capital
B31: Loans to Total Deposits
B32: Liquidity Coverage Ratio (LCR)
B33: Total Equity / Total Assets
... B42: (1) Total Portfolio: Loans and Leasing before Allowances, Including Securitized Portfolio.

Sheet Key Drivers Balance Sheet
H3: % Change
B5: LOANS | C5: dec 18 | D5: sep 18 | E5: jun 18 | F5: mar 18 | G5: dec 17 | H5: QoQ | I5: YoY
B6: Currency
B7: AR$ Loans (in AR$) | C7: 59040.616 | D7: 58413.746 | E7: 56122.03 | F7: 52337.129 | G7: 48385.339 | H7: 0.010731549 | I7: 0.22021705
B8: as % of Total Loans | C8: 0.73642867 | D8: 0.70058867 | E8: 0.74010344 | F8: 0.78726703 | G8: 0.79721527
B9: Foreign Currency Loans (in u$S) | C9: 558.89627 | D9: 610.42444 | E9: 682.84096 | F9: 702.20377 | G9: 655.55933 | H9: -0.084413661 | I9: -0.14745127
B10: Atomization
B11: Top 10 | C11: 0.129 | D11: 0.121 | E11: 0.097 | F11: 0.088 | G11: 0.095
B12: Top 20 | C12: 0.179 | D12: 0.176 | E12: 0.14 | F12: 0.124 | G12: 0.132
B13: Top 50 | C13: 0.263 | D13: 0.26 | E13: 0.218 | F13: 0.192 | G13: 0.204
B14: Collateralized Loans
B15: SMEs | C15: 0.48 | D15: 0.45 | E15: 0.49 | F15: 0.526 | G15: 0.555
B16: Middle Market | C16: 0.55 | D16: 0.53 | E16: 0.49 | F16: 0.469 | G16: 0.518
B17: Large | C17: 0.3 | D17: 0.21 | E17: 0.14 | F17: 0.131 | G17: 0.159
B18: Average Interest on loans
B19: AR$ Loans | C19: 0.53391899 | D19: 0.42869381 | E19: 0.37685926 | F19: 0.35179823 | G19: 0.35707509
B20: Foreign Trade & Fx | C20: 0.073335974 | D20: 0.059135858 | E20: 0.056030444 | F20: 0.049850863 | G20: 0.049243947
B21: INVESTMENT PORTFOLIO | C21: dec 18 | D21: sep 18 | E21: jun 18 | F21: mar 18 | G21: dec 17 | H21: QoQ | I21: YoY
B22: Securities Issued by the Central Bank | C22: 11305.324 | D22: 12322.464 | E22: 14551.261 | F22: 9087.589 | G22: 9970.495 | H22: -0.082543591 | I22: 0.13387791
B23: Government Securities AR$ | C23: 8012.7567 | D23: 7120.6462 | E23: 2140.7491 | F23: 1773.443 | G23: 1674.463 | H23: 0.12528504 | I23: 3.7852695
B24: Corporate Securities (in AR$) | C24: 115.53287 | D24: 213.92858 | E24: 172.305 | F24: 198.066 | G24: 164.444 | H24: -0.45994654 | I24: -0.29743337
B25: Funding | C25: dec 18 | D25: sep 18 | E25: jun 18 | F25: mar 18 | G25: dec 17
B26: Deposits
B27: AR$Deposits (in AR$) | C27: 63586.52 | D27: 64932.253 | E27: 53550.924 | F27: 40875.047 | G27: 42322.941 | H27: -0.020725186 | I27: 0.5024126
B28: as % of Total Deposits | C28: 0.66999463 | D28: 0.66812723 | E28: 0.7076655 | F28: 0.73595364 | G28: 0.75029122
B29: Foreign Currency Deposits (in u$S) | C29: 828.37615 | D29: 788.65062 | E29: 766.47342 | F29: 728.16286 | G29: 750.27133 | H29: 0.050371514 | I29: 0.1041021
B30: Cost of Funds | C30: 0.22785488 | D30: 0.17020155 | E30: 0.14095946 | F30: 0.10865256 | G30: 0.10323829
B31: AR$ | C31: 0.33768182 | D31: 0.248 | E31: 0.187 | F31: 0.146 | G31: 0.13370364
B32: U$S | C32: 0.01476081 | D32: 0.015 | E32: 0.011 | F32: 0.0090324917 | G32: 0.010744776
B33: Assets & Liabilities Repricing | C33: dec 18 | D33: sep 18 | E33: jun 18 | F33: mar 18 | G33: dec 17
B34: Loans
B35: AR$ Loans. Avg. Repricing (Days) | C35: 235 | D35: 244 | E35: 243 | F35: 234.44187
B36: % of AR$ Assets | C36: 0.54 | D36: 0.53 | E36: 0.5858172 | F36: 0.63017824
B37: U$S Loans. Avg. Repricing (Days) | C37: 364 | D37: 363 | E37: 342 | F37: 421.39567
B38: % of U$S Assets | C38: 0.46 | D38: 0.52 | E38: 0.5929353 | F38: 0.63833599
B39: Total AR$ Assets. Avg. Repricing (Days) | C39: 185 | D39: 198 | E39: 200 | F39: 186.37396
B40: % of Total Assets | C40: 0.7 | D40: 0.69 | E40: 0.741 | F40: 0.781
B41: Total U$S Assets. Avg. Repricing (Days) | C41: 273 | D41: 304 | E41: 289 | F41: 457.71311
B42: % of Total Assets | C42: 0.3 | D42: 0.31 | E42: 0.259 | F42: 0.219
B43: Deposits
...

Sheet Cons. Income St
B2: Income Statement | H2: % Change
B3: (In millions of Argentine Ps.) | C3: 4Q18 | D3: 3Q18 | E3: 2Q18 | F3: 1Q18 | G3: 4Q17 | H3: QoQ | I3: YoY
B4: Argentine Banking GAAP:
B5: Interest income | C5: 8394.78 | D5: 6835.949 | E5: 5568.929 | F5: 4616.81 | G5: 4110.283 | H5: 0.22803432 | I5: 1.0423849
B6: Interest expenses | C6: -6371.63 | D6: -4113.071 | E6: -2670.694 | F6: -1798.705 | G6: -1557.599 | H6: 0.54911744 | I6: 3.0906742
B7: Net interest income | C7: 2023.15 | D7: 2722.878 | E7: 2898.235 | F7: 2818.105 | G7: 2552.684 | H7: -0.25698103 | I7: -0.20744205
B8: Net income from financial instruments at fair value through profit or loss | C8: 2700.149 | D8: 2737.411 | E8: -509.279 | F8: 656.522 | G8: 691.271 | H8: -0.013612132 | I8: 2.9060643
B9: Gain / Loss from derecognition of financial instruments at amortized cost | D9: 0 | E9: 0 | F9: 0 | G9: 0 | H9: #DIV/0! | I9: -
B10: Exchange rate differences on gold and foreign currency | C10: 534.813 | D10: -1074.05 | E10: 1226.062 | F10: 148.933 | G10: 116.157 | H10: NA | I10: 3.6042253
B11: NIFFI & Exchange Rate Differences | C11: 3234.962 | D11: 1663.361 | E11: 716.783 | F11: 805.455 | G11: 807.428 | H11: 0.94483458 | I11: 3.0065021
B12: Net Financial Income | C12: 5258.112 | D12: 4386.239 | E12: 3615.018 | F12: 3623.56 | G12: 3360.112 | H12: 0.19877462 | I12: 0.56486212
B13: Fee income | C13: 1387.82 | D13: 1319.0306 | E13: 1262.4163 | F13: 1152.7231 | G13: 1026.806 | H13: 0.052151494 | I13: 0.3515893
B14: Fee expenses | C14: -322.747 | D14: -292.18 | E14: -257.467 | F14: -268.112 | G14: -243.109 | H14: 0.10461702 | I14: 0.32758146
B15: Income from insurance activities | C15: 180.429 | D15: 183.096 | E15: 145.282 | F15: 148.747 | G15: 148.25 | H15: -0.014566129 | I15: 0.21705902
B16: Net Service Fee Income | C16: 1245.502 | D16: 1209.9466 | E16: 1150.2313 | F16: 1033.3581 | G16: 931.947 | H16: 0.029385939 | I16: 0.33645154
B17: Other operating income | C17: 539.39 | D17: 553.09142 | E17: 442.32468 | F17: 317.4999 | G17: 410.212 | H17: -0.024772426 | I17: 0.31490546
B18: Loan loss provisions | C18: -1382.765 | D18: -1122.525 | E18: -989.229 | F18: -726.126 | G18: -606.274 | H18: 0.23183448 | I18: 1.2807592
B19: Net Operating Revenue | C19: 5660.239 | D19: 5026.752 | E19: 4218.345 | F19: 4248.292 | G19: 4095.997 | H19: 0.12602313 | I19: 0.3818953
B20: Personnel expenses | C20: -2273.426 | D20: -1865.677 | E20: -1585.226 | F20: -1520.297 | G20: -1605.766 | H20: 0.21855284 | I20: 0.4157891
B21: Administrative expenses | C21: -1317.786 | D21: -1179.568 | E21: -1175.636 | F21: -926.173 | G21: -998.735 | H21: 0.1171768 | I21: 0.31945511
B22: Depreciation & Amortization | C22: -122.017 | D22: -87.834 | E22: -76.314 | F22: -68.436 | G22: -94.962 | H22: 0.38917731 | I22: 0.28490344
... B24: Operating income | C24: 903.817 | D24: 1027.564 | E24: 456.02 | F24: 1020.449 | G24: 651.442 | H24: -0.12042754 | I24: 0.38740978
B25: Profit of Associated companies and Joint ventures | C25: 0 | D25: 0 | E25: 0 | F25: 0 | G25: 0 | H25: - | I25: -
B26: Profit before income tax | C26: 903.817 | D26: 1027.564 | E26: 456.02 | F26: 1020.449 | G26: 651.442 | H26: -0.12042754 | I26: 0.38740978
B27: Income tax expense from continuing operations | C27: 0 | D27: 0 | E27: 0 | F27: 0 | G27: 0 | H27: - | I27: -
B28: Profit from continuing operations | C28: 903.817 | D28: 1027.564 | E28: 456.02 | F28: 1020.449 | G28: 651.442 | H28: -0.12042754 | I28: 0.38740978
B29: Profit/(loss) from discontinued operations | C29: 0 | D29: 0 | E29: 0 | F29: 0 | G29: 0 | H29: - | I29: -
B30: Income tax expense | C30: -220.804 | D30: -155.942 | E30: -155.563 | F30: -282.666 | G30: -176.35 | H30: 0.41593669 | I30: 0.25207825
B31: Net income | C31: 683.013 | D31: 871.622 | E31: 300.457 | F31: 737.783 | G31: 475.093 | H31: -0.21638853 | I31: 0.43764063
B32: Attributable to owners of the parent company | C32: 706.832 | D32: 867.388 | E32: 270.715 | F32: 722.634 | G32: 467.605 | H32: -0.18510286 | I32: 0.5116006
B33: Attributable to non-controlling interests | C33: -23.819 | D33: 4.234 | E33: 29.742 | F33: 15.149 | G33: 7.487 | H33: -6.6256495 | I33: -4.1813811
B34: Other comprehensive income, net of tax | C34: 228.719 | D34: 7.142 | E34: 204.821 | F34: 22.208 | G34: 5.03 | H34: - | I34: -
B35: Comprehensive income | C35: 911.732 | D35: 878.764 | E35: 505.278 | F35: 759.991 | G35: 480.123 | H35: 0.03751633 | I35: 0.89895506
B36: Attributable to owners of the parent company | C36: 935.309 | D36: 874.524 | E36: 475.344 | F36: 744.806 | G36: 472.588 | H36: 0.069506383 | I36: 0.97912135
B37: Attributable to non-controlling interests | C37: -23.577 | D37: 4.24 | E37: 29.934 | F37: 15.185 | G37: 7.535 | H37: - | I37: -
B38: ROAE | C38: 0.226 | D38: 0.224 | E38: 0.126 | F38: 0.206 | G38: 0.133
B39: ROAA | C39: 0.026 | D39: 0.027 | E39: 0.018 | F39: 0.033 | G39: 0.022

Sheet Key Indicators Acumulados
A1: Sociedad: | B1: Grupo Supervielle S.A.
A2: Fecha: | B2: 42664
A3: Responsable: | B3: Bibiana Rey
B5: SUPV. – Key Indicators | C5: 1Q18 | D5: 12M17 | E5: 9M17 | F5: 6M17 | G5: 3M17 | H5: 2016 | I5: 9M 2016 | J5: 6M 2016 | K5: 3M 2016 | L5: 2015 | M5: 9M 2015 | N5: 6M 2015 | O5: 3M 2015 | P5: 2014 | Q5: 2013 | R5: 2012 | S5: 2011
B8: Profitability & Efficiency
B9: ROAE | C9: =+'[8]Key Indicators Acumulados'!C10 -> 0.20560383
B10: ROAA | C10: =+'[8]Key Indicators Acumulados'!C11 -> 0.032798969
B11: Net Interest Margin | C11: =+'[8]Key Indicators Acumulados'!C12 -> 0.19607891
B12: NFM | C12: =+'[8]Key Indicators Acumulados'!C13 -> 0.1994965
B13: Net Fee Income Ratio | C13: =+'[8]Key Indicators Acumulados'!C14 -> 0.22296045 | D13: =+'[8]Key Indicators Acumulados'!D14 -> 0.25568919 | E13: =+'[8]Key Indicators Acumulados'!E14 -> 0.26708306 | F13: =+'[8]Key Indicators Acumulados'!F14 -> 0.27565435 | G13: =+'[8]Key Indicators Acumulados'!G14 -> 0.27303058
B14: Net Fee Income as a % of Administrative Expenses | C14: =+'[8]Key Indicators Acumulados'!C15 -> 0.41342659 | D14: =+'[8]Key Indicators Acumulados'!D15 -> 0.41872773 | E14: =+'[8]Key Indicators Acumulados'!E15 -> 0.44017091 | F14: =+'[8]Key Indicators Acumulados'!F15 -> 0.44285412 | G14: =+'[8]Key Indicators Acumulados'!G15 -> 0.42358318
B15: Efficiency Ratio (cost/income) | C15: =+'[8]Key Indicators Acumulados'!C16 -> 0.59014835 | D15: =+'[8]Key Indicators Acumulados'!D16 -> 0.67023156 | E15: =+'[8]Key Indicators Acumulados'!E16 -> 0.66523779 | F15: =+'[8]Key Indicators Acumulados'!F16 -> 0.68217183 | G15: =+'[8]Key Indicators Acumulados'!G16 -> 0.71070951
B16: Cost/assets | C16: =+'[8]Key Indicators Acumulados'!C17 -> 0.11074889
B18: Liquidity & Capital
B19: Loans to Total Deposits | C19: =+'[8]Key Indicators Acumulados'!C20 -> 1.196961 | D19: =+'[8]Key Indicators Acumulados'!D20 -> 1.0759503 | E19: =+'[8]Key Indicators Acumulados'!E20 -> 1.1268455 | F19: =+'[8]Key Indicators Acumulados'!F20 -> 1.0401526 | G19: =+'[8]Key Indicators Acumulados'!G20 -> 1.0600699
B20: Total Equity as a % of Total Assets | C20: =+'[8]Key Indicators Acumulados'!C21 -> 0.68841003 | D20: =+'[8]Key Indicators Acumulados'!D21 -> 0.65825765 | E20: =+'[8]Key Indicators Acumulados'!E21 -> 0.65173495 | F20: =+'[8]Key Indicators Acumulados'!F21 -> 0.63911351 | G20: =+'[8]Key Indicators Acumulados'!G21 -> 0.65157238
B21: Regulatory Capital/ Risk Weighted Assets | C21: =+'[8]Key Indicators Acumulados'!C24 -> 0.11587129 | D21: =+'[8]Key Indicators Acumulados'!D24 -> 0.13851222 | E21: =+'[8]Key Indicators Acumulados'!E24 -> 0.11041494 | F21: =+'[8]Key Indicators Acumulados'!F24 -> 0.11740357 | G21: =+'[8]Key Indicators Acumulados'!G24 -> 0.12265044
B22: Tier 1 Capital / Credit risk weighted assets | C22: =+'[8]Key Indicators Acumulados'!C25 -> 0.13501816 | D22: =+'[8]Key Indicators Acumulados'!D25 -> 0.15617027 | E22: =+'[8]Key Indicators Acumulados'!E25 -> 0.12055787 | F22: =+'[8]Key Indicators Acumulados'!F25 -> 0.12839192 | G22: =+'[8]Key Indicators Acumulados'!G25 -> 0.1348979
B23: Tier 1 Capital / Risk weighted assets | C23: =+'[8]Key Indicators Acumulados'!C26 -> 0.10420772 | D23: =+'[8]Key Indicators Acumulados'!D26 -> 0.12638421 | E23: =+'[8]Key Indicators Acumulados'!E26 -> 0.097543678 | F23: =+'[8]Key Indicators Acumulados'!F26 -> 0.10337749 | G23: =+'[8]Key Indicators Acumulados'!G26 -> 0.10812692
B24: Tier1 Proforma | C24: =+'[8]Key Indicators Acumulados'!C27 -> 0.158 | D24: =+'[8]Key Indicators Acumulados'!D27 -> 0.1838 | E24: =+'[8]Key Indicators Acumulados'!E27 -> 0.1946 | F24: =+'[8]Key Indicators Acumulados'!F27 -> 0.1164 | G24: =+'[8]Key Indicators Acumulados'!G27 -> 0.1199
B25: Total Capital Proforma
B26: LCR Proforma | C26: =+'[8]Key Indicators Acumulados'!C28 -> 1.169 | D26: =+'[8]Key Indicators Acumulados'!D28 -> 1.1386 | E26: =+'[8]Key Indicators Acumulados'!E28 -> 1.2256 | F26: =+'[8]Key Indicators Acumulados'!F28 -> 1.2649 | G26: =+'[8]Key Indicators Acumulados'!G28 -> 1.2594
B27: LCR BS Consolidado | C27: =+'[8]Key Indicators Acumulados'!C29 -> 1.148 | D27: =+'[8]Key Indicators Acumulados'!D29 -> 1.083 | E27: =+'[8]Key Indicators Acumulados'!E29 -> 0.9466 | F27: =+'[8]Key Indicators Acumulados'!F29 -> 1.2117 | G27: =+'[8]Key Indicators Acumulados'!G29 -> 1.216
B28: RWA/Total Assets | C28: =+'[8]Key Indicators Acumulados'!C30 -> 0.88118972 | D28: =+'[8]Key Indicators Acumulados'!D30 -> 0.81669658 | E28: =+'[8]Key Indicators Acumulados'!E30 -> 0.82459248 | F28: =+'[8]Key Indicators Acumulados'!F30 -> 0.85012022 | G28: =+'[8]Key Indicators Acumulados'!G30 -> 0.84766531
B30: Asset Quality
B31: NPL as a percentage of Total Loans | C31: =+'[8]Key Indicators Acumulados'!C32 -> 0.031683258 | D31: =+'[8]Key Indicators Acumulados'!D32 -> 0.031081668 | E31: =+'[8]Key Indicators Acumulados'!E32 -> 0.031079122 | F31: =+'[8]Key Indicators Acumulados'!F32 -> 0.030278082 | G31: =+'[8]Key Indicators Acumulados'!G32 -> 0.030638382
B32: Allowances as a % of Total Loans | C32: =+'[8]Key Indicators Acumulados'!C33 -> 0.028415372 | D32: =+'[8]Key Indicators Acumulados'!D33 -> 0.026113179 | E32: =+'[8]Key Indicators Acumulados'!E33 -> 0.025246711 | F32: =+'[8]Key Indicators Acumulados'!F33 -> 0.025548832 | G32: =+'[8]Key Indicators Acumulados'!G33 -> 0.025293229
B33: Cost of risk | C33: =+'[8]Key Indicators Acumulados'!$C$34 -> 0.046813625
B34: Coverage Ratio | C34: =+'[8]Key Indicators Acumulados'!C36 -> 0.89685764 | D34: =+'[8]Key Indicators Acumulados'!D36 -> 0.87960893 | E34: =+'[8]Key Indicators Acumulados'!E36 -> 0.85165301 | F34: =+'[8]Key Indicators Acumulados'!F36 -> 0.85860634 | G34: =+'[8]Key Indicators Acumulados'!G36 -> 0.85161963
B36: NIM full measured

Sheet Net Financial Income
B2: Net Financial Income | C2: 4Q18 | D2: 3Q18 | E2: 2Q18 | F2: 1Q18 | G2: 4Q17 | H2: QoQ | I2: YoY
B3: Net Interest Income | C3: 2023.15 | D3: 2722.878 | E3: 2898.235 | F3: 2818.105 | G3: 2552.684 | H3: -0.25698103 | I3: -0.20744205
B4: NIFFI & Exchange rate differences | C4: 3234.962 | D4: 1663.361 | E4: 716.783 | F4: 805.455 | G4: 807.428 | H4: 0.94483458 | I4: 3.0065021
B5: Net Financial Income | C5: 5258.112 | D5: 4386.239 | E5: 3615.018 | F5: 3623.56 | G5: 3360.112 | H5: 0.19877462 | I5: 0.56486212
B8: Interest Income | H8: % Change
B9: (In millions of Argentine Ps.) | C9: 4Q18 | D9: 3Q18 | E9: 2Q18 | F9: 1Q18 | G9: 4Q17 | H9: QoQ | I9: YoY
B10: Interest on/from:
B11: - Cash and Due from banks | C11: 1.8944578 | D11: 2.7895741 | E11: 2.6123966 | F11: 0.00031239 | G11: 3.595e-05 | H11: -0.32087919 | I11: -
B12: - Loans to the financial sector | C12: 30.694 | D12: 84.088 | E12: 40.169 | F12: 34.844 | G12: 21.511 | H12: -0.63497764 | I12: 0.42689787
B13: - Overdrafts | C13: 1082.14 | D13: 741.588 | E13: 520.236 | F13: 413.301 | G13: 379.313 | H13: 0.45921994 | I13: 1.8528946
B14: - Promissory notes | C14: 1152.857 | D14: 884.721 | E14: 754.261 | F14: 635.04 | G14: 575.043 | H14: 0.30307408 | I14: 1.0048188
B15: - Mortgage loans | C15: 807.096 | D15: 466.77 | E15: 286.258 | F15: 152.744 | G15: 67.483 | H15: 0.72910855 | I15: 10.95999
B16: - Automobile and other secured loans | C16: 93.050929 | D16: 117.19403 | E16: 163.30178 | F16: 19.566 | G16: 13.409 | H16: -0.20600966 | I16: 5.9394383
B17: - Personal loans | C17: 2387.3496 | D17: 2255.9553 | E17: 2226.6159 | F17: 2072.1393 | G17: 1885.8142 | H17: 0.058243322 | I17: 0.26595164
B18: - Corporate unsecured loans | C18: 1052.851 | D18: 653.804 | E18: 436.522 | F18: 394.236 | G18: 332.338 | H18: 0.61034653 | I18: 2.1680127
B19: - Credit cards loans | C19: 939.22756 | D19: 696.193 | E19: 618.79287 | F19: 576.78508 | G19: 562.65087 | H19: 0.34909078 | I19: 0.66929015
B20: - Foreign trade loans & US loans | C20: 353.942 | D20: 274.978 | E20: 204.343 | F20: 151.684 | G20: 117.705 | H20: 0.28716479 | I20: 2.007026
B21: - Leases | C21: 247.693 | D21: 203.856 | E21: 164.566 | F21: 149.045 | G21: 135.578 | H21: 0.21503905 | I21: 0.82694095
B22: - Other receivables from financial transactions | C22: 0 | D22: 0 | E22: 0 | F22: 0 | G22: 6.1533295 | H22: - | I22: -
B23: - Other | C23: 245.9848 | D23: 454.01232 | E23: 151.25097 | F23: 17.425 | G23: 13.284 | H23: -0.45819796 | I23: NA
B24: Total | C24: 8394.7803 | D24: 6835.9492 | E24: 5568.929 | F24: 4616.8097 | G24: 4110.2824 | H24: 0.22803434 | I24: 1.0423853
B26: Interest Expenses | H26: % Change
B27: (In millions of Argentine Ps.) | C27: 4Q18 | D27: 3Q18 | E27: 2Q18 | F27: 1Q18 | G27: 4Q17 | H27: QoQ | I27: YoY
B28: Interest on:
B29: - Checking and Savings Accounts | C29: 15.066 | D29: 8.8790636 | E29: 5.9727413 | F29: 5.412 | G29: 1.1210772 | H29: 0.69680055 | I29: 12.43886
B30: - Special Checking Accounts | C30: 2277.699 | D30: 1450.189 | E30: 592.606 | F30: 199.606 | G30: 306.495 | H30: 0.57062217 | I30: 6.4314393
B31: - Time Deposits | C31: 2493.325 | D31: 1476.172 | E31: 910.483 | F31: 714.509 | G31: 577.178 | H31: 0.68904775 | I31: 3.3198545
B32: - Other Liabilities from Financial Transactions | C32: 1227.8665 | D32: 989.27004 | E32: 983.67022 | F32: 758.79753 | G32: 536.62991 | H32: 0.2411844 | I32: 1.2881068
B33: - Financing from the Financial Sector | C33: 294.99979 | D33: 140.91045 | E33: 107.46646 | F33: 56.145402 | G33: 59.631313 | H33: 1.0935267 | I33: 3.9470619
B34: - Subordinated Loans and Negotiable Obligations | C34: 23.658 | D34: 20.622 | E34: 15.719 | F34: 12.529 | G34: 23.317 | H34: 0.14722141 | I34: 0.014624523
B35: - Other | C35: 39.016 | D35: 27.028 | E35: 54.777 | F35: 51.706 | G35: 53.226 | H35: 0.44354003 | I35: -0.26697479
B36: Total | C36: 6371.6303 | D36: 4113.0706 | E36: 2670.6944 | F36: 1798.7049 | G36: 1557.5983 | H36: 0.54911768 | I36: 3.0906762
B39: NIFFI & Exchange rate differences on gold and foreign currency | H39: % Change
B40: (In millions of Argentine Ps.) | C40: 4Q18 | D40: 3Q18 | E40: 2Q18 | F40: 1Q18 | G40: 4Q17 | H40: QoQ | I40: YoY
B41: Income from:
B42: - Government and corporate securities | C42: 318.53804 | D42: 704.7969 | E42: 554.58643 | F42: 303.79757 | G42: 230.69667 | H42: -0.54804279 | I42: 0.38076571
B43: - Funding from Government and Corporate Securities | C43: 0 | D43: 0 | E43: 0 | F43: 0 | G43: 7.5680141 | H43: - | I43: -
B44: - Term Operations | C44: -20.523 | D44: 400.856 | E44: -1557.3301 | F44: -74.243 | G44: 1.795 | H44: - | I44: -
B45: - Participation in our securitization trusts | C45: 0 | D45: 0 | E45: 0 | F45: 0 | G45: 6.05 | H45: - | I45: -
B46: - Securities issued by the Central Bank | C46: 2402.1332 | D46: 1631.7582 | E46: 493.46479 | F46: 426.96753 | G46: 445.16098 | H46: 0.47211342 | I46: 4.3961001
...

Sheet NIM & NFM
B2: NIM Analysis | C2: 4Q18 | D2: 3Q18 | E2: 2Q18 | F2: 1Q18 | G2: 4Q17 | H2: QoQ (bps) | I2: YoY (bps)
B3: Total NIM | C3: 0.18458142 | D3: 0.20928592 | E3: 0.19202613 | F3: 0.19607891 | G3: 0.19985947 | H3: -247.04498 | I3: -152.78048
B4: AR$ NIM | C4: 0.24080266 | D4: 0.21589049 | E4: 0.20384324 | F4: 0.2270524 | G4: 0.22920835 | H4: 249.12179 | I4: 115.94315
B5: U$S NIM | C5: 0.0095225861 | D5: 0.18849376 | E5: 0.14913089 | F5: 0.084223717 | G5: 0.071334553 | H5: -1789.7117 | I5: -618.11967
B6: Loan Portfolio | C6: 0.17785224 | D6: 0.16562628 | E6: 0.18218275 | F6: 0.19818515 | G6: 0.21030706 | H6: 122.25959 | I6: -324.5482
B7: AR$ NIM | C7: 0.22549484 | D7: 0.21308001 | E7: 0.22330387 | F7: 0.24275899 | G7: 0.25342262 | H7: 124.14833 | I7: -279.27779
B8: U$S NIM | C8: 0.049158317 | D8: 0.03907389 | E8: 0.043615623 | F8: 0.039003695 | G8: 0.035041309 | H8: 100.84428 | I8: 141.17008
B9: Investment Portfolio | C9: 0.20534054 | D9: 0.36872832 | E9: 0.25122696 | F9: 0.18375491 | G9: 0.15269574 | H9: -1633.8778 | I9: 526.44802
B10: AR$ NIM | C10: 0.28209479 | D10: 0.22501986 | E10: 0.10148513 | F10: 0.13547026 | G10: 0.12576303 | H10: 570.74931 | I10: 1563.3176
B11: U$S NIM | C11: -0.20048405 | D11: 1.3516446 | E11: 1.165475 | F11: 0.35924752 | G11: 0.28013206 | H11: - | I11: -
B12: NFM - Net Financial Margin | C12: 4Q18 | D12: 3Q18 | E12: 2Q18 | F12: 1Q18 | G12: 4Q17 | H12: QoQ (bps) | I12: YoY (bps)
B13: Total NFM | C13: 0.2027264 | D13: 0.18190362 | E13: 0.174 | F13: 0.1994965 | G13: 0.2 | H13: 208.22776 | I13: 27.263957
B14: AR$ NFM | C14: 0.23857855 | D14: 0.21659677 | E14: 0.193 | F14: 0.226165 | G14: 0.21 | H14: 219.81777 | I14: 285.78545
B15: U$S NFM | C15: 0.091091807 | D15: 0.072684423 | E15: 0.108 | F15: 0.10318614 | G15: 0.152 | H15: 184.07384 | I15: -609.08193
B17: Average Assets | C17: 4Q18 | D17: 3Q18 | E17: 2Q18 | F17: 1Q18 | G17: 4Q17 | H17: QoQ (bps) | I17: YoY (bps)
B18: Total Interest Earning Assets (IEA) | C18: 1 | D18: 1 | E18: 1 | F18: 1 | G18: 1
B19: AR$ (as % of IEA) | C19: 0.75691272 | D19: 0.759 | E19: 0.7840139 | F19: 0.78314547 | G19: 0.8140991 | H19: -20.872758 | I19: -571.86375
B20: U$S (as % of IEA) | C20: 0.24308728 | D20: 0.241 | E20: 0.2159861 | F20: 0.21685453 | G20: 0.1859009 | H20: 20.872758 | I20: 571.86375
B21: Loan Portfolio (as % of IEA) | C21: 0.75687427 | D21: 0.783 | E21: 0.854 | F21: 0.855 | G21: 0.81699349 | H21: -261.25732 | I21: -601.19222
B22: AR$ (as % of Loan Portfolio) | C22: 0.72981999 | D22: 0.727 | E22: 0.77115296 | F22: 0.784 | G22: 0.80615202 | H22: 28.1999 | I22: -763.32028
B23: U$S (as % of Loan Portfolio) | C23: 0.27018001 | D23: 0.273 | E23: 0.22884704 | F23: 0.216 | G23: 0.19384798 | H23: -28.1999 | I23: 763.32028
B24: Investment Portfolio (as % of IEA) | C24: 0.24265912 | D24: 0.215 | E24: 0.145 | F24: 0.142 | G24: 0.17838985 | H24: 276.59121 | I24: 642.6927
B25: AR$ (as % of Investment Portfolio) | C25: 0.84094981 | D25: 0.872 | E25: 0.861 | F25: 0.786 | G25: 0.84568426 | H25: -310.50187 | I25: -47.344469
B26: U$S (as % of Investment Portfolio) | C26: 0.15905019 | D26: 0.128 | E26: 0.139 | F26: 0.214 | G26: 0.15431574 | H26: 310.50187 | I26: 47.344469
B27: Average Liabilities | C27: 4Q18 | D27: 3Q18 | E27: 2Q18 | F27: 1Q18 | G27: 4Q17 | H27: QoQ (bps) | I27: YoY (bps)
B28: Total Interest Bearing Deposits & Low & Non-Interest Bearing Deposits | C28: 1 | D28: 1 | E28: 1 | F28: 1 | G28: 1 | H28: -1.110223e-12 | I28: -1.110223e-12
B29: AR$ | C29: 0.65989533 | D29: 0.667 | E29: 0.73787269 | F29: 0.73308317 | G29: 0.75163796 | H29: -71.046666 | I29: -917.42627
B30: U$S | C30: 0.34010467 | D30: 0.333 | E30: 0.26212731 | F30: 0.26691683 | G30: 0.24836204 | H30: 71.046666 | I30: 917.42627
B31: Total Interest‑Bearing Liabilities | C31: 0.6609657 | D31: 0.645 | E31: 0.59511577 | F31: 0.55493944 | G31: 0.5594801 | H31: 159.65699 | I31: 1014.856
B32: AR$ | C32: 0.73458209 | D32: 0.739 | E32: 0.82981034 | F32: 0.80810382 | G32: 0.81364988 | H32: -44.179113 | I32: -790.67788
B33: U$S | C33: 0.26541791 | D33: 0.261 | E33: 0.17018966 | F33: 0.19189618 | G33: 0.18635012 | H33: 44.179113 | I33: 790.67788
B34: Low & Non Interest Bearing Deposits | C34: 0.3390343 | D34: 0.355 | E34: 0.40488423 | F34: 0.44506056 | G34: 0.4405199 | H34: -159.65699 | I34: -1014.856
B35: AR$ | C35: 0.51428947 | D35: 0.536 | E35: 0.60287932 | F35: 0.63954103 | G35: 0.67288003 | H35: -217.10534 | I35: -1585.9057
B36: U$S | C36: 0.48571053 | D36: 0.464 | E36: 0.39712068 | F36: 0.36045897 | G36: 0.32711997 | H36: 217.10534 | I36: 1585.9057
B38: Interest Rates | C38: 4Q18 | D38: 3Q18 | E38: 2Q18 | F38: 1Q18 | G38: 4Q17 | H38: QoQ (bps) | I38: YoY (bps)
B39: Interest earned on Loans | C39: 0.42068425 | D39: 0.3377181 | E39: 0.3090272 | F39: 0.29652378 | G39: 0.30358666 | H39: 829.66151 | I39: 1170.9759
B40: AR$ | C40: 0.54980146 | D40: 0.44160122 | E40: 0.384 | F40: 0.36 | G40: 0.35672196 | H40: 1082.0023 | I40: 1930.7949
B41: U$S | C41: 0.071908214 | D41: 0.060676515 | E41: 0.056 | F41: 0.047 | G41: 0.049 | H41: 112.31699 | I41: 229.08214
B42: Yield on Investment Porfolio | C42: 0.4816845 | D42: 0.5708557 | E42: 0.39 | F42: 0.281 | G42: 0.246 | H42: -891.71197 | I42: 2356.845
B43: AR$ | C43: 0.60640141 | D43: 0.45354108 | E43: 0.26108268 | F43: 0.25719714 | G43: 0.237 | H43: 1528.6033 | I43: 3694.0141
...

Sheet Assets & Liabilities avg life
B2: ASSETS | C2: Dec 18 | E2: 43344 | G2: June 18 | I2: March 18
B3: AR$ | C3: Avg. Repricing (days) | D3: % of total AR$ Assets | E3: Avg. Repricing (days) | F3: % of total AR$ Assets | G3: Avg. Repricing (days) | H3: % of total AR$ Assets | I3: Avg. Repricing (days) | J3: % of total AR$ Assets
B4: Total AR$ Assets | C4: 185 | E4: 198 | G4: 200 | I4: 186.37396
B5: Cash | C5: 5 | D5: 0.11 | E5: 7 | F5: 0.14 | G5: 2 | H5: 0.07
B6: Cash (without interest rate risk) | D6: 0.07 | F6: 0.06 | H6: 0.05 | J6: 0.098623255
B7: Government & Corporate Securities | C7: 154 | D7: 0.15 | E7: 189 | F7: 0.17 | G7: 117.11846 | H7: 0.18256258 | I7: 73.556623 | J7: 0.13419759
B8: Total AR$ Loans | C8: 235 | D8: 0.54 | E8: 244 | F8: 0.53 | G8: 243 | H8: 0.58 | I8: 234.44187 | J8: 0.63017824
B9: Prommisory Notes | C9: 60 | D9: 0.07 | E9: 71 | F9: 0.08 | G9: 50.238017 | H9: 0.09 | I9: 59.981003 | J9: 0.12124302
B10: Corporate Unsecured Loans | C10: 128 | D10: 0.07 | E10: 113 | F10: 0.07 | G10: 135.02978 | H10: 0.075887812 | I10: 139.16737 | J10: 0.085383174
B11: Mortgage | C11: 28 | D11: 0.05 | E11: 28 | F11: 0.05 | G11: 30.611111 | H11: 0.047255453 | I11: 27.916736 | J11: 0.036824996
B12: Personal Loans | C12: 524 | D12: 0.19 | E12: 544 | F12: 0.2 | G12: 538.42996 | H12: 0.21040394 | I12: 530.92081 | J12: 0.2188408
B13: Auto Loans | C13: 444 | D13: 0.01 | E13: 464 | F13: 0.01 | G13: 453.74976 | H13: 0.0070510725 | I13: 356.14422 | J13: 0.0055202125
B14: Credit Cards | C14: 107 | D14: 0.09 | E14: 108 | F14: 0.09 | G14: 113 | H14: 0.10195063 | I14: 87.280995 | J14: 0.10976094
B15: Overdraft | C15: 16 | D15: 0.05 | E15: 14 | F15: 0.06 | G15: 20 | H15: 0.05 | I15: 59.931172 | J15: 0.060973747
B16: Other Loans | C16: 99 | D16: 0.01 | E16: 137 | F16: 0 | G16: 106 | H16: 0.01 | I16: 106.15879 | J16: 0.0060733362
B17: Receivable From Financial Leases | C17: 438 | D17: 0.02 | E17: 458 | F17: 0.03 | G17: 480 | H17: 0.03 | I17: 567.14818 | J17: 0.030902275
B18: Other Assets (without interest rate risk) | D18: 0.06 | F18: 0.04 | H18: 0.05 | J18: 0.048612679
B19: U$S | C19: Avg. Repricing (days) | D19: % of total U$S Assets | E19: Avg. Repricing (days) | F19: % of total U$S Assets | G19: Avg. Repricing (days) | H19: % of total U$S Assets | I19: Avg. Repricing (days) | J19: % of total U$S Assets
B20: Total U$S Assets | C20: 273 | E20: 304 | G20: 289 | I20: 457.71311
B21: Cash | C21: 5 | D21: 0.15 | E21: 3 | F21: 0.14 | G21: 2 | H21: 0.15
B22: Cash (without interest rate risk) | D22: 0.22 | F22: 0.2 | H22: 0.14 | J22: 0.23798919
B23: Government & Corporate Securities | C23: 161 | D23: 0.09 | E23: 425 | F23: 0.05 | G23: 232 | H23: 0.02 | I23: 656.471 | J23: 0.067341692
B24: Total U$S Loans | C24: 364 | D24: 0.46 | E24: 363 | F24: 0.52 | G24: 342 | H24: 0.59 | I24: 421.39567 | J24: 0.63833599
B25: Receivable From Financial Leases | C25: 662 | D25: 0.03 | E25: 695 | F25: 0.03 | G25: 720 | H25: 0.03 | I25: 768.51273 | J25: 0.021999955
B26: Other Assets (without interest rate risk) | D26: 0.03 | F26: 0.04 | H26: 0.06 | J26: 0.039376644
B27: LIABILITIES
B28: AR$ | C28: Avg. Repricing (days) | D28: % of total u$s Liabilities | E28: Avg. Repricing (days) | F28: % of total AR$ Liabilities | G28: Avg. Repricing (days) | H28: % of total AR$ Liabilities | I28: Avg. Repricing (days) | J28: % of total AR$ Liabilities
B29: Total AR$ Liabilities | C29: 43 | E29: 33 | G29: 52 | I29: 44.458895
B30: Deposits | C30: 25 | D30: 0.75 | E30: 16 | F30: 0.78 | G30: 27 | H30: 0.75 | I30: 36.610717 | J30: 0.69363283
B31: Private Sector Deposits | C31: 25 | D31: 0.72 | E31: 16 | F31: 0.74 | G31: 28 | H31: 0.71 | I31: 37.586725 | J31: 0.66073691
B32: Checking Accounts (without interest rate risk) | D32: 0.29 | F32: 0.26 | H32: 0.31 | J32: 0.2971292
B33: Special Checking Accounts | C33: 5 | D33: 0.17 | E33: 3 | F33: 0.27 | G33: 2 | H33: 0.16 | I33: 3 | J33: 0.095799359
B34: Time Deposits | C34: 37 | D34: 0.28 | E34: 33 | F34: 0.21 | G34: 45 | H34: 0.24 | I34: 49.958954 | J34: 0.26780836
B35: Public Sector Deposits | C35: 18 | D35: 0.04 | E35: 11 | F35: 0.04 | G35: 12 | H35: 0.04 | I35: 17.373218 | J35: 0.032057581
B36: Other Sources of funding | C36: 81 | D36: 0.2 | E36: 98 | F36: 0.18 | G36: 101 | H36: 0.21 | I36: 66.338203 | J36: 0.24880831
B37: Other Liabilities (without interest rate risk) | D37: 0.04 | F37: 0.03 | H37: 0.04 | J37: 0.057558856
B38: U$S | C38: Avg. Repricing (days) | D38: % of total u$s Liabilities | E38: Avg. Repricing (days) | F38: % of total u$s Liabilities | G38: Avg. Repricing (days) | H38: % of total u$s Liabilities | I38: Avg. Repricing (days) | J38: % of total u$s Liabilities
B39: Total U$S$ Liabilities | C39: 113 | E39: 126 | G39: 139 | I39: 180.53816
B40: Deposits | C40: 29 | D40: 0.76 | E40: 35 | F40: 0.71 | G40: 32 | H40: 0.71 | I40: 40.032747 | J40: 0.800756
B41: Private Sector Deposits | C41: 29 | D41: 0.57 | E41: 35 | F41: 0.53 | G41: 32 | H41: 0.52 | I41: 40.049724 | J41: 0.57717016
...

Sheet Fx Position
B3: Consolidated Balance Sheet Data | C3: dec 18 | D3: nov 18 | E3: oct 18 | F3: sep 18 | G3: jun 18 | H3: 43160 | I3: 43132 | J3: jan 18
B4: (In millions of US$)
B5: Assets
B6: Cash and due from banks | C6: 432667.84 | D6: 369227.19 | E6: 421725 | F6: 385131 | G6: 326765.08 | H6: 238813.75 | I6: 294603.34 | J6: 204259.07
B7: Secuities at fair value through profit or loss | C7: 102320.85 | D7: 101932.47 | E7: 53328 | F7: 56628.955 | G7: 22457.167 | H7: 69803.981 | I7: 73607.092 | J7: 135207.02
B8: Loans | C8: 521105.71 | D8: 532412.08 | E8: 545151 | F8: 571210.54 | G8: 641893.14 | H8: 668068.43 | I8: 671378.16 | J8: 668351.61
B9: Other Receivables from Financial Intermediation | C9: 3564.8322 | D9: 13367.995 | E9: 4558 | F9: 3658.6681 | G9: 2884.6282 | H9: 3731.1884 | I9: 9118.7076 | J9: 3152.9162
B10: Other Receivable from Financial Leases | C10: 30339.368 | D10: 30958.807 | E10: 31418 | F10: 31567.268 | G10: 32001.38 | H10: 23214.45 | I10: 17584.129 | J10: 16439.513
B11: Other Assets | C11: 29482.319 | D11: 40208.339 | E11: 44237 | F11: 46024.833 | G11: 64429.721 | H11: 45084.821 | I11: 44842.47 | J11: 35981.918
B12: Other non-financial assets | C12: 37.342506 | D12: 345.30487 | E12: 109 | F12: 197.4732 | G12: 547.19988 | H12: 92.611801 | I12: 259.46661 | J12: 72.765112
B13: Total assets | C13: 1119518.3 | D13: 1088452.2 | E13: 1100533 | F13: 1094418.7 | G13: 1090978.3 | H13: 1048809.2 | I13: 1111393.4 | J13: 1063464.8
B14: Liabilities and shareholders’ equity
B15: Deposits | C15: 844995.56 | D15: 802973.17 | E15: 797123 | F15: 797419.71 | G15: 766473.43 | H15: 728043.53 | I15: 733986.75 | J15: 742618.14
B16: Other financial liabilities | C16: 215011.23 | D16: 252662.57 | E16: 260578 | F16: 260997.05 | G16: 237677.95 | H16: 141174.54 | I16: 142935.82 | J16: 132584.43
B17: Other Liabilities | C17: 13616 | D17: 13734.019 | E17: 13025 | F17: 14057.76 | G17: 17284.34 | H17: 5771.8048 | I17: 6037.8001 | J17: 5534.9471
B18: Subordinated Notes | C18: 36601 | D18: 36383 | E18: 36650 | F18: 36439.284 | G18: 36566.302 | H18: 36374.164 | I18: 36157.518 | J18: 36753.791
B19: Total liabilities | C19: 1110223 | D19: 1105752.8 | E19: 1107376 | F19: 1108913.8 | G19: 1058002 | H19: 911364.04 | I19: 919117.89 | J19: 917491.31
B20: Net Position on Balance | C20: 9295 | D20: -17301 | E20: -6843 | F20: -14495.059 | G20: 32976.292 | H20: 137445.19 | I20: 192275.47 | J20: 145973.49
B21: Net Derivatives Position | C21: -19239 | D21: 6674 | E21: -3352 | F21: 7877 | G21: -21872.397 | H21: -211536.97 | I21: -237632.4 | J21: -141089.4
B22: Global Net Position | C22: -9944 | D22: -10627 | E22: -10195 | F22: -6618.0594 | G22: 11103.895 | H22: -74091.777 | I22: -45356.927 | J22: 4884.0952

Sheet Earning Assets
B2: Interest Earning Assets | C2: 4Q18 | E2: 3Q18 | G2: 2Q18 | I2: 1Q18 | K2: 4Q17
B3: (In millions of Argentine Ps.) | C3: Avg. Balance | D3: Avg. Rate | E3: Avg. Balance | F3: Avg. Rate | G3: Avg. Balance | H3: Avg. Rate | I3: Avg. Balance | J3: Avg. Rate | K3: Avg. Balance | L3: Avg. Rate
B4: Investment Portfolio
B5: Government and Corporate Securities1 | C5: 10113.074 | D5: 0.2159001 | E5: 6567.2797 | F5: 0.65878616 | G5: 3721.147 | H5: 0.60770465 | I5: 3778.9939 | J5: 0.31998026 | K5: 4912.7043 | L5: 0.22272887
B6: Securities Issued by the Central Bank 2 | C6: 15062.313 | D6: 0.66013633 | E6: 14183.731 | F6: 0.53014258 | G6: 8354.5814 | H6: 0.29246589 | I6: 6616.711 | J6: 0.25907466 | K6: 7101.8122 | L6: 0.26205617
B7: Total Investment Portfolio | C7: 25175.387 | D7: 0.4816845 | E7: 20751.011 | F7: 0.5708557 | G7: 12075.728 | H7: 0.39 | I7: 10395.705 | J7: 0.28121475 | K7: 12014.516 | L7: 0.24597534
B8: Loans
B9: Loans to the Financial Sector | C9: 619.826 | D9: 0.91807056 | E9: 458.695 | F9: 0.73328028 | G9: 1122.527 | H9: 0.49273826 | I9: 488.411 | J9: 0.285 | K9: 360.074 | L9: 0.23659581
B10: Overdrafts | C10: 5676.951 | D10: 0.76247972 | E10: 4962.373 | F10: 0.59776885 | G10: 5256.528 | H10: 0.39587956 | I10: 4678.813 | J10: 0.35333663 | K10: 4221.898 | L10: 0.35937675
B11: Promissory Notes | C11: 7365.579 | D11: 0.62607814 | E11: 7760.087 | F11: 0.45603664 | G11: 9175.707 | H11: 0.3288078 | I11: 8743.385 | J11: 0.29052364 | K11: 8606.392 | L11: 0.26726322
B12: Mortgage loans | C12: 4961.123 | D12: 0.65073654 | E12: 4226.719 | F12: 0.4417327 | G12: 3223.842 | H12: 0.35517622 | I12: 2066.522 | J12: 0.29565424 | K12: 1101.144 | L12: 0.24513778
B13: Automobile and Other Secured Loans | C13: 1637.3809 | D13: 0.22731652 | E13: 1644.7436 | F13: 0.28501472 | G13: 1137.7556 | H13: 57.4%4 | I13: 345.837 | J13: 0.22630314 | K13: 264.746 | L13: 0.20259418
B14: Retail Banking Personal Loans | C14: 13733.938 | D14: 0.46782295 | E14: 13472.141 | F14: 0.42778919 | G14: 12806.797 | H14: 0.42771275 | I14: 11971.751 | J14: 0.41241238 | K14: 11530.253 | L14: 0.379
B15: Consumer Finance Personal Loans | C15: 5585.2249 | D15: 0.55939504 | E15: 5936.4941 | F15: 0.5492035 | G15: 6057.6063 | H15: 0.56285621 | I15: 5716.3703 | J15: 0.58625642 | K15: 5440.7203 | L15: 0.647
B16: Corporate Unsecured Loans | C16: 7463.214 | D16: 0.56428825 | E16: 6983.35 | F16: 0.37449304 | G16: 6398.479 | H16: 0.2728911 | I16: 6120.522 | J16: 0.25764861 | K16: 4993.021 | L16: 0.26624202
B17: Retail Banking Credit Card Loans | C17: 6184.018 | D17: 0.42811777 | E17: 6019.325 | F17: 0.3230422 | G17: 5710.579 | H17: 0.28573004 | I17: 5386.871 | J17: 0.26992887 | K17: 5010.649 | L17: 0.28152601
B18: Consumer Finance Credit Card Loans | C18: 2510.4687 | D18: 0.44191838 | E18: 2178.2626 | F18: 0.38575514 | G18: 2493.3933 | H18: 0.33828899 | I18: 2449.5362 | J18: 0.34825707 | K18: 1578.4535 | L18: 0.53215091
B19: Receivables from Financial Leases | C19: 3481.2 | D19: 0.28460743 | E19: 3313.226 | F19: 0.24611142 | G19: 2914.467 | H19: 0.22586042 | I19: 2602.964 | J19: 0.22903765 | K19: 2356.005 | L19: 0.23018259
B20: Total Loans excl. Foreign trade and U$S loans3 | C20: 59218.923 | D20: 0.53391899 | E20: 56955.416 | F20: 0.42869381 | G20: 56297.681 | H20: 0.37685926 | I20: 50570.983 | J20: 0.35179823 | K20: 45463.356 | L20: 0.35707509
B21: Foreign Trade Loans & U$S loans | C21: 19305.232 | D21: 0.073335974 | E21: 18599.747 | F21: 0.059135858 | G21: 14587.998 | H21: 0.056030444 | I21: 12171.023 | J21: 0.049850863 | K21: 9560.972 | L21: 0.049243947
B22: Total Loans | C22: 78524.155 | D22: 0.42068425 | E22: 75555.163 | F22: 0.3377181 | G22: 70885.68 | H22: 0.311 | I22: 62742.006 | J22: 0.2932249 | K22: 55024.328 | L22: 0.30358666
B23: Securities Issued by the Central Bank in Repo Transaction | C23: 48.41 | D23: 0.62838257 | E23: 145.771 | F23: 0.37003245 | G23: 51.701 | H23: 0.14638015 | I23: 246.798 | J23: 0.2824172 | K23: 310.931 | L23: 0.26669583
B24: Total Interest‑Earning Assets | C24: 103747.95 | D24: 0.436 | E24: 96451.945 | F24: 0.38792498 | G24: 83013.109 | H24: 0.32219045 | I24: 73384.508 | J24: 0.29148718 | K24: 67349.776 | L24: 0.29313907

Sheet IEA Drivers
B2: Yo Y main changes | E2: 4Q18 | F2: 4Q17 | G2: Change
G3: AR$ - bps | H3: %
B4: Overdrafts | C4: Avg. Balance | D4: 1455.053 | E4: 5676.951 | F4: 4221.898 | G4: 1455.053 | H4: 0.34464428
C5: Yield | D5: 4031.0296 | E5: 0.76247972 | F5: 0.35937675 | G5: 4031.0296
B6: Promissory Notes | C6: Avg. Balance | D6: -1240.813 | E6: 7365.579 | F6: 8606.392 | G6: -1240.813 | H6: -0.14417342
C7: Yield | D7: 3588.1492 | E7: 0.62607814 | F7: 0.26726322 | G7: 3588.1492
B8: Mortgage loans | C8: Avg. Balance | D8: 3859.979 | E8: 4961.123 | F8: 1101.144 | G8: 3859.979 | H8: 3.5054262
C9: Yield | D9: 4055.9875 | E9: 0.65073654 | F9: 0.24513778 | G9: 4055.9875
B10: Retail Banking Personal Loans | C10: Avg. Balance | D10: 2203.6842 | E10: 13733.938 | F10: 11530.253 | G10: 2203.6842 | H10: 0.19112192
C11: Yield | D11: 888.22952 | E11: 0.46782295 | F11: 0.379 | G11: 888.22952
B12: Consumer Finance Personal Loans | C12: Avg. Balance | D12: 144.50455 | E12: 5585.2249 | F12: 5440.7203 | G12: 144.50455 | H12: 0.02655982
C13: Yield | D13: -876.04961 | E13: 0.55939504 | F13: 0.647 | G13: -876.04961
B14: Corporate Unsecured Loans | C14: Avg. Balance | D14: 2470.193 | E14: 7463.214 | F14: 4993.021 | G14: 2470.193 | H14: 0.49472914
C15: Yield | D15: 2980.4623 | E15: 0.56428825 | F15: 0.26624202 | G15: 2980.4623
B16: Retail Banking Credit Card Loans | C16: Avg. Balance | D16: 1173.369 | E16: 6184.018 | F16: 5010.649 | G16: 1173.369 | H16: 0.23417506
C17: Yield | D17: 1465.9176 | E17: 0.42811777 | F17: 0.28152601 | G17: 1465.9176
B18: Consumer Finance Credit Card Loans | C18: Avg. Balance | D18: 932.01514 | E18: 2510.4687 | F18: 1578.4535 | G18: 932.01514 | H18: 0.59046093
C19: Yield | D19: -902.32537 | E19: 0.44191838 | F19: 0.53215091 | G19: -902.32537
B20: Receivables from Financial Leases | C20: Avg. Balance | D20: 1125.195 | E20: 3481.2 | F20: 2356.005 | G20: 1125.195 | H20: 0.477586
C21: Yield | D21: 544.24836 | E21: 0.28460743 | F21: 0.23018259 | G21: 544.24836
B22: Foreign Trade Loans & U$S loans | C22: Avg. Balance | D22: 9744.26 | E22: 19305.232 | F22: 9560.972 | G22: 9744.26 | H22: 1.0191704
C23: Yield | D23: 240.92027 | E23: 0.073335974 | F23: 0.049243947 | G23: 240.92027
B26: QoQ main changes | E26: 4Q18 | F26: 3Q18 | G26: Change
G27: AR$ - bps | H27: %
B28: Overdrafts | C28: Avg. Balance | D28: 714.578 | E28: 5676.951 | F28: 4962.373 | G28: 714.578 | H28: 0.14399925
C29: Yield | D29: 1647.1087 | E29: 0.76247972 | F29: 0.59776885 | G29: 1647.1087
B30: Promissory Notes | C30: Avg. Balance | D30: -394.508 | E30: 7365.579 | F30: 7760.087 | G30: -394.508 | H30: -0.05083809
C31: Yield | D31: 1700.415 | E31: 0.62607814 | F31: 0.45603664 | G31: 1700.415
B32: Mortgage loans | C32: Avg. Balance | D32: 734.404 | E32: 4961.123 | F32: 4226.719 | G32: 734.404 | H32: 0.17375274
C33: Yield | D33: 2090.0384 | E33: 0.65073654 | F33: 0.4417327 | G33: 2090.0384
B34: Retail Banking Personal Loans | C34: Avg. Balance | D34: 261.79655 | E34: 13733.938 | F34: 13472.141 | G34: 261.79655 | H34: 0.019432438
C35: Yield | D35: 400.33763 | E35: 0.46782295 | F35: 0.42778919 | G35: 400.33763
B36: Consumer Finance Personal Loans | C36: Avg. Balance | D36: -351.26916 | E36: 5585.2249 | F36: 5936.4941 | G36: -351.26916 | H36: -0.059171146
C37: Yield | D37: 101.9154 | E37: 0.55939504 | F37: 0.5492035 | G37: 101.9154
B38: Corporate Unsecured Loans | C38: Avg. Balance | D38: 479.864 | E38: 7463.214 | F38: 6983.35 | G38: 479.864 | H38: 0.068715445
C39: Yield | D39: 1897.9521 | E39: 0.56428825 | F39: 0.37449304 | G39: 1897.9521
B40: Retail Banking Credit Card Loans | C40: Avg. Balance | D40: 164.693 | E40: 6184.018 | F40: 6019.325 | G40: 164.693 | H40: 0.027360709
C41: Yield | D41: 1050.7557 | E41: 0.42811777 | F41: 0.3230422 | G41: 1050.7557
B42: Consumer Finance Credit Card Loans | C42: Avg. Balance | D42: 332.20607 | E42: 2510.4687 | F42: 2178.2626 | G42: 332.20607 | H42: 0.15250965
C43: Yield | D43: 561.63231 | E43: 0.44191838 | F43: 0.38575514 | G43: 561.63231
...

Sheet Bearing Liabilities
B2: Interest Bearing Liabilities & Low & Non-Interest Bearing Deposits | C2: 4Q18 | E2: 3Q18 | G2: 2Q18 | I2: 1Q18 | K2: 4Q17
B3: (In millions of Argentine Ps.) | C3: Avg. Balance | D3: Avg. Rate | E3: Avg. Balance | F3: Avg. Rate | G3: Avg. Balance | H3: Avg. Rate | I3: Avg. Balance | J3: Avg. Rate | K3: Avg. Balance | L3: Avg. Rate
B4: Time Deposits | C4: 26774.132 | D4: 0.37251822 | E4: 23546.779 | F4: 0.25440864 | G4: 18203.649 | H4: 0.20006604 | I4: 15752.74 | J4: 0.18143104 | K4: 14245.463 | L4: 0.16988567
B5: AR$ Time Deposits | C5: 22043.562 | D5: 0.44884833 | E5: 19100.97 | F5: 0.30958532 | G5: 15854.081 | H5: 0.22830437 | I5: 13858.446 | J5: 0.20524379 | K5: 12566.069 | L5: 0.19156412
B6: Fx Time Deposits | C6: 4730.57 | D6: 0.016834335 | E6: 4445.809 | F6: 0.017347574 | G6: 2349.568 | H6: 0.0095234528 | I6: 1894.294 | J6: 0.0072195763 | K6: 1679.394 | L6: 0.0076765786
B7: Special Checking Accounts | C7: 27849.766 | D7: 0.32714085 | E7: 21457.285 | F7: 0.2703397 | G7: 10885.074 | H7: 0.21776829 | I7: 6067.855 | J7: 0.13158258 | K7: 7985.7186 | L7: 0.1541006
B8: AR$ Special Checking Accounts | C8: 21567.143 | D8: 0.42136132 | E8: 16863.722 | F8: 0.34248809 | G8: 8350.2229 | H8: 0.28243605 | I8: 3905.124 | J8: 0.20207502 | K8: 5602.1746 | L8: 0.21720208
B9: Fx Special Checking Accounts | C9: 6282.6223 | D9: 0.0036984556 | E9: 4593.5632 | F9: 0.0054711341 | G9: 2534.8512 | H9: 0.0047418958 | I9: 2162.731 | J9: 0.0042982692 | K9: 2383.544 | L9: 0.005789698
B10: Borrowings from Other Fin. Inst. & Medium Term Notes | C10: 19560.618 | D10: 0.3477089 | E10: 19170.121 | F10: 0.27755804 | G10: 16132.645 | H10: 0.29828991 | I10: 13916.349 | J10: 0.24910252 | K10: 10790.012 | L10: 0.23484203
B11: Subordinated Loans and Negotiable Obligations | C11: 1355.546 | D11: 0.069810984 | E11: 1169.808 | F11: 0.070514136 | G11: 854.452 | H11: 0.073586345 | I11: 717.442 | J11: 0.06985373 | K11: 1024.853 | L11: 0.091006222
B12: Total Interest‑Bearing Liabilities | C12: 75540.061 | D12: 0.34393248 | E12: 65343.993 | F12: 0.26313925 | G12: 46075.82 | H12: 0.23629394 | I12: 36454.386 | J12: 0.19664744 | K12: 34046.047 | L12: 0.18439499
B14: Low & Non-Interest Bearing Deposits
B15: Savings Accounts | C15: 21340.819 | D15: 0.0028238842 | E15: 20420.083 | F15: 0.0017392682 | G15: 18136.141 | H15: 0.0013169284 | I15: 17332.135 | J15: 0.0012490094 | K15: 15562.004 | L15: 0.00028531031
B16: AR$ Savings Accounts | C16: 10564.479 | D16: 0.0054037684 | E16: 10632.779 | F16: 0.0030690003 | G16: 10712.953 | H16: 0.002026332 | I16: 11016.046 | J16: 0.0017988305 | K16: 10463.34 | L16: 0.00027983418
B17: Fx Savings Accounts | C17: 10776.339 | D17: 0.00029471976 | E17: 9787.304 | F17: 0.00029466746 | G17: 7423.188 | H17: 0.00029313551 | I17: 6316.089 | J17: 0.00029005291 | K17: 5098.664 | L17: 0.00029654827
B18: Checking Accounts | C18: 17406.535 | E18: 15469.344 | G18: 13195.553 | I18: 11933.872 | K18: 11244.957
B19: AR$ Checking Accounts | C19: 9362.8765 | E19: 8603.545 | G19: 8175.4863 | I19: 7700.7665 | K19: 7574.529
B20: Fx Checking Accounts | C20: 8043.659 | E20: 6865.799 | G20: 5020.067 | I20: 4233.106 | K20: 3670.428
B21: Total Low & Non-Interest Bearing Deposits | C21: 38747.354 | E21: 35889.427 | G21: 31331.694 | I21: 29266.007 | K21: 26806.961
B23: Total Interest‑Bearing Liabilities & Low & Non-Interest Bearing Deposits | C23: 114287.42 | D23: 0.22785488 | E23: 101233.42 | F23: 0.17020155 | G23: 77407.514 | H23: 0.14095946 | I23: 65720.394 | J23: 0.10865256 | K23: 60853.007 | L23: 0.10323829

Sheet IBL Drivers
B3: QoQ main changes | E3: 4Q18 | F3: 3Q18 | G3: Change
G4: AR$ - bps | H4: %
B5: AR$ Time Deposits | C5: Avg. Balance | D5: 2942.592 | E5: 22043.562 | F5: 19100.97 | G5: 2942.592 | H5: 0.15405458
C6: % of Total Liabilities | E6: 0.1928783 | F6: 0.167131
C7: Interest paid | D7: 1392.6301 | E7: 0.44884833 | F7: 0.30958532 | G7: 1392.6301
B8: Fx Time Deposits | C8: Avg. Balance | D8: 284.761 | E8: 4730.57 | F8: 4445.809 | G8: 284.761 | H8: 0.06405156
C9: % of Total Liabilities | E9: 0.041391871 | F9: 0.03890025
C10: Interest paid | D10: -5.1323889 | E10: 0.016834335 | F10: 0.017347574 | G10: -5.1323889
B11: AR$ Special Checking Accounts | C11: Avg. Balance | D11: 4703.4215 | E11: 21567.143 | F11: 16863.722 | G11: 4703.4215 | H11: 0.27890768
C12: % of Total Liabilities | E12: 0.1887097 | F12: 0.14755537
C13: Interest paid | D13: 788.73224 | E13: 0.42136132 | F13: 0.34248809 | G13: 788.73224
B14: Fx Special Checking Accounts | C14: Avg. Balance | D14: 1689.0592 | E14: 6282.6223 | F14: 4593.5632 | G14: 1689.0592 | H14: -
C15: % of Total Liabilities | E15: 0.054972127 | F15: 0.040193079
C16: Interest paid | D16: - | E16: 0.0036984556 | F16: 0.0054711341 | G16: - | H16: -
B17: Borrowings from Other Fin. Inst. & Medium Term Notes | C17: Avg. Balance | D17: 390.49702 | E17: 19560.618 | F17: 19170.121 | G17: 390.49702 | H17: 0.020370087
C18: % of Total Liabilities | E18: 0.17115286 | F18: 0.16773606
C19: Interest paid | D19: 701.50861 | E19: 0.3477089 | F19: 0.27755804 | G19: 701.50861
B20: Savings Accounts | C20: Avg. Balance | D20: 920.736 | E20: 21340.819 | F20: 20420.083 | G20: 920.736 | H20: 0.04508973
C21: % of Total Liabilities | E21: 0.18672938 | F21: 0.17867306
C22: Interest paid | D22: 10.84616 | E22: 0.0028238842 | F22: 0.0017392682 | G22: 10.84616
B23: Checking Accounts | C23: Avg. Balance | D23: 1937.1915 | E23: 17406.535 | F23: 15469.344 | G23: 1937.1915 | H23: 0.12522777
C24: % of Total Liabilities | E24: 0.15230492 | F24: 0.13535475
C25: Interest paid | D25: - | E25: - | F25: - | G25: - | H25: -
B26: Total Interest‑Bearing Liabilities & Low & Non-Interest Bearing Deposits | C26: Avg. Balance | D26: 13053.996 | E26: 114287.42 | F26: 101233.42 | G26: 13053.996 | H26: 0.12894947
B27: Cost of Funds | C27: Interest paid | D27: 576.53323 | E27: 0.22785488 | F27: 0.17020155 | G27: 576.53323
B30: YoY main changes | E30: 4Q18 | F30: 4Q17 | G30: Change
G31: AR$ - bps | H31: %
B32: AR$ Time Deposits | C32: Avg. Balance | D32: 9477.493 | E32: 22043.562 | F32: 12566.069 | G32: 9477.493 | H32: 0.75421303
C33: % of Total Liabilities | E33: 0.1928783 | F33: 0.10995147
C34: Interest paid | D34: 2572.8421 | E34: 0.44884833 | F34: 0.19156412 | G34: 2572.8421
B35: Fx Time Deposits | C35: Avg. Balance | D35: 3051.176 | E35: 4730.57 | F35: 1679.394 | G35: 3051.176 | H35: 1.8168315
C36: % of Total Liabilities | E36: 0.041391871 | F36: 0.014694479
C37: Interest paid | D37: 91.577564 | E37: 0.016834335 | F37: 0.0076765786 | G37: 91.577564
B38: AR$ Special Checking Accounts | C38: Avg. Balance | D38: 15964.969 | E38: 21567.143 | F38: 5602.1746 | G38: 15964.969 | H38: 2.8497807
C39: % of Total Liabilities | E39: 0.1887097 | F39: 0.049018298
C40: Interest paid | D40: 2041.5923 | E40: 0.42136132 | F40: 0.21720208 | G40: 2041.5923
B41: Fx Special Checking Accounts | C41: Avg. Balance | D41: 3899.0783 | E41: 6282.6223 | F41: 2383.544 | G41: 3899.0783 | H41: -
C42: % of Total Liabilities | E42: 0.054972127 | F42: 0.0208557
C43: Interest paid | D43: - | E43: 0.0036984556 | F43: - | G43: - | H43: -
B44: Borrowings from Other Fin. Inst. & Medium Term Notes | C44: Avg. Balance | D44: 8770.6055 | E44: 19560.618 | F44: 10790.012 | G44: 8770.6055 | H44: 0.81284482
...

Sheet Net Service fee Income
B2: Net Service Fee Income | H2: % Change
B3: (In millions of Argentine Ps.) | C3: 4Q18 | D3: 3Q18 | E3: 2Q18 | F3: 1Q18 | G3: 4Q17 | H3: QoQ | I3: YoY
B4: Income from:
B5: Deposit Accounts | C5: 541.225 | D5: 498.781 | E5: 478.497 | F5: 443.765 | G5: 376.347 | H5: 0.085095463 | I5: 0.43810101
B6: Loan Related | C6: 70.032225 | D6: 65.91581 | E6: 63.715528 | F6: 46.702918 | G6: 62.418605 | H6: 0.062449581 | I6: 0.12197676
B7: Comissions for foreign trade transactions | C7: 33.94 | D7: 50.448 | E7: 45.502 | F7: 43.936 | G7: 55.517 | H7: -0.32722804 | I7: -0.38865573
B8: Credit cards commissions | C8: 485.533 | D8: 462.23541 | E8: 452.81359 | F8: 410.808 | G8: 406.68 | H8: 0.05040201 | I8: 0.19389446
B9: Leasing commissions | C9: 31.272 | D9: 29.692769 | E9: 22.594231 | F9: 20.198 | G9: 38.792 | H9: 0.053185718 | I9: -0.1938544
B10: Other | C10: 225.81688 | D10: 211.9581 | E10: 199.29397 | F10: 187.31317 | G10: 87.051962 | H10: 0.065384518 | I10: 1.594047
B11: Total Fee Income | C11: 1387.8191 | D11: 1319.0311 | E11: 1262.4163 | F11: 1152.7231 | G11: 1026.8066 | H11: 0.052150414 | I11: 0.35158768
B13: Expenses:
B14: Commissions paid | C14: -312.40083 | D14: -285.48922 | E14: -252.16888 | F14: -262.90242 | G14: -234.97372 | H14: 0.094264883 | I14: 0.32951393
B15: Exports and foreign currency transactions | C15: -10.347 | D15: -6.69 | E15: -5.298 | F15: -5.21 | G15: -8.135 | H15: 0.54663677 | I15: 0.27191149
B16: Total Fee Expenses | C16: -322.74783 | D16: -292.17922 | E16: -257.46688 | F16: -268.11242 | G16: -243.10872 | H16: 0.1046228 | I16: 0.32758642
B18: Net Services Fee Income | C18: 1065.0713 | D18: 1026.8519 | E18: 1004.9494 | F18: 884.61067 | G18: 783.69785 | H18: 0.037219984 | I18: 0.35903304

Sheet Administrative Expenses
B2: Personnel & Administrative Expenses | H2: % Change
B3: (In millions of Argentine Ps.) | C3: 4Q18 | D3: 3Q18 | E3: 2Q18 | F3: 1Q18 | G3: 4Q17 | H3: QoQ | I3: YoY
B4: Personnel Expenses | C4: 2273.4261 | D4: 1865.6768 | E4: 1585.2263 | F4: 1520.2967 | G4: 1605.7658 | H4: 0.21855303 | I4: 0.41578933
B5: Administrative expenses | C5: 1317.7856 | D5: 1179.5684 | E5: 1175.6354 | F5: 926.17344 | G5: 998.73474 | H5: 0.11717607 | I5: 0.31945508
B6: Directors’ and Statutory Auditors’ Fees | C6: 36.910099 | D6: 42.126063 | E6: 36.126452 | F6: 20.696369 | G6: 33.60549 | H6: -0.12381798 | I6: 0.098335401
B7: Other Professional Fees | C7: 452.20321 | D7: 327.56073 | E7: 324.63031 | F7: 257.57053 | G7: 262.90764 | H7: 0.38051715 | I7: 0.72000787
