Workbook
Name \a: #REF!
Name \b: #REF!
Name __xlnm._FilterDatabase: #N/A
Name __xlnm.Print_Area: #REF!
Name __xlnm.Print_Area: #REF!
Name __xlnm.Print_Area_4: #N/A
Name __xlnm.Print_Area_5: #REF!
Name __xlnm.Print_Area_5: #REF!
Name __xlnm.Print_Area_6: #REF!
Name __xlnm.Print_Area_6: #REF!
Name _fir1: [8]Encabezamiento!$C$39
Name _fir2: [8]Encabezamiento!$C$40
Name _fir3: [8]Encabezamiento!$C$41
Name _GBN12: #REF!
Name _mes1: '[9]Resumen para contabilidad'!$S$5
Name _pte1: [8]Encabezamiento!$F$45
Name _pte2: [8]Encabezamiento!$F$46
Name _REV2: #REF!
Name _sin1: [11]Encabezamiento!$B$45
Name _sin2: [11]Encabezamiento!$B$46
Name _sin3: [11]Encabezamiento!$B$47
Name _sin4: [11]Encabezamiento!$B$48
Name _soc1: [8]Encabezamiento!$C$45
Name _soc2: [8]Encabezamiento!$C$46
Name _soc3: [8]Encabezamiento!$C$47
Name _soc4: [8]Encabezamiento!$C$48
Name _soc5: [8]Encabezamiento!$C$49
Name _Toc64661108: 'Net Fee Income'!#REF!
Name A_IMPRESION_IM: #REF!
Name A_impresión_IM: #REF!
Name a1.: #REF!
Name aj: '[13]#¡REF'!$A$2:$B$19
Name aq: '[14]Bs.USO Impositivo 2005 Parte 2'!$B$333:$N$353
Name Balance: [15]Balance!$D$1:$E$431
Name Bce_saldos: '[16]Bce Saldos'!$A$7:$F$4006
Name BceSofi: #REF!
Name BceSofi: #REF!
Name BCRAMAY: [17]Mayorista!$D$6:$D$966
Name BCRAMIN: [17]Minorista!$D$6:$D$2313
Name BCRAOTR: [17]Otros!$D$6:$D$3600
Name busos: #REF!
Name CA: #REF!
Name CAPMAY: [17]Mayorista!$G$6:$G$966
Name CAPMIN: [17]Minorista!$G$6:$G$2313
Name CAPOTR: [17]Otros!$G$6:$G$3600
Name cc: '[13]#¡REF'!$A$2:$B$19
Name centros: [9]Códigos!$A$29:$B$43
Name cierre: #REF!
Name cierre1: '[9]Resumen para contabilidad'!$S$3
Name cierre2: '[9]Resumen para contabilidad'!$S$4
Name cierreant: #REF!
Name cinco: #REF!
Name Clave1: '[18]Base Resultados'!$C$2:$C$1184
Name Clave2: [19]BALANCE!$F$3:$F$604
Name Clave3: [19]BALANCE!$H$3:$H$604
Name COD: #REF!
Name codigos: [9]Códigos!$A$2:$D$26
Name CODMENS: '[20]Sumas y saldos'!$I$8:$I$616
Name Coeficientes: #REF!
Name COMMAY: [17]Mayorista!$N$6:$N$966

Sheet SUPV Contact+
C21: Investor Relations Contacts:
C22: Ana Bartesaghi
C23: Treasurer and Investor Relations Officer
C24: 5411-4324-8132
C25: Ana.BARTESAGHI@supervielle.com.ar
C27: Gustavo Tewel
C28: 5411-4324-8158
C29: Gustavo.TEWEL@supervielle.com.ar
C31: Gonzalo Mingrone
C32: 5411-4324-8158
C33: Gonzalo.MINGRONE@supervielle.com.ar
C35: Mariana Bertinat
... C40: www.gruposupervielle.com.

Sheet Highlights
B2: Highlights
B3: (In millions of Ps. stated in terms of the measuring unit current at the end of the reporting period) | H3: % Change
B4: INCOME STATEMENT | C4: 1Q26 | D4: 4Q25 | E4: 3Q25 | F4: 2Q25 | G4: 1Q25 | H4: QoQ | I4: YoY
B5: Net Interest Income | C5: 212623.28 | D5: 267063.35 | E5: 181176.33 | F5: 239255.46 | G5: 196748.58 | H5: -0.20384704 | I5: 0.080685212
B6: NIFFI & Exchange Rate Differences | C6: 42033.046 | D6: 1838.1487 | E6: -33610.532 | F6: 20146.824 | G6: 35873.806 | H6: na | I6: 0.17169183
B7: Net Financial Income | C7: 254656.33 | D7: 268901.5 | E7: 147565.8 | F7: 259402.29 | G7: 232622.39 | H7: -0.052975441 | I7: 0.094719776
B8: Net Service Fee Income (excluding income from insurance activities) | C8: 51712.739 | D8: 57852.095 | E8: 57361.436 | F8: 52723.513 | G8: 60278.951 | H8: -0.10612159 | I8: -0.1421095
B9: Income from Insurance activities | C9: 8798.184 | D9: 9597.2554 | E9: 9450.4834 | F9: 9663.7223 | G9: 11217.805 | H9: -0.083260406 | I9: -0.21569466
B10: RECPPC | C10: -41607.988 | D10: -37924.333 | E10: -34443.267 | F10: -36808.128 | G10: -55524.479 | H10: 0.097131702 | I10: -0.25063704
B11: Loan Loss Provisions | C11: -67613.162 | D11: -118566.81 | E11: -68837.083 | F11: -55623.893 | G11: -42195.988 | H11: -0.42974629 | I11: 0.60235995
B12: Personnel & Administrative Expenses | C12: -170278.24 | D12: -156472.45 | E12: -148229.03 | F12: -151223.03 | G12: -144979.54 | H12: 0.088231437 | I12: 0.17449838
B13: Profit (Loss) before income tax | C13: -22353.593 | D13: -40652.808 | E13: -95876.039 | F13: 17139.277 | G13: 13505.432 | H13: na | I13: na
B14: Attributable Net income (Loss) | C14: -17060.679 | D14: -21368.896 | E14: -59343.533 | F14: 17016.701 | G14: 10526.043 | H14: na | I14: na
B15: Adjusted Attributable Net income (Loss) | C15: 6706.4196
B16: Earnings (Loss) per Share (AR$) | C16: -38.975259 | D16: -48.817397 | E16: -135.57073 | F16: 38.874776 | G16: 24.046821
B17: Earnings (Loss) per ADRs (AR$) | C17: -194.87629 | D17: -244.08698 | E17: -677.85364 | F17: 194.37388 | G17: 120.2341
B18: Average Outstanding Shares (in millions)1 | C18: 437.731 | D18: 437.73116 | E18: 437.73116 | F18: 437.73116 | G18: 437.73116
B19: Other Comprehensive Income (Loss) | C19: 1352.148 | D19: 8883.7116 | E19: -1861.5022 | F19: -6593.9755 | G19: -2327.1583
B20: Comprehensive Income (Loss) | C20: -15708.531 | D20: -12485.184 | E20: -61205.035 | F20: 10422.725 | G20: 8198.8845 | H20: na | I20: na
B21: BALANCE SHEET | C21: mar 26 | D21: dec 25 | E21: sep 25 | F21: jun 25 | G21: mar 25 | H21: QoQ | I21: YoY
B22: Total Assets | C22: 8154791.2 | D22: 8527234.8 | E22: 8803603.9 | F22: 7548029.4 | G22: 7114802.4 | H22: -0.043676952 | I22: 0.14617256
B23: Average Assets2 | C23: 8227861 | D23: 8643185.3 | E23: 7944279.7 | F23: 6999342.5 | G23: 6628498.1 | H23: -0.048052229 | I23: 0.24128586
B24: Total Loans & Leasing, net of allowances | C24: 3869792.4 | D24: 4105476 | E24: 3837591.3 | F24: 3591897.8 | G24: 3171555.2 | H24: -0.057407128 | I24: 0.22015612
B25: Total Loans & Leasing3 | C25: 4115098.6 | D25: 4358924.4 | E25: 4020983.2 | F25: 3727480.2 | G25: 3270838.6 | H25: -0.055937165 | I25: 0.25811728
B26: Loans and financing & off balance guarantees | C26: 4243985.6 | D26: 4492681.6 | E26: 4172059.8 | F26: 3896108.1 | G26: 3450998.9 | H26: -0.055355792 | I26: 0.22978468
B27: Total Deposits | C27: 5340418.1 | D27: 5602226.6 | E27: 5972640.4 | F27: 5200271.3 | G27: 4919264.4 | H27: -0.046732932 | I27: 0.085613152
B28: Attributable Shareholders’ Equity | C28: 1087674.2 | D28: 1102371.4 | E28: 1112332 | F28: 1166941.8 | G28: 1192505.2 | H28: -0.013332301 | I28: -0.087908171
B29: Average Attributable Shareholders’ Equity2 | C29: 1093141.9 | D29: 1109765 | E29: 1144634.8 | F29: 1166098.4 | G29: 1194315.9 | H29: -0.014978955 | I29: -0.084712919
B32: KEY INDICATORS | C32: 1Q26 | D32: 4Q25 | E32: 3Q25 | F32: 2Q25 | G32: 1Q25
B33: Profitability & Efficiency
B34: ROAE | C34: -0.062428051 | D34: -0.077021337 | E34: na | F34: 0.058371405 | G34: 0.035253799
B35: Adjusted ROAE | C35: 0.024539979
B36: ROAA | C36: -0.0082942004 | D36: -0.0098893614 | E36: na | F36: 0.0097247426 | G36: 0.0063519927
B37: Net Interest Margin (NIM) | C37: 0.17734259 | D37: 0.18752805 | E37: 0.10827592 | F37: 0.20767957 | G37: 0.19203158
B38: Net Fee Income Ratio | C38: 0.19199623 | D38: 0.20053272 | E38: 0.31165515 | F38: 0.19387591 | G38: 0.23509456
B39: Cost / Assets | C39: 0.09357539 | D39: 0.082554517 | E39: 0.084908844 | F39: 0.097616567 | G39: 0.098908059
B40: Efficiency Ratio | C40: 0.68903305 | D40: 0.60628913 | E40: 0.95793943 | F40: 0.60921022 | G40: 0.59573163
B41: Adjusted Efficiency | C41: 0.55813914
B42: Liquidity & Capital
B43: Total Loans to Total Deposits | C43: 0.77055737 | D43: 0.77807 | E43: 0.67323377 | F43: 0.71678573 | G43: 0.664904
...

Sheet Highlights Subsidiaries
I2: % Change
C3: Subsidiaries- Highlights | D3: 1Q26 | E3: 4Q25 | F3: 3Q25 | G3: 2Q25 | H3: 1Q25 | I3: QoQ | J3: YoY
B4: Banking Ecosystem | C4: Banking Ecosystem Net Income | D4: -21233 | E4: -36756.529 | F4: -62724.216 | G4: 12510.965 | H4: 4086.055 | I4: -0.42233393 | J4: na
C5: Banking Ecosystem Adjusted Net Income | D5: 2486
C6: Banco Supervielle
C7: Attributable Net income (Loss) (AR$ Mm.) | D7: -28088.337 | E7: -48460.846 | F7: -71103.531 | G7: 926.15476 | H7: -5604.6124 | I7: -0.42039111 | J7: na
C8: ROAE | D8: -0.14 | E8: -0.228 | F8: na | G8: 0.004 | H8: -0.024
C9: Employees | D9: 2686 | E9: 2917 | F9: 2941 | G9: 2980 | H9: 3012 | I9: -0.07919095 | J9: -0.10823373
C10: Bank branches | D10: 129 | E10: 129 | F10: 130 | G10: 130 | H10: 130 | I10: 0 | J10: -0.0076923077
C11: Customers (million) | D11: 1.28336 | E11: 1.299848 | F11: 1.30427 | G11: 1.33684 | H11: 1.364961 | I11: -0.01268456 | J11: -0.05978266
C12: Loans Market Share (monthly average) | D12: 0.024931706 | E12: 0.025830146 | F12: 0.02543901 | G12: 0.026235581 | H12: 0.027617369
C13: Loans Market Share (eop) | D13: 0.02774222 | E13: 0.028466262 | F13: 0.027020409 | G13: 0.026
C14: Deposits Market share (monthly average) | D14: 0.031550999 | E14: 0.031754857 | F14: 0.033629257 | G14: 0.029671444 | H14: 0.029730595
C15: NPL Ratio | D15: 0.055505907 | E15: 0.050373721 | F15: 0.039436227 | G15: 0.027494271 | H15: 0.01952987
C16: Supervielle Asset Management (SAM)
C17: Attributable Net income (Loss) (AR$ Mm.) | D17: 4327.0313 | E17: 5063.5825 | F17: 4698.962 | G17: 6587.1841 | H17: 5296.2127 | I17: -0.14546048 | J17: -0.18299517
C18: Assets Under Management (AR$ Bn.) 1 | D18: 1196.2186 | E18: 1162.2374 | F18: 1151.4493 | G18: 1286.6806 | H18: 1294.459 | I18: 0.029237779 | J18: -0.075893043
C19: Employees | D19: 12 | E19: 12 | F19: 11 | G19: 11 | H19: 12 | I19: 0 | J19: 0
C20: Market share | D20: 0.01303 | E20: 0.014882465 | F20: 0.0161 | G20: 0.01931599 | H20: 0.01955
C21: Number of mutual funds | D21: 17 | E21: 17 | F21: 17 | G21: 17 | H21: 17
C22: Supervielle Seguros
C23: Attributable Net income (Loss) (AR$ Mm.) | D23: 3773.2817 | E23: 6640.734 | F23: 3680.3522 | G23: 4997.6258 | H23: 4394.4548 | I23: -0.43179749 | J23: -0.14135384
C24: Combined Ratio | D24: 0.68551697 | E24: 0.612092 | F24: 0.6765221 | G24: 0.63305266 | H24: 0.59622665
C25: Employees | D25: 110 | E25: 128 | F25: 131 | G25: 140 | H25: 147 | I25: -0.140625 | J25: -0.25170068
C26: Insurance Policies | D26: 374636 | E26: 396482 | F26: 415595 | G26: 441288 | H26: 459294 | I26: -0.055099601 | J26: -0.18432202
B27: IOL Ecosystem | C27: IOL Invertironline
C28: Attributable Net income (Loss) (AR$ Mm.) | D28: 5714.8068 | E28: 9799.1101 | F28: 5860.4311 | G28: 5478.4368 | H28: 6176.8329 | I28: -0.41680349 | J28: -0.074799834
C29: Customers (thousands) | D29: 596.073 | E29: 565.614 | F29: 544.123 | G29: 603 | H29: 569.116 | I29: 0.053851213 | J29: 0.047366442
C30: Assets Under Custody (AR$ Bn.)1 | D30: 3741.4658 | E30: 3616.5938 | F30: 3164.912 | G30: 2378.8959 | H30: 2261.892 | I30: 0.03452753 | J30: 0.65413108
C31: Employees | D31: 206 | E31: 192 | F31: 180 | G31: 165 | H31: 162 | I31: 0.072916667 | J31: 0.27160494

Sheet Highlights Bank
B2: Highlights
B3: (In millions of Ps. stated in terms of the measuring unit current at the end of the reporting period) | H3: % Change
B4: INCOME STATEMENT | C4: 1Q26 | D4: 4Q25 | E4: 3Q25 | F4: 2Q25 | G4: 1Q25 | H4: QoQ
B5: Net Interest Income | C5: 210737.92 | D5: 250354.6 | E5: 188389.36 | F5: 243202.33 | G5: 200653.96 | H5: -0.1582423
B6: NIFFI & Exchange Rate Differences | C6: 24593.377 | D6: -5516.2133 | E6: -45000.033 | F6: 4949.0208 | G6: 22714.962 | H6: na
B7: Net Financial Income | C7: 235331.29 | D7: 244838.39 | E7: 143389.33 | F7: 248151.35 | G7: 223368.92 | H7: -0.038830091
B8: LELIQ Result from exposure to changes in the purchasing power of the currency
B9: Net Service Fee Income | C9: 32830.768 | D9: 32808.898 | E9: 33772.15 | F9: 32450.596 | G9: 34720.271 | H9: 0.00066658532
B10: RECPPC | C10: -27760.035 | D10: -26842.12 | E10: -26707.833 | F10: -30286.246 | G10: -44402.347 | H10: 0.034196809
B11: Loan Loss Provisions | C11: 67616.904 | D11: 118563.81 | E11: 68831.954 | F11: 55625.164 | G11: 42196.708 | H11: -0.42970032
B12: Personnel & Administrative Expenses | C12: -152918.83 | D12: -142253.13 | E12: -134615.02 | F12: -138461.99 | G12: -133642.63 | H12: 0.074976902
B13: Profit (Loss) before income tax | C13: -39612.069 | D13: -77072.476 | E13: -111757.29 | F13: -6294.1434 | G13: -12175.809 | H13: na
B14: Attributable Net income (Loss) | C14: -28088.337 | D14: -48460.846 | E14: -71103.531 | F14: 926.15476 | G14: -5604.6124 | H14: na
B15: Adjusted Net Income | C15: -5154
B16: Bank Ecosystem- Attributable Net Income (Loss) | C16: -21233 | D16: -36756.529 | E16: -62724.216 | F16: 12510.965 | G16: 4086.055 | H16: na
B17: Bank Ecosystem- Adjusted Attributable Net Income (Loss) | C17: 2486
B18: BALANCE SHEET | C18: mar 26 | D18: dec 25 | E18: sep 25 | F18: jun 25 | G18: mar 25 | H18: QoQ
B19: Total Assets | C19: 7798692 | D19: 8101299.8 | E19: 8509010.6 | F19: 7180225.3 | G19: 6725370.2 | H19: -0.037352994
B20: Average Assets1 | C20: 7767734.4 | D20: 7300026.4 | E20: 6884564.4 | F20: 6461269.5 | G20: 6248192.2 | H20: 0.064069365
B21: Total Loans & Leasing2 | C21: 4115098.6 | D21: 4358924.4 | E21: 4020983.2 | F21: 3727480.2 | G21: 3270838.6 | H21: -0.055937165
B22: Total Deposits | C22: 128887.07 | D22: 133757.14 | E22: 151076.62 | F22: 168627.9 | G22: 180160.34 | H22: -0.036409811
B23: Attributable Shareholders’ Equity | C23: 805832.43 | D23: 832247.54 | E23: 872828.34 | F23: 947076.55 | G23: 953875.49 | H23: -0.031739479
B24: Average Attributable Shareholders’ Equity1 | C24: 816696.82 | D24: 850190.27 | E24: 910820.96 | F24: 985039.6 | G24: 961656.18 | H24: -0.039395237
B27: KEY INDICATORS | C27: 1Q26 | D27: 4Q25 | E27: 3Q25 | F27: 2Q25 | G27: 1Q25
B28: Profitability & Efficiency
B29: ROAE | C29: -0.14 | D29: -0.228 | E29: na | F29: 0.004 | G29: -0.024
B30: Adjusted ROAE | C30: -0.025
B31: ROAA | C31: -0.014464108 | D31: -0.026553792 | E31: na | F31: 0.00057335777 | G31: -0.0035879898
B32: Net Interest Margin (NIM) | C32: 0.17063242 | D32: 0.19278595 | E32: 0.10924882 | F32: 0.20866957 | G32: 0.19438301
B33: Net Fee Income Ratio | C33: 0.12242883 | D33: 0.11816754 | E33: 0.1906292 | F33: 0.11564637 | G33: 0.13452819
B34: Cost / Assets | C34: 0.089841518 | D34: 0.089581889 | E34: 0.089658336 | F34: 0.0974489 | G34: 0.097259969
B35: Efficiency Ratio | C35: 0.75778745 | D35: 0.70523181 | E35: 1.1174355 | F35: 0.66410209 | G35: 0.67119988
B36: Adjusted Efficiency Ratio | C36: 0.605
B37: Liquidity & Capital
B38: Total Loans to Total Deposits | C38: 0.77055737 | D38: 0.77807 | E38: 0.67323377 | F38: 0.71678573 | G38: 0.664904
B39: Total Equity / Total Assets | C39: 0.10332918 | D39: 0.10273012 | E39: 0.10257695 | F39: 0.13190067 | G39: 0.14183241
B40: Total Capital / Risk weighted assets (standalone) | C40: 0.13257486 | D40: 0.13341546 | E40: 0.11761868 | F40: 0.13330374 | G40: 0.145108
B41: CET 1 / Risk weighted assets (standalone) | C41: 0.13257486 | D41: 0.13341546 | E41: 0.11761868 | F41: 0.13330374 | G41: 0.145108
B42: CET 1 / Risk weighted assets (consolidated basis) | C42: 0.15425648 | D42: 0.1543441 | E42: 0.1318381 | F42: 0.13926186 | G42: 0.15318282
B43: Risk Weighted Assets / Total Assets | C43: 0.61988088 | D43: 0.6196773 | E43: 0.63245085 | F43: 0.83245433 | G43: 0.81179018
...

Sheet Net Income
B2: Income Statement | H2: % Change
B3: (In millions of Ps. stated in terms of the measuring unit current at the end of the reporting period) | C3: 1Q26 | D3: 4Q25 | E3: 3Q25 | F3: 2Q25 | G3: 1Q25 | H3: QoQ | I3: YoY
B4: Consolidated Income Statement Data IFRS:
B5: Interest income | C5: 454979.16 | D5: 563294.35 | E5: 504705.62 | F5: 455112.78 | G5: 397688 | H5: -0.19228878 | I5: 0.14406058
B6: Interest expenses | C6: -242355.88 | D6: -296231 | E6: -323529.29 | F6: -215857.32 | G6: -200939.42 | H6: -0.18186858 | I6: 0.20611419
B7: Net interest income | C7: 212623.28 | D7: 267063.35 | E7: 181176.33 | F7: 239255.46 | G7: 196748.58 | H7: -0.20384704 | I7: 0.080685212
B8: Net income from financial instruments at fair value through profit or loss | C8: 3168.616 | D8: 7963.0848 | E8: 15192.47 | F8: 29068.262 | G8: 30715.178 | H8: -0.60208687 | I8: -0.89683876
B9: Result from recognition of assets measured at amortized cost | C9: 593.831 | D9: 7998.1165 | E9: -6933.4243 | F9: -738.55199 | G9: 5215.7153 | H9: na | I9: na
B10: Exchange rate difference on gold and foreign currency | C10: 38270.599 | D10: -14123.053 | E10: -41869.578 | F10: -8182.8855 | G10: -57.087207 | H10: na | I10: na
B11: NIFFI & Exchange Rate Differences | C11: 42033.046 | D11: 1838.1487 | E11: -33610.532 | F11: 20146.824 | G11: 35873.806 | H11: na | I11: 0.17169183
B12: Net Financial Income | C12: 254656.33 | D12: 268901.5 | E12: 147565.8 | F12: 259402.29 | G12: 232622.39 | H12: -0.052975441 | I12: 0.094719776
B13: LELIQ Result from exposure to changes in the purchasing power of the currency | H13: #DIV/0! | I13: #DIV/0!
B14: Fee income | C14: 66636.018 | D14: 73804.923 | E14: 73888.075 | F14: 68792.498 | G14: 76303.831 | H14: -0.097133151 | I14: -0.12670154
B15: Fee expenses | C15: -14923.279 | D15: -15952.828 | E15: -16526.639 | F15: -16068.985 | G15: -16024.88 | H15: -0.064537062 | I15: -0.06874318
B16: Income from insurance activities | C16: 8798.184 | D16: 9597.2554 | E16: 9450.4834 | F16: 9663.7223 | G16: 11217.805 | H16: -0.083260406 | I16: -0.21569466
B17: Net Service Fee Income | C17: 60510.923 | D17: 67449.35 | E17: 66811.919 | F17: 62387.235 | G17: 71496.755 | H17: -0.10286871 | I17: -0.15365498
B18: Subtotal | C18: 315167.25 | D18: 336350.85 | E18: 214377.72 | F18: 321789.52 | G18: 304119.14 | H18: -0.062980673 | I18: 0.036328224
B19: Result from exposure to changes in the purchasing power of the currency | C19: -41607.988 | D19: -37924.333 | E19: -34443.267 | F19: -36808.128 | G19: -55524.479 | H19: 0.097131702 | I19: -0.25063704
B20: Other operating income | C20: 18768.341 | D20: 22777.818 | E20: 16899.193 | F20: 15602.335 | G20: 15825.629 | H20: -0.17602552 | I20: 0.18594595
B21: Loan loss provisions | C21: -67613.162 | D21: -118566.81 | E21: -68837.083 | F21: -55623.893 | G21: -42195.988 | H21: -0.42974629 | I21: 0.60235995
B22: Net Operating Income | C22: 224714.44 | D22: 202637.53 | E22: 127996.56 | F22: 244959.83 | G22: 222224.3 | H22: 0.10894779 | I22: 0.011205512
B23: Personnel expenses | C23: -111173.03 | D23: -84135.807 | E23: -89142.369 | F23: -94751.963 | G23: -90122.758 | H23: 0.32135219 | I23: 0.23357336
B24: Administration expenses | C24: -59105.205 | D24: -72336.642 | E24: -59086.664 | F24: -56471.068 | G24: -54856.785 | H24: -0.18291473 | I24: 0.077445658
B25: Depreciations and impairment of assets | C25: -22200.797 | D25: -21911.05 | E25: -20405.869 | F25: -19589.915 | G25: -18923.428 | H25: 0.013223784 | I25: 0.1731911
... B27: Other operating expenses | C27: -18875.937 | D27: -28374.542 | E27: -19547.435 | F27: -25189.893 | G27: -15065.64 | H27: -0.33475798 | I27: 0.25291306
B28: Profit (Loss) before income tax | C28: -22353.593 | D28: -40652.808 | E28: -95876.039 | F28: 17139.277 | G28: 13505.432 | H28: na | I28: na
B29: Income tax | C29: 5262.804 | D29: 19239.073 | E29: 35275.897 | F29: 242.31343 | G29: -2163.6555 | H29: - | I29: - | K29: =+C29/C28 -> -0.23543437 | L29: =+D29/D28 -> -0.47325324
B30: Net income (loss) for the year | C30: -17090.789 | D30: -21413.735 | E30: -60600.143 | F30: 17381.59 | G30: 11341.776 | H30: na | I30: na
B31: Net income (Loss) for the year attributable to parent company | C31: -17060.679 | D31: -21368.896 | E31: -59343.533 | F31: 17016.701 | G31: 10526.043 | H31: na | I31: na
B32: Net income (Loss) for the year attributable to non-controlling interest | C32: -30.11 | D32: -44.83887 | E32: -1256.6102 | F32: 364.88951 | G32: 815.73309 | H32: na | I32: na
B33: Adjusted Net Income (Loss) | C33: 6706.4196
B34: ROAE | C34: -0.062428051 | D34: -0.077021337 | E34: na | F34: 0.058371405 | G34: 0.035253799
B35: Adjusted ROAE | C35: 0.024539979
B36: ROAA | C36: -0.0082942004 | D36: -0.0098893614 | E36: na | F36: 0.0097247426 | G36: 0.0063519927
C38: 1Q26 | D38: 4Q25 | E38: 3Q25 | F38: 2Q25 | G38: 1Q25 | H38: QoQ | I38: YoY
B39: Other Comprehensive Income (Loss), net of tax | C39: 1352.148 | D39: 8883.7116 | E39: -1861.5022 | F39: -6593.9755 | G39: -2327.1583 | H39: -0.8477947 | I39: na
B40: Comprehensive Income (Loss) | C40: -15708.531 | D40: -12485.184 | E40: -61205.035 | F40: 10422.725 | G40: 8198.8845 | H40: na | I40: na

Sheet NIM
B2: NIM Analysis | C2: 1Q26 | D2: 4Q25 | E2: 3Q25 | F2: 2Q25 | G2: 1Q25 | H2: QoQ (bps) | I2: YoY (bps)
B3: AR$ NIM | C3: 0.20667493 | D3: 0.21329295 | E3: 0.11725974 | F3: 0.22267327 | G3: 0.20806439 | H3: -66.180174 | I3: -13.8946
B4: AR$ Loan Portfolio | C4: 0.21819407 | D4: 0.21312803 | E4: 0.18377538 | F4: 0.26139552 | G4: 0.25387048 | H4: 50.660395 | I4: -356.7641
B5: AR$ Investment Portfolio | C5: 0.18574662 | D5: 0.22248839 | E5: 0.018972277 | F5: 0.17115817 | G5: 0.15170099 | H5: -367.41774 | I5: 340.45634
B7: Total NIM | C7: 0.17734259 | D7: 0.18752805 | E7: 0.10827593 | F7: 0.20767957 | G7: 0.19203158 | H7: -101.85463 | I7: -146.88988
B8: Loan Portfolio | C8: 0.17367055 | D8: 0.1687279 | E8: 0.15167519 | F8: 0.2267429 | G8: 0.21488729 | H8: 49.426535 | I8: -412.1674
B9: Investment Portfolio | C9: 0.16294236 | D9: 0.260594 | E9: 0.11430578 | F9: 0.20028154 | G9: 0.16921289 | H9: -976.51632 | I9: -62.705271
B11: Average Assets | C11: 1Q26 | D11: 4Q25 | E11: 3Q25 | F11: 2Q25 | G11: 1Q25 | H11: QoQ (bps) | I11: YoY (bps)
B12: Total Interest Earning Assets (IEA) | C12: 1 | D12: 1 | E12: 1 | F12: 1 | G12: 1
B13: AR$ (as % of IEA) | C13: 0.80624097 | D13: 0.79135975 | E13: 0.79936679 | F13: 0.85433773 | G13: 0.86087232 | H13: 148.81222 | I13: -546.31345
B14: US$ (as % of IEA) | C14: 0.19375903 | D14: 0.20864025 | E14: 0.20063321 | F14: 0.14566227 | G14: 0.13912768 | H14: -148.81222 | I14: 546.31345
B15: Loan Portfolio (as % of IEA) | C15: 0.67487279 | D15: 0.67873993 | E15: 0.65676057 | F15: 0.65138524 | G15: 0.6409992 | H15: -38.671402 | I15: 338.73585
B16: AR$ (as % of Loan Portfolio) | C16: 0.77772997 | D16: 0.77398406 | E16: 0.79252158 | F16: 0.85595296 | G16: 0.8314448 | H16: 37.459018 | I16: -537.14838
B17: US$ (as % of Loan Portfolio) | C17: 0.22227003 | D17: 0.22601594 | E17: 0.20747842 | F17: 0.14404704 | G17: 0.1685552 | H17: -37.459018 | I17: 537.14838
B18: Investment Portfolio (as % of IEA) | C18: 0.32512721 | D18: 0.32126007 | E18: 0.34323943 | F18: 0.34861476 | G18: 0.3590008 | H18: 38.671402 | I18: -338.73585
B19: AR$ (as % of Investment Portfolio) | C19: 0.86542182 | D19: 0.82807011 | E19: 0.81246454 | F19: 0.85131968 | G19: 0.91341541 | H19: 373.51709 | I19: -479.93596
B20: US$ (as % of Investment Portfolio) | C20: 0.13457818 | D20: 0.17192989 | E20: 0.18753546 | F20: 0.14868032 | G20: 0.086584588 | H20: -373.51709 | I20: 479.93596
B21: Average Liabilities | C21: 1Q26 | D21: 4Q25 | E21: 3Q25 | F21: 2Q25 | G21: 1Q25 | H21: QoQ (bps) | I21: YoY (bps)
B22: Total Interest Bearing Deposits & Low & Non-Interest Bearing Deposits | C22: 1 | D22: 1 | E22: 1 | F22: 1 | G22: 1
B23: AR$ | C23: 0.65949233 | D23: 0.6315239 | E23: 0.66310008 | F23: 0.7022582 | G23: 0.72110353 | H23: 279.68432 | I23: -616.11199
B24: US$ | C24: 0.34050767 | D24: 0.3684761 | E24: 0.33689992 | F24: 0.2977418 | G24: 0.27889647 | H24: -279.68432 | I24: 616.11199
B25: Total Interest‑Bearing Liabilities | C25: 0.75165975 | D25: 0.7857883 | E25: 0.77488082 | F25: 0.75707448 | G25: 0.73532618 | H25: -341.28549 | I25: 163.33577
B26: AR$ | C26: 0.66307922 | D26: 0.62920665 | E26: 0.66503495 | F26: 0.7094783 | G26: 0.73037846 | H26: 338.72569 | I26: -672.99236
B27: US$ | C27: 0.33692078 | D27: 0.37079335 | E27: 0.33496505 | F27: 0.2905217 | G27: 0.26962154 | H27: -338.72569 | I27: 672.99236
B28: Low & Non Interest Bearing Deposits | C28: 0.24834025 | D28: 0.2142117 | E28: 0.22511918 | F28: 0.24292552 | G28: 0.26467382 | H28: 341.28549 | I28: -163.33577
B29: AR$ | C29: 0.81319013 | D29: 0.81801223 | E29: 0.83232303 | F29: 0.8568671 | G29: 0.8599722 | H29: -48.22101 | I29: -467.82071
B30: US$ | C30: 0.18680987 | D30: 0.18198777 | E30: 0.16767697 | F30: 0.1431329 | G30: 0.1400278 | H30: 48.22101 | I30: 467.82071
B32: Interest Rates | C32: 1Q26 | D32: 4Q25 | E32: 3Q25 | F32: 2Q25 | G32: 1Q25 | H32: QoQ (bps) | I32: YoY (bps)
B33: Interest earned on Loans | C33: 0.35888205 | D33: 0.39224254 | E33: 0.38018617 | F33: 0.39344406 | G33: 0.37032751 | H33: -333.60491 | I33: -114.4546
B34: AR$ | C34: 0.43887811 | D34: 0.48341281 | E34: 0.46097163 | F34: 0.44958606 | G34: 0.43503649 | H34: -445.34699 | I34: 38.416177
B35: US$ | C35: 0.07897327 | D35: 0.080032982 | E35: 0.071603647 | F35: 0.059838358 | G35: 0.051132674 | H35: -10.597126 | I35: 278.40596
B36: Yield on Investment Porfolio | C36: 0.33945239 | D36: 0.44312657 | E36: 0.29346369 | F36: 0.33286488 | G36: 0.33078972 | H36: -1036.7417 | I36: 86.626778
B37: AR$ | C37: 0.38021552 | D37: 0.46372708 | E37: 0.29616853 | F37: 0.35934871 | G37: 0.332867 | H37: -835.11559 | I37: 473.48525
B38: US$ | C38: 0.077475882 | D38: 0.34391888 | E38: 0.28175123 | F38: 0.18153392 | G38: 0.30890156 | H38: -2664.4299 | I38: -2314.2568
B39: Cost of Funds | C39: 0.14914717 | D39: 0.17053362 | E39: 0.20178008 | F39: 0.16040621 | G39: 0.16115673 | H39: -213.86447 | I39: -120.09555
B40: AR$ | C40: 0.21027905 | D40: 0.25254941 | E40: 0.29301073 | F40: 0.2206182 | G40: 0.21793752 | H40: -422.7036 | I40: -76.584735
B41: US$ | C41: 0.030747492 | D41: 0.029968391 | E41: 0.022216212 | F41: 0.018389326 | G41: 0.014346598 | H41: 7.7910037 | I41: 164.00893
B42: Market Interest Rates | C42: 1Q26 | D42: 4Q25 | E42: 3Q25 | F42: 2Q25 | G42: 1Q25 | H42: QoQ (bps) | I42: YoY (bps)
B43: Monetary Policy Rate (eop) | C43: - | D43: - | E43: - | F43: 0.29 | G43: 0.29 | H43: - | I43: -
B44: Monetary Policy Rate (avg) | C44: - | D44: - | E44: - | F44: 0.29 | G44: 0.3005 | H44: - | I44: -
...

Sheet Balance Sheet
B3: (In millions of Ps. stated in terms of the measuring unit current at the end of the reporting period) | C3: mar 26 | D3: 45992 | E3: 45901 | F3: jun25 | G3: mar 25 | H3: QoQ | I3: YoY
B4: Assets
B5: Cash and due from banks | C5: 1483313.7 | D5: 1750186.3 | E5: 2076790.5 | F5: 1368605.5 | G5: 1137446.5 | H5: -0.15248238 | I5: 0.30407342
B6: Secuities at fair value through profit or loss | C6: 311613.68 | D6: 273065.63 | E6: 181863.08 | F6: 226082.64 | G6: 245366.71 | H6: 0.14116773 | I6: 0.26999169
B7: Derivatives | C7: 8388.533 | D7: 10846.428 | E7: 6018.2896 | F7: 9009.5158 | G7: 5031.1585 | H7: -0.22660871 | I7: 0.66731637
B8: Repo transactions | C8: 9741.993 | D8: 4002.3221 | E8: 594.3356 | F8: 0 | G8: 4047.3583 | H8: na | I8: na
B9: Other financial assets | C9: 51131.647 | D9: 65633.875 | E9: 143104.62 | F9: 49113.953 | G9: 63059.918 | H9: -0.22095645 | I9: -0.18915774
B10: Loans and other financings | C10: 3879573 | D10: 4121695.4 | E10: 3854075 | F10: 3604320.3 | G10: 3182274 | H10: -0.058743392 | I10: 0.21911974
B11: Other securities | C11: 913980.82 | D11: 900009.8 | E11: 1133574 | F11: 1469591.2 | G11: 1755054.5 | H11: 0.015523196 | I11: -0.47922937
B12: Financial assets in guarantee | C12: 850793.42 | D12: 760012.92 | E12: 794999.04 | F12: 255843.87 | G12: 156992.56 | H12: 0.119446 | I12: 4.4193232
B13: Current Income tax assets | C13: 0 | D13: 0 | E13: 0 | F13: 0 | G13: 0 | H13: na | I13: na
B14: Investments in equity instruments | C14: 5551.457 | D14: 6244.7147 | E14: 7822.9533 | F14: 6449.7894 | G14: 5001.261 | H14: -0.11101511 | I14: 0.11001145
B15: Investments in subsidiaries, associates and joint ventures | C15: 0 | D15: 0 | E15: 0 | F15: 0 | G15: 0 | H15: #DIV/0! | I15: #DIV/0!
B16: Property, plant and equipment | C16: 142044.58 | D16: 145184.35 | E16: 143370.35 | F16: 144598.14 | G16: 143521.91 | H16: -0.021626048 | I16: -0.010293355
B17: Property investments | C17: 100002.97 | D17: 101330.71 | E17: 102797.71 | F17: 103093.16 | G17: 113114.31 | H17: -0.013103038 | I17: -0.11591232
B18: Intangible Assets | C18: 246805.68 | D18: 253727.13 | E18: 244839.18 | F18: 238256.32 | G18: 234946.26 | H18: -0.027279116 | I18: 0.050477158
B19: Deferred tax assets | C19: 102676.14 | D19: 87190.089 | E19: 66151.99 | F19: 23856.188 | G19: 8695.4531 | H19: 0.17761254 | I19: 10.808027
B20: Other non-financial assets | C20: 49173.546 | D20: 48105.199 | E20: 47602.771 | F20: 49208.782 | G20: 60250.541 | H20: 0.022208556 | I20: -0.18384889
B21: Total assets | C21: 8154791.2 | D21: 8527234.8 | E21: 8803603.9 | F21: 7548029.4 | G21: 7114802.4 | H21: -0.043676952 | I21: 0.14617256
B22: Liabilities and shareholders’ equity
B23: Deposits: | C23: 5340418.1 | D23: 5602226.6 | E23: 5972640.4 | F23: 5200271.3 | G23: 4919264.4 | H23: -0.046732932 | I23: 0.085613152
B24: Non‑financial public sector | C24: 345031.39 | D24: 143676.82 | E24: 190421.3 | F24: 200196.89 | G24: 176204.7 | H24: 1.4014409 | I24: 0.95812822
B25: Financial sector | C25: 1524.666 | D25: 814.26596 | E25: 775.88359 | F25: 354.30436 | G25: 308.47778 | H25: 0.87244226 | I25: 3.9425472
B26: Non‑financial private sector and foreign residents | C26: 4993862.1 | D26: 5457735.5 | E26: 5781443.2 | F26: 4999720.1 | G26: 4742751.2 | H26: -0.084993758 | I26: 0.05294624
B27: Liabilities at a fair value through profit or loss | C27: 10207.088 | D27: 759.4299 | E27: 15689.514 | F27: 0 | G27: 3629.5834 | H27: na | I27: na
B28: Derivatives | C28: 0 | D28: 0 | E28: 0 | F28: 0 | G28: 35.258809 | H28: na | I28: na
B29: Repo transactions | C29: 547174.68 | D29: 430558.46 | E29: 456038.03 | F29: 69496.877 | G29: 41543.631 | H29: 0.27084875 | I29: na
B30: Other financial liabilities | C30: 284295.69 | D30: 306736.41 | E30: 241882.37 | F30: 223037.63 | G30: 235372.11 | H30: -0.073159605 | I30: 0.20785633
B31: Financing received from Central Bank and others | C31: 603947.1 | D31: 526191.68 | E31: 425192.43 | F31: 107242.17 | G31: 95104.697 | H31: 0.14777013 | I31: 5.3503394
B32: Medium Term Notes | C32: 106094.6 | D32: 191377.79 | E32: 308973.58 | F32: 450045.97 | G32: 295229.95 | H32: -0.4456274 | I32: na
B33: Current Income tax liabilities | C33: 3060.641 | D33: 484.5645 | E33: 3079.1034 | F33: 6272.0086 | G33: 11333.479 | H33: 5.3162717 | I33: -0.72994691
B34: Subordinated Loan and Negotiable Obligations | C34: 0 | D34: 0 | E34: 0 | F34: 0 | G34: 0 | H34: #DIV/0! | I34: #DIV/0!
B35: Provisions | C35: 14348.15 | D35: 15202.44 | E35: 50498.521 | F35: 54863.989 | G35: 55330.917 | H35: -0.056194289 | I35: -0.74068476
B36: Deferred tax liabilities | C36: 2232.308 | D36: 0 | E36: 3306.2117 | F36: 2355.7102 | G36: 2583.1278 | H36: na | I36: -0.13581203
B37: Other non-financial liabilities | C37: 154513.82 | D37: 350472.9 | E37: 213081.68 | F37: 264764.56 | G37: 260489.71 | H37: -0.55912764 | I37: -0.40683332
B38: Total liabilities | C38: 7066292.2 | D38: 7424010.3 | E38: 7690381.8 | F38: 6378350.2 | G38: 5919916.9 | H38: -0.048183941 | I38: 0.1936472
B39: Attributable Shareholders’ equity | C39: 1087674.2 | D39: 1102371.4 | E39: 1112332 | F39: 1166941.8 | G39: 1192505.2 | H39: -0.013332301 | I39: -0.087908171
B40: Non Controlling Interest | C40: 824.769 | D40: 853.17598 | E40: 889.99012 | F40: 2737.327 | G40: 2380.3031 | H40: -0.03329557 | I40: -0.65350254
B41: Total liabilities and shareholders’ equity | C41: 8154791.2 | D41: 8527234.8 | E41: 8803603.9 | F41: 7548029.4 | G41: 7114802.4 | H41: -0.043676952 | I41: 0.14617256
B44: Consolidated Balance Sheet Data - Non Restated Figures | C44: mar 26 | D44: dec 25 | E44: sep 25 | F44: jun 25 | G44: mar 25
...

Sheet Result from exposure to Infl
B2: Result from exposure to changes in the purchasing power of the currency | H2: % Change
B3: (In millions of Ps. stated in terms of the measuring unit current at the end of the reporting period) | C3: 1Q26 | D3: 4Q25 | E3: 3Q25 | F3: 2Q25 | G3: 1Q25 | H3: QoQ | I3: YoY
B4: Result from exposure to changes in the purchasing power of the currency | C4: -41607.988 | D4: -37924.333 | E4: -34443.267 | F4: -36808.128 | G4: -55524.479 | H4: 0.097131702 | I4: -0.25063704
B5: Total | C5: -41607.988 | D5: -37924.333 | E5: -34443.267 | F5: -36808.128 | G5: -55524.479 | H5: 0.097131702 | I5: -0.25063704

Sheet Net Financial Income
B2: Interest Income | H2: % Change
B3: (In millions of Ps. stated in terms of the measuring unit current at the end of the reporting period) | C3: 1Q26 | D3: 4Q25 | E3: 3Q25 | F3: 2Q25 | G3: 1Q25 | H3: QoQ | I3: YoY
B4: Interest on/from:
B5: - Cash and Due from banks | C5: 10.023571 | D5: 156.2102 | E5: 57.977439 | F5: 55.074243 | G5: 6.8154825 | H5: -0.9358328 | I5: 0.47070602
B6: - Loans to the financial sector | C6: 31702.561 | D6: 22351.632 | E6: 3035.2511 | F6: 1969.8373 | G6: 1143.7031 | H6: 0.41835552 | I6: 26.719223
B7: - Overdrafts | C7: 34112.756 | D7: 42828.852 | E7: 35991.435 | F7: 22615.957 | G7: 17759.507 | H7: -0.20350991 | I7: 0.9208166
B8: - Promissory notes | C8: 33334.355 | D8: 48005.313 | E8: 38332.516 | F8: 37093.498 | G8: 35333.034 | H8: -0.30561114 | I8: -0.056566856
B9: - Corporate unsecured loans | C9: 44884.184 | D9: 52303.999 | E9: 54012.468 | F9: 47740.747 | G9: 44880.662 | H9: -0.14185942 | I9: 7.8479551e-05
B10: - Leases | C10: 12624.147 | D10: 14197.458 | E10: 14640.122 | F10: 12837.678 | G10: 11590.239 | H10: -0.11081637 | I10: 0.089205047
B11: - Mortgage loans | C11: 38854.229 | D11: 32456.439 | E11: 26750.232 | F11: 38441.149 | G11: 32534.66 | H11: 0.19711928 | I11: 0.19424111
B12: - Automobile and other secured loans | C12: 35680.692 | D12: 38070.736 | E12: 39747.496 | F12: 42813.331 | G12: 40718.578 | H12: -0.062779031 | I12: -0.12372451
B13: - Personal loans | C13: 72018.801 | D13: 80747.952 | E13: 84057.927 | F13: 83910.527 | G13: 77024.161 | H13: -0.10810368 | I13: -0.064984284
B14: - Credit cards loans | C14: 27948.302 | D14: 33543.288 | E14: 30609.915 | F14: 25732.627 | G14: 19816.111 | H14: -0.16679896 | I14: 0.41038276
B15: - Foreign trade loans & US loans | C15: 16628.365 | D15: 17249.638 | E15: 13118.918 | F15: 6955.8881 | G15: 6755.2741 | H15: -0.036016586 | I15: 1.4615382
B16: - Other (1) | C16: 107180.75 | D16: 181382.83 | E16: 164351.36 | F16: 134946.47 | G16: 110125.25 | H16: -0.40909099 | I16: -0.02673778
B17: Total | C17: 454979.16 | D17: 563294.35 | E17: 504705.62 | F17: 455112.78 | G17: 397688 | H17: -0.19228878 | I17: 0.14406058
B19: Interest Expenses | H19: % Change
C20: 1Q26 | D20: 4Q25 | E20: 3Q25 | F20: 2Q25 | G20: 1Q25 | H20: QoQ | I20: YoY
B21: Interest on:
B22: - Checking and Savings Accounts | C22: 21976.071 | D22: 17085.593 | E22: 17130.752 | F22: 9414.978 | G22: 7353.0316 | H22: 0.28623405 | I22: 1.9887089
B23: - Special Checking Accounts | C23: 56540.456 | D23: 81257.002 | E23: 98835.722 | F23: 86494.255 | G23: 72448.572 | H23: -0.30417743 | I23: -0.21957805
B24: - Time Deposits | C24: 107864.24 | D24: 133876.32 | E24: 137118.21 | F24: 87727.179 | G24: 100516.35 | H24: -0.19429937 | I24: 0.073101481
B25: - Other Liabilities from Financial Transactions | C25: 55305.506 | D25: 59829.027 | E25: 59915.926 | F25: 23613.321 | G25: 12519.092 | H25: -0.075607467 | I25: 3.4176931
B26: - Financing from the Financial Sector | C26: 453.28056 | D26: 651.41394 | E26: 618.81651 | F26: 667.46597 | G26: 900.21506 | H26: -0.30415895 | I26: -0.49647526
B27: - Subordinated Loans and Negotiable Obligations | C27: 0 | D27: 0 | E27: 0 | F27: 0 | G27: 0 | H27: #DIV/0! | I27: #DIV/0!
B28: - Other | C28: 216.33186 | D28: 3531.6372 | E28: 9909.86 | F28: 7940.1229 | G28: 7202.1629 | H28: -0.9387446 | I28: -0.96996293
B29: Total | C29: 242355.88 | D29: 296231 | E29: 323529.28 | F29: 215857.32 | G29: 200939.42 | H29: -0.18186859 | I29: 0.20611419
B31: NIFFI & Exchange rate differences on gold and foreign currency | H31: % Change
B32: (In millions of Ps. stated in terms of the measuring unit current at the end of the reporting period) | C32: 1Q26 | D32: 4Q25 | E32: 3Q25 | F32: 2Q25 | G32: 1Q25 | H32: QoQ | I32: YoY
B33: Income from:
B34: - Government and corporate securities | C34: 37864.611 | D34: 27468.397 | E34: 4534.8254 | F34: 25192.651 | G34: 31091.495 | H34: 0.37847908 | I34: 0.21784467
B35: - Term Operations | C35: -34477.245 | D35: -19733.295 | E35: 10049.797 | F35: 3786.5135 | G35: -574.87263 | H35: na | I35: na
B36: Subtotal | C36: 3387.3662 | D36: 7735.102 | E36: 14584.623 | F36: 28979.165 | G36: 30516.622 | H36: -0.56207866 | I36: -0.88899931
B37: Result from recognition of assets measured at amortized cost | C37: 593.831 | D37: 7998.1165 | E37: -6933.4243 | F37: -738.55199 | G37: 5215.7153 | H37: na | I37: na
B38: Exchange rate differences on gold and foreign currency | C38: 38270.599 | D38: -14123.053 | E38: -41869.578 | F38: -8182.8855 | G38: -57.087207 | H38: na | I38: na
B39: Total | C39: 42251.796 | D39: 1610.1659 | E39: -34218.379 | F39: 20057.727 | G39: 35675.25 | H39: 25.240648 | I39: 0.18434477
B41: Net Financial Income | H41: % Change
B42: (In millions of Ps. stated in terms of the measuring unit current at the end of the reporting period) | C42: 1Q26 | D42: 4Q25 | E42: 3Q25 | F42: 2Q25 | G42: 1Q25 | H42: QoQ | I42: YoY
B43: Client Net Financial Income | C43: 168302.1 | D43: 164216.69 | E43: 135761.12 | F43: 184480.99 | G43: 166858.02 | H43: 0.024878173 | I43: 0.0086545329
B44: Market related Net Financial Income | C44: 86354.226 | D44: 104684.81 | E44: 11804.678 | F44: 74921.29 | G44: 65764.365 | H44: -0.17510265 | I44: 0.31308538
...

Sheet Investment Portfolio
B2: Securities Breakdown1
B3: (In millions of Ps. stated in terms of the measuring unit current at the end of the reporting period) | C3: mar 26 | D3: dec 25 | E3: sep 25 | F3: jun 25 | G3: mar 25
B4: Held for trading | C4: 297589.25 | D4: 257814.45 | E4: 171763.76 | F4: 215977.42 | G4: 233035.85
B5: Government Securities | C5: 287080.52 | D5: 243950.98 | E5: 154828.12 | F5: 182963.91 | G5: 204464.63
B6: Securities Issued by the Central Bank | C6: 32.13 | D6: 0.11272556 | E6: 1257.188 | F6: 4545.0024 | G6: 1548.5626
B7: Corporate Securities | C7: 10476.598 | D7: 13863.357 | E7: 15678.444 | F7: 28468.507 | G7: 27022.653
B8: Held to maturity | C8: 815617.43 | D8: 792088.92 | E8: 1039279.8 | F8: 1233498.2 | G8: 1294567.1
B9: Government Securities2 | C9: 801554.64 | D9: 789024.65 | E9: 1035952.3 | F9: 1199914.8 | G9: 1293015.7
B10: Securities Issued by the Central Bank | C10: 12705.228 | D10: 1580.0534 | E10: 1748.0042 | F10: 30506.67 | G10: 0
B11: Corporate Securities | C11: 1357.565 | D11: 1484.2159 | E11: 1579.4808 | F11: 3076.7849 | G11: 1551.3956
B12: Available for sale | C12: 117939.29 | D12: 129416.77 | E12: 112216.43 | F12: 252648.02 | G12: 477819.7
B13: Government Securities | C13: 677.647 | D13: 798.01159 | E13: 304.09916 | F13: 126081.38 | G13: 337647.76
B14: Securities Issued by the Central Bank | C14: 0 | D14: 0 | E14: 0 | F14: 0 | G14: 0
B15: Corporate Securities | C15: 117261.64 | D15: 128618.76 | E15: 111912.33 | F15: 126566.63 | G15: 140171.94
... B20: Total (incl. US$ Gov Sec. in Guarantee) | C20: 1972407.7 | D20: 1817824.3 | E20: 1994335.8 | F20: 1799257.7 | G20: 2031696.7
B22: Investment Portfolio
B23: (In millions of Ps. stated in terms of the measuring unit current at the end of the reporting period) | C23: mar 26 | D23: dec 25 | E23: sep 25 | F23: jun 25 | G23: mar 25
B24: Securities Issued by the Central Bank | C24: 12737.358 | D24: 1580.1661 | E24: 3005.1922 | F24: 35051.672 | G24: 1548.4026
B25: AR$ Leliq | C25: 0 | D25: 0 | E25: 0 | F25: 0 | G25: 0
B26: Bopreal | C26: 12737.358 | D26: 1580.1661 | E26: 3005.1922 | F26: 35051.672 | G26: 1548.4026
B27: Government Securities | C27: 1089312.8 | D27: 1033773.6 | E27: 1191084.6 | F27: 1508960.1 | G27: 1835128.1
B28: AR$ | C28: 1054550.2 | D28: 954281.41 | E28: 1042318.2 | F28: 1499046.4 | G28: 1660873.8
B29: US$ Linked/US$ | C29: 34762.624 | D29: 79492.241 | E29: 148766.36 | F29: 9913.6974 | G29: 174254.28
B30: Corporate Securities | C30: 129095.81 | D30: 143966.33 | E30: 129170.25 | F30: 158111.93 | G30: 168745.99
B31: AR$ | C31: 97148.585 | D31: 103108.81 | E31: 87016.098 | F31: 115635.06 | G31: 123108.54
B32: US$ Linked/US$ | C32: 31947.22 | D32: 40857.513 | E32: 42154.153 | F32: 42476.868 | G32: 45637.453
B33: Gov Sec. in Guarantee | C33: 671862.02 | D33: 556749.24 | E33: 591357.69 | F33: 53479.688 | G33: 22226.723
B34: AR$ | C34: 608509.53 | D34: 489252.88 | E34: 452196.6 | F34: 22804.14 | G34: 22226.723
B35: US$ Linked/US$ | C35: 63352.484 | D35: 67496.358 | E35: 139161.08 | F35: 30675.548 | G35: 0
... B40: US$ Linked/US$ | C40: 202457.42 | D40: 267178.85 | E40: 412210.59 | F40: 161772.09 | G40: 221440.14
B42: Goverment Securities breakdown
B43: (In millions of Ps. stated in terms of the measuring unit current at the end of the reporting period) | C43: mar 26 | D43: dec 25 | E43: sep 25 | F43: jun 25 | G43: mar 25
B45: Dual (interest rate)1 | C45: 235474 | D45: 358924.53 | E45: 360029.18 | F45: 345807.1 | G45: 365830.71
B46: Dual (currency) | C46: 0 | D46: 0 | E46: 0 | F46: 0 | G46: 0
B47: US$ | C47: 63352.484 | D47: 67496.358 | E47: 139161.08 | F47: 30675.548 | G47: 0
B48: Dollar linked | C48: 12611.044 | D48: 72078.445 | E48: 64243.721 | F48: 0 | G48: 0
B49: Lecer | C49: 78811.722 | D49: 50473.171 | E49: 0 | F49: 0 | G49: 5.5602011
B50: Boncer2 | C50: 621780.69 | D50: 601995.33 | E50: 848314.34 | F50: 820917.63 | G50: 851296.99
B51: Treasury Bonds (Fixed interest rate) | C51: 117656.89 | D51: 7221.0461 | E51: 7658.467 | F51: 83548.04 | G51: 181567.64
B52: Treasury Bonds (Badlar) | C52: 2400.325 | D52: 2628.5412 | E52: 4323.7484 | F52: 4514.4464 | G52: 4766.567
...

Sheet Earning assets
B2: Interest Earning Assets | C2: 1Q26 | E2: 4Q25 | G2: 3Q25 | I2: 2Q25 | K2: 1Q25
C3: Avg. Balance | D3: Avg. Rate | E3: Avg. Balance | F3: Avg. Rate | G3: Avg. Balance | H3: Avg. Rate | I3: Avg. Balance | J3: Avg. Rate | K3: Avg. Balance | L3: Avg. Rate
B4: Investment Portfolio
B5: Government and Corporate Securities | C5: 1793415.5 | D5: 0.34927145 | E5: 1840445.1 | F5: 0.44312189 | G5: 1833603.6 | H5: 0.29802792 | I5: 1724070.2 | J5: 0.3354841 | K5: 1736256 | L5: 0.33060011
B6: Securities Issued by the Central Bank | C6: 73098.329 | D6: 0.098548846 | E6: 2038.548 | F6: 0.44734574 | G6: 36803.113 | H6: 0.0660647 | I6: 14636.874 | J6: 0.024348794 | K6: 1405.7735 | L6: 0.56497313
B7: Total Investment Portfolio | C7: 1866513.8 | D7: 0.33945239 | E7: 1842483.7 | F7: 0.44312657 | G7: 1870406.7 | H7: 0.29346369 | I7: 1738707.1 | J7: 0.33286488 | K7: 1737661.7 | L7: 0.33078972
B8: Loans
B9: Loans to the Financial Sector | C9: 306439.2 | D9: 0.41381861 | E9: 175306.4 | F9: 0.51000151 | G9: 23671.729 | H9: 0.51289048 | I9: 13500.937 | J9: 0.58361499 | K9: 12041.341 | L9: 0.37992549
B10: Overdrafts | C10: 312036.62 | D10: 0.43729169 | E10: 311673.91 | F10: 0.54966233 | G10: 231949.69 | H10: 0.62067656 | I10: 190274.59 | J10: 0.47543831 | K10: 153957.97 | L10: 0.46141182
B11: Promissory Notes | C11: 335894.26 | D11: 0.39696248 | E11: 364096.93 | F11: 0.52739048 | G11: 319997.64 | H11: 0.47915999 | I11: 366186 | J11: 0.4051875 | K11: 351727.68 | L11: 0.40182262
B12: Corporate Unsecured Loans | C12: 464300.07 | D12: 0.38668255 | E12: 467372.39 | F12: 0.44764304 | G12: 512762.69 | H12: 0.42134477 | I12: 484205.83 | J12: 0.39438391 | K12: 446494.07 | L12: 0.40207174
B13: Receivables from Financial Leases | C13: 116404.02 | D13: 0.4338045 | E13: 125444.75 | F13: 0.45270793 | G13: 123870.11 | H13: 0.47275719 | I13: 112261.39 | J13: 0.45742095 | K13: 104044.21 | L13: 0.445589
B14: Mortgage loans | C14: 396733.57 | D14: 0.39174127 | E14: 402476.37 | F14: 0.32256741 | G14: 400256.8 | H14: 0.26733069 | I14: 392028.71 | J14: 0.3922279 | K14: 384244.96 | L14: 0.33868666
B15: Automobile and Other Secured Loans | C15: 277725.2 | D15: 0.51389923 | E15: 292994.13 | F15: 0.51974742 | G15: 314262.11 | H15: 0.50591521 | I15: 312743.71 | J15: 0.54758359 | K15: 293209.48 | L15: 0.55548789
B16: Personal Loans | C16: 486407.35 | D16: 0.59225093 | E16: 518167.8 | F16: 0.62333438 | G16: 538638.48 | H16: 0.62422519 | I16: 533809.87 | J16: 0.62876714 | K16: 474804.87 | L16: 0.64889108
B17: Credit Card | C17: 346664.96 | D17: 0.322482 | E17: 382669.6 | F17: 0.35062401 | G17: 396883.82 | H17: 0.30850252 | I17: 399830.51 | J17: 0.25743535 | K17: 383813.12 | L17: 0.20651833
B18: Total Loans excl. Foreign trade and US$ loans1 | C18: 3042605.3 | D18: 0.43536377 | E18: 3040202.3 | F18: 0.47958081 | G18: 2862293.1 | H18: 0.45722412 | I18: 2804841.6 | J18: 0.44659257 | K18: 2604337.7 | L18: 0.43128148
B19: Foreign Trade Loans & US$ loans | C19: 833747.9 | D19: 0.079776465 | E19: 852851.31 | F19: 0.080903378 | G19: 718018.91 | H19: 0.073083968 | I19: 449610.85 | J19: 0.061883632 | K19: 501625.78 | L19: 0.053867041
B20: Total Loans | C20: 3876353.2 | D20: 0.35888205 | E20: 3893053.6 | F20: 0.39224254 | G20: 3580312 | H20: 0.38018617 | I20: 3254452.4 | J20: 0.39344406 | K20: 3105963.5 | L20: 0.37032751
... B22: Total Interest‑Earning Assets | C22: 5743827.9 | D22: 0.35255804 | E22: 5735707.3 | F22: 0.40858454 | G22: 5451472.2 | H22: 0.35043699 | I22: 4996202.2 | J22: 0.37235322 | K22: 4845502.9 | L22: 0.35614393

Sheet Bearing Liabilities
B2: Interest-Bearing Liabilities & Low & Non-Interest -Bearing Deposits | C2: 1Q26 | E2: 4Q25 | G2: 3Q25 | I2: 2Q25 | K2: 1Q25
C3: Avg. Balance | D3: Avg. Rate | E3: Avg. Balance | F3: Avg. Rate | G3: Avg. Balance | H3: Avg. Rate | I3: Avg. Balance | J3: Avg. Rate | K3: Avg. Balance | L3: Avg. Rate
B4: Time Deposits | C4: 1944541.6 | D4: 0.22188106 | E4: 1985466.6 | F4: 0.26971257 | G4: 1923859.9 | H4: 0.2850898 | I4: 1364378.5 | J4: 0.25719309 | K4: 1463362.8 | L4: 0.2747544
B5: AR$ Time Deposits | C5: 1380982 | D5: 0.29821113 | E5: 1276609.7 | F5: 0.40046086 | G5: 1293654.8 | H5: 0.40790105 | I5: 1107907.7 | J5: 0.31066304 | K5: 1288141.2 | L5: 0.30932263
B6: FX Time Deposits | C6: 563559.66 | D6: 0.034837057 | E6: 708856.86 | F6: 0.034242566 | G6: 630205.09 | H6: 0.032988748 | I6: 256470.81 | J6: 0.02621255 | K6: 175221.59 | L6: 0.020626134
B7: Special Checking Accounts | C7: 1876078.6 | D7: 0.12055029 | E7: 2309917.5 | F7: 0.14070979 | G7: 2122050.5 | H7: 0.1863023 | I7: 2074074.6 | J7: 0.16681031 | K7: 1743842.6 | L7: 0.16618145
B8: AR$ Special Checking Accounts | C8: 1250520.8 | D8: 0.17343103 | E8: 1510057.2 | F8: 0.20748027 | G8: 1358017.3 | H8: 0.28329483 | I8: 1397272.1 | J8: 0.24114013 | K8: 1135595 | L8: 0.24906275
B9: FX Special Checking Accounts | C9: 625557.78 | D9: 0.014839083 | E9: 799860.31 | F9: 0.014653717 | G9: 764033.21 | H9: 0.013904637 | I9: 676802.45 | J9: 0.01335491 | K9: 608247.66 | L9: 0.011442521
B10: Borrowings from Other Fin. Inst. & Medium-Term Notes | C10: 1060640.4 | D10: 0.21028348 | E10: 1099440.3 | F10: 0.22004084 | G10: 771565.71 | H10: 0.31382806 | I10: 486801.59 | J10: 0.1995128 | K10: 328733.17 | L10: 0.1632851
B11: Subordinated Loans and Negotiable Obligations | C11: 0 | D11: 0 | E11: 0 | F11: 0 | G11: 0 | H11: 0 | I11: 0 | J11: 0 | K11: 0 | L11: 0
B12: Total Interest‑Bearing Liabilities | C12: 4881260.6 | D12: 0.18041527 | E12: 5394824.4 | F12: 0.20435421 | G12: 4817476.1 | H12: 0.24617759 | I12: 3925254.7 | J12: 0.20228213 | K12: 3535938.6 | L12: 0.21084554
B14: Low & Non-Interest-Bearing Deposits
B15: Savings Accounts | C15: 1049645.4 | D15: 0.047409876 | E15: 896063.29 | F15: 0.026185936 | G15: 853952.55 | H15: 0.018657302 | I15: 768890.3 | J15: 0.014288097 | K15: 748342.86 | L15: 0.0031869179
B16: AR$ Savings Accounts | C16: 510320.05 | D16: 0.087635883 | E16: 390976.01 | F16: 0.04864372 | G16: 391886.66 | H16: 0.032936958 | I16: 374705.92 | J16: 0.025301333 | K16: 373762.13 | L16: 0.0060967147
B17: FX Savings Accounts | C17: 539325.38 | D17: 0.0093472552 | E17: 505087.28 | F17: 0.0088019008 | G17: 462065.89 | H17: 0.0065464615 | I17: 394184.38 | J17: 0.0038190748 | K17: 374580.73 | L17: 0.0002834801
B18: Checking Accounts | C18: 563070.24 | D18: 0.067737062 | E18: 574605.71 | F18: 0.078102452 | G18: 545625.62 | I18: 490621.87 | K18: 524385.39
B19: AR$ Checking Accounts | C19: 535745 | D19: 0.071191936 | E19: 550287.72 | F19: 0.081553909 | G19: 526852.53 | I19: 481456.13 | K19: 511211.11
B20: FX Checking Accounts | C20: 27325.241 | E20: 24317.987 | G20: 18773.09 | I20: 9165.7484 | K20: 13174.275
B21: Total Low & Non-Interest-Bearing Deposits | C21: 1612715.7 | E21: 1470669 | G21: 1399578.2 | I21: 1259512.2 | K21: 1272728.3
B23: Total Interest‑Bearing Liabilities & Low & Non-Interest-Bearing Deposits | C23: 6493976.3 | D23: 0.14914717 | E23: 6865493.4 | F23: 0.17053362 | G23: 6217054.3 | H23: 0.20178008 | I23: 5184766.8 | J23: 0.16040621 | K23: 4808666.9 | L23: 0.16115673
B24: AR$ | C24: 4282727.5 | D24: 0.21027905 | E24: 4335723.1 | F24: 0.25254941 | G24: 4122529.2 | H24: 0.29301073 | I24: 3641045 | J24: 0.2206182 | K24: 3467546.6 | L24: 0.21793752
B25: FX | C25: 2211248.7 | D25: 0.030747492 | E25: 2529770.2 | F25: 0.029968391 | G25: 2094525.1 | H25: 0.022216212 | I25: 1543721.8 | J25: 0.018389326 | K25: 1341120.2 | L25: 0.014346598
B27: AR$ Liabilities. Avg. Balance | C27: 1Q26 | E27: 4Q25 | G27: 1Q25
B28: (In millions of Ps. stated in terms of the measuring unit current at the end of the reporting period) | C28: Avg. Balance | D28: Avg. Rate | E28: Avg. Balance | F28: Avg. Rate | G28: Avg. Balance | H28: Avg. Rate
B29: Interest‑Bearing Liabilities
B30: Time Deposits | C30: 1380982 | D30: 0.29821113 | E30: 1276609.7 | F30: 0.40046086 | G30: 1288141.2 | H30: 0.30932263
B31: Special Checking Accounts | C31: 1250520.8 | D31: 0.17343103 | E31: 1510057.2 | F31: 0.20748027 | G31: 1135595 | H31: 0.24906275
B32: Borrowings from Other Fin. Inst. & Medium Term-Notes | C32: 605159.68 | D32: 0.31231669 | E32: 607792.48 | F32: 0.33983367 | G32: 158837.18 | H32: 0.28404515
B33: Total Interest‑Bearing Liabilities | C33: 3236662.5 | D33: 0.25263826 | E33: 3394459.4 | F33: 0.30375607 | G33: 2582573.4 | H33: 0.28127083
B34: Low & Non-Interest-Bearing Deposits
B35: Savings Accounts | C35: 510320.05 | D35: 0.087635883 | E35: 390976.01 | F35: 0.04864372 | G35: 373762.13
B36: Checking Accounts | C36: 535745 | D36: 0.071191936 | E36: 550287.72 | F36: 0.081553909 | G36: 511211.11
B37: Total Low & Non-Interest-Bearing Deposits | C37: 1046065.1 | E37: 941263.73 | G37: 884973.25
B39: Total Interest‑Bearing Liabilities & Low & Non-Interest-Bearing Deposits | C39: 4282727.5 | D39: 0.21027905 | E39: 4335723.1 | F39: 0.25254941 | G39: 3467546.6 | H39: 0.21793752
B41: US$ Liabilities. Average Balance | C41: 1Q26 | E41: 4Q25 | G41: 1Q25
B42: (In millions of Ps. stated in terms of the measuring unit current at the end of the reporting period) | C42: Avg. Balance | D42: Avg. Rate | E42: Avg. Balance | F42: Avg. Rate | G42: Avg. Balance | H42: Avg. Rate
B43: Interest‑Bearing-Liabilities
B44: Time Deposits | C44: 563559.66 | D44: 0.034837057 | E44: 708856.86 | F44: 0.034242566 | G44: 175221.59 | H44: 0.020626134
B45: Special Checking Accounts | C45: 625557.78 | D45: 0.014839083 | E45: 799860.31 | F45: 0.014653717 | G45: 608247.66 | H45: 0.011442521
B46: Borrowings from Other Fin. Inst. & Medium Term Notes | C46: 455480.68 | D46: 0.07472035 | E46: 491647.81 | F46: 0.071948682 | G46: 169895.98 | H46: 0.050385514
...

Sheet Assets & Liabilities avg life
B2: ASSETS | C2: mar 26 | E2: dec 25 | G2: sep 25 | I2: jun 25 | K2: mar 25
B3: AR$ | C3: Avg. Repricing (days) | D3: % of total AR$ Assets | E3: Avg. Repricing (days) | F3: % of total AR$ Assets | G3: Avg. Repricing (days) | H3: % of total AR$ Assets | I3: Avg. Repricing (days) | J3: % of total AR$ Assets | K3: Avg. Repricing (days) | L3: % of total AR$ Assets
B4: Total AR$ Assets | C4: 140.94597 | E4: 153.81021 | G4: 161.26287 | I4: 171.87176 | K4: 189.44826
B5: Cash | C5: 1 | D5: 0 | E5: 1 | F5: 0 | G5: 1 | H5: 0 | I5: 1 | J5: 0 | K5: 1 | L5: 0
B6: Cash (without interest rate risk) | D6: 0.10205366 | F6: 0.10843516 | H6: 0.12484049 | J6: 0.08336972 | L6: 0.069395519
B7: Government & Corporate Securities | C7: 9.9614206 | D7: 0.25112128 | E7: 19.295291 | F7: 0.21575793 | G7: 5.7028595 | H7: 0.22459303 | I7: 27.493916 | J7: 0.21306957 | K7: 37.422115 | L7: 0.29054392
B8: Total AR$ Loans | C8: 189.95039 | E8: 208.89168 | G8: 239.26511 | I8: 230.68208 | K8: 249.49264
B9: Promissory Notes | C9: 43.252391 | D9: 0.058333475 | E9: 45.001172 | F9: 0.067360255 | G9: 41.589672 | H9: 0.05024893 | I9: 40.155911 | J9: 0.066667154 | K9: 48.310109 | L9: 0.065841868
B10: Corporate Unsecured Loans | C10: 146.72536 | D10: 0.040770955 | E10: 129.29881 | F10: 0.036548346 | G10: 103.31633 | H10: 0.039392333 | I10: 88.036817 | J10: 0.046324431 | K10: 83.733606 | L10: 0.057572894
B11: Mortgage | C11: 1 | D11: 0.065246521 | E11: 1.0000515 | F11: 0.064398614 | G11: 1.000073 | H11: 0.060812532 | I11: 1.0000919 | J11: 0.061684722 | K11: 1.0001191 | L11: 0.071006162
B12: Personal Loans | C12: 614.96941 | D12: 0.076729925 | E12: 649.97102 | F12: 0.081119895 | G12: 659.4404 | H12: 0.080546731 | I12: 692.87232 | J12: 0.083037834 | K12: 727.78012 | L12: 0.096005899
B13: Auto Loans | C13: 256.41318 | D13: 0.043338698 | E13: 293.36499 | F13: 0.046557663 | G13: 331.49583 | H13: 0.046142834 | I13: 360.53712 | J13: 0.049148502 | K13: 393.0193 | L13: 0.056416243
B14: Credit Cards | C14: 79.577238 | D14: 0.055186371 | E14: 97.807194 | F14: 0.061003945 | G14: 103.85999 | H14: 0.060668349 | I14: 105.76918 | J14: 0.064200351 | K14: 112.91279 | L14: 0.073307571
B15: Overdraft | C15: 24.877864 | D15: 0.037305877 | E15: 29.198112 | F15: 0.064845453 | G15: 51.808973 | H15: 0.034860025 | I15: 31.806185 | J15: 0.038797495 | K15: 40.79569 | L15: 0.028982982
B16: Other Loans | C16: 192.53428 | D16: 0.015267356 | E16: 168.95571 | F16: 0.01495398 | G16: 325.68455 | H16: 0.016110224 | I16: 76.612991 | J16: 0.0049095745 | K16: 72.458699 | L16: 0.0085582518
B17: Receivable From Financial Leases | C17: 525.3544 | D17: 0.017829609 | E17: 533.556 | F17: 0.01719967 | G17: 613.65878 | H17: 0.017351679 | I17: 688.45162 | J17: 0.016052767 | K17: 753.54597 | L17: 0.017511368
B18: Other Assets (without interest rate risk) | D18: 0.014795235 | F18: 0.017543688 | H18: 0.023504564 | J18: 0.016427702 | L18: 0.026750901
B19: US$ | C19: Avg. Repricing (days) | D19: % of total US$ Assets | E19: Avg. Repricing (days) | F19: % of total US$ Assets | G19: Avg. Repricing (days) | H19: % of total US$ Assets | I19: Avg. Repricing (days) | J19: % of total US$ Assets | K19: Avg. Repricing (days) | L19: % of total US$ Assets
B20: Total US$ Assets | C20: 130.03054 | E20: 108.41901 | G20: 104.98299 | I20: 147.98279 | K20: 132.50167
B21: Cash | C21: 1 | D21: 0.10131975 | E21: 1 | F21: 0.10509665 | G21: 1 | H21: 0.075372805 | I21: 1 | J21: 0.098237225 | K21: 1 | L21: 0.10355968
B22: Cash (without interest rate risk) | D22: 0.31875774 | F22: 0.33336079 | H22: 0.40225803 | J22: 0.43799816 | L22: 0.43526657
B23: Government & Corporate Securities | C23: 12.471567 | D23: 0.12670641 | E23: 20.364777 | F23: 0.14407556 | G23: 43.670212 | H23: 0.15751182 | I23: 87.823978 | J23: 0.06998109 | K23: 64.572003 | L23: 0.13527141
B24: Total US$ Loans | C24: 168.79922 | D24: 0.44348465 | E24: 155.05886 | F24: 0.41161547 | G24: 148.83025 | H24: 0.35801774 | I24: 193.17665 | J24: 0.39459708 | K24: 199.43464 | L24: 0.32217558
B25: Receivable From Financial Leases | C25: 952.56402 | D25: 0.012800972 | E25: 640.9229 | F25: 0.0083237104 | G25: 255.56616 | H25: 0.0086031816 | I25: 281.44854 | J25: 0.0024835808 | K25: 180.78299 | L25: 0.0075625105
B26: Other Assets (without interest rate risk) | D26: 0 | F26: 0 | H26: 0 | J26: 0 | L26: 0
B27: LIABILITIES
B28: AR$ | C28: Avg. Repricing (days) | D28: % of total AR$ Liabilities | E28: Avg. Repricing (days) | F28: % of total AR$ Liabilities | G28: Avg. Repricing (days) | H28: % of total AR$ Liabilities | I28: Avg. Repricing (days) | J28: % of total AR$ Liabilities | K28: Avg. Repricing (days) | L28: % of total AR$ Liabilities
B29: Total AR$ Liabilities | C29: 12.682364 | E29: 15.535861 | G29: 14.670621 | I29: 21.655291 | K29: 19.879799
B30: Deposits | C30: 12.347383 | D30: 0.74091459 | E30: 16.626385 | F30: 0.71350878 | G30: 14.569529 | H30: 0.69637566 | I30: 12.56533 | J30: 0.75652748 | K30: 19.883578 | L30: 0.84269025
B31: Private Sector Deposits | D31: 0.67312352 | F31: 0.68864113 | H31: 0.66573914 | J31: 0.71586888 | L31: 0.80248978
B32: Checking Accounts (without interest rate risk) | C32: 0 | D32: 0.22820778 | E32: 0 | F32: 0.23530057 | G32: 0 | H32: 0.16360086 | I32: 0 | J32: 0.20672097 | K32: 0 | L32: 0.21389549
B33: Special Checking Accounts | C33: 1 | D33: 0.25642187 | E33: 1 | F33: 0.24481272 | G33: 1 | H33: 0.25527504 | I33: 1 | J33: 0.34557661 | K33: 1 | L33: 0.31964893
B34: Time Deposits | C34: 18.084568 | D34: 0.17963958 | E34: 22.614165 | F34: 0.1807339 | G34: 20.562171 | H34: 0.2298665 | I34: 24.476893 | J34: 0.14257794 | K34: 31.308804 | L34: 0.23298068
B35: Cancellable before maturity Time Deposit | C35: 146.61501 | D35: 0.008854284 | E35: 115.10626 | F35: 0.027793936 | G35: 130.8744 | H35: 0.016996737 | I35: 120.50423 | J35: 0.02099336 | K35: 115.08862 | L35: 0.035964668
B36: Public Sector Deposits | C36: 24.18428 | D36: 0.067478344 | E36: 21.140356 | F36: 0.024711943 | G36: 17.785933 | H36: 0.030499598 | I36: 17.775713 | J36: 0.040587326 | K36: 23.028144 | L36: 0.040130458
B37: Other Sources of funding | C37: 1 | D37: 0.15685479 | E37: 0 | F37: 0.13273115 | G37: 0 | H37: 0.11702526 | I37: 0 | J37: 0.056501225 | K37: 0 | L37: 0.059690555
B38: Other Liabilities (without interest rate risk) | D38: -0.021060286 | F38: 0.01325702 | H38: 0.014872816 | J38: 0.022355043 | L38: 0.031166351
B39: US$ | C39: Avg. Repricing (days) | D39: % of total US$ Liabilities | E39: Avg. Repricing (days) | F39: % of total US$ Liabilities | G39: Avg. Repricing (days) | H39: % of total US$ Liabilities | I39: Avg. Repricing (days) | J39: % of total US$ Liabilities | K39: Avg. Repricing (days) | L39: % of total US$ Liabilities
B40: Total U$S Liabilities | C40: 86.208028 | E40: 85.175019 | G40: 68 | I40: 100.53594 | K40: 59.412938
B41: Deposits | C41: 71.399267 | D41: 0.77531451 | E41: 72.606632 | F41: 0.76691051 | G41: 77.540128 | H41: 0.79445127 | I41: 106.27765 | J41: 0.83221622 | K41: 82.67639 | L41: 0.83338922
...

Sheet Net Fee Income
B2: Net Service Fee Income | H2: % Change
B3: (In millions of Ps. stated in terms of the measuring unit current at the end of the reporting period) | C3: 1Q26 | D3: 4Q25 | E3: 3Q25 | F3: 2Q25 | G3: 1Q25 | H3: QoQ | I3: YoY
B4: Income from:
B5: Banking Business | C5: 46902.913 | D5: 47905.782 | E5: 49538.194 | F5: 48067.584 | G5: 50500.222 | H5: -0.020934186 | I5: -0.071233536
B6: Deposit Accounts | C6: 24398.257 | D6: 26194.091 | E6: 27126.958 | F6: 25679.909 | G6: 26869.96 | H6: -0.068558749 | I6: -0.091987608
B7: Loan Related | C7: 133.679 | D7: 71.207379 | E7: 28.415889 | F7: 167.22473 | G7: 650.24119 | H7: 0.87731948 | I7: -0.79441628
B8: Credit cards commissions | C8: 15474.902 | D8: 14561.445 | E8: 14683.722 | F8: 15049.534 | G8: 15029.913 | H8: 0.062731216 | I8: 0.029606877
B9: Leasing commissions | C9: 526.711 | D9: 570.02875 | E9: 576.83413 | F9: 547.95568 | G9: 561.85083 | H9: -0.075992218 | I9: -0.062542991
B10: Other (foreign trade, transfer and payments, & others) | C10: 6369.364 | D10: 6509.0094 | E10: 7122.2633 | F10: 6622.9609 | G10: 7388.2568 | H10: -0.021454178 | I10: -0.13790707
B11: Brokerage Business | C11: 13564.466 | D11: 17610.949 | E11: 16084.986 | F11: 10959.762 | G11: 15618.245 | H11: -0.22977088 | I11: -0.13149871
B12: Asset Management | C12: 6457.6724 | D12: 8326.4261 | E12: 8612.1683 | F12: 9568.152 | G12: 10158.957 | H12: -0.22443647 | I12: -0.36433709
B13: Other1 | C13: -289.03329 | D13: -38.233034 | E13: -347.27385 | F13: 197.00012 | G13: 26.406785 | H13: na | I13: na
B14: Total Fee Income | C14: 66636.018 | D14: 73804.924 | E14: 73888.074 | F14: 68792.497 | G14: 76303.831 | H14: -0.097133164 | I14: -0.12670155
B16: Expenses:
B17: Commissions paid | C17: 14522.001 | D17: 15530.398 | E17: 16013.031 | F17: 15658.115 | G17: 15523.35 | H17: -0.06493055 | I17: -0.064505989
B18: Exports and foreign currency transactions | C18: 401.278 | D18: 422.42986 | E18: 513.60778 | F18: 410.87038 | G18: 501.53067 | H18: -0.050071896 | I18: -0.1998934
B19: Total Fee Expenses | C19: 14923.279 | D19: 15952.828 | E19: 16526.639 | F19: 16068.986 | G19: 16024.88 | H19: -0.064537094 | I19: -0.068743209
B21: Net Services Fee Income | C21: 51712.739 | D21: 57852.096 | E21: 57361.435 | F21: 52723.512 | G21: 60278.951 | H21: -0.10612159 | I21: -0.1421095
