{"text_format":"1","workbook":"xlsx","n_sheets":13,"sheets":["Index","BS (quarterly)","FS (quarterly)","Accounting FS (annual)","Managerial FS (quaterly)","Managenrial FS (annual)","Expanded Portfolio","Funding","Efficiency & Compensation","Capital Adequacy","Transaction Volume ","Variation of new FS criteria","Dividends Distributed"],"not_rendered":{"charts":0,"images":1,"macros":1,"external_links":0,"defined_names":0,"comments":0,"pivot_tables":0},"unopened":[],"bounds":{"document_bytes":16777216,"sheet_cells":100000,"rows_first":2000,"rows_last":500,"rows_between":2000,"halvings":0,"cell_chars":16384,"cell_head_chars":4096},"cells_cut":0,"cells_raw":0,"read":"whole","date_system":"1900"}

{"sheet":"Index","index":0,"n_rows":24,"n_cols":5,"rows_kept":24,"cut":false,"hidden":false,"merged":[]}
[]
[]
[]
[]
[]
[]
[]
[null,null,"Historical Series Spreadsheet"]
[]
[null,null,"1. Quartely Balance Sheet "]
[null,null,"2. Quarterly Accounting FS"]
[null,null,"3. Annual Accounting FS"]
[null,null,"4. Quarterly Managerial FS"]
[null,null,"5. Annual Managerial FS"]
[null,null,"6. Expanded Portfolio"]
[null,null,"7. Funding"]
[null,null,"8. Efficiency and Remuneration"]
[null,null,"9. Capital Adequacy"]
[null,null,"10. Volume of Transactions"]
[null,null,"11. Variation of new FS criteria"]
[null,null,"12. Dividends Distributed"]
[]
[null,null,"Reference Date",null,"June, 30th of 2023"]
[null,null,"Contact:",null,"ri@brpartners.com.br"]

{"sheet":"BS (quarterly)","index":1,"n_rows":56,"n_cols":12,"rows_kept":56,"cut":false,"hidden":false,"merged":[]}
["Index"]
[]
[]
[]
["Historical Series Spreadsheet"]
[]
["Balance Sheet (consolidated)"]
["(In thousands of reais)"]
[null,"12/31/2020","03/31/2021","06/30/2021","09/30/2021","12/31/2021","03/31/2022","06/30/2022","09/30/2022","2022-12-31","2023-03-31","2023-06-30"]
["Assets"]
["Cash and Cash Equivalents",47102,49198,105778,82388,94132,184467,103013,85412,77470,143548,246919]
["Financial Assets at Fair Value through Profit or Loss",{"$f":"SUM(B13:B15)","v":540349},{"$f":"SUM(C13:C15)","v":593666},{"$f":"SUM(D13:D15)","v":822251},2006311,2368744,3141911,4293937,5413327,6361883,6821263,7075445]
["Government Bonds",151462,151400,397109,1462171,1803817,2549499,3677256,4694170,5727370,6198285,6476420]
["Private Securities",255960,325978,296826,329070,325438,360273,384491,536987,445733,429694,431300]
["Investment Funds Quotas",132927,116288,128316,215070,239489,232139,232190,182170,188780,193284,167725]
["Financial Assets at Fair Value Through other Results",0,{"$f":"C17+C18","v":25144},{"$f":"D17+D18","v":206534},217933,257594,427587,515006,525278,780966,1034162,966404]
["Private Securities",0,25144,206534,191425,230759,399359,484667,493076,746216,997368,912229]
["Investment Funds Quotas",0,0,0,26508,26835,28228,30339,32202,34750,36794,54175]
["Derivative Financial Instruments",38090,54101,91766,142886,149852,246438,177823,223174,267367,215912,204051]
["Financial Assets at Amortized Costs",{"$f":"B21+B22","v":85609},{"$f":"C21+C22","v":193094},{"$f":"D21+D22","v":153387},130318,81568,90584,235816,274087,274999,295383,1091378]
["Loans Operations",28802,21344,72551,67715,56823,55847,172577,225358,237537,232563,474198]
["Other Financial Assets at Amortized costs",56807,171750,80836,62603,24745,34737,63239,48729,37462,62820,617180]
["Other Assets",28614,8578,17457,23881,57856,24087,24564,37321,22144,22749,35085]
["Deferred Tax Assets",12470,12443,19636,25017,28154,24149,19760,22023,24957,12280,13142]
["Investments in Subsidiaries","-","-","-","-","-","-",0,"-","-","-","-"]
["Fixed Assets ",3609,3325,2794,5127,4721,6493,44942,44076,46596,45865,46259]
["Intangible Assets",5568,5458,5363,5488,5360,5241,5098,5035,14673,15749,16615]
[]
["Total Assets",{"$f":"B11+B12+B16+B19+B20+B23+B24+B26+B27","v":761411},945007,1424966,2639349,3047981,4150957,5419959,{"$f":"I11+I12+I16+I19+I20+I23+I24+I26+I27","v":6629733},{"$f":"J11+J12+J16+J19+J20+J23+J24+J26+J27","v":7871055},{"$f":"K11+K12+K16+K19+K20+K23+K24+K26+K27","v":8606911},{"$f":"L11+L12+L16+L19+L20+L23+L24+L26+L27","v":9695298}]
[]
["Passivo"]
["Financial Liabilities at Amortized Cost",{"$f":"SUM(B33:B36)","v":289506},{"$f":"SUM(C33:C36)","v":501211},{"$f":"SUM(D33:D36)","v":517339},{"$f":"SUM(E33:E36)","v":1672046},1959050,3091236,4320857,5543362,6744705,7450379,8223955]
["Funds from Repurchase Operations","-",21000,49002,1100999,1228129,2080001,3230080,4208008,4983415,5599474,5686763]
["Clients funds",252869,348725,414184,513725,671744,846008,912313,1072112,1297012,1393849,1375465]
["Funds from Bond Inssuances",7021,6436,17089,55029,59177,150236,155906,257870,459930,455901,572924]
["Other Financial Instruments",29616,125050,37064,2293,0,14991,22558,5372,4348,1155,588803]
["Derivative Financial Instruments",15457,23261,56521,24655,70478,173835,125094,91153,113837,208755,469663]
["Suppliers",3686,8481,7795,8802,53244,5862,4572,2879,3348,2623,2712]
["Amounts Payable ",69869,37498,37469,55206,96948,34746,107748,93590,79201,61201,80557]
["Taxes Payables ",31597,4127,7412,9293,7170,8985,10265,10604,15135,10493,13476]
["Current Tax Liabilities ",32870,13189,30338,48004,40801,9541,37033,51264,34596,4051,20370]
["Diferred Tax Liabilities ",23218,31347,36152,49521,53084,66078,56867,65505,76016,77176,77806]
["Lease Liabilities ",1463,1242,840,426,0,1985,0,0,0,0,0]
[]
["Total do Passivo",{"$f":"B32+SUM(B37:B43)","v":467666},620356,693866,1867953,2280775,3392268,4662436,5858357,7066838,7814678,8888539]
[]
["Shareholders' Equity"]
["Capital",268843,268843,669243,669243,669243,674940,674940,674940,674940,674940,674940]
["Capital Reserves",3653,3653,-26530,-25263,-28963,-29976,-30193,-30193,-30193,-30193,-30193]
["Profit Reserves",21249,21249,22961,21249,128689,76574,76574,57674,163828,119729,119729]
["Other Comprehensive Results","-","-","-",-1538,-1763,-2904,-3016,-3408,-4358,-5366,-4345]
["Retained earnings","-",30906,65426,107705,"-",40055,39218,72363,0,33123,46628]
[]
["Total Shareholders' Equity",{"$f":"SUM(B48:B52)","v":293745},324651,731100,771396,767206,758689,757523,771376,804217,792233,806759]
[]
["Total Liabilities and Shareholders' Equity",{"$f":"B45+B54","v":761411},945007,1424966,2639349,3047981,4150957,5419959,6629733,7871055,8606911,9695298]

{"sheet":"FS (quarterly)","index":2,"n_rows":40,"n_cols":15,"rows_kept":40,"cut":false,"hidden":false,"merged":[]}
["Index"]
[]
[]
[]
["Historical Series Spreadsheet"]
[]
["\nAccounting FS (consolidated)"]
["(In thousands of reais)"]
["*2020 data follows the previous criteria"]
[null,"1Q20*","2Q20*","3Q20*","4Q20*","1Q21","2Q21","3Q21","4Q21","1Q22","2Q22","3Q22","4Q22","1Q23","2Q23"]
[]
["Interest income and gains on financial instruments",427420.10776000004,406837.29212999996,192510.11426999973,196935.52230000007,344889,472210,596714,649939,773760,772814,843300,1037295,1020760,1276967]
["Interest expense and losses on financial instruments",-412676.76066999999,-395163.40786999982,-183097.83511000013,-186016.70995999945,-324459,-454005,-556154,-612363,-728204,-730089,-808596,-997823,-966677,-1230795]
[]
["Net interest income and gains / losses on financial instruments",{"$f":"B12+B13","v":14743.347090000054},{"$f":"C12+C13","v":11673.884260000137},{"$f":"D12+D13","v":9412.2791599995981},10918.812340000615,20430,18205,40560,37576,{"$f":"J12+J13","v":45556},{"$f":"K12+K13","v":42725},34704,39472,54083,46172]
[]
["Income from service provision",33047,55006,45140,56086,67166.094490000003,71362.443339999983,71655.525440000012,52215.791119999907,61144.669679999992,66992.768180000014,64675.404109999996,58233.593969999994,47424,56978]
["Expenses for specialized technical services",-3094,-3853,-3132,-7353,-3180,-3212,-2432,-3713,"                      - ","                      - ","                      - ","                      - ","                      - ","                      - "]
["Other Revenues",1842.848,674.34799999999996,727,427,563,-333,81,83,"                      - ","                      - ","                      - ","                      - ","                      - ","                      - "]
[]
["Total Service Revenue",{"$f":"SUM(B17:B19)","v":31795.847999999998},{"$f":"SUM(C17:C19)","v":51827.347999999998},42735,49160,64549.094490000003,67817.443339999983,69304.525440000012,48585.791119999907,{"$f":"SUM(J17:J19)","v":61144.669679999992},66992.768180000014,64675.404109999996,58233.593969999994,47424,56978]
[]
["Total Revenue",{"$f":"B15+B21","v":46539.195090000052},63501.232260000135,52147.279159999598,60078.812340000615,84979.094490000003,86022.443339999983,109864.52544000001,86161.791119999907,{"$f":"J15+J21","v":106700.66967999999},109717.76818000001,99379.404110000003,97705.593969999987,101507,103150]
[]
["Personnel expenses",-6809,-9433,-9247,-22921,-15532,-22193,-25536,-21022,-20757,-20527,-22726,-21268,-27667,-25839]
["Administrative expenses",-9894,-9631,-10643,-3243,-7084,-3223,-5334,-8700,-10063,-12852,-14200,-16613,-12733,-15488]
["Loss due to impairment",0,0,0,0,-9789.0923835599988,-10279.780161200004,-10341.926062139992,-7996.9828123550124,-9034.200700954998,-11871.768180000014,-9715.4041100000049,-8427.6271307950137,-7421,-8949]
["Other revenues",27,-96,-96,-194,31,-439,353,131,224,-1047,1119,-47,-1367,-454]
["Other expenses",-908.44200000000001,-1190.1219999999998,-1053,-3767,-205.36895674500119,308.84108356000462,-691.76638016500692,-524.10018273498827,-176.46897904500008,403,-848,-1703.5310209549998,-672,509]
[]
["Operational expenses",{"$f":"SUM(B25:B29)","v":-17584.441999999999},-20350.121999999999,-21039,-30125,-32579.461340304999,-35825.939077639996,-41550.692442304993,-38112.082995090001,-39806.669679999999,-45894.768180000014,-46370.404110000003,-48059.158151750016,-49860,-50221]
[]
["Non-operating result",-46,-717,-1257,2397,4,5,54,44,-692,-455,-5,0,13,21]
["Income before income taxes and equity equivalence results",{"$f":"B23+B31+B33","v":28908.753090000053},42434.110260000132,29851.279159999598,32350.812340000615,52403.633149695001,50201.504262359987,68367.832997695019,48093.708124909906,66202,63368,53004,49646.435818249971,51660,52950]
[]
["Equity pickup result",0,0,0,0,0,0,0,0,0,0,0,0,0,0]
["Income before income taxes",{"$f":"B34+B36","v":28908.753090000053},42434.110260000132,29851.279159999598,32350.812340000615,52403.633149695001,50201.504262359987,68367.832997695019,48093.708124909906,66202,63368,53004,{"$f":"M34+M36","v":49646.435818249971},{"$f":"N34+N36","v":51660},{"$f":"O34+O36","v":52950}]
[]
["Taxes on profits",-7261,-18634,-9192,-9722,-21428,-15232,-26607,-17140,-26147,-23257,-19859,-15856,-18537,-14246]
["Net income for the period",{"$f":"B37+B39","v":21647.753090000053},{"$f":"C37+C39","v":23800.110260000132},20659.279159999598,22628.812340000615,30975.633149695001,34969.504262359987,41760.832997695019,30953.708124909906,{"$f":"J37+J39","v":40055},40111,33145,33790.435818249971,33123,38704]

{"sheet":"Accounting FS (annual)","index":3,"n_rows":42,"n_cols":4,"rows_kept":42,"cut":false,"hidden":false,"merged":[]}
["Index"]
[]
[]
[]
["Historical Series Spreadsheet"]
[]
["\nAccounting FS (consolidated)"]
["(In thousands of reais)"]
["*2020 data follows the previous criteria"]
[null,"2020*",2021,2022]
[]
["Interest income and gains on financial instruments",1223703,2063752,3427169]
["Interest expense and losses on financial instruments",-1176956,-1946981,-3264712]
[]
["Net interest income and gains / losses on financial instruments",{"$f":"B12+B13","v":46747},{"$f":"C12+C13","v":116771},{"$f":"D12+D13","v":162457}]
[]
["Income from service provision",189279,262400,251046]
["Expenses for specialized technical services",-17432,-12537,0]
["Other Revenues",3672,394,0]
[]
["Total Service Revenue",{"$f":"SUM(B17:B19)","v":175519},{"$f":"SUM(C17:C19)","v":250257},{"$f":"SUM(D17:D19)","v":251046}]
[]
["Total Revenue",{"$f":"B15+B21","v":222266},{"$f":"C15+C21","v":367028},{"$f":"D15+D21","v":413503}]
[]
["Personnel expenses",-48410,-84283,-85278]
["Administrative expenses",-33411,-24341,-53728]
["Loss due to impairment",0,-38408,-39049]
["Other revenues",-359,76,249]
["Other expenses",-6918.5639999999994,-1112,-2325]
[]
["Operational expenses",{"$f":"SUM(B25:B29)","v":-89098.563999999998},{"$f":"SUM(C25:C29)","v":-148068},{"$f":"SUM(D25:D29)","v":-180131}]
[]
["Non-operating result",377,107,-1152]
["Income before income taxes and equity equivalence results",{"$f":"B33+B31+B23","v":133544.43599999999},{"$f":"C33+C31+C23","v":219067},{"$f":"D33+D31+D23","v":232220}]
[]
["Equity pickup result","-","-",0]
["Income before income taxes",{"$f":"B34","v":133544.43599999999},{"$f":"C34","v":219067},{"$f":"D34","v":232220}]
[]
["Taxes on profits",-44809,-80407,-85119]
["Net income for the period",88735.675340000627,{"$f":"C37+C39","v":138660},{"$f":"D37+D39","v":147101}]
[]
["Resultado atribuido aos Acionistas da Companhia",{"$f":"B40","v":88735.675340000627},{"$f":"C40","v":138660},{"$f":"D40","v":147101}]

{"sheet":"Managerial FS (quaterly)","index":4,"n_rows":29,"n_cols":15,"rows_kept":29,"cut":false,"hidden":false,"merged":[]}
["Index"]
[]
[]
[]
["Historical Series Spreadsheet"]
[]
[]
["Managerial Financial  Statement (consolidated)"]
["(In millions of reais)"]
["*2020 data follows the previous criteria"]
[null,"1Q20*","2Q20*","3Q20*","4Q20*","1Q21","2Q21","3Q21","4Q21","1Q22","2Q22","3Q22","4Q22","1Q23","2Q23"]
["Total Revenues",{"$f":"SUM(B13:B17)","v":46.539000000000001},{"$f":"SUM(C13:C17)","v":63.502000000000002},52.147000000000006,60.077999999999996,{"$f":"SUM(F13:F17)","v":84.97909448999998},86.022443347338708,{"$f":"SUM(H13:H17)","v":109.86452543999999},{"$f":"SUM(I13:I17)","v":86.16179111999989},{"$f":"SUM(J13:J17)","v":106.70066968},109.71776818000001,99.37940411000001,97.70559397000001,101.50677068000002,{"$f":"SUM(O13:O17)","v":103.14990713999998}]
["   Investment Banking",22.736999999999998,44.627000000000002,28.152000000000001,35.375,50.868984099999999,51.071100229999999,50.014855320000009,31.620053890000001,41.095870379999994,44.270212069999999,40.61099866,33.626043459999998,31.250760850000002,35.180906649999997]
["Capital Markets",11.266,10.992000000000001,18.094000000000001,16.949000000000002,24.988325799999998,20.441456420411814,25.084042712360205,20.944319138330435,25.59568849230142,26.377205130384692,24.806325324982151,19.766422132513778,24.126115330000001,30.0343646]
["Treasury Sales & Structuring",1.3080000000000001,6.0609999999999999,3.8039999999999998,4.1959999999999997,4.0017903700000002,10.374283752913964,23.981086155576413,14.19294278751426,14.724177134910114,19.22981143989692,8.5979894899390885,20.054241136928731,11.774822139999999,16.641145339999998]
["Investments",0.56599999999999995,0.69699999999999995,0.61299999999999999,0.66800000000000004,0.62999421999999994,0.67049834999999991,0.80711679999999897,4.7867730399999999,1.2534554200000001,1.2503520100000001,1.33384474,1.6698494799999999,1.3407476899999999,1.2974824199999999]
["Capital Revenues",10.662000000000001,1.125,1.484,2.89,4.49,3.4651045940129261,9.9774244520633744,14.617702264155202,24.031478252788467,18.590187529718385,24.03024589507876,22.589037760557513,33.014324670000001,19.99600813]
["Expenses",{"$f":"SUM(B19:B22)","v":-17.584441999999999},{"$f":"SUM(C19:C22)","v":-20.350121999999999},{"$f":"SUM(D19:D22)","v":-21.039000000000001},{"$f":"SUM(E19:E22)","v":-30.124999999999996},{"$f":"SUM(F19:F22)","v":-32.579461340304995},-35.825939077640001,-41.550692442304999,-38.112082995089999,-39.806669679999999,-45.894768180000021,-46.37040411000001,{"$f":"SUM(M19:M22)","v":-48.059158151750019},{"$f":"SUM(N19:N22)","v":-49.860000000000007},{"$f":"SUM(O19:O22)","v":-50.220999999999997}]
["Personnel",-6.8090000000000002,-9.4329999999999998,-9.2469999999999999,-22.920999999999999,-15.532,-22.193000000000001,-25.536000000000001,-21.021999999999998,-20.757000000000001,-20.527000000000001,-22.725999999999999,-21.268000000000001,-27.667000000000002,-25.838999999999999]
["Administrative",-9.8940000000000001,-9.6310000000000002,-10.643000000000001,-3.2429999999999999,-7.0839999999999996,-3.2229999999999999,-5.3339999999999996,-8.6999999999999993,-10.063000000000001,-12.852,-14.2,-16.613,-12.733000000000001,-15.488]
["Tax on Revenues","-","-","-","-",-9.7890923835599981,-10.279780161200003,-10.341926062139992,-7.9969828123550126,-9.0342007009549974,-11.871768180000014,-9.715404110000005,-8.4276271307950132,-7.4210000000000003,-8.9489999999999998]
["Others",-0.88144200000000006,-1.2861219999999998,-1.149,-3.9609999999999999,-0.17436895674500119,-0.13015891643999539,-0.33876638016500693,-0.39310018273498826,4.753102095499992E-2,-0.64400000000000002,0.27100000000000002,-1.7505310209549998,-2.0390000000000001,5.5E-2]
["Operating Profit",{"$f":"B12+B18","v":28.954558000000002},{"$f":"C12+C18","v":43.151878000000004},31.108000000000004,29.952999999999999,52.399633149694985,50.196504269698707,68.313832997694988,48.049708124909891,{"$f":"J12+J18","v":66.894000000000005},{"$f":"K12+K18","v":63.822999999999986},{"$f":"L12+L18","v":53.009},{"$f":"M12+M18","v":49.646435818249991},{"$f":"N12+N18","v":51.64677068000001},{"$f":"O12+O18","v":52.928907139999986}]
["Non-operating Profit",-4.5999999999999999E-2,-0.71699999999999997,-1.2569999999999999,2.3969999999999998,4.0000000000000001E-3,5.0000000000000001E-3,5.3999999999999999E-2,4.3999999999999997E-2,-0.69199999999999995,-0.45500000000000002,-5.0000000000000001E-3,0,1.2999999999999999E-2,2.1000000000000001E-2]
["IR & CSLL",-7.2610000000000001,-18.634,-9.1920000000000002,-9.7219999999999995,-21.428000000000001,-15.231999999999999,-26.606999999999999,-17.14,-26.146999999999998,-23.257000000000001,-19.859000000000002,-15.856,-18.536999999999999,-14.246]
["Net Income",{"$f":"SUM(B23:B25)","v":21.647558000000004},{"$f":"SUM(C23:C25)","v":23.800878000000004},20.659000000000002,22.628,30.975633149694982,34.96950426969871,41.76083299769499,30.953708124909888,{"$f":"SUM(J23:J25)","v":40.055000000000014},40.11099999999999,33.144999999999996,33.790435818249989,33.122770680000009,38.703907139999984]
["Net Margin",{"$f":"B26/B12","v":0.46514875695653113},{"$f":"C26/C12","v":0.37480517149066178},0.39616852359675531,0.37664369652784718,0.36450886345158784,0.40651605451963213,0.3801120774011964,0.35925098262871308,{"$f":"J26/J12","v":0.37539595693379169},{"$f":"K26/K12","v":0.36558344801723425},{"$f":"L26/L12","v":0.33351981023465199},{"$f":"M26/M12","v":0.3458393163100279},{"$f":"N26/N12","v":0.3263109490934305},{"$f":"O26/O12","v":0.37521999013987661}]
[]
["ROAE",0.27222270706664237,0.30688783695573346,0.27371070848928497,0.29790885567935793,0.4007113188312989,0.26498371638019141,0.22235702689087031,0.16095032608964269,0.21000391935282592,0.2116379503687611,0.17343199256458403,0.17156936248510873,0.16598212624260086,0.19364152986381414]

{"sheet":"Managenrial FS (annual)","index":5,"n_rows":29,"n_cols":4,"rows_kept":29,"cut":false,"hidden":false,"merged":[]}
["Index"]
[]
[]
[]
["Historical Series Spreadsheet"]
[]
["Managerial Financial Statement (consolidated)"]
["(In millions of reais)"]
["*2020 data follows the previous criteria"]
[null,"2020*",2021,2022]
["Total Revenues",{"$f":"SUM(B12:B16)","v":222.26600000000002},{"$f":"SUM(C12:C16)","v":367.02785439733856},{"$f":"SUM(D12:D16)","v":413.50343594000003}]
["   Investment Banking",{"$f":"SUM('Managerial FS (quaterly)'!B13:E13)","v":130.89100000000002},{"$f":"SUM('Managerial FS (quaterly)'!F13:I13)","v":183.57499354000001},{"$f":"SUM('Managerial FS (quaterly)'!J13:M13)","v":159.60312457000001}]
["Capital Markets",{"$f":"SUM('Managerial FS (quaterly)'!B14:E14)","v":57.301000000000002},{"$f":"SUM('Managerial FS (quaterly)'!F14:I14)","v":91.458144071102453},{"$f":"SUM('Managerial FS (quaterly)'!J14:M14)","v":96.545641080182051}]
["Treasury Sales & Structuring",{"$f":"SUM('Managerial FS (quaterly)'!B15:E15)","v":15.369},{"$f":"SUM('Managerial FS (quaterly)'!F15:I15)","v":52.550103066004638},{"$f":"SUM('Managerial FS (quaterly)'!J15:M15)","v":62.606219201674854}]
["Investments",{"$f":"SUM('Managerial FS (quaterly)'!B16:E16)","v":2.544},{"$f":"SUM('Managerial FS (quaterly)'!F16:I16)","v":6.8943824099999986},{"$f":"SUM('Managerial FS (quaterly)'!J16:M16)","v":5.50750165}]
["Capital Revenues",{"$f":"SUM('Managerial FS (quaterly)'!B17:E17)","v":16.161000000000001},{"$f":"SUM('Managerial FS (quaterly)'!F17:I17)","v":32.550231310231503},{"$f":"SUM('Managerial FS (quaterly)'!J17:M17)","v":89.240949438143133}]
["Expenses",{"$f":"SUM(B18:B21)","v":-89.098563999999996},{"$f":"SUM(C18:C21)","v":-148.06817585534},{"$f":"SUM(D18:D21)","v":-180.13100012175002}]
["Personnel",{"$f":"SUM('Managerial FS (quaterly)'!B19:E19)","v":-48.41},{"$f":"SUM('Managerial FS (quaterly)'!F19:I19)","v":-84.283000000000001},{"$f":"SUM('Managerial FS (quaterly)'!J19:M19)","v":-85.278000000000006}]
["Administrative",{"$f":"SUM('Managerial FS (quaterly)'!B20:E20)","v":-33.411000000000001},{"$f":"SUM('Managerial FS (quaterly)'!F20:I20)","v":-24.340999999999998},{"$f":"SUM('Managerial FS (quaterly)'!J20:M20)","v":-53.727999999999994}]
["Tax on Revenues ",{"$f":"SUM('Managerial FS (quaterly)'!B21:E21)","v":0},{"$f":"SUM('Managerial FS (quaterly)'!F21:I21)","v":-38.407781419255009},{"$f":"SUM('Managerial FS (quaterly)'!J21:M21)","v":-39.049000121750026}]
["Others",{"$f":"SUM('Managerial FS (quaterly)'!B22:E22)","v":-7.2775639999999999},{"$f":"SUM('Managerial FS (quaterly)'!F22:I22)","v":-1.0363944360849917},{"$f":"SUM('Managerial FS (quaterly)'!J22:M22)","v":-2.0759999999999996}]
["Operating Profit",{"$f":"B11+B17","v":133.16743600000001},{"$f":"C11+C17","v":218.95967854199856},{"$f":"D11+D17","v":233.37243581825001}]
["Non-operating Profit",{"$f":"SUM('Managerial FS (quaterly)'!B24:E24)","v":0.37699999999999978},{"$f":"SUM('Managerial FS (quaterly)'!F24:I24)","v":0.107},{"$f":"SUM('Managerial FS (quaterly)'!J24:M24)","v":-1.1519999999999999}]
["Equity Income Result",0,0,0]
["IR & CSLL",{"$f":"SUM('Managerial FS (quaterly)'!B25:E25)","v":-44.809000000000005},{"$f":"SUM('Managerial FS (quaterly)'!F25:I25)","v":-80.406999999999996},{"$f":"SUM('Managerial FS (quaterly)'!J25:M25)","v":-85.119}]
["Net Income",{"$f":"SUM(B22:B25)","v":88.735436000000021},{"$f":"SUM(C22:C25)","v":138.65967854199857},{"$f":"SUM(D22:D25)","v":147.10143581825002}]
["Net Margin",{"$f":"B26/B11","v":0.39923081352973472},{"$f":"C26/C11","v":0.37779061420196136},{"$f":"D26/D11","v":0.35574416808375603}]
[]
["ROE",0.2952651430073554,0.26138910688846728,0.18722067300561335]

{"sheet":"Expanded Portfolio","index":6,"n_rows":14,"n_cols":15,"rows_kept":14,"cut":false,"hidden":false,"merged":[]}
["Index"]
[]
[]
[]
["Historical Series Spreadsheet"]
[]
["Private Securities and Bridge Loans"]
["(In millions of reais)"]
[]
[null,"1Q20","2Q20","3Q20","4Q20","1Q21","2Q21","3Q21","4Q21","1Q22","2Q22","3Q22","4Q22","1Q23","2Q23"]
["Corporate Securities",79.040000000000006,138.494,179.11600000000001,255.96,351.12200000000001,503.36,573.51,609.86500000000001,816.08600000000001,939.39599999999996,1104.557,1266.413,1505.817,1430.9690000000001]
["Bridge Loans",23.582999999999998,29.498999999999999,29.184999999999999,28.802,21.344000000000001,72.551000000000002,67.715000000000003,56.823,55.847000000000001,172.577,225.358,237.53700000000001,232.56299999999999,474.19799999999998]
[]
["Total",{"$f":"SUM(B11:B12)","v":102.623},{"$f":"SUM(C11:C12)","v":167.99299999999999},{"$f":"SUM(D11:D12)","v":208.30100000000002},{"$f":"SUM(E11,E12)","v":284.762},{"$f":"SUM(F11,F12)","v":372.46600000000001},{"$f":"SUM(G11:G12)","v":575.91100000000006},641.22500000000002,666.68799999999999,871.93299999999999,1111.973,1329.915,1503.95,1738.38,1905.1669999999999]

{"sheet":"Funding","index":7,"n_rows":44,"n_cols":15,"rows_kept":44,"cut":false,"hidden":false,"merged":[[43,0,44,0]]}
["Index "]
[]
[]
[]
["Historical Series Spreadsheet"]
[]
["Funding and Average Term"]
["(In millions of reais)"]
[]
[null,"1Q20","2Q20","3Q20","4Q20","1Q21","2Q21","3Q21","4Q21","1Q22","2Q22","3Q22","4Q22","1Q23","2Q23"]
["Volume de Captação",126.55250030000001,202.37792490999999,255.04714494000001,293.80683233999997,342.08418925000001,485.11,654.51300000000003,852.1,1015.842,1121.373,1272.9039094889533,1771.2425567645237,1823.224875047732,1879.1]
["Prazo Médio (dias corridos) sem recursos próprios*",13.34,10.9,61.45,138.78678729556114,184.35688466895974,191.40552746291007,263.4120114395576,309.11302368030999,288.86,256.43983968384049,256.85000000000002,238.27,213.76,189]
[]
["1Q21","Liquidity","Until 3 months","3 to 6 months","6 months to 1 year","Above 1 year"]
["Deadline per track (1Q21)",72.94,117.813,29.885000000000002,93.953000000000003,27.491]
[]
["2Q21","Liquidity","Until 3 months","3 to 6 months","6 months to 1 year","Above 1 year"]
["Deadline per track (2Q21)",126.1,87.3,116.4,121.3,34]
[]
["3Q21","Liquidity","Until 3 months","3 to 6 months","6 months to 1 year","Above 1 year"]
["Deadline per track (3Q21)",163.30000000000001,117.81234000000001,65.451300000000003,209.44416000000001,98.176950000000005]
[]
["4Q21","Liquidity","Until 3 months","3 to 6 months","6 months to 1 year","Above 1 year"]
["Deadline per track (4Q21)",196,85.2,102.3,264.2,178.9]
[]
["1Q22","Liquidity","Until 3 months","3 to 6 months","6 months to 1 year","Above 1 year"]
["Deadline per track (1Q22)",91.4,111.7,182.85155999999998,426.65364,203.16840000000002]
[]
["2Q22","Liquidity","Until 3 months","3 to 6 months","6 months to 1 year","Above 1 year"]
["Deadline per track (2Q22)",112.13730000000001,190.63341000000003,168.20595,437.33547000000004,213.06087000000002]
[]
["3Q22","Liquidity","Until 3 months","3 to 6 months","6 months to 1 year","Above 1 year"]
["Deadline per track (3Q22)",112.53669494392102,171.45548159595364,340.96955626091318,394.78884554208798,253.15333114607751]
[]
["4Q22","Liquidity","Until 3 months","3 to 6 months","6 months to 1 year","Above 1 year"]
["Deadline per track (4Q22)",119.74616644905601,554.10953745621748,212.13441833816873,584.84003066885145,300.41240385222994]
[]
["1Q23","Liquidity","Until 3 months","3 to 6 months","6 months to 1 year","Above 1 year"]
["Deadline per track (1Q23)",94.377067302100798,501.49687512370537,371.98479939761944,562.66401302142879,292.70212020287755]
[]
["2Q23","Liquidity","Until 3 months","3 to 6 months","6 months to 1 year","Above 1 year"]
["Deadline per track (2Q23)",141.1,632.9,417.4,361.2,326.60000000000002]
[]
["*Since 4Q22 we started to show the average term excluding own resources, considering only third-party resources"]

{"sheet":"Efficiency & Compensation","index":8,"n_rows":28,"n_cols":15,"rows_kept":28,"cut":false,"hidden":false,"merged":[]}
["Index"]
[]
[]
[]
["Historical Series Spreadsheet"]
[]
["Efficiency & Compensation"]
["(In millions of reais)"]
["*2020 data follows the previous criteria"]
[]
[null,"1Q20*","2Q20*","3Q20*","4Q20*","1Q21","2Q21","3Q21","4Q21","1Q22","2Q22","3Q22","4Q22","1Q23","2Q23"]
["Efficiency Ratio*",{"$f":"(B15+B16)/(B19+B18)*-1","v":0.3658320929034356},{"$f":"(C15+C16)/(C19+C18)*-1","v":0.30641695677749659},0.3900152947174399,0.46624017677352675,{"$f":"(F15+F16)/(F19+F18+F17)*-1","v":0.30148382477648872},0.33613487934938457,{"$f":"(H15+H16)/(H19+H18+H17)*-1","v":0.31124024013790041},0.38216982391929988,0.31541027897742385,0.34339828398592631,0.41058542280535942,{"$f":"(M15+M16)/(M19+M18+M17)*-1","v":0.43279001202159728},{"$f":"(N15+N16)/(N19+N18+N17)*-1","v":0.43890730442299097},{"$f":"(O15+O16)/(O19+O18+O17)*-1","v":0.43845527833726394}]
["Compesation Ratio**",{"$f":"(B15)/B19*-1","v":0.14630739809622037},{"$f":"(C15)/C19*-1","v":0.14854650247236306},0.17732563714115862,0.38152068976996573,0.18277436460361138,0.25799081189068074,0.23243171440216984,0.24398285744457288,0.19453486151728153,0.18708911364587694,0.22867917355235182,{"$f":"(M15)/M19*-1","v":0.21767433302263356},{"$f":"(N15)/N19*-1","v":0.27256309913769389},{"$f":"(O15)/O19*-1","v":0.25049949841379959}]
["Expenses",{"$f":"SUM(B15:B18)","v":-17.584441999999999},-20.350121999999999,-21.039000000000001,-30.124999999999996,-32.579461340304995,-35.825939077640001,-41.550692442304999,-38.112082995089999,-39.806669679999999,-45.894768180000021,-46.37040411000001,-48.059158151750019,-49.860000000000007,-50.220999999999997]
["Personnel Expenses",{"$f":"'Managerial FS (quaterly)'!B19","v":-6.8090000000000002},{"$f":"'Managerial FS (quaterly)'!C19","v":-9.4329999999999998},{"$f":"'Managerial FS (quaterly)'!D19","v":-9.2469999999999999},{"$f":"'Managerial FS (quaterly)'!E19","v":-22.920999999999999},{"$f":"'Managerial FS (quaterly)'!F19","v":-15.532},{"$f":"'Managerial FS (quaterly)'!G19","v":-22.193000000000001},{"$f":"'Managerial FS (quaterly)'!H19","v":-25.536000000000001},{"$f":"'Managerial FS (quaterly)'!I19","v":-21.021999999999998},{"$f":"'Managerial FS (quaterly)'!J19","v":-20.757000000000001},{"$f":"'Managerial FS (quaterly)'!K19","v":-20.527000000000001},{"$f":"'Managerial FS (quaterly)'!L19","v":-22.725999999999999},{"$f":"'Managerial FS (quaterly)'!M19","v":-21.268000000000001},-27.667000000000002,-25.838999999999999]
["Administrative Expanses",{"$f":"'Managerial FS (quaterly)'!B20","v":-9.8940000000000001},{"$f":"'Managerial FS (quaterly)'!C20","v":-9.6310000000000002},{"$f":"'Managerial FS (quaterly)'!D20","v":-10.643000000000001},{"$f":"'Managerial FS (quaterly)'!E20","v":-3.2429999999999999},{"$f":"'Managerial FS (quaterly)'!F20","v":-7.0839999999999996},{"$f":"'Managerial FS (quaterly)'!G20","v":-3.2229999999999999},{"$f":"'Managerial FS (quaterly)'!H20","v":-5.3339999999999996},{"$f":"'Managerial FS (quaterly)'!I20","v":-8.6999999999999993},{"$f":"'Managerial FS (quaterly)'!J20","v":-10.063000000000001},{"$f":"'Managerial FS (quaterly)'!K20","v":-12.852},{"$f":"'Managerial FS (quaterly)'!L20","v":-14.2},{"$f":"'Managerial FS (quaterly)'!M20","v":-16.613},-12.733000000000001,-15.488]
["Tax Expenses",{"$f":"'Managerial FS (quaterly)'!B21","v":"-"},{"$f":"'Managerial FS (quaterly)'!C21","v":"-"},{"$f":"'Managerial FS (quaterly)'!D21","v":"-"},{"$f":"'Managerial FS (quaterly)'!E21","v":"-"},{"$f":"'Managerial FS (quaterly)'!F21","v":-9.7890923835599981},{"$f":"'Managerial FS (quaterly)'!G21","v":-10.279780161200003},{"$f":"'Managerial FS (quaterly)'!H21","v":-10.341926062139992},{"$f":"'Managerial FS (quaterly)'!I21","v":-7.9969828123550126},{"$f":"'Managerial FS (quaterly)'!J21","v":-9.0342007009549974},{"$f":"'Managerial FS (quaterly)'!K21","v":-11.871768180000014},{"$f":"'Managerial FS (quaterly)'!L21","v":-9.715404110000005},{"$f":"'Managerial FS (quaterly)'!M21","v":-8.4276271307950132},-7.4210000000000003,-8.9489999999999998]
["Others",{"$f":"'Managerial FS (quaterly)'!B22","v":-0.88144200000000006},{"$f":"'Managerial FS (quaterly)'!C22","v":-1.2861219999999998},{"$f":"'Managerial FS (quaterly)'!D22","v":-1.149},{"$f":"'Managerial FS (quaterly)'!E22","v":-3.9609999999999999},{"$f":"'Managerial FS (quaterly)'!F22","v":-0.17436895674500119},{"$f":"'Managerial FS (quaterly)'!G22","v":-0.13015891643999539},{"$f":"'Managerial FS (quaterly)'!H22","v":-0.33876638016500693},{"$f":"'Managerial FS (quaterly)'!I22","v":-0.39310018273498826},{"$f":"'Managerial FS (quaterly)'!J22","v":4.753102095499992E-2},{"$f":"'Managerial FS (quaterly)'!K22","v":-0.64400000000000002},{"$f":"'Managerial FS (quaterly)'!L22","v":0.27100000000000002},{"$f":"'Managerial FS (quaterly)'!M22","v":-1.7505310209549998},-2.0390000000000001,5.5E-2]
["Revenues",{"$f":"SUM(B20:B24)","v":46.539000000000001},{"$f":"SUM(C20:C24)","v":63.502000000000002},{"$f":"SUM(D20:D24)","v":52.147000000000006},{"$f":"SUM(E20:E24)","v":60.077999999999996},{"$f":"SUM(F20:F24)","v":84.97909448999998},86.022443347338708,109.86452543999999,86.16179111999989,{"$f":"SUM(J20:J24)","v":106.70066968},109.71776818000001,99.37940411000001,{"$f":"SUM(M20:M24)","v":97.70559397000001},101.50677068000002,103.14990713999998]
["Investment Banking",22.736999999999998,44.627000000000002,28.152000000000001,35.375,{"$f":"'Managerial FS (quaterly)'!F13","v":50.868984099999999},{"$f":"'Managerial FS (quaterly)'!G13","v":51.071100229999999},{"$f":"'Managerial FS (quaterly)'!H13","v":50.014855320000009},{"$f":"'Managerial FS (quaterly)'!I13","v":31.620053890000001},{"$f":"'Managerial FS (quaterly)'!J13","v":41.095870379999994},{"$f":"'Managerial FS (quaterly)'!K13","v":44.270212069999999},{"$f":"'Managerial FS (quaterly)'!L13","v":40.61099866},{"$f":"'Managerial FS (quaterly)'!M13","v":33.626043459999998},31.250760850000002,35.180906649999997]
["Capital Markets",11.266,10.992000000000001,18.094000000000001,16.949000000000002,{"$f":"'Managerial FS (quaterly)'!F14","v":24.988325799999998},{"$f":"'Managerial FS (quaterly)'!G14","v":20.441456420411814},{"$f":"'Managerial FS (quaterly)'!H14","v":25.084042712360205},{"$f":"'Managerial FS (quaterly)'!I14","v":20.944319138330435},{"$f":"'Managerial FS (quaterly)'!J14","v":25.59568849230142},{"$f":"'Managerial FS (quaterly)'!K14","v":26.377205130384692},{"$f":"'Managerial FS (quaterly)'!L14","v":24.806325324982151},{"$f":"'Managerial FS (quaterly)'!M14","v":19.766422132513778},24.126115330000001,30.0343646]
["Treasury Sales & Structuring",1.3080000000000001,6.0609999999999999,3.8039999999999998,4.1959999999999997,{"$f":"'Managerial FS (quaterly)'!F15","v":4.0017903700000002},{"$f":"'Managerial FS (quaterly)'!G15","v":10.374283752913964},{"$f":"'Managerial FS (quaterly)'!H15","v":23.981086155576413},{"$f":"'Managerial FS (quaterly)'!I15","v":14.19294278751426},{"$f":"'Managerial FS (quaterly)'!J15","v":14.724177134910114},{"$f":"'Managerial FS (quaterly)'!K15","v":19.22981143989692},{"$f":"'Managerial FS (quaterly)'!L15","v":8.5979894899390885},{"$f":"'Managerial FS (quaterly)'!M15","v":20.054241136928731},11.774822139999999,16.641145339999998]
["Investments",0.56599999999999995,0.69699999999999995,0.61299999999999999,0.66800000000000004,{"$f":"'Managerial FS (quaterly)'!F16","v":0.62999421999999994},{"$f":"'Managerial FS (quaterly)'!G16","v":0.67049834999999991},{"$f":"'Managerial FS (quaterly)'!H16","v":0.80711679999999897},{"$f":"'Managerial FS (quaterly)'!I16","v":4.7867730399999999},{"$f":"'Managerial FS (quaterly)'!J16","v":1.2534554200000001},{"$f":"'Managerial FS (quaterly)'!K16","v":1.2503520100000001},{"$f":"'Managerial FS (quaterly)'!L16","v":1.33384474},{"$f":"'Managerial FS (quaterly)'!M16","v":1.6698494799999999},1.3407476899999999,1.2974824199999999]
["Capital Revenues",10.662000000000001,1.125,1.484,2.89,{"$f":"'Managerial FS (quaterly)'!F17","v":4.49},{"$f":"'Managerial FS (quaterly)'!G17","v":3.4651045940129261},{"$f":"'Managerial FS (quaterly)'!H17","v":9.9774244520633744},{"$f":"'Managerial FS (quaterly)'!I17","v":14.617702264155202},{"$f":"'Managerial FS (quaterly)'!J17","v":24.031478252788467},{"$f":"'Managerial FS (quaterly)'!K17","v":18.590187529718385},{"$f":"'Managerial FS (quaterly)'!L17","v":24.03024589507876},{"$f":"'Managerial FS (quaterly)'!M17","v":22.589037760557513},33.014324670000001,19.99600813]
[]
[]
["* Efficiency Ratio = (Personnel + Administrative Expenses) / (Total Revenue + Other Expenses)*-1"]
["** Remuneration Index = (Personnel Expenses / Total Revenue)*-1"]

{"sheet":"Capital Adequacy","index":9,"n_rows":13,"n_cols":16,"rows_kept":13,"cut":false,"hidden":false,"merged":[]}
["Index "]
[]
[]
[]
["Historical Series Spreadsheet"]
[]
["Capital Adequacy"]
["(In millions of reais)"]
[]
[null,"1Q20","2Q20","3Q20","4Q20","1Q21","2Q21","3Q21","3Q21","4Q21","1Q22","2Q22","3Q22","4Q22","1Q23","2Q23"]
["PR",166.28890000000001,169.126,171.03081857000001,247.74799999999999,244.88499999999999,249.80589666,604,620.19299999999998,632.78281675999995,640.31962800000008,655.27124112000001,663.65628161000006,663.35998461999998,671.474739,694.9089306699999]
["RWA",386.21719999999999,370.03,433.15047699000002,626.33100000000002,671.72400000000005,1094.6481125099999,1094.5999999999999,1769.923,1834.9276277500001,2222.9759396600002,2277.4000057799999,2680.5835723800001,2727.4785169699999,3368.5439999999999,3728.7661514699998]
["Basel",{"$f":"B11/B12","v":0.43055798654228766},0.45706023835905202,0.39485312300359887,0.3955544272916397,0.3645619331749349,0.22820657506749042,0.55200000000000005,{"$f":"I11/I12","v":0.35040676910803464},0.34485437310457973,0.28804613517226629,0.28772777705143299,0.24757903034553105,0.24321364237799289,0.19933678734788682,0.18636430991952777]

{"sheet":"Transaction Volume ","index":10,"n_rows":22,"n_cols":15,"rows_kept":22,"cut":false,"hidden":false,"merged":[]}
["Index"]
[]
[]
[]
["Historical Series Spreadsheet"]
[]
["Transaction Volume"]
["(In millions of reais)"]
[]
[null,"3M20","6M20","9M20",2020,"3M21","6M21","9M21",2021,"3M22","6M22","9M22",2022,"3M23","3M23"]
["Investment Banking"]
["Announced Volume",30059.07,33775.42,66677.945999999996,108059.492,17091.5,60561.920100000003,61449.920100000003,88737.1103,984,40181.604767600002,40836.604767600002,44470.604767600002,6495,9255]
[]
["Capital Markets"]
["Issuances Volume",623.46800000000007,1058.51,3360.2841522799999,4763.9011152799994,537.42200000000003,1248.3699999999999,2864.183,4110.1970000000001,1994.4,3574.8900000000003,4366.6040000000003,5650.5683653000006,318.16700000000003,1692.8033664300001]
[]
["Treasury Sales & Structuring"]
["Trading Volume (Derivatives + FX)",5276.7095370199986,10677.29688281,13523.81135706,17128.797353400001,4026.1148511300034,11579.570903650007,17141.41954726,23382.385748660003,5314.911411359999,10082.43444359,14849.957475819998,22297.076732590009,6215.153074529996,16835.505091650008]
[]
[null,"1Q20","2Q20","3Q20","4Q20","1Q21","2Q21","3Q21","4Q21","1Q22","2Q22","3Q22","4Q22","1Q23","2Q23"]
["Investments"]
["AuM FIPs (Outlet and Pet)",236.52718899999999,237.07352007,237.26325187,236.95843400000001,247.74296719999998,255.35543275000001,254.704015,360.49785901000001,374.17094687000002,373.49393256000002,372.79639571000001,377.27143388947366,395.53092643947366,394.8559244994737]

{"sheet":"Variation of new FS criteria","index":11,"n_rows":39,"n_cols":12,"rows_kept":39,"cut":false,"hidden":false,"merged":[[22,2,22,4],[22,5,22,7]]}
["Index"]
[]
[]
[]
[]
[]
[]
[]
[]
[]
[]
[]
[]
[null,"Tax on revenues","PIS/COFINS","ISS","Total"]
[null,"Investment Banking (fees)",9.2499999999999999E-2,0.05,0.14249999999999999]
[null,"Capital Markets (fees)","4.65% to 9.25%",0.05,"9.65% to 14.25%"]
[null,"Capital Revenues",4.65E-2,"-",4.65E-2]
[null,"Fees from Fund Management ",3.6499999999999998E-2,0.02,5.6500000000000002E-2]
[]
[]
[null,null,null,null,null,null,null,null,null,null,null,""]
[]
[null,null,2021,null,null,2022]
[null,"R$ million ","Previously Presented ","Reclassification","Represented","Previously Presented ","Reclassification","Represented"]
[null,"Total Revenue1",331.2,35.799999999999997,367,380.5,33,413.5]
[null,"   Investment Banking",156,27.6,183.6,136.9,22.7,159.6]
[null,"   Capital Markets (fees +TVM accrual)",83.7,7.7,91.4,86.7,9.9,96.6]
[null,"   Treasury Sales & Structuring",52.5,"-",52.5,62.6,"-",62.6]
[null,"   Investments",6.4,0.5,6.9,5.0999999999999996,0.4,5.5]
[null,"   Capital Revevnues2",32.6,"-",32.6,89.2,"-",89.2]
[null,"Expenses",-112.2,-35.799999999999997,-148,-147.1," (33,0)",-180.1]
[null,"   Personal ",-84.3,"-",-84.3,-85.3," -",-85.3]
[null,"   Administrative",-24.3,"-",-24.3,-53.7," -",-53.7]
[null,"Tax on Revenues³",0,-38.4,-38.4,0,-39,-39]
[null,"Others4",-3.6,2.6,-1,-8.1,6,-2.1]
[null,"Operating Result",219,"-",219,233.4," -",233.4]
[null,"Non-Operating Result",0.1,"-",0.1,-1.2," -",-1.2]
[null,"Income Taxes",-80.400000000000006,"-",-80.400000000000006,-85.1," -",-85.1]
[null,"Net Income",138.69999999999999,"-",138.69999999999999,147.1," -",147.1]

{"sheet":"Dividends Distributed","index":12,"n_rows":14,"n_cols":7,"rows_kept":14,"cut":false,"hidden":false,"merged":[]}
["Index"]
[]
[]
[]
["Historical Series Spreadsheet"]
[]
["Dividends"]
["(In reais)"]
[]
[null,2018,2019,2020,2021,2022,"2023*"]
["Per Unit","-","-","-",0.81,0.87,0.36]
["Total",45860023,69921811,84298066,85046520,91346262,37798453.439999998]
[]
["* Considers the dividends distributed for the first and second quarters of the 2023"]