{"text_format":"1","workbook":"xlsx","n_sheets":32,"sheets":["Rosto PT","Rosto EN","Mercado Distribuição SP","Mercado Distribuição SP EN","Mercado Distribuição ES","Mercado Distribuição ES EN","Balanço SP","Balanço SP EN","Balanço ES","Balanço ES EN","Perdas SP","Perdas SP EN","Perdas ES","Perdas ES EN","DEC E FEC SP","DEC E FEC SP EN","DEC E FEC ES","DEC E FEC ES EN","Tarifa M SP","Tarifa M SP EN","Tarifa M ES","Tarifa M ES EN","Volume G","Volume G EN","Tarifa Média G","Tarifa Média G EN","Volume C","Volume C EN","Tarifa Média C","Tarifa Média C EN","Rap Transmissoras","Rap Transmissoras EN"],"not_rendered":{"charts":0,"images":1,"macros":1,"external_links":0,"defined_names":0,"comments":0,"pivot_tables":0},"unopened":[],"bounds":{"document_bytes":16777216,"sheet_cells":100000,"rows_first":2000,"rows_last":500,"rows_between":2000,"halvings":0,"cell_chars":16384,"cell_head_chars":4096},"cells_cut":0,"cells_raw":0,"read":"whole","date_system":"1900"}

{"sheet":"Rosto PT","index":0,"n_rows":0,"n_cols":0,"rows_kept":0,"cut":false,"hidden":false,"merged":[]}

{"sheet":"Rosto EN","index":1,"n_rows":0,"n_cols":0,"rows_kept":0,"cut":false,"hidden":false,"merged":[]}

{"sheet":"Mercado Distribuição SP","index":2,"n_rows":18,"n_cols":34,"rows_kept":18,"cut":false,"hidden":false,"merged":[[3,28,3,33]]}
[]
["Mercado Distribuição EDP SP"]
[]
["R$ Mil","Jun-23","Mar-23","Dez-22","Set-22","2022-06-01","2022-03-01","Dez-21","Set-21","2021-06-30","2021-03-31","Dez-20","Set-20","2020-06-30","2020-03-31","Dez-19","Set-19","2019-06-30","2019-03-31","Dez-18","Set-18","2018-06-30","2018-03-31","Dez-17","Set-17","2017-06-30","2017-03-31",null,"Volume (MWh)"]
[null,"2T23","1T23","4T22","3T22","2T22","1T22","4T21","3T21","2T21","1T21","4T20","3T20","2T20","1T20","4T19","3T19","2T19","1T19","4T18","3T18","2T18","1T18","4T17","3T17","2T17","1T17",null,2022,2021,"2020","2019",2018,2017]
[]
["Residencial",1071674.118496347,1082104.3874940332,1075392.308740994,1037455.0004886361,1025532.9889280798,1036870.340703562,1011155.5585826121,1000521.84306685,1032521.476709765,1031934.6357395051,1067101,1018243.944056361,999486.03746001236,975485,976865.57116400287,940995.87667099992,946220.74511699995,972882.57548300002,959110.65699400008,901951.24189599999,953087.88832199993,933652.48364400002,927229.96850800002,903662.01233900012,920915.45822899998,919962.61109200004,null,4175252.2518602726,4078192.8226569076,4058656.8247200102,3836964.768435,3747802.2708560005,3747802.2708560005]
["Industrial",1862666.6102346685,1874378.7857757229,1902507.9938823914,1940129.8010983947,1899570.888138901,1894814.11803952,1856686.5130516978,1933646.2846283347,1871457.4084325251,1924541.67834485,1929900,1826626.7793104211,1527775.9751239996,1721721,1848121.9254640029,1817201.7118079991,1844206,1747595.7337299995,1835626.0339009992,1905927.9144040002,1859687.5440440006,1743449.7310559996,1848988.9430400005,1855234.3001450005,1785375.7923690001,1678026.2438480007,null,7637467.2184227593,7589483.9783030674,6886220.3511189995,7257125.7479150016,7344691.2234049998,7344691.2234049998]
["Livre",1689704.7381966291,1693521.8150466513,1715166.4948631949,1735002.8538705483,1698291.1543049295,1686271.3497306891,1641979.604110288,1709967.8576519596,1651971.8715680803,1689404.650141007,1682493,1581367.9120813513,1339551.500267999,1470855,1560066.76715,1519852.9535589991,1537490,1458446.4213029996,1520516.5961279992,1576038.4240500003,1527831.9060070005,1424791.7951419996,1477966.3840200005,1497658.4403020004,1426731.3255790002,1360561.1841100005,null,6835163.7929858444,6695617.1286290297,5955260.5035059992,6075855.9787159981,6049178.7213269994,6049178.7213269994]
["Cativo",172961.87203803947,180856.97072907159,187341.49901919649,205126.94722784639,201279.73383397138,208542.7683088308,214706.90894140987,223678.42697637502,219485.53686444473,235137.02820383917,247408,245258.8672290697,188224.47485600068,250866,288055.15831400297,297348.75824900001,306717,289149.31242700003,315109.43777299998,329889.49035400001,331855.63803699997,318657.93591399997,371022.55901999999,357575.85984300001,358644.46678999998,317465.05973800004,null,802303.42543691513,893866.84967403801,930960.03118000086,1181269.769199003,1295512.502078,1295512.502078]
["Comercial",681023.25753738778,729284.09440769302,685845.79839981534,621513.63280452671,650800.16773580061,712185.64658977313,665129.66790941893,596293.20735016279,586224.05166109093,652316.91717985575,644985,543236.37828706391,499230.8847210104,666331,688755.35759400588,598307.84195200005,660460,683607.39628900005,650224.40240799997,570124.12746199989,631861.99629700009,642601.34195600008,645100.149874,557798.7897219999,605704.12945200002,621329.63173700008,null,2670383.2337032016,2507397.2179215471,2334730.4380240329,2631130.2678730064,2494811.868123,2494811.8681229996]
["Livre",252835.97979046032,269765.01386122871,242724.33474917582,210929.08193294558,217907.46865933223,249054.79347998032,230511.80298965442,202600.53948073942,189225.12793829336,207919.85010524356,175807,146598.43529858391,135432.93452700006,185432,169450,147015.946773,167232,166843.52283899998,144814,131069.12686199992,150694.07599000007,149526.20545700006,135708.21780700001,118506.18323999997,130753.67794900003,135648.401365,null,920532.37137327483,830257.32153194747,630760.13855400006,6075855.9787159981,6049178.7213269994,576103.73965800006]
["Cativo",428187.27774692752,459519.08054646431,443121.46365063952,410584.55087158107,432892.69907646842,463130.85310979281,434617.86491976457,393692.6678694234,396998.92372279754,444397.06707461213,469178,396637.94298848003,363797.95019401034,480899,519305,451291.89517899998,493228,516763.87345000001,505410,439055.00060000003,481167.92030700005,493075.13649900001,509391.93206699996,439292.60648199997,474950.45150299999,485681.23037200002,null,1749850.8623299266,1677139.8963895997,1703970.542341033,1181269.769199003,1295512.502078,1918708.1284650001]
["Rural",14508.573095399999,14148.40748419999,14583.755572866599,14469.894872751798,14324.353114999987,15388.599643899997,14967.533514499999,15230.8645394,14976.982537399977,15322.883760032686,15998,15501.34834509999,15568.480901000028,14946,18963.108998000007,19234.703078999999,19684,21499.495277999999,19634.749147000002,19841.30818,21097.15237,21110.301237,21459.315103000001,20001.740539999999,20420.436756999999,20749.213469999999,null,58767.92775201839,60655.379126199972,61892.426153000037,79380.877575999999,81683.510933999991,81683.510933999991]
["Outros",257549.10403740016,287199.22791839868,290941.56833847164,285045.80264641531,288185.60860255471,297455.02811520954,304381.41824686824,277652.07574793207,280319.98078860319,291079.30348036409,291762,277736.94706012501,277006.8854179997,298359,323480.35085100005,298763.88464599999,307348,296029.74121299997,287939.16093899996,290291.23897000001,285803.21952699998,278276.63646100002,299239.98503899999,285109.781976,285248.71370700002,272054.00868200004,null,1161629.8766247451,1153568.6361017083,1143418.0606389998,1225621.6965970001,1142310.255897,1142310.255897]
["Permissionárias",11499.24725,11968.477124999999,11782.00715625,11686.125125,9178.5300000000007,11922.958500000001,11770.281999999999,11776.557475,12126.608399000001,12614.112780000001,13103,11562.552,11092.63394,12684,12952.636330909088,12338.589484104636,12255,7672,19714.978999999999,8047.8510100000003,11994.208737999999,12262.327754,11907.403224,11626.220747333333,11278.725731999999,11597.937521999998,null,44569.620044999981,49411.757474999999,48347.934499999988,45217.806265524472,52019.366502000004,52019.366501999997]
["Concessionárias/Geradores",92321.880876953132,95169.420654296875,94337.764304725642,92597.481315917976,90547.778000000006,93827.11050000001,92986.750539062501,92207.732257812502,91038.247600999995,94521.246555787628,93180,92054.114499999996,88780.56787419891,89682,89865.548416377394,86380.795649370993,99069,78658,80927.027000000002,84672.684902399997,84517.669609600009,79625.545980800001,77002.170984600001,71631.562351999994,58863.276519999999,58772.575630000007,null,370726.74741584016,369629.78054687497,364877.12232642598,353973.27660517738,329742.92749279999,329742.92749280005]
["Total Energia Distribuída",3991242.7915281565,4094252.8008593451,4075391.1963955145,4002897.7383516426,3978140.3145203358,4062463.802091965,3957077.7238441594,3927328.5650654919,3888664.756129384,4022330.7778403917,4056030,3784962.0635590712,3418941.4654382211,3779208,3959004.4988182983,3773223.4032894745,3889242.7451169998,3807944.9419929995,3853177.0093889991,3780856.3668243992,3848049.6789076007,3710978.3680887995,3830927.9357726006,3705064.407821334,3687806.5327660004,3582492.2219810011,null,16118796.875823837,15808339.572131306,14898143.408040401,15429414.441266712,15193061.423209801,15193061.423209798]

{"sheet":"Mercado Distribuição SP EN","index":3,"n_rows":18,"n_cols":34,"rows_kept":18,"cut":false,"hidden":false,"merged":[[3,28,3,33]]}
[]
["Distribution Volume EDP SP"]
[]
["R$ Thousand","Jun-23","Mar-23","Dec-22","Sep-22","2022-06-01","2022-03-01","Dec-21","Sep-21","2021-06-30","2021-03-31","dec-20","2020-09-30","2020-06-30","2020-03-31","dec-19","2019-09-30","2019-06-30","2019-03-31","2018-12-30","2018-09-30","2018-06-30","2018-03-31","2017-12-31","2017-09-30","2017-06-30","2017-03-31",null,"Volume (MWh)"]
[null,"2Q23","1Q23","4Q22","3Q22","2Q22","1Q22","4Q21","3Q21","2Q21","1Q21","4Q20","3Q20","2Q20","1Q20","4Q19","3Q19","2Q19","1Q19","4Q18","3Q18","2Q18","1Q18","4Q17","3Q17","2Q17","1Q17",null,2022,2021,"2020","2019",2018,2017]
[]
["Residential",{"$f":"'Mercado Distribuição SP'!B7","v":1071674.118496347},{"$f":"'Mercado Distribuição SP'!C7","v":1082104.3874940332},{"$f":"'Mercado Distribuição SP'!D7","v":1075392.308740994},{"$f":"'Mercado Distribuição SP'!E7","v":1037455.0004886361},1025532.9889280798,1036870.340703562,1011155.5585826121,1000521.84306685,1032521.476709765,1031934.6357395051,1067101,1018243.944056361,999486.03746001201,975485,976865.57116400287,940995.87667099992,946220.74511699995,972882.57548300002,959110.65699400008,901951.24189599999,953087.88832199993,933652.48364400002,927229.96850800002,903662.01233900012,920915.45822899998,919962.61109200004,null,{"$f":"'Mercado Distribuição SP'!AC7","v":4175252.2518602726},4078192.8226569076,4058656.8247200055,3836964.768435,3747802.2708560005,3747802.2708560005]
["Industrial",{"$f":"'Mercado Distribuição SP'!B8","v":1862666.6102346685},{"$f":"'Mercado Distribuição SP'!C8","v":1874378.7857757229},{"$f":"'Mercado Distribuição SP'!D8","v":1902507.9938823914},{"$f":"'Mercado Distribuição SP'!E8","v":1940129.8010983947},1899570.888138901,1894814.11803952,1856686.5130516978,1933646.2846283347,1871457.4084325251,1924541.6783448462,1929900,1826626.7793104211,1527775.9751239996,1721721,1848121.9254640029,1817201.7118079991,1844206,1747595.7337299995,1835626.0339009992,1905927.9144040002,1859687.5440440006,1743449.7310559996,1848988.9430400005,1855234.3001450005,1785375.7923690001,1678026.2438480007,null,{"$f":"'Mercado Distribuição SP'!AC8","v":7637467.2184227593},7589483.9783030674,6886220.3511189995,7257125.7479150016,7344691.2234049998,7344691.2234049998]
["Free",{"$f":"'Mercado Distribuição SP'!B9","v":1689704.7381966291},{"$f":"'Mercado Distribuição SP'!C9","v":1693521.8150466513},{"$f":"'Mercado Distribuição SP'!D9","v":1715166.4948631949},{"$f":"'Mercado Distribuição SP'!E9","v":1735002.8538705483},1698291.1543049295,1686271.3497306891,1641979.604110288,1709967.8576519596,1651971.8715680803,1689404.650141007,1682493,1581367.9120813513,1339551.500267999,1470855,1560066.76715,1519852.9535589991,1537490,1458446.4213029996,1520516.5961279992,1576038.4240500003,1527831.9060070005,1424791.7951419996,1477966.3840200005,1497658.4403020004,1426731.3255790002,1360561.1841100005,null,{"$f":"'Mercado Distribuição SP'!AC9","v":6835163.7929858444},6695617.1286290297,5955260.5035059992,6075855.9787159981,6049178.7213269994,6049178.7213269994]
["Captive",{"$f":"'Mercado Distribuição SP'!B10","v":172961.87203803947},{"$f":"'Mercado Distribuição SP'!C10","v":180856.97072907159},{"$f":"'Mercado Distribuição SP'!D10","v":187341.49901919649},{"$f":"'Mercado Distribuição SP'!E10","v":205126.94722784639},201279.73383397138,208542.7683088308,214706.90894140987,223678.42697637502,219485.53686444473,235137.02820383917,247408,245258.8672290697,188224.47485600068,250866,288055.15831400297,297348.75824900001,306717,289149.31242700003,315109.43777299998,329889.49035400001,331855.63803699997,318657.93591399997,371022.55901999999,357575.85984300001,358644.46678999998,317465.05973800004,null,{"$f":"'Mercado Distribuição SP'!AC10","v":802303.42543691513},893866.84967403801,930960.03118000086,1181269.769199003,1295512.502078,1295512.502078]
["Commercial",{"$f":"'Mercado Distribuição SP'!B11","v":681023.25753738778},{"$f":"'Mercado Distribuição SP'!C11","v":729284.09440769302},{"$f":"'Mercado Distribuição SP'!D11","v":685845.79839981534},{"$f":"'Mercado Distribuição SP'!E11","v":621513.63280452671},650800.16773580061,712185.64658977313,665129.66790941893,596293.20735016279,586224.05166109093,652316.91717985575,644985,543236.37828706391,499230.8847210104,666331,688755.35759400588,598307.84195200005,660460,683607.39628900005,650224.40240799997,570124.12746199989,631861.99629700009,642601.34195600008,645100.149874,557798.7897219999,605704.12945200002,621329.63173700008,null,{"$f":"'Mercado Distribuição SP'!AC11","v":2670383.2337032016},2507397.2179215471,2334730.4380240329,2631130.2678730064,2494811.868123,2494811.8681229996]
["Free",{"$f":"'Mercado Distribuição SP'!B12","v":252835.97979046032},{"$f":"'Mercado Distribuição SP'!C12","v":269765.01386122871},{"$f":"'Mercado Distribuição SP'!D12","v":242724.33474917582},{"$f":"'Mercado Distribuição SP'!E12","v":210929.08193294558},217907.46865933223,249054.79347998032,230511.80298965442,202600.53948073942,189225.12793829336,207919.85010524356,175807,146598.43529858391,135432.93452700006,185432,169450,147015.946773,167232,166843.52283899998,144814,131069.12686199992,150694.07599000007,149526.20545700006,135708.21780700001,118506.18323999997,130753.67794900003,135648.401365,null,{"$f":"'Mercado Distribuição SP'!AC12","v":920532.37137327483},830257.32153194747,630760.13855400006,6075855.9787159981,6049178.7213269994,576103.73965800006]
["Captive",{"$f":"'Mercado Distribuição SP'!B13","v":428187.27774692752},{"$f":"'Mercado Distribuição SP'!C13","v":459519.08054646431},{"$f":"'Mercado Distribuição SP'!D13","v":443121.46365063952},{"$f":"'Mercado Distribuição SP'!E13","v":410584.55087158107},432892.69907646842,463130.85310979281,434617.86491976457,393692.6678694234,396998.92372279754,444397.06707461213,469178,396637.94298848003,363797.95019401034,480899,519305,451291.89517899998,493228,516763.87345000001,505410,439055.00060000003,481167.92030700005,493075.13649900001,509391.93206699996,439292.60648199997,474950.45150299999,485681.23037200002,null,{"$f":"'Mercado Distribuição SP'!AC13","v":1749850.8623299266},1677139.8963895997,1703970.542341033,1181269.769199003,1295512.502078,1918708.1284650001]
["Rural",{"$f":"'Mercado Distribuição SP'!B14","v":14508.573095399999},{"$f":"'Mercado Distribuição SP'!C14","v":14148.40748419999},{"$f":"'Mercado Distribuição SP'!D14","v":14583.755572866599},{"$f":"'Mercado Distribuição SP'!E14","v":14469.894872751798},14324.353114999987,15388.599643899997,14967.533514499999,15230.8645394,14976.982537399977,15322.883760032686,15998,15501.34834509999,15568.480901000028,14946,18963.108998000007,19234.703078999999,19684,21499.495277999999,19634.749147000002,19841.30818,21097.15237,21110.301237,21459.315103000001,20001.740539999999,20420.436756999999,20749.213469999999,null,{"$f":"'Mercado Distribuição SP'!AC14","v":58767.92775201839},60655.379126199972,61892.426153000037,79380.877575999999,81683.510933999991,81683.510933999991]
["Others",{"$f":"'Mercado Distribuição SP'!B15","v":257549.10403740016},{"$f":"'Mercado Distribuição SP'!C15","v":287199.22791839868},{"$f":"'Mercado Distribuição SP'!D15","v":290941.56833847164},{"$f":"'Mercado Distribuição SP'!E15","v":285045.80264641531},288185.60860255471,297455.02811520954,304381.41824686824,277652.07574793207,280319.98078860319,291079.30348036409,291762,277736.94706012501,277006.8854179997,298359,323480.35085100005,298763.88464599999,307348,296029.74121299997,287939.16093899996,290291.23897000001,285803.21952699998,278276.63646100002,299239.98503899999,285109.781976,285248.71370700002,272054.00868200004,null,{"$f":"'Mercado Distribuição SP'!AC15","v":1161629.8766247451},1153568.6361017083,1143418.0606389998,1225621.6965970001,1142310.255897,1142310.255897]
["Permissionary",{"$f":"'Mercado Distribuição SP'!B16","v":11499.24725},{"$f":"'Mercado Distribuição SP'!C16","v":11968.477124999999},{"$f":"'Mercado Distribuição SP'!D16","v":11782.00715625},{"$f":"'Mercado Distribuição SP'!E16","v":11686.125125},9178.5300000000007,11922.958500000001,11770.281999999999,11776.557475,12126.608399000001,12614.112780000001,13103,11562.552,11092.63394,12684,12952.636330909088,12338.589484104636,12255,7672,19714.978999999999,8047.8510100000003,11994.208737999999,12262.327754,11907.403224,11626.220747333333,11278.725731999999,11597.937521999998,null,{"$f":"'Mercado Distribuição SP'!AC16","v":44569.620044999981},49411.757474999999,48347.934499999988,45217.806265524472,52019.366502000004,52019.366501999997]
["Concessionaries\\Generation",{"$f":"'Mercado Distribuição SP'!B17","v":92321.880876953132},{"$f":"'Mercado Distribuição SP'!C17","v":95169.420654296875},{"$f":"'Mercado Distribuição SP'!D17","v":94337.764304725642},{"$f":"'Mercado Distribuição SP'!E17","v":92597.481315917976},90547.778000000006,93827.11050000001,92986.750539062501,92207.732257812502,91038.247600999995,94521.246555787628,93180,92054.114499999996,88780.56787419891,89682,89865.548416377394,86380.795649370993,99069,78658,80927.027000000002,84672.684902399997,84517.669609600009,79625.545980800001,77002.170984600001,71631.562351999994,58863.276519999999,58772.575630000007,null,{"$f":"'Mercado Distribuição SP'!AC17","v":370726.74741584016},369629.78054687497,364877.12232642598,353973.27660517738,329742.92749279999,329742.92749280005]
["Total Energy Distributed",{"$f":"'Mercado Distribuição SP'!B18","v":3991242.7915281565},{"$f":"'Mercado Distribuição SP'!C18","v":4094252.8008593451},{"$f":"'Mercado Distribuição SP'!D18","v":4075391.1963955145},{"$f":"'Mercado Distribuição SP'!E18","v":4002897.7383516426},3978140.3145203358,4062463.802091965,3957077.7238441594,3927328.5650654919,3888664.756129384,4022330.7778403917,4056030,3784962.0635590712,3418941.4654382211,3779208,3959004.4988182983,3773223.4032894745,3889242,3807945,3853177.0093889995,3780856.3668243992,3848049.6789076007,3710978.3680887995,3830927.9357726006,3705064.407821334,3687806.5327660004,3582492.2219810011,null,{"$f":"'Mercado Distribuição SP'!AC18","v":16118796.875823837},15808339.572131306,14898143.408040449,15429414.441266712,15193061.423209801,15193061.423209798]

{"sheet":"Mercado Distribuição ES","index":4,"n_rows":17,"n_cols":34,"rows_kept":17,"cut":false,"hidden":false,"merged":[[3,28,3,33]]}
[]
["Mercado Distribuição EDP ES"]
[]
["R$ Mil","Jun-23","Mar-23","Dez-22","Set-22","2022-06-01","2022-03-01","Dez-21","Set-21","2021-06-30","2021-03-31","Dez-20","Set-20","2020-06-30","2020-03-31","Dez-19","Set-19","2019-06-30","2019-03-31","Dez-18","Set-18","2018-06-30","2018-03-31","Dez-17","Set-17","2017-06-30","2017-03-31",null,"Volume (MWh)"]
[null,"2T23","1T23","4T22","3T22","2T22","1T22","4T21","3T21","2T21","1T21","4T20","3T20","2T20","1T20","4T19","3T19","2T19","1T19","4T18","3T18","2T18","1T18","4T17","3T17","2T17","1T17",null,2022,2021,"2020","2019",2018,2017]
[]
["Residencial",740034.24025783641,819881.31730584509,680265.41388856806,601276.82635369594,668070.56324979803,767635.04427508998,624470.50850514392,572824.15767810505,655257.6330514804,717046.81749842386,657836,574381.63776228903,594982.45367698604,679901,626084.58497299347,523152.07513800001,615266,716504.74673200003,583301.26616200001,505795.30769500002,562677.83026099997,649437.34690200002,539732.21739700006,479896.85911200003,545052.54395399999,651759.77668400004,null,2717247.9834410008,2575116.400347969,2503143.2102999738,2481007.5407389938,2301211.7510199999,2216441.3971470003]
["Industrial",1033865.8714648166,968896.77346030076,958466.24593003327,998315.16055639915,1016535.8707101089,929680.43877562892,1062155.8572886128,1023138.8085130454,991609.23566701356,934981.40923448873,969084,1005626.7195534355,864182.1636170001,855981,948225.85754000023,1024310.323536,990966,1017718.5620290001,1063148.6333510003,1030081.307437,990872.00644499995,922866.29481399991,958775.43798499997,980556.82957999979,951062.48829500005,908404.53849199996,null,3936712.5102357054,4015900.6588018192,3623800.9668129999,3981221.0863839998,4006968.2420469997,3798799.2943519996]
["Livre",950249.78378657647,881984.42048245901,868701.61906787916,897636.03180429665,913169.27712567372,824277.8177841201,952693.51567004807,904133.91173651814,873140.95922189532,813191.56933000113,842849,880783.52806518553,761758.46694600023,732577,818527.20933599991,891759.45588300005,852493,881199.42608600017,919206.70082400017,880273.18566700001,840997.78489399992,771696.62856799993,794258.36474699993,821356.14434899983,781425.75459200004,746296.85751899995,null,3537479.2564711547,3543152.1932719187,3149321.618543,3443979.2042459995,3412174.2999529997,3143337.1212069998]
["Cativo",83616.087678240117,86912.352977841772,89764.626862154066,100679.12875210252,103366.59358443521,105402.6209915088,109462.34161856462,119004.89677652727,118468.27644511826,121789.83990448761,126235,124843.19148824991,102423.69667099982,123403,129698.6482040003,132550.86765299999,138473,136519.135943,143941.932527,149808.12177,149874.221551,151169.66624600001,164517.07323800001,159200.68523099998,169636.73370300001,162107.68097300001,null,399233.25376455061,472748.46552990074,474479,537241.88213800022,594793.94209399994,655462.17314500001]
["Comercial",457869.11243037018,502020.32138726179,433198.04325197084,388500.30941009318,433842.85944692005,485128.96451212419,419502.19007235963,379029.19493584213,383170.6326474293,436198.59338031645,407620,342592.40784578811,322805.71252300061,449853,429970.68916500045,364290.87654899998,421731,463653.54811199999,404005.68742500001,376351.43347300007,424691.35200099996,467986.00216799998,422602.78954999999,364800.42753399996,417016.85556700005,466000.94336800004,null,1740660.7075695377,1629102.5163209725,1511844.5316040001,1679646.2335870005,1673034.4750669999,1670421.016019]
["Livre",141497.008196865,152093.14824436937,129850.66249495583,114468.9205871388,121364.54371168418,134037.30084009151,119315.01761180061,104665.22610426834,99346.263827514544,114645.03415875007,99873,86024.816870786512,80599.361185999995,103530,90291,76861.137489999994,88343,87566.585534999977,74651,93738.061687000009,111688.012388,112099.663128,106420.63088999997,101420.11945699999,104663.80472900002,103766.84956400003,null,499725.4446618295,437971.54172620043,364094.31955999997,3443979.2042459995,3412174.2999529997,416271.40464000002]
["Cativo",316372.1042335052,349927.17314289242,303347.38075701502,274031.38882295438,312478.31573523587,351091.66367203265,300187.172460559,274363.96883157379,283824.36881991476,321553.55922156636,307747,256567.5909750016,242206.35133700061,346323,339680,287429.73905899998,333388,376086.96257700003,329354,282613.37178600003,313003.33961299999,355886.33903999999,316182.15866000002,263380.30807699997,312353.05083800002,362234.093804,null,1240935.2629077081,1191130.9745947721,1147749.9113959987,537241.88213800022,594793.94209399994,1254149.6113790001]
["Rural",248529.94664474408,220654.54588535952,216510.15946482681,264387.20140449249,250388.98593681271,211804.02952268609,194379.6803671399,266802.29865982709,251155.9293008926,233786.9023092952,226642,231611.01371546485,217231.07619500009,194028,236763.62955199962,221914.84795999998,229792,237225.03335600003,202282.051102,206901.19502400002,182051.84065199998,197557.71659599998,188523.33811400001,176141.39687300002,205646.14958099998,207916.30601100001,null,943089.53111324541,947363.35178075661,868839.20911399962,925695.38749899948,788792.80337399989,778227.19057899993]
["Outros",193421.99982774648,205808.14063623938,201909.40484987455,193338.59743224829,208075.61734096409,218608.02248167069,212132.39339079728,215686.51602485572,191530.51038299207,211386.15587916342,231940,194290.44996285462,218020.50684100002,187344,230006.92993799996,208325.84473899999,224680,227400.03874300004,222778.33238099999,214901.84068999998,210805.34437999999,228091.770139,230745.96401299999,172272.16276699997,208361.81249499999,215531.41396799998,null,822086.32027277001,831649.83875111875,830774.81279000011,890412.389952,876577.28758999985,826911.35324299987]
["Concessionárias/Geradores",55499.554751953125,54482.138102539058,44618.516714843747,62866.788132911592,58766.300554687507,46476.515320312501,42808.388062500002,61393.489195312497,55196.092312499997,49061.619438211208,49375,50842.14309942913,43342.993799999997,41869,47508.502800000002,54862.765199999943,49566,52158.745935000021,43012.569152500015,48541,35966.473469952012,40373.292015769606,38334.569123199995,37700.741711999988,44379.245343999995,45895.726739199985,null,212728.12064267718,208459.58904687496,184636.291,204096.16793499992,167892.86124796234,166310.28291839996]
["Total Energia Distribuída",2729220.725377467,2771743.2367775459,2534967.7841001172,2508684.8832898405,2635680.1972392914,2659333.0148875122,2555449.0176865533,2518874.465006988,2527920.0333623081,2582461.497739899,2542498,2399344.3719392614,2260564.9066529865,2408976,2518560.1939679938,2396856.7331219995,2532001,2714660.6749070003,2518528.5395734999,2382572.0843190001,2407064.8472089521,2506312.4226347692,2378714.3161821999,2211368.4175779996,2371519.0952360001,2495508.7052622,null,10372525.173274938,10207592.35504951,9523038,10162078.806095995,9814477.4203459639,9457110.534258401]

{"sheet":"Mercado Distribuição ES EN","index":5,"n_rows":17,"n_cols":34,"rows_kept":17,"cut":false,"hidden":false,"merged":[[3,28,3,33]]}
[]
["Distribution Volume EDP ES"]
[]
["R$ Thousand","2023-06-01","2023-03-01","2022-12-01","Sep-22","2022-06-01","2022-03-01","2021-12-01","Sep-21","2021-06-30","2021-03-31","dec-20","2020-09-30","2020-06-30","2020-03-31","dec-19","2019-09-30","2019-06-30","2019-03-31","2018-12-30","2018-09-30","2018-06-30","2018-03-31","2017-12-31","2017-09-30","2017-06-30","2017-03-31",null,"Volume (MWh)"]
[null,"2Q23","1Q23","4Q22","3Q22","2Q22","1Q22","4Q21","3Q21","2Q21","1Q21","4Q20","3Q20","2Q20","1Q20","4Q19","3Q19","2Q19","1Q19","4Q18","3Q18","2Q18","1Q18","4Q17","3Q17","2Q17","1Q17",null,2022,2021,"2020","2019",2018,2017]
[]
["Residential",{"$f":"'Mercado Distribuição ES'!B7","v":740034.24025783641},{"$f":"'Mercado Distribuição ES'!C7","v":819881.31730584509},{"$f":"'Mercado Distribuição ES'!D7","v":680265.41388856806},{"$f":"'Mercado Distribuição ES'!E7","v":601276.82635369594},{"$f":"'Mercado Distribuição ES'!F7","v":668070.56324979803},767635.04427508998,624470.50850514392,572824.15767810505,655257.6330514804,717046.81749842386,657836,574381.63776228903,594982.45367698604,679901,626084.58497299347,523152.07513800001,615266,716504.74673200003,583301.26616200001,505795.30769500002,562677.83026099997,649437.34690200002,539732.21739700006,479896.85911200003,545052.54395399999,651759.77668400004,null,{"$f":"'Mercado Distribuição ES'!AC7","v":2717247.9834410008},2575116.400347969,2503143.2102999738,2481007.5407389938,2301211.7510199999,2216441.3971470003]
["Industrial",{"$f":"'Mercado Distribuição ES'!B8","v":1033865.8714648166},{"$f":"'Mercado Distribuição ES'!C8","v":968896.77346030076},{"$f":"'Mercado Distribuição ES'!D8","v":958466.24593003327},{"$f":"'Mercado Distribuição ES'!E8","v":998315.16055639915},{"$f":"'Mercado Distribuição ES'!F8","v":1016535.8707101089},929680.43877562892,1062155.8572886128,1023138.8085130454,991609.23566701356,934981.40923448873,969084,1005626.7195534355,864182.1636170001,855981,948225.85754000023,1024310.323536,990966,1017718.5620290001,1063148.6333510003,1030081.307437,990872.00644499995,922866.29481399991,958775.43798499997,980556.82957999979,951062.48829500005,908404.53849199996,null,{"$f":"'Mercado Distribuição ES'!AC8","v":3936712.5102357054},4015900.6588018192,3623800.9668129999,3981221.0863839998,4006968.2420469997,3798799.2943519996]
["Free",{"$f":"'Mercado Distribuição ES'!B9","v":950249.78378657647},{"$f":"'Mercado Distribuição ES'!C9","v":881984.42048245901},{"$f":"'Mercado Distribuição ES'!D9","v":868701.61906787916},{"$f":"'Mercado Distribuição ES'!E9","v":897636.03180429665},{"$f":"'Mercado Distribuição ES'!F9","v":913169.27712567372},824277.8177841201,952693.51567004807,904133.91173651814,873140.95922189532,813191.56933000113,842849,880783.52806518553,761758.46694600023,732577,818527.20933599991,891759.45588300005,852493,881199.42608600017,919206.70082400017,880273.18566700001,840997.78489399992,771696.62856799993,794258.36474699993,821356.14434899983,781425.75459200004,746296.85751899995,null,{"$f":"'Mercado Distribuição ES'!AC9","v":3537479.2564711547},3543152.1932719187,3149321.618543,3443979.2042459995,3412174.2999529997,3143337.1212069998]
["Captive",{"$f":"'Mercado Distribuição ES'!B10","v":83616.087678240117},{"$f":"'Mercado Distribuição ES'!C10","v":86912.352977841772},{"$f":"'Mercado Distribuição ES'!D10","v":89764.626862154066},{"$f":"'Mercado Distribuição ES'!E10","v":100679.12875210252},{"$f":"'Mercado Distribuição ES'!F10","v":103366.59358443521},105402.6209915088,109462.34161856462,119004.89677652727,118468.27644511826,121789.83990448761,126235,124843.19148824991,102423.69667099982,123403,129698.6482040003,132550.86765299999,138473,136519.135943,143941.932527,149808.12177,149874.221551,151169.66624600001,164517.07323800001,159200.68523099998,169636.73370300001,162107.68097300001,null,{"$f":"'Mercado Distribuição ES'!AC10","v":399233.25376455061},472748.46552990074,474479,537241.88213800022,594793.94209399994,655462.17314500001]
["Commercial",{"$f":"'Mercado Distribuição ES'!B11","v":457869.11243037018},{"$f":"'Mercado Distribuição ES'!C11","v":502020.32138726179},{"$f":"'Mercado Distribuição ES'!D11","v":433198.04325197084},{"$f":"'Mercado Distribuição ES'!E11","v":388500.30941009318},{"$f":"'Mercado Distribuição ES'!F11","v":433842.85944692005},485128.96451212419,419502.19007235963,379029.19493584213,383170.6326474293,436198.59338031645,407620,342592.40784578811,322805.71252300061,449853,429970.68916500045,364290.87654899998,421731,463653.54811199999,404005.68742500001,376351.43347300007,424691.35200099996,467986.00216799998,422602.78954999999,364800.42753399996,417016.85556700005,466000.94336800004,null,{"$f":"'Mercado Distribuição ES'!AC11","v":1740660.7075695377},1629102.5163209725,1511844.5316040001,1679646.2335870005,1673034.4750669999,1670421.016019]
["Free",{"$f":"'Mercado Distribuição ES'!B12","v":141497.008196865},{"$f":"'Mercado Distribuição ES'!C12","v":152093.14824436937},{"$f":"'Mercado Distribuição ES'!D12","v":129850.66249495583},{"$f":"'Mercado Distribuição ES'!E12","v":114468.9205871388},{"$f":"'Mercado Distribuição ES'!F12","v":121364.54371168418},134037.30084009151,119315.01761180061,104665.22610426834,99346.263827514544,114645.03415875007,99873,86024.816870786512,80599.361185999995,103530,90291,76861.137489999994,88343,87566.585534999977,74651,93738.061687000009,111688.012388,112099.663128,106420.63088999997,101420.11945699999,104663.80472900002,103766.84956400003,null,{"$f":"'Mercado Distribuição ES'!AC12","v":499725.4446618295},437971.54172620043,364094.31955999997,3443979.2042459995,3412174.2999529997,416271.40464000002]
["Captive",{"$f":"'Mercado Distribuição ES'!B13","v":316372.1042335052},{"$f":"'Mercado Distribuição ES'!C13","v":349927.17314289242},{"$f":"'Mercado Distribuição ES'!D13","v":303347.38075701502},{"$f":"'Mercado Distribuição ES'!E13","v":274031.38882295438},{"$f":"'Mercado Distribuição ES'!F13","v":312478.31573523587},351091.66367203265,300187.172460559,274363.96883157379,283824.36881991476,321553.55922156636,307747,256567.5909750016,242206.35133700061,346323,339680,287429.73905899998,333388,376086.96257700003,329354,282613.37178600003,313003.33961299999,355886.33903999999,316182.15866000002,263380.30807699997,312353.05083800002,362234.093804,null,{"$f":"'Mercado Distribuição ES'!AC13","v":1240935.2629077081},1191130.9745947721,1147749.9113959987,537241.88213800022,594793.94209399994,1254149.6113790001]
["Rural",{"$f":"'Mercado Distribuição ES'!B14","v":248529.94664474408},{"$f":"'Mercado Distribuição ES'!C14","v":220654.54588535952},{"$f":"'Mercado Distribuição ES'!D14","v":216510.15946482681},{"$f":"'Mercado Distribuição ES'!E14","v":264387.20140449249},{"$f":"'Mercado Distribuição ES'!F14","v":250388.98593681271},211804.02952268609,194379.6803671399,266802.29865982709,251155.9293008926,233786.9023092952,226642,231611.01371546485,217231.07619500009,194028,236763.62955199962,221914.84795999998,229792,237225.03335600003,202282.051102,206901.19502400002,182051.84065199998,197557.71659599998,188523.33811400001,176141.39687300002,205646.14958099998,207916.30601100001,null,{"$f":"'Mercado Distribuição ES'!AC14","v":943089.53111324541},947363.35178075661,868839.20911399962,925695.38749899948,788792.80337399989,778227.19057899993]
["Others",{"$f":"'Mercado Distribuição ES'!B15","v":193421.99982774648},{"$f":"'Mercado Distribuição ES'!C15","v":205808.14063623938},{"$f":"'Mercado Distribuição ES'!D15","v":201909.40484987455},{"$f":"'Mercado Distribuição ES'!E15","v":193338.59743224829},{"$f":"'Mercado Distribuição ES'!F15","v":208075.61734096409},218608.02248167069,212132.39339079728,215686.51602485572,191530.51038299207,211386.15587916342,231940,194290.44996285462,218020.50684100002,187344,230006.92993799996,208325.84473899999,224680,227400.03874300004,222778.33238099999,214901.84068999998,210805.34437999999,228091.770139,230745.96401299999,172272.16276699997,208361.81249499999,215531.41396799998,null,{"$f":"'Mercado Distribuição ES'!AC15","v":822086.32027277001},831649.83875111875,830774.81279000011,890412.389952,876577.28758999985,826911.35324299987]
["Concessionaries\\Generation",{"$f":"'Mercado Distribuição ES'!B16","v":55499.554751953125},{"$f":"'Mercado Distribuição ES'!C16","v":54482.138102539058},{"$f":"'Mercado Distribuição ES'!D16","v":44618.516714843747},{"$f":"'Mercado Distribuição ES'!E16","v":62866.788132911592},{"$f":"'Mercado Distribuição ES'!F16","v":58766.300554687507},46476.515320312501,42808.388062500002,61393.489195312497,55196.092312499997,49061.619438211208,49375,50842.14309942913,43342.993799999997,41869,47508.502800000002,54862.765199999943,49566,52158.745935000021,43012.569152500015,48541,35966.473469952012,40373.292015769606,38334.569123199995,37700.741711999988,44379.245343999995,45895.726739199985,null,{"$f":"'Mercado Distribuição ES'!AC16","v":212728.12064267718},208459.58904687496,184636.291,204096.16793499992,167892.86124796234,166310.28291839996]
["Total Energy Distributed",{"$f":"'Mercado Distribuição ES'!B17","v":2729220.725377467},{"$f":"'Mercado Distribuição ES'!C17","v":2771743.2367775459},{"$f":"'Mercado Distribuição ES'!D17","v":2534967.7841001172},{"$f":"'Mercado Distribuição ES'!E17","v":2508684.8832898405},{"$f":"'Mercado Distribuição ES'!F17","v":2635680.1972392914},2659333.0148875099,2555449.0176865533,2518874.465006988,2527920.0333623081,2582461.497739899,2542498,2399344.3719392614,2260564.9066529865,2408975,2518560.1939679938,2396856.733122,2532001,2714660.6749070003,2518528.5395734999,2382572,2407064.8472089521,2506312.4226347692,2378714.3161821999,2211368.4175779996,2371519.0952359997,2495508.7052622,null,{"$f":"'Mercado Distribuição ES'!AC17","v":10372525.173274938},10207592.35504951,9523038,10162078.806095995,9814477.4203459639,9457110.5342583992]

{"sheet":"Balanço SP","index":6,"n_rows":25,"n_cols":34,"rows_kept":25,"cut":false,"hidden":false,"merged":[[3,28,3,33]]}
[]
["Balanço Energético EDP SP"]
[]
["R$","Jun-23","Mar-23","Dez-22","Set-22","2022-06-01","2022-03-01","Dez-21","Set-21","2021-06-30","2021-03-31","Dez-20","Set-20","2020-06-30","2020-03-31","Dez-19","Set-19","2019-06-30","2019-03-31","Dez-18","Set-18","2018-06-30","2018-03-31","Dez-17","Set-17","2017-06-30","2017-03-31",null,"Volume (MWh)"]
[null,"2T23","1T23","4T22","3T22","2T22","1T22","4T21","3T21","2T21","1T21","4T20","3T20","2T20","1T20","4T19","3T19","2T19","1T19","4T18","3T18","2T18","1T18","4T17","3T17","2T17","1T17",null,2022,"2021","2020","2019",2018,2017]
[]
["Itaipu + Proinfa",505699.66928554513,500144.64996372594,558598.34710136987,557963.15210136992,547253.71363287675,539423.11516438355,580798.92756524205,578707.58556524199,569803.4102982285,557938.24603121507,617987.6640242968,615169.27202429669,604582.63921968476,603338,620195.03526575328,618533.84126575303,608891,601208.3415023972,638217.49099805928,634570.93174794514,625633.69175068487,617487.53750331048,686336.08199999994,684717.74199999985,672543.09700000007,666244,null,2203198.7250000001,2287157.4734599274,2440905.8764879629,2448828.2180339037,2515909.6519999998,2709840.9210000001]
["Leilão",2110524.7420000001,2178942.2370000002,2300729.8119999999,2280950.318,2292326.8830049997,2332477.7974300003,2367202.3170159999,2317244.4250070001,2173746.8759999997,2264450.7924100002,2360296.4656875627,2351055.877760563,2244096.3441676665,2238009,2298868.011012,2283991.8240040001,2189807,2174842.432,2082645.3219999999,2076021.3930000002,2030696.102,2141734.5635089995,2052937.5667019999,2061676.5327438386,2238758.8610030012,2281204,null,9207151.2514360007,9126605.1724340003,9192610.8597367927,8947509.267016001,8331097.3805089993,8634576.9604488388]
["Outros¹",2540.173272,2512.2592800000002,3033.4254719999999,3033.4254719999999,3000.4534560000002,2967.4814399999996,3137.2080960000003,3077.1089040000002,2572.2706079999998,3233.3677199999997,2977.5699119999999,3474.1135679999998,3026.6023439999999,2540,2645.4148800000003,3242.1386400000001,3039,11042.983425976317,3167.1379999999999,3178.5629999999996,3108.174,46284.246387500505,2915.55,3129.848,3072.9290000000001,2867,null,12034.78584,12019.955328,12018.195527999998,19969.536945976317,55738.121387500505,11985.327000000001]
["Energia em Trânsito",2105998.2587360782,2150172.1533123315,2145863.019972038,2129177.3669165801,2093607.1192179518,2118546.5612106016,2043383.7944626235,2088836.0215301504,2017434.2073468952,2077899.0023365389,2042585.5528266169,1903418.7734417976,1512228.5892308285,1924182,1858123.2277941552,1863063.0123010371,1846489,1846488.5994559033,1796348.4120638382,1819710.4582097745,1808192.7398436079,1777489.5799717966,1753444.8710649963,1750126.924305453,1652452.1676566275,1670755,null,8487194.067317171,8230049.4607612081,7382411.164042403,7414163.8395510959,7201741.1900890172,6826778.9630270768]
["Total Energia Recebida",4724762.8432936231,4831771.2995560579,5008224.604545407,4971124.2624899503,4936188.1693118289,4993414.9552449845,4994522.2471398655,4987865.1410063924,4763556.7642531237,4903521.4084977545,5023847.2524504773,4873118.0367946569,4363934.1749621797,4768069,4779831.6889519086,4768830.8162107896,4648226,4633582.3563842773,4520378.3630618975,4533481.3459577197,4467630.7075942922,4582995.9273716072,4495634.0697669964,4499651.0470492914,4566827.0546596292,4621070,null,19909578.82959317,19655832.061983138,19027946.095795158,18830470.861546978,18104486.343985517,18183182.171475917]
["Perdas Transmissão (+)",51179.26503488468,61928.917397125653,42757.868117373546,44398.33736346331,63421.577862418686,68836.439365869446,52250.50614680392,49104.196307885955,53939.027952084041,58668.077815509605,55107.458996232956,50956.587275712474,52712.551238123895,55817,52279.793461335037,37722.571151185126,53134,59928.501532105642,49724.281465134263,48447.836761709681,53419.578477576964,58141.275563481089,50059.142384137675,42935.681879416894,49801.930791845109,55062,null,193220.35366737351,185875.3980668039,194916.95281923297,203064.86614462579,209732.97226790199,197858.75505539967]
["Perdas de Itaipu (+)",26555.346623303372,27115.390808058914,26952.974115376957,27989.236422785012,32272.504870632063,31997.231351080845,30986.394438809621,30347.843860596964,31562.937030878631,30421.819975830309,34909.944249456436,35081.520860631776,36147.662697892636,35293,32841.506071330572,32731.74502235639,33385,32663.409407997668,33224.502911170697,33377.74444464151,33989.897603700949,33083.900253973123,35827.470770447377,36051.387470901391,37346.705555792607,35741,null,115668.17763200712,120037.49371649524,152847.53865240802,131621.66050168464,133676.04521348627,144966.56379714137]
["Vendas C.Prazo (-)",-140342.39741398033,-97715.768312097935,-243296.58180828707,-282043.44316840929,-262237.07544279646,-128132.49805938244,-671803.52876342623,-614651.72025469795,-284980.96380470105,-79157.167320287321,-166777.34230537183,-313972.19738423498,-364694.27839605423,-111759,-86058.537114504012,-342849.96845009248,-48612,-49247.220952943419,-141293.03746211054,-197552.47177726743,-106365.56442411045,-170671.36372914299,-283368.90789871803,-330022.13428419299,-520033.16924331698,-421079,null,-954490.71599428705,-1662268.7775304262,-947399.36909237178,-526767.72651753994,-615882.43739263143,-1554503.2114262278]
["Ajustes C.Prazo (-)",32488.764719984843,23451.079963344964,33521.032917142147,13455.809877385618,7071.2101276576286,19095.634587197565,7588.4271938640159,7610.973926470615,-7453.3003158231732,664.04477650683839,-17931.26637492876,-9407.0352725763805,-12258.271208277089,6095,115.0471180054069,-22761.6402557607,-19630,-5370.9373737557089,37795.302544952116,-3347.1696403823526,-5240.1603767769539,27266.562035958781,17292.629548439774,-10363.7526193463,-9506.1513022187992,-8076,null,75905.844531010254,-17668.945389245055,-50538.712998089963,-47647.530511511002,56474.534563751586,-10653.274373125325]
["Total Perdas",185588.24435218357,163308.99655393753,279486.39112389542,340975.207077272,350859.94804818957,209870.53418913519,747452.00215517567,686492.78649671027,377936.22910348693,167583.02033512038,274726.01192598999,409417.3407931556,465812.76354034786,196774,171064.78952916421,436065.9248793947,154761,147210.06926680243,186446.51929346341,282725.22262400098,199015.20088216529,234629.97751063842,351962.89150486334,419372.95625385758,616687.95689317351,519958,null,1187473.4027626575,1985850.6147029703,1345702.5735621026,909101.78367536142,902816.92031026818,1907981.8046518941]
["Cessões MCSD Energia Nova (+)",-121720.79387999987,-122303.70700799994,13596.699000534229,28726.087548904114,29467.446239999983,30801.686176534236,486570.54031999991,468567.67288000009,-62869.454079999996,-154891.21253200001,-121361.59364799995,-79938.002799999987,-79069.107800000027,-79069,38604.891935999993,38604.89461599999,38185.290040000007,37783.126936000001,141531.52500000002,141595.70399999997,148272.80488000004,145985,0,0,0,0,null,102591.95900053417,737376.76832000015,-359439.53864799999,153178.20352799998,577385.03388,0]
["Mecanismo de Venda de Excedentes (MVE)",-137639.99925600001,-66215.999255999996,-326197.5772799995,-330658.25983199949,-331250.57783999981,-341280.03023999941,-452577.87513599987,-466108.79558399995,-139120.79999999999,-137592.00000200002,-231840.00883599999,-231840.00883599996,-226975.37193599992,-229320,336775.66809599998,162343.66809600001,243031.94508,161538,0,0,0,0,0,0,0,0,null,-1323732.0007919981,-1195399.4707199999,-919975.3983519997,903689.28127199993,0,0]
["Vendas",-259360.79313599988,-188519.70626399995,-312600.87827946525,-301932.17228309542,-301783.13159999979,-310478.34406346513,33992.665184000012,2458.877296000137,-201990.25407999998,-292483.21253400005,-353201.60248399992,-311778.01163599995,-306044.47973599995,-308389,375380.56003199995,200948.56271199998,281217.23512000003,199321.12693600002,327978.04429346346,424320.926624001,347288.0057621653,380614.97751063842,351962.89150486334,419372.95625385758,616687.95689317351,519958,null,-1221140.041791464,-458022.70239999972,-1279414.9369999999,1056867.4848,1480201.9541902682,1907981.8046518944]
["Energia Requerida",4798535.3920774404,4856982.0092661195,5041339.0917009767,4932081.2276957734,4887111.3528636387,5094022.7651193151,4213077.5798006896,4298913.4772136817,4587610.7892296361,5028421.6006966345,5102322.8430084866,4775478.7076375019,4204165.891157832,4879684,4233386.3393907445,4131816.3286193954,4212247.7648799997,4287051.1601814749,4005953.7994749704,3826435.1967097176,3921327.5009499611,3967750.9723503301,3791708.2867572699,3660905.1345415767,3333451.1408732822,3581154,null,19943245.468621977,18128004.149680164,18961658.45923306,16864501.593071617,15721467.469484977,14367218.56217213]
["Suprimento",11499.732,11968.47748,11782.00681499999,11686.12524999999,9178.5295149999984,11922.958269999992,11770.282019999999,11776.557429,12126.608399000001,12614.118163999996,12333.057299999989,10998.576360000001,10667.932000000001,12275,12610.13085090909,12120.996574615388,11950.98773225806,11768.86164677419,15387.264116288237,8047.8513700000003,11994.208737999999,12262.327754,11907.403224,11626.700621333297,11278.583384000001,11598,null,44569.619849999974,48287.566011999996,46274.531659999993,48450.976804556725,47691.651978288239,46410.6872293333]
["Fornecimento",1873745.5886497067,1933999.6397053939,1917693.2464199807,1861980.2895289767,1875352.1377636378,1931986.6282277638,1897144.364451387,1825813.957454127,1849239.5748042935,1931934.7767940084,2011792.9047370001,1861383.0085819988,1763671.9317849998,1933225,2038661.4093870171,1928784.8228259995,1993438.7394330003,2025011.8706749999,2084761.7223829224,1918891.059198,2012069.2162339999,1983537.0305149998,2066449.364977,1945985.8508050004,2001422.3223869996,1966690,null,7587012.3019403601,7503916.9737095162,7570072.690636999,7985896.8423210159,7999259.0283299219,7980547.5381690003]
["Perdas e Diferenças",291671.22247508005,387103.17526400066,341124.96891174046,325694.50247923145,305692.59121225472,410878.34426700324,329008.86324685579,377638.37240458163,305046.68053162517,421193.25341828959,329693.79758297349,376592.04946480971,305933.17564000422,393632,323991.57135866303,327847.49722974282,296023.89352344093,403781.82864379673,295902.92024538503,362511.0508999438,288086.53701651958,429092.25402676384,311869.53931513685,372538.614815654,284986.02439882606,452069,null,1383390.4068702299,1430585.5803985179,1405854.3766988136,1351644.7907556435,1375592.7621886123,1421463.1785296169]
["Energia em Trânsito",2105998.2587360782,2150172.1533123315,2145863.019972038,2129177.3669165801,2093607.1192179518,2118546.5612106016,2043383.7944626235,2088836.0215301504,2017434.2073468952,2077899.0023365389,2042585.5528266169,1903418.7734417976,1512228.5892308285,1924182,1858123.2277941552,1863063.0123010371,1835024.956787874,1846488.5994559033,1796348.4120638382,1819710.4582097745,1808192.7398436079,1777489.5799717966,1753444.8710649963,1750126.924305453,1652452.1676566275,1670755,null,8487194.067317171,8230049.4607612081,7382411.164042403,7402699.7963389698,7201741.1900890172,6826778.9630270768]
["Total Energia Distribuida",4282914.8018608652,4483243.4457617262,4416463.2421187591,4328538.2841747887,4283830.3777088439,4473334.4919753689,4281307.3041808661,4304064.9088178584,4183847.0710818139,4443641.1507128403,4396405.3124465905,4152392.4078486064,3592501.6286558323,4263314,4233386.3393907445,4131816.328931395,4136438.5774765732,4287051.1604214739,4192400.3188084336,4109160.4196777185,4120342.7018321273,4202381.1922675604,4143671.1785811335,4080278.0905474406,3950139.0978264529,4101112,null,17502166.395977762,17212839.580881242,16404612.763038216,16788692.406220183,16624284.632585838,16275200.366955027]

{"sheet":"Balanço SP EN","index":7,"n_rows":25,"n_cols":34,"rows_kept":25,"cut":false,"hidden":false,"merged":[[3,28,3,33]]}
[]
["Energy Balance EDP SP"]
[]
["R$","Jun-23","Mar-23","Dec-22","Sep-22","2022-06-01","2022-03-01","Dec-21","Sep-21","2021-06-30","2021-03-31","Dec-20","2020-09-30","2020-06-30","2020-03-31","dec-19","2019-09-30","2019-06-30","2019-03-31","2018-12-30","2018-09-30","2018-06-30","2018-03-31","2017-12-31","2017-09-30","2017-06-30","2017-03-31",null,"Volume (MWh)"]
[null,"2Q23","1Q23","4Q22","3Q22","2Q22","1Q22","4Q21","3Q21","2Q21","1Q21","4Q20","3Q20","2Q20","1Q20","4Q19","3Q19","2Q19","1Q19","4Q18","3Q18","2Q18","1Q18","4Q17","3Q17","2Q17","1Q17",null,2022,2021,"2020","2019",2018,2017]
[]
["Itaipu + Proinfa",{"$f":"'Balanço SP'!B7","v":505699.66928554513},{"$f":"'Balanço SP'!C7","v":500144.64996372594},{"$f":"'Balanço SP'!D7","v":558598.34710136987},{"$f":"'Balanço SP'!E7","v":557963.15210136992},{"$f":"'Balanço SP'!F7","v":547253.71363287675},539423.11516438355,580798.92756524205,578707.58556524199,569803.4102982285,557938.24603121507,617987.6640242968,615169.27202429669,604582.63921968476,603338,620195.03526575328,618533.84126575303,608891,601208.3415023972,638217.49099805928,634570.93174794514,625633.69175068487,617487.53750331048,686336.08199999994,684717.74199999985,672543.09700000007,666244,null,{"$f":"'Balanço SP'!AC7","v":2203198.7250000001},2287157.4734599274,2440905.8764879629,2448828.2180339037,2515909.6519999998,2709840.9210000001]
["Auction",{"$f":"'Balanço SP'!B8","v":2110524.7420000001},{"$f":"'Balanço SP'!C8","v":2178942.2370000002},{"$f":"'Balanço SP'!D8","v":2300729.8119999999},{"$f":"'Balanço SP'!E8","v":2280950.318},{"$f":"'Balanço SP'!F8","v":2292326.8830049997},2332477.7974300003,2367202.3170159999,2317244.4250070001,2173746.8759999997,2264450.7924100002,2360296.4656875627,2351055.877760563,2244096.3441676665,2238009,2298868.011012,2283991.8240040001,2189807,2174842.432,2082645.3219999999,2076021.3930000002,2030696.102,2141734.5635089995,2052937.5667019999,2061676.5327438386,2238758.8610030012,2281204,null,{"$f":"'Balanço SP'!AC8","v":9207151.2514360007},9126605.1724340003,9192610.8597367927,8947509.267016001,8331097.3805089993,8634576.9604488388]
["Others",{"$f":"'Balanço SP'!B9","v":2540.173272},{"$f":"'Balanço SP'!C9","v":2512.2592800000002},{"$f":"'Balanço SP'!D9","v":3033.4254719999999},{"$f":"'Balanço SP'!E9","v":3033.4254719999999},{"$f":"'Balanço SP'!F9","v":3000.4534560000002},2967.4814399999996,3137.2080960000003,3077.1089040000002,2572.2706079999998,3233.3677199999997,2977.5699119999999,3474.1135679999998,3026.6023439999999,2540,2645.4148800000003,3242.1386400000001,3039,11042.983425976317,3167.1379999999999,3178.5629999999996,3108.174,46284.246387500505,2915.55,3129.848,3072.9290000000001,2867,null,{"$f":"'Balanço SP'!AC9","v":12034.78584},12019.955328,12018.195527999998,19969.536945976317,55738.121387500505,11985.327000000001]
["Energy in Transit",{"$f":"'Balanço SP'!B10","v":2105998.2587360782},{"$f":"'Balanço SP'!C10","v":2150172.1533123315},{"$f":"'Balanço SP'!D10","v":2145863.019972038},{"$f":"'Balanço SP'!E10","v":2129177.3669165801},{"$f":"'Balanço SP'!F10","v":2093607.1192179518},2118546.5612106016,2043383.7944626235,2088836.0215301504,2017434.2073468952,2077899.0023365389,2042585.5528266169,1903418.7734417976,1512228.5892308285,1924182,1858123.2277941552,1863063.0123010371,1846489,1846488.5994559033,1796348.4120638382,1819710.4582097745,1808192.7398436079,1777489.5799717966,1753444.8710649963,1750126.924305453,1652452.1676566275,1670755,null,{"$f":"'Balanço SP'!AC10","v":8487194.067317171},8230049.4607612081,7382411.164042403,7414163.8395510959,7201741.1900890172,6826778.9630270768]
["Total Required Energy",{"$f":"'Balanço SP'!B11","v":4724762.8432936231},{"$f":"'Balanço SP'!C11","v":4831771.2995560579},{"$f":"'Balanço SP'!D11","v":5008224.604545407},{"$f":"'Balanço SP'!E11","v":4971124.2624899503},{"$f":"'Balanço SP'!F11","v":4936188.1693118289},4993414.9552449845,4994522.2471398655,4987865.1410063924,4763556.7642531237,4903521.4084977545,5023847.2524504773,4873118.0367946569,4363934.1749621797,4768068,4779831.6889519086,4768830.8162107896,4648226,4633582.3563842773,4520378.3630618975,4533481.3459577188,4467630.7075942922,4582995.9273716072,4495634.0697669964,4499651.0470492914,4566827.0546596292,4621070,null,{"$f":"'Balanço SP'!AC11","v":19909578.82959317},19655832.061983138,19027946.095795158,18830470.861546978,18104486.343985517,18183182.171475917]
["Transmission Losses (+)",{"$f":"'Balanço SP'!B12","v":51179.26503488468},{"$f":"'Balanço SP'!C12","v":61928.917397125653},{"$f":"'Balanço SP'!D12","v":42757.868117373546},{"$f":"'Balanço SP'!E12","v":44398.33736346331},{"$f":"'Balanço SP'!F12","v":63421.577862418686},68836.439365869446,52250.50614680392,49104.196307885955,53939.027952084041,58668.077815509605,55107.458996232956,50956.587275712474,52712.551238123895,55817,52279.793461335037,37722.571151185126,53134,59928.501532105642,49724.281465134263,48447.836761709681,53419.578477576964,58141.275563481089,50059.142384137675,42935.681879416894,49801.930791845109,55062,null,{"$f":"'Balanço SP'!AC12","v":193220.35366737351},185875.3980668039,194916.95281923297,203064.86614462579,209732.97226790199,197858.75505539967]
["Losses from Itaipu (+)",{"$f":"'Balanço SP'!B13","v":26555.346623303372},{"$f":"'Balanço SP'!C13","v":27115.390808058914},{"$f":"'Balanço SP'!D13","v":26952.974115376957},{"$f":"'Balanço SP'!E13","v":27989.236422785012},{"$f":"'Balanço SP'!F13","v":32272.504870632063},31997.231351080845,30986.394438809621,30347.843860596964,31562.937030878631,30421.819975830309,34909.944249456436,35081.520860631776,36147.662697892636,35293,32841.506071330572,32731.74502235639,33385,32663.409407997668,33224.502911170697,33377.74444464151,33989.897603700949,33083.900253973123,35827.470770447377,36051.387470901391,37346.705555792607,35741,null,{"$f":"'Balanço SP'!AC13","v":115668.17763200712},120037.49371649524,152847.53865240802,131621.66050168464,133676.04521348627,144966.56379714137]
["Short Term Sales (-)",{"$f":"'Balanço SP'!B14","v":-140342.39741398033},{"$f":"'Balanço SP'!C14","v":-97715.768312097935},{"$f":"'Balanço SP'!D14","v":-243296.58180828707},{"$f":"'Balanço SP'!E14","v":-282043.44316840929},{"$f":"'Balanço SP'!F14","v":-262237.07544279646},-128132.49805938244,-671803.52876342623,-614651.72025469795,-284980.96380470105,-79157.167320287321,-166777.34230537183,-313972.19738423498,-364694.27839605423,-111759,-86058.537114504012,-342849.96845009248,-48612,-49247.220952943419,-141293.03746211054,-197552.47177726743,-106365.56442411045,-170671.36372914299,-283368.90789871803,-330022.13428419299,-520033.16924331698,-421079,null,{"$f":"'Balanço SP'!AC14","v":-954490.71599428705},-1662268.7775304262,-947399.36909237178,-526767.72651753994,-615882.43739263143,-1554503.2114262278]
["Short Term Adjustments (-)",{"$f":"'Balanço SP'!B15","v":32488.764719984843},{"$f":"'Balanço SP'!C15","v":23451.079963344964},{"$f":"'Balanço SP'!D15","v":33521.032917142147},{"$f":"'Balanço SP'!E15","v":13455.809877385618},{"$f":"'Balanço SP'!F15","v":7071.2101276576286},19095.634587197565,7588.4271938640159,7610.973926470615,-7453.3003158231732,664.04477650683839,-17931.26637492876,-9407.0352725763805,-12258.271208277089,6095,115.0471180054069,-22761.6402557607,-19630,-5370.9373737557089,37795.302544952116,-3347.1696403823526,-5240.1603767769539,27266.562035958781,17292.629548439774,-10363.7526193463,-9506.1513022187992,-8076,null,{"$f":"'Balanço SP'!AC15","v":75905.844531010254},-17668.945389245055,-50538.712998089963,-47647.530511511002,56474.534563751586,-10653.274373125325]
["Total Losses",{"$f":"'Balanço SP'!B16","v":185588.24435218357},{"$f":"'Balanço SP'!C16","v":163308.99655393753},{"$f":"'Balanço SP'!D16","v":279486.39112389542},{"$f":"'Balanço SP'!E16","v":340975.207077272},{"$f":"'Balanço SP'!F16","v":350859.94804818957},209870.53418913519,747452.00215517567,686492.78649671027,377936.22910348693,167583.02033512038,274726.01192598999,409417.3407931556,465812.76354034786,196774,171064.78952916421,436065.9248793947,154761,147210.06926680243,186446.51929346341,282725.22262400098,199015.20088216529,234629.97751063842,351962.89150486334,419372.95625385758,616687.95689317351,519958,null,{"$f":"'Balanço SP'!AC16","v":1187473.4027626575},1985850.6147029703,1345702.5735621026,909101.78367536142,902816.92031026818,1907981.8046518941]
["Short Term Adjustments (-)",{"$f":"'Balanço SP'!B17","v":-121720.79387999987},{"$f":"'Balanço SP'!C17","v":-122303.70700799994},{"$f":"'Balanço SP'!D17","v":13596.699000534229},{"$f":"'Balanço SP'!E17","v":28726.087548904114},{"$f":"'Balanço SP'!F17","v":29467.446239999983},30801.686176534236,486570.54031999991,468567.67288000009,-62869.454079999996,-154891.21253200001,-121361.59364799995,-79938.002799999987,-79069.107800000027,-79069,38604.891935999993,38604.89461599999,38185.290040000007,37783.126936000001,141531.52500000002,141595.70399999997,148272.80488000004,145985,0,0,0,0,null,{"$f":"'Balanço SP'!AC17","v":102591.95900053417},737376.76832000015,-359439.53864799999,153178.20352799998,577385.03388,0]
["MVE (Surplus Commercialization Mechanism)",{"$f":"'Balanço SP'!B18","v":-137639.99925600001},{"$f":"'Balanço SP'!C18","v":-66215.999255999996},{"$f":"'Balanço SP'!D18","v":-326197.5772799995},{"$f":"'Balanço SP'!E18","v":-330658.25983199949},{"$f":"'Balanço SP'!F18","v":-331250.57783999981},-341280.03023999941,-452577.87513599987,-466108.79558399995,-139120.79999999999,-137592.00000200002,-231840.00883599999,-231840.00883599996,-226975.37193599992,-229320,336775.66809599998,162343.66809600001,243031.94508,161538,0,0,0,0,0,0,0,0,null,{"$f":"'Balanço SP'!AC18","v":-1323732.0007919981},-1195399.4707200001,-919975.3983519997,903689.28127199993,0,0]
["Total Sales",{"$f":"'Balanço SP'!B19","v":-259360.79313599988},{"$f":"'Balanço SP'!C19","v":-188519.70626399995},{"$f":"'Balanço SP'!D19","v":-312600.87827946525},{"$f":"'Balanço SP'!E19","v":-301932.17228309542},{"$f":"'Balanço SP'!F19","v":-301783.13159999979},-310478.34406346513,33992.665184000012,2458.877296000137,-201990.25407999998,-292483.21253400005,-353201.60248399992,-311778.01163599995,-306044.47973599995,-308389,375380.56003199995,200948.56271199998,281217.23512000003,199321.12693600002,327978.04429346346,424320.926624001,347288.0057621653,380614.97751063842,351962.89150486334,419372.95625385758,616687.95689317351,519958,null,{"$f":"'Balanço SP'!AC19","v":-1221140.041791464},-458022.70239999972,-1279414.9369999999,1056867.4848,1480201.9541902682,1907981.8046518944]
["Required Energy",{"$f":"'Balanço SP'!B20","v":4798535.3920774404},{"$f":"'Balanço SP'!C20","v":4856982.0092661195},{"$f":"'Balanço SP'!D20","v":5041339.0917009767},{"$f":"'Balanço SP'!E20","v":4932081.2276957734},{"$f":"'Balanço SP'!F20","v":4887111.3528636387},5094022.7651193151,4213077.5798006896,4298913.4772136817,4587610.7892296361,5028421.6006966345,5102322.8430084866,4775478.7076375019,4204165.891157832,4879683,4233386.3393907445,4131816.3286193954,4136438.5778855728,4287051.1601814749,4192400.3187684342,4109160.4193337183,4120342.7018321268,4202380.9498609686,4143671.1782621332,4080278.0907954341,3950139.0977664557,4101112,null,{"$f":"'Balanço SP'!AC20","v":19943245.468621977},18128004.149680164,18961658.45923306,16864501.593071617,15721467.469484977,14367218.56217213]
["Wholesale Supply",{"$f":"'Balanço SP'!B21","v":11499.732},{"$f":"'Balanço SP'!C21","v":11968.47748},{"$f":"'Balanço SP'!D21","v":11782.00681499999},{"$f":"'Balanço SP'!E21","v":11686.12524999999},{"$f":"'Balanço SP'!F21","v":9178.5295149999984},11922.958269999992,11770.282019999999,11776.557429,12126.608399000001,12614.118163999996,12333.057299999989,10998.576360000001,10667.932000000001,12275,12610.13085090909,12120.996574615388,11950.98773225806,11768.86164677419,15387.264116288237,8047.8513700000003,11994.208737999999,12262.327754,11907.403224,11626.700621333297,11278.583384000001,11598,null,{"$f":"'Balanço SP'!AC21","v":44569.619849999974},48287.566011999996,46274.531659999993,48450.976804556725,47691.651978288239,46410.6872293333]
["Retail Supply",{"$f":"'Balanço SP'!B22","v":1873745.5886497067},{"$f":"'Balanço SP'!C22","v":1933999.6397053939},{"$f":"'Balanço SP'!D22","v":1917693.2464199807},{"$f":"'Balanço SP'!E22","v":1861980.2895289767},{"$f":"'Balanço SP'!F22","v":1875352.1377636378},1931986.6282277638,1897144.364451387,1825813.957454127,1849239.5748042935,1931934.7767940084,2011792.9047370001,1861383.0085819988,1763671.9317849998,1933225,2038661.4093870171,1928784.8228259995,1993438.7394330003,2025011.8706749999,2084761.7223829224,1918891.059198,2012069.2162339999,1983537.0305149998,2066449.364977,1945985.8508050004,2001422.3223869996,1966690,null,{"$f":"'Balanço SP'!AC22","v":7587012.3019403601},7503916.9737095162,7570072.690636999,7985896.8423210159,7999259.0283299219,7980547.5381690003]
["Losses and Differences",{"$f":"'Balanço SP'!B23","v":291671.22247508005},{"$f":"'Balanço SP'!C23","v":387103.17526400066},{"$f":"'Balanço SP'!D23","v":341124.96891174046},{"$f":"'Balanço SP'!E23","v":325694.50247923145},{"$f":"'Balanço SP'!F23","v":305692.59121225472},410878.34426700324,329008.86324685579,377638.37240458163,305046.68053162517,421193.25341828959,329693.79758297349,376592.04946480971,305933.17564000422,393632,323991.57135866303,327847.49722974282,296023.89352344093,403781.82864379673,295902.92024538503,362511.0508999438,288086.53701651958,429092.25402676384,311869.53931513685,372538.614815654,284986.02439882606,452069,null,{"$f":"'Balanço SP'!AC23","v":1383390.4068702299},1430585.5803985179,1405854.3766988136,1351644.7907556435,1375592.7621886123,1421463.1785296169]
["Energy in Transit",{"$f":"'Balanço SP'!B24","v":2105998.2587360782},{"$f":"'Balanço SP'!C24","v":2150172.1533123315},{"$f":"'Balanço SP'!D24","v":2145863.019972038},{"$f":"'Balanço SP'!E24","v":2129177.3669165801},{"$f":"'Balanço SP'!F24","v":2093607.1192179518},2118546.5612106016,2043383.7944626235,2088836.0215301504,2017434.2073468952,2077899.0023365389,2042585.5528266169,1903418.7734417976,1512228.5892308285,1924182,1858123.2277941552,1863063.0123010371,1835024.956787874,1846488.5994559033,1796348.4120638382,1819710.4582097745,1808192.7398436079,1777489.5799717966,1753444.8710649963,1750126.924305453,1652452.1676566275,1670755,null,{"$f":"'Balanço SP'!AC24","v":8487194.067317171},8230049.4607612081,7382411.164042403,7402699.7963389698,7201741.1900890172,6826778.9630270768]
["Total Distributed Energy ",{"$f":"'Balanço SP'!B25","v":4282914.8018608652},{"$f":"'Balanço SP'!C25","v":4483243.4457617262},{"$f":"'Balanço SP'!D25","v":4416463.2421187591},{"$f":"'Balanço SP'!E25","v":4328538.2841747887},{"$f":"'Balanço SP'!F25","v":4283830.3777088439},4473334.4919753689,4281307.3041808661,4304064.9088178584,4183847.0710818139,4443641.1507128365,4396405.3124465905,4152392.4078486064,3592501.6286558323,4263313,4233386.3393907445,4131816.328931395,4136438.5774765732,4287051.1604214739,4192400.3188084336,4109160.4196777181,4120342.7018321273,4202381.1922675604,4143671.1782621332,4080278.0905474406,3950139.0978264529,4101112,null,{"$f":"'Balanço SP'!AC25","v":17502166.395977762},17212839.580881242,16404612.763038216,16788692.406220183,16624284.632585838,16275200.366955027]

{"sheet":"Balanço ES","index":8,"n_rows":25,"n_cols":34,"rows_kept":25,"cut":false,"hidden":false,"merged":[[3,28,3,33]]}
[]
["Balanço Energético EDP ES"]
[]
["R$","Jun-23","Mar-23","Dez-22","Set-22","2022-06-01","2022-03-01","Dez-21","Set-21","2021-06-30","2021-03-31","Dez-20","Set-20","2020-06-30","2020-03-31","Dez-19","Set-19","2019-06-30","2019-03-31","Dez-18","Set-18","2018-06-30","2018-03-31","Dez-17","Set-17","2017-06-30","2017-03-31",null,"Volume (MWh)"]
[null,"2T23","1T23","4T22","3T22","2T22","1T22","4T21","3T21","2T21","1T21","4T20","3T20","2T20","1T20","4T19","3T19","2T19","1T19","4T18","3T18","2T18","1T18","4T17","3T17","2T17","1T17",null,2022,2021,"2020","2019",2018,2017]
[]
["Itaipu + Proinfa",395104.81975557259,390752.69615386298,435656.14195616444,434399.2329561644,425973.34334794519,419755.7037397261,400660.61006853473,399050.19006853469,392510.95021996374,383637.73037139268,413228.99908376043,410876.21208376042,403340.82110458915,402213,396021.75843013701,394720.226430137,388102,383035.66511255712,408929.44202340185,406184.37386301375,400476.00971232879,395110.08840125572,401834.39837716898,400389.96692876599,392261.63569041103,388451.24800365296,null,1714882.2139999999,1575823.1347284256,1629624.885376699,1561879.6499728311,1610699.9139999999,1582937.2489999991]
["Leilão",1437735.6920000003,1566127.287,1668187.8980000003,1604319.4140000001,1599987.2380020001,1727042.9183159999,1714275.5340040005,1558142.3440080003,1502670.4100130002,1629976.564185,1670224.4212830001,1580329.8920060005,1481492.4390160004,1620660,1781580.1200230003,1757315.8740020003,1657111,1683975.6910000001,1563810.0310049998,1486257.9720109999,1509407.8442068971,1681691,1471583.9114870576,1441874.1391578536,1590163.2602162231,1775258.7820000029,null,6576331.0213180007,6409804.5042220009,6529197.9358950015,6879982.6850250009,6241166.8472228963,6278880.0928611364]
["Outros¹",38700.480000000003,38275.199999999997,39125.760000000002,39125.760000000002,38700.480000000003,38275.199999999997,39125.760000000002,39125.760000000002,38700.480000000003,38275.199999999997,39125.760000000002,39125.760000000002,38700.480000000003,38700,71312.879280000008,82611.3,116438,286340.63774662605,63593.749566999999,55887.489096000005,47020.130321515157,63615.286916446312,87777.007111266692,61202.748535999999,53124.276440000001,105878.178707,null,155227.19999999995,155227.19999999995,155652.47999999998,556702.81702662609,230116.65590096146,307982.21079426666]
["Energia em Trânsito",1147246.4505234209,1088521.6865266885,1084047.6245408885,1074971.7375593327,1093285.6544021065,1004791.6286390454,1117784.0534133867,1071990.7549444274,1028737.2354854393,1327539.327164002,1266318.0259929991,1116536.714445,1149948.948602,1248804,1274517.934822005,1095851.735471,1047930,1077623.9591753134,1068651.4995619769,1059566.1937265843,963852.81176362152,972369.02352866484,916198.70997262979,940614.91104532825,901057,903457.73449540185,null,4216259.1511212504,4196405.8967042156,4781607.5370089989,4495923.6294683181,4064439.5285808472,3661328.3555133599]
["Total Energia Recebida",3018787.4422789938,3083676.8696805518,3227017.424497053,3152816.1445154976,3157946.7157520521,3189865.4506947715,3271845.9574859221,3068309.0490209628,2962619.0757184033,3379428.8217203948,3388897.2063597599,3146868.578534761,3073482.6887225895,3310377,3523432.6925551426,3330499.1359031373,3209581,3430975.9530344964,3104984.7221573787,3007896.028696598,2920756.7960043624,3112785.3988463669,2877394.0269481232,2844081.7656679479,2936606.1723466339,3173045.9432060574,null,12662699.58643925,12337260.735654641,13096082.8382807,13494488.781492777,12146422.945704706,11831127.908168761]
["Perdas Transmissão (+)",27118.520543073355,31633.431715966683,29321.056410999998,29897.238946516241,41659.807615193415,32276.040313213012,16079.033876876525,29284.562086477155,27194.842664275246,25346.422886241566,23950.314533132216,25262.434200007356,20168.942394569276,23870,26698.688764832958,29473.645836381409,28349,42442.338911236511,23267.161978567281,26622.093891427259,20234.27746878122,24225.419208357518,22243.224873237887,25442.196394234088,29834.59765823921,34798.708153,null,123972.73759794899,109803.47334887652,108371.0804371322,126963.67351245087,94348.952547133274,112318.72707871119]
["Perdas de Itaipu (+)",20714.819086324769,21151.688339772783,20740.221911164408,21748.907583721717,25077.201289152908,24863.301659578341,21091.208041813392,20656.571936011169,21483.637888974888,20706.92460067484,23000.853025157841,23114.73054407231,23816.950649158323,23255,20694.459169693673,20625.29511717377,21115,20582.234760152649,20940.842395733762,21059.267384511513,21447.196419483873,20792.142500138256,20414.549926330223,20542.157955450864,20997.073616947066,20648.436026652871,null,89879.426022039857,81704.733418704491,95722.839231114776,83016.989047020092,84239.448699867396,82602.217525381013]
["Vendas C.Prazo (-)",-114866.39464914289,-31551.012152478885,-237466.46204300001,-226287.75082749166,-125449.09578659202,-69417.215649536811,-460391.25142389908,-294841.62256785395,-169288.21255988124,-54035.616617066044,-213031.33840546099,-398466.0323850197,-326656.11027605482,-184594,-273152.90059858275,-411060.65114897338,-51419,0,-143253.91546643132,-136729.23949984394,-170833.86598873703,-86897.486292658403,-11653.406151879,-182618.668334983,-99011.279866304205,-75101.044351999997,null,-693035.66822314588,-949856.57311089907,-1085454.5541684614,-735632.55174755608,-537714.50724767067,-368384.39870516618]
["Ajustes C.Prazo (-)",93274.836279620882,106029.73078624567,59478.150802043616,48339.36474570143,39694.290612571174,49042.503207776113,-2909.9139624666423,30319.281622477225,2260.4277829648927,27383.778984026867,11227.312502796645,2778.9624196557561,-3922.3179925271543,15269,-64534.565994397926,1621290.2876067813,1267,-5477.1708351077687,3387.7752183531811,-567.35602843632296,3457.1320821551381,-1986.40933919746,12003.310009324719,49115.489264718701,-10687.2210051438,-442.81882419259603,null,230184.70704867784,31899.149014314287,11536.376513304771,1552545.5507772756,4291.141932874536,49988.759444707022]
["Total Perdas",69424.897998920147,-21693.598578027319,228049.5895631208,229594.53261202821,152491.8140783672,77514.054414552054,500471.40730505565,314463.47496786504,215706.2653301665,72705.185119955568,248755.19346095441,444064.23470944364,374564.32131230959,216450,385080.61452750728,-1160130.6955042528,99616,68501.744506496936,184074.14462237919,184977.95680421905,209058.20779484697,133901.45734035163,42307.87094212239,179487.53341994926,160530.17214663429,130991.00735584546,null,676703.12479445687,1109465.6308641657,1278012.097323403,-606932.33647024853,712011.76656179677,513316.58386455133]
["Cessões MCSD Energia Nova (+)",-113166.0245599999,-112417.52938999987,92574.802000000011,96326.731250000012,96051.027769999986,96209.081582794548,280173.56762600003,267136.39648,17440.744479999998,-40831.036899999992,33164.702119999994,63980.246319999991,63284.808320000011,63285,-128617.397408,-128617.40673599998,-28939.384160000009,-28634.600672000008,-49990.437863999992,-50013.098183999973,-40865.583999999988,-77944,0,0,0,0,null,373779.51328999997,523919.72662600002,223713.98912000001,-314808.78897600004,-218813.12004799995,0]
["Mecanismo de Venda de Excedentes (MVE)",-76440.000744000004,-11160.000743999999,-261537.67819200008,-264599.81260800012,-225324.74215200022,-237599.97624000011,-247204.63216799992,-249504.01545599994,-20966.397815999997,-20735.99784,0,0,0,0,103956.90806400002,103956.90806399999,155625.71683200001,103441,0,0,0,0,0,0,0,0,null,-985094.25693600054,-538411.04327999987,0,466980.53295999998,0,0]
["Total Perdas",-189606.02530399989,-123577.53013399986,-168962.87619200005,-168273.08135800011,-129273.71438200022,-141390.89465720559,32968.935458000095,17632.381024000075,-3525.6533360000003,-61567.034739999988,33164.702119999994,63980.246319999991,63284.808320000011,63285,-24660.489343999987,-24660.498671999987,126686.33267199999,74806.399328,134083.70675837918,134964.85862021908,168192.62379484699,55957.457340351626,42307.87094212239,179487.53341994924,160530.17214663429,130991.00735584546,null,-611314.7436460004,-14491.316653999849,223713.98912000001,152171.74398399994,-218813.12004799995,0]
["Energia Requerida",3138968.5695840735,3228947.9983925787,3167930.7111259322,3091494.6932614692,3134728.6160556851,3253742.2909374256,2738405.6147228666,2736213.1930290973,2750438.4637242369,3368290.6713404395,3106977.310778806,2638824.0975053175,2635633.55909028,3030642,3163012.5673716352,4515290.3300793907,2983278.6673280001,3287667.8091999996,2786826.8707766207,2687953.2132721599,2543505.9644146683,2922926.4841656634,2792778.2850638786,2485106.698828049,2615545.8280533655,2911063.9284943664,null,12597311.205290796,11242286.421444478,11594356.751837295,13949249.373979025,11653224.299190909,11317811.32430421]
["Suprimento",0,0,0,0,0,0,0,0,0,0,0,0,0,0,0,336345.92275519471,51326.31,47326.31,83924.050000000017,80154.709999999992,82454.27,97424.76999999999,111156,114124,116070,117260,null,0,0,0,434998.54275519471,343957.80000000005,458610]
["Fornecimento",1582556.1332940718,1683183.5299481791,1484882.3502181319,1433681.8911108682,1542380.0758472462,1654537.1518093892,1438613.2459771959,1446958.1706437406,1483716.998367731,1604458.1485514212,1541212.2990519991,1374539.5828229999,1374539.5828229999,1530813,1562233.7041880051,1373373.3745490001,1541598.7261280001,1693735.917351,1481657.8402789999,1360019.836965,1418412.5764569999,1582142.838923,1439700.7514220001,1250891.6018449999,1441051,1598493.3133399999,null,6122407.8668629434,5973830.0512060169,5810627.7820559982,6170941.7222160054,5842233.0926239993,5730136.6666069999]
["Perdas e Diferenças",270134.21515629301,447364.43969671382,363115.28898291162,348335.1998286926,341446.61899575673,411453.75617457903,351764.90028545051,356347.72252609651,330966.32923623431,407852.01813332527,380926.03026680672,314832.71610127972,314832.71610127972,430931,326260.92836162436,1709719.2973041947,342422.99054875784,468981.62267368636,336667.62555802299,373190.42938479478,287844.51377937873,404890.85954833543,368030.69460537017,358963.71910967247,317898,422843.88801480748,null,1440848.5450068056,1446781.7401944103,1480569.9787703156,2847384.8388882633,1402593.4282705318,1467736.30172985]
["Energia em Trânsito",1147246.4505234209,1088521.6865266885,1084047.6245408885,1074971.7375593327,1093285.6544021065,1004791.6286390454,1117784.0534133867,1071990.7549444274,1028737.2354854393,1327539.327164002,1266318.0259929991,1149948.948602,1149948.948602,1248804,1274517.934822005,1095851.735471,1047930.0782308097,1077623.9591753134,1068651.4995619769,1059566.1937265843,963852.81176362152,972369.02352866484,916198.70997262979,940614.91104532825,901057,903457.73449540185,null,4216259.1511212504,4196405.8967042156,4781607.5370089989,4495923.7076991275,4064439.5285808472,3661328.3555133599]
["Total Energia Distribuida",2999936.7989737857,3219069.6561715817,2932045.2637419319,2856988.8284988934,2977112.3492451096,3070782.5366230132,2908162.1996760331,2875296.6481142645,2843420.5630894043,3339849.4938487485,3188456.3553118049,2839321.2475262797,2839321.2475262797,3210548,3163012.5673716348,4515290.3300793897,2983278.1049075676,3287667.8091999996,2970901.0153989997,2872931.1700763791,2752564.1720000003,3056827.4920000006,2835086.156,2664594.2320000008,2776076,3042054.9358502091,null,11779515.562990997,11617017.688104643,12072805.297835313,13949248.811558591,11653223.849475378,11317811.323850211]

{"sheet":"Balanço ES EN","index":9,"n_rows":25,"n_cols":34,"rows_kept":25,"cut":false,"hidden":false,"merged":[[3,28,3,33]]}
[]
["Energy Balance EDP ES"]
[]
["R$","Jun-23","Mar-23","Dec-22","Sep-22","2022-06-01","2022-03-01","Dec-21","Sep-21","2021-06-30","2021-03-31","Dec-20","2020-09-30","2020-06-30","2020-03-31","2019-12-30","2019-09-30","2019-06-30","2019-03-31","2018-12-30","2018-09-30","2018-06-30","2018-03-31","2017-12-31","2017-09-30","2017-06-30","2017-03-31",null,"Volume (MWh)"]
[null,"2Q23","1Q23","4Q22","3Q22","2Q22","1Q22","4Q21","3Q21","2Q21","1Q21","4Q20","3Q20","2Q20","1Q20","4Q19","3Q19","2Q19","1Q19","4Q18","3Q18","2Q18","1Q18","4Q17","3Q17","2Q17","1Q17",null,2022,2021,"2020","2019",2018,2017]
[]
["Itaipu + Proinfa",{"$f":"'Balanço ES'!B7","v":395104.81975557259},{"$f":"'Balanço ES'!C7","v":390752.69615386298},{"$f":"'Balanço ES'!D7","v":435656.14195616444},{"$f":"'Balanço ES'!E7","v":434399.2329561644},{"$f":"'Balanço ES'!F7","v":425973.34334794519},419755.7037397261,400660.61006853473,399050.19006853469,392510.95021996374,383637.73037139268,413228.99908376043,410876.21208376042,403340.82110458915,402213,396021.75843013701,394720.226430137,388102,383035.66511255712,408929.44202340185,406184.37386301375,400476.00971232879,395110.08840125572,401834.39837716898,400389.96692876599,392261.63569041103,388451.24800365296,null,{"$f":"'Balanço ES'!AC7","v":1714882.2139999999},1575823.1347284256,1629624.885376699,1561879.6499728311,1610699.9139999999,1582937.2489999991]
["Auction",{"$f":"'Balanço ES'!B8","v":1437735.6920000003},{"$f":"'Balanço ES'!C8","v":1566127.287},{"$f":"'Balanço ES'!D8","v":1668187.8980000003},{"$f":"'Balanço ES'!E8","v":1604319.4140000001},{"$f":"'Balanço ES'!F8","v":1599987.2380020001},1727042.9183159999,1714275.5340040005,1558142.3440080003,1502670.4100130002,1629976.564185,1670224.4212830001,1580329.8920060005,1481492.4390160004,1620660,1781580.1200230003,1757315.8740020003,1657111,1683975.6910000001,1563810.0310049998,1486257.9720109999,1509407.8442068971,1681691,1471583.9114870576,1441874.1391578536,1590163.2602162231,1775258.7820000029,null,{"$f":"'Balanço ES'!AC8","v":6576331.0213180007},6409804.5042220009,6529197.9358950015,6879982.6850250009,6241166.8472228963,6278880.0928611364]
["Others",{"$f":"'Balanço ES'!B9","v":38700.480000000003},{"$f":"'Balanço ES'!C9","v":38275.199999999997},{"$f":"'Balanço ES'!D9","v":39125.760000000002},{"$f":"'Balanço ES'!E9","v":39125.760000000002},{"$f":"'Balanço ES'!F9","v":38700.480000000003},38275.199999999997,39125.760000000002,39125.760000000002,38700.480000000003,38275.199999999997,39125.760000000002,39125.760000000002,38700.480000000003,38700,71312.879280000008,82611.3,116438,286340.63774662605,63593.749566999999,55887.489096000005,47020.130321515157,63615.286916446312,87777.007111266692,61202.748535999999,53124.276440000001,105878.178707,null,{"$f":"'Balanço ES'!AC9","v":155227.19999999995},155227.19999999995,155652.47999999998,556702.81702662609,230116.65590096146,307982.21079426666]
["Energy in Transit",{"$f":"'Balanço ES'!B10","v":1147246.4505234209},{"$f":"'Balanço ES'!C10","v":1088521.6865266885},{"$f":"'Balanço ES'!D10","v":1084047.6245408885},{"$f":"'Balanço ES'!E10","v":1074971.7375593327},{"$f":"'Balanço ES'!F10","v":1093285.6544021065},1004791.6286390454,1117784.0534133867,1071990.7549444274,1028737.2354854393,1327539.327164002,1266318.0259929991,1116536.714445,1149948.948602,1248804,1274517.934822005,1095851.735471,1047930,1077623.9591753134,1068651.4995619769,1059566.1937265843,963852.81176362152,972369.02352866484,916198.70997262979,940614.91104532825,901057,903457.73449540185,null,{"$f":"'Balanço ES'!AC10","v":4216259.1511212504},4196405.8967042156,4781607.5370089989,4495923.6294683181,4064439.5285808472,3661328.3555133599]
["Total Required Energy",{"$f":"'Balanço ES'!B11","v":3018787.4422789938},{"$f":"'Balanço ES'!C11","v":3083676.8696805518},{"$f":"'Balanço ES'!D11","v":3227017.424497053},{"$f":"'Balanço ES'!E11","v":3152816.1445154976},{"$f":"'Balanço ES'!F11","v":3157946.7157520521},3189865.4506947715,3271845.9574859221,3068309.0490209628,2962619.0757184033,3379428.8217203948,3388897.2063597599,3146868.578534761,3073482.6887225895,3310378,3523432.6925551426,3330499.1359031373,3209581,3430975.9530344964,3104984.7221573787,3007896.028696598,2920756.7960043624,3112785.3988463669,2877394.0269481232,2844081.7656679479,2936606.1723466339,3173045.9432060574,null,{"$f":"'Balanço ES'!AC11","v":12662699.58643925},12337260.735654641,13096082.8382807,13494488.781492777,12146422.945704706,11831127.908168761]
["Transmission Losses (+)",{"$f":"'Balanço ES'!B12","v":27118.520543073355},{"$f":"'Balanço ES'!C12","v":31633.431715966683},{"$f":"'Balanço ES'!D12","v":29321.056410999998},{"$f":"'Balanço ES'!E12","v":29897.238946516241},{"$f":"'Balanço ES'!F12","v":41659.807615193415},32276.040313213012,16079.033876876525,29284.562086477155,27194.842664275246,25346.422886241566,23950.314533132216,25262.434200007356,20168.942394569276,23870,26698.688764832958,29473.645836381409,28349,42442.338911236511,23267.161978567281,26622.093891427259,20234.27746878122,24225.419208357518,22243.224873237887,25442.196394234088,29834.59765823921,34798.708153,null,{"$f":"'Balanço ES'!AC12","v":123972.73759794899},109803.47334887652,108371.0804371322,126963.67351245087,94348.952547133274,112318.72707871119]
["Losses from Itaipu (+)",{"$f":"'Balanço ES'!B13","v":20714.819086324769},{"$f":"'Balanço ES'!C13","v":21151.688339772783},{"$f":"'Balanço ES'!D13","v":20740.221911164408},{"$f":"'Balanço ES'!E13","v":21748.907583721717},{"$f":"'Balanço ES'!F13","v":25077.201289152908},24863.301659578341,21091.208041813392,20656.571936011169,21483.637888974888,20706.92460067484,23000.853025157841,23114.73054407231,23816.950649158323,23255,20694.459169693673,20625.29511717377,21115,20582.234760152649,20940.842395733762,21059.267384511513,21447.196419483873,20792.142500138256,20414.549926330223,20542.157955450864,20997.073616947066,20648.436026652871,null,{"$f":"'Balanço ES'!AC13","v":89879.426022039857},81704.733418704491,95722.839231114776,83016.989047020092,84239.448699867396,82602.217525381013]
["Short Term Sales (-)",{"$f":"'Balanço ES'!B14","v":-114866.39464914289},{"$f":"'Balanço ES'!C14","v":-31551.012152478885},{"$f":"'Balanço ES'!D14","v":-237466.46204300001},{"$f":"'Balanço ES'!E14","v":-226287.75082749166},{"$f":"'Balanço ES'!F14","v":-125449.09578659202},-69417.215649536811,-460391.25142389908,-294841.62256785395,-169288.21255988124,-54035.616617066044,-213031.33840546099,-398466.0323850197,-326656.11027605482,-184594,-273152.90059858275,-411060.65114897338,-51419,0,-143253.91546643132,-136729.23949984394,-170833.86598873703,-86897.486292658403,-11653.406151879,-182618.668334983,-99011.279866304205,-75101.044351999997,null,{"$f":"'Balanço ES'!AC14","v":-693035.66822314588},-949856.57311089907,-1085454.5541684614,-735632.55174755608,-537714.50724767067,-368384.39870516618]
["Short Term Adjustments (-)",{"$f":"'Balanço ES'!B15","v":93274.836279620882},{"$f":"'Balanço ES'!C15","v":106029.73078624567},{"$f":"'Balanço ES'!D15","v":59478.150802043616},{"$f":"'Balanço ES'!E15","v":48339.36474570143},{"$f":"'Balanço ES'!F15","v":39694.290612571174},49042.503207776113,-2909.9139624666423,30319.281622477225,2260.4277829648927,27383.778984026867,11227.312502796645,2778.9624196557561,-3922.3179925271543,15269,-64534.565994397926,1621290.2876067813,1267,-5477.1708351077687,3387.7752183531811,-567.35602843632296,3457.1320821551381,-1986.40933919746,12003.310009324719,49115.489264718701,-10687.2210051438,-442.81882419259603,null,{"$f":"'Balanço ES'!AC15","v":230184.70704867784},31899.149014314287,11536.376513304771,1552545.5507772756,4291.141932874536,49988.759444707022]
["Total Losses",{"$f":"'Balanço ES'!B16","v":69424.897998920147},{"$f":"'Balanço ES'!C16","v":-21693.598578027319},{"$f":"'Balanço ES'!D16","v":228049.5895631208},{"$f":"'Balanço ES'!E16","v":229594.53261202821},{"$f":"'Balanço ES'!F16","v":152491.8140783672},77514.054414552054,500471.40730505565,314463.47496786504,215706.2653301665,72705.185119955568,248755.19346095441,444064.23470944364,374564.32131230959,216450,385080.61452750728,-1160130.6955042528,99616,68501.744506496936,-2139260.5504734004,-2055793.6792652847,-2100951.9973767442,-2187923.9939022716,-1907314.9408893436,-2050324.9708158369,-2111270.7734311773,-2273609.7825086559,null,{"$f":"'Balanço ES'!AC16","v":676703.12479445687},1109465.6308641657,1278012.097323403,-606932.33647024853,712011.76656179677,513316.58386455133]
["Short Term Adjustments (-)",{"$f":"'Balanço ES'!B17","v":-113166.0245599999},{"$f":"'Balanço ES'!C17","v":-112417.52938999987},{"$f":"'Balanço ES'!D17","v":92574.802000000011},{"$f":"'Balanço ES'!E17","v":96326.731250000012},{"$f":"'Balanço ES'!F17","v":96051.027769999986},96209.081582794548,280173.56762600003,267136.39648,17440.744479999998,-40831.036899999992,33164.702119999994,63980.246319999991,63284.808320000011,63285,-128617.397408,-128617.40673599998,-28939.384160000009,-28634.600672000008,-49990.437863999992,-50013.098183999973,-40865.583999999988,-77944,0,0,0,0,null,{"$f":"'Balanço ES'!AC17","v":373779.51328999997},523919.72662600002,223713.98912000001,-314808.78897600004,-218813.12004799995,0]
["MVE (Surplus Commercialization Mechanism)",{"$f":"'Balanço ES'!B18","v":-76440.000744000004},{"$f":"'Balanço ES'!C18","v":-11160.000743999999},{"$f":"'Balanço ES'!D18","v":-261537.67819200008},{"$f":"'Balanço ES'!E18","v":-264599.81260800012},{"$f":"'Balanço ES'!F18","v":-225324.74215200022},-237599.97624000011,-247204.63216799992,-249504.01545599994,-20966.397815999997,-20735.99784,0,0,0,0,103956.90806400002,103956.90806399999,155625.71683200001,103441,0,0,0,0,0,0,0,0,null,{"$f":"'Balanço ES'!AC18","v":-985094.25693600054},-538411.04327999998,0,466980.53295999998,0,0]
["Total Sales",{"$f":"'Balanço ES'!B19","v":-189606.02530399989},{"$f":"'Balanço ES'!C19","v":-123577.53013399986},{"$f":"'Balanço ES'!D19","v":-168962.87619200005},{"$f":"'Balanço ES'!E19","v":-168273.08135800011},{"$f":"'Balanço ES'!F19","v":-129273.71438200022},-141390.89465720559,32968.935458000095,17632.381024000075,-3525.6533360000003,-61567.034739999988,33164.702119999994,63980.246319999991,63284.808320000011,63285,-24660.489343999987,-24660.498671999987,126686.33267199999,74806.399328,134083.70675837918,134964.85862021908,168192.62379484699,55957.457340351626,42307.87094212239,179487.53341994924,160530.17214663429,130991.00735584546,null,{"$f":"'Balanço ES'!AC19","v":-611314.7436460004},-14491.316653999849,223713.98912000001,152171.74398399994,-218813.12004799995,0]
["Required Energy",{"$f":"'Balanço ES'!B20","v":3138968.5695840735},{"$f":"'Balanço ES'!C20","v":3228947.9983925787},{"$f":"'Balanço ES'!D20","v":3167930.7111259322},{"$f":"'Balanço ES'!E20","v":3091494.6932614692},{"$f":"'Balanço ES'!F20","v":3134728.6160556851},3253742.2909374256,2738405.6147228666,2736213.1930290973,2750438.4637242369,3368290.6713404395,3106977.310778806,2638824.0975053175,2635633.55909028,3030643,3163012.5673716352,4515290.3300793907,2983278.1010275679,3287667.8091999996,2970901.0153989997,2872931.1700763786,2752564.1722095152,3056827,2835086.1560060009,2664594.2322479989,2776076.0001999997,3042054.9358502119,null,{"$f":"'Balanço ES'!AC20","v":12597311.205290796},11242286.421444478,11594356.751837295,13949249.373979025,11653224.299190909,11317811.32430421]
["Wholesale Supply",{"$f":"'Balanço ES'!B21","v":0},{"$f":"'Balanço ES'!C21","v":0},{"$f":"'Balanço ES'!D21","v":0},{"$f":"'Balanço ES'!E21","v":0},{"$f":"'Balanço ES'!F21","v":0},0,0,0,0,0,0,0,0,0,0,336345.92275519471,51326.31,47326.31,83924.050000000017,80154.709999999992,82454.27,97424.76999999999,111156,114124,116070,117260,null,{"$f":"'Balanço ES'!AC21","v":0},0,0,434998.54275519471,343957.80000000005,458610]
["Retail Supply",{"$f":"'Balanço ES'!B22","v":1582556.1332940718},{"$f":"'Balanço ES'!C22","v":1683183.5299481791},{"$f":"'Balanço ES'!D22","v":1484882.3502181319},{"$f":"'Balanço ES'!E22","v":1433681.8911108682},{"$f":"'Balanço ES'!F22","v":1542380.0758472462},1654537.1518093892,1438613.2459771959,1446958.1706437406,1483716.998367731,1604458.1485514212,1541212.2990519991,1374539.5828229999,1374539.5828229999,1530813,1562233.7041880051,1373373.3745490001,1541598.7261280001,1693735.917351,1481657.8402789999,1360019.836965,1418412.5764569999,1582142.838923,1439700.7514220001,1250891.6018449999,1441051,1598493.3133399999,null,{"$f":"'Balanço ES'!AC22","v":6122407.8668629434},5973830.0512060169,5810627.7820559982,6170941.7222160054,5842233.0926239993,5730136.6666069999]
["Losses and Differences",{"$f":"'Balanço ES'!B23","v":270134.21515629301},{"$f":"'Balanço ES'!C23","v":447364.43969671382},{"$f":"'Balanço ES'!D23","v":363115.28898291162},{"$f":"'Balanço ES'!E23","v":348335.1998286926},{"$f":"'Balanço ES'!F23","v":341446.61899575673},411453.75617457903,351764.90028545051,356347.72252609651,330966.32923623431,407852.01813332527,380926.03026680672,314832.71610127972,314832.71610127972,430931,326260.92836162436,1709719.2973041947,342422.99054875784,468981.62267368636,336667.62555802299,373190.42938479478,287844.51377937873,404890.85954833543,368030.69460537017,358963.71910967247,317898,422843.88801480748,null,{"$f":"'Balanço ES'!AC23","v":1440848.5450068056},1446781.7401944103,1480569.9787703156,2847384.8388882633,1402593.4282705318,1467736.30172985]
["Energy in Transit",{"$f":"'Balanço ES'!B24","v":1147246.4505234209},{"$f":"'Balanço ES'!C24","v":1088521.6865266885},{"$f":"'Balanço ES'!D24","v":1084047.6245408885},{"$f":"'Balanço ES'!E24","v":1074971.7375593327},{"$f":"'Balanço ES'!F24","v":1093285.6544021065},1004791.6286390454,1117784.0534133867,1071990.7549444274,1028737.2354854393,1327539.327164002,1266318.0259929991,1149948.948602,1149948.948602,1248804,1274517.934822005,1095851.735471,1047930.0782308097,1077623.9591753134,1068651.4995619769,1059566.1937265843,963852.81176362152,972369.02352866484,916198.70997262979,940614.91104532825,901057,903457.73449540185,null,{"$f":"'Balanço ES'!AC24","v":4216259.1511212504},4196405.8967042156,4781607.5370089989,4495923.7076991275,4064439.5285808472,3661328.3555133599]
["Total Distributed Energy ",{"$f":"'Balanço ES'!B25","v":2999936.7989737857},{"$f":"'Balanço ES'!C25","v":3219069.6561715817},{"$f":"'Balanço ES'!D25","v":2932045.2637419319},{"$f":"'Balanço ES'!E25","v":2856988.8284988934},{"$f":"'Balanço ES'!F25","v":2977112.3492451096},3070782.5366230132,2908162.1996760331,2875296.6481142645,2843420.5630894043,3339849.4938487485,3188456.3553118049,2839321.2475262797,2839321.2475262797,3210548,3163012.5673716348,4515290.3300793897,2983278.1049075676,3287667.8091999996,2970901.0153989997,2872931.1700763791,2752564.1720000003,3056827.4920000001,2835086.156,2664594.2320000008,2776076,3042054.9358502091,null,{"$f":"'Balanço ES'!AC25","v":11779515.562990997},11617017.688104643,12072805.297835313,13949248.811558591,11653223.849475378,11317811.323850211]

{"sheet":"Perdas SP","index":10,"n_rows":8,"n_cols":49,"rows_kept":8,"cut":false,"hidden":false,"merged":[]}
[]
["Perdas EDP SP"]
[]
["R$","Acompanhamento","Medida","2023-06-01","2023-03-01","2022-12-01","2022-09-01","2022-06-01","2022-03-01","2021-12-01","2021-09-01","2021-06-30","2021-03-31","2020-12-01","2020-09-30","2020-06-30","2020-03-31","2019-12-30","2019-09-30","2019-06-30","2019-03-31","2018-12-31","2018-09-30","2018-06-30","2018-03-31","2017-12-31","2017-09-30","2017-06-30","2017-03-31","2016-12-31","2016-09-30","2016-06-30","2016-03-31","2015-12-31","2015-09-30","2015-06-30","2015-03-31","2014-12-31","2014-09-30","2014-06-30","2014-03-31","2013-12-31","2013-09-30","2013-06-30","2013-03-31","2012-12-31","2012-09-01","2012-06-30","2012-03-31"]
[null,null,null,"2T23","1T23","4T21","3T22","2T22","1T22","4T21","3T21","2T21","1T21","4T20","3T20","2T20","1T20","4T19","3T19","2T19","1T19","4T18","3T18","2T18","1T18","4T17","3T17","2T17","1T17","4T16","3T16","2T16","1T16","4T15","3T15","2T15","1T15","4T14","3T14","2T14","1T14","4T13","3T13","2T13","1T13","4T12","3T12","2T12","1T12"]
[]
["Perdas Totais","Acumulado","%",7.7,7.78,7.91,7.89,8.1999999999999993,8.23,8.3000000000000007,8.26,8.34,8.64,8.57,8.6205130093226199,8.3318878101702101,8.0299999999999994,8.11,8.08,8.33,8.24,8.43,8.43,8.4700000000000006,8.5399999999999991,8.73,8.73,8.73,8.75,8.89,8.77,9.16,9.35,8.9700000000000006,8.9499999999999993,8.9600000000000009,9.35,9.5,9.6999999999999993,9.8000000000000007,9.6999999999999993,9.86,"-","-","-","-","-","-","-"]
["Perdas Totais","Regulatório","%",6.76,6.76,7.12,7.12,7.12,7.12,7.12,7.02,7.02,7.02,7.02,7.03,7.03,7.03,7.03,7.61,7.61,7.61,7.75,7.75,7.75,7.75,7.69,7.82,7.83,7.82,7.83,8.3000000000000007,7.9,8.3000000000000007,7.88483574361367,8.3618594741928973,8.3455084969046958,8.2995156725149624,8.2786443601311142,8.6912450548635682,8.6512959748738378,8.6336863204179899,8.5865434432134897,8.9919476032239665,9.0027359728788543,9.0082947090307322,8.9746794459232238,9.3568066594550849,9.3086071299147211,9.2256063763497167]

{"sheet":"Perdas SP EN","index":11,"n_rows":8,"n_cols":49,"rows_kept":8,"cut":false,"hidden":false,"merged":[]}
[]
["Losses EDP SP"]
[]
["R$",null,"Average","Jun-23","Mar-23","Dec-22","Sep-22","2022-06-01","2022-03-01","Dec-21","Sep-21","2021-06-30","2021-03-31","Dec-20","2020-09-30","2020-06-30","2020-03-31","2019-12-01","2019-09-30","2019-06-30","2019-03-31","2018-12-30","2018-09-30","2018-06-30","2018-03-31","2017-12-31","2017-09-30","2017-06-30","2017-03-31","2016-12-31","2016-09-30","2016-06-30","2016-03-31","2015-12-31","2015-09-30","2015-06-30","2015-03-31","2014-12-31","2014-09-30","2014-06-30","2014-03-31","2013-12-31","2013-09-30","2013-06-30","2013-03-31","2012-12-31","2012-09-30","2012-06-30","2012-03-31"]
[null,null,null,"2Q23","1Q23","4Q22","3Q22","2Q22","1Q22","4Q21","3Q21","2Q21","1Q21","4Q20","3Q20","2Q20","1Q20","4Q19","3Q19","2Q19","1Q19","4Q18","3Q18","2Q18","1Q18","4Q17","3Q17","2Q17","1Q17","4Q16","3Q16","2Q16","1Q16","4Q15","3Q15","2Q15","1Q15","4Q14","3Q14","2Q14","1Q14","4Q13","3Q13","2Q13","1Q13","4Q12","3Q12","2Q12","1Q12"]
[]
["Total Losses","Accumulated","%",{"$f":"'Perdas SP'!D7","v":7.7},{"$f":"'Perdas SP'!E7","v":7.78},{"$f":"'Perdas SP'!F7","v":7.91},{"$f":"'Perdas SP'!G7","v":7.89},{"$f":"'Perdas SP'!H7","v":8.1999999999999993},8.23,8.3000000000000007,8.26,8.34,8.64,8.57,8.6205130093226199,8.3318878101702101,8.0299999999999994,8.11,8.08,8.33,8.24,8.43,8.43,8.4700000000000006,8.5399999999999991,8.73,8.73,8.73,8.75,8.89,8.77,9.16,9.35,8.9700000000000006,8.9499999999999993,8.9600000000000009,9.35,9.5,9.6999999999999993,9.8000000000000007,9.6999999999999993,9.86,"-","-","-","-","-","-","-"]
["Total Losses","Regulatory","%",{"$f":"'Perdas SP'!D8","v":6.76},{"$f":"'Perdas SP'!E8","v":6.76},{"$f":"'Perdas SP'!F8","v":7.12},{"$f":"'Perdas SP'!G8","v":7.12},{"$f":"'Perdas SP'!H8","v":7.12},7.12,7.12,7.02,7.02,7.02,7.02,7.03,7.03,7.03,7.03,7.61,7.61,7.61,7.75,7.75,7.75,7.75,7.69,7.82,7.83,7.82,7.83,8.3000000000000007,7.9,8.3000000000000007,7.88483574361367,8.3618594741928973,8.3455084969046958,8.2995156725149624,8.2786443601311142,8.6912450548635682,8.6512959748738378,8.6336863204179899,8.5865434432134897,8.9919476032239665,9.0027359728788543,9.0082947090307322,8.9746794459232238,9.3568066594550849,9.3086071299147211,9.2256063763497167]

{"sheet":"Perdas ES","index":12,"n_rows":8,"n_cols":49,"rows_kept":8,"cut":false,"hidden":false,"merged":[]}
[]
["Perdas EDP ES"]
[]
["R$","Acompanhamento","Medida","2023-06-01","2023-03-01","2022-12-01","2022-09-01","2022-06-01","2022-03-01","2021-12-01","2021-09-01","2021-06-30","2021-03-31","2020-12-01","2020-09-01","2020-06-30","2020-03-31","2019-12-30","2019-09-30","2019-06-30","2019-03-31","2018-12-31","2018-09-30","2018-06-30","2018-03-31","2017-12-31","2017-09-30","2017-06-30","2017-03-31","2016-12-31","2016-09-30","2016-06-30","2016-03-31","2015-12-31","2015-09-30","2015-06-30","2015-03-31","2014-12-31","2014-09-30","2014-06-30","2014-03-31","2013-12-31","2013-09-30","2013-06-30","2013-03-31","2012-12-31","2012-09-30","2012-06-30","2012-03-31"]
[null,null,null,"2T23","1T23","4T22","3T22","2T22","1T22","4T21","3T21","2T21","1T21","4T20","3T20","2T20","1T20","4T19","3T19","2T19","1T19","4T18","3T18","2T18","1T18","4T17","3T17","2T17","1T17","4T16","3T16","2T16","1T16","4T15","3T15","2T15","1T15","4T14","3T14","2T14","1T14","4T13","3T13","2T13","1T13","4T12","3T12","2T12","1T12"]
[]
["Perdas Totais","Acumulado","%",11.76,12.38,11.95,12.03,12.08,12.42,12.45,12.7,12.85,13.06,13.39,13.0179781670604,12.8238795245886,12.56,12.45,12.36,12.46,12.24,11.94,12.35,12.55,12.79,12.97,13.09,13.5,13.71,13.88,14.21,14,13.584349637938599,13.5,13.170000000000002,13.106470519922439,13.620000000000001,13.7,13.4,"-","-","-","-","-","-","-","-","-","-"]
["Perdas Totais","Regulatório","%",12.19,12.19,12.19,12.19,11.3,11.3,11.3,11.3,11.56,11.56,11.56,11.56,11.61,11.61,11.61,11.61,11.75,11.75,11.75,11.75,11.77,11.77,11.68,11.69,11.63,11.64,11.611000000000001,11.611000000000001,9.5333548951683191,9.5333548951683191,9.5333548951683191,9.5333548951683191,9.7369080040525198,9.7369080040525198,9.7369080040525198,9.7369080040525198,10.14,10.14,10.14,10.14,11.29,11.29,11.29,11.29,11.7,11.7]

{"sheet":"Perdas ES EN","index":13,"n_rows":8,"n_cols":49,"rows_kept":8,"cut":false,"hidden":false,"merged":[]}
[]
["Losses EDP ES"]
[]
["R$ ",null,"Average ","Jun-23","Mar-23","Dec-22","Sep-22","2022-06-01","2022-03-01","Dec-21","2021-09-01","2021-06-30","2021-03-31","dec-20","2020-09-30","2020-06-30","2020-03-31","2019-12-01","2019-09-30","2019-06-30","2019-03-31","2018-12-30","2018-09-30","2018-06-30","2018-03-31","2017-12-31","2017-09-30","2017-06-30","2017-03-31","2016-12-31","2016-09-30","2016-06-30","2016-03-31","2015-12-31","2015-09-30","2015-06-30","2015-03-31","2014-12-31","2014-09-30","2014-06-30","2014-03-31","2013-12-31","2013-09-30","2013-06-30","2013-03-31","2012-12-31","2012-09-30","2012-06-30","2012-03-31"]
[null,null,null,"2Q23","1Q23","4Q22","3Q22","2Q22","1Q22","4Q21","3Q21","2Q21","1Q21","4Q20","3Q20","2Q20","1Q20","4Q19","3Q19","2Q19","1Q19","4Q18","3Q18","2Q18","1Q18","4Q17","3Q17","2Q17","1Q17","4Q16","3Q16","2Q16","1Q16","4Q15","3Q15","2Q15","1Q15","4Q14","3Q14","2Q14","1Q14","4Q13","3Q13","2Q13","1Q13","4Q12","3Q12","2Q12","1Q12"]
[]
["Total Losses","Accumulated","%",{"$f":"'Perdas ES'!D7","v":11.76},{"$f":"'Perdas ES'!E7","v":12.38},{"$f":"'Perdas ES'!F7","v":11.95},{"$f":"'Perdas ES'!G7","v":12.03},{"$f":"'Perdas ES'!H7","v":12.08},12.42,12.45,12.7,12.85,13.06,13.39,13.0179781670604,12.8238795245886,12.56,12.45,12.36,12.46,12.24,11.94,12.35,12.55,12.79,12.97,13.09,13.5,13.71,13.88,14.21,14,13.584349637938599,13.5,13.170000000000002,13.106470519922439,13.620000000000001,13.7,13.4,"-","-","-","-","-","-","-","-","-","-"]
["Total Losses","Regulatory","%",{"$f":"'Perdas ES'!D8","v":12.19},{"$f":"'Perdas ES'!E8","v":12.19},{"$f":"'Perdas ES'!F8","v":12.19},{"$f":"'Perdas ES'!G8","v":12.19},{"$f":"'Perdas ES'!H8","v":11.3},11.3,11.3,11.3,11.56,11.56,11.56,11.56,11.61,11.61,11.61,11.61,11.75,11.75,11.75,11.75,11.77,11.77,11.68,11.69,11.63,11.64,11.611000000000001,11.611000000000001,9.5333548951683191,9.5333548951683191,9.5333548951683191,9.5333548951683191,9.7369080040525198,9.7369080040525198,9.7369080040525198,9.7369080040525198,10.14,10.14,10.14,10.14,11.29,11.29,11.29,11.29,11.7,11.7]

{"sheet":"DEC E FEC SP","index":14,"n_rows":10,"n_cols":29,"rows_kept":10,"cut":false,"hidden":false,"merged":[]}
[]
["DEC & FEC São Paulo"]
[]
["R$","Acompanhamento","Medida","2023-06-01","2023-03-01","2022-12-01","2022-09-01","2022-06-01","2022-03-01","2021-12-01","2021-09-01","2021-06-30","2021-03-01","2020-12-01","2020-09-30","2020-06-30","2020-03-31","dec-19","2019-09-30","2019-06-30","2019-03-31","2018-12-30","2018-09-30","2018-06-30","2018-03-31","2017-12-31","2017-09-30","2017-06-30","2017-03-31"]
[null,null,null,"2T23","1T23","4T22","3T22","2T22","1T22","4T21","3T21","2T21","1T21","4T20","3T20","2T20","1T20","4T19","3T19","2T19","1T19","4T18","3T18","2T18","1T18","4T17","3T17","2T17","1T17"]
[]
["DEC (Duração Equivalente de Interrupção) ","Acumulado","Horas",5.98,6.23,6.1,6.28,6.09,5.97,6.36,6.95,7.2,7.4,7.15,6.78,6.74,6.53,6.98,7.61,7.96,7.97,7.75,7.64,7.59,7.7,7.87,8.19,8.1300000000000008,8.31]
["DEC (Duração Equivalente de Interrupção) ","Regulatório","Horas",7.05,7.05,7.05,7.05,7.05,7.05,7.38,7.38,7.38,7.38,7.71,7.71,7.71,7.71,7.68,7.68,7.68,7.68,7.94,7.94,7.94,7.94,8.41,8.41,8.41,8.41]
["FEC (Frequência Equivalente de Interrupção)","Acumulado","Vezes",3.08,3.18,3.27,3.45,3.57,3.86,4.1399999999999997,4.5999999999999996,4.6399999999999997,4.63,4.6100000000000003,4.34,4.38,4.2699999999999996,4.5199999999999996,4.7300000000000004,4.88,4.8099999999999996,4.83,4.8600000000000003,4.93,5,4.96,5.22,5.0599999999999996,5.29]
["FEC (Frequência Equivalente de Interrupção)","Regulatório","Vezes",5.22,5.22,5.22,5.22,5.22,5.22,5.79,5.79,5.79,5.79,6.03,6.03,6.03,6.03,6.04,6.04,6.04,6.04,6.24,6.24,6.24,6.24,6.59,6.59,6.59,6.59]

{"sheet":"DEC E FEC SP EN","index":15,"n_rows":10,"n_cols":29,"rows_kept":10,"cut":false,"hidden":false,"merged":[]}
[]
["DEC & FEC São Paulo"]
[]
["R$ ",null,"Average","Jun-23","Mar-23","Dec-22","Sep-22","2022-06-01","2022-03-01","Dec-21","Sep-21","2021-06-30","2021-03-01","Dec-20","2020-09-30","2020-06-30","2020-03-31","dec-19","2019-09-30","2019-06-30","2019-03-31","2018-12-30","2018-09-30","2018-06-30","2018-03-31","2017-12-31","2017-09-30","2017-06-30","2017-03-31"]
[null,null,null,"2Q23","1Q23","4Q22","3Q22","2Q22","1Q22","4Q21","3Q21","2Q21","1Q21","4Q20","3Q20","2Q20","1Q20","4Q19","3Q19","2Q19","1Q19","4Q18","3Q18","2Q18","1Q18","4Q17","3Q17","2Q17","1Q17"]
[]
["DEC (Duration of Interruption by Consumption Unit) ","Accumulated","Hours",{"$f":"'DEC E FEC SP'!D7","v":5.98},{"$f":"'DEC E FEC SP'!E7","v":6.23},{"$f":"'DEC E FEC SP'!F7","v":6.1},{"$f":"'DEC E FEC SP'!G7","v":6.28},{"$f":"'DEC E FEC SP'!H7","v":6.09},{"$f":"'DEC E FEC SP'!I7","v":5.97},6.36,6.95,7.2,7.4,7.15,6.78,6.74,6.53,6.98,7.61,7.96,7.97,7.75,7.64,7.59,7.7,7.87,8.19,8.1300000000000008,8.31]
["DEC (Duration of Interruption by Consumption Unit) ","Regulatory","Hours",{"$f":"'DEC E FEC SP'!D8","v":7.05},{"$f":"'DEC E FEC SP'!E8","v":7.05},{"$f":"'DEC E FEC SP'!F8","v":7.05},{"$f":"'DEC E FEC SP'!G8","v":7.05},{"$f":"'DEC E FEC SP'!H8","v":7.05},{"$f":"'DEC E FEC SP'!I8","v":7.05},7.38,7.38,7.38,7.38,7.71,7.71,7.71,7.71,7.68,7.68,7.68,7.68,7.94,7.94,7.94,7.94,8.41,8.41,8.41,8.41]
["FEC (Frequency of Interruption by Consumption Unit)","Accumulated","Times",{"$f":"'DEC E FEC SP'!D9","v":3.08},{"$f":"'DEC E FEC SP'!E9","v":3.18},{"$f":"'DEC E FEC SP'!F9","v":3.27},{"$f":"'DEC E FEC SP'!G9","v":3.45},{"$f":"'DEC E FEC SP'!H9","v":3.57},{"$f":"'DEC E FEC SP'!I9","v":3.86},4.1399999999999997,4.5999999999999996,4.6399999999999997,4.63,4.6100000000000003,4.34,4.38,4.2699999999999996,4.5199999999999996,4.7300000000000004,4.88,4.8099999999999996,4.83,4.8600000000000003,4.93,5,4.96,5.22,5.0599999999999996,5.29]
["FEC (Frequency of Interruption by Consumption Unit)","Regulatory","Times",{"$f":"'DEC E FEC SP'!D10","v":5.22},{"$f":"'DEC E FEC SP'!E10","v":5.22},{"$f":"'DEC E FEC SP'!F10","v":5.22},{"$f":"'DEC E FEC SP'!G10","v":5.22},{"$f":"'DEC E FEC SP'!H10","v":5.22},{"$f":"'DEC E FEC SP'!I10","v":5.22},5.79,5.79,5.79,5.79,6.03,6.03,6.03,6.03,6.04,6.04,6.04,6.04,6.24,6.24,6.24,6.24,6.59,6.59,6.59,6.59]

{"sheet":"DEC E FEC ES","index":16,"n_rows":10,"n_cols":29,"rows_kept":10,"cut":false,"hidden":false,"merged":[]}
[]
["DEC & FEC Espírito Santo "]
[]
["R$ ","Acompanhamento","Medida","2023-06-01","2023-03-01","2022-12-01","2022-09-01","2022-06-01","2022-03-01","2021-12-01","2021-09-01","2021-06-30","2021-03-01","2020-12-01","2020-09-30","2020-06-30","2020-03-31","2019-12-01","2019-09-30","2019-06-30","2019-03-31","2018-12-30","2018-09-30","2018-06-30","2018-03-31","2017-12-31","2017-09-30","2017-06-30","2017-03-31"]
[null,null,null,"2T23","1T23","4T22","3T22","2T22","1T22","4T21","3T21","2T21","1T21","4T20","3T20","2T20","1T20","4T19","3T19","2T19","1T19","4T18","3T18","2T18","1T18","4T17","3T17","2T17","1T17"]
[]
["DEC (Duração Equivalente de Interrupção) ","Acumulado","Horas",6.88,6.71,7,7.21,7.48,7.74,7.57,7.53,7.32,7.3,7.87,7.93,8.2200000000000006,8.23,8.1999999999999993,8.64,8.39,8.59,8.24,8.24,8.3800000000000008,8.31,8.42,8.75,8.7899999999999991,8.6199999999999992]
["DEC (Duração Equivalente de Interrupção) ","Regulatório","Horas",9.0299999999999994,9.0299999999999994,9.0500000000000007,9.0500000000000007,9.0500000000000007,9.0500000000000007,9.31,9.31,9.31,9.31,9.4499999999999993,9.4499999999999993,9.4499999999999993,9.4499999999999993,9.5500000000000007,9.73,9.73,9.73,9.73,9.73,9.73,9.73,9.81,9.81,9.81,9.81]
["FEC (Frequência Equivalente de Interrupção)","Acumulado","Vezes",3.1,3.16,3.29,3.57,3.73,3.91,3.93,3.95,3.94,3.9,4.04,4.24,4.38,4.42,4.84,4.8600000000000003,4.8899999999999997,4.92,4.76,5,5.04,5.21,5.2,5.16,5.23,5.3]
["FEC (Frequência Equivalente de Interrupção)","Regulatório","Vezes",6.41,6.41,6.41,6.41,6.41,6.41,6.54,6.54,6.54,6.54,6.86,6.86,6.86,6.86,6.85,7.27,7.27,7.27,7.27,7.27,7.27,7.27,7.65,7.65,7.65,7.65]

{"sheet":"DEC E FEC ES EN","index":17,"n_rows":10,"n_cols":29,"rows_kept":10,"cut":false,"hidden":false,"merged":[]}
[]
["DEC & FEC Espírito Santo "]
[]
["R$",null,"Average","Jun-23","Mar-23","Dec-22","Sep-22","2022-06-01","2022-03-01","Dec-21","Sep-21","2021-06-30","2021-03-01","Dec-20","2020-09-30","2020-06-30","2020-03-31","dec-10","2019-09-30","2019-06-30","2019-03-31","2018-12-30","2018-09-30","2018-06-30","2018-03-31","2017-12-31","2017-09-30","2017-06-30","2017-03-31"]
[null,null,null,"2Q23","1Q23","4Q22","3Q22","2Q22","1Q22","4Q21","3Q21","2Q21","1Q21","4Q20","3Q20","2Q20","1Q20","4Q19","3Q19","2Q19","1Q19","4Q18","3Q18","2Q18","1Q18","4Q17","3Q17","2Q17","1Q17"]
[]
["DEC (Duration of Interruption by Consumption Unit) ","Accumulated","Hours",{"$f":"'DEC E FEC ES'!D7","v":6.88},{"$f":"'DEC E FEC ES'!E7","v":6.71},{"$f":"'DEC E FEC ES'!F7","v":7},{"$f":"'DEC E FEC ES'!G7","v":7.21},{"$f":"'DEC E FEC ES'!H7","v":7.48},{"$f":"'DEC E FEC ES'!I7","v":7.74},7.57,7.53,7.32,7.3,7.87,7.93,8.2200000000000006,8.23,8.1999999999999993,8.64,8.39,8.59,8.24,8.24,8.3800000000000008,8.31,8.42,8.75,8.7899999999999991,8.6199999999999992]
["DEC (Duration of Interruption by Consumption Unit) ","Regulatory","Hours",{"$f":"'DEC E FEC ES'!D8","v":9.0299999999999994},{"$f":"'DEC E FEC ES'!E8","v":9.0299999999999994},{"$f":"'DEC E FEC ES'!F8","v":9.0500000000000007},{"$f":"'DEC E FEC ES'!G8","v":9.0500000000000007},{"$f":"'DEC E FEC ES'!H8","v":9.0500000000000007},{"$f":"'DEC E FEC ES'!I8","v":9.0500000000000007},9.31,9.31,9.31,9.31,9.4499999999999993,9.4499999999999993,9.4499999999999993,9.4499999999999993,9.5500000000000007,9.73,9.73,9.73,9.73,9.73,9.73,9.73,9.81,9.81,9.81,9.81]
["FEC (Frequency of Interruption by Consumption Unit)","Accumulated","Times",{"$f":"'DEC E FEC ES'!D9","v":3.1},{"$f":"'DEC E FEC ES'!E9","v":3.16},{"$f":"'DEC E FEC ES'!F9","v":3.29},{"$f":"'DEC E FEC ES'!G9","v":3.57},{"$f":"'DEC E FEC ES'!H9","v":3.73},{"$f":"'DEC E FEC ES'!I9","v":3.91},3.93,3.95,3.94,3.9,4.04,4.24,4.38,4.42,4.84,4.8600000000000003,4.8899999999999997,4.92,4.76,5,5.04,5.21,5.2,5.16,5.23,5.3]
["FEC (Frequency of Interruption by Consumption Unit)","Regulatory","Times",{"$f":"'DEC E FEC ES'!D10","v":6.41},{"$f":"'DEC E FEC ES'!E10","v":6.41},{"$f":"'DEC E FEC ES'!F10","v":6.41},{"$f":"'DEC E FEC ES'!G10","v":6.41},{"$f":"'DEC E FEC ES'!H10","v":6.41},{"$f":"'DEC E FEC ES'!I10","v":6.41},6.54,6.54,6.54,6.54,6.86,6.86,6.86,6.86,6.85,7.27,7.27,7.27,7.27,7.27,7.27,7.27,7.65,7.65,7.65,7.65]

{"sheet":"Tarifa M SP","index":18,"n_rows":12,"n_cols":27,"rows_kept":12,"cut":false,"hidden":false,"merged":[]}
[]
["Tarifa Média São Paulo"]
[]
["R$","2023-06-01","2023-03-01","2022-12-01","2022-09-01","2022-06-01","2022-03-01","dec-21","2021-09-01","2021-06-30","2021-03-01","2020-12-01","2020-09-30","2020-06-30","2020-03-31","2019-12-30","2019-09-30","2019-06-30","2019-03-31","2018-12-30","2018-09-30","2018-06-30","2018-03-31","2017-12-31","2017-09-30","2017-06-30","2017-03-31"]
[null,"2T23","1T23","4T22","3T22","2T22","1T22","4T21","3T21","2T21","1T21","4T20","3T20","2T20","1T20","4T19","3T19","2T19","1T19","4T18","3T18","2T18","1T18","4T17","3T17","2T17","1T17"]
[]
["Residencial",601.82000000000005,607.13,586.35,605.09,642.11,691.71,696.26,616.39,553.76,540.91,533.80999999999995,514.46,495.96,522.44000000000005,557.79999999999995,580.15,558.4,555.6,553.54,530.69000000000005,484.37,484.54,479.95,410.85,405.04,399.52]
["Industrial",624.46,575.07000000000005,605.13,559.05999999999995,622.48,623.54999999999995,672.24,572.19000000000005,505.12,507.67,508.41,467.94,480.15,469.76,509.77,559.46,523.30999999999995,526.24,520.78,507.37,469.19,460.64,444.83,381.41,369.51,368.92]
["Comercial",641.25,626.14,579.48,607.87,675.4,712.21,700.97,618.69000000000005,565.29,558.75,538.22,517.61,513.85,515.69000000000005,548.29999999999995,586.84,555.45000000000005,548.07000000000005,542.82000000000005,529.45000000000005,489.64,481.18,474.32,409.4,402.46,390.91]
["Rural",553.62,566.04999999999995,516.89,534.49,598.03,623.75,636.17999999999995,527.27,470.23,458.01,442.33,401.15,397.25,401.25,427.02,432.38,430.53,413.07,415.8,490.59,359.19,356.2,358.28,304.87,300.02999999999997,290.35000000000002]
["Outros",496.01,461.34,495.72,453.75,516.96,579.69000000000005,521.32000000000005,473.33,405.98,401.9,398.72,374.57,371.33,380.47,414.31,443.11,426.02,420.53,423.49,407.64,382.25,368.32,371.15,309.19,308.58,299.95999999999998]
["Média - Cliente Final",602.14,593.63,577.77,584.41999999999996,633.54,676.75,673.7,595.76,533.84,529.46,516.83000000000004,493.54,483.27,497.56,530.87,561.53,535.98,533.07000000000005,529.98,511.4,470.47,465.86,458.56,392.31,386.14,380.08]

{"sheet":"Tarifa M SP EN","index":19,"n_rows":12,"n_cols":27,"rows_kept":12,"cut":false,"hidden":false,"merged":[]}
[]
["Average Tariff São Paulo"]
[]
["R$ ","Jun-23","Mar-23","Dec-22","Sep-22","2022-06-30","2022-03-01","Dec-21","Sep-21","2021-06-30","2021-03-01","Dec-20","2020-09-30","2020-06-30","2020-03-31","2019-12-30","2019-09-30","2019-06-30","2019-03-31","2018-12-30","2018-09-30","2018-06-30","2018-03-31","2017-12-31","2017-09-30","2017-06-30","2017-03-31"]
[null,"2Q23","1Q23","4Q22","3Q22","2Q22","1Q22","4Q21","3Q21","2Q21","1Q21","4Q20","3Q20","2Q20","1Q20","4Q19","3Q19","2Q19","1Q19","4Q18","3Q18","2Q18","1Q18","4Q17","3Q17","2Q17","1Q17"]
[]
["Residential",{"$f":"'Tarifa M SP'!B7","v":601.82000000000005},{"$f":"'Tarifa M SP'!C7","v":607.13},{"$f":"'Tarifa M SP'!D7","v":586.35},{"$f":"'Tarifa M SP'!E7","v":605.09},{"$f":"'Tarifa M SP'!F7","v":642.11},691.71,696.26,616.39,553.76,540.91,533.80999999999995,514.46,495.96,522.44000000000005,557.79999999999995,580.15,558.4,555.6,553.54,530.69000000000005,484.37,484.54,479.95,410.85,405.04,399.52]
["Industrial",{"$f":"'Tarifa M SP'!B8","v":624.46},{"$f":"'Tarifa M SP'!C8","v":575.07000000000005},{"$f":"'Tarifa M SP'!D8","v":605.13},{"$f":"'Tarifa M SP'!E8","v":559.05999999999995},{"$f":"'Tarifa M SP'!F8","v":622.48},623.54999999999995,672.24,572.19000000000005,505.12,507.67,508.41,467.94,480.15,469.76,509.77,559.46,523.30999999999995,526.24,520.78,507.37,469.19,460.64,444.83,381.41,369.51,368.92]
["Commercial",{"$f":"'Tarifa M SP'!B9","v":641.25},{"$f":"'Tarifa M SP'!C9","v":626.14},{"$f":"'Tarifa M SP'!D9","v":579.48},{"$f":"'Tarifa M SP'!E9","v":607.87},{"$f":"'Tarifa M SP'!F9","v":675.4},712.21,700.97,618.69000000000005,565.29,558.75,538.22,517.61,513.85,515.69000000000005,548.29999999999995,586.84,555.45000000000005,548.07000000000005,542.82000000000005,529.45000000000005,489.64,481.18,474.32,409.4,402.46,390.91]
["Rural",{"$f":"'Tarifa M SP'!B10","v":553.62},{"$f":"'Tarifa M SP'!C10","v":566.04999999999995},{"$f":"'Tarifa M SP'!D10","v":516.89},{"$f":"'Tarifa M SP'!E10","v":534.49},{"$f":"'Tarifa M SP'!F10","v":598.03},623.75,636.17999999999995,527.27,470.23,458.01,442.33,401.15,397.25,401.25,427.02,432.38,430.53,413.07,415.8,490.59,359.19,356.2,358.28,304.87,300.02999999999997,290.35000000000002]
["Others",{"$f":"'Tarifa M SP'!B11","v":496.01},{"$f":"'Tarifa M SP'!C11","v":461.34},{"$f":"'Tarifa M SP'!D11","v":495.72},{"$f":"'Tarifa M SP'!E11","v":453.75},{"$f":"'Tarifa M SP'!F11","v":516.96},579.69000000000005,521.32000000000005,473.33,405.98,401.9,398.72,374.57,371.33,380.47,414.31,443.11,426.02,420.53,423.49,407.64,382.25,368.32,371.15,309.19,308.58,299.95999999999998]
["Average - Final Customer",{"$f":"'Tarifa M SP'!B12","v":602.14},{"$f":"'Tarifa M SP'!C12","v":593.63},{"$f":"'Tarifa M SP'!D12","v":577.77},{"$f":"'Tarifa M SP'!E12","v":584.41999999999996},{"$f":"'Tarifa M SP'!F12","v":633.54},676.75,673.7,595.76,533.84,529.46,516.83000000000004,493.54,483.27,497.56,530.87,561.53,535.98,533.07000000000005,529.98,511.4,470.47,465.86,458.56,392.31,386.14,380.08]

{"sheet":"Tarifa M ES","index":20,"n_rows":12,"n_cols":27,"rows_kept":12,"cut":false,"hidden":false,"merged":[]}
[]
["Tarifa Média Espírito Santo"]
[]
["R$","2023-06-01","2023-03-01","2022-12-01","2022-09-01","2022-06-30","2022-03-01","2021-12-01","2021-09-01","2021-06-30","2021-03-01","2020-12-01","2020-09-30","2020-06-30","2020-03-31","2019-12-30","2019-09-30","2019-06-30","2019-03-31","2018-12-30","2018-09-30","2018-06-30","2018-03-31","2017-12-31","2017-09-30","2017-06-30","2017-03-31"]
[null,"2T23","1T23","4T22","3T22","2T22","1T22","4T21","3T21","2T21","1T21","4T20","3T20","2T20","1T20","4T19","3T19","2T19","1T19","4T18","3T18","2T18","1T18","4T17","3T17","2T17","1T17"]
[]
["Residencial",625.22,630.89,613.64,587.02,622.01,717.5,705.43,645.65,528.99,554.83000000000004,542.55999999999995,518.07000000000005,480.61,518.29999999999995,536.52,552.70000000000005,551.23,550.83000000000004,575.23,555.91999999999996,482.21,477.07,506.9,470.75,443.77,447.17]
["Industrial",661.83,673.42,658.35,630.37,522.12,726.66,730.62,645.28,547.12,553.20000000000005,553.38,522.32000000000005,533.23,526.41999999999996,546.42999999999995,562.51,546.26,549,567.03,561.59,494.36,485.12,507.3,472.94,435.22,456.58]
["Comercial",687.68,687.34,671.93,637.57000000000005,632.74,765.35,765.9,690.18,577.74,581.15,577.66999999999996,555.36,537.74,536.07000000000005,557.44000000000005,579.09,568.54999999999995,563.04,588.63,580.66,504.16,492.4,525.1,498.17,461.49,459.79]
["Rural",572.04999999999995,597.65,695.11,514.19000000000005,522.98,634.38,620.85,510,471.9,433.25,425.92,390.25,365.98,382.28,387.91,384.57,368.16,361.84,391.61,378.46,332.73,309.91000000000003,339.5,312.73,281.92,277.08999999999997]
["Outros",544.89,544.07000000000005,539.87,487.57,493.33,625.01,613.6,516.77,446.03,454.29,433.9,406.26,379.3,424.47,428.42,443.09,437.89,433.8,449.7,442.51,392.47,375.15,402.4,386.99,356.23,353.57]
["Média - Cliente Final",620.6,629.13,628.04,572.44000000000005,562.08000000000004,704.97,694.57,610.07000000000005,519.79,530.71,517.71,488.3,460.58,494.39,503.49,515.46,510.86,511.38,533.62,516.9,455.93,445.86,472.4,443.12,410.97,416.43]

{"sheet":"Tarifa M ES EN","index":21,"n_rows":12,"n_cols":27,"rows_kept":12,"cut":false,"hidden":false,"merged":[]}
[]
["Average Tariff Espírito Santo"]
[]
["R$","Jun-23","Mar-23","Dec-22","Sep-22","2022-06-01","2022-03-01","Dec-21","Sep-21","2021-06-30","2021-03-01","Dec-20","2020-09-30","2020-06-30","2020-03-31","2019-12-30","2019-09-30","2019-06-30","2019-03-31","2018-12-30","2018-09-30","2018-06-30","2018-03-31","2017-12-31","2017-09-30","2017-06-30","2017-03-31"]
[null,"2Q23","1Q23","4Q22","3Q22","2Q22","1Q22","4Q21","3Q21","2Q21","1Q21","4Q20","3Q20","2Q20","1Q20","4Q19","3Q19","2Q19","1Q19","4Q18","3Q18","2Q18","1Q18","4Q17","3Q17","2Q17","1Q17"]
[]
["Residential",{"$f":"'Tarifa M ES'!B7","v":625.22},{"$f":"'Tarifa M ES'!C7","v":630.89},{"$f":"'Tarifa M ES'!D7","v":613.64},{"$f":"'Tarifa M ES'!E7","v":587.02},{"$f":"'Tarifa M ES'!F7","v":622.01},717.5,705.43,645.65,528.99,554.83000000000004,542.55999999999995,518.07000000000005,480.61,518.29999999999995,536.52,552.70000000000005,551.23,550.83000000000004,575.23,555.91999999999996,482.21,477.07,506.9,470.75,443.77,447.17]
["Industrial",{"$f":"'Tarifa M ES'!B8","v":661.83},{"$f":"'Tarifa M ES'!C8","v":673.42},{"$f":"'Tarifa M ES'!D8","v":658.35},{"$f":"'Tarifa M ES'!E8","v":630.37},{"$f":"'Tarifa M ES'!F8","v":522.12},726.66,730.62,645.28,547.12,553.20000000000005,553.38,522.32000000000005,533.23,526.41999999999996,546.42999999999995,562.51,546.26,549,567.03,561.59,494.36,485.12,507.3,472.94,435.22,456.58]
["Commercial",{"$f":"'Tarifa M ES'!B9","v":687.68},{"$f":"'Tarifa M ES'!C9","v":687.34},{"$f":"'Tarifa M ES'!D9","v":671.93},{"$f":"'Tarifa M ES'!E9","v":637.57000000000005},{"$f":"'Tarifa M ES'!F9","v":632.74},765.35,765.9,690.18,577.74,581.15,577.66999999999996,555.36,537.74,536.07000000000005,557.44000000000005,579.09,568.54999999999995,563.04,588.63,580.66,504.16,492.4,525.1,498.17,461.49,459.79]
["Rural",{"$f":"'Tarifa M ES'!B10","v":572.04999999999995},{"$f":"'Tarifa M ES'!C10","v":597.65},{"$f":"'Tarifa M ES'!D10","v":695.11},{"$f":"'Tarifa M ES'!E10","v":514.19000000000005},{"$f":"'Tarifa M ES'!F10","v":522.98},634.38,620.85,510,471.9,433.25,425.92,390.25,365.98,382.28,387.91,384.57,368.16,361.84,391.61,378.46,332.73,309.91000000000003,339.5,312.73,281.92,277.08999999999997]
["Others",{"$f":"'Tarifa M ES'!B11","v":544.89},{"$f":"'Tarifa M ES'!C11","v":544.07000000000005},{"$f":"'Tarifa M ES'!D11","v":539.87},{"$f":"'Tarifa M ES'!E11","v":487.57},{"$f":"'Tarifa M ES'!F11","v":493.33},625.01,613.6,516.77,446.03,454.29,433.9,406.26,379.3,424.47,428.42,443.09,437.89,433.8,449.7,442.51,392.47,375.15,402.4,386.99,356.23,353.57]
["Average - Final Customer",{"$f":"'Tarifa M ES'!B12","v":620.6},{"$f":"'Tarifa M ES'!C12","v":629.13},{"$f":"'Tarifa M ES'!D12","v":628.04},{"$f":"'Tarifa M ES'!E12","v":572.44000000000005},{"$f":"'Tarifa M ES'!F12","v":562.08000000000004},704.97,694.57,610.07000000000005,519.79,530.71,517.71,488.3,460.58,494.39,503.49,515.46,510.86,511.38,533.62,516.9,455.93,445.86,472.4,443.12,410.97,416.43]

{"sheet":"Volume G","index":22,"n_rows":17,"n_cols":27,"rows_kept":17,"cut":false,"hidden":false,"merged":[]}
[]
["Volume Geração"]
[]
["Energia Vendida - R$ ","2023-06-01","2023-03-01","2022-12-01","2022-09-01","2022-06-01","2022-03-01","2021-12-01","2021-09-01","2021-06-30","2021-03-01","2020-12-01","2020-09-30","2020-06-30","2020-03-31","2019-12-01","2019-09-30","2019-06-30","2019-03-31","2018-12-30","2018-09-30","2018-06-30","2018-03-31","2017-12-31","2017-09-30","2017-06-30","2017-03-31"]
[null,"2T23","1T23","4T22","3T22","2T22","1T22","4T21","3T21","2T21","1T21","4T20","3T20","2T20","1T20","4T19","3T19","2T19","1T19","4T18","3T18","2T18","1T18","4T17","3T17","2T17","1T17"]
[]
["Lajeado Energia",729052.67373599997,747585.6195439999,749975.01630399958,853703.70974400011,718021.65954399994,788308,921015.43424600014,980266.43579300004,727269.49043800007,753177.820787,839194.7942412619,933568.26947157388,788996,796593,1366150.5463470002,1477718.0376560001,874270.87786400004,1196788.985533,1044728.3515459998,905264,713071.62568000006,733755.65294900001,903435.02572608611,875603.1475887259,779154.46968259336,727639.79400430957]
["Investco",7873.1927279999991,7780.6374080000005,9103.3932239999995,9269.4713279999996,8260.2642479999995,8194.8407279999992,9025.2261180000005,8970.5287840000001,8249.6180640000002,8537.9903640000011,8757.4800862177035,9661.2139409521315,12895,8032,9099.9561281333263,9471.4353655970917,8711.126668040979,8234.7211060286027,8875.3881789999996,9223,8328.2553360000002,8366.2267429999993,8861.2659228490193,9194.6901816611298,8440.5988787751212,8296.6343017280924]
["Enerpeixe",538944,567936,562477.08000000007,527049.6,501575.52,556680,747781.00000000047,663945.6,449863.2,520818.24,488510.4,527049.6,445284,445284,1152830.1644039999,529850.48541600001,447125.79244800005,712820.89352649997,535371.54399999999,532410,477410.28517167678,456757.446,470669.56627586205,467313.2366027931,451364.96786934475,536663]
["Energest ",0,0,156984.95699999999,234340.16999999998,257020.01800000001,210921,253071.05098399997,215605.76498400001,521644,230451.88999999998,327305.24300000002,251364.56900000002,375546,373559,1072649.9587580001,981831.75387200015,427760,266514.87977,456118.18200000003,216615,420158.14500000002,228574.31099999999,285960.08428293106,280411.31988589658,263621.72364917246,256334]
["PCH",0,0,0,"-","-","-","-","-","-","-","-","-","-","-","-","-","-","-",118733.04294344317,110953,102400.69233060011,109022.7461387568,110025.04957141743,118283.26012462054,108090.93083754963,117263]
["Costa Rica",0,0,0,"-","-","-","-","-","-","-","-","-","-","-","-","-","-","-","-",16294,24791.377049180308,26902.6,26868.12,28351,26125,24471]
["Santa Fé",0,0,0,"-","-","-","-","-","-","-","-","-","-","-","-","-","-","-",36182.866999999991,32681,34099.837,37196.431999999993,35563.006000000001,34049.899999999994,33639.953000000001,69322.141000000003]
["Cachoeira Caldeirão - 50%",147514.9265,147514.9265,145481.53999999998,140177.03049999999,138240.07549999998,144187.35400000002,161264.128,153713.6495,137411.05300000001,144401.16949999999,147723.0405,139674.13050000003,136982,145263,149952.92499999999,141090.2825,137862.7855,143564.85599999997,186616.89,140319,138245.80500000002,143824.35149999999,127945.405,126723.06350000002,136677.20600000001,145172.44449999998]
["Jari - 50%",239791.95949999997,239791.95949999997,238602.96899999998,224734.97250000003,225754.73600000009,234649.315,266809.68750000006,251481.37899999999,222876.52350000007,237774.4025,238940.69599999994,225946.30650000001,225721,235665,246206.08000000002,228270.21149999998,223996.09649999999,231855.05650000006,263404.3615,226342,224859.394,232572.12450000003,219730.59950000001,209075.23699999999,223110.76699999999,233194.30099999998]
["São Manoel",268866.67885199992,268866.67885199992,289776.15644399996,285288.84258299996,263278.98913499992,268957.17666666664,282206.027,285440.67699999997,260579.17133333333,279914.47266666667,285978.13699999999,288581.54866666661,262131,278205,290569.95966666669,288041.37133333331,309905.00133333332,264150.51900000003,289313.53808610002,284300,256816.92081949193,191696.72840999998,"-","-","-","-"]
["Pecém",1343160,1328400,1357920,1357920,1343160,1328400,1357920,1357920,1343160,1329015,1357920,1357920,1343160,1329015,1357920,1357920,1343160,1329015,1357305,1357920,1343160,1329015,1357305,1357920,1343160,1329015]

{"sheet":"Volume G EN","index":23,"n_rows":17,"n_cols":27,"rows_kept":17,"cut":false,"hidden":false,"merged":[]}
[]
["Generation Volume"]
[]
["Energy Sold - R$","Jun-23","Mar-23","Dec-22","Sep-22","2022-06-01","2022-03-01","Dec-21","Sep-21","2021-06-30","2021-03-01","Dec-20","2020-09-30","2020-06-30","2020-03-31","dec-19","2019-09-30","2019-06-30","2019-03-31","2018-12-30","2018-09-30","2018-06-30","2018-03-31","2017-12-31","2017-09-30","2017-06-30","2017-03-31"]
[null,"2Q23","1Q23","4Q22","3Q22","2Q22","1Q22","4Q21","3Q21","2Q21","1Q21","4Q20","3Q20","2Q20","1Q20","4Q19","3Q19","2Q19","1Q19","4Q18","3Q18","2Q18","1Q18","4Q17","3Q17","2Q17","1Q17"]
[]
["Lajeado Energia",{"$f":"'Volume G'!B7","v":729052.67373599997},{"$f":"'Volume G'!C7","v":747585.6195439999},{"$f":"'Volume G'!D7","v":749975.01630399958},{"$f":"'Volume G'!E7","v":853703.70974400011},{"$f":"'Volume G'!F7","v":718021.65954399994},788308,921015.43424600014,980266.43579300004,727269.49043800007,753177.820787,839194.7942412619,933568.26947157388,788996,796593,1366150.5463470002,1477718.0376560001,874270.87786400004,1196788.985533,1044728.3515459998,905264,713071.62568000006,733755.65294900001,903435.02572608611,875603.1475887259,779154.46968259336,727639.79400430957]
["Investco",{"$f":"'Volume G'!B8","v":7873.1927279999991},{"$f":"'Volume G'!C8","v":7780.6374080000005},{"$f":"'Volume G'!D8","v":9103.3932239999995},{"$f":"'Volume G'!E8","v":9269.4713279999996},{"$f":"'Volume G'!F8","v":8260.2642479999995},8194.8407279999992,9025.2261180000005,8970.5287840000001,8249.6180640000002,8537.9903640000011,8757.4800862176999,9661.2139409521315,12895,8032,9099.9561281333263,9471.4353655970917,8711.126668040979,8234.7211060286027,8875.3881789999996,9223,8328.2553360000002,8366.2267429999993,8861.2659228490193,9194.6901816611298,8440.5988787751212,8296.6343017280924]
["Enerpeixe",{"$f":"'Volume G'!B9","v":538944},{"$f":"'Volume G'!C9","v":567936},{"$f":"'Volume G'!D9","v":562477.08000000007},{"$f":"'Volume G'!E9","v":527049.6},{"$f":"'Volume G'!F9","v":501575.52},556680,747781.00000000047,663945.6,449863.2,520818.24,488510.4,527049.6,445284,445284,1152830.1644039999,529850.48541600001,447125.79244800005,712820.89352649997,535371.54399999999,532410,477410.28517167678,456757.446,470669.56627586205,467313.2366027931,451364.96786934475,536663]
["Energest ",{"$f":"'Volume G'!B10","v":0},{"$f":"'Volume G'!C10","v":0},{"$f":"'Volume G'!D10","v":156984.95699999999},{"$f":"'Volume G'!E10","v":234340.16999999998},{"$f":"'Volume G'!F10","v":257020.01800000001},210921,253071.05098399997,215605.76498400001,521644,230451.88999999998,327305.24300000002,251364.56900000002,375546,373559,1072649.9587580001,981831.75387200015,427760,266514.87977,456118.18200000003,216615,420158.14500000002,228574.31099999999,285960.08428293106,280411.31988589658,263621.72364917246,256334]
["PCH",{"$f":"'Volume G'!B11","v":0},{"$f":"'Volume G'!C11","v":0},{"$f":"'Volume G'!D11","v":0},{"$f":"'Volume G'!E11","v":"-"},{"$f":"'Volume G'!F11","v":"-"},"-","-","-","-","-","-","-","-","-","-","-","-","-",118733.04294344317,110953,102400.69233060011,109022.7461387568,110025.04957141743,118283.26012462054,108090.93083754963,117263]
["Costa Rica",{"$f":"'Volume G'!B12","v":0},{"$f":"'Volume G'!C12","v":0},{"$f":"'Volume G'!D12","v":0},{"$f":"'Volume G'!E12","v":"-"},{"$f":"'Volume G'!F12","v":"-"},"-","-","-","-","-","-","-","-","-","-","-","-","-","-",16294,24791.377049180308,26902.6,26868.12,28351,26125,24471]
["Santa Fé",{"$f":"'Volume G'!B13","v":0},{"$f":"'Volume G'!C13","v":0},{"$f":"'Volume G'!D13","v":0},{"$f":"'Volume G'!E13","v":"-"},{"$f":"'Volume G'!F13","v":"-"},"-","-","-","-","-","-","-","-","-","-","-","-","-",36182.866999999991,32681,34099.837,37196.431999999993,35563.006000000001,34049.899999999994,33639.953000000001,69322.141000000003]
["Cachoeira Caldeirão - 50%",{"$f":"'Volume G'!B14","v":147514.9265},{"$f":"'Volume G'!C14","v":147514.9265},{"$f":"'Volume G'!D14","v":145481.53999999998},{"$f":"'Volume G'!E14","v":140177.03049999999},{"$f":"'Volume G'!F14","v":138240.07549999998},144187.35400000002,161264.128,153713.6495,137411.05300000001,144401.16949999999,147723.0405,139674.13050000003,136982,145263,149952.92499999999,141090.2825,137862.7855,143564.85599999997,186616.89,140319,138245.80500000002,143824.35149999999,127945.405,126723.06350000002,136677.20600000001,145172.44449999998]
["JARI - 50%",{"$f":"'Volume G'!B15","v":239791.95949999997},{"$f":"'Volume G'!C15","v":239791.95949999997},{"$f":"'Volume G'!D15","v":238602.96899999998},{"$f":"'Volume G'!E15","v":224734.97250000003},{"$f":"'Volume G'!F15","v":225754.73600000009},234649.315,266809.68750000006,251481.37899999999,222876.52350000007,237774.4025,238940.69599999994,225946.30650000001,225721,235665,246206.08000000002,228270.21149999998,223996.09649999999,231855.05650000006,263404.3615,226342,224859.394,232572.12450000003,219730.59950000001,209075.23699999999,223110.76699999999,233194.30099999998]
["São Manoel",{"$f":"'Volume G'!B16","v":268866.67885199992},{"$f":"'Volume G'!C16","v":268866.67885199992},{"$f":"'Volume G'!D16","v":289776.15644399996},{"$f":"'Volume G'!E16","v":285288.84258299996},{"$f":"'Volume G'!F16","v":263278.98913499992},268957.17666666664,282206.027,285440.67699999997,260579.17133333333,279914.47266666667,285978.13699999999,288581.54866666661,262131,278205,290569.95966666669,288041.37133333331,309905.00133333332,264150.51900000003,289313.53808610002,284300,256816.92081949193,191696.72840999998,"-","-","-","-"]
["Pecém",{"$f":"'Volume G'!B17","v":1343160},{"$f":"'Volume G'!C17","v":1328400},{"$f":"'Volume G'!D17","v":1357920},{"$f":"'Volume G'!E17","v":1357920},{"$f":"'Volume G'!F17","v":1343160},1328400,1357920,1357920,1343160,1329015,1357920,1357920,1343160,1329015,1357920,1357920,1343160,1329015,1357305,1357920,1343160,1329015,1357305,1357920,1343160,1329015]

{"sheet":"Tarifa Média G","index":24,"n_rows":20,"n_cols":27,"rows_kept":20,"cut":false,"hidden":false,"merged":[]}
[]
["Tarifa Média Geração"]
[]
["Tarifa Média (R$/ MWh)","2023-06-01","2023-03-01","2022-12-01","2022-09-30","2022-06-01","2022-03-01","2021-12-01","2021-09-01","2021-06-01","2021-03-01","2020-12-01","2020-09-30","2020-06-30","2020-03-31","2019-12-01","2019-09-30","2019-06-30","2019-03-31","2018-12-30","2018-09-30","2018-06-30","2018-03-31","2017-12-31","2017-09-30","2017-06-30","2017-03-31"]
[null,"2T23","1T23","4T22","3T22","2T22","1T22","4T21","3T21","2T21","1T21","4T20","3T20","2T20","1T20","4T19","3T19","2T19","1T19","4T18","3T18","2T18","1T18","4T17","3T17","2T17","1T17"]
[]
["Lajeado Energia",259.60906005439449,259.60906005439449,288.04026174711385,258.31444502698537,255.67613115819975,234.26376492436964,221.86273150491169,212.38205491712162,235.78604940065023,249.011581095189,206.70886091093772,205.61752822710403,192.8,216.5,171.5228242059946,189.60992074269166,195.3284780767508,174.94813415813036,166.56770130004261,184.9,178.52004538515428,179.02796915159578,176.70224803571119,177.08593262484575,164.07002395804122,175.10724543914287]
["Investco",324.39501645518652,324.39501645518652,321.08906295444456,315.01257155622756,312.45973766818895,287.98607298570067,282.65219803327255,266.87389981624966,265.46683531408638,225.11152133691959,219.81208989895566,210.63605592812766,258.60000000000002,202.9,207.9130902786128,199.65294878837921,199.05576696084876,190.04893788743743,188.27345534629603,183.4,183.35565258144382,183.35251008272499,183.60807746495169,184.23676780090906,170.65498684202072,178.0239969950656]
["Enerpeixe",118.65949684471489,118.65949684471489,165.34184824028739,177.31158509559634,170.6702113372678,149.26349069483365,246.89180388375726,202.10993189803503,160.47322830584943,163.65402256265065,154.14001421464107,154.14109032622358,154.1,164.9,134.3372205046916,175.22679049186047,175.19230901695295,117.96231109894369,169.30111623564363,169.4,178.34878740808884,174.96660371382643,166.22064736207324,166.4108651518886,150.39059632581203,154.61926147288554]
["Energest ","-","-",289.8940183166722,288.75117740163796,239.44049369726523,278.90063104195411,240.1578519695741,247.4,247.4,247.4,179.18441960307979,211.65274092388094,178.6,260.60000000000002,141.05999703313884,193.73685893723732,199,214.3370008057243,215.71383006170097,203.9,196.20954602760264,208.29225758971288,192.97448501729181,193.74752781773313,179.13749920211797,193.12419292782769]
["PCH",0,0,0,"-","-","-","-","-","-","-","-","-","-","-","-","-","-","-",256.12920587309344,252.2,248.2569013295597,247.54703656855511,213.22417114451812,233.1,154.24720664325775,222.22053063593359]
["Costa Rica",0,0,0,"-","-","-","-","-","-","-","-","-","-","-","-","-","-","-","-",251.4,113.79908577929608,179.95260561074031,210.88189274128601,188.5,180.34014197427263,145.59757687939086]
["Santa Fé",0,0,0,"-","-","-","-","-","-","-","-","-","-","-","-","-","-","-",242.93265649734175,239.8,237.16344641295925,234.77883817898214,234.56959740692346,232.8,230.38082128117125,198.69553653860748]
["Cachoeira Caldeirão - 50%",171.64025770639557,171.64025770639557,162.25769949919422,162.26267541029128,162.25757920683432,162.26110925095412,154.2531516990561,154.58614168158178,147.42085929221892,147.4226287343192,141.05111788570315,141.04974149096276,141,141.1,140.33737587979695,135.23255933660775,137.37572421239088,134.94946144758438,161.15368764317097,130.1,130.07274088314045,130.06843665491735,149.77091205424696,150.00660586144997,126.34879293625595,126.34973574478869]
["JARI - 50%",203.36586807031787,203.36586807031787,201.81224148975281,198.84088134079798,192.77114966039952,185.81345528325963,187.08466123442383,184.35162151707462,174.05913127373151,172.3755777285572,171.40654851026301,170.63345976846051,169.3,170.5,170.47,165.74874028186548,164.37563232268201,158.38343383293861,150.52522203585457,156,154.26021208442003,152.89291527710989,157.24255100846801,156.40873737237462,149.71711338341643,147.74803608944117]
["São Manoel",144.11704033183426,144.11704033183426,142.51866166904955,142.98708505619905,139.93968953256712,136.76935657898355,127.89039406305805,129.03195994031364,126.24220609706191,125.80732130251721,121.6246820993872,122.82250949086441,121.1,122.1,118.81893723496506,118.16771265337009,125.9,116.19232820814558,114.99751971544005,114.3,111.15649857743442,138.32219574626944,"-","-","-","-"]
["Pecém*",525.93999999999994,525.93999999999994,805.9133333333333,1101.3166666666666,887.69,526.4,599.17999999999995,242.29,242.29,207.7,176.03,151.99,135.4,127.6,124.62666666666667,124.6,143,185.91,219.34666666666666,219.3,279.65424170309183,174.65333333333334,173.19333333333336,156.9,142,159.68666666666667]
[]
[]
["*CVU"]

{"sheet":"Tarifa Média G EN","index":25,"n_rows":17,"n_cols":27,"rows_kept":17,"cut":false,"hidden":false,"merged":[]}
[]
["Generation Average Tariff"]
[]
["Average Tariff (R$/ MWh)","2023-06-01","2023-03-01","Dec-22","Sep-22","2022-06-01","2022-03-01","Dec-21","Sep-21","2021-06-30","2021-03-01","Dec-20","2020-09-30","2020-06-30","2020-03-31","dec-19","2019-09-30","2019-06-30","2019-03-31","2018-12-30","2018-09-30","2018-06-30","2018-03-31","2017-12-31","2017-09-30","2017-06-30","2017-03-31"]
[null,"2Q23","1Q23","4Q22","3Q22","2Q22","1Q22","4Q21","3Q21","2Q21","1Q21","4Q20","3Q20","2Q20","1Q20","4Q19","3Q19","2Q19","1Q19","4Q18","3Q18","2Q18","1Q18","4Q17","3Q17","2Q17","1Q17"]
[]
["Lajeado Energia",{"$f":"'Tarifa Média G'!B7","v":259.60906005439449},{"$f":"'Tarifa Média G'!C7","v":259.60906005439449},{"$f":"'Tarifa Média G'!D7","v":288.04026174711385},{"$f":"'Tarifa Média G'!E7","v":258.31444502698537},{"$f":"'Tarifa Média G'!F7","v":255.67613115819975},234.26376492436964,221.86273150491169,212.38205491712199,235.78604940065023,249.01158109518929,206.70886091093772,205.61752822710403,192.8,216.5,171.5228242059946,189.60992074269166,195.3284780767508,174.94813415813036,166.56770130004261,184.9,178.52004538515428,179.02796915159578,176.70224803571119,177.08593262484575,164.07002395804122,175.10724543914287]
["Investco",{"$f":"'Tarifa Média G'!B8","v":324.39501645518652},{"$f":"'Tarifa Média G'!C8","v":324.39501645518652},{"$f":"'Tarifa Média G'!D8","v":321.08906295444456},{"$f":"'Tarifa Média G'!E8","v":315.01257155622756},{"$f":"'Tarifa Média G'!F8","v":312.45973766818895},287.98607298570067,282.65219803327255,266.87389981624966,265.46683531408638,225.11152133691959,219.81208989895566,210.63605592812766,258.60000000000002,202.9,207.9130902786128,199.65294878837921,199.05576696084876,190.04893788743743,188.27345534629603,183.4,183.35565258144382,183.35251008272499,183.60807746495169,184.23676780090906,170.65498684202072,178.0239969950656]
["Enerpeixe",{"$f":"'Tarifa Média G'!B9","v":118.65949684471489},{"$f":"'Tarifa Média G'!C9","v":118.65949684471489},{"$f":"'Tarifa Média G'!D9","v":165.34184824028739},{"$f":"'Tarifa Média G'!E9","v":177.31158509559634},{"$f":"'Tarifa Média G'!F9","v":170.6702113372678},149.26349069483365,246.89180388375726,202.10993189803503,160.47322830584943,163.65402256265065,154.14001421464107,154.14109032622358,154.1,164.9,134.3372205046916,175.22679049186047,175.19230901695295,117.96231109894369,169.30111623564363,169.4,178.34878740808884,174.96660371382643,166.22064736207324,166.4108651518886,150.39059632581203,154.61926147288554]
["Energest ",{"$f":"'Tarifa Média G'!B10","v":"-"},{"$f":"'Tarifa Média G'!C10","v":"-"},{"$f":"'Tarifa Média G'!D10","v":289.8940183166722},{"$f":"'Tarifa Média G'!E10","v":288.75117740163796},{"$f":"'Tarifa Média G'!F10","v":239.44049369726523},278.90063104195411,240.1578519695741,247.4,247.4,247.7,179.18441960307979,211.65274092388094,178.6,260.60000000000002,141.05999703313884,193.73685893723732,199,214.3370008057243,215.71383006170097,203.9,196.20954602760264,208.29225758971288,192.97448501729181,193.74752781773313,179.13749920211797,193.12419292782769]
["PCH",{"$f":"'Tarifa Média G'!B11","v":0},{"$f":"'Tarifa Média G'!C11","v":0},{"$f":"'Tarifa Média G'!D11","v":0},{"$f":"'Tarifa Média G'!E11","v":"-"},{"$f":"'Tarifa Média G'!F11","v":"-"},"-","-","-","-","-","-","-","-","-","-","-","-","-",256.12920587309344,252.2,248.2569013295597,247.54703656855511,213.22417114451812,233.1,154.24720664325775,222.22053063593359]
["Costa Rica",{"$f":"'Tarifa Média G'!B12","v":0},{"$f":"'Tarifa Média G'!C12","v":0},{"$f":"'Tarifa Média G'!D12","v":0},{"$f":"'Tarifa Média G'!E12","v":"-"},{"$f":"'Tarifa Média G'!F12","v":"-"},"-","-","-","-","-","-","-","-","-","-","-","-","-","-",251.4,113.79908577929608,179.95260561074031,210.88189274128601,188.5,180.34014197427263,145.59757687939086]
["Santa Fé",{"$f":"'Tarifa Média G'!B13","v":0},{"$f":"'Tarifa Média G'!C13","v":0},{"$f":"'Tarifa Média G'!D13","v":0},{"$f":"'Tarifa Média G'!E13","v":"-"},{"$f":"'Tarifa Média G'!F13","v":"-"},"-","-","-","-","-","-","-","-","-","-","-","-","-",242.93265649734175,239.8,237.16344641295925,234.77883817898214,234.56959740692346,232.8,230.38082128117125,198.69553653860748]
["Cachoeira Caldeirão - 50%",{"$f":"'Tarifa Média G'!B14","v":171.64025770639557},{"$f":"'Tarifa Média G'!C14","v":171.64025770639557},{"$f":"'Tarifa Média G'!D14","v":162.25769949919422},{"$f":"'Tarifa Média G'!E14","v":162.26267541029128},{"$f":"'Tarifa Média G'!F14","v":162.25757920683432},162.26110925095412,154.2531516990561,154.58614168158178,147.42085929221892,147.4226287343192,141.05111788570315,141.04974149096276,141,141.1,140.33737587979695,135.23255933660775,137.37572421239088,134.94946144758438,161.15368764317097,130.1,130.07274088314045,130.06843665491735,149.77091205424696,150.00660586144997,126.34879293625595,126.34973574478869]
["JARI - 50%",{"$f":"'Tarifa Média G'!B15","v":203.36586807031787},{"$f":"'Tarifa Média G'!C15","v":203.36586807031787},{"$f":"'Tarifa Média G'!D15","v":201.81224148975281},{"$f":"'Tarifa Média G'!E15","v":198.84088134079798},{"$f":"'Tarifa Média G'!F15","v":192.77114966039952},185.81345528325963,187.08466123442383,184.35162151707462,174.05913127373151,172.3755777285572,171.40654851026301,170.63345976846051,169.3,170.5,170.47,165.74874028186548,164.37563232268201,158.38343383293861,150.52522203585457,156,154.26021208442003,152.89291527710989,157.24255100846801,156.40873737237462,149.71711338341643,147.74803608944117]
["São Manoel",{"$f":"'Tarifa Média G'!B16","v":144.11704033183426},{"$f":"'Tarifa Média G'!C16","v":144.11704033183426},{"$f":"'Tarifa Média G'!D16","v":142.51866166904955},{"$f":"'Tarifa Média G'!E16","v":142.98708505619905},{"$f":"'Tarifa Média G'!F16","v":139.93968953256712},136.76935657898355,127.89039406305805,129.03195994031364,126.24220609706191,125.80732130251721,121.6246820993872,122.82250949086441,121.1,122.1,118.81893723496506,118.16771265337009,125.9,116.19232820814558,114.99751971544005,114.3,111.15649857743442,138.32219574626944,"-","-","-","-"]
["Pecém",{"$f":"'Tarifa Média G'!B17","v":525.93999999999994},{"$f":"'Tarifa Média G'!C17","v":525.93999999999994},{"$f":"'Tarifa Média G'!D17","v":805.9133333333333},{"$f":"'Tarifa Média G'!E17","v":1101.3166666666666},{"$f":"'Tarifa Média G'!F17","v":887.69},526.4,599.17999999999995,242.29,242.29,207.7,176.03,151.99,135.4,127.6,124.62666666666667,124.6,175.59561035170793,185.91,216.18,219.3,279.65424170309183,174.65333333333334,173.19333333333336,156.9,142,159.68666666666667]

{"sheet":"Volume C","index":26,"n_rows":9,"n_cols":34,"rows_kept":9,"cut":false,"hidden":false,"merged":[]}
[]
["Volume Trading"]
[]
["Energia Vendida (*)","2023-06-01","2023-03-01","2022-12-01","2022-09-01","2022-06-01","2022-03-01","2021-12-01","2021-09-01","2021-06-30","2021-03-01","2020-12-01","2020-09-30","2020-06-30","2020-03-31","2019-12-01","2019-09-30","2019-06-30","2019-03-31","2018-12-30","2018-09-30","2018-06-30","2018-03-31","2017-12-31","2017-09-30","2017-06-30","2017-03-31"]
[null,"2T23","1T23","4T22","3T22","2T22","1T22","4T21","3T21","2T21","1T21","4T20","3T20","2T20","1T20","4T19","3T19","2T19","1T19","4T18","3T18","2T18","1T18","4T17","3T17","2T17","1T17",null,2022,2021,"2020","2019",2018,2017]
[]
["Partes Relacionadas",858.19966309553104,503.12250521628607,753.69100073659399,404.82693166353494,292.41598100000004,419.35543000000001,905.06161299999985,527,149,301,975.48719800000003,1819,192,69,208.813691578,293.74761280366664,193.41794348400003,267.89047636700002,391.55086058099988,579,387.3266211789998,272.82428996800002,660.00203005613901,656.16814792404693,371.05137688551804,162.524,null,2550.4049277411532,2347,3055.4871979999998,963.86972423266673,1630.7017717279996,1849.745554865704]
["Outros",3191.009103095007,4726.7202935454607,4036.4463425467789,3574.2875218804124,3686.698472543947,3434.9311912398548,2853.4892913096719,3251,3112,3590,3878.8248059983898,4585,3868,10165,4081.4279765219999,3613.941362799133,2836.5115526731006,2604.330045404588,4142.1236172947883,4506,4009.5529588143054,3812.74047412849,5164.9206064724103,4374.3289999999997,3446.8959303144502,2968.56,null,15285.49040222357,12342,22496.824805998389,13136.210937398821,16470.417050237585,15954.705536786862]
["Total ",4049.208766190538,5229.8427987617461,4790.1373432833725,3979.1144535439475,3979.1144535439471,3854.2866212398549,3758.5509043096718,3778,3260,3892,4854.3120039983896,6404,4060,10234,4290.2416680999995,3907.6889756027999,3029.9294961571004,2872.2205217715882,4533.6744778757884,5085,4396.879579993305,4085.5647640964903,5824.9226365285494,5030.4971765677801,3817.9473071999701,3131.0845264595409,null,17835.895329964722,14689,25552.312003998391,14100.080661631488,18101.118821965585,17804.451091652565]

{"sheet":"Volume C EN","index":27,"n_rows":9,"n_cols":34,"rows_kept":9,"cut":false,"hidden":false,"merged":[]}
[]
["Trading Volume "]
[]
["Energy Sold (*)","Jun-23","Mar-23","Dec-22","Sep-22","2022-06-01","2022-03-01","Dec-21","Sep-21","2021-06-30","2021-03-01","Dec-20","2020-09-30","2020-06-30","2020-03-31","dec-19","2019-09-30","2019-06-30","2019-03-31","2018-12-30","2018-09-30","2018-06-30","2018-03-31","2017-12-31","2017-09-30","2017-06-30","2017-03-31"]
[null,"2Q23","1Q23","4Q22","3Q22","2Q22","1Q22","4Q21","3Q21","2Q21","1Q21","4Q20","3Q20","2Q20","1Q20","4Q19","3Q19","2Q19","1Q19","4Q18","3Q18","2Q18","1Q18","4Q17","3Q17","2Q17","1Q17",null,2022,2021,"2020","2019",2018,2017]
[]
["Related parts",{"$f":"'Volume C'!B7","v":858.19966309553104},{"$f":"'Volume C'!C7","v":503.12250521628607},{"$f":"'Volume C'!D7","v":753.69100073659399},{"$f":"'Volume C'!E7","v":404.82693166353494},{"$f":"'Volume C'!F7","v":292.41598100000004},419.35543000000001,905,527,149,301,975.48719800000003,1819,192,69,208.813691578,293.74761280366664,193.41794348400003,267.89047636700002,391.55086058099988,579,387.3266211789998,272.82428996800002,660.00203005613901,656.16814792404693,371.05137688551804,162.524,null,{"$f":"'Volume C'!AC7","v":2550.4049277411532},2347,3055.4871979999998,963.86972423266673,1630.7017717279996,1849.745554865704]
["Others",{"$f":"'Volume C'!B8","v":3191.009103095007},{"$f":"'Volume C'!C8","v":4726.7202935454607},{"$f":"'Volume C'!D8","v":4036.4463425467789},{"$f":"'Volume C'!E8","v":3574.2875218804124},{"$f":"'Volume C'!F8","v":3686.698472543947},3434.9311912398548,2853,3251,3112,3590,3878.8248059983898,4585,3868,10165,4081.4279765219999,3613.941362799133,2836.5115526731006,2604.330045404588,4142.1236172947883,4506,4009.5529588143054,3812.74047412849,5164.9206064724103,4374.3289999999997,3446.8959303144502,2968.56,null,{"$f":"'Volume C'!AC8","v":15285.49040222357},12342,22496.824805998389,13136.210937398821,16470.417050237585,15954.705536786862]
["Total ",{"$f":"'Volume C'!B9","v":4049.208766190538},{"$f":"'Volume C'!C9","v":5229.8427987617461},{"$f":"'Volume C'!D9","v":4790.1373432833725},{"$f":"'Volume C'!E9","v":3979.1144535439475},{"$f":"'Volume C'!F9","v":3979.1144535439471},3854.2866212398549,3758,3778,3260,3892,4854.3120039983896,6404,4060,10234,4290.2416680999995,3907.6889756027999,3029.9294961571004,2872.2205217715882,4533.6744778757884,5085,4396.879579993305,4085.5647640964903,5824.9226365285494,5030.4971765677801,3817.9473071999701,3131.0845264595409,null,{"$f":"'Volume C'!AC9","v":17835.895329964722},14689,25552.312003998391,14100.080661631488,18101.118821965585,17804.451091652565]

{"sheet":"Tarifa Média C","index":28,"n_rows":7,"n_cols":27,"rows_kept":7,"cut":false,"hidden":false,"merged":[]}
[]
["Tarifa Média Trading"]
[]
["R$/ MWh","2023-06-01","2023-03-01","2022-12-01","2021-09-01","2022-06-01","2022-03-01","2021-12-01","2021-09-01","2021-06-30","2021-03-01","2020-12-01","2020-09-30","2020-06-30","2020-03-31","2019-12-01","2019-09-30","2019-06-30","2019-03-31","2018-12-30","2018-09-30","2018-06-30","2018-03-31","2017-12-31","2017-09-30","2017-06-30","2017-03-31"]
[null,"2T23","1T23","4T22","3T22","2T22","1T22","4T21","3T21","2T21","1T21","4T20","3T20","2T20","1T20","4T19","3T19","2T19","1T19","4T18","3T18","2T18","1T18","4T17","3T17","2T17","1T17"]
[]
["Tarifa Média",144.63707013509037,144.63707013509037,218.62508689409987,190.99846356093414,190.99846356093414,225.70743833009374,196.74419754488284,187.59002542912964,187.59002542912964,219.56315080465859,216.11125516043009,160.69116179907473,159.38437143145825,126.4347025279897,194.39287729798903,205.96403304924036,190.33299964627119,193.54498900113163,253.37946198074451,281.5,246.53142763615341,204.50200708904163,243.05901315519739,239.9,220.81385536415002,174.0278263762296]

{"sheet":"Tarifa Média C EN","index":29,"n_rows":7,"n_cols":27,"rows_kept":7,"cut":false,"hidden":false,"merged":[]}
[]
["Trading Average Tariff "]
[]
["R$/ MWh","2023-06-01","2023-03-01","Dec-22","Sep-22","2022-06-01","2022-03-01","Dec-21","Sep-21","2021-06-30","2021-03-01","Dec-20","2020-09-30","2020-06-30","2020-03-31","dec-19","2019-09-30","2019-06-30","2019-03-31","2018-12-30","2018-09-30","2018-06-30","2018-03-31","2017-12-31","2017-09-30","2017-06-30","2017-03-31"]
[null,"2Q23","1Q23","4Q22","3Q22","2Q22","1Q22","4Q21","3Q21","2Q21","1Q21","4Q20","3Q20","2Q20","1Q20","4Q19","3Q19","2Q19","1Q19","4Q18","3Q18","2Q18","1Q18","4Q17","3Q17","2Q17","1Q17"]
[]
["Average Tariff",{"$f":"'Tarifa Média C'!B7","v":144.63707013509037},{"$f":"'Tarifa Média C'!C7","v":144.63707013509037},{"$f":"'Tarifa Média C'!D7","v":218.62508689409987},{"$f":"'Tarifa Média C'!E7","v":190.99846356093414},{"$f":"'Tarifa Média C'!F7","v":190.99846356093414},225.70743833009374,196.7,187.59002542912964,187.59002542912964,219.56315080465859,216.11125516043009,160.69116179907473,159.4,126.4347025279897,194.39287729798903,205.96403304924036,190.33299964627119,193.54498900113163,253.37946198074451,281.5,246.53142763615341,204.50200708904163,243.05901315519739,239.9,220.81385536415002,174.0278263762296]

{"sheet":"Rap Transmissoras","index":30,"n_rows":10,"n_cols":8,"rows_kept":10,"cut":false,"hidden":false,"merged":[[3,1,3,2],[4,0,5,0],[4,7,5,7],[3,3,3,4]]}
[]
["RAP Transmissoras"]
[]
["Leilão","nº 05/2016",null,"Mercado Secundário",null,"01/2021","02/2021"]
["Lotes",21,18,"Q","MGTE",1,"CELG-T","Total"]
[null,"EDP Transmissão Aliança SC","EDP Transmissão SP-MG","Litoral Sul Transmissora de Energia","EDP Transmissão MGTE","EDP Transmissão Norte","EDP Goiás"]
["RAP - data do leilão (R$ Milhões)",205,172,40,10.199999999999999,38.6,223,{"$f":"SUM(B7:G7)","v":688.8}]
["RAP - Ciclo 2022-23 (R$ Milhões)",248.6,288.5,63.1,10.5,46.9,24.9,{"$f":"SUM(B8:G8)","v":682.5}]
["Data de entrada em Operação - ANEEL","2022-02-16","2022-05-27","2022-07-19","2022-08-01","2026-10-01"]
["Status","Em Operação","Em Operação ","Em Operação ","Em Operação ","Em Construção","Em Operação"]

{"sheet":"Rap Transmissoras EN","index":31,"n_rows":10,"n_cols":8,"rows_kept":10,"cut":false,"hidden":false,"merged":[[4,7,5,7],[3,1,3,2],[4,0,5,0],[3,3,3,4]]}
[]
["RAP Transmissions"]
[]
["Auction","nº 05/2016",null,"Secondary Market",null,"01/2021","02/2021"]
["Lots",21,18,"Q","MGTE",1,"CELG-T","Total"]
[null,"EDP Transmissão Aliança SC","EDP Transmissão SP-MG","Litoral Sul Transmissora de Energia","EDP Transmissão MGTE","EDP Transmissão Norte","EDP Goiás"]
["RAP - auction date (R$ Million)",{"$f":"'Rap Transmissoras'!B7","v":205},{"$f":"'Rap Transmissoras'!C7","v":172},{"$f":"'Rap Transmissoras'!D7","v":40},{"$f":"'Rap Transmissoras'!E7","v":10.199999999999999},{"$f":"'Rap Transmissoras'!F7","v":38.6},{"$f":"'Rap Transmissoras'!G7","v":223},{"$f":"'Rap Transmissoras'!H7","v":688.8}]
["RAP - Cycle 2021-22 (R$ Million)",{"$f":"'Rap Transmissoras'!B8","v":248.6},{"$f":"'Rap Transmissoras'!C8","v":288.5},{"$f":"'Rap Transmissoras'!D8","v":63.1},{"$f":"'Rap Transmissoras'!E8","v":10.5},{"$f":"'Rap Transmissoras'!F8","v":46.9},{"$f":"'Rap Transmissoras'!G8","v":24.9},{"$f":"'Rap Transmissoras'!H8","v":682.5}]
["COD - Aneel","feb/22","may/22","jul/22","aug/22","oct/26"]
["Status","In operation","In operation","In operation","In operation","Under Construction","In operation"]